Workbook

Sheet Exemple
A1: 3253/13Z | C1: =VLOOKUP($A$1,Feuil1!$C$2:$N$660,2,0) -> pas sur web | D1: =IF(2<=VLOOKUP($A$1,Feuil1!$C$2:$N$660,8,0),A1,"") -> 3253/13Z | F1: =IF(2<=VLOOKUP($A$1,Feuil1!$C$2:$N$660,8,0),VLOOKUP($A$1,Feuil1!$C$2:$N$660,2,0),"") -> pas sur web | G1: =IF(3<=VLOOKUP($A$1,Feuil1!$C$2:$N$660,8,0),A1,"") -> 3253/13Z | I1: =IF(3<=VLOOKUP($A$1,Feuil1!$C$2:$N$660,8,0),VLOOKUP($A$1,Feuil1!$C$2:$N$660,2,0),"") -> pas sur web | J1: =IF(4<=VLOOKUP($A$1,Feuil1!$C$2:$N$660,8,0),A1,"") | L1: =IF(4<=VLOOKUP($A$1,Feuil1!$C$2:$N$660,8,0),VLOOKUP($A$1,Feuil1!$C$2:$N$660,2,0),"")
A2: =VLOOKUP($A$1,Feuil1!$C$2:$N$660,3,0) -> Aspen | B2: Colis | D2: =IF(2<=VLOOKUP($A$1,Feuil1!$C$2:$N$660,8,0),VLOOKUP($A$1,Feuil1!$C$2:$N$660,3,0),"") -> Aspen | E2: Colis | G2: =IF(3<=VLOOKUP($A$1,Feuil1!$C$2:$N$660,8,0),VLOOKUP($A$1,Feuil1!$C$2:$N$660,3,0),"") -> Aspen | H2: Colis | J2: =IF(4<=VLOOKUP($A$1,Feuil1!$C$2:$N$660,8,0),VLOOKUP($A$1,Feuil1!$C$2:$N$660,3,0),"") | K2: Colis
B3: =IF(1<=VLOOKUP($A$1,Feuil1!$C$2:$N$660,8,0),"1/"&VLOOKUP($A$1,Feuil1!$C$2:$N$660,8,0),"") -> 1/3 | E3: =IF(2<=VLOOKUP($A$1,Feuil1!$C$2:$N$660,8,0),"2/"&VLOOKUP($A$1,Feuil1!$C$2:$N$660,8,0),"") -> 2/3 | H3: =IF(3<=VLOOKUP($A$1,Feuil1!$C$2:$N$660,8,0),"3/"&VLOOKUP($A$1,Feuil1!$C$2:$N$660,8,0),"") -> 3/3 | K3: =IF(4<=VLOOKUP($A$1,Feuil1!$C$2:$N$660,8,0),"4/"&VLOOKUP($A$1,Feuil1!$C$2:$N$660,8,0),"")
A4: =VLOOKUP($A$1,Feuil1!$C$2:$N$660,5,0) -> Lits Mezzanines / Lits en hauteur | B4: Qté / pal | D4: =IF(2<=VLOOKUP($A$1,Feuil1!$C$2:$N$660,8,0),VLOOKUP($A$1,Feuil1!$C$2:$N$660,5,0),"") -> Lits Mezzanines / Lits en hauteur | E4: Qté / pal | G4: =IF(3<=VLOOKUP($A$1,Feuil1!$C$2:$N$660,8,0),VLOOKUP($A$1,Feuil1!$C$2:$N$660,5,0),"") -> Lits Mezzanines / Lits en hauteur | H4: Qté / pal | J4: =IF(4<=VLOOKUP($A$1,Feuil1!$C$2:$N$660,8,0),VLOOKUP($A$1,Feuil1!$C$2:$N$660,5,0),"") | K4: Qté / pal
B5: =VLOOKUP($A$1,Feuil1!$C$2:$N$660,9,0) -> 30 | E5: =IF(2<=VLOOKUP($A$1,Feuil1!$C$2:$N$660,8,0),VLOOKUP($A$1,Feuil1!$C$2:$N$660,10,0),"") -> 40 | H5: =IF(3<=VLOOKUP($A$1,Feuil1!$C$2:$N$660,8,0),VLOOKUP($A$1,Feuil1!$C$2:$N$660,11,0),"") -> 40 | K5: =VLOOKUP($A$1,Feuil1!$C$2:$N$660,12,0) -> 0
A6: =VLOOKUP($A$1,Feuil1!$C$2:$N$660,6,0) -> Lit mezzanine 90x200 cm | D6: =IF(2<=VLOOKUP($A$1,Feuil1!$C$2:$N$660,8,0),VLOOKUP($A$1,Feuil1!$C$2:$N$660,6,0),"") -> Lit mezzanine 90x200 cm | G6: =IF(3<=VLOOKUP($A$1,Feuil1!$C$2:$N$660,8,0),VLOOKUP($A$1,Feuil1!$C$2:$N$660,6,0),"") -> Lit mezzanine 90x200 cm | J6: =IF(4<=VLOOKUP($A$1,Feuil1!$C$2:$N$660,8,0),VLOOKUP($A$1,Feuil1!$C$2:$N$660,6,0),"")
A7: =VLOOKUP($A$1,Feuil1!$C$2:$N$660,7,0) -> 1 sommier + bureau | D7: =IF(2<=VLOOKUP($A$1,Feuil1!$C$2:$N$660,8,0),VLOOKUP($A$1,Feuil1!$C$2:$N$660,7,0),"") -> 1 sommier + bureau | G7: =IF(3<=VLOOKUP($A$1,Feuil1!$C$2:$N$660,8,0),VLOOKUP($A$1,Feuil1!$C$2:$N$660,7,0),"") -> 1 sommier + bureau | J7: =IF(4<=VLOOKUP($A$1,Feuil1!$C$2:$N$660,8,0),VLOOKUP($A$1,Feuil1!$C$2:$N$660,7,0),"")

Sheet Feuil1
A1: Code | D1: EAN 13 : | E1: Nom | F1: Finition | G1: Famille | H1: Désignation complète | J1: nbre Colis | K1: 1 | L1: 2 | M1: 3 | N1: 4 | P1: Commande
A2: WMU1 | B2: 09906 | C2: =CONCATENATE(A2,"/",B2) -> WMU1/09906 | D2: 3511290069921 | E2: Acqua | F2: =VLOOKUP(B2,Feuil2!$A$3:$B$252,2,0) -> Chromé | G2: Salle de bain | H2: Robinet mitigeur | P2: =IF(ISERROR(SMALL(O:O,ROW()-1)),"",INDIRECT("C"&SMALL(O:O,ROW()-1),1)) -> 8102/9C
A3: 8102 | B3: 9C | C3: =CONCATENATE(A3,"/",B3) -> 8102/9C | D3: 3514230018263 | E3: Alaska | F3: =VLOOKUP(B3,Feuil2!$A$3:$B$252,2,0) -> Blanc | G3: Salle de bain | H3: Meuble de toilettes | I3: 1 tiroir - 2 niches | J3: 3 | K3: 25 | L3: 20 | M3: 10 | O3: =IF(J3<1,"",ROW()) -> 3 | P3: =IF(ISERROR(SMALL(O:O,ROW()-1)),"",INDIRECT("C"&SMALL(O:O,ROW()-1),1)) -> 0258/NY
A4: 0370 | B4: 50TZ | C4: =CONCATENATE(A4,"/",B4) -> 0370/50TZ | D4: 3514230021201 | E4: Albion | F4: =VLOOKUP(B4,Feuil2!$A$3:$B$252,2,0) -> Gris anthracite | G4: Lits deux personnes | H4: Lit Boxspring 160x200 cm | I4: Tissus | O4: =IF(J4<1,"",ROW()) | P4: =IF(ISERROR(SMALL(O:O,ROW()-1)),"",INDIRECT("C"&SMALL(O:O,ROW()-1),1)) -> 2286/9
A5: 0370 | B5: 51TZ | C5: =CONCATENATE(A5,"/",B5) -> 0370/51TZ | D5: 3514230021218 | E5: Albion | F5: =VLOOKUP(B5,Feuil2!$A$3:$B$252,2,0) -> Gris clair | G5: Lits deux personnes | H5: Lit Boxspring 160x200 cm | I5: Tissus | O5: =IF(J5<1,"",ROW()) | P5: =IF(ISERROR(SMALL(O:O,ROW()-1)),"",INDIRECT("C"&SMALL(O:O,ROW()-1),1)) -> 0125/16L2
A6: 9907 | B6: 74 | C6: =CONCATENATE(A6,"/",B6) -> 9907/74 | D6: 4251182700905 | E6: Alix | F6: =VLOOKUP(B6,Feuil2!$A$3:$B$252,2,0) -> Chêne blanchi | G6: Tables et chaises / Bancs | H6: Table 1 allonge | O6: =IF(J6<1,"",ROW()) | P6: =IF(ISERROR(SMALL(O:O,ROW()-1)),"",INDIRECT("C"&SMALL(O:O,ROW()-1),1)) -> 6767/942
A7: 0258 | B7: NY | C7: =CONCATENATE(A7,"/",B7) -> 0258/NY | D7: 3514230022741 | E7: Aloa | F7: =VLOOKUP(B7,Feuil2!$A$3:$B$252,2,0) -> Noyer | G7: Tables basses | H7: Lot de 3 tables basses gigognes | I7: 60 x 60, 48 x 48, 40 x 40 cm | J7: 1 | K7: 25 | O7: =IF(J7<1,"",ROW()) -> 7 | P7: =IF(ISERROR(SMALL(O:O,ROW()-1)),"",INDIRECT("C"&SMALL(O:O,ROW()-1),1)) -> 6769/42D
A8: 2286 | B8: 9 | C8: =CONCATENATE(A8,"/",B8) -> 2286/9 | D8: 3514230019444 | E8: Alpha | F8: =VLOOKUP(B8,Feuil2!$A$3:$B$252,2,0) -> Blanc | G8: Lits deux personnes | H8: Lit double 140x190 cm | I8: 2 tiroirs + tiroir lit avec sommier + chevet | J8: 3 | M8: 25 | O8: =IF(J8<1,"",ROW()) -> 8 | P8: =IF(ISERROR(SMALL(O:O,ROW()-1)),"",INDIRECT("C"&SMALL(O:O,ROW()-1),1)) -> 6769/42G
A9: 0125 | B9: 16L2 | C9: =CONCATENATE(A9,"/",B9) -> 0125/16L2 | D9: 3514230020488 | E9: Ana | F9: =VLOOKUP(B9,Feuil2!$A$3:$B$252,2,0) -> Noir | G9: Tables et chaises / Bancs | H9: Lot de 2 chaises | J9: 1 | K9: . | O9: =IF(J9<1,"",ROW()) -> 9 | P9: =IF(ISERROR(SMALL(O:O,ROW()-1)),"",INDIRECT("C"&SMALL(O:O,ROW()-1),1)) -> 3253/13
A10: 6767 | B10: 942 | C10: =CONCATENATE(A10,"/",B10) -> 6767/942 | D10: 3514230023878 | E10: Antala | F10: =VLOOKUP(B10,Feuil2!$A$3:$B$252,2,0) -> Blanc et Gris | G10: Canapés et fauteuils | H10: Canapé d'angle convertible et réversible | J10: 2 | K10: . | L10: . | O10: =IF(J10<1,"",ROW()) -> 10 | P10: =IF(ISERROR(SMALL(O:O,ROW()-1)),"",INDIRECT("C"&SMALL(O:O,ROW()-1),1)) -> 3253/2
A11: DY107 | C11: =CONCATENATE(A11,"/",B11) -> DY107/ | D11: 3514230018607 | E11: Aria | F11: =VLOOKUP(B11,Feuil2!$A$3:$B$252,2,0) | G11: Salle de bain | H11: Etendoir à linge | O11: =IF(J11<1,"",ROW()) | P11: =IF(ISERROR(SMALL(O:O,ROW()-1)),"",INDIRECT("C"&SMALL(O:O,ROW()-1),1)) -> 3253/13Z
A12: 6769 | B12: 42D | C12: =CONCATENATE(A12,"/",B12) -> 6769/42D | D12: 3514230024141 | E12: Asgard | F12: =VLOOKUP(B12,Feuil2!$A$3:$B$252,2,0) -> Gris | G12: Canapés et fauteuils | H12: Canapé d'angle convertible droit | J12: 3 | K12: 5 | L12: 9 | M12: 10 | O12: =IF(J12<1,"",ROW()) -> 12 | P12: =IF(ISERROR(SMALL(O:O,ROW()-1)),"",INDIRECT("C"&SMALL(O:O,ROW()-1),1))
A13: 6769 | B13: 42G | C13: =CONCATENATE(A13,"/",B13) -> 6769/42G | D13: 3514230024158 | E13: Asgard | F13: =VLOOKUP(B13,Feuil2!$A$3:$B$252,2,0) -> Gris | G13: Canapés et fauteuils | H13: Canapé d'angle convertible gauche | J13: 3 | K13: 5 | L13: 9 | M13: 10 | O13: =IF(J13<1,"",ROW()) -> 13 | P13: =IF(ISERROR(SMALL(O:O,ROW()-1)),"",INDIRECT("C"&SMALL(O:O,ROW()-1),1))
A14: 3253 | B14: 13 | C14: =CONCATENATE(A14,"/",B14) -> 3253/13 | D14: 3514230015323 | E14: Aspen | F14: =VLOOKUP(B14,Feuil2!$A$3:$B$252,2,0) -> Finition blanchie | G14: Lits Mezzanines / Lits en hauteur | H14: Lit mezzanine 90x190 cm | I14: 1 sommier + bureau | J14: 3 | K14: 30 | L14: 40 | M14: 40 | O14: =IF(J14<1,"",ROW()) -> 14 | P14: =IF(ISERROR(SMALL(O:O,ROW()-1)),"",INDIRECT("C"&SMALL(O:O,ROW()-1),1))
A15: 3253 | B15: 2 | C15: =CONCATENATE(A15,"/",B15) -> 3253/2 | D15: 3514230015330 | E15: Aspen | F15: =VLOOKUP(B15,Feuil2!$A$3:$B$252,2,0) -> Vernis naturel | G15: Lits Mezzanines / Lits en hauteur | H15: Lit mezzanine 90x190 cm | I15: 1 sommier + bureau | J15: 3 | K15: 30 | L15: 40 | M15: 40 | O15: =IF(J15<1,"",ROW()) -> 15 | P15: =IF(ISERROR(SMALL(O:O,ROW()-1)),"",INDIRECT("C"&SMALL(O:O,ROW()-1),1))
A16: 3253 | B16: 13Z | C16: =CONCATENATE(A16,"/",B16) -> 3253/13Z | D16: pas sur web | E16: Aspen | F16: =VLOOKUP(B16,Feuil2!$A$3:$B$252,2,0) -> Finition blanchie | G16: Lits Mezzanines / Lits en hauteur | H16: Lit mezzanine 90x200 cm | I16: 1 sommier + bureau | J16: 3 | K16: 30 | L16: 40 | M16: 40 | O16: =IF(J16<1,"",ROW()) -> 16 | P16: =IF(ISERROR(SMALL(O:O,ROW()-1)),"",INDIRECT("C"&SMALL(O:O,ROW()-1),1))

Sheet Feuil2
A2: Code | B2: Finition
A3: 1 | B3: Naturel
A4: 1Z | B4: Naturel
A5: 2 | B5: Vernis naturel
A6: 2V | B6: Teinte Chêne rustique
A7: 2Z | B7: Vernis naturel
A8: 3 | B8: Miel
A9: 5 | B9: Noyer
A10: 7 | B10: Bleu
A11: 9 | B11: Blanc
A12: 9 | B12: Chêne blanc
A13: 9* | B13: Blanc
... A60: 19 | B60: Gris
A61: 19
A62: 19Z | B62: Ivoire / tissu gris
A63: 19ZT | B63: Ivoire / tissu gris
A64: 21 | B64: Beige
A65: 21 | B65: Ivoire
A66: 21Z | B66: Beige
A67: 23 | B67: Marron
A68: 23T | B68: Tissu vieilli marron
A69: 23T | B69: Marron
A70: 24 | B70: Ivoire
A71: 25 | B71: Teinté Chêne
A72: 26 | B72: Noyer antique
A73: 35 | B73: Rose
... A151: 1MN | B151: Naturel
B152: Chêne
B153: Gris
B154: Hêtre
B156: Naturel
A157: NYL2 | B157: Anthracite
A158: BL2 | B158: Blanc
A159: JL2 | B159: Gris
A160: MKL2 | B160: Brun
A161: 16S6217yL6 | B161: Noir - Anthracite
A162: Z
A163: Z | B163: Naturel
A164: 90190
A165: 140190
...

Sheet Cadre de lit
A1: 7153 | D1: 7154
A2: NEVADA | B2: Colis | D2: NEVADA | E2: Colis
B3: 1/1 | E3: 1/1
A4: Cadre de lit 90 x 190 cm | B4: Qté / pal | D4: Cadre de lit 140 x 190 cm | E4: Qté / pal
B5: x 50 | E5: x 50
A7: 7153/Z | D7: 7154Z | G7: 7155/Z
A8: NEVADA | B8: Colis | D8: NEVADA | E8: Colis | G8: NEVADA | H8: Colis
B9: 1/1 | E9: 1/1 | H9: 1/1
A10: Cadre de lit 90 x 200 cm | B10: Qté / pal | D10: Cadre de lit 140 x 200 cm | E10: Qté / pal | G10: Cadre de lit 160 x 200 cm | H10: Qté / pal
B11: x 50 | E11: x 50 | H11: x 50
A13: 7156 | D13: 7157
A14: KITO | B14: Colis | D14: KITO | E14: Colis
B15: 1/1 | E15: 1/1
A16: Cadre de lit 90 x 190 cm | B16: Qté / pal | D16: Cadre de lit 140 x 190 cm | E16: Qté / pal
B17: x 49 | E17: x 72
G19: 7158/Z
G20: KITO | H20: Colis
H21: 1/1
G22: Cadre de lit 160 x 200 cm | H22: Qté / pal
H23: x 50
A25: 9110/9* | D25: 9111/9* | G25: 9112/9Z*
A26: TEXAS | B26: Colis | D26: TEXAS | E26: Colis | G26: TEXAS | H26: Colis
B27: 1/1 | E27: 1/1 | H27: 1/1
A28: Cadre de lit 90 x 190 cm Blanc | B28: Qté / pal | D28: Cadre de lit 140 x 190 cm Blanc | E28: Qté / pal | G28: Cadre de lit 160 x 200 cm Blanc | H28: Qté / pal
B29: x 40 | E29: x 25 | H29: x 25
A31: 9110/16* | D31: 9111/16* | G31: 9112/16Z*
A32: TEXAS | B32: Colis | D32: TEXAS | E32: Colis | G32: TEXAS | H32: Colis
B33: 1/1 | E33: 1/1 | H33: 1/1
A34: Cadre de lit 90 x 190 cm Noir | B34: Qté / pal | D34: Cadre de lit 140 x 190 cm Noir | E34: Qté / pal | G34: Cadre de lit 160 x 200 cm Noir | H34: Qté / pal
B35: x 40 | E35: x 25 | H35: x 25
A37: 9110/CH* | D37: 9111/CH* | G37: 9112/CHZ*
A38: TEXAS | B38: Colis | D38: TEXAS | E38: Colis | G38: TEXAS | H38: Colis
B39: 1/1 | E39: 1/1 | H39: 1/1
A40: Cadre de lit 90 x 190 cm Chêne | B40: Qté / pal | D40: Cadre de lit 140 x 190 cm Chêne | E40: Qté / pal | G40: Cadre de lit 160 x 200 cm Chêne | H40: Qté / pal
B41: x 40 | E41: x 25
A43: 0331/16 | D43: 3241/16
A44: RONDO | B44: Colis | D44: RONDO | E44: Colis
B45: 1/1 | E45: 1/1
A46: Tête de lit 2 panneaux 140 cm Noir | B46: Qté / pal | D46: Cadre de lit 140 x 190 cm Noir | E46: Qté / pal
E47: x 28
...

Sheet Canapé
A1: 6724/16T | D1: 6766/942 | G1: 6767/942 | J1: 6769/42G | M1: 6769/42D | AB1: 6823/16P
A2: SAGA | B2: Colis | D2: ODEON | E2: Colis | G2: ANTALA | H2: Colis | J2: ASGARD | K2: Colis | M2: ASGARD | N2: Colis | AB2: BROOKLYN | AC2: Colis
B3: 1/2 | E3: 1/2 | H3: 1/2 | K3: 1/3 | N3: 1/3 | AC3: 1/1
A4: Canapé convertible 3 places Noir | B4: Qté / pal | D4: Canapé d'angle Convertible Blanc - gris | E4: Qté / pal | G4: Canapé d'angle Convertible et réversible Blanc - gris | H4: Qté / pal | J4: Canapé d'angle Convertible gauche Gris | K4: Qté / pal | M4: Canapé d'angle Convertible droit Gris | N4: Qté / pal | AB4: Canapé 3 places Noir | AC4: Qté / pal
E5: x 2 | K5: x 5 | N5: x 5 | AC5: x 1
A7: 6724/16T | D7: 6766/942 | G7: 6767/942 | J7: 6769/42G | M7: 6769/42D
A8: SAGA | B8: Colis | D8: ODEON | E8: Colis | G8: ANTALA | H8: Colis | J8: ASGARD | K8: Colis | M8: ASGARD | N8: Colis
B9: 2/2 | E9: 2/2 | H9: 2/2 | K9: 2/3 | N9: 2/3
A10: Canapé convertible 3 places Noir | B10: Qté / pal | D10: Canapé d'angle Convertible Blanc - gris | E10: Qté / pal | G10: Canapé d'angle Convertible et réversible Blanc - gris | H10: Qté / pal | J10: Canapé d'angle Convertible gauche Gris | K10: Qté / pal | M10: Canapé d'angle Convertible droit Gris | N10: Qté / pal
E11: x 6 | K11: x 9 | N11: x 9
D13: 6766/42 | J13: 6769/42G | M13: 6769/42D
D14: ODEON | E14: Colis | J14: ASGARD | K14: Colis | M14: ASGARD | N14: Colis
E15: 1/2 | K15: 3/3 | N15: 3/3
D16: Canapé d'angle Convertible Gris | E16: Qté / pal | J16: Canapé d'angle Convertible gauche Gris | K16: Qté / pal | M16: Canapé d'angle Convertible droit Gris | N16: Qté / pal
E17: x 2 | K17: x 10 | N17: x 10
D19: 6766/42 | J19: 0061/9 | M19: 0061/42
D20: ODEON | E20: Colis | J20: TUDOR | K20: Colis | M20: TUDOR | N20: Colis
E21: 2/2 | K21: 1/1 | N21: 1/1
D22: Canapé d'angle Convertible Gris | E22: Qté / pal | J22: Clic - clac Blanc | K22: Qté / pal | M22: Clic - clac Gris | N22: Qté / pal
E23: x 6 | K23: x 7
D25: 6766/50
D26: ODEON | E26: Colis
E27: 1/2
D28: Canapé d'angle Convertible Gris foncé | E28: Qté / pal
E29: x 2
D31: 6766/50
D32: ODEON | E32: Colis
E33: 2/2
D34: Canapé d'angle Convertible Gris foncé | E34: Qté / pal
E35: x 6
D37: 6766/1642 | G37: 6778/21
D38: ODEON | E38: Colis | G38: SUVI | H38: Colis
E39: 1/2 | H39: 1/1
D40: Canapé d'angle Convertible Noir - Gris | E40: Qté / pal | G40: Canapé 2 places Beige | H40: Qté / pal
D43: 6766/1642 | G43: 6779/21
D44: ODEON | E44: Colis | G44: SUVI | H44: Colis
E45: 2/2 | H45: 1/1
D46: Canapé d'angle Convertible Noir - Gris | E46: Qté / pal | G46: Canapé 3 places Beige | H46: Qté / pal

Sheet Chaise
A1: 0121/21 | D1: 6051/16 | G1: 0253/HE | J1: 0253/HE | M1: 0253/HE
A2: FIESTA | B2: Colis | D2: PIERO | E2: Colis | G2: OMEGA | H2: Colis | J2: OMEGA | K2: Colis | M2: OMEGA | N2: Colis
B3: 1/1 | E3: 1/1 | H3: 1/3 | K3: 2/3 | N3: 3/3
A4: 1 chaise Ivoire | B4: Qté / pal | D4: Fauteuil cabriolet Noir | E4: Qté / pal | G4: Table basse + 2 poufs Hêtre | H4: Qté / pal | J4: Table basse + 2 poufs Hêtre | K4: Qté / pal | M4: Table basse + 2 poufs Hêtre | N4: Qté / pal
B5: x 22
A7: 0125/16L2 | D7: 6051/16T | G7: 0253/11 | J7: 0253/11 | M7: 0253/11
A8: ANA | B8: Colis | D8: PIERO | E8: Colis | G8: OMEGA | H8: Colis | J8: OMEGA | K8: Colis | M8: OMEGA | N8: Colis
B9: 1/1 | E9: 1/1 | H9: 1/3 | K9: 2/3 | N9: 3/3
A10: Lot de 2 chaises Noir | B10: Qté / pal | D10: Fauteuil cabriolet Tissu vieilli noir | E10: Qté / pal | G10: Table basse + 2 poufs Wengé | H10: Qté / pal | J10: Table basse + 2 poufs Wengé | K10: Qté / pal | M10: Table basse + 2 poufs Wengé | N10: Qté / pal
D13: 6051/23T | J13: 6781/16 | M13: 8400/16
D14: PIERO | E14: Colis | J14: DALLAS | K14: Colis | M14: BOSS | N14: Colis
E15: 1/1 | K15: 1/1 | N15: 1/1
D16: Fauteuil cabriolet Tissu vieilli marron | E16: Qté / pal | J16: Fauteuil Noir | K16: Qté / pal | M16: Fauteuil de bureau Noir | N16: Qté / pal
N17: x 8
D19: 6051/50T | G19: 6052/23T | J19: 6052/16
D20: PIERO | E20: Colis | G20: BAYA | H20: Colis | J20: BAYA | K20: Colis
E21: 1/1 | H21: 1/1 | K21: 1/1
D22: Fauteuil cabriolet Gris foncé | E22: Qté / pal | G22: Fauteuil PIERO avec pouf Tissu vieilli marron | H22: Qté / pal | J22: Fauteuil PIERO avec pouf Noir | K22: Qté / pal
D25: 6051/51T
D26: PIERO | E26: Colis
E27: 1/1
D28: Fauteuil cabriolet Gris clair | E28: Qté / pal
E29: x 8
D31: 6051/916
D32: PIERO | E32: Colis
E33: 1/1
D34: Fauteuil cabriolet Blanc - noir | E34: Qté / pal
D37: 6051/942
D38: PIERO | E38: Colis
E39: 1/1
D40: Fauteuil cabriolet Blanc - gris | E40: Qté / pal

Sheet Matelas
J2: MOOVY | K2: Colis
K3: 1/1
J4: Matelas 180 x 200 cm | K4: Qté / pal
A7: 1105 | D7: 1135
A8: SIAM | B8: Colis | D8: SARAH | E8: Colis
B9: 1/1 | E9: 1/1
A10: Matelas futon 160 x 200 cm | B10: Qté / pal | D10: Matelas 140 x 190 cm | E10: Qté / pal
E11: x 8
G13: 1136Z
G14: SARAH | H14: Colis
H15: 1/1
G16: Matelas 160 x 200 cm | H16: Qté / pal
H17: x 8
D19: 1157
D20: CASSIE | E20: Colis
E21: 1/1
D22: Matelas 140 x 190 cm | E22: Qté / pal
E23: x 16
G25: 1158Z | J25: 1159Z
G26: CASSIE | H26: Colis | J26: CASSIE | K26: Colis
H27: 1/1 | K27: 1/1
G28: Matelas 160 x 200 cm | H28: Qté / pal | J28: Matelas 180 x 200 cm | K28: Qté / pal
H29: x 16 | K29: x 16
A31: 1152 | D31: 1153
A32: CARLTON | B32: Colis | D32: CARLTON | E32: Colis
B33: 1/1 | E33: 1/1
A34: Matelas 90 x 190 cm | B34: Qté / pal | D34: Matelas 140 x 190 cm | E34: Qté / pal
B35: x 24 | E35: x 21
D37: 1153Z | G37: 1154Z | J37: 1155Z
D38: CARLTON | E38: Colis | G38: CARLTON | H38: Colis | J38: CARLTON | K38: Colis
E39: 1/1 | H39: 1/1 | K39: 1/1
D40: Matelas 140 x 200 cm | E40: Qté / pal | G40: Matelas 160 x 200 cm | H40: Qté / pal | J40: Matelas 180 x 200 cm | K40: Qté / pal
E41: x 16 | H41: x 24 | K41: x 24

Sheet Sommiers
A1: 1221
A2: STOCKHOLM | B2: Colis
B3: 1/1
A4: Sommier 140 x 190 cm | B4: Qté / pal
B5: x 40

Sheet ALOA
A1: 0258NY
A2: ALOA | B2: Colis
B3: 1/1
A4: Lot de 3 tables basses 60 x 60, 48 x 48, 40 x 40 cm Noyer | B4: Qté / pal
B5: x 25

Sheet ALPHA
A1: 2286/9
A2: ALPHA | B2: Colis
B3: 1/3
A4: Lit double 140 x 190 cm Blanc | B4: Qté / pal
B5: x 23
A7: 2286/9
A8: ALPHA | B8: Colis
B9: 2/3
A10: Lit double 140 x 190 cm Blanc | B10: Qté / pal
A13: 2286/9
A14: ALPHA | B14: Colis
B15: 3/3
A16: Lit double 140 x 190 cm Blanc | B16: Qté / pal
B17: x 25

Sheet ASPEN
A1: 3253/2
A2: ASPEN | B2: Colis
B3: 1/3
A4: Lit 90 x 190 cm Vernis naturel | B4: Qté / pal
B5: x 25
A7: 3253/2
A8: ASPEN | B8: Colis
B9: 2/3
A10: Lit 90 x 190 cm Vernis naturel | B10: Qté / pal
B11: x 40
A13: 3253/2
A14: ASPEN | B14: Colis
B15: 3/3
A16: Lit 90 x 190 cm Vernis naturel | B16: Qté / pal
A19: 3253/13 | D19: 3253/13Z
A20: ASPEN | B20: Colis | D20: ASPEN | E20: Colis
B21: 1/3 | E21: 1/3
A22: Lit 90 x 190 cm Finition blanchie | B22: Qté / pal | D22: Lit 90 x 200 cm Finition blanchie | E22: Qté / pal
B23: x 30
A25: 3253/13 | D25: 3253/13Z
A26: ASPEN | B26: Colis | D26: ASPEN | E26: Colis
B27: 2/3 | E27: 2/3
A28: Lit 90 x 190 cm Finition blanchie | B28: Qté / pal | D28: Lit 90 x 200 cm Finition blanchie | E28: Qté / pal
B29: x 40
A31: 3253/13 | D31: 3253/13Z
A32: ASPEN | B32: Colis | D32: ASPEN | E32: Colis
B33: 3/3 | E33: 3/3
A34: Lit 90 x 190 cm Finition blanchie | B34: Qté / pal | D34: Lit 90 x 200 cm Finition blanchie | E34: Qté / pal
B35: x 40
A37: 3253/16
A38: ASPEN | B38: Colis
B39: 1/3
A40: Lit 90 x 190 cm Noir | B40: Qté / pal
B41: x 30
A43: 3253/16
A44: ASPEN | B44: Colis
B45: 2/3
A46: Lit 90 x 190 cm Noir | B46: Qté / pal
B47: x 40
A49: 3253/16
...

Sheet ATLANTA
A1: 0351/9 | D1: 0351/9Z | G1: 0352/9Z
A2: ATLANTA | B2: Colis | D2: ATLANTA | E2: Colis | G2: ATLANTA | H2: Colis
B3: 1/2 | E3: 1/2 | H3: 1/2
A4: Lit double 140 x 190 cm Blanc | B4: Qté / pal | D4: Lit double 140 x 200 cm Blanc | E4: Qté / pal | G4: Lit double 160 x 200 cm Blanc | H4: Qté / pal
B5: x 20 | E5: x 20 | H5: x 20
A7: 0351/9 | D7: 0351/9Z | G7: 0352/9Z
A8: ATLANTA | B8: Colis | D8: ATLANTA | E8: Colis | G8: ATLANTA | H8: Colis
B9: 2/2 | E9: 2/2 | H9: 2/2
A10: Lit double 140 x 190 cm Blanc | B10: Qté / pal | D10: Lit double 140 x 200 cm Blanc | E10: Qté / pal | G10: Lit double 160 x 200 cm Blanc | H10: Qté / pal
B11: x 80 | E11: x 80 | H11: x 60
A13: 0351/16 | D13: 0351/16Z | G13: 0352/16Z
A14: ATLANTA | B14: Colis | D14: ATLANTA | E14: Colis | G14: ATLANTA | H14: Colis
B15: 1/2 | E15: 1/2 | H15: 1/2
A16: Lit double 140 x 190 cm Noir | B16: Qté / pal | D16: Lit double 140 x 200 cm Noir | E16: Qté / pal | G16: Lit double 160 x 200 cm Noir | H16: Qté / pal
B17: x 20 | E17: x 20 | H17: x 19
A19: 0351/16 | D19: 0351/16Z | G19: 0352/16Z
A20: ATLANTA | B20: Colis | D20: ATLANTA | E20: Colis | G20: ATLANTA | H20: Colis
B21: 2/2 | E21: 2/2 | H21: 2/2
A22: Lit double 140 x 190 cm Noir | B22: Qté / pal | D22: Lit double 140 x 200 cm Noir | E22: Qté / pal | G22: Lit double 160 x 200 cm Noir | H22: Qté / pal
B23: x 80 | E23: x 80 | H23: x 60

Sheet BARCELONA
A1: 0353/9 | D1: 0353/9Z | G1: 0354/9Z
A2: BARCELONA | B2: Colis | D2: BARCELONA | E2: Colis | G2: BARCELONA | H2: Colis
B3: 1/2 | E3: 1/2 | H3: 1/2
A4: Lit coffre 140 x 190 cm Blanc | B4: Qté / pal | D4: Lit coffre 140 x 200 cm Blanc | E4: Qté / pal | G4: Lit coffre 160 x 200 cm Blanc | H4: Qté / pal
A7: 0353/9 | D7: 0353/9Z | G7: 0354/9Z
A8: BARCELONA | B8: Colis | D8: BARCELONA | E8: Colis | G8: BARCELONA | H8: Colis
B9: 2/2 | E9: 2/2 | H9: 2/2
A10: Lit coffre 140 x 190 cm Blanc | B10: Qté / pal | D10: Lit coffre 140 x 200 cm Blanc | E10: Qté / pal | G10: Lit coffre 160 x 200 cm Blanc | H10: Qté / pal
B11: x 25 | E11: x 25 | H11: x 25
A13: 0353/16 | D13: 0353/16Z | G13: 0354/16Z
A14: BARCELONA | B14: Colis | D14: BARCELONA | E14: Colis | G14: BARCELONA | H14: Colis
B15: 1/2 | E15: 1/2 | H15: 1/2
A16: Lit coffre 140 x 190 cm Noir | B16: Qté / pal | D16: Lit coffre 140 x 200 cm Noir | E16: Qté / pal | G16: Lit coffre 160 x 200 cm Noir | H16: Qté / pal
B17: x 20
A19: 0353/16 | D19: 0353/16Z | G19: 0354/16Z
A20: BARCELONA | B20: Colis | D20: BARCELONA | E20: Colis | G20: BARCELONA | H20: Colis
B21: 2/2 | E21: 2/2 | H21: 2/2
A22: Lit coffre 140 x 190 cm Noir | B22: Qté / pal | D22: Lit coffre 140 x 200 cm Noir | E22: Qté / pal | G22: Lit coffre 160 x 200 cm Noir | H22: Qté / pal
B23: x 25 | H23: x 30

Sheet BILBAO
A1: 0363/60Z | D1: 0362/60Z | G1: 0364/60Z
A2: BILBAO | B2: Colis | D2: BILBAO | E2: Colis | G2: BILBAO | H2: Colis
B3: 1/2 | E3: 1/2 | H3: 1/2
A4: Lit coffre 140 x 200 cm Chêne blanchi | B4: Qté / pal | D4: Lit coffre 90 x 200 cm Chêne blanchi | E4: Qté / pal | G4: Lit coffre 160 x 200 cm Chêne blanchi | H4: Qté / pal
B5: x 5 | E5: x 5 | H5: x 5
A7: 0363/60Z | D7: 0362/60Z | G7: 0364/60Z
A8: BILBAO | B8: Colis | D8: BILBAO | E8: Colis | G8: BILBAO | H8: Colis
B9: 2/2 | E9: 2/2 | H9: 2/2
A10: Lit coffre 140 x 200 cm Chêne blanchi | B10: Qté / pal | D10: Lit coffre 90 x 200 cm Chêne blanchi | E10: Qté / pal | G10: Lit coffre 160 x 200 cm Chêne blanchi | H10: Qté / pal
B11: x 5 | E11: x 5 | H11: x 5

Sheet BOREA
A1: 0396/21 | G1: 0397/21Z
A2: BOREA | B2: Colis | G2: BOREA | H2: Colis
B3: 1/2 | H3: 1/2
A4: Lit double 140 x 190 cm Beige | B4: Qté / pal | G4: Lit double 160 x 200 cm Beige | H4: Qté / pal
B5: x 30 | H5: x 30
A7: 0396/21 | G7: 0397/21Z
A8: BOREA | B8: Colis | G8: BOREA | H8: Colis
B9: 2/2 | H9: 2/2
A10: Lit double 140 x 190 cm Beige | B10: Qté / pal | G10: Lit double 160 x 200 cm Beige | H10: Qté / pal
B11: x 20 | H11: x 30
A13: 0396/50 | G13: 0397/50Z
A14: BOREA | B14: Colis | G14: BOREA | H14: Colis
B15: 1/2 | H15: 1/2
A16: Lit double 140 x 190 cm Gris foncé | B16: Qté / pal | G16: Lit double 160 x 200 cm Gris foncé | H16: Qté / pal
H17: x 20
A19: 0396/50 | G19: 0397/50Z
A20: BOREA | B20: Colis | G20: BOREA | H20: Colis
B21: 2/2 | H21: 2/2
A22: Lit double 140 x 190 cm Gris foncé | B22: Qté / pal | G22: Lit double 160 x 200 cm Gris foncé | H22: Qté / pal
B23: x 20 | H23: x 20
A25: 0396/51 | G25: 0397/51Z
A26: BOREA | B26: Colis | G26: BOREA | H26: Colis
B27: 1/2 | H27: 1/2
A28: Lit double 140 x 190 cm Gris clair | B28: Qté / pal | G28: Lit double 160 x 200 cm Gris clair | H28: Qté / pal
H29: x 20
A31: 0396/51 | G31: 0397/51Z
A32: BOREA | B32: Colis | G32: BOREA | H32: Colis
B33: 2/2 | H33: 2/2
A34: Lit double 140 x 190 cm Gris clair | B34: Qté / pal | G34: Lit double 160 x 200 cm Gris clair | H34: Qté / pal
H35: x 30

Sheet BRICE
A1: 6423/1 | D1: 6423/13 | G1: 6423/44
A2: BRICE | B2: Colis | D2: BRICE | E2: Colis | G2: BRICE | H2: Colis
B3: 1/2 | E3: 1/2 | H3: 1/2
A4: Lit 90 x 190 cm Vernis naturel | B4: Qté / pal | D4: Lit 90 x 190 cm Finition blanchie | E4: Qté / pal | G4: Lit 90 x 190 cm Gris | H4: Qté / pal
B5: x 28 | E5: x 28 | H5: x 28
A7: 6423/1 | D7: 6423/13 | G7: 6423/44
A8: BRICE | B8: Colis | D8: BRICE | E8: Colis | G8: BRICE | H8: Colis
B9: 2/2 | E9: 2/2 | H9: 2/2
A10: Lit 90 x 190 cm Vernis naturel | B10: Qté / pal | D10: Lit 90 x 190 cm Finition blanchie | E10: Qté / pal | G10: Lit 90 x 190 cm Gris | H10: Qté / pal
B11: x 40 | E11: x 40 | H11: x 40

Sheet CASTEL
A1: 1313/92
A2: CASTEL | B2: Colis
B3: 1/4
A4: Lit 90 x 190 cm Blanc / vernis naturel | B4: Qté / pal
B5: x 40
A7: 1313/92
A8: CASTEL | B8: Colis
B9: 2/4
A10: Lit 90 x 190 cm Blanc / vernis naturel | B10: Qté / pal
B11: x 15
A13: 1313/92
A14: CASTEL | B14: Colis
B15: 3/4
A16: Lit 90 x 190 cm Blanc / vernis naturel | B16: Qté / pal
B17: x 20
A19: 1313/92
A20: CASTEL | B20: Colis
B21: 4/4
A22: Lit 90 x 190 cm Blanc / vernis naturel | B22: Qté / pal
B23: x 50

Sheet COLUMBIA et VICTOIRE
A1: 6450/19Z | D1: 6454/19 | G1: 6455/19 | J1: 6457/19 | P1: 6459/19
A2: COLUMBIA | B2: Colis | D2: COLUMBIA | E2: Colis | G2: COLUMBIA | H2: Colis | J2: COLUMBIA | K2: Colis | P2: COLUMBIA | Q2: Colis
B3: 1/2 | E3: 1/1 | H3: 1/1 | K3: 1/2 | Q3: 1/1
A4: Lit simple 90 x 200 cm Ivoire / tissu gris | B4: Qté / pal | D4: Commode 2 + 2 tiroirs Gris | E4: Qté / pal | G4: Bureau 1 tiroir Gris | H4: Qté / pal | J4: Armoire 2 portes - 2 tiroirs Gris | K4: Qté / pal | P4: Chevet 2 tiroirs Gris | Q4: Qté / pal
H5: x 12 | K5: x 20
A7: 6450/19Z | J7: 6457/19
A8: COLUMBIA | B8: Colis | J8: COLUMBIA | K8: Colis
B9: 2/2 | K9: 2/2
A10: Lit simple 90 x 200 cm Ivoire / tissu gris | B10: Qté / pal | J10: Armoire 2 portes - 2 tiroirs Gris | K10: Qté / pal
K11: x 20
A13: 6470/35Z | D13: 6471/24 | G13: 6475/35 | J13: 6477/24 | M13: 6478/35 | P13: 6479/35 | S13: 6488/24L2
A14: VICTOIRE | B14: Colis | D14: VICTOIRE | E14: Colis | G14: VICTOIRE | H14: Colis | J14: VICTOIRE | K14: Colis | M14: VICTOIRE | N14: Colis | P14: VICTOIRE | Q14: Colis | S14: COLUMBIA / VICTOIRE | T14: Colis
B15: 1/2 | E15: 1/1 | H15: 1/1 | K15: 1/2 | N15: 1/1 | Q15: 1/1 | T15: 1/1
A16: lit simple 90 x 200 cm Ivoire / tissu rose | B16: Qté / pal | D16: Tiroir Ivoire | E16: Qté / pal | G16: Bureau 1 tiroir Rose | H16: Qté / pal | J16: Armoire 2 portes + 2 tiroirs Ivoire | K16: Qté / pal | M16: Chevet 1 tiroir Rose | N16: Qté / pal | P16: Chevet 2 tiroirs Rose | Q16: Qté / pal | S16: Lot de 2 chaises Ivoire | T16: Qté / pal
H17: x 12 | K17: x 20
A19: 6470/35Z | J19: 6477/24
A20: VICTOIRE | B20: Colis | J20: VICTOIRE | K20: Colis
B21: 2/2 | K21: 2/2
A22: lit simple 90 x 200 cm Ivoire / tissu rose | B22: Qté / pal | J22: Armoire 2 portes + 2 tiroirs Ivoire | K22: Qté / pal
K23: x 20

Sheet COMO
D1: 2211/9B
D2: COMO | E2: Colis
E3: 1/1
D4: Meuble TV/vidéo 140 cm 2 portes + 1 niche Blanc - béton | E4: Qté / pal
A7: 2210/9 | D7: 2211/9
A8: COMO | B8: Colis | D8: COMO | E8: Colis
B9: 1/1 | E9: 1/1
A10: Meuble TV/vidéo 110 cm 2 portes + 1 niche Blanc - béton | B10: Qté / pal | D10: Meuble TV/vidéo 140 cm 2 portes + 1 niche Blanc | E10: Qté / pal
E11: x 25
D13: 2211/960
D14: COMO | E14: Colis
E15: 1/1
D16: Meuble TV/vidéo 140 cm 2 portes + 1 niche Blanc - Chêne | E16: Qté / pal

Sheet CORK
A1: 1712/9
A2: CORK | B2: Colis
B3: 1/1
A4: Bureau 2 tiroirs Blanc | B4: Qté / pal
B5: x 20
A7: 1712/60
A8: CORK | B8: Colis
B9: 1/1
A10: Bureau 2 tiroirs Chêne blanchi | B10: Qté / pal
B11: x 20

Sheet COSY
A1: 2099/2 | D1: 2099/16
A2: COSY | B2: Colis | D2: COSY | E2: Colis
B3: 1/2 | E3: 1/2
A4: Lit 90 x 190 cm Vernis naturel | B4: Qté / pal | D4: Lit 90 x 190 cm Noir | E4: Qté / pal
B5: x 13
A7: 2099/2 | D7: 2099/16
A8: COSY | B8: Colis | D8: COSY | E8: Colis
B9: 2/2 | E9: 1/2 2/2
A10: Lit 90 x 190 cm Vernis naturel | B10: Qté / pal | D10: Lit 90 x 190 cm Noir | E10: Qté / pal
B11: x 40 | E11: x 1
A13: 2099/2Z
A14: COSY | B14: Colis
B15: 1/2
A16: Lit 90 x 200 cm Vernis naturel | B16: Qté / pal
B17: x 14
A19: 2099/2Z
A20: COSY | B20: Colis
B21: 2/2
A22: Lit 90 x 200 cm Vernis naturel | B22: Qté / pal
B23: x 38

Sheet COX
A1: 6420/3
A2: COX | B2: Colis
B3: 1/2
A4: Lit superposé 90 x 190 cm Miel | B4: Qté / pal
A7: 6420/3
A8: COX | B8: Colis
B9: 2/2
A10: Lit superposé 90 x 190 cm Miel | B10: Qté / pal

Sheet DARWIN
A1: 0263/9B | D1: 0264/16
A2: DARWIN | B2: Colis | D2: DARWIN | E2: Colis
B3: 1/1 | E3: 1/1
A4: Table basse 120 x 60 cm Blanc / béton | B4: Qté / pal | D4: Table basse 100 x 50 cm Noir | E4: Qté / pal
B5: x 15 | E5: x 30
A7: 0264/9 | D7: 0263/16
A8: DARWIN | B8: Colis | D8: DARWIN | E8: Colis
B9: 1/1 | E9: 1/1
A10: Table basse 100 x 50 cm Blanc | B10: Qté / pal | D10: Table basse 120 x 60 cm Noir | E10: Qté / pal
B11: x 25 | E11: x 15
A13: 0263/16B | D13: 0263/9
A14: DARWIN | B14: Colis | D14: DARWIN | E14: Colis
B15: 1/1 | E15: 1/1
A16: Table basse 120 x 60 cm Noir / Béton | B16: Qté / pal | D16: Table basse 120 x 60 cm Blanc | E16: Qté / pal
B17: x 15 | E17: x 15

Sheet DIABLOTIN
A1: 3245/46 | D1: 6443/1 | G1: 6443/9 | J1: 6443/46
A2: DIABLOTIN | B2: Colis | D2: DIABLOTIN | E2: Colis | G2: DIABLOTIN | H2: Colis | J2: DIABLOTIN | K2: Colis
B3: 1/2 | E3: 1/2 | H3: 1/2 | K3: 1/2
A4: Lit 140 x 190 cm Gris | B4: Qté / pal | D4: Lit 90 x 190 cm Naturel | E4: Qté / pal | G4: Lit 90 x 190 cm Laqué blanc | H4: Qté / pal | J4: Lit 90 x 190 cm Gris | K4: Qté / pal
B5: x 20 | E5: x 10 | K5: x 10
A7: 3245/46 | D7: 6443/1 | G7: 6443/9 | J7: 6443/46
A8: DIABLOTIN | B8: Colis | D8: DIABLOTIN | E8: Colis | G8: DIABLOTIN | H8: Colis | J8: DIABLOTIN | K8: Colis
B9: 2/2 | E9: 2/2 | H9: 2/2 | K9: 2/2
A10: Lit 140 x 190 cm Gris | B10: Qté / pal | D10: Lit 90 x 190 cm Naturel | E10: Qté / pal | G10: Lit 90 x 190 cm Laqué blanc | H10: Qté / pal | J10: Lit 90 x 190 cm Gris | K10: Qté / pal
B11: x 20 | K11: x 20
G13: 6444/9 | J13: 6444/46 | M13: 6444/55
G14: DIABLOTIN | H14: Colis | J14: DIABLOTIN | K14: Colis | M14: DIABLOTIN | N14: Colis
H15: 1/1 | K15: 1/1 | N15: 1/1
G16: Tiroir Laqué blanc | J16: Tiroir Gris | K16: Qté / pal | M16: Tiroir Vert
K17: x 40

Sheet DUBLIN
A1: 0310/21 | D1: 0310/50
A2: DUBLIN | B2: Colis | D2: DUBLIN | E2: Colis
B3: 1/2 | E3: 1/2
A4: Lit simple 90 x 190 cm Beige | B4: Qté / pal | D4: Lit simple 90 x 190 cm Gris foncé | E4: Qté / pal
A7: 0310/21 | D7: 0310/50
A8: DUBLIN | B8: Colis | D8: DUBLIN | E8: Colis
B9: 2/2 | E9: 2/2
A10: Lit simple 90 x 190 cm Beige | B10: Qté / pal | D10: Lit simple 90 x 190 cm Gris foncé | E10: Qté / pal
A13: 0311/21Z | D13: 0311/50 | G13: 0311/51
A14: DUBLIN | B14: Colis | D14: DUBLIN | E14: Colis | G14: DUBLIN | H14: Colis
B15: 1/2 | E15: 1/2 | H15: 1/2
A16: Lit double 140 x 200 cm Beige | B16: Qté / pal | D16: Lit double 140 x 190 cm Gris foncé | E16: Qté / pal | G16: Lit double 140 x 190 cm Gris clair | H16: Qté / pal
A19: 0311/21Z | D19: 0311/50 | G19: 0311/51
A20: DUBLIN | B20: Colis | D20: DUBLIN | E20: Colis | G20: DUBLIN | H20: Colis
B21: 2/2 | E21: 2/2 | H21: 2/2
A22: Lit double 140 x 200 cm Beige | B22: Qté / pal | D22: Lit double 140 x 190 cm Gris foncé | E22: Qté / pal | G22: Lit double 140 x 190 cm Gris clair | H22: Qté / pal
A25: 0312/21Z | D25: 0311/50Z | G25: 0311/51Z
A26: DUBLIN | B26: Colis | D26: DUBLIN | E26: Colis | G26: DUBLIN | H26: Colis
B27: 1/2 | E27: 1/2 | H27: 1/2
A28: Lit double 160 x 200 cm Beige | B28: Qté / pal | D28: Lit double 140 x 200 cm Gris foncé | E28: Qté / pal | G28: Lit double 140 x 200 cm Gris clair | H28: Qté / pal
E29: x 15
A31: 0312/21Z | D31: 0311/50Z | G31: 0311/51Z
A32: DUBLIN | B32: Colis | D32: DUBLIN | E32: Colis | G32: DUBLIN | H32: Colis
B33: 2/2 | E33: 2/2 | H33: 2/2
A34: Lit double 160 x 200 cm Beige | B34: Qté / pal | D34: Lit double 140 x 200 cm Gris foncé | E34: Qté / pal | G34: Lit double 140 x 200 cm Gris clair | H34: Qté / pal
D37: 0312/50Z
D38: DUBLIN | E38: Colis
E39: 1/2
D40: Lit double 160 x 200 cm Gris foncé | E40: Qté / pal
E41: x 20
D43: 0312/50Z
D44: DUBLIN | E44: Colis
E45: 2/2
D46: Lit double 160 x 200 cm Gris foncé | E46: Qté / pal

Sheet ESTRADE
A1: 2260/2 | D1: 2260/3 | G1: 2260/13
A2: ESTRADE | B2: Colis | D2: ESTRADE | E2: Colis | G2: ESTRADE | H2: Colis
B3: 1/2 | E3: 1/2 | H3: 1/2
A4: Lit + 3 portes 90 x 190 cm Vernis naturel | B4: Qté / pal | D4: Lit + 3 portes 90 x 190 cm Miel | E4: Qté / pal | G4: Lit + 3 portes 90 x 190 cm Blanc | H4: Qté / pal
B5: x 20 | E5: x 18 | H5: x 19
A7: 2260/2 | D7: 2260/3 | G7: 2260/13
A8: ESTRADE | B8: Colis | D8: ESTRADE | E8: Colis | G8: ESTRADE | H8: Colis
B9: 2/2 | E9: 2/2 | H9: 2/2
A10: Lit + 3 portes 90 x 190 cm Vernis naturel | B10: Qté / pal | D10: Lit + 3 portes 90 x 190 cm Miel | E10: Qté / pal | G10: Lit + 3 portes 90 x 190 cm Blanc | H10: Qté / pal
B11: x 50 | E11: x 50 | H11: x 19

Sheet FJORD
A1: 0391/21 | D1: 0392/21Z | G1: 0393/21Z
A2: FJORD | B2: Colis | D2: FJORD | E2: Colis | G2: FJORD | H2: Colis
B3: 1/2 | E3: 1/2 | H3: 1/2
A4: Lit double 140 x 190 cm Beige | B4: Qté / pal | D4: Lit double 160 x 200 cm Beige | E4: Qté / pal | G4: Lit double 180 x 200 cm Beige | H4: Qté / pal
A7: 0391/21 | D7: 0392/21Z | G7: 0393/21Z
A8: FJORD | B8: Colis | D8: FJORD | E8: Colis | G8: FJORD | H8: Colis
B9: 2/2 | E9: 2/2 | H9: 2/2
A10: Lit double 140 x 190 cm Beige | B10: Qté / pal | D10: Lit double 160 x 200 cm Beige | E10: Qté / pal | G10: Lit double 180 x 200 cm Beige | H10: Qté / pal
B11: x 24
A13: 0391/50 | D13: 0392/50Z | G13: 0393/50Z
A14: FJORD | B14: Colis | D14: FJORD | E14: Colis | G14: FJORD | H14: Colis
B15: 1/2 | E15: 1/2 | H15: 1/2
A16: Lit double 140 x 190 cm Gris foncé | B16: Qté / pal | D16: Lit double 160 x 200 cm Gris foncé | E16: Qté / pal | G16: Lit double 180 x 200 cm Gris foncé | H16: Qté / pal
B17: x 15 | E17: x 14 | H17: x 15
A19: 0391/50 | D19: 0392/50Z | G19: 0393/50Z
A20: FJORD | B20: Colis | D20: FJORD | E20: Colis | G20: FJORD | H20: Colis
B21: 2/2 | E21: 2/2 | H21: 2/2
A22: Lit double 140 x 190 cm Gris foncé | B22: Qté / pal | D22: Lit double 160 x 200 cm Gris foncé | E22: Qté / pal | G22: Lit double 180 x 200 cm Gris foncé | H22: Qté / pal
A25: 0391/51 | D25: 0392/51Z
A26: FJORD | B26: Colis | D26: FJORD | E26: Colis
B27: 1/2 | E27: 1/2
A28: Lit double 140 x 190 cm Gris clair | B28: Qté / pal | D28: Lit double 160 x 200 cm Gris clair | E28: Qté / pal
B29: x 15
A31: 0391/51 | D31: 0392/51Z
A32: FJORD | B32: Colis | D32: FJORD | E32: Colis
B33: 2/2 | E33: 2/2
A34: Lit double 140 x 190 cm Gris clair | B34: Qté / pal | D34: Lit double 160 x 200 cm Gris clair | E34: Qté / pal

Sheet FLORENT
A1: 2392/9 | D1: 2392/44 | G1: 2392/60
A2: FLORENT | B2: Colis | D2: FLORENT | E2: Colis | G2: FLORENT | H2: Colis
B3: 1/2 | E3: 1/2 | H3: 1/2
A4: Lit gigogne 90 x 190 cm Blanc | B4: Qté / pal | D4: Lit gigogne 90 x 190 cm Gris | E4: Qté / pal | G4: Lit gigogne 90 x 190 cm Chêne blanchi | H4: Qté / pal
B5: x 7 | E5: x 14 | H5: x 14
A7: 2392/9 | D7: 2392/44 | G7: 2392/60
A8: FLORENT | B8: Colis | D8: FLORENT | E8: Colis | G8: FLORENT | H8: Colis
B9: 2/2 | E9: 2/2 | H9: 2/2
A10: Lit gigogne 90 x 190 cm Blanc | B10: Qté / pal | D10: Lit gigogne 90 x 190 cm Gris | E10: Qté / pal | G10: Lit gigogne 90 x 190 cm Chêne blanchi | H10: Qté / pal
E11: x 40 | H11: x 50
A13: 2392/9Z
A14: FLORENT | B14: Colis
B15: 1/2 2/2
A16: Lit gigogne 90 x 200 cm Laqué blanc | B16: Qté / pal
B17: x 1

Sheet FLORIDE
A1: 6441/44Z
A2: FLORIDE | B2: Colis
B3: 1/2 2/2
A4: Lit superposé 90 x 190 cm Gris | B4: Qté / pal
B5: x 2

Sheet FUNNY
A1: 3792/1 | D1: 3793/2
A2: FUNNY | B2: Colis | D2: FUNNY | E2: Colis
B3: 1/1 | E3: 1/1
A4: Lit 90 x 190 cm Naturel | B4: Qté / pal | D4: Lit 140 x 190 cm Vernis naturel | E4: Qté / pal
A7: 6439/2
A8: FUNNY | B8: Colis
B9: 1/1
A10: Chevet Vernis naturel | B10: Qté / pal
B11: x 112

Sheet FUTON
A1: 2598/11
A2: FUTON | B2: Colis
B3: 1/1
A4: Commonde 2 tiroirs Wengé | B4: Qté / pal
B5: x 20

Sheet GUEST
A1: 2273/9Z
A2: GUEST | B2: Colis
B3: 1/3
A4: Banquette lit + 2 tiroirs 2 x (80 x 200 cm) Blanc | B4: Qté / pal
B5: x 12
A7: 2273/9Z
A8: GUEST | B8: Colis
B9: 2/3
A10: Banquette lit + 2 tiroirs 2 x (80 x 200 cm) Blanc | B10: Qté / pal
B11: x 10
A13: 2273/9Z
A14: GUEST | B14: Colis
B15: 3/3
A16: Banquette lit + 2 tiroirs 2 x (80 x 200 cm) Blanc | B16: Qté / pal
B17: x 25

Sheet HOME
A1: 5802/9 | D1: 5804/9 | G1: 5807/9 | J1: 5809/9 | M1: 5805/9
A2: HOME | B2: Colis | D2: HOME | E2: Colis | G2: HOME | H2: Colis | J2: HOME | K2: Colis | M2: HOME | N2: Colis
B3: 1/2 | E3: 1/2 | H3: 1/2 | K3: 1/2 | N3: 1/1
A4: Bahut 2 portes Blanc | B4: Qté / pal | D4: 4 portes / 2 tiroirs Blanc | E4: Qté / pal | G4: Argentier 4 portes Blanc | H4: Qté / pal | J4: Bibliothèque 3 portes Blanc | K4: Qté / pal | M4: Meuble TV 2 portes / 1 niche Blanc | N4: Qté / pal
B5: x 50 | E5: x 10 | H5: x 20 | N5: x 20
A7: 5802/9 | D7: 5804/9 | G7: 5807/9 | J7: 5809/9 | M7: 5806/9
A8: HOME | B8: Colis | D8: HOME | E8: Colis | G8: HOME | H8: Colis | J8: HOME | K8: Colis | M8: HOME | N8: Colis
B9: 2/2 | E9: 2/2 | H9: 2/2 | K9: 2/2 | N9: 1/1
A10: Bahut 2 portes Blanc | B10: Qté / pal | D10: 4 portes / 2 tiroirs Blanc | E10: Qté / pal | G10: Argentier 4 portes Blanc | H10: Qté / pal | J10: Bibliothèque 3 portes Blanc | K10: Qté / pal | M10: Meuble TV 2 portes / 1 niche Blanc | N10: Qté / pal
B11: x 25 | E11: x 20 | H11: x 20 | N11: x 20
A13: 5802/960 | D13: 5804/960 | G13: 5807/960 | M13: 5810/9
A14: HOME | B14: Colis | D14: HOME | E14: Colis | G14: HOME | H14: Colis | M14: HOME | N14: Colis
B15: 1/2 | E15: 1/2 | H15: 1/2 | N15: 1/1
A16: Bahut 2 portes Blanc / Chêne blanchi | B16: Qté / pal | D16: 4 portes / 2 tiroirs Blanc / Chêne blanchi | E16: Qté / pal | G16: Argentier 4 portes Blanc / Chêne blanchi | H16: Qté / pal | M16: Table basse 120 x 60 cm Blanc | N16: Qté / pal
E17: x 10 | H17: x 20 | N17: x 12
A19: 5802/960 | D19: 5804/960 | G19: 5807/960 | J19: 5800/9 | M19: 5814/9
A20: HOME | B20: Colis | D20: HOME | E20: Colis | G20: HOME | H20: Colis | J20: HOME | K20: Colis | M20: HOME | N20: Colis
B21: 2/2 | E21: 2/2 | H21: 2/2 | K21: 1/1 | N21: 1/1
A22: Bahut 2 portes Blanc / Chêne blanchi | B22: Qté / pal | D22: 4 portes / 2 tiroirs Blanc / Chêne blanchi | E22: Qté / pal | G22: Argentier 4 portes Blanc / Chêne blanchi | H22: Qté / pal | J22: Meuble TV Blanc | K22: Qté / pal | M22: Chiffonnier 4 tiroirs Blanc | N22: Qté / pal
B23: x 25 | E23: x 20 | H23: x 20 | K23: x 20 | N23: x 16

Sheet IBIZA
A1: 3115/16
A2: IBIZA | B2: Colis
B3: 1/2
A4: Table rectangulaire 175 x 75 cm Noir | B4: Qté / pal
A7: 3115/16
A8: IBIZA | B8: Colis
B9: 2/2
A10: Table rectangulaire 175 x 75 cm Noir | B10: Qté / pal
B11: x 15

Sheet JAZZ
A1: 2978/9
A2: JAZZ | B2: Colis
B3: 1/4
A4: Lit 140 x 190 cm Blanc | B4: Qté / pal
B5: x 25
A7: 2978/9
A8: JAZZ | B8: Colis
B9: 2/4
A10: Lit 140 x 190 cm Blanc | B10: Qté / pal
B11: x 25
A13: 2978/9
A14: JAZZ | B14: Colis
B15: 3/4
A16: Lit 140 x 190 cm Blanc | B16: Qté / pal
B17: x 25
A19: 2978/9
A20: JAZZ | B20: Colis
B21: 4/4
A22: Lit 140 x 190 cm Blanc | B22: Qté / pal
D25: 2979/9Z
D26: JAZZ | E26: Colis
E27: 1/4
D28: Lit 160 x 200 cm Blanc | E28: Qté / pal
D31: 2979/9Z
D32: JAZZ | E32: Colis
E33: 2/4
D34: Lit 160 x 200 cm Blanc | E34: Qté / pal
D37: 2979/9Z
D38: JAZZ | E38: Colis
E39: 3/4
D40: Lit 160 x 200 cm Blanc | E40: Qté / pal
D43: 2979/9Z
D44: JAZZ | E44: Colis
E45: 4/4
D46: Lit 160 x 200 cm Blanc | E46: Qté / pal

Sheet JUSTIN
D1: 2390/9Z
D2: JUSTIN | E2: Colis
E3: 1/2
D4: Lit gigogne 90 x 200 cm Blanc | E4: Qté / pal
E5: x 14
D7: 2390/9Z
D8: JUSTIN | E8: Colis
E9: 2/2
D10: Lit gigogne 90 x 200 cm Blanc | E10: Qté / pal
E11: x 50
A13: 2390/44 | D13: 2390/44Z
A14: JUSTIN | B14: Colis | D14: JUSTIN | E14: Colis
B15: 1/2 | E15: 1/2
A16: Lit gigogne 90 x 190 cm Gris | B16: Qté / pal | D16: Lit gigogne 90 x 200 cm Gris | E16: Qté / pal
B17: x 14 | E17: x 14
A19: 2390/44 | D19: 2390/44Z
A20: JUSTIN | B20: Colis | D20: JUSTIN | E20: Colis
B21: 2/2 | E21: 2/2
A22: Lit gigogne 90 x 190 cm Gris | B22: Qté / pal | D22: Lit gigogne 90 x 200 cm Gris | E22: Qté / pal
E23: x 50

Sheet KAPPA
A1: 2265/60Z | D1: 2266/60Z
A2: KAPPA | B2: Colis | D2: KAPPA | E2: Colis
B3: 1/2 | E3: 1/2
A4: Lit + 2 tiroirs 90 x 200 cm Chêne blanchi | B4: Qté / pal | D4: Lit + 2 tiroirs 140 x 200 cm Chêne blanchi | E4: Qté / pal
B5: x 30 | E5: x 30
A7: 2265/60Z | D7: 2266/60Z
A8: KAPPA | B8: Colis | D8: KAPPA | E8: Colis
B9: 2/2 | E9: 2/2
A10: Lit + 2 tiroirs 90 x 200 cm Chêne blanchi | B10: Qté / pal | D10: Lit + 2 tiroirs 140 x 200 cm Chêne blanchi | E10: Qté / pal
B11: x 50 | E11: x 50

Sheet KOALA
A1: 1325/1 | D1: 1325/9
A2: KOALA | B2: Colis | D2: KOALA | E2: Colis
B3: 1/1 | E3: 1/1
A4: Lit 90 x 190 cm Naturel | B4: Qté / pal | D4: Lit 90 x 190 cm Blanc | E4: Qté / pal
B5: x 30 | E5: x 30
D7: 1328/9
D8: KOALA | E8: Colis
E9: 1/1
D10: Tiroir Blanc | E10: Qté / pal
E11: x 50

Sheet LAURA
A1: 3903/9 | D1: 3904/9
A2: LAURA | B2: Colis | D2: LAURA | E2: Colis
B3: 1/1 | E3: 1/1
A4: Bureau escamotable Blanc | B4: Qté / pal | D4: Etagère Blanc | E4: Qté / pal
B5: x 30 | E5: x 50

Sheet LIVIA
A1: 0368/9Z
A2: LIVIA | B2: Colis
B3: 1/2
A4: Lit double 160 x 200 cm Blanc | B4: Qté / pal
A7: 0368/9Z
A8: LIVIA | B8: Colis
B9: 2/2
A10: Lit double 160 x 200 cm Blanc | B10: Qté / pal
B11: x 18

Sheet LOFT
A1: 9121/CHZ | D1: 9121/9Z | G1: 9121/16Z
A2: LOFT | B2: Colis | D2: LOFT | E2: Colis | G2: LOFT | H2: Colis
B3: 1/1 | E3: 1/1 | H3: 1/1
A4: Lit 140 x 200 cm Chêne | B4: Qté / pal | D4: Lit 140 x 200 cm Blanc | E4: Qté / pal | G4: Lit 140 x 200 cm Noir | H4: Qté / pal
B5: x 20 | E5: x 25 | H5: x 20

Sheet LOU
A1: 3263/9 | D1: 3263/44 | G1: 3263/44Z
A2: LOU | B2: Colis | D2: LOU | E2: Colis | G2: LOU | H2: Colis
B3: 1/1 | E3: 1/1 | H3: 1/1
A4: Rangement 3 niches 1427 mm - (190 cm) Blanc | B4: Qté / pal | D4: Rangement 3 niches 1427 mm - (190 cm) Gris | G4: Rangement 3 niches Gris | H4: Qté / pal
B5: x 40 | H5: x 50

Sheet LUDO
A1: 0111/2 | D1: 0111/9 | G1: 0111/40
A2: LUDO | B2: Colis | D2: LUDO | E2: Colis | G2: LUDO | H2: Colis
B3: 1/1 | E3: 1/1 | H3: 1/1
A4: Table à langer Vernis naturel | B4: Qté / pal | D4: Table à langer Blanc | E4: Qté / pal | G4: Table à langer Taupe | H4: Qté / pal
B5: x 12 | E5: x 12 | H5: x 13

Sheet LUCKY
A1: 6424/9
A2: LUCKY | B2: Colis
B3: 1/4
A4: Lit simple 90 x 190 cm Blanc | B4: Qté / pal
A7: 6424/9
A8: LUCKY | B8: Colis
B9: 2/4
A10: Lit simple 90 x 190 cm Blanc | B10: Qté / pal
A13: 6424/9
A14: LUCKY | B14: Colis
B15: 3/4
A16: Lit simple 90 x 190 cm Blanc | B16: Qté / pal
A19: 6424/9
A20: LUCKY | B20: Colis
B21: 4/4
A22: Lit simple 90 x 190 cm Blanc | B22: Qté / pal

Sheet LYRA
A1: 0259/9
A2: LYRA | B2: Colis
B3: 1/1
A4: Table basse Diamètre 55 cm Blanc | B4: Qté / pal
B5: x 50
A7: 0259/CH
A8: LYRA | B8: Colis
B9: 1/1
A10: Table basse Diamètre 55 cm Chêne | B10: Qté / pal
B11: x 40
A13: 0259/16
A14: LYRA | B14: Colis
B15: 1/1
A16: Table basse Diamètre 55 cm Noir | B16: Qté / pal

Sheet OREGON
A1: 0265/60
A2: OREGON | B2: Colis
B3: 1/1
A4: Table basse 120 x 60 cm Chêne blanchi | B4: Qté / pal
B5: x 12

Sheet MADRID
A1: 0357/9 | G1: 0357/60 | J1: 0357/63
A2: MADRID | B2: Colis | G2: MADRID | H2: Colis | J2: MADRID | K2: Colis
B3: 1/2 | H3: 1/2 | K3: 1/2
A4: Lit coffre 140 x 190 cm Blanc | B4: Qté / pal | G4: Lit coffre 140 x 190 cm Chêne blanchi | H4: Qté / pal | J4: Lit coffre 140 x 190 cm Gris | K4: Qté / pal
B5: x 15 | H5: x 15 | K5: x 15
A7: 0357/9 | G7: 0357/60 | J7: 0357/63
A8: MADRID | B8: Colis | G8: MADRID | H8: Colis | J8: MADRID | K8: Colis
B9: 2/2 | H9: 2/2 | K9: 2/2
A10: Lit coffre 140 x 190 cm Blanc | B10: Qté / pal | G10: Lit coffre 140 x 190 cm Chêne blanchi | H10: Qté / pal | J10: Lit coffre 140 x 190 cm Gris | K10: Qté / pal
B11: x 18 | H11: x 18 | K11: x 18
A13: 0357/9Z | G13: 0357/60Z
A14: MADRID | B14: Colis | G14: MADRID | H14: Colis
B15: 1/2 | H15: 1/2
A16: Lit coffre 140 x 200 cm Blanc | B16: Qté / pal | G16: Lit coffre 140 x 200 cm Chêne blanchi | H16: Qté / pal
B17: x 15
A19: 0357/9Z | G19: 0357/60Z
A20: MADRID | B20: Colis | G20: MADRID | H20: Colis
B21: 2/2 | H21: 2/2
A22: Lit coffre 140 x 200 cm Blanc | B22: Qté / pal | G22: Lit coffre 140 x 200 cm Chêne blanchi | H22: Qté / pal
B23: x 18
A25: 0358/9Z | J25: 0358/63Z
A26: MADRID | B26: Colis | J26: MADRID | K26: Colis
B27: 1/2 | K27: 1/2
A28: Lit coffre 160 x 200 cm Blanc | B28: Qté / pal | J28: Lit coffre 160 x 200 cm Gris | K28: Qté / pal
B29: x 15 | K29: x 15
A31: 0358/9Z | J31: 0358/63Z
A32: MADRID | B32: Colis | J32: MADRID | K32: Colis
B33: 2/2 | K33: 2/2
A34: Lit coffre 160 x 200 cm Blanc | B34: Qté / pal | J34: Lit coffre 160 x 200 cm Gris | K34: Qté / pal
B35: x 18 | K35: x 18
A37: 0360/9 | G37: 0360/60
A38: MADRID | B38: Colis | G38: MADRID | H38: Colis
B39: 1/2 | H39: 1/2
A40: Lit coffre 90 x 190 cm Blanc | B40: Qté / pal | G40: Lit coffre 90 x 190 cm Chêne blanchi | H40: Qté / pal
B41: x 15 | H41: x 20
A43: 0360/9 | G43: 0360/60
A44: MADRID | B44: Colis | G44: MADRID | H44: Colis
B45: 2/2 | H45: 2/2
A46: Lit coffre 90 x 190 cm Blanc | B46: Qté / pal | G46: Lit coffre 90 x 190 cm Chêne blanchi | H46: Qté / pal
B47: x 20 | H47: x 20

Sheet MIA
A1: 3788/9Z
A2: MIA | B2: Colis
B3: 1/3
A4: Lit + 3 tiroirs 90 x 200 cm Blanc | B4: Qté / pal
B5: x 15
A7: 3788/9Z
A8: MIA | B8: Colis
B9: 2/3
A10: Lit + 3 tiroirs 90 x 200 cm Blanc | B10: Qté / pal
B11: x 60
A13: 3788/9Z
A14: MIA | B14: Colis
B15: 3/3
A16: Lit + 3 tiroirs 90 x 200 cm Blanc | B16: Qté / pal
B17: x 20

Sheet NEWTON
A1: 0262/9 | D1: 0262/16
A2: NEWTON | B2: Colis | D2: NEWTON | E2: Colis
B3: 1/1 | E3: 1/1
A4: Table basse 100 x 50 cm Blanc | B4: Qté / pal | D4: Table basse 100 x 50 cm Noir | E4: Qté / pal

Sheet NOA
A1: 0200/HE
A2: NOA | B2: Colis
B3: 1/1
A4: Cube | B4: Qté / pal
B5: x 200
B8: Colis
B10: Qté / pal

Sheet NOVA
A1: 0473/16
A2: NOVA | B2: Colis
B3: 1/2
A4: Table extensible 45-90-135-180 cm Noir | B4: Qté / pal
B5: x 12
A7: 0473/16
A8: NOVA | B8: Colis
B9: 2/2
A10: Table extensible 45-90-135-180 cm Noir | B10: Qté / pal

Sheet ONYX
A1: 0245/9 | D1: 0246/9
A2: ONYX | B2: Colis | D2: ONYX | E2: Colis
B3: 1/1 | E3: 1/1
A4: Table basse 80 x 80 cm Blanc | B4: Qté / pal | D4: Lot de 2 tables basses 60 x 60, 40 x 40 cm Blanc | E4: Qté / pal
A7: 0245/16 | D7: 0246/16
A8: ONYX | B8: Colis | D8: ONYX | E8: Colis
B9: 1/1 | E9: 1/1
A10: Table basse 80 x 80 cm Noir | B10: Qté / pal | D10: Lot de 2 tables basses 60 x 60, 40 x 40 cm Noir | E10: Qté / pal
B11: x 20 | E11: x 40
A13: 0245/44 | D13: 0246/44
A14: ONYX | B14: Colis | D14: ONYX | E14: Colis
B15: 1/1 | E15: 1/1
A16: Table basse 80 x 80 cm Gris | B16: Qté / pal | D16: Lot de 2 tables basses 60 x 60, 40 x 40 cm Gris | E16: Qté / pal
B17: x 25 | E17: x 30

Sheet OSLO
A1: 2296/9 | D1: 2296/9Z | G1: 2297/9 | J1: 2297/9Z | M1: 2298/9Z
A2: OSLO | B2: Colis | D2: OSLO | E2: Colis | G2: OSLO | H2: Colis | J2: OSLO | K2: Colis | M2: OSLO | N2: Colis
B3: 1/2 | E3: 1/2 | H3: 1/3 | K3: 1/3 | N3: 1/3
A4: Lit simple 90 x 190 cm Blanc | B4: Qté / pal | D4: Lit simple 90 x 200 cm Blanc | E4: Qté / pal | G4: Lit double 140 x 190 cm Blanc | H4: Qté / pal | J4: Lit double 140 x 200 cm Blanc | K4: Qté / pal | M4: Lit double 160 x 200 cm Blanc | N4: Qté / pal
B5: x 20 | E5: x 20 | H5: x 20
A7: 2296/9 | D7: 2296/9Z | G7: 2297/9 | J7: 2297/9Z | M7: 2298/9Z
A8: OSLO | B8: Colis | D8: OSLO | E8: Colis | G8: OSLO | H8: Colis | J8: OSLO | K8: Colis | M8: OSLO | N8: Colis
B9: 2/2 | E9: 2/2 | H9: 2/3 | K9: 2/3 | N9: 2/3
A10: Lit simple 90 x 190 cm Blanc | B10: Qté / pal | D10: Lit simple 90 x 200 cm Blanc | E10: Qté / pal | G10: Lit double 140 x 190 cm Blanc | H10: Qté / pal | J10: Lit double 140 x 200 cm Blanc | K10: Qté / pal | M10: Lit double 160 x 200 cm Blanc | N10: Qté / pal
B11: x 50 | H11: x 50
G13: 2297/9 | J13: 2297/9Z | M13: 2298/9Z
G14: OSLO | H14: Colis | J14: OSLO | K14: Colis | M14: OSLO | N14: Colis
H15: 3/3 | K15: 3/3 | N15: 3/3
G16: Lit double 140 x 190 cm Blanc | H16: Qté / pal | J16: Lit double 140 x 200 cm Blanc | K16: Qté / pal | M16: Lit double 160 x 200 cm Blanc | N16: Qté / pal
H17: x 30 | K17: x 30 | N17: x 30

Sheet PACO
A1: 0306/6016 | D1: 0306/916
A2: PACO | B2: Colis | D2: PACO | E2: Colis
B3: 1/1 | E3: 1/1
A4: Penderie rangement vestiaire Chêne blanchi - noir | B4: Qté / pal | D4: Penderie rangement vestiaire Blanc - noir | E4: Qté / pal
B5: x 40 | E5: x 40
A7: 0306/601 | D7: 0306/91
A8: PACO | B8: Colis | D8: PACO | E8: Colis
B9: 1/1 | E9: 1/1
A10: Penderie rangement vestiaire Chêne blanchi - naturel | B10: Qté / pal | D10: Penderie rangement vestiaire Blanc - naturel | E10: Qté / pal
B11: x 40

Sheet PALMA
A1: 2272/9
A2: PALMA | B2: Colis
B3: 1/3
A4: Lit + étagère + tiroir 90 x 190 cm Blanc | B4: Qté / pal
B5: x 25
A7: 2272/9
A8: PALMA | B8: Colis
B9: 2/3
A10: Lit + étagère + tiroir 90 x 190 cm Blanc | B10: Qté / pal
B11: x 40
A13: 2272/9
A14: PALMA | B14: Colis
B15: 3/3
A16: Lit + étagère + tiroir 90 x 190 cm Blanc | B16: Qté / pal
B17: x 50

Sheet PANDA
A1: 1315/1 | D1: 1315/9
A2: PANDA | B2: Colis | D2: PANDA | E2: Colis
B3: 1/1 | E3: 1/1
A4: Lit 90 x 190 cm Naturel | B4: Qté / pal | D4: Lit 90 x 190 cm Blanc | E4: Qté / pal
B5: x 40 | E5: x 40
A7: 1316/1 | D7: 1316/9
A8: PANDA | B8: Colis | D8: PANDA | E8: Colis
B9: 1/1 | E9: 1/1
A10: Lit 70 x 140 cm Naturel | B10: Qté / pal | D10: Lit 70 x 140 cm Naturel | E10: Qté / pal
B11: x 30 | E11: x 31

Sheet PARKER
A1: 9074/46 | D1: 9074/9 | G1: 9075/46Z | J1: 9075/9Z
A2: PARKER | B2: Colis | D2: PARKER | E2: Colis | G2: PARKER | H2: Colis | J2: PARKER | K2: Colis
B3: 1/1 | E3: 1/1 | H3: 1/1 | K3: 1/1
A4: Lit 140 x 190 cm Gris | B4: Qté / pal | D4: Lit 140 x 190 cm Blanc | G4: Lit 160 x 200 cm Gris | H4: Qté / pal | J4: Lit 160 x 200 cm Blanc | K4: Qté / pal
B5: x 50 | H5: x 50 | K5: x 50

Sheet PARMA
A1: 0317/50 | D1: 0319/50Z
A2: PARMA | B2: Colis | D2: PARMA | E2: Colis
B3: 1/3 | E3: 1/3
A4: Lit simple 90 x 190 cm Gris foncé | B4: Qté / pal | D4: Lit double 160 x 200 cm Gris foncé | E4: Qté / pal
A7: 0317/50 | D7: 0319/50Z
A8: PARMA | B8: Colis | D8: PARMA | E8: Colis
B9: 2/3 | E9: 2/3
A10: Lit simple 90 x 190 cm Gris foncé | B10: Qté / pal | D10: Lit double 160 x 200 cm Gris foncé | E10: Qté / pal
A13: 0317/50 | D13: 0319/50Z
A14: PARMA | B14: Colis | D14: PARMA | E14: Colis
B15: 3/3 | E15: 3/3
A16: Lit simple 90 x 190 cm Gris foncé | B16: Qté / pal | D16: Lit double 160 x 200 cm Gris foncé | E16: Qté / pal

Sheet PODIUM
A1: 2379/9T | D1: 2379/9ZT
A2: PODIUM | B2: Colis | D2: PODIUM | E2: Colis
B3: 1/2 | E3: 1/2 2/2
A4: Lit cigogne 90 x 190 cm Blanc | B4: Qté / pal | D4: Lit cigogne 90 x 200 cm Blanc | E4: Qté / pal
B5: x 25 | E5: x 1
A7: 2379/9T
A8: PODIUM | B8: Colis
B9: 2/2
A10: Lit cigogne 90 x 190 cm Blanc | B10: Qté / pal
B11: x 40

Sheet RABBIT
A1: 2138/1 | D1: 2138/2 | J1: 2138/43
A2: RABBIT | B2: Colis | D2: RABBIT | E2: Colis | J2: RABBIT | K2: Colis
B3: 1/2 | E3: 1/2 | K3: 1/2
A4: Lit 90 x 190 cm Naturel | B4: Qté / pal | D4: Lit 90 x 190 cm Vernis naturel | E4: Qté / pal | J4: Lit 90 x 190 cm Laqué taupe | K4: Qté / pal
K5: x 14
A7: 2138/1 | D7: 2138/2 | J7: 2138/43
A8: RABBIT | B8: Colis | D8: RABBIT | E8: Colis | J8: RABBIT | K8: Colis
B9: 2/2 | E9: 2/2 | K9: 2/2
A10: Lit 90 x 190 cm Naturel | B10: Qté / pal | D10: Lit 90 x 190 cm Vernis naturel | E10: Qté / pal | J10: Lit 90 x 190 cm Laqué taupe | K10: Qté / pal
K11: x 20
A13: 2138/3 | D13: 2146/3
A14: RABBIT | B14: Colis | D14: RABBIT | E14: Colis
B15: 1/2 | E15: 1/2 2/2
A16: Lit 90 x 190 cm Miel | B16: Qté / pal | D16: Lit 90 x 190 cm Miel | E16: Qté / pal
E17: x 3
A19: 2138/3 | D19: 2146/2
A20: RABBIT | B20: Colis | D20: RABBIT | E20: Colis
B21: 2/2 | E21: 1/2 2/2
A22: Lit 90 x 190 cm Miel | B22: Qté / pal | D22: Lit 90 x 190 cm Vernis naturel | E22: Qté / pal
B23: x 20 | E23: x 1
D25: 2138/9Z
D26: RABBIT | E26: Colis
E27: 1/2
D28: Lit 90 x 200 cm Laqué blanc | E28: Qté / pal
D31: 2138/9Z
D32: RABBIT | E32: Colis
E33: 2/2
D34: Lit 90 x 200 cm Laqué blanc | E34: Qté / pal
A37: 2138/13
A38: RABBIT | B38: Colis
B39: 1/2
A40: Lit 90 x 190 cm Finition blanchi | B40: Qté / pal
A43: 2138/13
A44: RABBIT | B44: Colis
B45: 2/2
A46: Lit 90 x 190 cm Finition blanchi | B46: Qté / pal

Sheet ROLLER
A1: 3797/3 | D1: 3797/9
A2: ROLLER | B2: Colis | D2: ROLLER | E2: Colis
B3: 1/2 | E3: 1/3
A4: Lit étagère Miel | B4: Qté / pal | D4: Lit étagère 90 x 190 cm Blanc | E4: Qté / pal
B5: x 28 | E5: x 25
A7: 3797/3 | D7: 3797/9
A8: ROLLER | B8: Colis | D8: ROLLER | E8: Colis
B9: 2/2 | E9: 2/3
A10: Lit étagère Miel | B10: Qté / pal | D10: Lit étagère 90 x 190 cm Blanc | E10: Qté / pal
B11: x 30 | E11: x 40
D13: 3797/9
D14: ROLLER | E14: Colis
E15: 3/3
D16: Lit étagère 90 x 190 cm Blanc | E16: Qté / pal
E17: x 25

Sheet ROMAIN
A1: 2380/2 | D1: 2380/16
A2: ROMAIN | B2: Colis | D2: ROMAIN | E2: Colis
B3: 1/2 | E3: 1/2
A4: Lit gigogne 90 x 190 cm Vernis naturel | B4: Qté / pal | D4: Lit gigogne 90 x 190 cm Noir | E4: Qté / pal
B5: x 14 | E5: x 14
A7: 2380/2 | D7: 2380/16
A8: ROMAIN | B8: Colis | D8: ROMAIN | E8: Colis
B9: 2/2 | E9: 2/2
A10: Lit gigogne 90 x 190 cm Vernis naturel | B10: Qté / pal | D10: Lit gigogne 90 x 190 cm Noir | E10: Qté / pal
B11: x 50 | E11: x 40

Sheet ROMANCE
A1: 1301/1 | D1: 1301/9P | G1: 1301/13 | J1: 1301/16P
A2: ROMANCE | B2: Colis | D2: ROMANCE | E2: Colis | G2: ROMANCE | H2: Colis | J2: ROMANCE | K2: Colis
B3: 1/2 | E3: 1/2 | H3: 1/2 | K3: 1/2
A4: Lit à baldaquin 140 x 190 cm Naturel | B4: Qté / pal | D4: Lit à baldaquin 140 x 190 cm Blanc | E4: Qté / pal | G4: Lit à baldaquin 140 x 190 cm Finition blanchie | H4: Qté / pal | J4: Lit à baldaquin 140 x 190 cm Noir | K4: Qté / pal
B5: x 30 | E5: x 30 | H5: x 30 | K5: x 30
A7: 1301/1 | D7: 1301/9P | G7: 1301/13 | J7: 1301/16P
A8: ROMANCE | B8: Colis | D8: ROMANCE | E8: Colis | G8: ROMANCE | H8: Colis | J8: ROMANCE | K8: Colis
B9: 2/2 | E9: 2/2 | H9: 2/2 | K9: 2/2
A10: Lit à baldaquin 140 x 190 cm Naturel | B10: Qté / pal | D10: Lit à baldaquin 140 x 190 cm Blanc | E10: Qté / pal | G10: Lit à baldaquin 140 x 190 cm Finition blanchie | H10: Qté / pal | J10: Lit à baldaquin 140 x 190 cm Noir | K10: Qté / pal
B11: x 30 | E11: x 30 | H11: x 30 | K11: x 30
A13: 1302/1Z | D13: 1302/9ZP | J13: 1302/16ZP
A14: ROMANCE | B14: Colis | D14: ROMANCE | E14: Colis | J14: ROMANCE | K14: Colis
B15: 1/2 | E15: 1/2 | K15: 1/2
A16: Lit à baldaquin 160 x 200 cm Naturel | B16: Qté / pal | D16: Lit à baldaquin 160 x 200 cm Blanc | E16: Qté / pal | J16: Lit à baldaquin 160 x 200 cm Noir | K16: Qté / pal
B17: x 30 | E17: x 30 | K17: x 30
A19: 1302/1Z | D19: 1302/9ZP | J19: 1302/16ZP
A20: ROMANCE | B20: Colis | D20: ROMANCE | E20: Colis | J20: ROMANCE | K20: Colis
B21: 2/2 | E21: 2/2 | K21: 2/2
A22: Lit à baldaquin 160 x 200 cm Naturel | B22: Qté / pal | D22: Lit à baldaquin 160 x 200 cm Blanc | E22: Qté / pal | J22: Lit à baldaquin 160 x 200 cm Noir | K22: Qté / pal
B23: x 30 | E23: x 30 | K23: x 30

Sheet SAMBA
A1: 3841/25 | D1: 3844/25 | J1: 3848/25 | M1: 3849/25
A2: SAMBA | B2: Colis | D2: SAMBA | E2: Colis | J2: SAMBA | K2: Colis | M2: SAMBA | N2: Colis
B3: 1/1 | E3: 1/2 | K3: 1/1 | N3: 1/1
A4: Banc 190 cm Teinté Chêne | B4: Qté / pal | D4: 4 portes Teinté Chêne | E4: Qté / pal | J4: Meuble TV / vidéo Teinté Chêne | K4: Qté / pal | M4: Table basse 120 x 45 cm Teinté Chêne | N4: Qté / pal
B5: x 30 | K5: x 4 | N5: x 10
D7: 3844/25
D8: SAMBA | E8: Colis
E9: 2/2
D10: 4 portes Teinté Chêne | E10: Qté / pal

Sheet SAVIGNY
A1: 5224
A2: SAVIGNY | B2: Colis
B3: 1/1
A4: Table basse | B4: Qté / pal
B5: x 3

Sheet SIBERIA
A1: 8104/9
A2: SIBERIA | B2: Colis
B3: 1/1
A4: Meuble de toilettes 1 porte - 2 niches Blanc | B4: Qté / pal
B5: x 60

Sheet SOHO
A1: 3789/9
A2: SOHO | B2: Colis
B3: 1/3
A4: Banquette 3 tiroirs 90 x 190 cm Blanc | B4: Qté / pal
B5: x 10
A7: 3789/9
A8: SOHO | B8: Colis
B9: 2/3
A10: Banquette 3 tiroirs 90 x 190 cm Blanc | B10: Qté / pal
A13: 3789/9
A14: SOHO | B14: Colis
B15: 3/3
A16: Banquette 3 tiroirs 90 x 190 cm Blanc | B16: Qté / pal
B17: x 15

Sheet SMILE
A1: 3805/9Z | D1: 3805/960Z | G1: 3805/963Z
A2: SMILE | B2: Colis | D2: SMILE | E2: Colis | G2: SMILE | H2: Colis
B3: 1/2 | E3: 1/2 | H3: 1/2
A4: Lit 90 x 200 cm Blanc | B4: Qté / pal | D4: Lit 90 x 200 cm Blanc - chêne blanchi | E4: Qté / pal | G4: Lit 90 x 200 cm Blanc - gris | H4: Qté / pal
B5: x 20 | E5: x 20 | H5: x 20
A7: 3805/9Z | D7: 3805/960Z | G7: 3805/963Z
A8: SMILE | B8: Colis | D8: SMILE | E8: Colis | G8: SMILE | H8: Colis
B9: 2/2 | E9: 2/2 | H9: 2/2
A10: Lit 90 x 200 cm Blanc | B10: Qté / pal | D10: Lit 90 x 200 cm Blanc - chêne blanchi | E10: Qté / pal | G10: Lit 90 x 200 cm Blanc - gris | H10: Qté / pal
B11: x 37 | H11: x 27

Sheet SPIRO
A1: 0380/9 | D1: 0381/9 | J1: 0382/9Z
A2: SPIRO | B2: Colis | D2: SPIRO | E2: Colis | J2: SPIRO | K2: Colis
B3: 1/3 | E3: 1/3 | K3: 1/3
A4: Lit coffre 90 x 190 cm Blanc | B4: Qté / pal | D4: Lit coffre 140 x 190 cm Blanc | E4: Qté / pal | J4: Lit coffre 160 x 200 cm Blanc | K4: Qté / pal
A7: 0380/9 | D7: 0381/9 | J7: 0382/9Z
A8: SPIRO | B8: Colis | D8: SPIRO | E8: Colis | J8: SPIRO | K8: Colis
B9: 2/3 | E9: 2/3 | K9: 2/3
A10: Lit coffre 90 x 190 cm Blanc | B10: Qté / pal | D10: Lit coffre 140 x 190 cm Blanc | E10: Qté / pal | J10: Lit coffre 160 x 200 cm Blanc | K10: Qté / pal
A13: 0380/9 | D13: 0381/9 | J13: 0382/9Z
A14: SPIRO | B14: Colis | D14: SPIRO | E14: Colis | J14: SPIRO | K14: Colis
B15: 3/3 | E15: 3/3 | K15: 3/3
A16: Lit coffre 90 x 190 cm Blanc | B16: Qté / pal | D16: Lit coffre 140 x 190 cm Blanc | E16: Qté / pal | J16: Lit coffre 160 x 200 cm Blanc | K16: Qté / pal
E17: x 18
A19: 0380/16 | D19: 0381/16 | G19: 0381/16Z | J19: 0382/16Z
A20: SPIRO | B20: Colis | D20: SPIRO | E20: Colis | G20: SPIRO | H20: Colis | J20: SPIRO | K20: Colis
B21: 1/3 | E21: 1/3 | H21: 1/3 | K21: 1/3
A22: Lit coffre 90 x 190 cm Noir | B22: Qté / pal | D22: Lit coffre 140 x 190 cm Noir | E22: Qté / pal | G22: Lit coffre 140 x 200 cm Noir | H22: Qté / pal | J22: Lit coffre 160 x 200 cm Noir | K22: Qté / pal
A25: 0380/16 | D25: 0381/16 | G25: 0381/16Z | J25: 0382/16Z
A26: SPIRO | B26: Colis | D26: SPIRO | E26: Colis | G26: SPIRO | H26: Colis | J26: SPIRO | K26: Colis
B27: 2/3 | E27: 2/3 | H27: 2/3 | K27: 2/3
A28: Lit coffre 90 x 190 cm Noir | B28: Qté / pal | D28: Lit coffre 140 x 190 cm Noir | E28: Qté / pal | G28: Lit coffre 140 x 200 cm Noir | H28: Qté / pal | J28: Lit coffre 160 x 200 cm Noir | K28: Qté / pal
A31: 0380/16 | D31: 0381/16 | G31: 0381/16Z | J31: 0382/16Z
A32: SPIRO | B32: Colis | D32: SPIRO | E32: Colis | G32: SPIRO | H32: Colis | J32: SPIRO | K32: Colis
B33: 3/3 | E33: 3/3 | H33: 3/3 | K33: 3/3
A34: Lit coffre 90 x 190 cm Noir | B34: Qté / pal | D34: Lit coffre 140 x 190 cm Noir | E34: Qté / pal | G34: Lit coffre 140 x 200 cm Noir | H34: Qté / pal | J34: Lit coffre 160 x 200 cm Noir | K34: Qté / pal
K35: x 20
A37: 0380/60 | D37: 0381/60 | J37: 0382/60Z
A38: SPIRO | B38: Colis | D38: SPIRO | E38: Colis | J38: SPIRO | K38: Colis
B39: 1/3 | E39: 1/3 | K39: 1/3
A40: Lit coffre 90 x 190 cm Chêne blanchi | B40: Qté / pal | D40: Lit coffre 140 x 190 cm Chêne blanchi | E40: Qté / pal | J40: Lit coffre 160 x 200 cm Chêne blanchi | K40: Qté / pal
A43: 0380/60 | D43: 0381/60 | J43: 0382/60Z
A44: SPIRO | B44: Colis | D44: SPIRO | E44: Colis | J44: SPIRO | K44: Colis
B45: 2/3 | E45: 2/3 | K45: 2/3
A46: Lit coffre 90 x 190 cm Chêne blanchi | B46: Qté / pal | D46: Lit coffre 140 x 190 cm Chêne blanchi | E46: Qté / pal | J46: Lit coffre 160 x 200 cm Chêne blanchi | K46: Qté / pal
A49: 0380/60 | D49: 0381/60 | J49: 0382/60Z
A50: SPIRO | B50: Colis | D50: SPIRO | E50: Colis | J50: SPIRO | K50: Colis
B51: 3/3 | E51: 3/3 | K51: 3/3
A52: Lit coffre 90 x 190 cm Chêne blanchi | B52: Qté / pal | D52: Lit coffre 140 x 190 cm Chêne blanchi | E52: Qté / pal | J52: Lit coffre 160 x 200 cm Chêne blanchi | K52: Qté / pal

Sheet STUDIO
A1: 3220/1 | D1: 3221/1 | G1: 3223/2 | J1: 3224/2
A2: STUDIO | B2: Colis | D2: STUDIO | E2: Colis | G2: STUDIO | H2: Colis | J2: STUDIO | K2: Colis
B3: 1/2 | E3: 1/2 | H3: 1/1 | K3: 1/1
A4: Lit 90 x 190 cm Naturel | B4: Qté / pal | D4: Lit 140 x 190 cm Naturel | E4: Qté / pal | G4: Caisson 3 tiroirs Vernis naturel | H4: Qté / pal | J4: Plateau avec surmeuble Vernis naturel | K4: Qté / pal
