Workbook

Sheet ScoreBoard
D2: Score Board
D5: Address1
D8: Address2
D9: Report Generated For Time Zone:(UTC+01:00) Brussels, Copenhagen, Madrid, Paris
D16: Overall Rank | E16: Account Number | F16: First Name | G16: Last Name | I16: Slot Number | K16: Score | L16: Date Time | M16: Signature
D17: =IFERROR(SMALL(Data!L$2:L$11,ROW()-16),"") -> 1 | E17: =IF(D17="","",INDIRECT("Data!A"&MATCH(D17,Data!L$1:L$11,0),1)) -> 100000005 | F17: =IF(D17="","",INDIRECT("Data!B"&MATCH(D17,Data!L$1:L$11,0),1)) -> eeeeeeeee | G17: =IF(D17="","",INDIRECT("Data!C"&MATCH(D17,Data!L$1:L$11,0),1)) -> unknow | I17: =IF(D17="","",INDIRECT("Data!E"&MATCH(D17,Data!L$1:L$11,0),1)) -> 1011 | K17: =IF(D17="","",INDIRECT("Data!G"&MATCH(D17,Data!L$1:L$11,0),1)) -> 20098060 | L17: =IF(D17="","",INDIRECT("Data!H"&MATCH(D17,Data!L$1:L$11,0),1)) -> 43698.514
D18: =IFERROR(SMALL(Data!L$2:L$11,ROW()-16),"") -> 2 | E18: =IF(D18="","",INDIRECT("Data!A"&MATCH(D18,Data!L$1:L$11,0),1)) -> 333333333 | F18: =IF(D18="","",INDIRECT("Data!B"&MATCH(D18,Data!L$1:L$11,0),1)) -> Teest | G18: =IF(D18="","",INDIRECT("Data!C"&MATCH(D18,Data!L$1:L$11,0),1)) -> Teet | I18: =IF(D18="","",INDIRECT("Data!E"&MATCH(D18,Data!L$1:L$11,0),1)) -> 1011 | K18: =IF(D18="","",INDIRECT("Data!G"&MATCH(D18,Data!L$1:L$11,0),1)) -> 10098060 | L18: =IF(D18="","",INDIRECT("Data!H"&MATCH(D18,Data!L$1:L$11,0),1)) -> 43698.514
D19: =IFERROR(SMALL(Data!L$2:L$11,ROW()-16),"") -> 3 | E19: =IF(D19="","",INDIRECT("Data!A"&MATCH(D19,Data!L$1:L$11,0),1)) -> 100000001 | F19: =IF(D19="","",INDIRECT("Data!B"&MATCH(D19,Data!L$1:L$11,0),1)) -> aaaaaaaaa | G19: =IF(D19="","",INDIRECT("Data!C"&MATCH(D19,Data!L$1:L$11,0),1)) -> Unknow | I19: =IF(D19="","",INDIRECT("Data!E"&MATCH(D19,Data!L$1:L$11,0),1)) -> 1010 | K19: =IF(D19="","",INDIRECT("Data!G"&MATCH(D19,Data!L$1:L$11,0),1)) -> 1040000 | L19: =IF(D19="","",INDIRECT("Data!H"&MATCH(D19,Data!L$1:L$11,0),1)) -> 43698.517
D20: =IFERROR(SMALL(Data!L$2:L$11,ROW()-16),"") -> 4 | E20: =IF(D20="","",INDIRECT("Data!A"&MATCH(D20,Data!L$1:L$11,0),1)) -> 400425946 | F20: =IF(D20="","",INDIRECT("Data!B"&MATCH(D20,Data!L$1:L$11,0),1)) -> Anna | G20: =IF(D20="","",INDIRECT("Data!C"&MATCH(D20,Data!L$1:L$11,0),1)) -> Amat | I20: =IF(D20="","",INDIRECT("Data!E"&MATCH(D20,Data!L$1:L$11,0),1)) -> 1011 | K20: =IF(D20="","",INDIRECT("Data!G"&MATCH(D20,Data!L$1:L$11,0),1)) -> 5060000 | L20: =IF(D20="","",INDIRECT("Data!H"&MATCH(D20,Data!L$1:L$11,0),1)) -> 43698.517
D21: =IFERROR(SMALL(Data!L$2:L$11,ROW()-16),"") -> 5 | E21: =IF(D21="","",INDIRECT("Data!A"&MATCH(D21,Data!L$1:L$11,0),1)) -> 100000002 | F21: =IF(D21="","",INDIRECT("Data!B"&MATCH(D21,Data!L$1:L$11,0),1)) -> Bbbbbbbbb | G21: =IF(D21="","",INDIRECT("Data!C"&MATCH(D21,Data!L$1:L$11,0),1)) -> Unknow | I21: =IF(D21="","",INDIRECT("Data!E"&MATCH(D21,Data!L$1:L$11,0),1)) -> 1011 | K21: =IF(D21="","",INDIRECT("Data!G"&MATCH(D21,Data!L$1:L$11,0),1)) -> 5060000 | L21: =IF(D21="","",INDIRECT("Data!H"&MATCH(D21,Data!L$1:L$11,0),1)) -> 43698.517
D22: =IFERROR(SMALL(Data!L$2:L$11,ROW()-16),"") -> 6 | E22: =IF(D22="","",INDIRECT("Data!A"&MATCH(D22,Data!L$1:L$11,0),1)) -> 100000004 | F22: =IF(D22="","",INDIRECT("Data!B"&MATCH(D22,Data!L$1:L$11,0),1)) -> ddddddddd | G22: =IF(D22="","",INDIRECT("Data!C"&MATCH(D22,Data!L$1:L$11,0),1)) -> Unknow | I22: =IF(D22="","",INDIRECT("Data!E"&MATCH(D22,Data!L$1:L$11,0),1)) -> 1010 | K22: =IF(D22="","",INDIRECT("Data!G"&MATCH(D22,Data!L$1:L$11,0),1)) -> 3040000 | L22: =IF(D22="","",INDIRECT("Data!H"&MATCH(D22,Data!L$1:L$11,0),1)) -> 43698.517
D23: =IFERROR(SMALL(Data!L$2:L$11,ROW()-16),"") -> 7 | E23: =IF(D23="","",INDIRECT("Data!A"&MATCH(D23,Data!L$1:L$11,0),1)) -> 100000003 | F23: =IF(D23="","",INDIRECT("Data!B"&MATCH(D23,Data!L$1:L$11,0),1)) -> ccccccccc | G23: =IF(D23="","",INDIRECT("Data!C"&MATCH(D23,Data!L$1:L$11,0),1)) -> Unknow | I23: =IF(D23="","",INDIRECT("Data!E"&MATCH(D23,Data!L$1:L$11,0),1)) -> 1011 | K23: =IF(D23="","",INDIRECT("Data!G"&MATCH(D23,Data!L$1:L$11,0),1)) -> 1040001 | L23: =IF(D23="","",INDIRECT("Data!H"&MATCH(D23,Data!L$1:L$11,0),1)) -> 43699.517
D24: =IFERROR(SMALL(Data!L$2:L$11,ROW()-16),"") | E24: =IF(D24="","",INDIRECT("Data!A"&MATCH(D24,Data!L$1:L$11,0),1)) | F24: =IF(D24="","",INDIRECT("Data!B"&MATCH(D24,Data!L$1:L$11,0),1)) | G24: =IF(D24="","",INDIRECT("Data!C"&MATCH(D24,Data!L$1:L$11,0),1)) | I24: =IF(D24="","",INDIRECT("Data!E"&MATCH(D24,Data!L$1:L$11,0),1)) | K24: =IF(D24="","",INDIRECT("Data!G"&MATCH(D24,Data!L$1:L$11,0),1)) | L24: =IF(D24="","",INDIRECT("Data!H"&MATCH(D24,Data!L$1:L$11,0),1))
D25: =IFERROR(SMALL(Data!L$2:L$11,ROW()-16),"") | E25: =IF(D25="","",INDIRECT("Data!A"&MATCH(D25,Data!L$1:L$11,0),1)) | F25: =IF(D25="","",INDIRECT("Data!B"&MATCH(D25,Data!L$1:L$11,0),1)) | G25: =IF(D25="","",INDIRECT("Data!C"&MATCH(D25,Data!L$1:L$11,0),1)) | I25: =IF(D25="","",INDIRECT("Data!E"&MATCH(D25,Data!L$1:L$11,0),1)) | K25: =IF(D25="","",INDIRECT("Data!G"&MATCH(D25,Data!L$1:L$11,0),1)) | L25: =IF(D25="","",INDIRECT("Data!H"&MATCH(D25,Data!L$1:L$11,0),1))
D26: =IFERROR(SMALL(Data!L$2:L$11,ROW()-16),"") | E26: =IF(D26="","",INDIRECT("Data!A"&MATCH(D26,Data!L$1:L$11,0),1))

Sheet Data
A1: Account Number | B1: First Name | C1: Last Name | E1: Slot Number | G1: Score | H1: Date Time
A2: 333333333 | B2: Teest | C2: Teet | E2: 1011 | G2: 10098060 | H2: 43698.514 | I2: =IF(ISERROR(MATCH(B2,B$1:B1,0)),B2,"") -> Teest | J2: =IF(IF(ISERROR(MATCH(B2,B$1:B1,0)),B2,"")="","",MATCH(_xlfn.MAXIFS(G$2:G$11,B$2:B$11,IF(ISERROR(MATCH(B2,B$1:B1,0)),B2,"")),G$2:G$11,0)) -> 1 | K2: =IF(J2="","",INDIRECT("G"&J2+1,1)) -> 10098060 | L2: =IF(J2="","",RANK(K2,K$2:K$11,0)) -> 2
A3: 100000005 | B3: eeeeeeeee | C3: unknow | E3: 1011 | G3: 20098060 | H3: 43698.514 | I3: =IF(ISERROR(MATCH(B3,B$1:B2,0)),B3,"") -> eeeeeeeee | J3: =IF(IF(ISERROR(MATCH(B3,B$1:B2,0)),B3,"")="","",MATCH(_xlfn.MAXIFS(G$2:G$11,B$2:B$11,IF(ISERROR(MATCH(B3,B$1:B2,0)),B3,"")),G$2:G$11,0)) -> 2 | K3: =IF(J3="","",INDIRECT("G"&J3+1,1)) -> 20098060 | L3: =IF(J3="","",RANK(K3,K$2:K$11,0)) -> 1
A4: 100000001 | B4: aaaaaaaaa | C4: Unknow | E4: 1010 | G4: 1040000 | H4: 43698.517 | I4: =IF(ISERROR(MATCH(B4,B$1:B3,0)),B4,"") -> aaaaaaaaa | J4: =IF(IF(ISERROR(MATCH(B4,B$1:B3,0)),B4,"")="","",MATCH(_xlfn.MAXIFS(G$2:G$11,B$2:B$11,IF(ISERROR(MATCH(B4,B$1:B3,0)),B4,"")),G$2:G$11,0)) -> 8 | K4: =IF(J4="","",INDIRECT("G"&J4+1,1)) -> 6032060 | L4: =IF(J4="","",RANK(K4,K$2:K$11,0)) -> 3
A5: 100000004 | B5: ddddddddd | C5: Unknow | E5: 1010 | G5: 3040000 | H5: 43698.517 | I5: =IF(ISERROR(MATCH(B5,B$1:B4,0)),B5,"") -> ddddddddd | J5: =IF(IF(ISERROR(MATCH(B5,B$1:B4,0)),B5,"")="","",MATCH(_xlfn.MAXIFS(G$2:G$11,B$2:B$11,IF(ISERROR(MATCH(B5,B$1:B4,0)),B5,"")),G$2:G$11,0)) -> 4 | K5: =IF(J5="","",INDIRECT("G"&J5+1,1)) -> 3040000 | L5: =IF(J5="","",RANK(K5,K$2:K$11,0)) -> 6
A6: 400425946 | B6: Anna | C6: Amat | E6: 1011 | G6: 5060000 | H6: 43698.517 | I6: =IF(ISERROR(MATCH(B6,B$1:B5,0)),B6,"") -> Anna | J6: =IF(IF(ISERROR(MATCH(B6,B$1:B5,0)),B6,"")="","",MATCH(_xlfn.MAXIFS(G$2:G$11,B$2:B$11,IF(ISERROR(MATCH(B6,B$1:B5,0)),B6,"")),G$2:G$11,0)) -> 7 | K6: =IF(J6="","",INDIRECT("G"&J6+1,1)) -> 5432060 | L6: =IF(J6="","",RANK(K6,K$2:K$11,0)) -> 4
A7: 100000002 | B7: Bbbbbbbbb | C7: Unknow | E7: 1011 | G7: 5060000 | H7: 43698.517 | I7: =IF(ISERROR(MATCH(B7,B$1:B6,0)),B7,"") -> Bbbbbbbbb | J7: =IF(IF(ISERROR(MATCH(B7,B$1:B6,0)),B7,"")="","",MATCH(_xlfn.MAXIFS(G$2:G$11,B$2:B$11,IF(ISERROR(MATCH(B7,B$1:B6,0)),B7,"")),G$2:G$11,0)) -> 5 | K7: =IF(J7="","",INDIRECT("G"&J7+1,1)) -> 5060000 | L7: =IF(J7="","",RANK(K7,K$2:K$11,0)) -> 5
A8: 400425946 | B8: Anna | C8: Amat | E8: 1010 | G8: 5432060 | H8: 43698.584 | I8: =IF(ISERROR(MATCH(B8,B$1:B7,0)),B8,"") | J8: =IF(IF(ISERROR(MATCH(B8,B$1:B7,0)),B8,"")="","",MATCH(_xlfn.MAXIFS(G$2:G$11,B$2:B$11,IF(ISERROR(MATCH(B8,B$1:B7,0)),B8,"")),G$2:G$11,0)) | K8: =IF(J8="","",INDIRECT("G"&J8+1,1)) | L8: =IF(J8="","",RANK(K8,K$2:K$11,0))
A9: 100000001 | B9: aaaaaaaaa | C9: Unknow | E9: 1010 | G9: 6032060 | H9: 43698.584 | I9: =IF(ISERROR(MATCH(B9,B$1:B8,0)),B9,"") | J9: =IF(IF(ISERROR(MATCH(B9,B$1:B8,0)),B9,"")="","",MATCH(_xlfn.MAXIFS(G$2:G$11,B$2:B$11,IF(ISERROR(MATCH(B9,B$1:B8,0)),B9,"")),G$2:G$11,0)) | K9: =IF(J9="","",INDIRECT("G"&J9+1,1)) | L9: =IF(J9="","",RANK(K9,K$2:K$11,0))
A10: 100000003 | B10: ccccccccc | C10: Unknow | E10: 1011 | G10: 1040001 | H10: 43699.517 | I10: =IF(ISERROR(MATCH(B10,B$1:B9,0)),B10,"") -> ccccccccc | J10: =IF(IF(ISERROR(MATCH(B10,B$1:B9,0)),B10,"")="","",MATCH(_xlfn.MAXIFS(G$2:G$11,B$2:B$11,IF(ISERROR(MATCH(B10,B$1:B9,0)),B10,"")),G$2:G$11,0)) -> 9 | K10: =IF(J10="","",INDIRECT("G"&J10+1,1)) -> 1040001 | L10: =IF(J10="","",RANK(K10,K$2:K$11,0)) -> 7
A11: 333333333 | B11: Teest | C11: Teet | E11: 1012 | G11: 1030002 | H11: 43700.517 | I11: =IF(ISERROR(MATCH(B11,B$1:B10,0)),B11,"") | J11: =IF(IF(ISERROR(MATCH(B11,B$1:B10,0)),B11,"")="","",MATCH(_xlfn.MAXIFS(G$2:G$11,B$2:B$11,IF(ISERROR(MATCH(B11,B$1:B10,0)),B11,"")),G$2:G$11,0)) | K11: =IF(J11="","",INDIRECT("G"&J11+1,1)) | L11: =IF(J11="","",RANK(K11,K$2:K$11,0))
