Workbook

Sheet Charge
A1: =TODAY() -> 43839
F2: Prépa dossier | I2: Déverminage | K2: conf Mo OP | M2: Appro | O2: MEP ligne | Q2: AST
F3: Dur | G3: 10 | I3: Dur | J3: 15 | K3: Dur | L3: 15 | M3: Dur | N3: 30 | O3: Dur | P3: 10 | Q3: Dur | R3: 20 | T3: =SUM(R3,P3,N3,L3,J3,G3) -> 100
F4: Facile | G4: 5 | I4: Facile | J4: 5 | K4: Facile | L4: 10 | M4: Facile | N4: 30 | O4: Facile | P4: 5 | Q4: Facile | R4: 15 | T4: =SUM(R4,P4,N4,L4,J4,G4) -> 70
F5: Moyen | G5: 7 | I5: Moyen | J5: 10 | K5: Moyen | L5: 12 | M5: Moyen | N5: 30 | O5: Moyen | P5: 7 | Q5: Moyen | R5: 17 | T5: =SUM(R5,P5,N5,L5,J5,G5) -> 83
F6: 0 | G6: 0
A18: Produit | B18: Technicité estimé | C18: Date début prod | D18: Action dossier | E18: Date limite Théo. Fin | F18: Date Théo. Début | G18: Durée Estimée (jours ouvrés) | H18: Durée Semaine | I18: Date de fin | J18: Ecat de jour | K18: Date Réel Dossiers | L18: Durée Réelle (jours ouvré) | M18: Date réel de fin | N18: Avancement | O18: Colonne1
A19: Produit 1 | B19: Moyen | C19: 44105 | D19: 1 Total | E19: =EDATE(Tableau1[[#This Row],[Date début prod]],0) -> 44105 | F19: =E20 -> 44013 | G19: =SUM(G20:G25) -> 83 | H19: =Tableau1[[#This Row],[Durée Estimée (jours ouvrés)]]/20 -> 4.15 | I19: =MAX(I20:I25) -> 44025 | J19: =Tableau1[[#This Row],[Date de fin]]-Tableau1[[#This Row],[Date Théo. Début]] -> 12 | M19: =MAX(M140:M140) -> 0
A20: Produit 1 | B20: Moyen | C20: 44105 | D20: 2 Prépa dossier | E20: =EDATE(Tableau1[[#This Row],[Date début prod]],-3) -> 44013 | F20: =EDATE(E20,-1) -> 43983 | G20: =LOOKUP(Tableau1[[#This Row],[Technicité estimé]],PREPADO) -> 7 | H20: =Tableau1[[#This Row],[Durée Estimée (jours ouvrés)]]/20 -> 0.35 | I20: =WORKDAY(F20,G20) -> 43992 | J20: =Tableau1[[#This Row],[Date de fin]]-Tableau1[[#This Row],[Date Théo. Début]] -> 9 | M20: =WORKDAY(K20,L20) -> 0
A21: Produit 1 | B21: Moyen | C21: 44105 | D21: 3 Déverminage | E21: =EDATE(Tableau1[[#This Row],[Date début prod]],-3) -> 44013 | F21: =EDATE(E21,-1) -> 43983 | G21: =LOOKUP(Tableau1[[#This Row],[Technicité estimé]],DEVERMINAGE) -> 10 | H21: =Tableau1[[#This Row],[Durée Estimée (jours ouvrés)]]/20 -> 0.5 | I21: =WORKDAY(F21,G21) -> 43997 | J21: =Tableau1[[#This Row],[Date de fin]]-Tableau1[[#This Row],[Date Théo. Début]] -> 14 | M21: =WORKDAY(K21,L21) -> 0
A22: Produit 1 | B22: Moyen | C22: 44105 | D22: 4 Conf Mo OP | E22: =EDATE(Tableau1[[#This Row],[Date début prod]],-3) -> 44013 | F22: =EDATE(E22,-1) -> 43983 | G22: =LOOKUP(Tableau1[[#This Row],[Technicité estimé]],ConfMoOP) -> 12 | H22: =Tableau1[[#This Row],[Durée Estimée (jours ouvrés)]]/20 -> 0.6 | I22: =WORKDAY(F22,G22) -> 43999 | J22: =Tableau1[[#This Row],[Date de fin]]-Tableau1[[#This Row],[Date Théo. Début]] -> 16 | M22: =WORKDAY(K22,L22) -> 0
A23: Produit 1 | B23: Moyen | C23: 44105 | D23: 5 Appro | E23: =EDATE(Tableau1[[#This Row],[Date début prod]],-3) -> 44013 | F23: =EDATE(E23,-1) -> 43983 | G23: =LOOKUP(Tableau1[[#This Row],[Technicité estimé]],Appro) -> 30 | H23: =Tableau1[[#This Row],[Durée Estimée (jours ouvrés)]]/20 -> 1.5 | I23: =WORKDAY(F23,G23) -> 44025 | J23: =Tableau1[[#This Row],[Date de fin]]-Tableau1[[#This Row],[Date Théo. Début]] -> 42 | M23: =WORKDAY(K23,L23) -> 0
A24: Produit 1 | B24: Moyen | C24: 44105 | D24: 6 MEP ligne | E24: =EDATE(Tableau1[[#This Row],[Date début prod]],-3) -> 44013 | F24: =EDATE(E24,-1) -> 43983 | G24: =LOOKUP(Tableau1[[#This Row],[Technicité estimé]],MEPLIGNE) -> 7 | H24: =Tableau1[[#This Row],[Durée Estimée (jours ouvrés)]]/20 -> 0.35 | I24: =WORKDAY(F24,G24) -> 43992 | J24: =Tableau1[[#This Row],[Date de fin]]-Tableau1[[#This Row],[Date Théo. Début]] -> 9 | M24: =WORKDAY(K24,L24) -> 0
A25: Produit 1 | B25: Moyen | C25: 44105 | D25: 7 AST | E25: =EDATE(Tableau1[[#This Row],[Date début prod]],-3) -> 44013 | F25: =EDATE(E25,-1) -> 43983 | G25: =LOOKUP(Tableau1[[#This Row],[Technicité estimé]],AST) -> 17 | H25: =Tableau1[[#This Row],[Durée Estimée (jours ouvrés)]]/20 -> 0.85 | I25: =WORKDAY(F25,G25) -> 44006 | J25: =Tableau1[[#This Row],[Date de fin]]-Tableau1[[#This Row],[Date Théo. Début]] -> 23 | M25: =WORKDAY(K25,L25) -> 0
A26: Produit 2 | B26: Facile | C26: 44172 | D26: 1 Total | E26: =EDATE(Tableau1[[#This Row],[Date début prod]],0) -> 44172 | F26: =E27 -> 44081 | G26: =SUM(G27:G32) -> 70 | H26: =Tableau1[[#This Row],[Durée Estimée (jours ouvrés)]]/20 -> 3.5 | I26: =MAX(I27:I32) -> 44092 | J26: =Tableau1[[#This Row],[Date de fin]]-Tableau1[[#This Row],[Date Théo. Début]] -> 11 | M26: =MAX(M89:M94) -> 0
A27: Produit 2 | B27: Facile | C27: 44172 | D27: 2 Prépa dossier | E27: =EDATE(Tableau1[[#This Row],[Date début prod]],-3) -> 44081 | F27: =EDATE(E27,-1) -> 44050 | G27: =LOOKUP(Tableau1[[#This Row],[Technicité estimé]],PREPADO) -> 5 | H27: =Tableau1[[#This Row],[Durée Estimée (jours ouvrés)]]/20 -> 0.25 | I27: =WORKDAY(F27,G27) -> 44057 | J27: =Tableau1[[#This Row],[Date de fin]]-Tableau1[[#This Row],[Date Théo. Début]] -> 7 | M27: =WORKDAY(K27,L27) -> 0 | N27: 1
A28: Produit 2 | B28: Facile | C28: 44172 | D28: 3 Déverminage | E28: =EDATE(Tableau1[[#This Row],[Date début prod]],-3) -> 44081 | F28: =EDATE(E28,-1) -> 44050 | G28: =LOOKUP(Tableau1[[#This Row],[Technicité estimé]],DEVERMINAGE) -> 5 | H28: =Tableau1[[#This Row],[Durée Estimée (jours ouvrés)]]/20 -> 0.25 | I28: =WORKDAY(F28,G28) -> 44057 | J28: =Tableau1[[#This Row],[Date de fin]]-Tableau1[[#This Row],[Date Théo. Début]] -> 7 | M28: =WORKDAY(K28,L28) -> 0 | N28: 1
A29: Produit 2 | B29: Facile | C29: 44172 | D29: 4 Conf Mo OP | E29: =EDATE(Tableau1[[#This Row],[Date début prod]],-3) -> 44081 | F29: =EDATE(E29,-1) -> 44050 | G29: =LOOKUP(Tableau1[[#This Row],[Technicité estimé]],ConfMoOP) -> 10 | H29: =Tableau1[[#This Row],[Durée Estimée (jours ouvrés)]]/20 -> 0.5 | I29: =WORKDAY(F29,G29) -> 44064 | J29: =Tableau1[[#This Row],[Date de fin]]-Tableau1[[#This Row],[Date Théo. Début]] -> 14 | M29: =WORKDAY(K29,L29) -> 0 | N29: 1
A30: Produit 2 | B30: Facile | C30: 44172 | D30: 5 Appro | E30: =EDATE(Tableau1[[#This Row],[Date début prod]],-3) -> 44081 | F30: =EDATE(E30,-1) -> 44050 | G30: =LOOKUP(Tableau1[[#This Row],[Technicité estimé]],Appro) -> 30 | H30: =Tableau1[[#This Row],[Durée Estimée (jours ouvrés)]]/20 -> 1.5 | I30: =WORKDAY(F30,G30) -> 44092 | J30: =Tableau1[[#This Row],[Date de fin]]-Tableau1[[#This Row],[Date Théo. Début]] -> 42 | M30: =WORKDAY(K30,L30) -> 0
A31: Produit 2 | B31: Facile | C31: 44172 | D31: 6 MEP ligne | E31: =EDATE(Tableau1[[#This Row],[Date début prod]],-3) -> 44081 | F31: =EDATE(E31,-1) -> 44050 | G31: =LOOKUP(Tableau1[[#This Row],[Technicité estimé]],MEPLIGNE) -> 5 | H31: =Tableau1[[#This Row],[Durée Estimée (jours ouvrés)]]/20 -> 0.25 | I31: =WORKDAY(F31,G31) -> 44057 | J31: =Tableau1[[#This Row],[Date de fin]]-Tableau1[[#This Row],[Date Théo. Début]] -> 7 | M31: =WORKDAY(K31,L31) -> 0
A32: Produit 2 | B32: Facile | C32: 44172 | D32: 7 AST | E32: =EDATE(Tableau1[[#This Row],[Date début prod]],-3) -> 44081 | F32: =EDATE(E32,-1) -> 44050 | G32: =LOOKUP(Tableau1[[#This Row],[Technicité estimé]],AST) -> 15 | H32: =Tableau1[[#This Row],[Durée Estimée (jours ouvrés)]]/20 -> 0.75 | I32: =WORKDAY(F32,G32) -> 44071 | J32: =Tableau1[[#This Row],[Date de fin]]-Tableau1[[#This Row],[Date Théo. Début]] -> 21 | M32: =WORKDAY(K32,L32) -> 0
A33: Produit 3 | B33: Facile | C33: 44074 | D33: 1 Total | E33: =EDATE(Tableau1[[#This Row],[Date début prod]],0) -> 44074 | F33: =E34 -> 43982 | G33: =SUM(G34:G39) -> 70 | H33: =Tableau1[[#This Row],[Durée Estimée (jours ouvrés)]]/20 -> 3.5 | I33: =MAX(I34:I39) -> 43993 | J33: =Tableau1[[#This Row],[Date de fin]]-Tableau1[[#This Row],[Date Théo. Début]] -> 11 | M33: =MAX(M68:M73) -> 0
A34: Produit 3 | B34: Facile | C34: 44074 | D34: 2 Prépa dossier | E34: =EDATE(Tableau1[[#This Row],[Date début prod]],-3) -> 43982 | F34: =EDATE(E34,-1) -> 43951 | G34: =LOOKUP(Tableau1[[#This Row],[Technicité estimé]],PREPADO) -> 5 | H34: =Tableau1[[#This Row],[Durée Estimée (jours ouvrés)]]/20 -> 0.25 | I34: =WORKDAY(F34,G34) -> 43958 | J34: =Tableau1[[#This Row],[Date de fin]]-Tableau1[[#This Row],[Date Théo. Début]] -> 7 | M34: =WORKDAY(K34,L34) -> 0
A35: Produit 3 | B35: Facile | C35: 44074 | D35: 3 Déverminage | E35: =EDATE(Tableau1[[#This Row],[Date début prod]],-3) -> 43982 | F35: =EDATE(E35,-1) -> 43951 | G35: =LOOKUP(Tableau1[[#This Row],[Technicité estimé]],DEVERMINAGE) -> 5 | H35: =Tableau1[[#This Row],[Durée Estimée (jours ouvrés)]]/20 -> 0.25 | I35: =WORKDAY(F35,G35) -> 43958 | J35: =Tableau1[[#This Row],[Date de fin]]-Tableau1[[#This Row],[Date Théo. Début]] -> 7 | M35: =WORKDAY(K35,L35) -> 0
A36: Produit 3 | B36: Facile | C36: 44074 | D36: 4 Conf Mo OP | E36: =EDATE(Tableau1[[#This Row],[Date début prod]],-3) -> 43982 | F36: =EDATE(E36,-1) -> 43951 | G36: =LOOKUP(Tableau1[[#This Row],[Technicité estimé]],ConfMoOP) -> 10 | H36: =Tableau1[[#This Row],[Durée Estimée (jours ouvrés)]]/20 -> 0.5 | I36: =WORKDAY(F36,G36) -> 43965 | J36: =Tableau1[[#This Row],[Date de fin]]-Tableau1[[#This Row],[Date Théo. Début]] -> 14 | M36: =WORKDAY(K36,L36) -> 0
A37: Produit 3 | B37: Facile | C37: 44074 | D37: 5 Appro | E37: =EDATE(Tableau1[[#This Row],[Date début prod]],-3) -> 43982 | F37: =EDATE(E37,-1) -> 43951 | G37: =LOOKUP(Tableau1[[#This Row],[Technicité estimé]],Appro) -> 30 | H37: =Tableau1[[#This Row],[Durée Estimée (jours ouvrés)]]/20 -> 1.5 | I37: =WORKDAY(F37,G37) -> 43993 | J37: =Tableau1[[#This Row],[Date de fin]]-Tableau1[[#This Row],[Date Théo. Début]] -> 42 | M37: =WORKDAY(K37,L37) -> 0
A38: Produit 3 | B38: Facile | C38: 44074 | D38: 6 MEP ligne | E38: =EDATE(Tableau1[[#This Row],[Date début prod]],-3) -> 43982 | F38: =EDATE(E38,-1) -> 43951 | G38: =LOOKUP(Tableau1[[#This Row],[Technicité estimé]],MEPLIGNE) -> 5 | H38: =Tableau1[[#This Row],[Durée Estimée (jours ouvrés)]]/20 -> 0.25 | I38: =WORKDAY(F38,G38) -> 43958 | J38: =Tableau1[[#This Row],[Date de fin]]-Tableau1[[#This Row],[Date Théo. Début]] -> 7 | M38: =WORKDAY(K38,L38) -> 0
A39: Produit 3 | B39: Facile | C39: 44074 | D39: 7 AST | E39: =EDATE(Tableau1[[#This Row],[Date début prod]],-3) -> 43982 | F39: =EDATE(E39,-1) -> 43951 | G39: =LOOKUP(Tableau1[[#This Row],[Technicité estimé]],AST) -> 15 | H39: =Tableau1[[#This Row],[Durée Estimée (jours ouvrés)]]/20 -> 0.75 | I39: =WORKDAY(F39,G39) -> 43972 | J39: =Tableau1[[#This Row],[Date de fin]]-Tableau1[[#This Row],[Date Théo. Début]] -> 21 | M39: =WORKDAY(K39,L39) -> 0
A40: Produit 4 | B40: Facile | C40: 44124 | D40: 1 Total | E40: =EDATE(Tableau1[[#This Row],[Date début prod]],0) -> 44124 | F40: =E41 -> 44032 | G40: =SUM(G41:G46) -> 70 | H40: =Tableau1[[#This Row],[Durée Estimée (jours ouvrés)]]/20 -> 3.5 | I40: =MAX(I41:I46) -> 44043 | J40: =Tableau1[[#This Row],[Date de fin]]-Tableau1[[#This Row],[Date Théo. Début]] -> 11 | M40: =MAX(M81:M367) -> 0
A41: Produit 4 | B41: Facile | C41: 44124 | D41: 2 Prépa dossier | E41: =EDATE(Tableau1[[#This Row],[Date début prod]],-3) -> 44032 | F41: =EDATE(E41,-1) -> 44002 | G41: =LOOKUP(Tableau1[[#This Row],[Technicité estimé]],PREPADO) -> 5 | H41: =Tableau1[[#This Row],[Durée Estimée (jours ouvrés)]]/20 -> 0.25 | I41: =WORKDAY(F41,G41) -> 44008 | J41: =Tableau1[[#This Row],[Date de fin]]-Tableau1[[#This Row],[Date Théo. Début]] -> 6 | M41: =WORKDAY(K41,L41) -> 0
A42: Produit 4 | B42: Facile | C42: 44124 | D42: 3 Déverminage | E42: =EDATE(Tableau1[[#This Row],[Date début prod]],-3) -> 44032 | F42: =EDATE(E42,-1) -> 44002 | G42: =LOOKUP(Tableau1[[#This Row],[Technicité estimé]],DEVERMINAGE) -> 5 | H42: =Tableau1[[#This Row],[Durée Estimée (jours ouvrés)]]/20 -> 0.25 | I42: =WORKDAY(F42,G42) -> 44008 | J42: =Tableau1[[#This Row],[Date de fin]]-Tableau1[[#This Row],[Date Théo. Début]] -> 6 | M42: =WORKDAY(K42,L42) -> 0
A43: Produit 4 | B43: Facile | C43: 44124 | D43: 4 Conf Mo OP | E43: =EDATE(Tableau1[[#This Row],[Date début prod]],-3) -> 44032 | F43: =EDATE(E43,-1) -> 44002 | G43: =LOOKUP(Tableau1[[#This Row],[Technicité estimé]],ConfMoOP) -> 10 | H43: =Tableau1[[#This Row],[Durée Estimée (jours ouvrés)]]/20 -> 0.5 | I43: =WORKDAY(F43,G43) -> 44015 | J43: =Tableau1[[#This Row],[Date de fin]]-Tableau1[[#This Row],[Date Théo. Début]] -> 13 | M43: =WORKDAY(K43,L43) -> 0
A44: Produit 4 | B44: Facile | C44: 44124 | D44: 5 Appro | E44: =EDATE(Tableau1[[#This Row],[Date début prod]],-3) -> 44032 | F44: =EDATE(E44,-1) -> 44002 | G44: =LOOKUP(Tableau1[[#This Row],[Technicité estimé]],Appro) -> 30 | H44: =Tableau1[[#This Row],[Durée Estimée (jours ouvrés)]]/20 -> 1.5 | I44: =WORKDAY(F44,G44) -> 44043 | J44: =Tableau1[[#This Row],[Date de fin]]-Tableau1[[#This Row],[Date Théo. Début]] -> 41 | M44: =WORKDAY(K44,L44) -> 0
A45: Produit 4 | B45: Facile | C45: 44124 | D45: 6 MEP ligne | E45: =EDATE(Tableau1[[#This Row],[Date début prod]],-3) -> 44032 | F45: =EDATE(E45,-1) -> 44002 | G45: =LOOKUP(Tableau1[[#This Row],[Technicité estimé]],MEPLIGNE) -> 5 | H45: =Tableau1[[#This Row],[Durée Estimée (jours ouvrés)]]/20 -> 0.25 | I45: =WORKDAY(F45,G45) -> 44008 | J45: =Tableau1[[#This Row],[Date de fin]]-Tableau1[[#This Row],[Date Théo. Début]] -> 6 | M45: =WORKDAY(K45,L45) -> 0
A46: Produit 4 | B46: Facile | C46: 44124 | D46: 7 AST | E46: =EDATE(Tableau1[[#This Row],[Date début prod]],-3) -> 44032 | F46: =EDATE(E46,-1) -> 44002 | G46: =LOOKUP(Tableau1[[#This Row],[Technicité estimé]],AST) -> 15 | H46: =Tableau1[[#This Row],[Durée Estimée (jours ouvrés)]]/20 -> 0.75 | I46: =WORKDAY(F46,G46) -> 44022 | J46: =Tableau1[[#This Row],[Date de fin]]-Tableau1[[#This Row],[Date Théo. Début]] -> 20 | M46: =WORKDAY(K46,L46) -> 0
A47: Produit 5 | B47: Dur | C47: 44136 | D47: 1 Total | E47: =EDATE(Tableau1[[#This Row],[Date début prod]],0) -> 44136 | F47: =E48 -> 44044 | G47: =SUM(G48:G53) -> 100 | H47: =Tableau1[[#This Row],[Durée Estimée (jours ouvrés)]]/20 -> 5 | I47: =MAX(I48:I53) -> 44055 | J47: =Tableau1[[#This Row],[Date de fin]]-Tableau1[[#This Row],[Date Théo. Début]] -> 11 | M47: =MAX(M55:M60) -> 0
A48: Produit 5 | B48: Dur | C48: 44136 | D48: 2 Prépa dossier | E48: =EDATE(Tableau1[[#This Row],[Date début prod]],-3) -> 44044 | F48: =EDATE(E48,-1) -> 44013 | G48: =LOOKUP(Tableau1[[#This Row],[Technicité estimé]],PREPADO) -> 10 | H48: =Tableau1[[#This Row],[Durée Estimée (jours ouvrés)]]/20 -> 0.5 | I48: =WORKDAY(F48,G48) -> 44027 | J48: =Tableau1[[#This Row],[Date de fin]]-Tableau1[[#This Row],[Date Théo. Début]] -> 14 | M48: =WORKDAY(K48,L48) -> 0
A49: Produit 5 | B49: Dur | C49: 44136 | D49: 3 Déverminage | E49: =EDATE(Tableau1[[#This Row],[Date début prod]],-3) -> 44044 | F49: =EDATE(E49,-1) -> 44013 | G49: =LOOKUP(Tableau1[[#This Row],[Technicité estimé]],DEVERMINAGE) -> 15 | H49: =Tableau1[[#This Row],[Durée Estimée (jours ouvrés)]]/20 -> 0.75 | I49: =WORKDAY(F49,G49) -> 44034 | J49: =Tableau1[[#This Row],[Date de fin]]-Tableau1[[#This Row],[Date Théo. Début]] -> 21 | M49: =WORKDAY(K49,L49) -> 0
A50: Produit 5 | B50: Dur | C50: 44136 | D50: 4 Conf Mo OP | E50: =EDATE(Tableau1[[#This Row],[Date début prod]],-3) -> 44044 | F50: =EDATE(E50,-1) -> 44013 | G50: =LOOKUP(Tableau1[[#This Row],[Technicité estimé]],ConfMoOP) -> 15 | H50: =Tableau1[[#This Row],[Durée Estimée (jours ouvrés)]]/20 -> 0.75 | I50: =WORKDAY(F50,G50) -> 44034 | J50: =Tableau1[[#This Row],[Date de fin]]-Tableau1[[#This Row],[Date Théo. Début]] -> 21 | M50: =WORKDAY(K50,L50) -> 0
A51: Produit 5 | B51: Dur | C51: 44136 | D51: 5 Appro | E51: =EDATE(Tableau1[[#This Row],[Date début prod]],-3) -> 44044 | F51: =EDATE(E51,-1) -> 44013 | G51: =LOOKUP(Tableau1[[#This Row],[Technicité estimé]],Appro) -> 30 | H51: =Tableau1[[#This Row],[Durée Estimée (jours ouvrés)]]/20 -> 1.5 | I51: =WORKDAY(F51,G51) -> 44055 | J51: =Tableau1[[#This Row],[Date de fin]]-Tableau1[[#This Row],[Date Théo. Début]] -> 42 | M51: =WORKDAY(K51,L51) -> 0
...

Sheet F2
A1: Produit | B1: Technicité estimé | C1: Date début prod | D1: Date de fin 7 | E1: =INDIRECT(ADDRESS(MATCH($A1,Charge!$A$1:$A$60,0),7,4,1,"Charge")) -> Durée Estimée (jours ouvrés)
A2: Produit 6 | B2: =INDIRECT(ADDRESS(MATCH($A2,Charge!$A$1:$A$60,0),COLUMN(),4,1,"Charge")) -> Moyen | C2: =INDIRECT(ADDRESS(MATCH($A2,Charge!$A$1:$A$60,0),COLUMN(),4,1,"Charge")) -> 43920 | D2: =C2+E2 -> 44003 | E2: =INDIRECT(ADDRESS(MATCH($A2,Charge!$A$1:$A$60,0),7,4,1,"Charge")) -> 83
A3: Produit 3 | B3: =INDIRECT(ADDRESS(MATCH($A3,Charge!$A$1:$A$60,0),COLUMN(),4,1,"Charge")) -> Facile | C3: =INDIRECT(ADDRESS(MATCH($A3,Charge!$A$1:$A$60,0),COLUMN(),4,1,"Charge")) -> 44074 | D3: =C3+E3 -> 44144 | E3: =INDIRECT(ADDRESS(MATCH($A3,Charge!$A$1:$A$60,0),7,4,1,"Charge")) -> 70
A4: Produit 1 | B4: =INDIRECT(ADDRESS(MATCH($A4,Charge!$A$1:$A$60,0),COLUMN(),4,1,"Charge")) -> Moyen | C4: =INDIRECT(ADDRESS(MATCH($A4,Charge!$A$1:$A$60,0),COLUMN(),4,1,"Charge")) -> 44105 | D4: =C4+E4 -> 44188 | E4: =INDIRECT(ADDRESS(MATCH($A4,Charge!$A$1:$A$60,0),7,4,1,"Charge")) -> 83
A5: Produit 4 | B5: =INDIRECT(ADDRESS(MATCH($A5,Charge!$A$1:$A$60,0),COLUMN(),4,1,"Charge")) -> Facile | C5: =INDIRECT(ADDRESS(MATCH($A5,Charge!$A$1:$A$60,0),COLUMN(),4,1,"Charge")) -> 44124 | D5: =C5+E5 -> 44194 | E5: =INDIRECT(ADDRESS(MATCH($A5,Charge!$A$1:$A$60,0),7,4,1,"Charge")) -> 70
A6: Produit 5 | B6: =INDIRECT(ADDRESS(MATCH($A6,Charge!$A$1:$A$60,0),COLUMN(),4,1,"Charge")) -> Dur | C6: =INDIRECT(ADDRESS(MATCH($A6,Charge!$A$1:$A$60,0),COLUMN(),4,1,"Charge")) -> 44136 | D6: =C6+E6 -> 44236 | E6: =INDIRECT(ADDRESS(MATCH($A6,Charge!$A$1:$A$60,0),7,4,1,"Charge")) -> 100
A7: Produit 2 | B7: =INDIRECT(ADDRESS(MATCH($A7,Charge!$A$1:$A$60,0),COLUMN(),4,1,"Charge")) -> Facile | C7: =INDIRECT(ADDRESS(MATCH($A7,Charge!$A$1:$A$60,0),COLUMN(),4,1,"Charge")) -> 44172 | D7: =C7+E7 -> 44242 | E7: =INDIRECT(ADDRESS(MATCH($A7,Charge!$A$1:$A$60,0),7,4,1,"Charge")) -> 70
B9: Produit 6 | C9: Produit 3 | D9: Produit 1 | E9: Produit 4 | F9: Produit 5 | G9: Produit 2 | H9: Charge
A10: =MIN(C2:D7) -> 43920 | B10: =AND(A10>=C$2,A10<=D$2) -> 1 | C10: =AND(A10>=C$3,A10<=D$3) -> 0 | D10: =AND(A10>=C$4,A10<=D$4) -> 0 | E10: =AND(A10>=C$5,A10<=D$5) -> 0 | F10: =AND(A10>=C$6,A10<=D$6) -> 0 | G10: =AND(A10>=C$7,A10<=D$7) -> 0 | H10: =SUM(B10:G10) -> 1
A11: =IF(MAX(A$10:A10)+1<=MAX(C$2:D$7),MAX(A$10:A10)+1,"") -> 43921 | B11: =AND(A11>=C$2,A11<=D$2) -> 1 | C11: =AND(A11>=C$3,A11<=D$3) -> 0 | D11: =AND(A11>=C$4,A11<=D$4) -> 0 | E11: =AND(A11>=C$5,A11<=D$5) -> 0 | F11: =AND(A11>=C$6,A11<=D$6) -> 0 | G11: =AND(A11>=C$7,A11<=D$7) -> 0 | H11: =SUM(B11:G11) -> 1
A12: =IF(MAX(A$10:A11)+1<=MAX(C$2:D$7),MAX(A$10:A11)+1,"") -> 43922 | B12: =AND(A12>=C$2,A12<=D$2) -> 1 | C12: =AND(A12>=C$3,A12<=D$3) -> 0 | D12: =AND(A12>=C$4,A12<=D$4) -> 0 | E12: =AND(A12>=C$5,A12<=D$5) -> 0 | F12: =AND(A12>=C$6,A12<=D$6) -> 0 | G12: =AND(A12>=C$7,A12<=D$7) -> 0 | H12: =SUM(B12:G12) -> 1
A13: =IF(MAX(A$10:A12)+1<=MAX(C$2:D$7),MAX(A$10:A12)+1,"") -> 43923 | B13: =AND(A13>=C$2,A13<=D$2) -> 1 | C13: =AND(A13>=C$3,A13<=D$3) -> 0 | D13: =AND(A13>=C$4,A13<=D$4) -> 0 | E13: =AND(A13>=C$5,A13<=D$5) -> 0 | F13: =AND(A13>=C$6,A13<=D$6) -> 0 | G13: =AND(A13>=C$7,A13<=D$7) -> 0 | H13: =SUM(B13:G13) -> 1
A14: =IF(MAX(A$10:A13)+1<=MAX(C$2:D$7),MAX(A$10:A13)+1,"") -> 43924 | B14: =AND(A14>=C$2,A14<=D$2) -> 1 | C14: =AND(A14>=C$3,A14<=D$3) -> 0 | D14: =AND(A14>=C$4,A14<=D$4) -> 0 | E14: =AND(A14>=C$5,A14<=D$5) -> 0 | F14: =AND(A14>=C$6,A14<=D$6) -> 0 | G14: =AND(A14>=C$7,A14<=D$7) -> 0 | H14: =SUM(B14:G14) -> 1
A15: =IF(MAX(A$10:A14)+1<=MAX(C$2:D$7),MAX(A$10:A14)+1,"") -> 43925 | B15: =AND(A15>=C$2,A15<=D$2) -> 1 | C15: =AND(A15>=C$3,A15<=D$3) -> 0 | D15: =AND(A15>=C$4,A15<=D$4) -> 0 | E15: =AND(A15>=C$5,A15<=D$5) -> 0 | F15: =AND(A15>=C$6,A15<=D$6) -> 0 | G15: =AND(A15>=C$7,A15<=D$7) -> 0 | H15: =SUM(B15:G15) -> 1
A16: =IF(MAX(A$10:A15)+1<=MAX(C$2:D$7),MAX(A$10:A15)+1,"") -> 43926 | B16: =AND(A16>=C$2,A16<=D$2) -> 1 | C16: =AND(A16>=C$3,A16<=D$3) -> 0 | D16: =AND(A16>=C$4,A16<=D$4) -> 0 | E16: =AND(A16>=C$5,A16<=D$5) -> 0 | F16: =AND(A16>=C$6,A16<=D$6) -> 0 | G16: =AND(A16>=C$7,A16<=D$7) -> 0 | H16: =SUM(B16:G16) -> 1
A17: =IF(MAX(A$10:A16)+1<=MAX(C$2:D$7),MAX(A$10:A16)+1,"") -> 43927 | B17: =AND(A17>=C$2,A17<=D$2) -> 1 | C17: =AND(A17>=C$3,A17<=D$3) -> 0 | D17: =AND(A17>=C$4,A17<=D$4) -> 0 | E17: =AND(A17>=C$5,A17<=D$5) -> 0 | F17: =AND(A17>=C$6,A17<=D$6) -> 0 | G17: =AND(A17>=C$7,A17<=D$7) -> 0 | H17: =SUM(B17:G17) -> 1
A18: =IF(MAX(A$10:A17)+1<=MAX(C$2:D$7),MAX(A$10:A17)+1,"") -> 43928 | B18: =AND(A18>=C$2,A18<=D$2) -> 1 | C18: =AND(A18>=C$3,A18<=D$3) -> 0 | D18: =AND(A18>=C$4,A18<=D$4) -> 0 | E18: =AND(A18>=C$5,A18<=D$5) -> 0 | F18: =AND(A18>=C$6,A18<=D$6) -> 0 | G18: =AND(A18>=C$7,A18<=D$7) -> 0 | H18: =SUM(B18:G18) -> 1
A19: =IF(MAX(A$10:A18)+1<=MAX(C$2:D$7),MAX(A$10:A18)+1,"") -> 43929 | B19: =AND(A19>=C$2,A19<=D$2) -> 1 | C19: =AND(A19>=C$3,A19<=D$3) -> 0 | D19: =AND(A19>=C$4,A19<=D$4) -> 0 | E19: =AND(A19>=C$5,A19<=D$5) -> 0 | F19: =AND(A19>=C$6,A19<=D$6) -> 0 | G19: =AND(A19>=C$7,A19<=D$7) -> 0 | H19: =SUM(B19:G19) -> 1
A20: =IF(MAX(A$10:A19)+1<=MAX(C$2:D$7),MAX(A$10:A19)+1,"") -> 43930 | B20: =AND(A20>=C$2,A20<=D$2) -> 1 | C20: =AND(A20>=C$3,A20<=D$3) -> 0 | D20: =AND(A20>=C$4,A20<=D$4) -> 0 | E20: =AND(A20>=C$5,A20<=D$5) -> 0 | F20: =AND(A20>=C$6,A20<=D$6) -> 0 | G20: =AND(A20>=C$7,A20<=D$7) -> 0 | H20: =SUM(B20:G20) -> 1
A21: =IF(MAX(A$10:A20)+1<=MAX(C$2:D$7),MAX(A$10:A20)+1,"") -> 43931 | B21: =AND(A21>=C$2,A21<=D$2) -> 1 | C21: =AND(A21>=C$3,A21<=D$3) -> 0 | D21: =AND(A21>=C$4,A21<=D$4) -> 0 | E21: =AND(A21>=C$5,A21<=D$5) -> 0 | F21: =AND(A21>=C$6,A21<=D$6) -> 0 | G21: =AND(A21>=C$7,A21<=D$7) -> 0 | H21: =SUM(B21:G21) -> 1
A22: =IF(MAX(A$10:A21)+1<=MAX(C$2:D$7),MAX(A$10:A21)+1,"") -> 43932 | B22: =AND(A22>=C$2,A22<=D$2) -> 1 | C22: =AND(A22>=C$3,A22<=D$3) -> 0 | D22: =AND(A22>=C$4,A22<=D$4) -> 0 | E22: =AND(A22>=C$5,A22<=D$5) -> 0 | F22: =AND(A22>=C$6,A22<=D$6) -> 0 | G22: =AND(A22>=C$7,A22<=D$7) -> 0 | H22: =SUM(B22:G22) -> 1
... A332: =IF(MAX(A$10:A331)+1<=MAX(C$2:D$7),MAX(A$10:A331)+1,"") -> 44242 | B332: =AND(A332>=C$2,A332<=D$2) -> 0 | C332: =AND(A332>=C$3,A332<=D$3) -> 0 | D332: =AND(A332>=C$4,A332<=D$4) -> 0 | E332: =AND(A332>=C$5,A332<=D$5) -> 0 | F332: =AND(A332>=C$6,A332<=D$6) -> 0 | G332: =AND(A332>=C$7,A332<=D$7) -> 1 | H332: =SUM(B332:G332) -> 1
A333: =IF(MAX(A$10:A332)+1<=MAX(C$2:D$7),MAX(A$10:A332)+1,"")
A334: =IF(MAX(A$10:A333)+1<=MAX(C$2:D$7),MAX(A$10:A333)+1,"")
A335: =IF(MAX(A$10:A334)+1<=MAX(C$2:D$7),MAX(A$10:A334)+1,"")
A336: =IF(MAX(A$10:A335)+1<=MAX(C$2:D$7),MAX(A$10:A335)+1,"")
A337: =IF(MAX(A$10:A336)+1<=MAX(C$2:D$7),MAX(A$10:A336)+1,"")
A338: =IF(MAX(A$10:A337)+1<=MAX(C$2:D$7),MAX(A$10:A337)+1,"")
A339: =IF(MAX(A$10:A338)+1<=MAX(C$2:D$7),MAX(A$10:A338)+1,"")
A340: =IF(MAX(A$10:A339)+1<=MAX(C$2:D$7),MAX(A$10:A339)+1,"")
A341: =IF(MAX(A$10:A340)+1<=MAX(C$2:D$7),MAX(A$10:A340)+1,"")
A342: =IF(MAX(A$10:A341)+1<=MAX(C$2:D$7),MAX(A$10:A341)+1,"")
A343: =IF(MAX(A$10:A342)+1<=MAX(C$2:D$7),MAX(A$10:A342)+1,"")
A344: =IF(MAX(A$10:A343)+1<=MAX(C$2:D$7),MAX(A$10:A343)+1,"")
... A357: =IF(MAX(A$10:A356)+1<=MAX(C$2:D$7),MAX(A$10:A356)+1,"")
