Workbook

Sheet 2019
C1: =TODAY() -> 43749
C2: Dates | D2: Qui
C3: 43642 | D3: Pierre
C4: 43660 | D4: Pierre, Lilly,William, Marc
C5: 43670 | D5: Marc
C6: 43688 | D6: William
C7: 43697 | D7: Noemie, Agnes
C8: 43739 | D8: Noemie

Sheet Tableau
C2: =NOW() -> 43749.897 | D2: 2019
D3: Pierre | E3: Lilly | F3: Marc | G3: Noemie | H3: Agnes | I3: William | J3: Total | L3: Pierre | M3: Lilly | N3: Marc | O3: Noemie | P3: Agnes | Q3: William
C4: 43466 | D4: =COUNTIF(L$4:L$15,MONTH($C4)) -> 0 | E4: =COUNTIF(M$4:M$15,MONTH($C4)) -> 0 | F4: =COUNTIF(N$4:N$15,MONTH($C4)) -> 0 | G4: =COUNTIF(O$4:O$15,MONTH($C4)) -> 0 | H4: =COUNTIF(P$4:P$15,MONTH($C4)) -> 0 | I4: =COUNTIF(Q$4:Q$15,MONTH($C4)) -> 0 | J4: =SUM(D4:I4) -> 0 | L4: =IF(ISNUMBER(FIND(L$3,'2019'!$D3)),MONTH('2019'!$C3),"") -> 6 | M4: =IF(ISNUMBER(FIND(M$3,'2019'!$D3)),MONTH('2019'!$C3),"") | N4: =IF(ISNUMBER(FIND(N$3,'2019'!$D3)),MONTH('2019'!$C3),"") | O4: =IF(ISNUMBER(FIND(O$3,'2019'!$D3)),MONTH('2019'!$C3),"") | P4: =IF(ISNUMBER(FIND(P$3,'2019'!$D3)),MONTH('2019'!$C3),"") | Q4: =IF(ISNUMBER(FIND(Q$3,'2019'!$D3)),MONTH('2019'!$C3),"")
C5: =EOMONTH(C4,0)+1 -> 43497 | D5: =COUNTIF(L$4:L$15,MONTH($C5)) -> 0 | E5: =COUNTIF(M$4:M$15,MONTH($C5)) -> 0 | F5: =COUNTIF(N$4:N$15,MONTH($C5)) -> 0 | G5: =COUNTIF(O$4:O$15,MONTH($C5)) -> 0 | H5: =COUNTIF(P$4:P$15,MONTH($C5)) -> 0 | I5: =COUNTIF(Q$4:Q$15,MONTH($C5)) -> 0 | J5: =SUM(D5:I5) -> 0 | L5: =IF(ISNUMBER(FIND(L$3,'2019'!$D4)),MONTH('2019'!$C4),"") -> 7 | M5: =IF(ISNUMBER(FIND(M$3,'2019'!$D4)),MONTH('2019'!$C4),"") -> 7 | N5: =IF(ISNUMBER(FIND(N$3,'2019'!$D4)),MONTH('2019'!$C4),"") -> 7 | O5: =IF(ISNUMBER(FIND(O$3,'2019'!$D4)),MONTH('2019'!$C4),"") | P5: =IF(ISNUMBER(FIND(P$3,'2019'!$D4)),MONTH('2019'!$C4),"") | Q5: =IF(ISNUMBER(FIND(Q$3,'2019'!$D4)),MONTH('2019'!$C4),"") -> 7
C6: =EOMONTH(C5,0)+1 -> 43525 | D6: =COUNTIF(L$4:L$15,MONTH($C6)) -> 0 | E6: =COUNTIF(M$4:M$15,MONTH($C6)) -> 0 | F6: =COUNTIF(N$4:N$15,MONTH($C6)) -> 0 | G6: =COUNTIF(O$4:O$15,MONTH($C6)) -> 0 | H6: =COUNTIF(P$4:P$15,MONTH($C6)) -> 0 | I6: =COUNTIF(Q$4:Q$15,MONTH($C6)) -> 0 | J6: =SUM(D6:I6) -> 0 | L6: =IF(ISNUMBER(FIND(L$3,'2019'!$D5)),MONTH('2019'!$C5),"") | M6: =IF(ISNUMBER(FIND(M$3,'2019'!$D5)),MONTH('2019'!$C5),"") | N6: =IF(ISNUMBER(FIND(N$3,'2019'!$D5)),MONTH('2019'!$C5),"") -> 7 | O6: =IF(ISNUMBER(FIND(O$3,'2019'!$D5)),MONTH('2019'!$C5),"") | P6: =IF(ISNUMBER(FIND(P$3,'2019'!$D5)),MONTH('2019'!$C5),"") | Q6: =IF(ISNUMBER(FIND(Q$3,'2019'!$D5)),MONTH('2019'!$C5),"")
C7: =EOMONTH(C6,0)+1 -> 43556 | D7: =COUNTIF(L$4:L$15,MONTH($C7)) -> 0 | E7: =COUNTIF(M$4:M$15,MONTH($C7)) -> 0 | F7: =COUNTIF(N$4:N$15,MONTH($C7)) -> 0 | G7: =COUNTIF(O$4:O$15,MONTH($C7)) -> 0 | H7: =COUNTIF(P$4:P$15,MONTH($C7)) -> 0 | I7: =COUNTIF(Q$4:Q$15,MONTH($C7)) -> 0 | J7: =SUM(D7:I7) -> 0 | L7: =IF(ISNUMBER(FIND(L$3,'2019'!$D6)),MONTH('2019'!$C6),"") | M7: =IF(ISNUMBER(FIND(M$3,'2019'!$D6)),MONTH('2019'!$C6),"") | N7: =IF(ISNUMBER(FIND(N$3,'2019'!$D6)),MONTH('2019'!$C6),"") | O7: =IF(ISNUMBER(FIND(O$3,'2019'!$D6)),MONTH('2019'!$C6),"") | P7: =IF(ISNUMBER(FIND(P$3,'2019'!$D6)),MONTH('2019'!$C6),"") | Q7: =IF(ISNUMBER(FIND(Q$3,'2019'!$D6)),MONTH('2019'!$C6),"") -> 8
C8: =EOMONTH(C7,0)+1 -> 43586 | D8: =COUNTIF(L$4:L$15,MONTH($C8)) -> 0 | E8: =COUNTIF(M$4:M$15,MONTH($C8)) -> 0 | F8: =COUNTIF(N$4:N$15,MONTH($C8)) -> 0 | G8: =COUNTIF(O$4:O$15,MONTH($C8)) -> 0 | H8: =COUNTIF(P$4:P$15,MONTH($C8)) -> 0 | I8: =COUNTIF(Q$4:Q$15,MONTH($C8)) -> 0 | J8: =SUM(D8:I8) -> 0 | L8: =IF(ISNUMBER(FIND(L$3,'2019'!$D7)),MONTH('2019'!$C7),"") | M8: =IF(ISNUMBER(FIND(M$3,'2019'!$D7)),MONTH('2019'!$C7),"") | N8: =IF(ISNUMBER(FIND(N$3,'2019'!$D7)),MONTH('2019'!$C7),"") | O8: =IF(ISNUMBER(FIND(O$3,'2019'!$D7)),MONTH('2019'!$C7),"") -> 8 | P8: =IF(ISNUMBER(FIND(P$3,'2019'!$D7)),MONTH('2019'!$C7),"") -> 8 | Q8: =IF(ISNUMBER(FIND(Q$3,'2019'!$D7)),MONTH('2019'!$C7),"")
C9: =EOMONTH(C8,0)+1 -> 43617 | D9: =COUNTIF(L$4:L$15,MONTH($C9)) -> 1 | E9: =COUNTIF(M$4:M$15,MONTH($C9)) -> 0 | F9: =COUNTIF(N$4:N$15,MONTH($C9)) -> 0 | G9: =COUNTIF(O$4:O$15,MONTH($C9)) -> 0 | H9: =COUNTIF(P$4:P$15,MONTH($C9)) -> 0 | I9: =COUNTIF(Q$4:Q$15,MONTH($C9)) -> 0 | J9: =SUM(D9:I9) -> 1 | L9: =IF(ISNUMBER(FIND(L$3,'2019'!$D8)),MONTH('2019'!$C8),"") | M9: =IF(ISNUMBER(FIND(M$3,'2019'!$D8)),MONTH('2019'!$C8),"") | N9: =IF(ISNUMBER(FIND(N$3,'2019'!$D8)),MONTH('2019'!$C8),"") | O9: =IF(ISNUMBER(FIND(O$3,'2019'!$D8)),MONTH('2019'!$C8),"") -> 10 | P9: =IF(ISNUMBER(FIND(P$3,'2019'!$D8)),MONTH('2019'!$C8),"") | Q9: =IF(ISNUMBER(FIND(Q$3,'2019'!$D8)),MONTH('2019'!$C8),"")
C10: =EOMONTH(C9,0)+1 -> 43647 | D10: =COUNTIF(L$4:L$15,MONTH($C10)) -> 1 | E10: =COUNTIF(M$4:M$15,MONTH($C10)) -> 1 | F10: =COUNTIF(N$4:N$15,MONTH($C10)) -> 2 | G10: =COUNTIF(O$4:O$15,MONTH($C10)) -> 0 | H10: =COUNTIF(P$4:P$15,MONTH($C10)) -> 0 | I10: =COUNTIF(Q$4:Q$15,MONTH($C10)) -> 1 | J10: =SUM(D10:I10) -> 5 | L10: =IF(ISNUMBER(FIND(L$3,'2019'!$D9)),MONTH('2019'!$C9),"") | M10: =IF(ISNUMBER(FIND(M$3,'2019'!$D9)),MONTH('2019'!$C9),"") | N10: =IF(ISNUMBER(FIND(N$3,'2019'!$D9)),MONTH('2019'!$C9),"") | O10: =IF(ISNUMBER(FIND(O$3,'2019'!$D9)),MONTH('2019'!$C9),"") | P10: =IF(ISNUMBER(FIND(P$3,'2019'!$D9)),MONTH('2019'!$C9),"") | Q10: =IF(ISNUMBER(FIND(Q$3,'2019'!$D9)),MONTH('2019'!$C9),"")
C11: =EOMONTH(C10,0)+1 -> 43678 | D11: =COUNTIF(L$4:L$15,MONTH($C11)) -> 0 | E11: =COUNTIF(M$4:M$15,MONTH($C11)) -> 0 | F11: =COUNTIF(N$4:N$15,MONTH($C11)) -> 0 | G11: =COUNTIF(O$4:O$15,MONTH($C11)) -> 1 | H11: =COUNTIF(P$4:P$15,MONTH($C11)) -> 1 | I11: =COUNTIF(Q$4:Q$15,MONTH($C11)) -> 1 | J11: =SUM(D11:I11) -> 3 | L11: =IF(ISNUMBER(FIND(L$3,'2019'!$D10)),MONTH('2019'!$C10),"") | M11: =IF(ISNUMBER(FIND(M$3,'2019'!$D10)),MONTH('2019'!$C10),"") | N11: =IF(ISNUMBER(FIND(N$3,'2019'!$D10)),MONTH('2019'!$C10),"") | O11: =IF(ISNUMBER(FIND(O$3,'2019'!$D10)),MONTH('2019'!$C10),"") | P11: =IF(ISNUMBER(FIND(P$3,'2019'!$D10)),MONTH('2019'!$C10),"") | Q11: =IF(ISNUMBER(FIND(Q$3,'2019'!$D10)),MONTH('2019'!$C10),"")
C12: =EOMONTH(C11,0)+1 -> 43709 | D12: =COUNTIF(L$4:L$15,MONTH($C12)) -> 0 | E12: =COUNTIF(M$4:M$15,MONTH($C12)) -> 0 | F12: =COUNTIF(N$4:N$15,MONTH($C12)) -> 0 | G12: =COUNTIF(O$4:O$15,MONTH($C12)) -> 0 | H12: =COUNTIF(P$4:P$15,MONTH($C12)) -> 0 | I12: =COUNTIF(Q$4:Q$15,MONTH($C12)) -> 0 | J12: =SUM(D12:I12) -> 0 | L12: =IF(ISNUMBER(FIND(L$3,'2019'!$D11)),MONTH('2019'!$C11),"") | M12: =IF(ISNUMBER(FIND(M$3,'2019'!$D11)),MONTH('2019'!$C11),"") | N12: =IF(ISNUMBER(FIND(N$3,'2019'!$D11)),MONTH('2019'!$C11),"") | O12: =IF(ISNUMBER(FIND(O$3,'2019'!$D11)),MONTH('2019'!$C11),"") | P12: =IF(ISNUMBER(FIND(P$3,'2019'!$D11)),MONTH('2019'!$C11),"") | Q12: =IF(ISNUMBER(FIND(Q$3,'2019'!$D11)),MONTH('2019'!$C11),"")
C13: =EOMONTH(C12,0)+1 -> 43739 | D13: =COUNTIF(L$4:L$15,MONTH($C13)) -> 0 | E13: =COUNTIF(M$4:M$15,MONTH($C13)) -> 0 | F13: =COUNTIF(N$4:N$15,MONTH($C13)) -> 0 | G13: =COUNTIF(O$4:O$15,MONTH($C13)) -> 1 | H13: =COUNTIF(P$4:P$15,MONTH($C13)) -> 0 | I13: =COUNTIF(Q$4:Q$15,MONTH($C13)) -> 0 | J13: =SUM(D13:I13) -> 1 | L13: =IF(ISNUMBER(FIND(L$3,'2019'!$D12)),MONTH('2019'!$C12),"") | M13: =IF(ISNUMBER(FIND(M$3,'2019'!$D12)),MONTH('2019'!$C12),"") | N13: =IF(ISNUMBER(FIND(N$3,'2019'!$D12)),MONTH('2019'!$C12),"") | O13: =IF(ISNUMBER(FIND(O$3,'2019'!$D12)),MONTH('2019'!$C12),"") | P13: =IF(ISNUMBER(FIND(P$3,'2019'!$D12)),MONTH('2019'!$C12),"") | Q13: =IF(ISNUMBER(FIND(Q$3,'2019'!$D12)),MONTH('2019'!$C12),"")
C14: =EOMONTH(C13,0)+1 -> 43770 | D14: =COUNTIF(L$4:L$15,MONTH($C14)) -> 0 | E14: =COUNTIF(M$4:M$15,MONTH($C14)) -> 0 | F14: =COUNTIF(N$4:N$15,MONTH($C14)) -> 0 | G14: =COUNTIF(O$4:O$15,MONTH($C14)) -> 0 | H14: =COUNTIF(P$4:P$15,MONTH($C14)) -> 0 | I14: =COUNTIF(Q$4:Q$15,MONTH($C14)) -> 0 | J14: =SUM(D14:I14) -> 0 | L14: =IF(ISNUMBER(FIND(L$3,'2019'!$D13)),MONTH('2019'!$C13),"") | M14: =IF(ISNUMBER(FIND(M$3,'2019'!$D13)),MONTH('2019'!$C13),"") | N14: =IF(ISNUMBER(FIND(N$3,'2019'!$D13)),MONTH('2019'!$C13),"") | O14: =IF(ISNUMBER(FIND(O$3,'2019'!$D13)),MONTH('2019'!$C13),"") | P14: =IF(ISNUMBER(FIND(P$3,'2019'!$D13)),MONTH('2019'!$C13),"") | Q14: =IF(ISNUMBER(FIND(Q$3,'2019'!$D13)),MONTH('2019'!$C13),"")
C15: =EOMONTH(C14,0)+1 -> 43800 | D15: =COUNTIF(L$4:L$15,MONTH($C15)) -> 0 | E15: =COUNTIF(M$4:M$15,MONTH($C15)) -> 0 | F15: =COUNTIF(N$4:N$15,MONTH($C15)) -> 0 | G15: =COUNTIF(O$4:O$15,MONTH($C15)) -> 0 | H15: =COUNTIF(P$4:P$15,MONTH($C15)) -> 0 | I15: =COUNTIF(Q$4:Q$15,MONTH($C15)) -> 0 | J15: =SUM(D15:I15) -> 0 | L15: =IF(ISNUMBER(FIND(L$3,'2019'!$D14)),MONTH('2019'!$C14),"") | M15: =IF(ISNUMBER(FIND(M$3,'2019'!$D14)),MONTH('2019'!$C14),"") | N15: =IF(ISNUMBER(FIND(N$3,'2019'!$D14)),MONTH('2019'!$C14),"") | O15: =IF(ISNUMBER(FIND(O$3,'2019'!$D14)),MONTH('2019'!$C14),"") | P15: =IF(ISNUMBER(FIND(P$3,'2019'!$D14)),MONTH('2019'!$C14),"") | Q15: =IF(ISNUMBER(FIND(Q$3,'2019'!$D14)),MONTH('2019'!$C14),"")
C16: Total par Personnes sur l'année | D16: =SUM(D4:D15) -> 2 | E16: =SUM(E4:E15) -> 1 | F16: =SUM(F4:F15) -> 2 | G16: =SUM(G4:G15) -> 2 | H16: =SUM(H4:H15) -> 1 | I16: =SUM(I4:I15) -> 2 | J16: =SUM(D16:I16)&" horizontal"&CHAR(10)&SUM(J4:J15)&" vertical" -> 10 horizontal 10 vertical
