Workbook

Sheet Feuil1
A1: code | B1: désignation | Y1: =F2!C1 -> 10
A2: 10010010002 | B2: IDEAL M1 (20) | Z2: =IFERROR(IF(OR(LEFT(A2,2)*1=Y$1,LEFT(A2,2)*1=Y$1+1),ROW(),""),"") -> 2
A3: 10010010004 | B3: ULTRANET M2 | Z3: =IFERROR(IF(OR(LEFT(A3,2)*1=Y$1,LEFT(A3,2)*1=Y$1+1),ROW(),""),"") -> 3
A4: 10010020005 | B4: ULTRANET M2 (4X5) | Z4: =IFERROR(IF(OR(LEFT(A4,2)*1=Y$1,LEFT(A4,2)*1=Y$1+1),ROW(),""),"") -> 4
A5: 10011120011 | B5: ULTRA RINSE D5 | Z5: =IFERROR(IF(OR(LEFT(A5,2)*1=Y$1,LEFT(A5,2)*1=Y$1+1),ROW(),""),"") -> 5
A6: 10011120013 | B6: ULTRA BRIGHT D8 | Z6: =IFERROR(IF(OR(LEFT(A6,2)*1=Y$1,LEFT(A6,2)*1=Y$1+1),ROW(),""),"") -> 6
A7: 10011120037 | B7: ULTRA BAC C10 | Z7: =IFERROR(IF(OR(LEFT(A7,2)*1=Y$1,LEFT(A7,2)*1=Y$1+1),ROW(),""),"") -> 7
A8: 10011210043 | B8: ULTRA SCALE C5 | Z8: =IFERROR(IF(OR(LEFT(A8,2)*1=Y$1,LEFT(A8,2)*1=Y$1+1),ROW(),""),"") -> 8
A9: 10011210047 | B9: DECAP CIMENT | Z9: =IFERROR(IF(OR(LEFT(A9,2)*1=Y$1,LEFT(A9,2)*1=Y$1+1),ROW(),""),"") -> 9
A10: 10011210048 | B10: DETART CH | Z10: =IFERROR(IF(OR(LEFT(A10,2)*1=Y$1,LEFT(A10,2)*1=Y$1+1),ROW(),""),"") -> 10
A11: 10011220042 | B11: BELARGENT | Z11: =IFERROR(IF(OR(LEFT(A11,2)*1=Y$1,LEFT(A11,2)*1=Y$1+1),ROW(),""),"") -> 11
A12: 10011220044 | B12: ULTRA SCALE C5 | Z12: =IFERROR(IF(OR(LEFT(A12,2)*1=Y$1,LEFT(A12,2)*1=Y$1+1),ROW(),""),"") -> 12
A13: 10012140025 | B13: NET FILTRES (NÉTTOYANT DES FIL | Z13: =IFERROR(IF(OR(LEFT(A13,2)*1=Y$1,LEFT(A13,2)*1=Y$1+1),ROW(),""),"") -> 13
... A96: 15350030080 | B96: BRUME DE SOMMEIL | Z96: =IFERROR(IF(OR(LEFT(A96,2)*1=Y$1,LEFT(A96,2)*1=Y$1+1),ROW(),""),"")
A97: =#N/A -> #N/A | B97: SAVON 20GR PLISSÉ | Z97: =IFERROR(IF(OR(LEFT(A97,2)*1=Y$1,LEFT(A97,2)*1=Y$1+1),ROW(),""),"")
Z98: =IFERROR(IF(OR(LEFT(A98,2)*1=Y$1,LEFT(A98,2)*1=Y$1+1),ROW(),""),"")
Z99: =IFERROR(IF(OR(LEFT(A99,2)*1=Y$1,LEFT(A99,2)*1=Y$1+1),ROW(),""),"")
Z100: =IFERROR(IF(OR(LEFT(A100,2)*1=Y$1,LEFT(A100,2)*1=Y$1+1),ROW(),""),"")

Sheet F2
A1: =IF(ROW()<=COUNTIF(Feuil1!$Z:Z,">="&1),INDIRECT("Feuil1!$A"&SMALL(Feuil1!$Z:$Z,ROW()),1),"") -> 10010010002 | B1: =IF(ROW()<=COUNTIF(Feuil1!$Z:Z,">="&1),INDIRECT("Feuil1!$B"&SMALL(Feuil1!$Z:$Z,ROW()),1),"") -> IDEAL M1 (20) | C1: 10 | D1: < changez la valeur (deux premiers chiffres de la référence) pour afficher N° réf & N° réf+1
A2: =IF(ROW()<=COUNTIF(Feuil1!$Z:Z,">="&1),INDIRECT("Feuil1!$A"&SMALL(Feuil1!$Z:$Z,ROW()),1),"") -> 10010010004 | B2: =IF(ROW()<=COUNTIF(Feuil1!$Z:Z,">="&1),INDIRECT("Feuil1!$B"&SMALL(Feuil1!$Z:$Z,ROW()),1),"") -> ULTRANET M2
A3: =IF(ROW()<=COUNTIF(Feuil1!$Z:Z,">="&1),INDIRECT("Feuil1!$A"&SMALL(Feuil1!$Z:$Z,ROW()),1),"") -> 10010020005 | B3: =IF(ROW()<=COUNTIF(Feuil1!$Z:Z,">="&1),INDIRECT("Feuil1!$B"&SMALL(Feuil1!$Z:$Z,ROW()),1),"") -> ULTRANET M2 (4X5)
A4: =IF(ROW()<=COUNTIF(Feuil1!$Z:Z,">="&1),INDIRECT("Feuil1!$A"&SMALL(Feuil1!$Z:$Z,ROW()),1),"") -> 10011120011 | B4: =IF(ROW()<=COUNTIF(Feuil1!$Z:Z,">="&1),INDIRECT("Feuil1!$B"&SMALL(Feuil1!$Z:$Z,ROW()),1),"") -> ULTRA RINSE D5
A5: =IF(ROW()<=COUNTIF(Feuil1!$Z:Z,">="&1),INDIRECT("Feuil1!$A"&SMALL(Feuil1!$Z:$Z,ROW()),1),"") -> 10011120013 | B5: =IF(ROW()<=COUNTIF(Feuil1!$Z:Z,">="&1),INDIRECT("Feuil1!$B"&SMALL(Feuil1!$Z:$Z,ROW()),1),"") -> ULTRA BRIGHT D8
A6: =IF(ROW()<=COUNTIF(Feuil1!$Z:Z,">="&1),INDIRECT("Feuil1!$A"&SMALL(Feuil1!$Z:$Z,ROW()),1),"") -> 10011120037 | B6: =IF(ROW()<=COUNTIF(Feuil1!$Z:Z,">="&1),INDIRECT("Feuil1!$B"&SMALL(Feuil1!$Z:$Z,ROW()),1),"") -> ULTRA BAC C10
A7: =IF(ROW()<=COUNTIF(Feuil1!$Z:Z,">="&1),INDIRECT("Feuil1!$A"&SMALL(Feuil1!$Z:$Z,ROW()),1),"") -> 10011210043 | B7: =IF(ROW()<=COUNTIF(Feuil1!$Z:Z,">="&1),INDIRECT("Feuil1!$B"&SMALL(Feuil1!$Z:$Z,ROW()),1),"") -> ULTRA SCALE C5
A8: =IF(ROW()<=COUNTIF(Feuil1!$Z:Z,">="&1),INDIRECT("Feuil1!$A"&SMALL(Feuil1!$Z:$Z,ROW()),1),"") -> 10011210047 | B8: =IF(ROW()<=COUNTIF(Feuil1!$Z:Z,">="&1),INDIRECT("Feuil1!$B"&SMALL(Feuil1!$Z:$Z,ROW()),1),"") -> DECAP CIMENT
A9: =IF(ROW()<=COUNTIF(Feuil1!$Z:Z,">="&1),INDIRECT("Feuil1!$A"&SMALL(Feuil1!$Z:$Z,ROW()),1),"") -> 10011210048 | B9: =IF(ROW()<=COUNTIF(Feuil1!$Z:Z,">="&1),INDIRECT("Feuil1!$B"&SMALL(Feuil1!$Z:$Z,ROW()),1),"") -> DETART CH
A10: =IF(ROW()<=COUNTIF(Feuil1!$Z:Z,">="&1),INDIRECT("Feuil1!$A"&SMALL(Feuil1!$Z:$Z,ROW()),1),"") -> 10011220042 | B10: =IF(ROW()<=COUNTIF(Feuil1!$Z:Z,">="&1),INDIRECT("Feuil1!$B"&SMALL(Feuil1!$Z:$Z,ROW()),1),"") -> BELARGENT
A11: =IF(ROW()<=COUNTIF(Feuil1!$Z:Z,">="&1),INDIRECT("Feuil1!$A"&SMALL(Feuil1!$Z:$Z,ROW()),1),"") -> 10011220044 | B11: =IF(ROW()<=COUNTIF(Feuil1!$Z:Z,">="&1),INDIRECT("Feuil1!$B"&SMALL(Feuil1!$Z:$Z,ROW()),1),"") -> ULTRA SCALE C5
A12: =IF(ROW()<=COUNTIF(Feuil1!$Z:Z,">="&1),INDIRECT("Feuil1!$A"&SMALL(Feuil1!$Z:$Z,ROW()),1),"") -> 10012140025 | B12: =IF(ROW()<=COUNTIF(Feuil1!$Z:Z,">="&1),INDIRECT("Feuil1!$B"&SMALL(Feuil1!$Z:$Z,ROW()),1),"") -> NET FILTRES (NÉTTOYANT DES FIL
A13: =IF(ROW()<=COUNTIF(Feuil1!$Z:Z,">="&1),INDIRECT("Feuil1!$A"&SMALL(Feuil1!$Z:$Z,ROW()),1),"") -> 10012140027 | B13: =IF(ROW()<=COUNTIF(Feuil1!$Z:Z,">="&1),INDIRECT("Feuil1!$B"&SMALL(Feuil1!$Z:$Z,ROW()),1),"") -> TOP RENOV (RÉNOVATEUR)
... A130: =IF(ROW()<=COUNTIF(Feuil1!$Z:Z,">="&1),INDIRECT("Feuil1!$A"&SMALL(Feuil1!$Z:$Z,ROW()),1),"") | B130: =IF(ROW()<=COUNTIF(Feuil1!$Z:Z,">="&1),INDIRECT("Feuil1!$B"&SMALL(Feuil1!$Z:$Z,ROW()),1),"")
