Workbook

Sheet Dispo
A1: =IF(ISNUMBER(MATCH("aaa",HS!A:A,0))," °HS°aaa","aaa") -> aaa | B1: =IF(ISNUMBER(SEARCH("°HS°",A1)),"HS depuis "&DATEDIF(INDIRECT("HS!B"&MATCH(SUBSTITUTE(A1," °HS°",""),HS!A$1:A$12,0),1),TODAY(),"d")&" jours","") | C1: ="Dispo = "&COUNTA(A:A)-HS!C1 -> Dispo = 8
A2: =IF(ISNUMBER(MATCH("bbb",HS!A:A,0))," °HS°bbb","bbb") -> bbb | B2: =IF(ISNUMBER(SEARCH("°HS°",A2)),"HS depuis "&DATEDIF(INDIRECT("HS!B"&MATCH(SUBSTITUTE(A2," °HS°",""),HS!A$1:A$12,0),1),TODAY(),"d")&" jours","")
A3: =IF(ISNUMBER(MATCH("ccc",HS!A:A,0))," °HS°ccc","ccc") -> °HS°ccc | B3: =IF(ISNUMBER(SEARCH("°HS°",A3)),"HS depuis "&DATEDIF(INDIRECT("HS!B"&MATCH(SUBSTITUTE(A3," °HS°",""),HS!A$1:A$12,0),1),TODAY(),"d")&" jours","") -> HS depuis 160 jours
A4: =IF(ISNUMBER(MATCH("ddd",HS!A:A,0))," °HS° ddd","ddd") -> ddd | B4: =IF(ISNUMBER(SEARCH("°HS°",A4)),"HS depuis "&DATEDIF(INDIRECT("HS!B"&MATCH(SUBSTITUTE(A4," °HS°",""),HS!A$1:A$12,0),1),TODAY(),"d")&" jours","")
A5: =IF(ISNUMBER(MATCH("eee",HS!A:A,0))," °HS°eee","eee") -> °HS°eee | B5: =IF(ISNUMBER(SEARCH("°HS°",A5)),"HS depuis "&DATEDIF(INDIRECT("HS!B"&MATCH(SUBSTITUTE(A5," °HS°",""),HS!A$1:A$12,0),1),TODAY(),"d")&" jours","") -> HS depuis 233 jours
A6: =IF(ISNUMBER(MATCH("fff",HS!A:A,0))," °HS°fff","fff") -> °HS°fff | B6: =IF(ISNUMBER(SEARCH("°HS°",A6)),"HS depuis "&DATEDIF(INDIRECT("HS!B"&MATCH(SUBSTITUTE(A6," °HS°",""),HS!A$1:A$12,0),1),TODAY(),"d")&" jours","") -> HS depuis 96 jours
A7: =IF(ISNUMBER(MATCH("ggg",HS!A:A,0))," °HS°ggg","ggg") -> ggg | B7: =IF(ISNUMBER(SEARCH("°HS°",A7)),"HS depuis "&DATEDIF(INDIRECT("HS!B"&MATCH(SUBSTITUTE(A7," °HS°",""),HS!A$1:A$12,0),1),TODAY(),"d")&" jours","")
A8: =IF(ISNUMBER(MATCH("hhh",HS!A:A,0))," °HS°hhh","hhh") -> hhh | B8: =IF(ISNUMBER(SEARCH("°HS°",A8)),"HS depuis "&DATEDIF(INDIRECT("HS!B"&MATCH(SUBSTITUTE(A8," °HS°",""),HS!A$1:A$12,0),1),TODAY(),"d")&" jours","")
A9: =IF(ISNUMBER(MATCH("iii",HS!A:A,0))," °HS°iii","iii") -> °HS°iii | B9: =IF(ISNUMBER(SEARCH("°HS°",A9)),"HS depuis "&DATEDIF(INDIRECT("HS!B"&MATCH(SUBSTITUTE(A9," °HS°",""),HS!A$1:A$12,0),1),TODAY(),"d")&" jours","") -> HS depuis 669 jours
A10: =IF(ISNUMBER(MATCH("jjj",HS!A:A,0))," °HS°jjj","jjj") -> jjj | B10: =IF(ISNUMBER(SEARCH("°HS°",A10)),"HS depuis "&DATEDIF(INDIRECT("HS!B"&MATCH(SUBSTITUTE(A10," °HS°",""),HS!A$1:A$12,0),1),TODAY(),"d")&" jours","")
A11: =IF(ISNUMBER(MATCH("kkk",HS!A:A,0))," °HS°kkk","kkk") -> kkk | B11: =IF(ISNUMBER(SEARCH("°HS°",A11)),"HS depuis "&DATEDIF(INDIRECT("HS!B"&MATCH(SUBSTITUTE(A11," °HS°",""),HS!A$1:A$12,0),1),TODAY(),"d")&" jours","")
A12: =IF(ISNUMBER(MATCH("lll",HS!A:A,0))," °HS°lll","lll") -> lll | B12: =IF(ISNUMBER(SEARCH("°HS°",A12)),"HS depuis "&DATEDIF(INDIRECT("HS!B"&MATCH(SUBSTITUTE(A12," °HS°",""),HS!A$1:A$12,0),1),TODAY(),"d")&" jours","")

Sheet HS
C1: =COUNTIF(A:A,"<>"&"") -> 4 | D1: hs
A3: ccc | B3: 43811
A6: fff | B6: 43875
A9: iii | B9: 43302
A11: eee | B11: 43738
