Workbook

Sheet Feuil1
B1: FLEX | E1: Veuillez entrer les caractéristiques demandées de votre Flex :
E2: Puissance (W/m) | F2: Référence | G2: Désignation | H2: Largeur
E3: 35 | F3: =IF(ISERROR(SMALL(Flex!Q:Q,ROW()-2)),"",INDIRECT("Flex!B"&SMALL(Flex!Q:Q,ROW()-2),1)) -> 28002792 | G3: =IF(ISERROR(SMALL(Flex!Q:Q,ROW()-2)),"",INDIRECT("Flex!D"&SMALL(Flex!Q:Q,ROW()-2),1)) -> LLE FLEX 12x5000 35W-3000lm/m 927 EXC2 | H3: =IF(ISERROR(SMALL(Flex!Q:Q,ROW()-2)),"",INDIRECT("Flex!K"&SMALL(Flex!Q:Q,ROW()-2),1)) -> 12
B4: Puissance (W/m) | C4: (Tous) | F4: =IF(ISERROR(SMALL(Flex!Q:Q,ROW()-2)),"",INDIRECT("Flex!B"&SMALL(Flex!Q:Q,ROW()-2),1)) -> 28002793 | G4: =IF(ISERROR(SMALL(Flex!Q:Q,ROW()-2)),"",INDIRECT("Flex!D"&SMALL(Flex!Q:Q,ROW()-2),1)) -> LLE FLEX 12x5000 35W-3000lm/m 930 EXC2 | H4: =IF(ISERROR(SMALL(Flex!Q:Q,ROW()-2)),"",INDIRECT("Flex!K"&SMALL(Flex!Q:Q,ROW()-2),1)) -> 12
B5: Flux lumineux (Lm) | C5: (Tous) | F5: =IF(ISERROR(SMALL(Flex!Q:Q,ROW()-2)),"",INDIRECT("Flex!B"&SMALL(Flex!Q:Q,ROW()-2),1)) -> 28002821 | G5: =IF(ISERROR(SMALL(Flex!Q:Q,ROW()-2)),"",INDIRECT("Flex!D"&SMALL(Flex!Q:Q,ROW()-2),1)) -> LLE FLEX 12x5000 35W-3000lm/m 927 EXC2 | H5: =IF(ISERROR(SMALL(Flex!Q:Q,ROW()-2)),"",INDIRECT("Flex!K"&SMALL(Flex!Q:Q,ROW()-2),1)) -> 12
B6: Tension (V) | C6: (Tous) | F6: =IF(ISERROR(SMALL(Flex!Q:Q,ROW()-2)),"",INDIRECT("Flex!B"&SMALL(Flex!Q:Q,ROW()-2),1)) -> 28002822 | G6: =IF(ISERROR(SMALL(Flex!Q:Q,ROW()-2)),"",INDIRECT("Flex!D"&SMALL(Flex!Q:Q,ROW()-2),1)) -> LLE FLEX 12x5000 35W-3000lm/m 930 EXC2 | H6: =IF(ISERROR(SMALL(Flex!Q:Q,ROW()-2)),"",INDIRECT("Flex!K"&SMALL(Flex!Q:Q,ROW()-2),1)) -> 12
B7: CCT | C7: (Tous) | F7: =IF(ISERROR(SMALL(Flex!Q:Q,ROW()-2)),"",INDIRECT("Flex!B"&SMALL(Flex!Q:Q,ROW()-2),1)) | G7: =IF(ISERROR(SMALL(Flex!Q:Q,ROW()-2)),"",INDIRECT("Flex!D"&SMALL(Flex!Q:Q,ROW()-2),1)) | H7: =IF(ISERROR(SMALL(Flex!Q:Q,ROW()-2)),"",INDIRECT("Flex!K"&SMALL(Flex!Q:Q,ROW()-2),1))
B8: Efficacité (Lm/W) | C8: (Tous) | F8: =IF(ISERROR(SMALL(Flex!Q:Q,ROW()-2)),"",INDIRECT("Flex!B"&SMALL(Flex!Q:Q,ROW()-2),1)) | G8: =IF(ISERROR(SMALL(Flex!Q:Q,ROW()-2)),"",INDIRECT("Flex!D"&SMALL(Flex!Q:Q,ROW()-2),1)) | H8: =IF(ISERROR(SMALL(Flex!Q:Q,ROW()-2)),"",INDIRECT("Flex!K"&SMALL(Flex!Q:Q,ROW()-2),1))
B9: IRC | C9: (Tous) | F9: =IF(ISERROR(SMALL(Flex!Q:Q,ROW()-2)),"",INDIRECT("Flex!B"&SMALL(Flex!Q:Q,ROW()-2),1)) | G9: =IF(ISERROR(SMALL(Flex!Q:Q,ROW()-2)),"",INDIRECT("Flex!D"&SMALL(Flex!Q:Q,ROW()-2),1)) | H9: =IF(ISERROR(SMALL(Flex!Q:Q,ROW()-2)),"",INDIRECT("Flex!K"&SMALL(Flex!Q:Q,ROW()-2),1))
B10: Largeur (mm) | C10: (Tous)
B11: Sécabilité (mm) | C11: (Tous)
B12: Longueur max (mm) | C12: (Tous)
B13: Spécificité | C13: (Tous)
B15: Étiquettes de lignes | C15: Nombre de Référence
B16: 28001832 | C16: 1
B17: 28001833 | C17: 1
B18: 28001900 | C18: 1
B19: 28001901 | C19: 1
B20: 28001902 | C20: 1
B21: 28001903 | C21: 1
B22: 28001904 | C22: 1
B23: 28001905 | C23: 1
B24: 28001906 | C24: 1
B25: 28001907 | C25: 1
B26: 28001908 | C26: 1
B27: 28002776 | C27: 1
... B77: 28002909 | C77: 1
B78: FLEXA-0000003 | C78: 1
B79: FLEXA-0000004 | C79: 1
B80: FLEXA-0000017 | C80: 1
B81: FLEXA-0000018 | C81: 1
B82: FLEXA-0000019 | C82: 1
B83: FLEXA-0000020 | C83: 1
B84: FLEXA-0000023 | C84: 1
B85: FLEXA-0000024 | C85: 1
B86: FLEXA-0000106 | C86: 1
B87: FLEXA-0000107 | C87: 1
B88: FLEXA-0000108 | C88: 1
B89: FLEXA-0000109 | C89: 1
... B174: Total général | C174: 197

Sheet Flex
B2: Référence | C2: Visuel | D2: Désignation | E2: Puissance (W/m) | F2: Flux lumineux (lm) | G2: Tension (V) | H2: CCT | I2: Efficacité (lm/W) | J2: IRC | K2: Largeur (mm) | L2: Sécabilité (mm) | M2: Longueur max (mm) | N2: Spécificité
B3: 28002792 | D3: LLE FLEX 12x5000 35W-3000lm/m 927 EXC2 | E3: 35 | F3: 3600 | G3: 24 | H3: 2700 K | I3: 95 | J3: > 90 | K3: 12 | L3: 50 | M3: 5000 | N3: Aucune | Q3: =IF(E3=Feuil1!E$3,ROW(),"") -> 3
B4: 28002793 | D4: LLE FLEX 12x5000 35W-3000lm/m 930 EXC2 | E4: 35 | F4: 3700 | G4: 24 | H4: 3000 K | I4: 97 | J4: > 90 | K4: 12 | L4: 50 | M4: 5000 | N4: Aucune | Q4: =IF(E4=Feuil1!E$3,ROW(),"") -> 4
B5: 28002794 | D5: LLE FLEX 12x5000 30W-3000lm/m 940 EXC2 | E5: 30.2 | F5: 3590 | G5: 24 | H5: 4000 K | I5: 110 | J5: > 90 | K5: 12 | L5: 50 | M5: 5000 | N5: Aucune | Q5: =IF(E5=Feuil1!E$3,ROW(),"")
B6: 28002795 | D6: LLE FLEX 12x5000 30W-3000lm/m 965 EXC2 | E6: 30.2 | F6: 3590 | G6: 24 | H6: 6500 K | I6: 110 | J6: > 90 | K6: 12 | L6: 50 | M6: 5000 | N6: Aucune | Q6: =IF(E6=Feuil1!E$3,ROW(),"")
B7: 28002796 | D7: LLE FLEX 12x5000 48W-4000lm/m 927 EXC2 | E7: 47.5 | F7: 4780 | G7: 24 | H7: 2700 K | I7: 92 | J7: > 90 | K7: 12 | L7: 50 | M7: 5000 | N7: Aucune | Q7: =IF(E7=Feuil1!E$3,ROW(),"")
B8: 28002797 | D8: LLE FLEX 12x5000 48W-4000lm/m 930 EXC2 | E8: 47.6 | F8: 4850 | G8: 24 | H8: 3000 K | I8: 94 | J8: > 90 | K8: 12 | L8: 50 | M8: 5000 | N8: Aucune | Q8: =IF(E8=Feuil1!E$3,ROW(),"")
B9: 28002798 | D9: LLE FLEX 12x5000 44W-4000lm/m 940 EXC2 | E9: 43.8 | F9: 4730 | G9: 24 | H9: 4000 K | I9: 100 | J9: > 90 | K9: 12 | L9: 50 | M9: 5000 | N9: Aucune | Q9: =IF(E9=Feuil1!E$3,ROW(),"")
B10: 28002799 | D10: LLE FLEX 12x5000 44W-4000lm/m 965 EXC2 | E10: 43.8 | F10: 4730 | G10: 24 | H10: 6500 K | I10: 100 | J10: > 90 | K10: 12 | L10: 50 | M10: 5000 | N10: Aucune | Q10: =IF(E10=Feuil1!E$3,ROW(),"")
B11: 28002821 | D11: LLE FLEX 12x5000 35W-3000lm/m 927 EXC2 | E11: 35 | F11: 3600 | G11: 24 | H11: 3000 K | I11: 95 | J11: > 90 | K11: 12 | L11: 50 | M11: 50000 | N11: Aucune | Q11: =IF(E11=Feuil1!E$3,ROW(),"") -> 11
B12: 28002822 | D12: LLE FLEX 12x5000 35W-3000lm/m 930 EXC2 | E12: 35 | F12: 3700 | G12: 24 | H12: 4000 K | I12: 97 | J12: > 90 | K12: 12 | L12: 50 | M12: 50000 | N12: Aucune | Q12: =IF(E12=Feuil1!E$3,ROW(),"") -> 12
B13: 28002823 | D13: LLE FLEX 12x5000 30W-3000lm/m 940 EXC2 | E13: 30.2 | F13: 3590 | G13: 24 | H13: 6500 K | I13: 110 | J13: > 90 | K13: 12 | L13: 50 | M13: 50000 | N13: Aucune | Q13: =IF(E13=Feuil1!E$3,ROW(),"")
B14: 28002824 | D14: LLE FLEX 12x5000 48W-4000lm/m 927 EXC2 | E14: 47.5 | F14: 4780 | G14: 24 | H14: 3000 K | I14: 92 | J14: > 90 | K14: 12 | L14: 50 | M14: 50000 | N14: Aucune | Q14: =IF(E14=Feuil1!E$3,ROW(),"")
... B16: 28002826 | D16: LLE FLEX 12x5000 44W-4000lm/m 940 EXC2 | E16: 43.8 | F16: 4730 | G16: 24 | H16: 6500 K | I16: 100 | J16: > 90 | K16: 12 | L16: 50 | M16: 50000 | N16: Aucune | Q16: =IF(E16=Feuil1!E$3,ROW(),"")
Q17: =IF(E17=Feuil1!E$3,ROW(),"")
Q18: =IF(E18=Feuil1!E$3,ROW(),"")
Q19: =IF(E19=Feuil1!E$3,ROW(),"")
Q20: =IF(E20=Feuil1!E$3,ROW(),"")
Q21: =IF(E21=Feuil1!E$3,ROW(),"")

Sheet Profile Aluminium
B2: Référence | C2: Visuel | D2: Mode d'installation | E2: Matière | F2: PC Cover | G2: Potentiel de dissipation (W/m) | H2: Spécificité | I2: Largeur Intérieure (mm) | J2: Hauteur (mm) | K2: Largeur extérieure (mm)
B3: TG-FP03 | D3: ? | E3: Argent anodisé | F3: Opal | G3: 10 | H3: Aucune | I3: 11.2 | J3: 6 | K3: 15.2
B4: TG-IFP04 | D4: ? | E4: Argent anodisé | F4: Opal | G4: 10 | H4: Aucune | I4: 11.2 | J4: 12 | K4: 15.2
B5: TG-IRP03 | D5: ? | E5: Argent anodisé | F5: Opal | G5: 10 | H5: Aucune | I5: 11.2 | J5: 6 | K5: 15.2
B6: TG-IRP04 | D6: ? | E6: Argent anodisé | F6: Opal | G6: 10 | H6: Aucune | I6: 11.2 | J6: 12 | K6: 16
B7: TG-ILA04 | D7: ? | E7: Argent anodisé | F7: Opal | G7: 10 | H7: Aucune | I7: 11.2 | J7: 19 | K7: 19
B8: TG-MFP01 | D8: ? | E8: Argent anodisé | F8: Opal | G8: 10 | H8: Magnétique | I8: 11.2 | J8: 10.4 | K8: 17.2
B9: TG-MFP03 | D9: ? | E9: Argent anodisé | F9: Opal | G9: 10 | H9: Magnétique | I9: 11.2 | J9: 9.2 | K9: 15.2
B10: TG-MLA02 | D10: ? | E10: Argent anodisé | F10: Opal | G10: 10 | H10: Magnétique | I10: 12.2 | J10: 19.3 | K10: 16.2
B11: TG-MLP03A | D11: ? | E11: Argent anodisé | F11: Opal | G11: 10 | H11: Magnétique | I11: 16.2 | J11: 18.5 | K11: 20
B12: TG-MLP03B | D12: ? | E12: Argent anodisé | F12: Opal | G12: 10 | H12: Magnétique | I12: 16.2 | J12: 18.5 | K12: 20
B13: TG-MS01 | D13: ? | E13: Argent anodisé | F13: Opal | G13: 10 | H13: Magnétique | I13: 12.8 | J13: 18.2 | K13: 18.2
B14: TG-MSP02 | D14: ? | E14: Argent anodisé | F14: Opal | G14: 10 | H14: Magnétique | I14: 11.2 | J14: 21.4 | K14: 27
