Workbook

Sheet BDD
B1: Equipement1 | C1: Equipement2 | D1: Equipement3 | E1: Equipement4 | F1: Equipement5 | AC1: =MATCH(Nomenclature!$B$1,A1:AA1,0) -> 2
A2: Composant1 | B2: 1 | C2: 1 | D2: 1 | E2: 1 | F2: 1 | AB2: =IF(INDIRECT(ADDRESS(ROW(),$AC$1,4,1),1)*1=0,"",ROW()) -> 2
A3: Composant2 | B3: 4 | AB3: =IF(INDIRECT(ADDRESS(ROW(),$AC$1,4,1),1)*1=0,"",ROW()) -> 3
A4: Composant3 | C4: 4 | AB4: =IF(INDIRECT(ADDRESS(ROW(),$AC$1,4,1),1)*1=0,"",ROW())
A5: Composant4 | D5: 4 | AB5: =IF(INDIRECT(ADDRESS(ROW(),$AC$1,4,1),1)*1=0,"",ROW())
A6: Composant5 | E6: 4 | AB6: =IF(INDIRECT(ADDRESS(ROW(),$AC$1,4,1),1)*1=0,"",ROW())
A7: Composant6 | F7: 4 | AB7: =IF(INDIRECT(ADDRESS(ROW(),$AC$1,4,1),1)*1=0,"",ROW())
A8: Composant7 | B8: 8 | C8: 8 | D8: 8 | E8: 8 | F8: 8 | AB8: =IF(INDIRECT(ADDRESS(ROW(),$AC$1,4,1),1)*1=0,"",ROW()) -> 8
A9: Composant8 | B9: 4 | C9: 4 | D9: 4 | E9: 4 | F9: 4 | AB9: =IF(INDIRECT(ADDRESS(ROW(),$AC$1,4,1),1)*1=0,"",ROW()) -> 9
A10: Composant9 | B10: 1 | D10: 1 | F10: 1 | AB10: =IF(INDIRECT(ADDRESS(ROW(),$AC$1,4,1),1)*1=0,"",ROW()) -> 10
A11: Composant10 | C11: 1 | E11: 1 | AB11: =IF(INDIRECT(ADDRESS(ROW(),$AC$1,4,1),1)*1=0,"",ROW())
AB12: =IF(INDIRECT(ADDRESS(ROW(),$AC$1,4,1),1)*1=0,"",ROW())
AB13: =IF(INDIRECT(ADDRESS(ROW(),$AC$1,4,1),1)*1=0,"",ROW())
AB14: =IF(INDIRECT(ADDRESS(ROW(),$AC$1,4,1),1)*1=0,"",ROW())
AB15: =IF(INDIRECT(ADDRESS(ROW(),$AC$1,4,1),1)*1=0,"",ROW())
AB16: =IF(INDIRECT(ADDRESS(ROW(),$AC$1,4,1),1)*1=0,"",ROW())
AB17: =IF(INDIRECT(ADDRESS(ROW(),$AC$1,4,1),1)*1=0,"",ROW())
AB18: =IF(INDIRECT(ADDRESS(ROW(),$AC$1,4,1),1)*1=0,"",ROW())
AB19: =IF(INDIRECT(ADDRESS(ROW(),$AC$1,4,1),1)*1=0,"",ROW())
AB20: =IF(INDIRECT(ADDRESS(ROW(),$AC$1,4,1),1)*1=0,"",ROW())
AB21: =IF(INDIRECT(ADDRESS(ROW(),$AC$1,4,1),1)*1=0,"",ROW())
AB22: =IF(INDIRECT(ADDRESS(ROW(),$AC$1,4,1),1)*1=0,"",ROW())
AB23: =IF(INDIRECT(ADDRESS(ROW(),$AC$1,4,1),1)*1=0,"",ROW())
... AB41: =IF(INDIRECT(ADDRESS(ROW(),$AC$1,4,1),1)*1=0,"",ROW())

Sheet Nomenclature Exemple
A1: Equiepement : | B1: Equipement2 | D1: Formule
D2: Valeur d'entrée
A3: Composant | B3: QTT
A4: Composant1 | B4: 1
A5: Composant3 | B5: 4
A6: Composant7 | B6: 8
A7: Composant8 | B7: 4
A8: Composant10 | B8: 1

Sheet Nomenclature
A1: Équipement : | B1: Equipement1
A3: Composant | B3: QTT | C3: =COUNTIF(BDD!AB:AB,">"&0) -> 5
A4: =IF(ROW()-3>$C$3,"",INDIRECT("BDD!A"&SMALL(BDD!AB$1:AB$410,ROW()-3),1)) -> Composant1 | B4: =IF(ROW()-3>$C$3,"",INDIRECT(ADDRESS(SMALL(BDD!AB$1:AB$410,ROW()-3),MATCH($B$1,BDD!$A$1:$AA$1,0),4,1,"BDD"),1)) -> 1
A5: =IF(ROW()-3>$C$3,"",INDIRECT("BDD!A"&SMALL(BDD!AB$1:AB$410,ROW()-3),1)) -> Composant2 | B5: =IF(ROW()-3>$C$3,"",INDIRECT(ADDRESS(SMALL(BDD!AB$1:AB$410,ROW()-3),MATCH($B$1,BDD!$A$1:$AA$1,0),4,1,"BDD"),1)) -> 4
A6: =IF(ROW()-3>$C$3,"",INDIRECT("BDD!A"&SMALL(BDD!AB$1:AB$410,ROW()-3),1)) -> Composant7 | B6: =IF(ROW()-3>$C$3,"",INDIRECT(ADDRESS(SMALL(BDD!AB$1:AB$410,ROW()-3),MATCH($B$1,BDD!$A$1:$AA$1,0),4,1,"BDD"),1)) -> 8
A7: =IF(ROW()-3>$C$3,"",INDIRECT("BDD!A"&SMALL(BDD!AB$1:AB$410,ROW()-3),1)) -> Composant8 | B7: =IF(ROW()-3>$C$3,"",INDIRECT(ADDRESS(SMALL(BDD!AB$1:AB$410,ROW()-3),MATCH($B$1,BDD!$A$1:$AA$1,0),4,1,"BDD"),1)) -> 4
A8: =IF(ROW()-3>$C$3,"",INDIRECT("BDD!A"&SMALL(BDD!AB$1:AB$410,ROW()-3),1)) -> Composant9 | B8: =IF(ROW()-3>$C$3,"",INDIRECT(ADDRESS(SMALL(BDD!AB$1:AB$410,ROW()-3),MATCH($B$1,BDD!$A$1:$AA$1,0),4,1,"BDD"),1)) -> 1
A9: =IF(ROW()-3>$C$3,"",INDIRECT("BDD!A"&SMALL(BDD!AB$1:AB$410,ROW()-3),1)) | B9: =IF(ROW()-3>$C$3,"",INDIRECT(ADDRESS(SMALL(BDD!AB$1:AB$410,ROW()-3),MATCH($B$1,BDD!$A$1:$AA$1,0),4,1,"BDD"),1))
A10: =IF(ROW()-3>$C$3,"",INDIRECT("BDD!A"&SMALL(BDD!AB$1:AB$410,ROW()-3),1)) | B10: =IF(ROW()-3>$C$3,"",INDIRECT(ADDRESS(SMALL(BDD!AB$1:AB$410,ROW()-3),MATCH($B$1,BDD!$A$1:$AA$1,0),4,1,"BDD"),1))
A11: =IF(ROW()-3>$C$3,"",INDIRECT("BDD!A"&SMALL(BDD!AB$1:AB$410,ROW()-3),1)) | B11: =IF(ROW()-3>$C$3,"",INDIRECT(ADDRESS(SMALL(BDD!AB$1:AB$410,ROW()-3),MATCH($B$1,BDD!$A$1:$AA$1,0),4,1,"BDD"),1))
A12: =IF(ROW()-3>$C$3,"",INDIRECT("BDD!A"&SMALL(BDD!AB$1:AB$410,ROW()-3),1)) | B12: =IF(ROW()-3>$C$3,"",INDIRECT(ADDRESS(SMALL(BDD!AB$1:AB$410,ROW()-3),MATCH($B$1,BDD!$A$1:$AA$1,0),4,1,"BDD"),1))
A13: =IF(ROW()-3>$C$3,"",INDIRECT("BDD!A"&SMALL(BDD!AB$1:AB$410,ROW()-3),1)) | B13: =IF(ROW()-3>$C$3,"",INDIRECT(ADDRESS(SMALL(BDD!AB$1:AB$410,ROW()-3),MATCH($B$1,BDD!$A$1:$AA$1,0),4,1,"BDD"),1))
A14: =IF(ROW()-3>$C$3,"",INDIRECT("BDD!A"&SMALL(BDD!AB$1:AB$410,ROW()-3),1)) | B14: =IF(ROW()-3>$C$3,"",INDIRECT(ADDRESS(SMALL(BDD!AB$1:AB$410,ROW()-3),MATCH($B$1,BDD!$A$1:$AA$1,0),4,1,"BDD"),1))
A15: =IF(ROW()-3>$C$3,"",INDIRECT("BDD!A"&SMALL(BDD!AB$1:AB$410,ROW()-3),1)) | B15: =IF(ROW()-3>$C$3,"",INDIRECT(ADDRESS(SMALL(BDD!AB$1:AB$410,ROW()-3),MATCH($B$1,BDD!$A$1:$AA$1,0),4,1,"BDD"),1))
... A40: =IF(ROW()-3>$C$3,"",INDIRECT("BDD!A"&SMALL(BDD!AB$1:AB$410,ROW()-3),1)) | B40: =IF(ROW()-3>$C$3,"",INDIRECT(ADDRESS(SMALL(BDD!AB$1:AB$410,ROW()-3),MATCH($B$1,BDD!$A$1:$AA$1,0),4,1,"BDD"),1))
