Workbook

Sheet Grille CAF
A1: GRILLE CAF | H1: =HYPERLINK("https:/forum.excel-pratique.com/excel/grille-tarif-t94296.html","grille-tarif") -> grille-tarif
C3: Revenu annuel du foyer
A4: Nbre d'enfants à charge | C4: Inférieurs à | D4: Compris entre | E4: Supérieur à
C5: 1ère tranche CAF | D5: 2ème tranche CAF | E5: 3ème tranche CAF
A6: 1 enfant | C6: 20509 | D6: 45575 | E6: 45575
A7: par enfant supplémentaire | C7: 2911 | D7: 6469 | E7: 6469
C8: =IF(Tarifs!B5<C6,SUM(C6,(Tarifs!B6-1)*C7),"") -> 29242 | D8: =IF(AND(Tarifs!B5>C6,Tarifs!B5<=D6),SUM(D6,(Tarifs!B6-1)*D7),"") | E8: =IF(Tarifs!B5>E6,SUM(E6,(Tarifs!B6-1)*E7),"") | F8: =IF(AND(Tarifs!$B$5>D8,Tarifs!$B$6=3),3,"") | G8: =IF(AND(Tarifs!$B$5<=D8,Tarifs!$B$5>C8,Tarifs!$B$6=3),2,"") | H8: =IF(AND(Tarifs!$B$5<C8,Tarifs!$B$6=3),1,"")
A10: Age de l'enfant | C10: Montant forfaitaire
A11: Moins de | B11: 3 | C11: 842.84 | D11: 726.55 | E11: 610.32
A12: Plus de | B12: 3 | C12: 421.43 | D12: 363.28 | E12: 305.16
A14: Charge mini à la famille | C14: 0.15
A15: Majoration personne seule | C15: 0.4

Sheet Grille tarifaire
A1: GRILLE TARIFAIRE
C3: Nombre de jours d'accueil dans le mois
A4: 8 | B4: 19 | C4: 1 | D4: 2 | E4: 3 | F4: 4 | G4: 5
A5: Nbre d'heures mensuelles | C5: =(($B$4-$A$4)*C4)*4 -> 44 | D5: =(($B$4-$A$4)*D4)*4 -> 88 | E5: =(($B$4-$A$4)*E4)*4 -> 132 | F5: =(($B$4-$A$4)*F4)*4 -> 176 | G5: =(($B$4-$A$4)*G4)*4 -> 220
A7: 1ère tranche CAF | B7: Taux horaire | C7: 8 | D7: 7 | E7: 6 | F7: 5 | G7: 4
B8: Prix forfait | C8: =C5*C7 -> 352 | D8: =D5*D7 -> 616 | E8: =E5*E7 -> 792 | F8: =F5*F7 -> 880 | G8: =G5*G7 -> 880
A10: 2ème tranche CAF | B10: Taux horaire | C10: 9 | D10: 8 | E10: 7 | F10: 6 | G10: 5
B11: Prix forfait | C11: =C5*C10 -> 396 | D11: =D5*D10 -> 704 | E11: =E5*E10 -> 924 | F11: =F5*F10 -> 1056 | G11: =G5*G10 -> 1100
A13: 3ème tranche CAF | B13: Taux horaire | C13: 10 | D13: 9 | E13: 8 | F13: 7 | G13: 6
B14: Prix forfait | C14: =C5*C13 -> 440 | D14: =D5*D13 -> 792 | E14: =E5*E13 -> 1056 | F14: =F5*F13 -> 1232 | G14: =G5*G13 -> 1320

Sheet Tarifs
E1: GRILLE TARIFAIRE
F3: Nombre de jours d'accueil dans le mois
F4: 1 | G4: 2 | H4: 3 | I4: 4 | J4: 5
A5: Revenu fiscal de référence | B5: 20400 | E5: Nbre d'heures mensuelles | F5: =(($C$10-$B$10)*F4)*4 -> 44 | G5: =(($C$10-$B$10)*G4)*4 -> 88 | H5: =(($C$10-$B$10)*H4)*4 -> 132 | I5: =(($C$10-$B$10)*I4)*4 -> 176 | J5: =(($C$10-$B$10)*J4)*4 -> 220
A6: Nombre d'enfants de moins de 6 ans : | B6: =COUNTIF(B13:B17,"<6") -> 4 | E6: Taux horaire | F6: =IF(B8=1,'Grille tarifaire'!C7,IF(B8=2,'Grille tarifaire'!C10,IF(B8=3,'Grille tarifaire'!C13,""))) -> 9 | G6: =IF(B8=1,'Grille tarifaire'!D7,IF(B8=2,'Grille tarifaire'!D10,IF(B8=3,'Grille tarifaire'!D13,""))) -> 8 | H6: =IF(B8=1,'Grille tarifaire'!E7,IF(B8=2,'Grille tarifaire'!E10,IF(B8=3,'Grille tarifaire'!E13,""))) -> 7 | I6: =IF(B8=1,'Grille tarifaire'!F7,IF(B8=2,'Grille tarifaire'!F10,IF(B8=3,'Grille tarifaire'!F13,""))) -> 6 | J6: =IF(B8=1,'Grille tarifaire'!G7,IF(B8=2,'Grille tarifaire'!G10,IF(B8=3,'Grille tarifaire'!G13,""))) -> 5
A7: Couple (2) / personne seule (1) | B7: 2 | E7: Prix forfait | F7: =F5*F6 -> 396 | G7: =G5*G6 -> 704 | H7: =H5*H6 -> 924 | I7: =I5*I6 -> 1056 | J7: =J5*J6 -> 1100
A8: Age enfant à garder : | B8: 2 | E8: Aide CAF CMG maxi | F8: =IF($B$7=1,1.4*$C$20,$C$20)*F4 -> 2528.54 | G8: =IF($B$7=1,1.4*$C$20,$C$20)*G4 -> 5057.08 | H8: =IF($B$7=1,1.4*$C$20,$C$20)*H4 -> 7585.62 | I8: =IF($B$7=1,1.4*$C$20,$C$20)*I4 -> 10114.16 | J8: =IF($B$7=1,1.4*$C$20,$C$20)*J4 -> 12642.7
A9: Tranche : | B9: =IF(B5>45575,3,IF(AND(B5<=45575,B5>=20509),2,IF(B5<20509,1,""))) -> 1 | E9: Aide CAF CMG alloué | F9: =IF((F7*'Grille CAF'!$C$14)>(F7-F8),F7-(F7*'Grille CAF'!$C$14),F8) -> 336.6 | G9: =IF((G7*'Grille CAF'!$C$14)>(G7-G8),G7-(G7*'Grille CAF'!$C$14),G8) -> 598.4 | H9: =IF((H7*'Grille CAF'!$C$14)>(H7-H8),H7-(H7*'Grille CAF'!$C$14),H8) -> 785.4 | I9: =IF((I7*'Grille CAF'!$C$14)>(I7-I8),I7-(I7*'Grille CAF'!$C$14),I8) -> 897.6 | J9: =IF((J7*'Grille CAF'!$C$14)>(J7-J8),J7-(J7*'Grille CAF'!$C$14),J8) -> 935
A10: Horaires : | B10: 8 | C10: 19 | E10: A la charge des familles | F10: =F7-F9 -> 59.4 | G10: =G7-G9 -> 105.6 | H10: =H7-H9 -> 138.6 | I10: =I7-I9 -> 158.4 | J10: =J7-J9 -> 165
A12: =IF(B6>1,"dates de naissance des enfants","date de naissance de l'enfant")&" ( "&B6&" )" -> dates de naissance des enfants ( 4 ) | B12: âge
A13: 38158 | B13: =DATEDIF(A13,TODAY(),"y") -> 12
A14: 41586 | B14: =DATEDIF(A14,TODAY(),"y") -> 3
A15: 41232 | B15: =DATEDIF(A15,TODAY(),"y") -> 4
A16: 41873 | B16: =DATEDIF(A16,TODAY(),"y") -> 2
A17: 42335 | B17: =DATEDIF(A17,TODAY(),"y") -> 1
A18: ≥ 3 ans | B18: =COUNTIFS(B13:B17,">=3",B13:B17,"<6") -> 2 | C18: =IF(B18="","",IF(B9=1,'Grille CAF'!C11*B18,IF(B9=2,'Grille CAF'!D11*B18,IF(B9=3,'Grille CAF'!E11*B18,"")))) -> 1685.68
A19: < 3 ans | B19: =B6-B18 -> 2 | C19: =IF(B19="","",IF(B9=1,'Grille CAF'!C12*B19,IF(B9=2,'Grille CAF'!D12*B19,IF(B9=3,'Grille CAF'!E12*B19,"")))) -> 842.86
C20: =SUM(C18:C19) -> 2528.54

Sheet Feuil1
A1: Num | B1: Noms
A2: =COUNTIFS($B$2:$B2,$B2,$B$2:$B2,"><"&"") -> 0 | B2: =T(#REF!) -> #N/A
A3: =COUNTIFS($B$2:$B3,$B3,$B$2:$B3,"><"&"") -> 0 | B3: =T(#REF!) -> #N/A
A4: =COUNTIFS($B$2:$B4,$B4,$B$2:$B4,"><"&"") -> 0 | B4: =T(#REF!) -> #N/A
A5: =COUNTIFS($B$2:$B5,$B5,$B$2:$B5,"><"&"") -> 0 | B5: =T(#REF!) -> #N/A
A6: =COUNTIFS($B$2:$B6,$B6,$B$2:$B6,"><"&"") -> 0 | B6: =T(#REF!) -> #N/A
A7: =COUNTIFS($B$2:$B7,$B7,$B$2:$B7,"><"&"") -> 0 | B7: =T(#REF!) -> #N/A
A8: =COUNTIFS($B$2:$B8,$B8,$B$2:$B8,"><"&"") -> #N/A | B8: =T(#REF!) -> #N/A
A9: =COUNTIFS($B$2:$B9,$B9,$B$2:$B9,"><"&"") -> #N/A | B9: =T(#REF!) -> #N/A
A10: =COUNTIFS($B$2:$B10,$B10,$B$2:$B10,"><"&"") -> #N/A | B10: =T(#REF!) -> #N/A
A11: =COUNTIFS($B$2:$B11,$B11,$B$2:$B11,"><"&"") -> #N/A | B11: =T(#REF!) -> #N/A
A12: =COUNTIFS($B$2:$B12,$B12,$B$2:$B12,"><"&"") -> #N/A | B12: =T(#REF!) -> #N/A
A13: =COUNTIFS($B$2:$B13,$B13,$B$2:$B13,"><"&"") -> #N/A | B13: =T(#REF!) -> #N/A
... A110: =COUNTIFS($B$2:$B110,$B110,$B$2:$B110,"><"&"") -> #N/A | B110: =T(#REF!) -> #N/A
