Workbook

Sheet CALCUL
A1: Début | B1: Fin | C1: Plage | D1: Durée
A2: 43466.792 | B2: 43467.396 | C2: 24/7 | D2: =IF(A2*B2=0,"",IF(C2="24/7",B2-A2,NETWORKDAYS($A2,$B2,FERIES)*(PARAMETRES!$A$20-PARAMETRES!$A$19)-NETWORKDAYS($A2,$A2,FERIES)*(MAX(0,MOD(A2,1)-PARAMETRES!$A$19)-MAX(0,MOD(A2,1)-PARAMETRES!$A$20))-NETWORKDAYS($B2,$B2,FERIES)*(MAX(0,PARAMETRES!$A$20-MOD(B2,1))-MAX(0,PARAMETRES!$A$19-MOD(B2,1))))) -> 0.60416667 | F2: =IF(C2="HO",B2+IF(WEEKDAY(A2+1,2)=6,5/24,0)-(A2+(DATEDIF(A2,B2,"d")/2)-IF(WEEKDAY(A2+2,2)=7,-1,0)),B2-A2) -> 0.60416667
A3: 43466.792 | B3: 43467.396 | C3: HO | D3: =IF(A3*B3=0,"",IF(C3="24/7",B3-A3,NETWORKDAYS($A3,$B3,FERIES)*(PARAMETRES!$A$20-PARAMETRES!$A$19)-NETWORKDAYS($A3,$A3,FERIES)*(MAX(0,MOD(A3,1)-PARAMETRES!$A$19)-MAX(0,MOD(A3,1)-PARAMETRES!$A$20))-NETWORKDAYS($B3,$B3,FERIES)*(MAX(0,PARAMETRES!$A$20-MOD(B3,1))-MAX(0,PARAMETRES!$A$19-MOD(B3,1))))) -> 0.0625 | F3: =IF(C3="HO",B3+IF(WEEKDAY(A3+1,2)=6,5/24,0)-(A3+(DATEDIF(A3,B3,"d")/2)-IF(WEEKDAY(A3+2,2)=7,-1,0)),B3-A3) -> 0.10416667
A4: 43549.699 | B4: 43549.725 | C4: 24/7 | D4: =IF(A4*B4=0,"",IF(C4="24/7",B4-A4,NETWORKDAYS($A4,$B4,FERIES)*(PARAMETRES!$A$20-PARAMETRES!$A$19)-NETWORKDAYS($A4,$A4,FERIES)*(MAX(0,MOD(A4,1)-PARAMETRES!$A$19)-MAX(0,MOD(A4,1)-PARAMETRES!$A$20))-NETWORKDAYS($B4,$B4,FERIES)*(MAX(0,PARAMETRES!$A$20-MOD(B4,1))-MAX(0,PARAMETRES!$A$19-MOD(B4,1))))) -> 0.026388889 | F4: =IF(C4="HO",B4+IF(WEEKDAY(A4+1,2)=6,5/24,0)-(A4+(DATEDIF(A4,B4,"d")/2)-IF(WEEKDAY(A4+2,2)=7,-1,0)),B4-A4) -> 0.026388889
A5: 43551.424 | B5: 43551.608 | C5: 24/7 | D5: =IF(A5*B5=0,"",IF(C5="24/7",B5-A5,NETWORKDAYS($A5,$B5,FERIES)*(PARAMETRES!$A$20-PARAMETRES!$A$19)-NETWORKDAYS($A5,$A5,FERIES)*(MAX(0,MOD(A5,1)-PARAMETRES!$A$19)-MAX(0,MOD(A5,1)-PARAMETRES!$A$20))-NETWORKDAYS($B5,$B5,FERIES)*(MAX(0,PARAMETRES!$A$20-MOD(B5,1))-MAX(0,PARAMETRES!$A$19-MOD(B5,1))))) -> 0.18402778 | F5: =IF(C5="HO",B5+IF(WEEKDAY(A5+1,2)=6,5/24,0)-(A5+(DATEDIF(A5,B5,"d")/2)-IF(WEEKDAY(A5+2,2)=7,-1,0)),B5-A5) -> 0.18402778
A6: 43553.792 | B6: 43556.396 | C6: HO | D6: =IF(A6*B6=0,"",IF(C6="24/7",B6-A6,NETWORKDAYS($A6,$B6,FERIES)*(PARAMETRES!$A$20-PARAMETRES!$A$19)-NETWORKDAYS($A6,$A6,FERIES)*(MAX(0,MOD(A6,1)-PARAMETRES!$A$19)-MAX(0,MOD(A6,1)-PARAMETRES!$A$20))-NETWORKDAYS($B6,$B6,FERIES)*(MAX(0,PARAMETRES!$A$20-MOD(B6,1))-MAX(0,PARAMETRES!$A$19-MOD(B6,1))))) -> 0.10416667 | F6: =IF(C6="HO",B6+IF(WEEKDAY(A6+1,2)=6,5/24,0)-(A6+(DATEDIF(A6,B6,"d")/2)-IF(WEEKDAY(A6+2,2)=7,-1,0)),B6-A6) -> 0.3125 | G6: "= 1 HO le vendredi + 5 HO le samedi – 24 HO le dimanche + 1:30 HO le lundi »
A7: 43553.792 | B7: 43556.396 | C7: 24/7 | D7: =IF(A7*B7=0,"",IF(C7="24/7",B7-A7,NETWORKDAYS($A7,$B7,FERIES)*(PARAMETRES!$A$20-PARAMETRES!$A$19)-NETWORKDAYS($A7,$A7,FERIES)*(MAX(0,MOD(A7,1)-PARAMETRES!$A$19)-MAX(0,MOD(A7,1)-PARAMETRES!$A$20))-NETWORKDAYS($B7,$B7,FERIES)*(MAX(0,PARAMETRES!$A$20-MOD(B7,1))-MAX(0,PARAMETRES!$A$19-MOD(B7,1))))) -> 2.6041667 | F7: =IF(C7="HO",B7+IF(WEEKDAY(A7+1,2)=6,5/24,0)-(A7+(DATEDIF(A7,B7,"d")/2)-IF(WEEKDAY(A7+2,2)=7,-1,0)),B7-A7) -> 2.6041667

Sheet PARAMETRES
A1: Année | B1: 2019 | C1: Formule (pour référence)
A3: Jour de l'an | B3: =DATE($B$1,1,1) -> 43466 | C3: =_xlfn.FORMULATEXT(B3) -> =DATE($B$1;1;1)
A4: Pâques | B4: =FLOOR(DAY(MINUTE($B$1/38)/2+56)&"/5/"&$B$1,7)-34 -> 43576 | C4: =_xlfn.FORMULATEXT(B4) -> =PLANCHER.XCL(JOUR(MINUTE($B$1/38)/2+56)&"/5/"&$B$1;7)-34
A5: Lundi de Pâques | B5: =B4+1 -> 43577 | C5: =_xlfn.FORMULATEXT(B5) -> =B4+1
A6: Fête du travail | B6: =DATE($B$1,5,1) -> 43586 | C6: =_xlfn.FORMULATEXT(B6) -> =DATE($B$1;5;1)
A7: Victoire 39/45 | B7: =DATE($B$1,5,8) -> 43593 | C7: =_xlfn.FORMULATEXT(B7) -> =DATE($B$1;5;8)
A8: Ascension | B8: =B4+39 -> 43615 | C8: =_xlfn.FORMULATEXT(B8) -> =B4+39
A9: Pentecôte | B9: =B4+49 -> 43625 | C9: =_xlfn.FORMULATEXT(B9) -> =B4+49
A10: Lundi de Pentecôte | B10: =B4+50 -> 43626 | C10: =_xlfn.FORMULATEXT(B10) -> =B4+50
A11: Fête Nationale | B11: =DATE($B$1,7,14) -> 43660 | C11: =_xlfn.FORMULATEXT(B11) -> =DATE($B$1;7;14)
A12: Assomption | B12: =DATE($B$1,8,15) -> 43692 | C12: =_xlfn.FORMULATEXT(B12) -> =DATE($B$1;8;15)
A13: Toussaint | B13: =DATE($B$1,11,1) -> 43770 | C13: =_xlfn.FORMULATEXT(B13) -> =DATE($B$1;11;1)
A14: Armistice 14/18 | B14: =DATE($B$1,11,11) -> 43780 | C14: =_xlfn.FORMULATEXT(B14) -> =DATE($B$1;11;11)
A15: Noël | B15: =DATE($B$1,12,25) -> 43824 | C15: =_xlfn.FORMULATEXT(B15) -> =DATE($B$1;12;25)
A18: Heures ouvrées
A19: 0.33333333
A20: 0.83333333
