Workbook

Sheet Feuille3
A1: =WEEKDAY(A4,1) -> 7 | B1: =TEXT(A1,"jjjjj") -> samedi | F1: Tableau
A2: Mois de : | E2: 6 | F2: Année : | G2: 2019
A4: =DATE($G$2,$E$2,1) -> 43617 | B4: =DATE($G$2,$E$2,1) -> 43617 | D4: =WORKDAY(B4,1,Feuil1!$C$20:$C$32) -> 43619 | F4: =WORKDAY(D4,1,Feuil1!$C$20:$C$32) -> 43620 | H4: =WORKDAY(F4,1,Feuil1!$C$20:$C$32) -> 43621 | J4: =WORKDAY(H4,1,Feuil1!$C$20:$C$32) -> 43622 | L4: =WORKDAY(J4,1,Feuil1!$C$20:$C$32) -> 43623 | N4: =WORKDAY(L4,1,Feuil1!$C$20:$C$32) -> 43626 | P4: =WORKDAY(N4,1,Feuil1!$C$20:$C$32) -> 43627 | R4: =WORKDAY(P4,1,Feuil1!$C$20:$C$32) -> 43628 | T4: =WORKDAY(R4,1,Feuil1!$C$20:$C$32) -> 43629 | V4: =WORKDAY(T4,1,Feuil1!$C$20:$C$32) -> 43630 | X4: =WORKDAY(V4,1,Feuil1!$C$20:$C$32) -> 43633 | Z4: =WORKDAY(X4,1,Feuil1!$C$20:$C$32) -> 43634 | AB4: =WORKDAY(Z4,1,Feuil1!$C$20:$C$32) -> 43635 | AD4: =WORKDAY(AB4,1,Feuil1!$C$20:$C$32) -> 43636 | AF4: =WORKDAY(AD4,1,Feuil1!$C$20:$C$32) -> 43637 | AH4: =WORKDAY(AF4,1,Feuil1!$C$20:$C$32) -> 43640 | AJ4: =WORKDAY(AH4,1,Feuil1!$C$20:$C$32) -> 43641 | AL4: =WORKDAY(AJ4,1,Feuil1!$C$20:$C$32) -> 43642 | AN4: =WORKDAY(AL4,1,Feuil1!$C$20:$C$32) -> 43643 | AP4: =WORKDAY(AN4,1,Feuil1!$C$20:$C$32) -> 43644 | AR4: =WORKDAY(AP4,1,Feuil1!$C$20:$C$32) -> 43647 | AT4: =WORKDAY(AR4,1,Feuil1!$C$20:$C$32) -> 43648 | AV4: =WORKDAY(AT4,1,Feuil1!$C$20:$C$32) -> 43649

Sheet Feuil1
B1: Barakani 1 | D1: Janvier
B2: Barakani 2 | D2: Février
B3: Barakani mat. | D3: Mars | F3: P.S.
B4: Ouangani 1 | D4: Avril | F4: P.S./M.S.
B5: Ouangani 2 | D5: Mai | F5: M.S.
B6: Ouangani mat. | D6: Juin | F6: M.S./G.S.
B7: Kahani primaire | D7: Juillet | F7: G.S.
B8: Combani 1A | D8: Août | F8: CP
B9: Combani 1B | D9: Septembre | F9: CP/CE1
B10: Combani 1 mat. | D10: Octobre | F10: CE1
B11: Combani 2 | D11: Novembre | F11: CE1/CE2
B12: Combani 2 mat. | D12: Juillet | F12: CE2
B13: Tsingoni élèm. | F13: CM1
B14: Tsingoni mat. | D14: Matin | F14: CM1/CM2
B15: M'roalé | D15: Après-midi | F15: CM2
B18: Année | C18: =YEAR(Feuille3!C3) -> 1900
B20: 1er Janvier | C20: =DATE($C$18,1,1) -> 1 | E20: ZIL informé
B21: Pâques | C21: =ROUND(DATE($C$18,4,MOD(234-11*MOD($C$18,19),30))/7,)*7-6 -> 106 | E21: ZIL pas informé
B22: Lundi de Pâques | C22: =C21+1 -> 107
B23: 1er Mai | C23: =DATE($C$18,5,1) -> 122
B24: 8 Mai | C24: =DATE($C$18,5,8) -> 129
B25: Ascenscion | C25: =C21+39 -> 145
B26: Pentecôte | C26: =C21+49 -> 155
B27: Lundi de la Pentecôte | C27: =C21+50 -> 156
B28: 14 Juillet | C28: =DATE($C$18,7,14) -> 196
B29: 15 Août | C29: =DATE($C$18,8,15) -> 228
B30: 1er Novembre | C30: =DATE($C$18,11,1) -> 306
B31: 11 Novembre | C31: =DATE($C$18,11,11) -> 316
B32: 25 Décembre | C32: =DATE($C$18,12,25) -> 360
C34: =C18+1 -> 1901
B35: 1er Janvier | C35: =DATE($C$34,1,1) -> 367
B36: Pâques | C36: =ROUND(DATE($C$34,4,MOD(234-11*MOD($C$34,19),30))/7,)*7-6 -> 463
B37: Lundi de Pâques | C37: =C36+1 -> 464
B38: 1er Mai | C38: =DATE($C$34,5,1) -> 487
B39: 8 Mai | C39: =DATE($C$34,5,8) -> 494
B40: Ascenscion | C40: =C36+39 -> 502
B41: Pentecôte | C41: =C36+49 -> 512
B42: Lundi de la Pentecôte | C42: =C36+50 -> 513
B43: 14 Juillet | C43: =DATE($C$34,7,14) -> 561
B44: 15 Août | C44: =DATE($C$34,8,15) -> 593
...
