Workbook

Sheet Sheet1
A1: ETD Expedition | B1: REF | C1: Destinataire | D1: NB Colis | E1: UQ | F1: PB | G1: UQ | H1: CIE | I1: Booking Ref Cie | J1: Nr Container | K1: Depart Vessel | L1: Date PU demandee | M1: Date de Chargement | N1: Origine | O1: POL | P1: ETD Navire | Q1: ATD Navire | R1: POD | S1: ETA Navire | T1: ATA Navire | U1: Dest. | V1: Dest. ETA
A2: 43556 | B2: E312546 | C2: CHONG | D2: 14 | E2: PKG | F2: 19000 | G2: KG | H2: MSC | I2: 187916 | J2: CAIU4318516 (40GP), FCIU7363137 (40GP), MEDU7874973 (40GP), MSCU9097752 (40GP), MSCU9378472 (40GP), TGHU8642494 (40GP) | K2: MSC PIPIN | L2: 43637.375 | M2: 43636.375 | N2: FRAMJ | O2: BEANR | P2: 43648 | Q2: 43648.25 | R2: USNYC | S2: 43694 | U2: USNYC | V2: 43701

Sheet Traitmt
A1: =INDIRECT("Sheet1!J"&A2,1) -> CAIU4318516 (40GP), FCIU7363137 (40GP), MEDU7874973 (40GP), MSCU9097752 (40GP), MSCU9378472 (40GP), TGHU8642494 (40GP) | B1: =IFERROR(MID(A1,SEARCH(CHAR(44),A1)+2,LEN(A1)),"") -> FCIU7363137 (40GP), MEDU7874973 (40GP), MSCU9097752 (40GP), MSCU9378472 (40GP), TGHU8642494 (40GP) | C1: =IFERROR(MID(B1,SEARCH(CHAR(44),B1)+2,LEN(B1)),"") -> MEDU7874973 (40GP), MSCU9097752 (40GP), MSCU9378472 (40GP), TGHU8642494 (40GP) | D1: =IFERROR(MID(C1,SEARCH(CHAR(44),C1)+2,LEN(C1)),"") -> MSCU9097752 (40GP), MSCU9378472 (40GP), TGHU8642494 (40GP) | E1: =IFERROR(MID(D1,SEARCH(CHAR(44),D1)+2,LEN(D1)),"") -> MSCU9378472 (40GP), TGHU8642494 (40GP) | F1: =IFERROR(MID(E1,SEARCH(CHAR(44),E1)+2,LEN(E1)),"") -> TGHU8642494 (40GP) | G1: =IFERROR(MID(F1,SEARCH(CHAR(44),F1)+2,LEN(F1)),"") | H1: =IFERROR(MID(G1,SEARCH(CHAR(44),G1)+2,LEN(G1)),"") | I1: =IFERROR(MID(H1,SEARCH(CHAR(44),H1)+2,LEN(H1)),"") | J1: =IFERROR(MID(I1,SEARCH(CHAR(44),I1)+2,LEN(I1)),"")
A2: 2 | B2: < N° de ligne à décortiquer
A8: =HYPERLINK("#"&CONCATENATE("A11:",ADDRESS(MAX(W11:W20),22,4,1)),"Cliquer, copier/coller vers le bloc note puis copier/coller à suivre dans la feuille N°Cont") -> Cliquer, copier/coller vers le bloc note puis copier/coller à suivre dans la feuille N°Cont
A9: =lien_hypertexte("#"&CONCATENATE("A11:",ADDRESS(MAX(W11:W20),22,4,1)),"Cliquer, copier/coller vers le bloc note puis copier/coller à suivre dans la feuille N°Cont") -> #NAME?
A11: =IF($J11="","",Sheet1!A2) -> 43556 | B11: =IF($J11="","",Sheet1!B2) -> E312546 | C11: =IF($J11="","",Sheet1!C2) -> CHONG | D11: =IF($J11="","",Sheet1!D2) -> 14 | E11: =IF($J11="","",Sheet1!E2) -> PKG | F11: =IF($J11="","",Sheet1!F2) -> 19000 | G11: =IF($J11="","",Sheet1!G2) -> KG | H11: =IF($J11="","",Sheet1!H2) -> MSC | I11: =IF($J11="","",Sheet1!I2) -> 187916 | J11: =SUBSTITUTE(SUBSTITUTE(INDIRECT(ADDRESS(1,ROW()-10,4,1)),INDIRECT(ADDRESS(1,ROW()-9,4,1)),""),CHAR(44),"") -> CAIU4318516 (40GP) | K11: =IF($J11="","",Sheet1!K2) -> MSC PIPIN | L11: =IF($J11="","",Sheet1!L2) -> 43637.375 | M11: =IF($J11="","",Sheet1!M2) -> 43636.375 | N11: =IF($J11="","",Sheet1!N2) -> FRAMJ | O11: =IF($J11="","",Sheet1!O2) -> BEANR | P11: =IF($J11="","",Sheet1!P2) -> 43648 | Q11: =IF($J11="","",Sheet1!Q2) -> 43648.25 | R11: =IF($J11="","",Sheet1!R2) -> USNYC | ... V11: =IF($J11="","",Sheet1!V2) -> 43701 | W11: =IF(V11="","",ROW()) -> 11
A12: =IF($J12="","",A$11) -> 43556 | B12: =IF($J12="","",B$11) -> E312546 | C12: =IF($J12="","",C$11) -> CHONG | D12: =IF($J12="","",D$11) -> 14 | E12: =IF($J12="","",E$11) -> PKG | F12: =IF($J12="","",F$11) -> 19000 | G12: =IF($J12="","",G$11) -> KG | H12: =IF($J12="","",H$11) -> MSC | I12: =IF($J12="","",I$11) -> 187916 | J12: =SUBSTITUTE(SUBSTITUTE(INDIRECT(ADDRESS(1,ROW()-10,4,1)),INDIRECT(ADDRESS(1,ROW()-9,4,1)),""),CHAR(44),"") -> FCIU7363137 (40GP) | K12: =IF($J12="","",K$11) -> MSC PIPIN | L12: =IF($J12="","",L$11) -> 43637.375 | M12: =IF($J12="","",M$11) -> 43636.375 | N12: =IF($J12="","",N$11) -> FRAMJ | O12: =IF($J12="","",O$11) -> BEANR | P12: =IF($J12="","",P$11) -> 43648 | Q12: =IF($J12="","",Q$11) -> 43648.25 | R12: =IF($J12="","",R$11) -> USNYC | ... V12: =IF($J12="","",V$11) -> 43701 | W12: =IF(V12="","",ROW()) -> 12
A13: =IF($J13="","",A$11) -> 43556 | B13: =IF($J13="","",B$11) -> E312546 | C13: =IF($J13="","",C$11) -> CHONG | D13: =IF($J13="","",D$11) -> 14 | E13: =IF($J13="","",E$11) -> PKG | F13: =IF($J13="","",F$11) -> 19000 | G13: =IF($J13="","",G$11) -> KG | H13: =IF($J13="","",H$11) -> MSC | I13: =IF($J13="","",I$11) -> 187916 | J13: =SUBSTITUTE(SUBSTITUTE(INDIRECT(ADDRESS(1,ROW()-10,4,1)),INDIRECT(ADDRESS(1,ROW()-9,4,1)),""),CHAR(44),"") -> MEDU7874973 (40GP) | K13: =IF($J13="","",K$11) -> MSC PIPIN | L13: =IF($J13="","",L$11) -> 43637.375 | M13: =IF($J13="","",M$11) -> 43636.375 | N13: =IF($J13="","",N$11) -> FRAMJ | O13: =IF($J13="","",O$11) -> BEANR | P13: =IF($J13="","",P$11) -> 43648 | Q13: =IF($J13="","",Q$11) -> 43648.25 | R13: =IF($J13="","",R$11) -> USNYC | ... V13: =IF($J13="","",V$11) -> 43701 | W13: =IF(V13="","",ROW()) -> 13
A14: =IF($J14="","",A$11) -> 43556 | B14: =IF($J14="","",B$11) -> E312546 | C14: =IF($J14="","",C$11) -> CHONG | D14: =IF($J14="","",D$11) -> 14 | E14: =IF($J14="","",E$11) -> PKG | F14: =IF($J14="","",F$11) -> 19000 | G14: =IF($J14="","",G$11) -> KG | H14: =IF($J14="","",H$11) -> MSC | I14: =IF($J14="","",I$11) -> 187916 | J14: =SUBSTITUTE(SUBSTITUTE(INDIRECT(ADDRESS(1,ROW()-10,4,1)),INDIRECT(ADDRESS(1,ROW()-9,4,1)),""),CHAR(44),"") -> MSCU9097752 (40GP) | K14: =IF($J14="","",K$11) -> MSC PIPIN | L14: =IF($J14="","",L$11) -> 43637.375 | M14: =IF($J14="","",M$11) -> 43636.375 | N14: =IF($J14="","",N$11) -> FRAMJ | O14: =IF($J14="","",O$11) -> BEANR | P14: =IF($J14="","",P$11) -> 43648 | Q14: =IF($J14="","",Q$11) -> 43648.25 | R14: =IF($J14="","",R$11) -> USNYC | ... V14: =IF($J14="","",V$11) -> 43701 | W14: =IF(V14="","",ROW()) -> 14
A15: =IF($J15="","",A$11) -> 43556 | B15: =IF($J15="","",B$11) -> E312546 | C15: =IF($J15="","",C$11) -> CHONG | D15: =IF($J15="","",D$11) -> 14 | E15: =IF($J15="","",E$11) -> PKG | F15: =IF($J15="","",F$11) -> 19000 | G15: =IF($J15="","",G$11) -> KG | H15: =IF($J15="","",H$11) -> MSC | I15: =IF($J15="","",I$11) -> 187916 | J15: =SUBSTITUTE(SUBSTITUTE(INDIRECT(ADDRESS(1,ROW()-10,4,1)),INDIRECT(ADDRESS(1,ROW()-9,4,1)),""),CHAR(44),"") -> MSCU9378472 (40GP) | K15: =IF($J15="","",K$11) -> MSC PIPIN | L15: =IF($J15="","",L$11) -> 43637.375 | M15: =IF($J15="","",M$11) -> 43636.375 | N15: =IF($J15="","",N$11) -> FRAMJ | O15: =IF($J15="","",O$11) -> BEANR | P15: =IF($J15="","",P$11) -> 43648 | Q15: =IF($J15="","",Q$11) -> 43648.25 | R15: =IF($J15="","",R$11) -> USNYC | ... V15: =IF($J15="","",V$11) -> 43701 | W15: =IF(V15="","",ROW()) -> 15
A16: =IF($J16="","",A$11) -> 43556 | B16: =IF($J16="","",B$11) -> E312546 | C16: =IF($J16="","",C$11) -> CHONG | D16: =IF($J16="","",D$11) -> 14 | E16: =IF($J16="","",E$11) -> PKG | F16: =IF($J16="","",F$11) -> 19000 | G16: =IF($J16="","",G$11) -> KG | H16: =IF($J16="","",H$11) -> MSC | I16: =IF($J16="","",I$11) -> 187916 | J16: =SUBSTITUTE(SUBSTITUTE(INDIRECT(ADDRESS(1,ROW()-10,4,1)),INDIRECT(ADDRESS(1,ROW()-9,4,1)),""),CHAR(44),"") -> TGHU8642494 (40GP) | K16: =IF($J16="","",K$11) -> MSC PIPIN | L16: =IF($J16="","",L$11) -> 43637.375 | M16: =IF($J16="","",M$11) -> 43636.375 | N16: =IF($J16="","",N$11) -> FRAMJ | O16: =IF($J16="","",O$11) -> BEANR | P16: =IF($J16="","",P$11) -> 43648 | Q16: =IF($J16="","",Q$11) -> 43648.25 | R16: =IF($J16="","",R$11) -> USNYC | ... V16: =IF($J16="","",V$11) -> 43701 | W16: =IF(V16="","",ROW()) -> 16
A17: =IF($J17="","",A$11) | B17: =IF($J17="","",B$11) | C17: =IF($J17="","",C$11) | D17: =IF($J17="","",D$11) | E17: =IF($J17="","",E$11) | F17: =IF($J17="","",F$11) | G17: =IF($J17="","",G$11) | H17: =IF($J17="","",H$11) | I17: =IF($J17="","",I$11) | J17: =SUBSTITUTE(SUBSTITUTE(INDIRECT(ADDRESS(1,ROW()-10,4,1)),INDIRECT(ADDRESS(1,ROW()-9,4,1)),""),CHAR(44),"") | K17: =IF($J17="","",K$11) | L17: =IF($J17="","",L$11) | M17: =IF($J17="","",M$11) | N17: =IF($J17="","",N$11) | O17: =IF($J17="","",O$11) | P17: =IF($J17="","",P$11) | Q17: =IF($J17="","",Q$11) | R17: =IF($J17="","",R$11) | ... V17: =IF($J17="","",V$11) | W17: =IF(V17="","",ROW())
A18: =IF($J18="","",A$11) | B18: =IF($J18="","",B$11) | C18: =IF($J18="","",C$11) | D18: =IF($J18="","",D$11) | E18: =IF($J18="","",E$11) | F18: =IF($J18="","",F$11) | G18: =IF($J18="","",G$11) | H18: =IF($J18="","",H$11) | I18: =IF($J18="","",I$11) | J18: =SUBSTITUTE(SUBSTITUTE(INDIRECT(ADDRESS(1,ROW()-10,4,1)),INDIRECT(ADDRESS(1,ROW()-9,4,1)),""),CHAR(44),"") | K18: =IF($J18="","",K$11) | L18: =IF($J18="","",L$11) | M18: =IF($J18="","",M$11) | N18: =IF($J18="","",N$11) | O18: =IF($J18="","",O$11) | P18: =IF($J18="","",P$11) | Q18: =IF($J18="","",Q$11) | R18: =IF($J18="","",R$11) | ... V18: =IF($J18="","",V$11) | W18: =IF(V18="","",ROW())
A19: =IF($J19="","",A$11) | B19: =IF($J19="","",B$11) | C19: =IF($J19="","",C$11) | D19: =IF($J19="","",D$11) | E19: =IF($J19="","",E$11) | F19: =IF($J19="","",F$11) | G19: =IF($J19="","",G$11) | H19: =IF($J19="","",H$11) | I19: =IF($J19="","",I$11) | J19: =SUBSTITUTE(SUBSTITUTE(INDIRECT(ADDRESS(1,ROW()-10,4,1)),INDIRECT(ADDRESS(1,ROW()-9,4,1)),""),CHAR(44),"") | K19: =IF($J19="","",K$11) | L19: =IF($J19="","",L$11) | M19: =IF($J19="","",M$11) | N19: =IF($J19="","",N$11) | O19: =IF($J19="","",O$11) | P19: =IF($J19="","",P$11) | Q19: =IF($J19="","",Q$11) | R19: =IF($J19="","",R$11) | ... V19: =IF($J19="","",V$11) | W19: =IF(V19="","",ROW())
A20: =IF($J20="","",A$11) | B20: =IF($J20="","",B$11) | C20: =IF($J20="","",C$11) | D20: =IF($J20="","",D$11) | E20: =IF($J20="","",E$11) | F20: =IF($J20="","",F$11) | G20: =IF($J20="","",G$11) | H20: =IF($J20="","",H$11) | I20: =IF($J20="","",I$11) | J20: =SUBSTITUTE(SUBSTITUTE(INDIRECT(ADDRESS(1,ROW()-10,4,1)),INDIRECT(ADDRESS(1,ROW()-9,4,1)),""),CHAR(44),"") | K20: =IF($J20="","",K$11) | L20: =IF($J20="","",L$11) | M20: =IF($J20="","",M$11) | N20: =IF($J20="","",N$11) | O20: =IF($J20="","",O$11) | P20: =IF($J20="","",P$11) | Q20: =IF($J20="","",Q$11) | R20: =IF($J20="","",R$11) | ... V20: =IF($J20="","",V$11) | W20: =IF(V20="","",ROW())
J21: =SUBSTITUTE(SUBSTITUTE(INDIRECT(ADDRESS(1,ROW()-10,4,1)),INDIRECT(ADDRESS(1,ROW()-9,4,1)),""),CHAR(44),"")

Sheet N°Cont
A1: ETD Expedition | B1: REF | C1: Destinataire | D1: NB Colis | E1: UQ | F1: PB | G1: UQ | H1: CIE | I1: Booking Ref Cie | J1: Nr Container | K1: Depart Vessel | L1: Date PU demandee | M1: Date de Chargement | N1: Origine | O1: POL | P1: ETD Navire | Q1: ATD Navire | R1: POD | S1: ETA Navire | T1: ATA Navire | U1: Dest. | V1: Dest. ETA
A2: 43556 | B2: E312546 | C2: CHONG | D2: 14 | E2: PKG | F2: 19000 | G2: KG | H2: MSC | I2: 187916 | J2: CAIU4318516 (40GP) | K2: MSC PIPIN | L2: 21-Jun-19 | M2: 20-Jun-19 | N2: FRAMJ | O2: BEANR | P2: 2-Jul-19 | Q2: 2-Jul-19 | R2: USNYC | S2: 17-Aug-19 | T2: 30-Dec-99 | U2: USNYC | V2: 24-Aug-19
A3: 43556 | B3: E312546 | C3: CHONG | D3: 14 | E3: PKG | F3: 19000 | G3: KG | H3: MSC | I3: 187916 | J3: FCIU7363137 (40GP) | K3: MSC PIPIN | L3: 21-Jun-19 | M3: 20-Jun-19 | N3: FRAMJ | O3: BEANR | P3: 2-Jul-19 | Q3: 2-Jul-19 | R3: USNYC | S3: 17-Aug-19 | T3: 30-Dec-99 | U3: USNYC | V3: 24-Aug-19
A4: 43556 | B4: E312546 | C4: CHONG | D4: 14 | E4: PKG | F4: 19000 | G4: KG | H4: MSC | I4: 187916 | J4: MEDU7874973 (40GP) | K4: MSC PIPIN | L4: 21-Jun-19 | M4: 20-Jun-19 | N4: FRAMJ | O4: BEANR | P4: 2-Jul-19 | Q4: 2-Jul-19 | R4: USNYC | S4: 17-Aug-19 | T4: 30-Dec-99 | U4: USNYC | V4: 24-Aug-19
A5: 43556 | B5: E312546 | C5: CHONG | D5: 14 | E5: PKG | F5: 19000 | G5: KG | H5: MSC | I5: 187916 | J5: MSCU9097752 (40GP) | K5: MSC PIPIN | L5: 21-Jun-19 | M5: 20-Jun-19 | N5: FRAMJ | O5: BEANR | P5: 2-Jul-19 | Q5: 2-Jul-19 | R5: USNYC | S5: 17-Aug-19 | T5: 30-Dec-99 | U5: USNYC | V5: 24-Aug-19
A6: 43556 | B6: E312546 | C6: CHONG | D6: 14 | E6: PKG | F6: 19000 | G6: KG | H6: MSC | I6: 187916 | J6: MSCU9378472 (40GP) | K6: MSC PIPIN | L6: 21-Jun-19 | M6: 20-Jun-19 | N6: FRAMJ | O6: BEANR | P6: 2-Jul-19 | Q6: 2-Jul-19 | R6: USNYC | S6: 17-Aug-19 | T6: 30-Dec-99 | U6: USNYC | V6: 24-Aug-19
A7: 43556 | B7: E312546 | C7: CHONG | D7: 14 | E7: PKG | F7: 19000 | G7: KG | H7: MSC | I7: 187916 | J7: TGHU8642494 (40GP) | K7: MSC PIPIN | L7: 21-Jun-19 | M7: 20-Jun-19 | N7: FRAMJ | O7: BEANR | P7: 2-Jul-19 | Q7: 2-Jul-19 | R7: USNYC | S7: 17-Aug-19 | T7: 30-Dec-99 | U7: USNYC | V7: 24-Aug-19
