Workbook

Sheet Calendrier
B1: REGISTRE DE PRÉSENCE DES EMPLOYÉS
B2: Sélectionnez un employé : | C2: Employé 5
B3: Entrez l’année : | C3: =YEAR(TODAY()) -> 2019
B5: Jour de la semaine/mois | C5: DIM | D5: LUN | E5: MAR | F5: MER | G5: JEU | H5: VEN | I5: SAM | J5: DIM | K5: LUN | L5: MAR | M5: MER | N5: JEU | O5: VEN | P5: SAM | Q5: DIM | R5: LUN | S5: MAR | T5: MER | U5: JEU | V5: VEN | W5: SAM | X5: DIM | Y5: LUN | Z5: MAR | AA5: MER | AB5: JEU | AC5: VEN | AD5: SAM | AE5: DIM | AF5: LUN | AG5: MAR | AH5: MER | AI5: JEU | AJ5: VEN | AK5: SAM | AL5: DIM | AM5: LUN | AN5: MAR | AO5: MER | AP5: JEU 2 | AQ5: VEN | AR5: SAM
B6: Janvier | C6: =IFERROR(IF(TEXT(DATE(Année_civile,ROW($A1),1),"jjj")=LEFT(C$5,3),DATE(Année_civile,ROW($A1),1),""),"") | D6: =IFERROR(IF(TEXT(DATE(Année_civile,ROW($A1),1),"jjj")=LEFT(D$5,3),DATE(Année_civile,ROW($A1),1),IF(C6>=1,C6+1,"")),"") | E6: =IFERROR(IF(TEXT(DATE(Année_civile,ROW($A1),1),"jjj")=LEFT(E$5,3),DATE(Année_civile,ROW($A1),1),IF(D6>=1,D6+1,"")),"") | F6: =IFERROR(IF(TEXT(DATE(Année_civile,ROW($A1),1),"jjj")=LEFT(F$5,3),DATE(Année_civile,ROW($A1),1),IF(E6>=1,E6+1,"")),"") | G6: =IFERROR(IF(TEXT(DATE(Année_civile,ROW($A1),1),"jjj")=LEFT(G$5,3),DATE(Année_civile,ROW($A1),1),IF(F6>=1,F6+1,"")),"") | H6: =IFERROR(IF(TEXT(DATE(Année_civile,ROW($A1),1),"jjj")=LEFT(H$5,3),DATE(Année_civile,ROW($A1),1),IF(G6>=1,G6+1,"")),"") | I6: =IFERROR(IF(TEXT(DATE(Année_civile,ROW($A1),1),"jjj")=LEFT(I$5,3),DATE(Année_civile,ROW($A1),1),IF(H6>=1,H6+1,"")),"") | J6: =IFERROR(IF(I6>=1,I6+1,""),"") | K6: =IFERROR(IF(J6>=1,J6+1,""),"") | L6: =IFERROR(IF(K6>=1,K6+1,""),"") | M6: =IFERROR(IF(L6>=1,L6+1,""),"") | N6: =IFERROR(IF(M6>=1,M6+1,""),"") | O6: =IFERROR(IF(N6>=1,N6+1,""),"") | P6: =IFERROR(IF(O6>=1,O6+1,""),"") | Q6: =IFERROR(IF(P6>=1,P6+1,""),"") | ... AK6: =IFERROR(IF(AJ6>=1,AJ6+1,""),"") | AL6: =IFERROR(IF(AND(AK6>=1,AK6+1<=DATE(Année_civile,ROW($A1)+1,0)),AK6+1,""),"") | AM6: =IFERROR(IF(AND(AL6>=1,AL6+1<=DATE(Année_civile,ROW($A1)+1,0)),AL6+1,""),"") | AN6: =IFERROR(IF(AND(AM6>=1,AM6+1<=DATE(Année_civile,ROW($A1)+1,0)),AM6+1,""),"") | AO6: =IFERROR(IF(AND(AN6>=1,AN6+1<=DATE(Année_civile,ROW($A1)+1,0)),AN6+1,""),"") | AP6: =IFERROR(IF(AND(AO6>=1,AO6+1<=DATE(Année_civile,ROW($A1)+1,0)),AO6+1,""),"") | AQ6: =IFERROR(IF(AND(AP6>=1,AP6+1<=DATE(Année_civile,ROW($A1)+1,0)),AP6+1,""),"") | AR6: =IFERROR(IF(AND(AQ6>=1,AQ6+1<=DATE(Année_civile,ROW($A1)+1,0)),AQ6+1,""),"")
B7: Février | C7: =IFERROR(IF(TEXT(DATE(Année_civile,ROW($A2),1),"jjj")=LEFT(C$5,3),DATE(Année_civile,ROW($A2),1),""),"") | D7: =IFERROR(IF(TEXT(DATE(Année_civile,ROW($A2),1),"jjj")=LEFT(D$5,3),DATE(Année_civile,ROW($A2),1),IF(C7>=1,C7+1,"")),"") | E7: =IFERROR(IF(TEXT(DATE(Année_civile,ROW($A2),1),"jjj")=LEFT(E$5,3),DATE(Année_civile,ROW($A2),1),IF(D7>=1,D7+1,"")),"") | F7: =IFERROR(IF(TEXT(DATE(Année_civile,ROW($A2),1),"jjj")=LEFT(F$5,3),DATE(Année_civile,ROW($A2),1),IF(E7>=1,E7+1,"")),"") | G7: =IFERROR(IF(TEXT(DATE(Année_civile,ROW($A2),1),"jjj")=LEFT(G$5,3),DATE(Année_civile,ROW($A2),1),IF(F7>=1,F7+1,"")),"") | H7: =IFERROR(IF(TEXT(DATE(Année_civile,ROW($A2),1),"jjj")=LEFT(H$5,3),DATE(Année_civile,ROW($A2),1),IF(G7>=1,G7+1,"")),"") | I7: =IFERROR(IF(TEXT(DATE(Année_civile,ROW($A2),1),"jjj")=LEFT(I$5,3),DATE(Année_civile,ROW($A2),1),IF(H7>=1,H7+1,"")),"") | J7: =IFERROR(IF(I7>=1,I7+1,""),"") | K7: =IFERROR(IF(J7>=1,J7+1,""),"") | L7: =IFERROR(IF(K7>=1,K7+1,""),"") | M7: =IFERROR(IF(L7>=1,L7+1,""),"") | N7: =IFERROR(IF(M7>=1,M7+1,""),"") | O7: =IFERROR(IF(N7>=1,N7+1,""),"") | P7: =IFERROR(IF(O7>=1,O7+1,""),"") | Q7: =IFERROR(IF(P7>=1,P7+1,""),"") | ... AK7: =IFERROR(IF(AJ7>=1,AJ7+1,""),"") | AL7: =IFERROR(IF(AND(AK7>=1,AK7+1<=DATE(Année_civile,ROW($A2)+1,0)),AK7+1,""),"") | AM7: =IFERROR(IF(AND(AL7>=1,AL7+1<=DATE(Année_civile,ROW($A2)+1,0)),AL7+1,""),"") | AN7: =IFERROR(IF(AND(AM7>=1,AM7+1<=DATE(Année_civile,ROW($A2)+1,0)),AM7+1,""),"") | AO7: =IFERROR(IF(AND(AN7>=1,AN7+1<=DATE(Année_civile,ROW($A2)+1,0)),AN7+1,""),"") | AP7: =IFERROR(IF(AND(AO7>=1,AO7+1<=DATE(Année_civile,ROW($A2)+1,0)),AO7+1,""),"") | AQ7: =IFERROR(IF(AND(AP7>=1,AP7+1<=DATE(Année_civile,ROW($A2)+1,0)),AP7+1,""),"") | AR7: =IFERROR(IF(AND(AQ7>=1,AQ7+1<=DATE(Année_civile,ROW($A2)+1,0)),AQ7+1,""),"")
B8: Mars | C8: =IFERROR(IF(TEXT(DATE(Année_civile,ROW($A3),1),"jjj")=LEFT(C$5,3),DATE(Année_civile,ROW($A3),1),""),"") | D8: =IFERROR(IF(TEXT(DATE(Année_civile,ROW($A3),1),"jjj")=LEFT(D$5,3),DATE(Année_civile,ROW($A3),1),IF(C8>=1,C8+1,"")),"") | E8: =IFERROR(IF(TEXT(DATE(Année_civile,ROW($A3),1),"jjj")=LEFT(E$5,3),DATE(Année_civile,ROW($A3),1),IF(D8>=1,D8+1,"")),"") | F8: =IFERROR(IF(TEXT(DATE(Année_civile,ROW($A3),1),"jjj")=LEFT(F$5,3),DATE(Année_civile,ROW($A3),1),IF(E8>=1,E8+1,"")),"") | G8: =IFERROR(IF(TEXT(DATE(Année_civile,ROW($A3),1),"jjj")=LEFT(G$5,3),DATE(Année_civile,ROW($A3),1),IF(F8>=1,F8+1,"")),"") | H8: =IFERROR(IF(TEXT(DATE(Année_civile,ROW($A3),1),"jjj")=LEFT(H$5,3),DATE(Année_civile,ROW($A3),1),IF(G8>=1,G8+1,"")),"") | I8: =IFERROR(IF(TEXT(DATE(Année_civile,ROW($A3),1),"jjj")=LEFT(I$5,3),DATE(Année_civile,ROW($A3),1),IF(H8>=1,H8+1,"")),"") | J8: =IFERROR(IF(I8>=1,I8+1,""),"") | K8: =IFERROR(IF(J8>=1,J8+1,""),"") | L8: =IFERROR(IF(K8>=1,K8+1,""),"") | M8: =IFERROR(IF(L8>=1,L8+1,""),"") | N8: =IFERROR(IF(M8>=1,M8+1,""),"") | O8: =IFERROR(IF(N8>=1,N8+1,""),"") | P8: =IFERROR(IF(O8>=1,O8+1,""),"") | Q8: =IFERROR(IF(P8>=1,P8+1,""),"") | ... AK8: =IFERROR(IF(AJ8>=1,AJ8+1,""),"") | AL8: =IFERROR(IF(AND(AK8>=1,AK8+1<=DATE(Année_civile,ROW($A3)+1,0)),AK8+1,""),"") | AM8: =IFERROR(IF(AND(AL8>=1,AL8+1<=DATE(Année_civile,ROW($A3)+1,0)),AL8+1,""),"") | AN8: =IFERROR(IF(AND(AM8>=1,AM8+1<=DATE(Année_civile,ROW($A3)+1,0)),AM8+1,""),"") | AO8: =IFERROR(IF(AND(AN8>=1,AN8+1<=DATE(Année_civile,ROW($A3)+1,0)),AN8+1,""),"") | AP8: =IFERROR(IF(AND(AO8>=1,AO8+1<=DATE(Année_civile,ROW($A3)+1,0)),AO8+1,""),"") | AQ8: =IFERROR(IF(AND(AP8>=1,AP8+1<=DATE(Année_civile,ROW($A3)+1,0)),AP8+1,""),"") | AR8: =IFERROR(IF(AND(AQ8>=1,AQ8+1<=DATE(Année_civile,ROW($A3)+1,0)),AQ8+1,""),"")
B9: Avril | C9: =IFERROR(IF(TEXT(DATE(Année_civile,ROW($A4),1),"jjj")=LEFT(C$5,3),DATE(Année_civile,ROW($A4),1),""),"") | D9: =IFERROR(IF(TEXT(DATE(Année_civile,ROW($A4),1),"jjj")=LEFT(D$5,3),DATE(Année_civile,ROW($A4),1),IF(C9>=1,C9+1,"")),"") | E9: =IFERROR(IF(TEXT(DATE(Année_civile,ROW($A4),1),"jjj")=LEFT(E$5,3),DATE(Année_civile,ROW($A4),1),IF(D9>=1,D9+1,"")),"") | F9: =IFERROR(IF(TEXT(DATE(Année_civile,ROW($A4),1),"jjj")=LEFT(F$5,3),DATE(Année_civile,ROW($A4),1),IF(E9>=1,E9+1,"")),"") | G9: =IFERROR(IF(TEXT(DATE(Année_civile,ROW($A4),1),"jjj")=LEFT(G$5,3),DATE(Année_civile,ROW($A4),1),IF(F9>=1,F9+1,"")),"") | H9: =IFERROR(IF(TEXT(DATE(Année_civile,ROW($A4),1),"jjj")=LEFT(H$5,3),DATE(Année_civile,ROW($A4),1),IF(G9>=1,G9+1,"")),"") | I9: =IFERROR(IF(TEXT(DATE(Année_civile,ROW($A4),1),"jjj")=LEFT(I$5,3),DATE(Année_civile,ROW($A4),1),IF(H9>=1,H9+1,"")),"") | J9: =IFERROR(IF(I9>=1,I9+1,""),"") | K9: =IFERROR(IF(J9>=1,J9+1,""),"") | L9: =IFERROR(IF(K9>=1,K9+1,""),"") | M9: =IFERROR(IF(L9>=1,L9+1,""),"") | N9: =IFERROR(IF(M9>=1,M9+1,""),"") | O9: =IFERROR(IF(N9>=1,N9+1,""),"") | P9: =IFERROR(IF(O9>=1,O9+1,""),"") | Q9: =IFERROR(IF(P9>=1,P9+1,""),"") | ... AK9: =IFERROR(IF(AJ9>=1,AJ9+1,""),"") | AL9: =IFERROR(IF(AND(AK9>=1,AK9+1<=DATE(Année_civile,ROW($A4)+1,0)),AK9+1,""),"") | AM9: =IFERROR(IF(AND(AL9>=1,AL9+1<=DATE(Année_civile,ROW($A4)+1,0)),AL9+1,""),"") | AN9: =IFERROR(IF(AND(AM9>=1,AM9+1<=DATE(Année_civile,ROW($A4)+1,0)),AM9+1,""),"") | AO9: =IFERROR(IF(AND(AN9>=1,AN9+1<=DATE(Année_civile,ROW($A4)+1,0)),AN9+1,""),"") | AP9: =IFERROR(IF(AND(AO9>=1,AO9+1<=DATE(Année_civile,ROW($A4)+1,0)),AO9+1,""),"") | AQ9: =IFERROR(IF(AND(AP9>=1,AP9+1<=DATE(Année_civile,ROW($A4)+1,0)),AP9+1,""),"") | AR9: =IFERROR(IF(AND(AQ9>=1,AQ9+1<=DATE(Année_civile,ROW($A4)+1,0)),AQ9+1,""),"")
B10: Mai | C10: =IFERROR(IF(TEXT(DATE(Année_civile,ROW($A5),1),"jjj")=LEFT(C$5,3),DATE(Année_civile,ROW($A5),1),""),"") | D10: =IFERROR(IF(TEXT(DATE(Année_civile,ROW($A5),1),"jjj")=LEFT(D$5,3),DATE(Année_civile,ROW($A5),1),IF(C10>=1,C10+1,"")),"") | E10: =IFERROR(IF(TEXT(DATE(Année_civile,ROW($A5),1),"jjj")=LEFT(E$5,3),DATE(Année_civile,ROW($A5),1),IF(D10>=1,D10+1,"")),"") | F10: =IFERROR(IF(TEXT(DATE(Année_civile,ROW($A5),1),"jjj")=LEFT(F$5,3),DATE(Année_civile,ROW($A5),1),IF(E10>=1,E10+1,"")),"") | G10: =IFERROR(IF(TEXT(DATE(Année_civile,ROW($A5),1),"jjj")=LEFT(G$5,3),DATE(Année_civile,ROW($A5),1),IF(F10>=1,F10+1,"")),"") | H10: =IFERROR(IF(TEXT(DATE(Année_civile,ROW($A5),1),"jjj")=LEFT(H$5,3),DATE(Année_civile,ROW($A5),1),IF(G10>=1,G10+1,"")),"") | I10: =IFERROR(IF(TEXT(DATE(Année_civile,ROW($A5),1),"jjj")=LEFT(I$5,3),DATE(Année_civile,ROW($A5),1),IF(H10>=1,H10+1,"")),"") | J10: =IFERROR(IF(I10>=1,I10+1,""),"") | K10: =IFERROR(IF(J10>=1,J10+1,""),"") | L10: =IFERROR(IF(K10>=1,K10+1,""),"") | M10: =IFERROR(IF(L10>=1,L10+1,""),"") | N10: =IFERROR(IF(M10>=1,M10+1,""),"") | O10: =IFERROR(IF(N10>=1,N10+1,""),"") | P10: =IFERROR(IF(O10>=1,O10+1,""),"") | Q10: =IFERROR(IF(P10>=1,P10+1,""),"") | ... AK10: =IFERROR(IF(AJ10>=1,AJ10+1,""),"") | AL10: =IFERROR(IF(AND(AK10>=1,AK10+1<=DATE(Année_civile,ROW($A5)+1,0)),AK10+1,""),"") | AM10: =IFERROR(IF(AND(AL10>=1,AL10+1<=DATE(Année_civile,ROW($A5)+1,0)),AL10+1,""),"") | AN10: =IFERROR(IF(AND(AM10>=1,AM10+1<=DATE(Année_civile,ROW($A5)+1,0)),AM10+1,""),"") | AO10: =IFERROR(IF(AND(AN10>=1,AN10+1<=DATE(Année_civile,ROW($A5)+1,0)),AN10+1,""),"") | AP10: =IFERROR(IF(AND(AO10>=1,AO10+1<=DATE(Année_civile,ROW($A5)+1,0)),AO10+1,""),"") | AQ10: =IFERROR(IF(AND(AP10>=1,AP10+1<=DATE(Année_civile,ROW($A5)+1,0)),AP10+1,""),"") | AR10: =IFERROR(IF(AND(AQ10>=1,AQ10+1<=DATE(Année_civile,ROW($A5)+1,0)),AQ10+1,""),"")
B11: Juin | C11: =IFERROR(IF(TEXT(DATE(Année_civile,ROW($A6),1),"jjj")=LEFT(C$5,3),DATE(Année_civile,ROW($A6),1),""),"") | D11: =IFERROR(IF(TEXT(DATE(Année_civile,ROW($A6),1),"jjj")=LEFT(D$5,3),DATE(Année_civile,ROW($A6),1),IF(C11>=1,C11+1,"")),"") | E11: =IFERROR(IF(TEXT(DATE(Année_civile,ROW($A6),1),"jjj")=LEFT(E$5,3),DATE(Année_civile,ROW($A6),1),IF(D11>=1,D11+1,"")),"") | F11: =IFERROR(IF(TEXT(DATE(Année_civile,ROW($A6),1),"jjj")=LEFT(F$5,3),DATE(Année_civile,ROW($A6),1),IF(E11>=1,E11+1,"")),"") | G11: =IFERROR(IF(TEXT(DATE(Année_civile,ROW($A6),1),"jjj")=LEFT(G$5,3),DATE(Année_civile,ROW($A6),1),IF(F11>=1,F11+1,"")),"") | H11: =IFERROR(IF(TEXT(DATE(Année_civile,ROW($A6),1),"jjj")=LEFT(H$5,3),DATE(Année_civile,ROW($A6),1),IF(G11>=1,G11+1,"")),"") | I11: =IFERROR(IF(TEXT(DATE(Année_civile,ROW($A6),1),"jjj")=LEFT(I$5,3),DATE(Année_civile,ROW($A6),1),IF(H11>=1,H11+1,"")),"") | J11: =IFERROR(IF(I11>=1,I11+1,""),"") | K11: =IFERROR(IF(J11>=1,J11+1,""),"") | L11: =IFERROR(IF(K11>=1,K11+1,""),"") | M11: =IFERROR(IF(L11>=1,L11+1,""),"") | N11: =IFERROR(IF(M11>=1,M11+1,""),"") | O11: =IFERROR(IF(N11>=1,N11+1,""),"") | P11: =IFERROR(IF(O11>=1,O11+1,""),"") | Q11: =IFERROR(IF(P11>=1,P11+1,""),"") | ... AK11: =IFERROR(IF(AJ11>=1,AJ11+1,""),"") | AL11: =IFERROR(IF(AND(AK11>=1,AK11+1<=DATE(Année_civile,ROW($A6)+1,0)),AK11+1,""),"") | AM11: =IFERROR(IF(AND(AL11>=1,AL11+1<=DATE(Année_civile,ROW($A6)+1,0)),AL11+1,""),"") | AN11: =IFERROR(IF(AND(AM11>=1,AM11+1<=DATE(Année_civile,ROW($A6)+1,0)),AM11+1,""),"") | AO11: =IFERROR(IF(AND(AN11>=1,AN11+1<=DATE(Année_civile,ROW($A6)+1,0)),AN11+1,""),"") | AP11: =IFERROR(IF(AND(AO11>=1,AO11+1<=DATE(Année_civile,ROW($A6)+1,0)),AO11+1,""),"") | AQ11: =IFERROR(IF(AND(AP11>=1,AP11+1<=DATE(Année_civile,ROW($A6)+1,0)),AP11+1,""),"") | AR11: =IFERROR(IF(AND(AQ11>=1,AQ11+1<=DATE(Année_civile,ROW($A6)+1,0)),AQ11+1,""),"")
B12: Juillet | C12: =IFERROR(IF(TEXT(DATE(Année_civile,ROW($A7),1),"jjj")=LEFT(C$5,3),DATE(Année_civile,ROW($A7),1),""),"") | D12: =IFERROR(IF(TEXT(DATE(Année_civile,ROW($A7),1),"jjj")=LEFT(D$5,3),DATE(Année_civile,ROW($A7),1),IF(C12>=1,C12+1,"")),"") | E12: =IFERROR(IF(TEXT(DATE(Année_civile,ROW($A7),1),"jjj")=LEFT(E$5,3),DATE(Année_civile,ROW($A7),1),IF(D12>=1,D12+1,"")),"") | F12: =IFERROR(IF(TEXT(DATE(Année_civile,ROW($A7),1),"jjj")=LEFT(F$5,3),DATE(Année_civile,ROW($A7),1),IF(E12>=1,E12+1,"")),"") | G12: =IFERROR(IF(TEXT(DATE(Année_civile,ROW($A7),1),"jjj")=LEFT(G$5,3),DATE(Année_civile,ROW($A7),1),IF(F12>=1,F12+1,"")),"") | H12: =IFERROR(IF(TEXT(DATE(Année_civile,ROW($A7),1),"jjj")=LEFT(H$5,3),DATE(Année_civile,ROW($A7),1),IF(G12>=1,G12+1,"")),"") | I12: =IFERROR(IF(TEXT(DATE(Année_civile,ROW($A7),1),"jjj")=LEFT(I$5,3),DATE(Année_civile,ROW($A7),1),IF(H12>=1,H12+1,"")),"") | J12: =IFERROR(IF(I12>=1,I12+1,""),"") | K12: =IFERROR(IF(J12>=1,J12+1,""),"") | L12: =IFERROR(IF(K12>=1,K12+1,""),"") | M12: =IFERROR(IF(L12>=1,L12+1,""),"") | N12: =IFERROR(IF(M12>=1,M12+1,""),"") | O12: =IFERROR(IF(N12>=1,N12+1,""),"") | P12: =IFERROR(IF(O12>=1,O12+1,""),"") | Q12: =IFERROR(IF(P12>=1,P12+1,""),"") | ... AK12: =IFERROR(IF(AJ12>=1,AJ12+1,""),"") | AL12: =IFERROR(IF(AND(AK12>=1,AK12+1<=DATE(Année_civile,ROW($A7)+1,0)),AK12+1,""),"") | AM12: =IFERROR(IF(AND(AL12>=1,AL12+1<=DATE(Année_civile,ROW($A7)+1,0)),AL12+1,""),"") | AN12: =IFERROR(IF(AND(AM12>=1,AM12+1<=DATE(Année_civile,ROW($A7)+1,0)),AM12+1,""),"") | AO12: =IFERROR(IF(AND(AN12>=1,AN12+1<=DATE(Année_civile,ROW($A7)+1,0)),AN12+1,""),"") | AP12: =IFERROR(IF(AND(AO12>=1,AO12+1<=DATE(Année_civile,ROW($A7)+1,0)),AO12+1,""),"") | AQ12: =IFERROR(IF(AND(AP12>=1,AP12+1<=DATE(Année_civile,ROW($A7)+1,0)),AP12+1,""),"") | AR12: =IFERROR(IF(AND(AQ12>=1,AQ12+1<=DATE(Année_civile,ROW($A7)+1,0)),AQ12+1,""),"")
B13: Août | C13: =IFERROR(IF(TEXT(DATE(Année_civile,ROW($A8),1),"jjj")=LEFT(C$5,3),DATE(Année_civile,ROW($A8),1),""),"") | D13: =IFERROR(IF(TEXT(DATE(Année_civile,ROW($A8),1),"jjj")=LEFT(D$5,3),DATE(Année_civile,ROW($A8),1),IF(C13>=1,C13+1,"")),"") | E13: =IFERROR(IF(TEXT(DATE(Année_civile,ROW($A8),1),"jjj")=LEFT(E$5,3),DATE(Année_civile,ROW($A8),1),IF(D13>=1,D13+1,"")),"") | F13: =IFERROR(IF(TEXT(DATE(Année_civile,ROW($A8),1),"jjj")=LEFT(F$5,3),DATE(Année_civile,ROW($A8),1),IF(E13>=1,E13+1,"")),"") | G13: =IFERROR(IF(TEXT(DATE(Année_civile,ROW($A8),1),"jjj")=LEFT(G$5,3),DATE(Année_civile,ROW($A8),1),IF(F13>=1,F13+1,"")),"") | H13: =IFERROR(IF(TEXT(DATE(Année_civile,ROW($A8),1),"jjj")=LEFT(H$5,3),DATE(Année_civile,ROW($A8),1),IF(G13>=1,G13+1,"")),"") | I13: =IFERROR(IF(TEXT(DATE(Année_civile,ROW($A8),1),"jjj")=LEFT(I$5,3),DATE(Année_civile,ROW($A8),1),IF(H13>=1,H13+1,"")),"") | J13: =IFERROR(IF(I13>=1,I13+1,""),"") | K13: =IFERROR(IF(J13>=1,J13+1,""),"") | L13: =IFERROR(IF(K13>=1,K13+1,""),"") | M13: =IFERROR(IF(L13>=1,L13+1,""),"") | N13: =IFERROR(IF(M13>=1,M13+1,""),"") | O13: =IFERROR(IF(N13>=1,N13+1,""),"") | P13: =IFERROR(IF(O13>=1,O13+1,""),"") | Q13: =IFERROR(IF(P13>=1,P13+1,""),"") | ... AK13: =IFERROR(IF(AJ13>=1,AJ13+1,""),"") | AL13: =IFERROR(IF(AND(AK13>=1,AK13+1<=DATE(Année_civile,ROW($A8)+1,0)),AK13+1,""),"") | AM13: =IFERROR(IF(AND(AL13>=1,AL13+1<=DATE(Année_civile,ROW($A8)+1,0)),AL13+1,""),"") | AN13: =IFERROR(IF(AND(AM13>=1,AM13+1<=DATE(Année_civile,ROW($A8)+1,0)),AM13+1,""),"") | AO13: =IFERROR(IF(AND(AN13>=1,AN13+1<=DATE(Année_civile,ROW($A8)+1,0)),AN13+1,""),"") | AP13: =IFERROR(IF(AND(AO13>=1,AO13+1<=DATE(Année_civile,ROW($A8)+1,0)),AO13+1,""),"") | AQ13: =IFERROR(IF(AND(AP13>=1,AP13+1<=DATE(Année_civile,ROW($A8)+1,0)),AP13+1,""),"") | AR13: =IFERROR(IF(AND(AQ13>=1,AQ13+1<=DATE(Année_civile,ROW($A8)+1,0)),AQ13+1,""),"")
B14: Septembre | C14: =IFERROR(IF(TEXT(DATE(Année_civile,ROW($A9),1),"jjj")=LEFT(C$5,3),DATE(Année_civile,ROW($A9),1),""),"") | D14: =IFERROR(IF(TEXT(DATE(Année_civile,ROW($A9),1),"jjj")=LEFT(D$5,3),DATE(Année_civile,ROW($A9),1),IF(C14>=1,C14+1,"")),"") | E14: =IFERROR(IF(TEXT(DATE(Année_civile,ROW($A9),1),"jjj")=LEFT(E$5,3),DATE(Année_civile,ROW($A9),1),IF(D14>=1,D14+1,"")),"") | F14: =IFERROR(IF(TEXT(DATE(Année_civile,ROW($A9),1),"jjj")=LEFT(F$5,3),DATE(Année_civile,ROW($A9),1),IF(E14>=1,E14+1,"")),"") | G14: =IFERROR(IF(TEXT(DATE(Année_civile,ROW($A9),1),"jjj")=LEFT(G$5,3),DATE(Année_civile,ROW($A9),1),IF(F14>=1,F14+1,"")),"") | H14: =IFERROR(IF(TEXT(DATE(Année_civile,ROW($A9),1),"jjj")=LEFT(H$5,3),DATE(Année_civile,ROW($A9),1),IF(G14>=1,G14+1,"")),"") | I14: =IFERROR(IF(TEXT(DATE(Année_civile,ROW($A9),1),"jjj")=LEFT(I$5,3),DATE(Année_civile,ROW($A9),1),IF(H14>=1,H14+1,"")),"") | J14: =IFERROR(IF(I14>=1,I14+1,""),"") | K14: =IFERROR(IF(J14>=1,J14+1,""),"") | L14: =IFERROR(IF(K14>=1,K14+1,""),"") | M14: =IFERROR(IF(L14>=1,L14+1,""),"") | N14: =IFERROR(IF(M14>=1,M14+1,""),"") | O14: =IFERROR(IF(N14>=1,N14+1,""),"") | P14: =IFERROR(IF(O14>=1,O14+1,""),"") | Q14: =IFERROR(IF(P14>=1,P14+1,""),"") | ... AK14: =IFERROR(IF(AJ14>=1,AJ14+1,""),"") | AL14: =IFERROR(IF(AND(AK14>=1,AK14+1<=DATE(Année_civile,ROW($A9)+1,0)),AK14+1,""),"") | AM14: =IFERROR(IF(AND(AL14>=1,AL14+1<=DATE(Année_civile,ROW($A9)+1,0)),AL14+1,""),"") | AN14: =IFERROR(IF(AND(AM14>=1,AM14+1<=DATE(Année_civile,ROW($A9)+1,0)),AM14+1,""),"") | AO14: =IFERROR(IF(AND(AN14>=1,AN14+1<=DATE(Année_civile,ROW($A9)+1,0)),AN14+1,""),"") | AP14: =IFERROR(IF(AND(AO14>=1,AO14+1<=DATE(Année_civile,ROW($A9)+1,0)),AO14+1,""),"") | AQ14: =IFERROR(IF(AND(AP14>=1,AP14+1<=DATE(Année_civile,ROW($A9)+1,0)),AP14+1,""),"") | AR14: =IFERROR(IF(AND(AQ14>=1,AQ14+1<=DATE(Année_civile,ROW($A9)+1,0)),AQ14+1,""),"")
B15: Octobre | C15: =IFERROR(IF(TEXT(DATE(Année_civile,ROW($A10),1),"jjj")=LEFT(C$5,3),DATE(Année_civile,ROW($A10),1),""),"") | D15: =IFERROR(IF(TEXT(DATE(Année_civile,ROW($A10),1),"jjj")=LEFT(D$5,3),DATE(Année_civile,ROW($A10),1),IF(C15>=1,C15+1,"")),"") | E15: =IFERROR(IF(TEXT(DATE(Année_civile,ROW($A10),1),"jjj")=LEFT(E$5,3),DATE(Année_civile,ROW($A10),1),IF(D15>=1,D15+1,"")),"") | F15: =IFERROR(IF(TEXT(DATE(Année_civile,ROW($A10),1),"jjj")=LEFT(F$5,3),DATE(Année_civile,ROW($A10),1),IF(E15>=1,E15+1,"")),"") | G15: =IFERROR(IF(TEXT(DATE(Année_civile,ROW($A10),1),"jjj")=LEFT(G$5,3),DATE(Année_civile,ROW($A10),1),IF(F15>=1,F15+1,"")),"") | H15: =IFERROR(IF(TEXT(DATE(Année_civile,ROW($A10),1),"jjj")=LEFT(H$5,3),DATE(Année_civile,ROW($A10),1),IF(G15>=1,G15+1,"")),"") | I15: =IFERROR(IF(TEXT(DATE(Année_civile,ROW($A10),1),"jjj")=LEFT(I$5,3),DATE(Année_civile,ROW($A10),1),IF(H15>=1,H15+1,"")),"") | J15: =IFERROR(IF(I15>=1,I15+1,""),"") | K15: =IFERROR(IF(J15>=1,J15+1,""),"") | L15: =IFERROR(IF(K15>=1,K15+1,""),"") | M15: =IFERROR(IF(L15>=1,L15+1,""),"") | N15: =IFERROR(IF(M15>=1,M15+1,""),"") | O15: =IFERROR(IF(N15>=1,N15+1,""),"") | P15: =IFERROR(IF(O15>=1,O15+1,""),"") | Q15: =IFERROR(IF(P15>=1,P15+1,""),"") | ... AK15: =IFERROR(IF(AJ15>=1,AJ15+1,""),"") | AL15: =IFERROR(IF(AND(AK15>=1,AK15+1<=DATE(Année_civile,ROW($A10)+1,0)),AK15+1,""),"") | AM15: =IFERROR(IF(AND(AL15>=1,AL15+1<=DATE(Année_civile,ROW($A10)+1,0)),AL15+1,""),"") | AN15: =IFERROR(IF(AND(AM15>=1,AM15+1<=DATE(Année_civile,ROW($A10)+1,0)),AM15+1,""),"") | AO15: =IFERROR(IF(AND(AN15>=1,AN15+1<=DATE(Année_civile,ROW($A10)+1,0)),AN15+1,""),"") | AP15: =IFERROR(IF(AND(AO15>=1,AO15+1<=DATE(Année_civile,ROW($A10)+1,0)),AO15+1,""),"") | AQ15: =IFERROR(IF(AND(AP15>=1,AP15+1<=DATE(Année_civile,ROW($A10)+1,0)),AP15+1,""),"") | AR15: =IFERROR(IF(AND(AQ15>=1,AQ15+1<=DATE(Année_civile,ROW($A10)+1,0)),AQ15+1,""),"")
B16: Novembre | C16: =IFERROR(IF(TEXT(DATE(Année_civile,ROW($A11),1),"jjj")=LEFT(C$5,3),DATE(Année_civile,ROW($A11),1),""),"") | D16: =IFERROR(IF(TEXT(DATE(Année_civile,ROW($A11),1),"jjj")=LEFT(D$5,3),DATE(Année_civile,ROW($A11),1),IF(C16>=1,C16+1,"")),"") | E16: =IFERROR(IF(TEXT(DATE(Année_civile,ROW($A11),1),"jjj")=LEFT(E$5,3),DATE(Année_civile,ROW($A11),1),IF(D16>=1,D16+1,"")),"") | F16: =IFERROR(IF(TEXT(DATE(Année_civile,ROW($A11),1),"jjj")=LEFT(F$5,3),DATE(Année_civile,ROW($A11),1),IF(E16>=1,E16+1,"")),"") | G16: =IFERROR(IF(TEXT(DATE(Année_civile,ROW($A11),1),"jjj")=LEFT(G$5,3),DATE(Année_civile,ROW($A11),1),IF(F16>=1,F16+1,"")),"") | H16: =IFERROR(IF(TEXT(DATE(Année_civile,ROW($A11),1),"jjj")=LEFT(H$5,3),DATE(Année_civile,ROW($A11),1),IF(G16>=1,G16+1,"")),"") | I16: =IFERROR(IF(TEXT(DATE(Année_civile,ROW($A11),1),"jjj")=LEFT(I$5,3),DATE(Année_civile,ROW($A11),1),IF(H16>=1,H16+1,"")),"") | J16: =IFERROR(IF(I16>=1,I16+1,""),"") | K16: =IFERROR(IF(J16>=1,J16+1,""),"") | L16: =IFERROR(IF(K16>=1,K16+1,""),"") | M16: =IFERROR(IF(L16>=1,L16+1,""),"") | N16: =IFERROR(IF(M16>=1,M16+1,""),"") | O16: =IFERROR(IF(N16>=1,N16+1,""),"") | P16: =IFERROR(IF(O16>=1,O16+1,""),"") | Q16: =IFERROR(IF(P16>=1,P16+1,""),"") | ... AK16: =IFERROR(IF(AJ16>=1,AJ16+1,""),"") | AL16: =IFERROR(IF(AND(AK16>=1,AK16+1<=DATE(Année_civile,ROW($A11)+1,0)),AK16+1,""),"") | AM16: =IFERROR(IF(AND(AL16>=1,AL16+1<=DATE(Année_civile,ROW($A11)+1,0)),AL16+1,""),"") | AN16: =IFERROR(IF(AND(AM16>=1,AM16+1<=DATE(Année_civile,ROW($A11)+1,0)),AM16+1,""),"") | AO16: =IFERROR(IF(AND(AN16>=1,AN16+1<=DATE(Année_civile,ROW($A11)+1,0)),AN16+1,""),"") | AP16: =IFERROR(IF(AND(AO16>=1,AO16+1<=DATE(Année_civile,ROW($A11)+1,0)),AO16+1,""),"") | AQ16: =IFERROR(IF(AND(AP16>=1,AP16+1<=DATE(Année_civile,ROW($A11)+1,0)),AP16+1,""),"") | AR16: =IFERROR(IF(AND(AQ16>=1,AQ16+1<=DATE(Année_civile,ROW($A11)+1,0)),AQ16+1,""),"")
B17: Décembre | C17: =IFERROR(IF(TEXT(DATE(Année_civile,ROW($A12),1),"jjj")=LEFT(C$5,3),DATE(Année_civile,ROW($A12),1),""),"") | D17: =IFERROR(IF(TEXT(DATE(Année_civile,ROW($A12),1),"jjj")=LEFT(D$5,3),DATE(Année_civile,ROW($A12),1),IF(C17>=1,C17+1,"")),"") | E17: =IFERROR(IF(TEXT(DATE(Année_civile,ROW($A12),1),"jjj")=LEFT(E$5,3),DATE(Année_civile,ROW($A12),1),IF(D17>=1,D17+1,"")),"") | F17: =IFERROR(IF(TEXT(DATE(Année_civile,ROW($A12),1),"jjj")=LEFT(F$5,3),DATE(Année_civile,ROW($A12),1),IF(E17>=1,E17+1,"")),"") | G17: =IFERROR(IF(TEXT(DATE(Année_civile,ROW($A12),1),"jjj")=LEFT(G$5,3),DATE(Année_civile,ROW($A12),1),IF(F17>=1,F17+1,"")),"") | H17: =IFERROR(IF(TEXT(DATE(Année_civile,ROW($A12),1),"jjj")=LEFT(H$5,3),DATE(Année_civile,ROW($A12),1),IF(G17>=1,G17+1,"")),"") | I17: =IFERROR(IF(TEXT(DATE(Année_civile,ROW($A12),1),"jjj")=LEFT(I$5,3),DATE(Année_civile,ROW($A12),1),IF(H17>=1,H17+1,"")),"") | J17: =IFERROR(IF(I17>=1,I17+1,""),"") | K17: =IFERROR(IF(J17>=1,J17+1,""),"") | L17: =IFERROR(IF(K17>=1,K17+1,""),"") | M17: =IFERROR(IF(L17>=1,L17+1,""),"") | N17: =IFERROR(IF(M17>=1,M17+1,""),"") | O17: =IFERROR(IF(N17>=1,N17+1,""),"") | P17: =IFERROR(IF(O17>=1,O17+1,""),"") | Q17: =IFERROR(IF(P17>=1,P17+1,""),"") | ... AK17: =IFERROR(IF(AJ17>=1,AJ17+1,""),"") | AL17: =IFERROR(IF(AND(AK17>=1,AK17+1<=DATE(Année_civile,ROW($A12)+1,0)),AK17+1,""),"") | AM17: =IFERROR(IF(AND(AL17>=1,AL17+1<=DATE(Année_civile,ROW($A12)+1,0)),AL17+1,""),"") | AN17: =IFERROR(IF(AND(AM17>=1,AM17+1<=DATE(Année_civile,ROW($A12)+1,0)),AM17+1,""),"") | AO17: =IFERROR(IF(AND(AN17>=1,AN17+1<=DATE(Année_civile,ROW($A12)+1,0)),AN17+1,""),"") | AP17: =IFERROR(IF(AND(AO17>=1,AO17+1<=DATE(Année_civile,ROW($A12)+1,0)),AO17+1,""),"") | AQ17: =IFERROR(IF(AND(AP17>=1,AP17+1<=DATE(Année_civile,ROW($A12)+1,0)),AP17+1,""),"") | AR17: =IFERROR(IF(AND(AQ17>=1,AQ17+1<=DATE(Année_civile,ROW($A12)+1,0)),AQ17+1,""),"")
B18: CHIFFRES CLÉS
C19: Jours de congé | H19: Jours travaillés | N19: Nombre de jours d’arrêt maladie | S19: Congés | X19: Congé de décès | AC19: Autres
C20: =SUMIFS(Suivi_des_congés[Jours],Suivi_des_congés[Nom de l’employé],valSelEmployé,Suivi_des_congés[Date de début],">="&DATE(Année_civile,1,1),Suivi_des_congés[Date de fin],"<"&DATE(Année_civile+1,1,1)) -> 16 | H20: =NETWORKDAYS(DATE(Année_civile,1,1),EDATE(DATE(Année_civile,1,1),12)-1) -> 261 | N20: =SUMIFS(Suivi_des_congés[Jours],Suivi_des_congés[Nom de l’employé],valSelEmployé,Suivi_des_congés[Date de début],">="&DATE(Année_civile,1,1),Suivi_des_congés[Date de fin],"<"&DATE(Année_civile+1,1,1),Suivi_des_congés[Type de congé],'Types de congés'!B4) -> 4 | S20: =SUMIFS(Suivi_des_congés[Jours],Suivi_des_congés[Nom de l’employé],valSelEmployé,Suivi_des_congés[Date de début],">="&DATE(Année_civile,1,1),Suivi_des_congés[Date de fin],"<"&DATE(Année_civile+1,1,1),Suivi_des_congés[Type de congé],'Types de congés'!B5) -> 7 | X20: =SUMIFS(Suivi_des_congés[Jours],Suivi_des_congés[Nom de l’employé],valSelEmployé,Suivi_des_congés[Date de début],">="&DATE(Année_civile,1,1),Suivi_des_congés[Date de fin],"<"&DATE(Année_civile+1,1,1),Suivi_des_congés[Type de congé],'Types de congés'!B6) -> 5 | AC20: =SUMIFS(Suivi_des_congés[Jours],Suivi_des_congés[Nom de l’employé],valSelEmployé,Suivi_des_congés[Date de début],">="&DATE(Année_civile,1,1),Suivi_des_congés[Date de fin],"<"&DATE(Année_civile+1,1,1),Suivi_des_congés[Type de congé],'Types de congés'!B7) -> 0
C21: =SUMIFS(Suivi_des_congés[Jours],Suivi_des_congés[Nom de l’employé],valSelEmployé,Suivi_des_congés[Date de début],">="&DATE(Année_civile-1,1,1),Suivi_des_congés[Date de fin],"<"&DATE(Année_civile,1,1)) -> 10 | H21: =NETWORKDAYS(DATE(Année_civile-1,1,1),EDATE(DATE(Année_civile-1,1,1),12)-1) -> 261 | N21: =SUMIFS(Suivi_des_congés[Jours],Suivi_des_congés[Nom de l’employé],valSelEmployé,Suivi_des_congés[Date de début],">="&DATE(Année_civile-1,1,1),Suivi_des_congés[Date de fin],"<"&DATE(Année_civile,1,1),Suivi_des_congés[Type de congé],'Types de congés'!B4) -> 0 | S21: =SUMIFS(Suivi_des_congés[Jours],Suivi_des_congés[Nom de l’employé],valSelEmployé,Suivi_des_congés[Date de début],">="&DATE(Année_civile-1,1,1),Suivi_des_congés[Date de fin],"<"&DATE(Année_civile,1,1),Suivi_des_congés[Type de congé],'Types de congés'!B5) -> 5 | X21: =SUMIFS(Suivi_des_congés[Jours],Suivi_des_congés[Nom de l’employé],valSelEmployé,Suivi_des_congés[Date de début],">="&DATE(Année_civile-1,1,1),Suivi_des_congés[Date de fin],"<"&DATE(Année_civile,1,1),Suivi_des_congés[Type de congé],'Types de congés'!B6) -> 5 | AC21: =SUMIFS(Suivi_des_congés[Jours],Suivi_des_congés[Nom de l’employé],valSelEmployé,Suivi_des_congés[Date de début],">="&DATE(Année_civile-1,1,1),Suivi_des_congés[Date de fin],"<"&DATE(Année_civile,1,1),Suivi_des_congés[Type de congé],'Types de congés'!B7) -> 0
C22: =IFERROR(IF(C21<>0,IF(C20>=C21,"HAUSSE DE ", "BAISSE DE ")&TEXT(C20/C21-1,"0%;0%"),"HAUSSE DE 100%"),"") -> HAUSSE DE 60% | H22: =IFERROR(IF(H21<>0,IF(H20>=H21,"HAUSSE DE ", "BAISSE DE ")&TEXT(H20/H21-1,"0%;0%"),"HAUSSE DE 100%"),"") -> HAUSSE DE 0% | N22: =IFERROR(IF(N21<>0,IF(N20>=N21,"HAUSSE DE ", "BAISSE DE ")&TEXT(N20/N21-1,"0%;0%"),"HAUSSE DE 100%"),"") -> HAUSSE DE 100% | S22: =IFERROR(IF(S21<>0,IF(S20>=S21,"HAUSSE DE ", "BAISSE DE ")&TEXT(S20/S21-1,"0%;0%"),"HAUSSE DE 100%"),"") -> HAUSSE DE 40% | X22: =IFERROR(IF(X21<>0,IF(X20>=X21,"HAUSSE DE ", "BAISSE DE ")&TEXT(X20/X21-1,"0%;0%"),"HAUSSE DE 100%"),"") -> HAUSSE DE 0% | AC22: =IFERROR(IF(AC21<>0,IF(AC20>=AC21,"HAUSSE DE ", "BAISSE DE ")&TEXT(AC20/AC21-1,"0%;0%"),"HAUSSE DE 100%"),"") -> HAUSSE DE 100%

Sheet Suivi des congés des employés
B1: Suivi des congés des employés
B3: Nom de l’employé | C3: Date de début | D3: Date de fin | E3: Type de congé | F3: Jours
B4: Employé 1 | C4: =DATE(YEAR(TODAY()),1,3) -> 43468 | D4: =DATE(YEAR(TODAY()),1,3) -> 43468 | E4: Arrêt maladie | F4: =NETWORKDAYS(Suivi_des_congés[[#This Row],[Date de début]],Suivi_des_congés[[#This Row],[Date de fin]],lstCongés) -> 1
B5: Employé 2 | C5: =DATE(YEAR(TODAY()),1,17) -> 43482 | D5: =DATE(YEAR(TODAY()),1,18) -> 43483 | E5: Autres | F5: =NETWORKDAYS(Suivi_des_congés[[#This Row],[Date de début]],Suivi_des_congés[[#This Row],[Date de fin]],lstCongés) -> 2
B6: Employé 3 | C6: =DATE(YEAR(TODAY()),1,18 ) -> 43483 | D6: =DATE(YEAR(TODAY()),1,21) -> 43486 | E6: Autres | F6: =NETWORKDAYS(Suivi_des_congés[[#This Row],[Date de début]],Suivi_des_congés[[#This Row],[Date de fin]],lstCongés) -> 2
B7: Employé 5 | C7: =DATE(YEAR(TODAY())-1,12,10 ) -> 43444 | D7: =DATE(YEAR(TODAY())-1,12,16) -> 43450 | E7: Congé de décès | F7: =NETWORKDAYS(Suivi_des_congés[[#This Row],[Date de début]],Suivi_des_congés[[#This Row],[Date de fin]],lstCongés) -> 5
B8: Employé 4 | C8: =DATE(YEAR(TODAY())-1,12,1 ) -> 43435 | D8: =DATE(YEAR(TODAY())-1,12,2) -> 43436 | E8: Arrêt maladie | F8: =NETWORKDAYS(Suivi_des_congés[[#This Row],[Date de début]],Suivi_des_congés[[#This Row],[Date de fin]],lstCongés) -> 0
B9: Employé 1 | C9: =DATE(YEAR(TODAY())-1,11,14 ) -> 43418 | D9: =DATE(YEAR(TODAY())-1,11,18) -> 43422 | E9: Congés | F9: =NETWORKDAYS(Suivi_des_congés[[#This Row],[Date de début]],Suivi_des_congés[[#This Row],[Date de fin]],lstCongés) -> 3
B10: Employé 4 | C10: =DATE(YEAR(TODAY()),1,31 ) -> 43496 | D10: =DATE(YEAR(TODAY()),2,4) -> 43500 | E10: Arrêt maladie | F10: =NETWORKDAYS(Suivi_des_congés[[#This Row],[Date de début]],Suivi_des_congés[[#This Row],[Date de fin]],lstCongés) -> 3
B11: Employé 4 | C11: =DATE(YEAR(TODAY())-1,12,1 ) -> 43435 | D11: =DATE(YEAR(TODAY())-1,12,6) -> 43440 | E11: Autres | F11: =NETWORKDAYS(Suivi_des_congés[[#This Row],[Date de début]],Suivi_des_congés[[#This Row],[Date de fin]],lstCongés) -> 4
B12: Employé 4 | C12: =DATE(YEAR(TODAY())-1,12,10 ) -> 43444 | D12: =DATE(YEAR(TODAY())-1,12,16) -> 43450 | E12: Autres | F12: =NETWORKDAYS(Suivi_des_congés[[#This Row],[Date de début]],Suivi_des_congés[[#This Row],[Date de fin]],lstCongés) -> 5
B13: Employé 2 | C13: =DATE(YEAR(TODAY()),1,13 ) -> 43478 | D13: =DATE(YEAR(TODAY()),1,15) -> 43480 | E13: Arrêt maladie | F13: =NETWORKDAYS(Suivi_des_congés[[#This Row],[Date de début]],Suivi_des_congés[[#This Row],[Date de fin]],lstCongés) -> 2
B14: Employé 5 | C14: =DATE(YEAR(TODAY()),1,15 ) -> 43480 | D14: =DATE(YEAR(TODAY()),1,20) -> 43485 | E14: Arrêt maladie | F14: =NETWORKDAYS(Suivi_des_congés[[#This Row],[Date de début]],Suivi_des_congés[[#This Row],[Date de fin]],lstCongés) -> 4
B15: Employé 2 | C15: =DATE(YEAR(TODAY()),6,13 ) -> 43629 | D15: =DATE(YEAR(TODAY()),6,15) -> 43631 | E15: Congé de décès | F15: =NETWORKDAYS(Suivi_des_congés[[#This Row],[Date de début]],Suivi_des_congés[[#This Row],[Date de fin]],lstCongés) -> 2
B16: Employé 5 | C16: =DATE(YEAR(TODAY()),1,27 ) -> 43492 | D16: =DATE(YEAR(TODAY()),2,3) -> 43499 | E16: Congé de décès | F16: =NETWORKDAYS(Suivi_des_congés[[#This Row],[Date de début]],Suivi_des_congés[[#This Row],[Date de fin]],lstCongés) -> 5
B17: Employé 3 | C17: =DATE(YEAR(TODAY()),1,17 ) -> 43482 | D17: =DATE(YEAR(TODAY()),1,18) -> 43483 | E17: Congés | F17: =NETWORKDAYS(Suivi_des_congés[[#This Row],[Date de début]],Suivi_des_congés[[#This Row],[Date de fin]],lstCongés) -> 2
B18: Employé 3 | C18: =DATE(YEAR(TODAY())-1,12,12 ) -> 43446 | D18: =DATE(YEAR(TODAY())-1,12,17) -> 43451 | E18: Congé de décès | F18: =NETWORKDAYS(Suivi_des_congés[[#This Row],[Date de début]],Suivi_des_congés[[#This Row],[Date de fin]],lstCongés) -> 4
B19: Employé 1 | C19: =DATE(YEAR(TODAY())-1,12,21 ) -> 43455 | D19: =DATE(YEAR(TODAY())-1,12,22) -> 43456 | E19: Autres | F19: =NETWORKDAYS(Suivi_des_congés[[#This Row],[Date de début]],Suivi_des_congés[[#This Row],[Date de fin]],lstCongés) -> 1
B20: Employé 1 | C20: =DATE(YEAR(TODAY())-1,12,14 ) -> 43448 | D20: =DATE(YEAR(TODAY())-1,12,16) -> 43450 | E20: Congés | F20: =NETWORKDAYS(Suivi_des_congés[[#This Row],[Date de début]],Suivi_des_congés[[#This Row],[Date de fin]],lstCongés) -> 1
B21: Employé 2 | C21: =DATE(YEAR(TODAY())-1,11,29 ) -> 43433 | D21: =DATE(YEAR(TODAY())-1,12,6) -> 43440 | E21: Congé de décès | F21: =NETWORKDAYS(Suivi_des_congés[[#This Row],[Date de début]],Suivi_des_congés[[#This Row],[Date de fin]],lstCongés) -> 6
B22: Employé 5 | C22: =DATE(YEAR(TODAY())-1,12,3 ) -> 43437 | D22: =DATE(YEAR(TODAY())-1,12,7) -> 43441 | E22: Congés | F22: =NETWORKDAYS(Suivi_des_congés[[#This Row],[Date de début]],Suivi_des_congés[[#This Row],[Date de fin]],lstCongés) -> 5
B23: Employé 1 | C23: =DATE(YEAR(TODAY()),1,31 ) -> 43496 | D23: =DATE(YEAR(TODAY()),2,2) -> 43498 | E23: Congé de décès | F23: =NETWORKDAYS(Suivi_des_congés[[#This Row],[Date de début]],Suivi_des_congés[[#This Row],[Date de fin]],lstCongés) -> 2
B24: Employé 1 | C24: =DATE(YEAR(TODAY())-1,11,24 ) -> 43428 | D24: =DATE(YEAR(TODAY())-1,11,29) -> 43433 | E24: Arrêt maladie | F24: =NETWORKDAYS(Suivi_des_congés[[#This Row],[Date de début]],Suivi_des_congés[[#This Row],[Date de fin]],lstCongés) -> 4
B25: Employé 2 | C25: =DATE(YEAR(TODAY()),12,5 ) -> 43804 | D25: =DATE(YEAR(TODAY()),12,9) -> 43808 | E25: Congés | F25: =NETWORKDAYS(Suivi_des_congés[[#This Row],[Date de début]],Suivi_des_congés[[#This Row],[Date de fin]],lstCongés) -> 3
B26: Employé 5 | C26: =DATE(YEAR(TODAY()),4,11 ) -> 43566 | D26: =DATE(YEAR(TODAY()),4,19) -> 43574 | E26: Congés | F26: =NETWORKDAYS(Suivi_des_congés[[#This Row],[Date de début]],Suivi_des_congés[[#This Row],[Date de fin]],lstCongés) -> 7

Sheet Liste des employés
B1: Liste des employés
B3: Noms des employés
B4: Employé 1
B5: Employé 2
B6: Employé 3
B7: Employé 4
B8: Employé 5

Sheet Types de congés
B1: Types de congés
B3: Liste des types de congés
B4: Arrêt maladie
B5: Congés
B6: Congé de décès
B7: Autres

Sheet Jours fériés
B1: Jours fériés
B3: Jours fériés | C3: Description
B4: =DATE(YEAR(TODAY()),1,1) -> 43466 | C4: Nouvel an
B5: =DATE(YEAR(TODAY()),7,4) -> 43650 | C5: Jour de l’Indépendance
B6: =DATE(YEAR(TODAY()),11,24) -> 43793 | C6: Thanksgiving
B7: =DATE(YEAR(TODAY()),11,25) -> 43794 | C7: Thanksgiving
B8: =DATE(YEAR(TODAY()),12,24) -> 43823 | C8: Noël
B9: =DATE(YEAR(TODAY()),12,25) -> 43824 | C9: Noël

Sheet Ce que j'aimerais savoir faire
B1: REGISTRE DE SUIVI HEURE CRECHE
B2: Sélectionnez un enfant : | C2: ENFANT4
B3: Entrez l’année : | C3: =YEAR(TODAY()) -> 2019
B5: mois | C5: HEURE CRECHE
B6: =TEXT(DATE(C$3,ROW()-5,1),"mmmm") -> janvier | C6: =INDIRECT("'Heure créche'!"&ADDRESS(MATCH(C$2,'Heure créche'!B:B,0),MATCH(B6,'Heure créche'!$3:$3,0),4,1),1) -> 0
B7: =TEXT(DATE(C$3,ROW()-5,1),"mmmm") -> février | C7: =INDIRECT("'Heure créche'!"&ADDRESS(MATCH(C$2,'Heure créche'!B:B,0),MATCH(B7,'Heure créche'!$3:$3,0),4,1),1) -> 0
B8: =TEXT(DATE(C$3,ROW()-5,1),"mmmm") -> mars | C8: =INDIRECT("'Heure créche'!"&ADDRESS(MATCH(C$2,'Heure créche'!B:B,0),MATCH(B8,'Heure créche'!$3:$3,0),4,1),1) -> 0
B9: =TEXT(DATE(C$3,ROW()-5,1),"mmmm") -> avril | C9: =INDIRECT("'Heure créche'!"&ADDRESS(MATCH(C$2,'Heure créche'!B:B,0),MATCH(B9,'Heure créche'!$3:$3,0),4,1),1) -> 0
B10: =TEXT(DATE(C$3,ROW()-5,1),"mmmm") -> mai | C10: =INDIRECT("'Heure créche'!"&ADDRESS(MATCH(C$2,'Heure créche'!B:B,0),MATCH(B10,'Heure créche'!$3:$3,0),4,1),1) -> 0
B11: =TEXT(DATE(C$3,ROW()-5,1),"mmmm") -> juin | C11: =INDIRECT("'Heure créche'!"&ADDRESS(MATCH(C$2,'Heure créche'!B:B,0),MATCH(B11,'Heure créche'!$3:$3,0),4,1),1) -> 0
B12: =TEXT(DATE(C$3,ROW()-5,1),"mmmm") -> juillet | C12: =INDIRECT("'Heure créche'!"&ADDRESS(MATCH(C$2,'Heure créche'!B:B,0),MATCH(B12,'Heure créche'!$3:$3,0),4,1),1) -> 0
B13: =TEXT(DATE(C$3,ROW()-5,1),"mmmm") -> août | C13: =INDIRECT("'Heure créche'!"&ADDRESS(MATCH(C$2,'Heure créche'!B:B,0),MATCH(B13,'Heure créche'!$3:$3,0),4,1),1) -> 0
B14: =TEXT(DATE(C$3,ROW()-5,1),"mmmm") -> septembre | C14: =INDIRECT("'Heure créche'!"&ADDRESS(MATCH(C$2,'Heure créche'!B:B,0),MATCH(B14,'Heure créche'!$3:$3,0),4,1),1) -> 89
B15: =TEXT(DATE(C$3,ROW()-5,1),"mmmm") -> octobre | C15: =INDIRECT("'Heure créche'!"&ADDRESS(MATCH(C$2,'Heure créche'!B:B,0),MATCH(B15,'Heure créche'!$3:$3,0),4,1),1) -> 92
B16: =TEXT(DATE(C$3,ROW()-5,1),"mmmm") -> novembre | C16: =INDIRECT("'Heure créche'!"&ADDRESS(MATCH(C$2,'Heure créche'!B:B,0),MATCH(B16,'Heure créche'!$3:$3,0),4,1),1) -> 94
B17: =TEXT(DATE(C$3,ROW()-5,1),"mmmm") -> décembre | C17: =INDIRECT("'Heure créche'!"&ADDRESS(MATCH(C$2,'Heure créche'!B:B,0),MATCH(B17,'Heure créche'!$3:$3,0),4,1),1) -> 54

Sheet Heure créche
C3: =TEXT(DATE('Ce que j''aimerais savoir faire'!C$3,COLUMN()-2,1),"mmmm") -> janvier | D3: =TEXT(DATE('Ce que j''aimerais savoir faire'!D$3,COLUMN()-2,1),"mmmm") -> février | E3: =TEXT(DATE('Ce que j''aimerais savoir faire'!E$3,COLUMN()-2,1),"mmmm") -> mars | F3: =TEXT(DATE('Ce que j''aimerais savoir faire'!F$3,COLUMN()-2,1),"mmmm") -> avril | G3: =TEXT(DATE('Ce que j''aimerais savoir faire'!G$3,COLUMN()-2,1),"mmmm") -> mai | H3: =TEXT(DATE('Ce que j''aimerais savoir faire'!H$3,COLUMN()-2,1),"mmmm") -> juin | I3: =TEXT(DATE('Ce que j''aimerais savoir faire'!I$3,COLUMN()-2,1),"mmmm") -> juillet | J3: =TEXT(DATE('Ce que j''aimerais savoir faire'!J$3,COLUMN()-2,1),"mmmm") -> août | ... N3: =TEXT(DATE('Ce que j''aimerais savoir faire'!N$3,COLUMN()-2,1),"mmmm") -> décembre
B4: ENFANT1 | C4: 83 | D4: 31 | E4: 96 | F4: 85 | G4: 102 | H4: 28 | I4: 97 | J4: 23 | K4: 55 | L4: 56 | M4: 47 | N4: 45
B5: ENFANT2 | C5: 132 | D5: 142 | E5: 123 | F5: 114 | G5: 54 | H5: 138 | I5: 144 | J5: 52 | K5: 156 | L5: 151 | M5: 125 | N5: 112
B6: ENFANT3 | C6: 75 | D6: 79 | E6: 77 | F6: 74 | G6: 73 | H6: 75 | I6: 78 | J6: 18 | K6: 74 | L6: 78 | M6: 79 | N6: 46
B7: ENFANT4 | C7: 0 | D7: 0 | E7: 0 | F7: 0 | G7: 0 | H7: 0 | I7: 0 | J7: 0 | K7: 89 | L7: 92 | M7: 94 | N7: 54
