Workbook

Sheet Stocks presta
A1: Semaines | B1: Semaine 1 | G1: Semaine 2 | L1: Semaine 3 | Q1: Semaine 4 | V1: Semaine 5 | AA1: Semaine 6 | AF1: Semaine 7 | AK1: Semaine 8 | AP1: Semaine 9 | AU1: Semaine 10 | AZ1: Semaine 11 | BE1: Semaine 12 | BJ1: Semaine 13 | BO1: Semaine 14 | BT1: Semaine 15 | BY1: Semaine 16 | CD1: Semaine 17 | CI1: Semaine 18 | CN1: Semaine 19 | CS1: Semaine 20 | CX1: Semaine 21 | DC1: Semaine 22 | DH1: Semaine 23 | DM1: Semaine 24 | DR1: Semaine 25 | DW1: Semaine 26 | EB1: Semaine 27 | EG1: Semaine 28 | EL1: Semaine 29 | EQ1: Semaine 30 | EV1: Semaine 31 | FA1: Semaine 32 | FF1: Semaine 33 | FK1: Semaine 34 | FP1: Semaine 35 | FU1: Semaine 36 | FZ1: Semaine 37 | GE1: Semaine 38 | GJ1: Semaine 39 | GO1: Semaine 40 | GT1: Semaine 41 | GY1: Semaine 42 | HD1: Semaine 43 | HI1: Semaine 44 | HN1: Semaine 45 | HS1: Semaine 46 | HX1: Semaine 47 | IC1: Semaine 48 | IH1: Semaine 49 | IM1: Semaine 50 | IR1: Semaine 51 | IW1: Semaine 52 | JB1: Semaine 53
A2: Activités | B2: Entrant | C2: Sortant | D2: Stock | E2: Délai | F2: Date la plus ancienne | G2: Entrant | H2: Sortant | I2: Stock | J2: Délai | K2: Date la plus ancienne | L2: Entrant | M2: Sortant | N2: Stock | O2: Délai | P2: Date la plus ancienne | Q2: Entrant | R2: Sortant | S2: Stock | T2: Délai | U2: Date la plus ancienne | V2: Entrant | W2: Sortant | X2: Stock | Y2: Délai | Z2: Date la plus ancienne | AA2: Entrant | AB2: Sortant | AC2: Stock | AD2: Délai | AE2: Date la plus ancienne | AF2: Entrant | AG2: Sortant | AH2: Stock | AI2: Délai | AJ2: Date la plus ancienne | AK2: Entrant | AL2: Sortant | AM2: Stock | AN2: Délai | AO2: Date la plus ancienne | AP2: Entrant | AQ2: Sortant | AR2: Stock | AS2: Délai | AT2: Date la plus ancienne | AU2: Entrant | AV2: Sortant | AW2: Stock | AX2: Délai | AY2: Date la plus ancienne | AZ2: Entrant | BA2: Sortant | BB2: Stock | BC2: Délai | BD2: Date la plus ancienne | BE2: Entrant | BF2: Sortant | BG2: Stock | BH2: Délai | BI2: Date la plus ancienne | BJ2: Entrant | BK2: Sortant | BL2: Stock | BM2: Délai | BN2: Date la plus ancienne | BO2: Entrant | BP2: Sortant | BQ2: Stock | BR2: Délai | BS2: Date la plus ancienne | BT2: Entrant | BU2: Sortant | BV2: Stock | BW2: Délai | BX2: Date la plus ancienne | BY2: Entrant | BZ2: Sortant | CA2: Stock | CB2: Délai | CC2: Date la plus ancienne | CD2: Entrant | CE2: Sortant | CF2: Stock | CG2: Délai | CH2: Date la plus ancienne | CI2: Entrant | CJ2: Sortant | CK2: Stock | CL2: Délai | CM2: Date la plus ancienne | CN2: Entrant | CO2: Sortant | CP2: Stock | CQ2: Délai | CR2: Date la plus ancienne | CS2: Entrant | CT2: Sortant | CU2: Stock | CV2: Délai | CW2: Date la plus ancienne | CX2: Entrant | CY2: Sortant | CZ2: Stock | DA2: Délai | DB2: Date la plus ancienne | DC2: Entrant | DD2: Sortant | DE2: Stock | DF2: Délai | DG2: Date la plus ancienne | DH2: Entrant | DI2: Sortant | DJ2: Stock | DK2: Délai | DL2: Date la plus ancienne | DM2: Entrant | DN2: Sortant | DO2: Stock | DP2: Délai | DQ2: Date la plus ancienne | DR2: Entrant | DS2: Sortant | DT2: Stock | DU2: Délai | DV2: Date la plus ancienne | DW2: Entrant | DX2: Sortant | DY2: Stock | DZ2: Délai | EA2: Date la plus ancienne | EB2: Entrant | EC2: Sortant | ED2: Stock | EE2: Délai | EF2: Date la plus ancienne | EG2: Entrant | EH2: Sortant | EI2: Stock | EJ2: Délai | EK2: Date la plus ancienne | EL2: Entrant | EM2: Sortant | EN2: Stock | EO2: Délai | EP2: Date la plus ancienne | EQ2: Entrant | ER2: Sortant | ES2: Stock | ET2: Délai | EU2: Date la plus ancienne | EV2: Entrant | EW2: Sortant | EX2: Stock | EY2: Délai | EZ2: Date la plus ancienne | FA2: Entrant | FB2: Sortant | FC2: Stock | FD2: Délai | FE2: Date la plus ancienne | FF2: Entrant | FG2: Sortant | FH2: Stock | FI2: Délai | FJ2: Date la plus ancienne | FK2: Entrant | FL2: Sortant | FM2: Stock | FN2: Délai | FO2: Date la plus ancienne | FP2: Entrant | FQ2: Sortant | FR2: Stock | FS2: Délai | FT2: Date la plus ancienne | FU2: Entrant | FV2: Sortant | FW2: Stock | FX2: Délai | FY2: Date la plus ancienne | FZ2: Entrant | GA2: Sortant | GB2: Stock | GC2: Délai | GD2: Date la plus ancienne | GE2: Entrant | GF2: Sortant | GG2: Stock | GH2: Délai | GI2: Date la plus ancienne | GJ2: Entrant | GK2: Sortant | GL2: Stock | GM2: Délai | GN2: Date la plus ancienne | GO2: Entrant | GP2: Sortant | GQ2: Stock | GR2: Délai | GS2: Date la plus ancienne | GT2: Entrant | GU2: Sortant | GV2: Stock | GW2: Délai | GX2: Date la plus ancienne | GY2: Entrant | GZ2: Sortant | HA2: Stock | HB2: Délai | HC2: Date la plus ancienne | HD2: Entrant | HE2: Sortant | HF2: Stock | HG2: Délai | HH2: Date la plus ancienne | HI2: Entrant | HJ2: Sortant | HK2: Stock | HL2: Délai | HM2: Date la plus ancienne | HN2: Entrant | HO2: Sortant | HP2: Stock | HQ2: Délai | HR2: Date la plus ancienne | HS2: Entrant | HT2: Sortant | HU2: Stock | HV2: Délai | HW2: Date la plus ancienne | HX2: Entrant | HY2: Sortant | HZ2: Stock | IA2: Délai | IB2: Date la plus ancienne | IC2: Entrant | ID2: Sortant | IE2: Stock | IF2: Délai | IG2: Date la plus ancienne | IH2: Entrant | II2: Sortant | IJ2: Stock | IK2: Délai | IL2: Date la plus ancienne | IM2: Entrant | IN2: Sortant | IO2: Stock | IP2: Délai | IQ2: Date la plus ancienne | IR2: Entrant | IS2: Sortant | IT2: Stock | IU2: Délai | IV2: Date la plus ancienne | IW2: Entrant | IX2: Sortant | IY2: Stock | IZ2: Délai | JA2: Date la plus ancienne | JB2: Entrant | JC2: Sortant | JD2: Stock | JE2: Délai | JF2: Date la plus ancienne
A3: GPS
A4: Factures adhérents SV | B4: ='[1]Sem 1'!H7 -> 0 | C4: ='[1]Sem 1'!I7 -> 0 | D4: ='[1]Sem 1'!J7 -> 0 | E4: ='[1]Sem 1'!N7 -> 0 | F4: ='[1]Sem 1'!P7 -> 0 | G4: ='[1]Sem 2'!H7 -> 0 | H4: ='[1]Sem 2'!I7 -> 0 | I4: ='[1]Sem 2'!J7 -> 0 | J4: ='[1]Sem 2'!N7 -> #DIV/0! | K4: ='[1]Sem 2'!P7 -> 0 | L4: ='[1]Sem 3'!H7 -> 0 | M4: ='[1]Sem 3'!I7 -> 0 | N4: ='[1]Sem 3'!J7 -> 0 | O4: ='[1]Sem 3'!N7 -> #DIV/0! | P4: ='[1]Sem 1'!AI7 -> 0 | Q4: ='[1]Sem 4'!H7 -> 0 | R4: ='[1]Sem 4'!I7 -> 0 | S4: ='[1]Sem 4'!J7 -> 0 | T4: ='[1]Sem 4'!N7 -> #DIV/0! | U4: ='[1]Sem 4'!P7 -> 0 | V4: ='[1]Sem 5'!H7 -> 0 | W4: ='[1]Sem 5'!I7 -> 0 | X4: ='[1]Sem 5'!J7 -> 0 | Y4: ='[1]Sem 5'!N7 -> #DIV/0! | Z4: ='[1]Sem 5'!P7 -> 0 | AA4: ='[1]Sem 6'!H7 -> 0 | AB4: ='[1]Sem 6'!I7 -> 0 | AC4: ='[1]Sem 6'!J7 -> 0 | AD4: ='[1]Sem 6'!N7 -> #DIV/0! | AE4: ='[1]Sem 6'!P7 -> 0 | AF4: ='[1]Sem 7'!H7 -> 0 | AG4: ='[1]Sem 7'!I7 -> 0 | AH4: ='[1]Sem 7'!J7 -> 0 | AI4: ='[1]Sem 7'!N7 -> #DIV/0! | AJ4: ='[1]Sem 7'!P7 -> 0 | AK4: ='[1]Sem 8'!H7 -> 0 | AL4: ='[1]Sem 8'!I7 -> 0 | AM4: ='[1]Sem 8'!J7 -> 0 | AN4: ='[1]Sem 8'!N7 -> #DIV/0! | AO4: ='[1]Sem 8'!P7 -> 0 | AP4: ='[1]Sem 9'!H7 -> 0 | AQ4: ='[1]Sem 9'!I7 -> 0 | AR4: ='[1]Sem 9'!J7 -> 0 | AS4: ='[1]Sem 9'!N7 -> #DIV/0! | AT4: ='[1]Sem 9'!P7 -> 0 | AU4: ='[1]Sem 10'!H7 -> 0 | AV4: ='[1]Sem 10'!I7 -> 0 | AW4: ='[1]Sem 10'!J7 -> 0 | AX4: ='[1]Sem 10'!N7 -> #DIV/0! | AY4: ='[1]Sem 10'!P7 -> 0 | AZ4: ='[1]Sem 11'!H7 -> 0 | BA4: ='[1]Sem 11'!I7 -> 0 | BB4: ='[1]Sem 11'!J7 -> 0 | BC4: ='[1]Sem 11'!N7 -> #DIV/0! | BD4: ='[1]Sem 11'!P7 -> 0 | BE4: ='[1]Sem 12'!H7 -> 0 | BF4: ='[1]Sem 12'!I7 -> 0 | BG4: ='[1]Sem 12'!J7 -> 0 | BH4: ='[1]Sem 12'!N7 -> #DIV/0! | BI4: ='[1]Sem 12'!P7 -> 0 | BJ4: ='[1]Sem 13'!H7 -> 0 | BK4: ='[1]Sem 13'!I7 -> 0 | BL4: ='[1]Sem 13'!J7 -> 0 | BM4: ='[1]Sem 13'!N7 -> #DIV/0! | BN4: ='[1]Sem 13'!P7 -> 0 | BO4: ='[1]Sem 14'!H7 -> 0 | BP4: ='[1]Sem 14'!I7 -> 0 | BQ4: ='[1]Sem 14'!J7 -> 0 | BR4: ='[1]Sem 14'!N7 -> #DIV/0! | BS4: ='[1]Sem 14'!P7 -> 0 | BT4: ='[1]Sem 15'!H7 -> 0 | BU4: ='[1]Sem 15'!I7 -> 0 | BV4: ='[1]Sem 15'!J7 -> 0 | BW4: ='[1]Sem 15'!N7 -> #DIV/0! | BX4: ='[1]Sem 15'!P7 -> 0 | BY4: ='[1]Sem 16'!H7 -> 0 | BZ4: ='[1]Sem 16'!I7 -> 0 | CA4: ='[1]Sem 16'!J7 -> 0 | CB4: ='[1]Sem 16'!N7 -> #DIV/0! | CC4: ='[1]Sem 16'!P7 -> 0 | CD4: =INDIRECT("'I:\Ociane\Services aux Adhérents\Services aux Adhérents par Centre de Gestion\0 Tous centres\DEPARTEMENT GESTION PRESTATIONS\STOCKS 2019\[Stocks Prestations 2019.xlsx]Sem "&INT((COLUMN()+3)/5)&"'!$H"&ROWS($1:6)) -> 0 | CE4: =INDIRECT("'I:\Ociane\Services aux Adhérents\Services aux Adhérents par Centre de Gestion\0 Tous centres\DEPARTEMENT GESTION PRESTATIONS\STOCKS 2019\[Stocks Prestations 2019.xlsx]Sem "&INT((COLUMN()+3)/5)&"'!$I"&ROWS($1:6)) -> 0 | CF4: =INDIRECT("'I:\Ociane\Services aux Adhérents\Services aux Adhérents par Centre de Gestion\0 Tous centres\DEPARTEMENT GESTION PRESTATIONS\STOCKS 2019\[Stocks Prestations 2019.xlsx]Sem "&INT((COLUMN()+3)/5)&"'!$J"&ROWS($1:6)) -> 0 | CG4: =INDIRECT("'I:\Ociane\Services aux Adhérents\Services aux Adhérents par Centre de Gestion\0 Tous centres\DEPARTEMENT GESTION PRESTATIONS\STOCKS 2019\[Stocks Prestations 2019.xlsx]Sem "&INT((COLUMN()+3)/5)&"'!$N"&ROWS($1:6)) -> 0 | CH4: =INDIRECT("'I:\Ociane\Services aux Adhérents\Services aux Adhérents par Centre de Gestion\0 Tous centres\DEPARTEMENT GESTION PRESTATIONS\STOCKS 2019\[Stocks Prestations 2019.xlsx]Sem "&INT((COLUMN()+3)/5)&"'!$P"&ROWS($1:6)) -> 0 | CI4: =INDIRECT("'I:\Ociane\Services aux Adhérents\Services aux Adhérents par Centre de Gestion\0 Tous centres\DEPARTEMENT GESTION PRESTATIONS\STOCKS 2019\[Stocks Prestations 2019.xlsx]Sem "&INT((COLUMN()+3)/5)&"'!$H"&ROWS($1:6)) -> 0 | CJ4: =INDIRECT("'I:\Ociane\Services aux Adhérents\Services aux Adhérents par Centre de Gestion\0 Tous centres\DEPARTEMENT GESTION PRESTATIONS\STOCKS 2019\[Stocks Prestations 2019.xlsx]Sem "&INT((COLUMN()+3)/5)&"'!$I"&ROWS($1:6)) -> 0 | CK4: =INDIRECT("'I:\Ociane\Services aux Adhérents\Services aux Adhérents par Centre de Gestion\0 Tous centres\DEPARTEMENT GESTION PRESTATIONS\STOCKS 2019\[Stocks Prestations 2019.xlsx]Sem "&INT((COLUMN()+3)/5)&"'!$J"&ROWS($1:6)) -> 0 | CL4: =INDIRECT("'I:\Ociane\Services aux Adhérents\Services aux Adhérents par Centre de Gestion\0 Tous centres\DEPARTEMENT GESTION PRESTATIONS\STOCKS 2019\[Stocks Prestations 2019.xlsx]Sem "&INT((COLUMN()+3)/5)&"'!$N"&ROWS($1:6)) -> 0 | CM4: =INDIRECT("'I:\Ociane\Services aux Adhérents\Services aux Adhérents par Centre de Gestion\0 Tous centres\DEPARTEMENT GESTION PRESTATIONS\STOCKS 2019\[Stocks Prestations 2019.xlsx]Sem "&INT((COLUMN()+3)/5)&"'!$P"&ROWS($1:6)) -> 0 | CN4: =INDIRECT("'I:\Ociane\Services aux Adhérents\Services aux Adhérents par Centre de Gestion\0 Tous centres\DEPARTEMENT GESTION PRESTATIONS\STOCKS 2019\[Stocks Prestations 2019.xlsx]Sem "&INT((COLUMN()+3)/5)&"'!$H"&ROWS($1:6)) -> 0 | CO4: =INDIRECT("'I:\Ociane\Services aux Adhérents\Services aux Adhérents par Centre de Gestion\0 Tous centres\DEPARTEMENT GESTION PRESTATIONS\STOCKS 2019\[Stocks Prestations 2019.xlsx]Sem "&INT((COLUMN()+3)/5)&"'!$I"&ROWS($1:6)) -> 0 | CP4: =INDIRECT("'I:\Ociane\Services aux Adhérents\Services aux Adhérents par Centre de Gestion\0 Tous centres\DEPARTEMENT GESTION PRESTATIONS\STOCKS 2019\[Stocks Prestations 2019.xlsx]Sem "&INT((COLUMN()+3)/5)&"'!$J"&ROWS($1:6)) -> 0 | CQ4: =INDIRECT("'I:\Ociane\Services aux Adhérents\Services aux Adhérents par Centre de Gestion\0 Tous centres\DEPARTEMENT GESTION PRESTATIONS\STOCKS 2019\[Stocks Prestations 2019.xlsx]Sem "&INT((COLUMN()+3)/5)&"'!$N"&ROWS($1:6)) -> 0 | CR4: =INDIRECT("'I:\Ociane\Services aux Adhérents\Services aux Adhérents par Centre de Gestion\0 Tous centres\DEPARTEMENT GESTION PRESTATIONS\STOCKS 2019\[Stocks Prestations 2019.xlsx]Sem "&INT((COLUMN()+3)/5)&"'!$P"&ROWS($1:6)) -> 0 | CS4: =INDIRECT("'I:\Ociane\Services aux Adhérents\Services aux Adhérents par Centre de Gestion\0 Tous centres\DEPARTEMENT GESTION PRESTATIONS\STOCKS 2019\[Stocks Prestations 2019.xlsx]Sem "&INT((COLUMN()+3)/5)&"'!$H"&ROWS($1:6)) -> 0 | CT4: =INDIRECT("'I:\Ociane\Services aux Adhérents\Services aux Adhérents par Centre de Gestion\0 Tous centres\DEPARTEMENT GESTION PRESTATIONS\STOCKS 2019\[Stocks Prestations 2019.xlsx]Sem "&INT((COLUMN()+3)/5)&"'!$I"&ROWS($1:6)) -> 0 | CU4: =INDIRECT("'I:\Ociane\Services aux Adhérents\Services aux Adhérents par Centre de Gestion\0 Tous centres\DEPARTEMENT GESTION PRESTATIONS\STOCKS 2019\[Stocks Prestations 2019.xlsx]Sem "&INT((COLUMN()+3)/5)&"'!$J"&ROWS($1:6)) -> 0 | CV4: =INDIRECT("'I:\Ociane\Services aux Adhérents\Services aux Adhérents par Centre de Gestion\0 Tous centres\DEPARTEMENT GESTION PRESTATIONS\STOCKS 2019\[Stocks Prestations 2019.xlsx]Sem "&INT((COLUMN()+3)/5)&"'!$N"&ROWS($1:6)) -> 0 | CW4: =INDIRECT("'I:\Ociane\Services aux Adhérents\Services aux Adhérents par Centre de Gestion\0 Tous centres\DEPARTEMENT GESTION PRESTATIONS\STOCKS 2019\[Stocks Prestations 2019.xlsx]Sem "&INT((COLUMN()+3)/5)&"'!$P"&ROWS($1:6)) -> 0 | CX4: =INDIRECT("'I:\Ociane\Services aux Adhérents\Services aux Adhérents par Centre de Gestion\0 Tous centres\DEPARTEMENT GESTION PRESTATIONS\STOCKS 2019\[Stocks Prestations 2019.xlsx]Sem "&INT((COLUMN()+3)/5)&"'!$H"&ROWS($1:6)) -> 0 | CY4: =INDIRECT("'I:\Ociane\Services aux Adhérents\Services aux Adhérents par Centre de Gestion\0 Tous centres\DEPARTEMENT GESTION PRESTATIONS\STOCKS 2019\[Stocks Prestations 2019.xlsx]Sem "&INT((COLUMN()+3)/5)&"'!$I"&ROWS($1:6)) -> 0 | CZ4: =INDIRECT("'I:\Ociane\Services aux Adhérents\Services aux Adhérents par Centre de Gestion\0 Tous centres\DEPARTEMENT GESTION PRESTATIONS\STOCKS 2019\[Stocks Prestations 2019.xlsx]Sem "&INT((COLUMN()+3)/5)&"'!$J"&ROWS($1:6)) -> 0 | DA4: =INDIRECT("'I:\Ociane\Services aux Adhérents\Services aux Adhérents par Centre de Gestion\0 Tous centres\DEPARTEMENT GESTION PRESTATIONS\STOCKS 2019\[Stocks Prestations 2019.xlsx]Sem "&INT((COLUMN()+3)/5)&"'!$N"&ROWS($1:6)) -> 0 | DB4: =INDIRECT("'I:\Ociane\Services aux Adhérents\Services aux Adhérents par Centre de Gestion\0 Tous centres\DEPARTEMENT GESTION PRESTATIONS\STOCKS 2019\[Stocks Prestations 2019.xlsx]Sem "&INT((COLUMN()+3)/5)&"'!$P"&ROWS($1:6)) -> 0 | DC4: =INDIRECT("'I:\Ociane\Services aux Adhérents\Services aux Adhérents par Centre de Gestion\0 Tous centres\DEPARTEMENT GESTION PRESTATIONS\STOCKS 2019\[Stocks Prestations 2019.xlsx]Sem "&INT((COLUMN()+3)/5)&"'!$H"&ROWS($1:6)) -> 0 | DD4: =INDIRECT("'I:\Ociane\Services aux Adhérents\Services aux Adhérents par Centre de Gestion\0 Tous centres\DEPARTEMENT GESTION PRESTATIONS\STOCKS 2019\[Stocks Prestations 2019.xlsx]Sem "&INT((COLUMN()+3)/5)&"'!$I"&ROWS($1:6)) -> 0 | DE4: =INDIRECT("'I:\Ociane\Services aux Adhérents\Services aux Adhérents par Centre de Gestion\0 Tous centres\DEPARTEMENT GESTION PRESTATIONS\STOCKS 2019\[Stocks Prestations 2019.xlsx]Sem "&INT((COLUMN()+3)/5)&"'!$J"&ROWS($1:6)) -> 0 | DF4: =INDIRECT("'I:\Ociane\Services aux Adhérents\Services aux Adhérents par Centre de Gestion\0 Tous centres\DEPARTEMENT GESTION PRESTATIONS\STOCKS 2019\[Stocks Prestations 2019.xlsx]Sem "&INT((COLUMN()+3)/5)&"'!$N"&ROWS($1:6)) -> 0 | DG4: =INDIRECT("'I:\Ociane\Services aux Adhérents\Services aux Adhérents par Centre de Gestion\0 Tous centres\DEPARTEMENT GESTION PRESTATIONS\STOCKS 2019\[Stocks Prestations 2019.xlsx]Sem "&INT((COLUMN()+3)/5)&"'!$P"&ROWS($1:6)) -> 0 | DH4: =INDIRECT("'I:\Ociane\Services aux Adhérents\Services aux Adhérents par Centre de Gestion\0 Tous centres\DEPARTEMENT GESTION PRESTATIONS\STOCKS 2019\[Stocks Prestations 2019.xlsx]Sem "&INT((COLUMN()+3)/5)&"'!$H"&ROWS($1:6)) -> 0 | DI4: =INDIRECT("'I:\Ociane\Services aux Adhérents\Services aux Adhérents par Centre de Gestion\0 Tous centres\DEPARTEMENT GESTION PRESTATIONS\STOCKS 2019\[Stocks Prestations 2019.xlsx]Sem "&INT((COLUMN()+3)/5)&"'!$I"&ROWS($1:6)) -> 0 | DJ4: =INDIRECT("'I:\Ociane\Services aux Adhérents\Services aux Adhérents par Centre de Gestion\0 Tous centres\DEPARTEMENT GESTION PRESTATIONS\STOCKS 2019\[Stocks Prestations 2019.xlsx]Sem "&INT((COLUMN()+3)/5)&"'!$J"&ROWS($1:6)) -> 0 | DK4: =INDIRECT("'I:\Ociane\Services aux Adhérents\Services aux Adhérents par Centre de Gestion\0 Tous centres\DEPARTEMENT GESTION PRESTATIONS\STOCKS 2019\[Stocks Prestations 2019.xlsx]Sem "&INT((COLUMN()+3)/5)&"'!$N"&ROWS($1:6)) -> 0 | DL4: =INDIRECT("'I:\Ociane\Services aux Adhérents\Services aux Adhérents par Centre de Gestion\0 Tous centres\DEPARTEMENT GESTION PRESTATIONS\STOCKS 2019\[Stocks Prestations 2019.xlsx]Sem "&INT((COLUMN()+3)/5)&"'!$P"&ROWS($1:6)) -> 0 | DM4: =INDIRECT("'I:\Ociane\Services aux Adhérents\Services aux Adhérents par Centre de Gestion\0 Tous centres\DEPARTEMENT GESTION PRESTATIONS\STOCKS 2019\[Stocks Prestations 2019.xlsx]Sem "&INT((COLUMN()+3)/5)&"'!$H"&ROWS($1:6)) -> 0 | DN4: =INDIRECT("'I:\Ociane\Services aux Adhérents\Services aux Adhérents par Centre de Gestion\0 Tous centres\DEPARTEMENT GESTION PRESTATIONS\STOCKS 2019\[Stocks Prestations 2019.xlsx]Sem "&INT((COLUMN()+3)/5)&"'!$I"&ROWS($1:6)) -> 0 | DO4: =INDIRECT("'I:\Ociane\Services aux Adhérents\Services aux Adhérents par Centre de Gestion\0 Tous centres\DEPARTEMENT GESTION PRESTATIONS\STOCKS 2019\[Stocks Prestations 2019.xlsx]Sem "&INT((COLUMN()+3)/5)&"'!$J"&ROWS($1:6)) -> 0 | DP4: =INDIRECT("'I:\Ociane\Services aux Adhérents\Services aux Adhérents par Centre de Gestion\0 Tous centres\DEPARTEMENT GESTION PRESTATIONS\STOCKS 2019\[Stocks Prestations 2019.xlsx]Sem "&INT((COLUMN()+3)/5)&"'!$N"&ROWS($1:6)) -> 0 | DQ4: =INDIRECT("'I:\Ociane\Services aux Adhérents\Services aux Adhérents par Centre de Gestion\0 Tous centres\DEPARTEMENT GESTION PRESTATIONS\STOCKS 2019\[Stocks Prestations 2019.xlsx]Sem "&INT((COLUMN()+3)/5)&"'!$P"&ROWS($1:6)) -> 0 | DR4: =INDIRECT("'I:\Ociane\Services aux Adhérents\Services aux Adhérents par Centre de Gestion\0 Tous centres\DEPARTEMENT GESTION PRESTATIONS\STOCKS 2019\[Stocks Prestations 2019.xlsx]Sem "&INT((COLUMN()+3)/5)&"'!$H"&ROWS($1:6)) -> 0 | DS4: =INDIRECT("'I:\Ociane\Services aux Adhérents\Services aux Adhérents par Centre de Gestion\0 Tous centres\DEPARTEMENT GESTION PRESTATIONS\STOCKS 2019\[Stocks Prestations 2019.xlsx]Sem "&INT((COLUMN()+3)/5)&"'!$I"&ROWS($1:6)) -> 0 | DT4: =INDIRECT("'I:\Ociane\Services aux Adhérents\Services aux Adhérents par Centre de Gestion\0 Tous centres\DEPARTEMENT GESTION PRESTATIONS\STOCKS 2019\[Stocks Prestations 2019.xlsx]Sem "&INT((COLUMN()+3)/5)&"'!$J"&ROWS($1:6)) -> 0 | DU4: =INDIRECT("'I:\Ociane\Services aux Adhérents\Services aux Adhérents par Centre de Gestion\0 Tous centres\DEPARTEMENT GESTION PRESTATIONS\STOCKS 2019\[Stocks Prestations 2019.xlsx]Sem "&INT((COLUMN()+3)/5)&"'!$N"&ROWS($1:6)) -> 0 | DV4: =INDIRECT("'I:\Ociane\Services aux Adhérents\Services aux Adhérents par Centre de Gestion\0 Tous centres\DEPARTEMENT GESTION PRESTATIONS\STOCKS 2019\[Stocks Prestations 2019.xlsx]Sem "&INT((COLUMN()+3)/5)&"'!$P"&ROWS($1:6)) -> 0 | DW4: =INDIRECT("'I:\Ociane\Services aux Adhérents\Services aux Adhérents par Centre de Gestion\0 Tous centres\DEPARTEMENT GESTION PRESTATIONS\STOCKS 2019\[Stocks Prestations 2019.xlsx]Sem "&INT((COLUMN()+3)/5)&"'!$H"&ROWS($1:6)) -> 0 | DX4: =INDIRECT("'I:\Ociane\Services aux Adhérents\Services aux Adhérents par Centre de Gestion\0 Tous centres\DEPARTEMENT GESTION PRESTATIONS\STOCKS 2019\[Stocks Prestations 2019.xlsx]Sem "&INT((COLUMN()+3)/5)&"'!$I"&ROWS($1:6)) -> 0 | DY4: =INDIRECT("'I:\Ociane\Services aux Adhérents\Services aux Adhérents par Centre de Gestion\0 Tous centres\DEPARTEMENT GESTION PRESTATIONS\STOCKS 2019\[Stocks Prestations 2019.xlsx]Sem "&INT((COLUMN()+3)/5)&"'!$J"&ROWS($1:6)) -> 0 | DZ4: =INDIRECT("'I:\Ociane\Services aux Adhérents\Services aux Adhérents par Centre de Gestion\0 Tous centres\DEPARTEMENT GESTION PRESTATIONS\STOCKS 2019\[Stocks Prestations 2019.xlsx]Sem "&INT((COLUMN()+3)/5)&"'!$N"&ROWS($1:6)) -> 0 | EA4: =INDIRECT("'I:\Ociane\Services aux Adhérents\Services aux Adhérents par Centre de Gestion\0 Tous centres\DEPARTEMENT GESTION PRESTATIONS\STOCKS 2019\[Stocks Prestations 2019.xlsx]Sem "&INT((COLUMN()+3)/5)&"'!$P"&ROWS($1:6)) -> 0 | EB4: =INDIRECT("'I:\Ociane\Services aux Adhérents\Services aux Adhérents par Centre de Gestion\0 Tous centres\DEPARTEMENT GESTION PRESTATIONS\STOCKS 2019\[Stocks Prestations 2019.xlsx]Sem "&INT((COLUMN()+3)/5)&"'!$H"&ROWS($1:6)) -> 0 | EC4: =INDIRECT("'I:\Ociane\Services aux Adhérents\Services aux Adhérents par Centre de Gestion\0 Tous centres\DEPARTEMENT GESTION PRESTATIONS\STOCKS 2019\[Stocks Prestations 2019.xlsx]Sem "&INT((COLUMN()+3)/5)&"'!$I"&ROWS($1:6)) -> 0 | ED4: =INDIRECT("'I:\Ociane\Services aux Adhérents\Services aux Adhérents par Centre de Gestion\0 Tous centres\DEPARTEMENT GESTION PRESTATIONS\STOCKS 2019\[Stocks Prestations 2019.xlsx]Sem "&INT((COLUMN()+3)/5)&"'!$J"&ROWS($1:6)) -> 0 | EE4: =INDIRECT("'I:\Ociane\Services aux Adhérents\Services aux Adhérents par Centre de Gestion\0 Tous centres\DEPARTEMENT GESTION PRESTATIONS\STOCKS 2019\[Stocks Prestations 2019.xlsx]Sem "&INT((COLUMN()+3)/5)&"'!$N"&ROWS($1:6)) -> 0 | EF4: =INDIRECT("'I:\Ociane\Services aux Adhérents\Services aux Adhérents par Centre de Gestion\0 Tous centres\DEPARTEMENT GESTION PRESTATIONS\STOCKS 2019\[Stocks Prestations 2019.xlsx]Sem "&INT((COLUMN()+3)/5)&"'!$P"&ROWS($1:6)) -> 0 | EG4: =INDIRECT("'I:\Ociane\Services aux Adhérents\Services aux Adhérents par Centre de Gestion\0 Tous centres\DEPARTEMENT GESTION PRESTATIONS\STOCKS 2019\[Stocks Prestations 2019.xlsx]Sem "&INT((COLUMN()+3)/5)&"'!$H"&ROWS($1:6)) -> 0 | EH4: =INDIRECT("'I:\Ociane\Services aux Adhérents\Services aux Adhérents par Centre de Gestion\0 Tous centres\DEPARTEMENT GESTION PRESTATIONS\STOCKS 2019\[Stocks Prestations 2019.xlsx]Sem "&INT((COLUMN()+3)/5)&"'!$I"&ROWS($1:6)) -> 0 | EI4: =INDIRECT("'I:\Ociane\Services aux Adhérents\Services aux Adhérents par Centre de Gestion\0 Tous centres\DEPARTEMENT GESTION PRESTATIONS\STOCKS 2019\[Stocks Prestations 2019.xlsx]Sem "&INT((COLUMN()+3)/5)&"'!$J"&ROWS($1:6)) -> 0 | EJ4: =INDIRECT("'I:\Ociane\Services aux Adhérents\Services aux Adhérents par Centre de Gestion\0 Tous centres\DEPARTEMENT GESTION PRESTATIONS\STOCKS 2019\[Stocks Prestations 2019.xlsx]Sem "&INT((COLUMN()+3)/5)&"'!$N"&ROWS($1:6)) -> 0 | EK4: =INDIRECT("'I:\Ociane\Services aux Adhérents\Services aux Adhérents par Centre de Gestion\0 Tous centres\DEPARTEMENT GESTION PRESTATIONS\STOCKS 2019\[Stocks Prestations 2019.xlsx]Sem "&INT((COLUMN()+3)/5)&"'!$P"&ROWS($1:6)) -> 0 | EL4: =INDIRECT("'I:\Ociane\Services aux Adhérents\Services aux Adhérents par Centre de Gestion\0 Tous centres\DEPARTEMENT GESTION PRESTATIONS\STOCKS 2019\[Stocks Prestations 2019.xlsx]Sem "&INT((COLUMN()+3)/5)&"'!$H"&ROWS($1:6)) -> 0 | EM4: =INDIRECT("'I:\Ociane\Services aux Adhérents\Services aux Adhérents par Centre de Gestion\0 Tous centres\DEPARTEMENT GESTION PRESTATIONS\STOCKS 2019\[Stocks Prestations 2019.xlsx]Sem "&INT((COLUMN()+3)/5)&"'!$I"&ROWS($1:6)) -> 0 | EN4: =INDIRECT("'I:\Ociane\Services aux Adhérents\Services aux Adhérents par Centre de Gestion\0 Tous centres\DEPARTEMENT GESTION PRESTATIONS\STOCKS 2019\[Stocks Prestations 2019.xlsx]Sem "&INT((COLUMN()+3)/5)&"'!$J"&ROWS($1:6)) -> 0 | EO4: =INDIRECT("'I:\Ociane\Services aux Adhérents\Services aux Adhérents par Centre de Gestion\0 Tous centres\DEPARTEMENT GESTION PRESTATIONS\STOCKS 2019\[Stocks Prestations 2019.xlsx]Sem "&INT((COLUMN()+3)/5)&"'!$N"&ROWS($1:6)) -> 0 | EP4: =INDIRECT("'I:\Ociane\Services aux Adhérents\Services aux Adhérents par Centre de Gestion\0 Tous centres\DEPARTEMENT GESTION PRESTATIONS\STOCKS 2019\[Stocks Prestations 2019.xlsx]Sem "&INT((COLUMN()+3)/5)&"'!$P"&ROWS($1:6)) -> 0 | EQ4: =INDIRECT("'I:\Ociane\Services aux Adhérents\Services aux Adhérents par Centre de Gestion\0 Tous centres\DEPARTEMENT GESTION PRESTATIONS\STOCKS 2019\[Stocks Prestations 2019.xlsx]Sem "&INT((COLUMN()+3)/5)&"'!$H"&ROWS($1:6)) -> 0 | ER4: =INDIRECT("'I:\Ociane\Services aux Adhérents\Services aux Adhérents par Centre de Gestion\0 Tous centres\DEPARTEMENT GESTION PRESTATIONS\STOCKS 2019\[Stocks Prestations 2019.xlsx]Sem "&INT((COLUMN()+3)/5)&"'!$I"&ROWS($1:6)) -> 0 | ES4: =INDIRECT("'I:\Ociane\Services aux Adhérents\Services aux Adhérents par Centre de Gestion\0 Tous centres\DEPARTEMENT GESTION PRESTATIONS\STOCKS 2019\[Stocks Prestations 2019.xlsx]Sem "&INT((COLUMN()+3)/5)&"'!$J"&ROWS($1:6)) -> 0 | ET4: =INDIRECT("'I:\Ociane\Services aux Adhérents\Services aux Adhérents par Centre de Gestion\0 Tous centres\DEPARTEMENT GESTION PRESTATIONS\STOCKS 2019\[Stocks Prestations 2019.xlsx]Sem "&INT((COLUMN()+3)/5)&"'!$N"&ROWS($1:6)) -> 0 | EU4: =INDIRECT("'I:\Ociane\Services aux Adhérents\Services aux Adhérents par Centre de Gestion\0 Tous centres\DEPARTEMENT GESTION PRESTATIONS\STOCKS 2019\[Stocks Prestations 2019.xlsx]Sem "&INT((COLUMN()+3)/5)&"'!$P"&ROWS($1:6)) -> 0 | EV4: =INDIRECT("'I:\Ociane\Services aux Adhérents\Services aux Adhérents par Centre de Gestion\0 Tous centres\DEPARTEMENT GESTION PRESTATIONS\STOCKS 2019\[Stocks Prestations 2019.xlsx]Sem "&INT((COLUMN()+3)/5)&"'!$H"&ROWS($1:6)) -> 0 | EW4: =INDIRECT("'I:\Ociane\Services aux Adhérents\Services aux Adhérents par Centre de Gestion\0 Tous centres\DEPARTEMENT GESTION PRESTATIONS\STOCKS 2019\[Stocks Prestations 2019.xlsx]Sem "&INT((COLUMN()+3)/5)&"'!$I"&ROWS($1:6)) -> 0 | EX4: =INDIRECT("'I:\Ociane\Services aux Adhérents\Services aux Adhérents par Centre de Gestion\0 Tous centres\DEPARTEMENT GESTION PRESTATIONS\STOCKS 2019\[Stocks Prestations 2019.xlsx]Sem "&INT((COLUMN()+3)/5)&"'!$J"&ROWS($1:6)) -> 0 | EY4: =INDIRECT("'I:\Ociane\Services aux Adhérents\Services aux Adhérents par Centre de Gestion\0 Tous centres\DEPARTEMENT GESTION PRESTATIONS\STOCKS 2019\[Stocks Prestations 2019.xlsx]Sem "&INT((COLUMN()+3)/5)&"'!$N"&ROWS($1:6)) -> 0 | EZ4: =INDIRECT("'I:\Ociane\Services aux Adhérents\Services aux Adhérents par Centre de Gestion\0 Tous centres\DEPARTEMENT GESTION PRESTATIONS\STOCKS 2019\[Stocks Prestations 2019.xlsx]Sem "&INT((COLUMN()+3)/5)&"'!$P"&ROWS($1:6)) -> 0 | FA4: =INDIRECT("'I:\Ociane\Services aux Adhérents\Services aux Adhérents par Centre de Gestion\0 Tous centres\DEPARTEMENT GESTION PRESTATIONS\STOCKS 2019\[Stocks Prestations 2019.xlsx]Sem "&INT((COLUMN()+3)/5)&"'!$H"&ROWS($1:6)) -> 0 | FB4: =INDIRECT("'I:\Ociane\Services aux Adhérents\Services aux Adhérents par Centre de Gestion\0 Tous centres\DEPARTEMENT GESTION PRESTATIONS\STOCKS 2019\[Stocks Prestations 2019.xlsx]Sem "&INT((COLUMN()+3)/5)&"'!$I"&ROWS($1:6)) -> 0 | FC4: =INDIRECT("'I:\Ociane\Services aux Adhérents\Services aux Adhérents par Centre de Gestion\0 Tous centres\DEPARTEMENT GESTION PRESTATIONS\STOCKS 2019\[Stocks Prestations 2019.xlsx]Sem "&INT((COLUMN()+3)/5)&"'!$J"&ROWS($1:6)) -> 0 | FD4: =INDIRECT("'I:\Ociane\Services aux Adhérents\Services aux Adhérents par Centre de Gestion\0 Tous centres\DEPARTEMENT GESTION PRESTATIONS\STOCKS 2019\[Stocks Prestations 2019.xlsx]Sem "&INT((COLUMN()+3)/5)&"'!$N"&ROWS($1:6)) -> 0 | FE4: =INDIRECT("'I:\Ociane\Services aux Adhérents\Services aux Adhérents par Centre de Gestion\0 Tous centres\DEPARTEMENT GESTION PRESTATIONS\STOCKS 2019\[Stocks Prestations 2019.xlsx]Sem "&INT((COLUMN()+3)/5)&"'!$P"&ROWS($1:6)) -> 0 | FF4: =INDIRECT("'I:\Ociane\Services aux Adhérents\Services aux Adhérents par Centre de Gestion\0 Tous centres\DEPARTEMENT GESTION PRESTATIONS\STOCKS 2019\[Stocks Prestations 2019.xlsx]Sem "&INT((COLUMN()+3)/5)&"'!$H"&ROWS($1:6)) -> 0 | FG4: =INDIRECT("'I:\Ociane\Services aux Adhérents\Services aux Adhérents par Centre de Gestion\0 Tous centres\DEPARTEMENT GESTION PRESTATIONS\STOCKS 2019\[Stocks Prestations 2019.xlsx]Sem "&INT((COLUMN()+3)/5)&"'!$I"&ROWS($1:6)) -> 0 | FH4: =INDIRECT("'I:\Ociane\Services aux Adhérents\Services aux Adhérents par Centre de Gestion\0 Tous centres\DEPARTEMENT GESTION PRESTATIONS\STOCKS 2019\[Stocks Prestations 2019.xlsx]Sem "&INT((COLUMN()+3)/5)&"'!$J"&ROWS($1:6)) -> 0 | FI4: =INDIRECT("'I:\Ociane\Services aux Adhérents\Services aux Adhérents par Centre de Gestion\0 Tous centres\DEPARTEMENT GESTION PRESTATIONS\STOCKS 2019\[Stocks Prestations 2019.xlsx]Sem "&INT((COLUMN()+3)/5)&"'!$N"&ROWS($1:6)) -> 0 | FJ4: =INDIRECT("'I:\Ociane\Services aux Adhérents\Services aux Adhérents par Centre de Gestion\0 Tous centres\DEPARTEMENT GESTION PRESTATIONS\STOCKS 2019\[Stocks Prestations 2019.xlsx]Sem "&INT((COLUMN()+3)/5)&"'!$P"&ROWS($1:6)) -> 0 | FK4: =INDIRECT("'I:\Ociane\Services aux Adhérents\Services aux Adhérents par Centre de Gestion\0 Tous centres\DEPARTEMENT GESTION PRESTATIONS\STOCKS 2019\[Stocks Prestations 2019.xlsx]Sem "&INT((COLUMN()+3)/5)&"'!$H"&ROWS($1:6)) -> 0 | FL4: =INDIRECT("'I:\Ociane\Services aux Adhérents\Services aux Adhérents par Centre de Gestion\0 Tous centres\DEPARTEMENT GESTION PRESTATIONS\STOCKS 2019\[Stocks Prestations 2019.xlsx]Sem "&INT((COLUMN()+3)/5)&"'!$I"&ROWS($1:6)) -> 0 | FM4: =INDIRECT("'I:\Ociane\Services aux Adhérents\Services aux Adhérents par Centre de Gestion\0 Tous centres\DEPARTEMENT GESTION PRESTATIONS\STOCKS 2019\[Stocks Prestations 2019.xlsx]Sem "&INT((COLUMN()+3)/5)&"'!$J"&ROWS($1:6)) -> 0 | FN4: =INDIRECT("'I:\Ociane\Services aux Adhérents\Services aux Adhérents par Centre de Gestion\0 Tous centres\DEPARTEMENT GESTION PRESTATIONS\STOCKS 2019\[Stocks Prestations 2019.xlsx]Sem "&INT((COLUMN()+3)/5)&"'!$N"&ROWS($1:6)) -> 0 | FO4: =INDIRECT("'I:\Ociane\Services aux Adhérents\Services aux Adhérents par Centre de Gestion\0 Tous centres\DEPARTEMENT GESTION PRESTATIONS\STOCKS 2019\[Stocks Prestations 2019.xlsx]Sem "&INT((COLUMN()+3)/5)&"'!$P"&ROWS($1:6)) -> 0 | FP4: =INDIRECT("'I:\Ociane\Services aux Adhérents\Services aux Adhérents par Centre de Gestion\0 Tous centres\DEPARTEMENT GESTION PRESTATIONS\STOCKS 2019\[Stocks Prestations 2019.xlsx]Sem "&INT((COLUMN()+3)/5)&"'!$H"&ROWS($1:6)) -> 0 | FQ4: =INDIRECT("'I:\Ociane\Services aux Adhérents\Services aux Adhérents par Centre de Gestion\0 Tous centres\DEPARTEMENT GESTION PRESTATIONS\STOCKS 2019\[Stocks Prestations 2019.xlsx]Sem "&INT((COLUMN()+3)/5)&"'!$I"&ROWS($1:6)) -> 0 | FR4: =INDIRECT("'I:\Ociane\Services aux Adhérents\Services aux Adhérents par Centre de Gestion\0 Tous centres\DEPARTEMENT GESTION PRESTATIONS\STOCKS 2019\[Stocks Prestations 2019.xlsx]Sem "&INT((COLUMN()+3)/5)&"'!$J"&ROWS($1:6)) -> 0 | FS4: =INDIRECT("'I:\Ociane\Services aux Adhérents\Services aux Adhérents par Centre de Gestion\0 Tous centres\DEPARTEMENT GESTION PRESTATIONS\STOCKS 2019\[Stocks Prestations 2019.xlsx]Sem "&INT((COLUMN()+3)/5)&"'!$N"&ROWS($1:6)) -> 0 | FT4: =INDIRECT("'I:\Ociane\Services aux Adhérents\Services aux Adhérents par Centre de Gestion\0 Tous centres\DEPARTEMENT GESTION PRESTATIONS\STOCKS 2019\[Stocks Prestations 2019.xlsx]Sem "&INT((COLUMN()+3)/5)&"'!$P"&ROWS($1:6)) -> 0 | FU4: =INDIRECT("'I:\Ociane\Services aux Adhérents\Services aux Adhérents par Centre de Gestion\0 Tous centres\DEPARTEMENT GESTION PRESTATIONS\STOCKS 2019\[Stocks Prestations 2019.xlsx]Sem "&INT((COLUMN()+3)/5)&"'!$H"&ROWS($1:6)) -> 0 | FV4: =INDIRECT("'I:\Ociane\Services aux Adhérents\Services aux Adhérents par Centre de Gestion\0 Tous centres\DEPARTEMENT GESTION PRESTATIONS\STOCKS 2019\[Stocks Prestations 2019.xlsx]Sem "&INT((COLUMN()+3)/5)&"'!$I"&ROWS($1:6)) -> 0 | FW4: =INDIRECT("'I:\Ociane\Services aux Adhérents\Services aux Adhérents par Centre de Gestion\0 Tous centres\DEPARTEMENT GESTION PRESTATIONS\STOCKS 2019\[Stocks Prestations 2019.xlsx]Sem "&INT((COLUMN()+3)/5)&"'!$J"&ROWS($1:6)) -> 0 | FX4: =INDIRECT("'I:\Ociane\Services aux Adhérents\Services aux Adhérents par Centre de Gestion\0 Tous centres\DEPARTEMENT GESTION PRESTATIONS\STOCKS 2019\[Stocks Prestations 2019.xlsx]Sem "&INT((COLUMN()+3)/5)&"'!$N"&ROWS($1:6)) -> 0 | FY4: =INDIRECT("'I:\Ociane\Services aux Adhérents\Services aux Adhérents par Centre de Gestion\0 Tous centres\DEPARTEMENT GESTION PRESTATIONS\STOCKS 2019\[Stocks Prestations 2019.xlsx]Sem "&INT((COLUMN()+3)/5)&"'!$P"&ROWS($1:6)) -> 0 | FZ4: =INDIRECT("'I:\Ociane\Services aux Adhérents\Services aux Adhérents par Centre de Gestion\0 Tous centres\DEPARTEMENT GESTION PRESTATIONS\STOCKS 2019\[Stocks Prestations 2019.xlsx]Sem "&INT((COLUMN()+3)/5)&"'!$H"&ROWS($1:6)) -> 0 | GA4: =INDIRECT("'I:\Ociane\Services aux Adhérents\Services aux Adhérents par Centre de Gestion\0 Tous centres\DEPARTEMENT GESTION PRESTATIONS\STOCKS 2019\[Stocks Prestations 2019.xlsx]Sem "&INT((COLUMN()+3)/5)&"'!$I"&ROWS($1:6)) -> 0 | GB4: =INDIRECT("'I:\Ociane\Services aux Adhérents\Services aux Adhérents par Centre de Gestion\0 Tous centres\DEPARTEMENT GESTION PRESTATIONS\STOCKS 2019\[Stocks Prestations 2019.xlsx]Sem "&INT((COLUMN()+3)/5)&"'!$J"&ROWS($1:6)) -> 0 | GC4: =INDIRECT("'I:\Ociane\Services aux Adhérents\Services aux Adhérents par Centre de Gestion\0 Tous centres\DEPARTEMENT GESTION PRESTATIONS\STOCKS 2019\[Stocks Prestations 2019.xlsx]Sem "&INT((COLUMN()+3)/5)&"'!$N"&ROWS($1:6)) -> 0 | GD4: =INDIRECT("'I:\Ociane\Services aux Adhérents\Services aux Adhérents par Centre de Gestion\0 Tous centres\DEPARTEMENT GESTION PRESTATIONS\STOCKS 2019\[Stocks Prestations 2019.xlsx]Sem "&INT((COLUMN()+3)/5)&"'!$P"&ROWS($1:6)) -> 0 | GE4: =INDIRECT("'I:\Ociane\Services aux Adhérents\Services aux Adhérents par Centre de Gestion\0 Tous centres\DEPARTEMENT GESTION PRESTATIONS\STOCKS 2019\[Stocks Prestations 2019.xlsx]Sem "&INT((COLUMN()+3)/5)&"'!$H"&ROWS($1:6)) -> 0 | GF4: =INDIRECT("'I:\Ociane\Services aux Adhérents\Services aux Adhérents par Centre de Gestion\0 Tous centres\DEPARTEMENT GESTION PRESTATIONS\STOCKS 2019\[Stocks Prestations 2019.xlsx]Sem "&INT((COLUMN()+3)/5)&"'!$I"&ROWS($1:6)) -> 0 | GG4: =INDIRECT("'I:\Ociane\Services aux Adhérents\Services aux Adhérents par Centre de Gestion\0 Tous centres\DEPARTEMENT GESTION PRESTATIONS\STOCKS 2019\[Stocks Prestations 2019.xlsx]Sem "&INT((COLUMN()+3)/5)&"'!$J"&ROWS($1:6)) -> 0 | GH4: =INDIRECT("'I:\Ociane\Services aux Adhérents\Services aux Adhérents par Centre de Gestion\0 Tous centres\DEPARTEMENT GESTION PRESTATIONS\STOCKS 2019\[Stocks Prestations 2019.xlsx]Sem "&INT((COLUMN()+3)/5)&"'!$N"&ROWS($1:6)) -> 0 | GI4: =INDIRECT("'I:\Ociane\Services aux Adhérents\Services aux Adhérents par Centre de Gestion\0 Tous centres\DEPARTEMENT GESTION PRESTATIONS\STOCKS 2019\[Stocks Prestations 2019.xlsx]Sem "&INT((COLUMN()+3)/5)&"'!$P"&ROWS($1:6)) -> 0 | GJ4: =INDIRECT("'I:\Ociane\Services aux Adhérents\Services aux Adhérents par Centre de Gestion\0 Tous centres\DEPARTEMENT GESTION PRESTATIONS\STOCKS 2019\[Stocks Prestations 2019.xlsx]Sem "&INT((COLUMN()+3)/5)&"'!$H"&ROWS($1:6)) -> 0 | GK4: =INDIRECT("'I:\Ociane\Services aux Adhérents\Services aux Adhérents par Centre de Gestion\0 Tous centres\DEPARTEMENT GESTION PRESTATIONS\STOCKS 2019\[Stocks Prestations 2019.xlsx]Sem "&INT((COLUMN()+3)/5)&"'!$I"&ROWS($1:6)) -> 0 | GL4: =INDIRECT("'I:\Ociane\Services aux Adhérents\Services aux Adhérents par Centre de Gestion\0 Tous centres\DEPARTEMENT GESTION PRESTATIONS\STOCKS 2019\[Stocks Prestations 2019.xlsx]Sem "&INT((COLUMN()+3)/5)&"'!$J"&ROWS($1:6)) -> 0 | GM4: =INDIRECT("'I:\Ociane\Services aux Adhérents\Services aux Adhérents par Centre de Gestion\0 Tous centres\DEPARTEMENT GESTION PRESTATIONS\STOCKS 2019\[Stocks Prestations 2019.xlsx]Sem "&INT((COLUMN()+3)/5)&"'!$N"&ROWS($1:6)) -> 0 | GN4: =INDIRECT("'I:\Ociane\Services aux Adhérents\Services aux Adhérents par Centre de Gestion\0 Tous centres\DEPARTEMENT GESTION PRESTATIONS\STOCKS 2019\[Stocks Prestations 2019.xlsx]Sem "&INT((COLUMN()+3)/5)&"'!$P"&ROWS($1:6)) -> 0 | GO4: =INDIRECT("'I:\Ociane\Services aux Adhérents\Services aux Adhérents par Centre de Gestion\0 Tous centres\DEPARTEMENT GESTION PRESTATIONS\STOCKS 2019\[Stocks Prestations 2019.xlsx]Sem "&INT((COLUMN()+3)/5)&"'!$H"&ROWS($1:6)) -> 0 | GP4: =INDIRECT("'I:\Ociane\Services aux Adhérents\Services aux Adhérents par Centre de Gestion\0 Tous centres\DEPARTEMENT GESTION PRESTATIONS\STOCKS 2019\[Stocks Prestations 2019.xlsx]Sem "&INT((COLUMN()+3)/5)&"'!$I"&ROWS($1:6)) -> 0 | GQ4: =INDIRECT("'I:\Ociane\Services aux Adhérents\Services aux Adhérents par Centre de Gestion\0 Tous centres\DEPARTEMENT GESTION PRESTATIONS\STOCKS 2019\[Stocks Prestations 2019.xlsx]Sem "&INT((COLUMN()+3)/5)&"'!$J"&ROWS($1:6)) -> 0 | GR4: =INDIRECT("'I:\Ociane\Services aux Adhérents\Services aux Adhérents par Centre de Gestion\0 Tous centres\DEPARTEMENT GESTION PRESTATIONS\STOCKS 2019\[Stocks Prestations 2019.xlsx]Sem "&INT((COLUMN()+3)/5)&"'!$N"&ROWS($1:6)) -> 0 | GS4: =INDIRECT("'I:\Ociane\Services aux Adhérents\Services aux Adhérents par Centre de Gestion\0 Tous centres\DEPARTEMENT GESTION PRESTATIONS\STOCKS 2019\[Stocks Prestations 2019.xlsx]Sem "&INT((COLUMN()+3)/5)&"'!$P"&ROWS($1:6)) -> 0 | GT4: =INDIRECT("'I:\Ociane\Services aux Adhérents\Services aux Adhérents par Centre de Gestion\0 Tous centres\DEPARTEMENT GESTION PRESTATIONS\STOCKS 2019\[Stocks Prestations 2019.xlsx]Sem "&INT((COLUMN()+3)/5)&"'!$H"&ROWS($1:6)) -> 0 | GU4: =INDIRECT("'I:\Ociane\Services aux Adhérents\Services aux Adhérents par Centre de Gestion\0 Tous centres\DEPARTEMENT GESTION PRESTATIONS\STOCKS 2019\[Stocks Prestations 2019.xlsx]Sem "&INT((COLUMN()+3)/5)&"'!$I"&ROWS($1:6)) -> 0 | GV4: =INDIRECT("'I:\Ociane\Services aux Adhérents\Services aux Adhérents par Centre de Gestion\0 Tous centres\DEPARTEMENT GESTION PRESTATIONS\STOCKS 2019\[Stocks Prestations 2019.xlsx]Sem "&INT((COLUMN()+3)/5)&"'!$J"&ROWS($1:6)) -> 0 | GW4: =INDIRECT("'I:\Ociane\Services aux Adhérents\Services aux Adhérents par Centre de Gestion\0 Tous centres\DEPARTEMENT GESTION PRESTATIONS\STOCKS 2019\[Stocks Prestations 2019.xlsx]Sem "&INT((COLUMN()+3)/5)&"'!$N"&ROWS($1:6)) -> 0 | GX4: =INDIRECT("'I:\Ociane\Services aux Adhérents\Services aux Adhérents par Centre de Gestion\0 Tous centres\DEPARTEMENT GESTION PRESTATIONS\STOCKS 2019\[Stocks Prestations 2019.xlsx]Sem "&INT((COLUMN()+3)/5)&"'!$P"&ROWS($1:6)) -> 0 | GY4: =INDIRECT("'I:\Ociane\Services aux Adhérents\Services aux Adhérents par Centre de Gestion\0 Tous centres\DEPARTEMENT GESTION PRESTATIONS\STOCKS 2019\[Stocks Prestations 2019.xlsx]Sem "&INT((COLUMN()+3)/5)&"'!$H"&ROWS($1:6)) -> 0 | GZ4: =INDIRECT("'I:\Ociane\Services aux Adhérents\Services aux Adhérents par Centre de Gestion\0 Tous centres\DEPARTEMENT GESTION PRESTATIONS\STOCKS 2019\[Stocks Prestations 2019.xlsx]Sem "&INT((COLUMN()+3)/5)&"'!$I"&ROWS($1:6)) -> 0 | HA4: =INDIRECT("'I:\Ociane\Services aux Adhérents\Services aux Adhérents par Centre de Gestion\0 Tous centres\DEPARTEMENT GESTION PRESTATIONS\STOCKS 2019\[Stocks Prestations 2019.xlsx]Sem "&INT((COLUMN()+3)/5)&"'!$J"&ROWS($1:6)) -> 0 | HB4: =INDIRECT("'I:\Ociane\Services aux Adhérents\Services aux Adhérents par Centre de Gestion\0 Tous centres\DEPARTEMENT GESTION PRESTATIONS\STOCKS 2019\[Stocks Prestations 2019.xlsx]Sem "&INT((COLUMN()+3)/5)&"'!$N"&ROWS($1:6)) -> 0 | HC4: =INDIRECT("'I:\Ociane\Services aux Adhérents\Services aux Adhérents par Centre de Gestion\0 Tous centres\DEPARTEMENT GESTION PRESTATIONS\STOCKS 2019\[Stocks Prestations 2019.xlsx]Sem "&INT((COLUMN()+3)/5)&"'!$P"&ROWS($1:6)) -> 0 | HD4: =INDIRECT("'I:\Ociane\Services aux Adhérents\Services aux Adhérents par Centre de Gestion\0 Tous centres\DEPARTEMENT GESTION PRESTATIONS\STOCKS 2019\[Stocks Prestations 2019.xlsx]Sem "&INT((COLUMN()+3)/5)&"'!$H"&ROWS($1:6)) -> 0 | HE4: =INDIRECT("'I:\Ociane\Services aux Adhérents\Services aux Adhérents par Centre de Gestion\0 Tous centres\DEPARTEMENT GESTION PRESTATIONS\STOCKS 2019\[Stocks Prestations 2019.xlsx]Sem "&INT((COLUMN()+3)/5)&"'!$I"&ROWS($1:6)) -> 0 | HF4: =INDIRECT("'I:\Ociane\Services aux Adhérents\Services aux Adhérents par Centre de Gestion\0 Tous centres\DEPARTEMENT GESTION PRESTATIONS\STOCKS 2019\[Stocks Prestations 2019.xlsx]Sem "&INT((COLUMN()+3)/5)&"'!$J"&ROWS($1:6)) -> 0 | HG4: =INDIRECT("'I:\Ociane\Services aux Adhérents\Services aux Adhérents par Centre de Gestion\0 Tous centres\DEPARTEMENT GESTION PRESTATIONS\STOCKS 2019\[Stocks Prestations 2019.xlsx]Sem "&INT((COLUMN()+3)/5)&"'!$N"&ROWS($1:6)) -> 0 | HH4: =INDIRECT("'I:\Ociane\Services aux Adhérents\Services aux Adhérents par Centre de Gestion\0 Tous centres\DEPARTEMENT GESTION PRESTATIONS\STOCKS 2019\[Stocks Prestations 2019.xlsx]Sem "&INT((COLUMN()+3)/5)&"'!$P"&ROWS($1:6)) -> 0 | HI4: =INDIRECT("'I:\Ociane\Services aux Adhérents\Services aux Adhérents par Centre de Gestion\0 Tous centres\DEPARTEMENT GESTION PRESTATIONS\STOCKS 2019\[Stocks Prestations 2019.xlsx]Sem "&INT((COLUMN()+3)/5)&"'!$H"&ROWS($1:6)) -> 0 | HJ4: =INDIRECT("'I:\Ociane\Services aux Adhérents\Services aux Adhérents par Centre de Gestion\0 Tous centres\DEPARTEMENT GESTION PRESTATIONS\STOCKS 2019\[Stocks Prestations 2019.xlsx]Sem "&INT((COLUMN()+3)/5)&"'!$I"&ROWS($1:6)) -> 0 | HK4: =INDIRECT("'I:\Ociane\Services aux Adhérents\Services aux Adhérents par Centre de Gestion\0 Tous centres\DEPARTEMENT GESTION PRESTATIONS\STOCKS 2019\[Stocks Prestations 2019.xlsx]Sem "&INT((COLUMN()+3)/5)&"'!$J"&ROWS($1:6)) -> 0 | HL4: =INDIRECT("'I:\Ociane\Services aux Adhérents\Services aux Adhérents par Centre de Gestion\0 Tous centres\DEPARTEMENT GESTION PRESTATIONS\STOCKS 2019\[Stocks Prestations 2019.xlsx]Sem "&INT((COLUMN()+3)/5)&"'!$N"&ROWS($1:6)) -> 0 | HM4: =INDIRECT("'I:\Ociane\Services aux Adhérents\Services aux Adhérents par Centre de Gestion\0 Tous centres\DEPARTEMENT GESTION PRESTATIONS\STOCKS 2019\[Stocks Prestations 2019.xlsx]Sem "&INT((COLUMN()+3)/5)&"'!$P"&ROWS($1:6)) -> 0 | HN4: =INDIRECT("'I:\Ociane\Services aux Adhérents\Services aux Adhérents par Centre de Gestion\0 Tous centres\DEPARTEMENT GESTION PRESTATIONS\STOCKS 2019\[Stocks Prestations 2019.xlsx]Sem "&INT((COLUMN()+3)/5)&"'!$H"&ROWS($1:6)) -> 0 | HO4: =INDIRECT("'I:\Ociane\Services aux Adhérents\Services aux Adhérents par Centre de Gestion\0 Tous centres\DEPARTEMENT GESTION PRESTATIONS\STOCKS 2019\[Stocks Prestations 2019.xlsx]Sem "&INT((COLUMN()+3)/5)&"'!$I"&ROWS($1:6)) -> 0 | HP4: =INDIRECT("'I:\Ociane\Services aux Adhérents\Services aux Adhérents par Centre de Gestion\0 Tous centres\DEPARTEMENT GESTION PRESTATIONS\STOCKS 2019\[Stocks Prestations 2019.xlsx]Sem "&INT((COLUMN()+3)/5)&"'!$J"&ROWS($1:6)) -> 0 | HQ4: =INDIRECT("'I:\Ociane\Services aux Adhérents\Services aux Adhérents par Centre de Gestion\0 Tous centres\DEPARTEMENT GESTION PRESTATIONS\STOCKS 2019\[Stocks Prestations 2019.xlsx]Sem "&INT((COLUMN()+3)/5)&"'!$N"&ROWS($1:6)) -> 0 | HR4: =INDIRECT("'I:\Ociane\Services aux Adhérents\Services aux Adhérents par Centre de Gestion\0 Tous centres\DEPARTEMENT GESTION PRESTATIONS\STOCKS 2019\[Stocks Prestations 2019.xlsx]Sem "&INT((COLUMN()+3)/5)&"'!$P"&ROWS($1:6)) -> 0 | HS4: =INDIRECT("'I:\Ociane\Services aux Adhérents\Services aux Adhérents par Centre de Gestion\0 Tous centres\DEPARTEMENT GESTION PRESTATIONS\STOCKS 2019\[Stocks Prestations 2019.xlsx]Sem "&INT((COLUMN()+3)/5)&"'!$H"&ROWS($1:6)) -> 0 | HT4: =INDIRECT("'I:\Ociane\Services aux Adhérents\Services aux Adhérents par Centre de Gestion\0 Tous centres\DEPARTEMENT GESTION PRESTATIONS\STOCKS 2019\[Stocks Prestations 2019.xlsx]Sem "&INT((COLUMN()+3)/5)&"'!$I"&ROWS($1:6)) -> 0 | HU4: =INDIRECT("'I:\Ociane\Services aux Adhérents\Services aux Adhérents par Centre de Gestion\0 Tous centres\DEPARTEMENT GESTION PRESTATIONS\STOCKS 2019\[Stocks Prestations 2019.xlsx]Sem "&INT((COLUMN()+3)/5)&"'!$J"&ROWS($1:6)) -> 0 | HV4: =INDIRECT("'I:\Ociane\Services aux Adhérents\Services aux Adhérents par Centre de Gestion\0 Tous centres\DEPARTEMENT GESTION PRESTATIONS\STOCKS 2019\[Stocks Prestations 2019.xlsx]Sem "&INT((COLUMN()+3)/5)&"'!$N"&ROWS($1:6)) -> 0 | HW4: =INDIRECT("'I:\Ociane\Services aux Adhérents\Services aux Adhérents par Centre de Gestion\0 Tous centres\DEPARTEMENT GESTION PRESTATIONS\STOCKS 2019\[Stocks Prestations 2019.xlsx]Sem "&INT((COLUMN()+3)/5)&"'!$P"&ROWS($1:6)) -> 0 | HX4: =INDIRECT("'I:\Ociane\Services aux Adhérents\Services aux Adhérents par Centre de Gestion\0 Tous centres\DEPARTEMENT GESTION PRESTATIONS\STOCKS 2019\[Stocks Prestations 2019.xlsx]Sem "&INT((COLUMN()+3)/5)&"'!$H"&ROWS($1:6)) -> 0 | HY4: =INDIRECT("'I:\Ociane\Services aux Adhérents\Services aux Adhérents par Centre de Gestion\0 Tous centres\DEPARTEMENT GESTION PRESTATIONS\STOCKS 2019\[Stocks Prestations 2019.xlsx]Sem "&INT((COLUMN()+3)/5)&"'!$I"&ROWS($1:6)) -> 0 | HZ4: =INDIRECT("'I:\Ociane\Services aux Adhérents\Services aux Adhérents par Centre de Gestion\0 Tous centres\DEPARTEMENT GESTION PRESTATIONS\STOCKS 2019\[Stocks Prestations 2019.xlsx]Sem "&INT((COLUMN()+3)/5)&"'!$J"&ROWS($1:6)) -> 0 | IA4: =INDIRECT("'I:\Ociane\Services aux Adhérents\Services aux Adhérents par Centre de Gestion\0 Tous centres\DEPARTEMENT GESTION PRESTATIONS\STOCKS 2019\[Stocks Prestations 2019.xlsx]Sem "&INT((COLUMN()+3)/5)&"'!$N"&ROWS($1:6)) -> 0 | IB4: =INDIRECT("'I:\Ociane\Services aux Adhérents\Services aux Adhérents par Centre de Gestion\0 Tous centres\DEPARTEMENT GESTION PRESTATIONS\STOCKS 2019\[Stocks Prestations 2019.xlsx]Sem "&INT((COLUMN()+3)/5)&"'!$P"&ROWS($1:6)) -> 0 | IC4: =INDIRECT("'I:\Ociane\Services aux Adhérents\Services aux Adhérents par Centre de Gestion\0 Tous centres\DEPARTEMENT GESTION PRESTATIONS\STOCKS 2019\[Stocks Prestations 2019.xlsx]Sem "&INT((COLUMN()+3)/5)&"'!$H"&ROWS($1:6)) -> 0 | ID4: =INDIRECT("'I:\Ociane\Services aux Adhérents\Services aux Adhérents par Centre de Gestion\0 Tous centres\DEPARTEMENT GESTION PRESTATIONS\STOCKS 2019\[Stocks Prestations 2019.xlsx]Sem "&INT((COLUMN()+3)/5)&"'!$I"&ROWS($1:6)) -> 0 | IE4: =INDIRECT("'I:\Ociane\Services aux Adhérents\Services aux Adhérents par Centre de Gestion\0 Tous centres\DEPARTEMENT GESTION PRESTATIONS\STOCKS 2019\[Stocks Prestations 2019.xlsx]Sem "&INT((COLUMN()+3)/5)&"'!$J"&ROWS($1:6)) -> 0 | IF4: =INDIRECT("'I:\Ociane\Services aux Adhérents\Services aux Adhérents par Centre de Gestion\0 Tous centres\DEPARTEMENT GESTION PRESTATIONS\STOCKS 2019\[Stocks Prestations 2019.xlsx]Sem "&INT((COLUMN()+3)/5)&"'!$N"&ROWS($1:6)) -> 0 | IG4: =INDIRECT("'I:\Ociane\Services aux Adhérents\Services aux Adhérents par Centre de Gestion\0 Tous centres\DEPARTEMENT GESTION PRESTATIONS\STOCKS 2019\[Stocks Prestations 2019.xlsx]Sem "&INT((COLUMN()+3)/5)&"'!$P"&ROWS($1:6)) -> 0 | IH4: =INDIRECT("'I:\Ociane\Services aux Adhérents\Services aux Adhérents par Centre de Gestion\0 Tous centres\DEPARTEMENT GESTION PRESTATIONS\STOCKS 2019\[Stocks Prestations 2019.xlsx]Sem "&INT((COLUMN()+3)/5)&"'!$H"&ROWS($1:6)) -> 0 | II4: =INDIRECT("'I:\Ociane\Services aux Adhérents\Services aux Adhérents par Centre de Gestion\0 Tous centres\DEPARTEMENT GESTION PRESTATIONS\STOCKS 2019\[Stocks Prestations 2019.xlsx]Sem "&INT((COLUMN()+3)/5)&"'!$I"&ROWS($1:6)) -> 0 | IJ4: =INDIRECT("'I:\Ociane\Services aux Adhérents\Services aux Adhérents par Centre de Gestion\0 Tous centres\DEPARTEMENT GESTION PRESTATIONS\STOCKS 2019\[Stocks Prestations 2019.xlsx]Sem "&INT((COLUMN()+3)/5)&"'!$J"&ROWS($1:6)) -> 0 | IK4: =INDIRECT("'I:\Ociane\Services aux Adhérents\Services aux Adhérents par Centre de Gestion\0 Tous centres\DEPARTEMENT GESTION PRESTATIONS\STOCKS 2019\[Stocks Prestations 2019.xlsx]Sem "&INT((COLUMN()+3)/5)&"'!$N"&ROWS($1:6)) -> 0 | IL4: =INDIRECT("'I:\Ociane\Services aux Adhérents\Services aux Adhérents par Centre de Gestion\0 Tous centres\DEPARTEMENT GESTION PRESTATIONS\STOCKS 2019\[Stocks Prestations 2019.xlsx]Sem "&INT((COLUMN()+3)/5)&"'!$P"&ROWS($1:6)) -> 0 | IM4: =INDIRECT("'I:\Ociane\Services aux Adhérents\Services aux Adhérents par Centre de Gestion\0 Tous centres\DEPARTEMENT GESTION PRESTATIONS\STOCKS 2019\[Stocks Prestations 2019.xlsx]Sem "&INT((COLUMN()+3)/5)&"'!$H"&ROWS($1:6)) -> 0 | IN4: =INDIRECT("'I:\Ociane\Services aux Adhérents\Services aux Adhérents par Centre de Gestion\0 Tous centres\DEPARTEMENT GESTION PRESTATIONS\STOCKS 2019\[Stocks Prestations 2019.xlsx]Sem "&INT((COLUMN()+3)/5)&"'!$I"&ROWS($1:6)) -> 0 | IO4: =INDIRECT("'I:\Ociane\Services aux Adhérents\Services aux Adhérents par Centre de Gestion\0 Tous centres\DEPARTEMENT GESTION PRESTATIONS\STOCKS 2019\[Stocks Prestations 2019.xlsx]Sem "&INT((COLUMN()+3)/5)&"'!$J"&ROWS($1:6)) -> 0 | IP4: =INDIRECT("'I:\Ociane\Services aux Adhérents\Services aux Adhérents par Centre de Gestion\0 Tous centres\DEPARTEMENT GESTION PRESTATIONS\STOCKS 2019\[Stocks Prestations 2019.xlsx]Sem "&INT((COLUMN()+3)/5)&"'!$N"&ROWS($1:6)) -> 0 | IQ4: =INDIRECT("'I:\Ociane\Services aux Adhérents\Services aux Adhérents par Centre de Gestion\0 Tous centres\DEPARTEMENT GESTION PRESTATIONS\STOCKS 2019\[Stocks Prestations 2019.xlsx]Sem "&INT((COLUMN()+3)/5)&"'!$P"&ROWS($1:6)) -> 0 | IR4: =INDIRECT("'I:\Ociane\Services aux Adhérents\Services aux Adhérents par Centre de Gestion\0 Tous centres\DEPARTEMENT GESTION PRESTATIONS\STOCKS 2019\[Stocks Prestations 2019.xlsx]Sem "&INT((COLUMN()+3)/5)&"'!$H"&ROWS($1:6)) -> 0 | IS4: =INDIRECT("'I:\Ociane\Services aux Adhérents\Services aux Adhérents par Centre de Gestion\0 Tous centres\DEPARTEMENT GESTION PRESTATIONS\STOCKS 2019\[Stocks Prestations 2019.xlsx]Sem "&INT((COLUMN()+3)/5)&"'!$I"&ROWS($1:6)) -> 0 | IT4: =INDIRECT("'I:\Ociane\Services aux Adhérents\Services aux Adhérents par Centre de Gestion\0 Tous centres\DEPARTEMENT GESTION PRESTATIONS\STOCKS 2019\[Stocks Prestations 2019.xlsx]Sem "&INT((COLUMN()+3)/5)&"'!$J"&ROWS($1:6)) -> 0 | IU4: =INDIRECT("'I:\Ociane\Services aux Adhérents\Services aux Adhérents par Centre de Gestion\0 Tous centres\DEPARTEMENT GESTION PRESTATIONS\STOCKS 2019\[Stocks Prestations 2019.xlsx]Sem "&INT((COLUMN()+3)/5)&"'!$N"&ROWS($1:6)) -> 0 | IV4: =INDIRECT("'I:\Ociane\Services aux Adhérents\Services aux Adhérents par Centre de Gestion\0 Tous centres\DEPARTEMENT GESTION PRESTATIONS\STOCKS 2019\[Stocks Prestations 2019.xlsx]Sem "&INT((COLUMN()+3)/5)&"'!$P"&ROWS($1:6)) -> 0 | IW4: =INDIRECT("'I:\Ociane\Services aux Adhérents\Services aux Adhérents par Centre de Gestion\0 Tous centres\DEPARTEMENT GESTION PRESTATIONS\STOCKS 2019\[Stocks Prestations 2019.xlsx]Sem "&INT((COLUMN()+3)/5)&"'!$H"&ROWS($1:6)) -> 0 | IX4: =INDIRECT("'I:\Ociane\Services aux Adhérents\Services aux Adhérents par Centre de Gestion\0 Tous centres\DEPARTEMENT GESTION PRESTATIONS\STOCKS 2019\[Stocks Prestations 2019.xlsx]Sem "&INT((COLUMN()+3)/5)&"'!$I"&ROWS($1:6)) -> 0 | IY4: =INDIRECT("'I:\Ociane\Services aux Adhérents\Services aux Adhérents par Centre de Gestion\0 Tous centres\DEPARTEMENT GESTION PRESTATIONS\STOCKS 2019\[Stocks Prestations 2019.xlsx]Sem "&INT((COLUMN()+3)/5)&"'!$J"&ROWS($1:6)) -> 0 | IZ4: =INDIRECT("'I:\Ociane\Services aux Adhérents\Services aux Adhérents par Centre de Gestion\0 Tous centres\DEPARTEMENT GESTION PRESTATIONS\STOCKS 2019\[Stocks Prestations 2019.xlsx]Sem "&INT((COLUMN()+3)/5)&"'!$N"&ROWS($1:6)) -> 0 | JA4: =INDIRECT("'I:\Ociane\Services aux Adhérents\Services aux Adhérents par Centre de Gestion\0 Tous centres\DEPARTEMENT GESTION PRESTATIONS\STOCKS 2019\[Stocks Prestations 2019.xlsx]Sem "&INT((COLUMN()+3)/5)&"'!$P"&ROWS($1:6)) -> 0 | JB4: =INDIRECT("'I:\Ociane\Services aux Adhérents\Services aux Adhérents par Centre de Gestion\0 Tous centres\DEPARTEMENT GESTION PRESTATIONS\STOCKS 2019\[Stocks Prestations 2019.xlsx]Sem "&INT((COLUMN()+3)/5)&"'!$H"&ROWS($1:6)) -> 0 | JC4: =INDIRECT("'I:\Ociane\Services aux Adhérents\Services aux Adhérents par Centre de Gestion\0 Tous centres\DEPARTEMENT GESTION PRESTATIONS\STOCKS 2019\[Stocks Prestations 2019.xlsx]Sem "&INT((COLUMN()+3)/5)&"'!$I"&ROWS($1:6)) -> 0 | JD4: =INDIRECT("'I:\Ociane\Services aux Adhérents\Services aux Adhérents par Centre de Gestion\0 Tous centres\DEPARTEMENT GESTION PRESTATIONS\STOCKS 2019\[Stocks Prestations 2019.xlsx]Sem "&INT((COLUMN()+3)/5)&"'!$J"&ROWS($1:6)) -> 0 | JE4: =INDIRECT("'I:\Ociane\Services aux Adhérents\Services aux Adhérents par Centre de Gestion\0 Tous centres\DEPARTEMENT GESTION PRESTATIONS\STOCKS 2019\[Stocks Prestations 2019.xlsx]Sem "&INT((COLUMN()+3)/5)&"'!$N"&ROWS($1:6)) -> 0 | JF4: =INDIRECT("'I:\Ociane\Services aux Adhérents\Services aux Adhérents par Centre de Gestion\0 Tous centres\DEPARTEMENT GESTION PRESTATIONS\STOCKS 2019\[Stocks Prestations 2019.xlsx]Sem "&INT((COLUMN()+3)/5)&"'!$P"&ROWS($1:6)) -> 0
