Workbook

Sheet Stocks presta
A1: Semaines | B1: Semaine 1 | G1: Semaine 2 | L1: Semaine 3 | Q1: Semaine 4 | V1: Semaine 5 | AA1: Semaine 6 | AF1: Semaine 7 | AK1: Semaine 8 | AP1: Semaine 9 | AU1: Semaine 10 | AZ1: Semaine 11 | BE1: Semaine 12 | BJ1: Semaine 13 | BO1: Semaine 14 | BT1: Semaine 15 | BY1: Semaine 16 | CD1: Semaine 17 | CI1: Semaine 18 | CN1: Semaine 19 | CS1: Semaine 20 | CX1: Semaine 21 | DC1: Semaine 22 | DH1: Semaine 23 | DM1: Semaine 24 | DR1: Semaine 25 | DW1: Semaine 26 | EB1: Semaine 27 | EG1: Semaine 28 | EL1: Semaine 29 | EQ1: Semaine 30 | EV1: Semaine 31 | FA1: Semaine 32 | FF1: Semaine 33 | FK1: Semaine 34 | FP1: Semaine 35 | FU1: Semaine 36 | FZ1: Semaine 37 | GE1: Semaine 38 | GJ1: Semaine 39 | GO1: Semaine 40 | GT1: Semaine 41 | GY1: Semaine 42 | HD1: Semaine 43 | HI1: Semaine 44 | HN1: Semaine 45 | HS1: Semaine 46 | HX1: Semaine 47 | IC1: Semaine 48 | IH1: Semaine 49 | IM1: Semaine 50 | IR1: Semaine 51 | IW1: Semaine 52 | JB1: Semaine 53
A2: Activités | B2: Entrant | C2: Sortant | D2: Stock | E2: Délai | F2: Date la plus ancienne | G2: Entrant | H2: Sortant | I2: Stock | J2: Délai | K2: Date la plus ancienne | L2: Entrant | M2: Sortant | N2: Stock | O2: Délai | P2: Date la plus ancienne | Q2: Entrant | R2: Sortant | S2: Stock | T2: Délai | U2: Date la plus ancienne | V2: Entrant | W2: Sortant | X2: Stock | Y2: Délai | Z2: Date la plus ancienne | AA2: Entrant | AB2: Sortant | AC2: Stock | AD2: Délai | AE2: Date la plus ancienne | AF2: Entrant | AG2: Sortant | AH2: Stock | AI2: Délai | AJ2: Date la plus ancienne | AK2: Entrant | AL2: Sortant | AM2: Stock | AN2: Délai | AO2: Date la plus ancienne | AP2: Entrant | AQ2: Sortant | AR2: Stock | AS2: Délai | AT2: Date la plus ancienne | AU2: Entrant | AV2: Sortant | AW2: Stock | AX2: Délai | AY2: Date la plus ancienne | AZ2: Entrant | BA2: Sortant | BB2: Stock | BC2: Délai | BD2: Date la plus ancienne | BE2: Entrant | BF2: Sortant | BG2: Stock | BH2: Délai | BI2: Date la plus ancienne | BJ2: Entrant | BK2: Sortant | BL2: Stock | BM2: Délai | BN2: Date la plus ancienne | BO2: Entrant | BP2: Sortant | BQ2: Stock | BR2: Délai | BS2: Date la plus ancienne | BT2: Entrant | BU2: Sortant | BV2: Stock | BW2: Délai | BX2: Date la plus ancienne | BY2: Entrant | BZ2: Sortant | CA2: Stock | CB2: Délai | CC2: Date la plus ancienne | CD2: Entrant | CE2: Sortant | CF2: Stock | CG2: Délai | CH2: Date la plus ancienne | CI2: Entrant | CJ2: Sortant | CK2: Stock | CL2: Délai | CM2: Date la plus ancienne | CN2: Entrant | CO2: Sortant | CP2: Stock | CQ2: Délai | CR2: Date la plus ancienne | CS2: Entrant | CT2: Sortant | CU2: Stock | CV2: Délai | CW2: Date la plus ancienne | CX2: Entrant | CY2: Sortant | CZ2: Stock | DA2: Délai | DB2: Date la plus ancienne | DC2: Entrant | DD2: Sortant | DE2: Stock | DF2: Délai | DG2: Date la plus ancienne | DH2: Entrant | DI2: Sortant | DJ2: Stock | DK2: Délai | DL2: Date la plus ancienne | DM2: Entrant | DN2: Sortant | DO2: Stock | DP2: Délai | DQ2: Date la plus ancienne | DR2: Entrant | DS2: Sortant | DT2: Stock | DU2: Délai | DV2: Date la plus ancienne | DW2: Entrant | DX2: Sortant | DY2: Stock | DZ2: Délai | EA2: Date la plus ancienne | EB2: Entrant | EC2: Sortant | ED2: Stock | EE2: Délai | EF2: Date la plus ancienne | EG2: Entrant | EH2: Sortant | EI2: Stock | EJ2: Délai | EK2: Date la plus ancienne | EL2: Entrant | EM2: Sortant | EN2: Stock | EO2: Délai | EP2: Date la plus ancienne | EQ2: Entrant | ER2: Sortant | ES2: Stock | ET2: Délai | EU2: Date la plus ancienne | EV2: Entrant | EW2: Sortant | EX2: Stock | EY2: Délai | EZ2: Date la plus ancienne | FA2: Entrant | FB2: Sortant | FC2: Stock | FD2: Délai | FE2: Date la plus ancienne | FF2: Entrant | FG2: Sortant | FH2: Stock | FI2: Délai | FJ2: Date la plus ancienne | FK2: Entrant | FL2: Sortant | FM2: Stock | FN2: Délai | FO2: Date la plus ancienne | FP2: Entrant | FQ2: Sortant | FR2: Stock | FS2: Délai | FT2: Date la plus ancienne | FU2: Entrant | FV2: Sortant | FW2: Stock | FX2: Délai | FY2: Date la plus ancienne | FZ2: Entrant | GA2: Sortant | GB2: Stock | GC2: Délai | GD2: Date la plus ancienne | GE2: Entrant | GF2: Sortant | GG2: Stock | GH2: Délai | GI2: Date la plus ancienne | GJ2: Entrant | GK2: Sortant | GL2: Stock | GM2: Délai | GN2: Date la plus ancienne | GO2: Entrant | GP2: Sortant | GQ2: Stock | GR2: Délai | GS2: Date la plus ancienne | GT2: Entrant | GU2: Sortant | GV2: Stock | GW2: Délai | GX2: Date la plus ancienne | GY2: Entrant | GZ2: Sortant | HA2: Stock | HB2: Délai | HC2: Date la plus ancienne | HD2: Entrant | HE2: Sortant | HF2: Stock | HG2: Délai | HH2: Date la plus ancienne | HI2: Entrant | HJ2: Sortant | HK2: Stock | HL2: Délai | HM2: Date la plus ancienne | HN2: Entrant | HO2: Sortant | HP2: Stock | HQ2: Délai | HR2: Date la plus ancienne | HS2: Entrant | HT2: Sortant | HU2: Stock | HV2: Délai | HW2: Date la plus ancienne | HX2: Entrant | HY2: Sortant | HZ2: Stock | IA2: Délai | IB2: Date la plus ancienne | IC2: Entrant | ID2: Sortant | IE2: Stock | IF2: Délai | IG2: Date la plus ancienne | IH2: Entrant | II2: Sortant | IJ2: Stock | IK2: Délai | IL2: Date la plus ancienne | IM2: Entrant | IN2: Sortant | IO2: Stock | IP2: Délai | IQ2: Date la plus ancienne | IR2: Entrant | IS2: Sortant | IT2: Stock | IU2: Délai | IV2: Date la plus ancienne | IW2: Entrant | IX2: Sortant | IY2: Stock | IZ2: Délai | JA2: Date la plus ancienne | JB2: Entrant | JC2: Sortant | JD2: Stock | JE2: Délai | JF2: Date la plus ancienne
A3: GPS
A4: Factures adhérents SV | B4: ='[1]Sem 1'!H7 -> 0 | C4: ='[1]Sem 1'!I7 -> 0 | D4: ='[1]Sem 1'!J7 -> 0 | E4: ='[1]Sem 1'!N7 -> 0 | F4: ='[1]Sem 1'!P7 -> 0 | G4: ='[1]Sem 2'!H7 -> 0 | H4: ='[1]Sem 2'!I7 -> 0 | I4: ='[1]Sem 2'!J7 -> 0 | J4: ='[1]Sem 2'!N7 -> #DIV/0! | K4: ='[1]Sem 2'!P7 -> 0 | L4: ='[1]Sem 3'!H7 -> 0 | M4: ='[1]Sem 3'!I7 -> 0 | N4: ='[1]Sem 3'!J7 -> 0 | O4: ='[1]Sem 3'!N7 -> #DIV/0! | P4: ='[1]Sem 1'!AI7 -> 0 | Q4: ='[1]Sem 4'!H7 -> 0 | R4: ='[1]Sem 4'!I7 -> 0 | S4: ='[1]Sem 4'!J7 -> 0 | T4: ='[1]Sem 4'!N7 -> #DIV/0! | U4: ='[1]Sem 4'!P7 -> 0 | V4: ='[1]Sem 5'!H7 -> 0 | W4: ='[1]Sem 5'!I7 -> 0 | X4: ='[1]Sem 5'!J7 -> 0 | Y4: ='[1]Sem 5'!N7 -> #DIV/0! | Z4: ='[1]Sem 5'!P7 -> 0 | AA4: ='[1]Sem 6'!H7 -> 0 | AB4: ='[1]Sem 6'!I7 -> 0 | AC4: ='[1]Sem 6'!J7 -> 0 | AD4: ='[1]Sem 6'!N7 -> #DIV/0! | AE4: ='[1]Sem 6'!P7 -> 0 | AF4: ='[1]Sem 7'!H7 -> 0 | AG4: ='[1]Sem 7'!I7 -> 0 | AH4: ='[1]Sem 7'!J7 -> 0 | AI4: ='[1]Sem 7'!N7 -> #DIV/0! | AJ4: ='[1]Sem 7'!P7 -> 0 | AK4: ='[1]Sem 8'!H7 -> 0 | AL4: ='[1]Sem 8'!I7 -> 0 | AM4: ='[1]Sem 8'!J7 -> 0 | AN4: ='[1]Sem 8'!N7 -> #DIV/0! | AO4: ='[1]Sem 8'!P7 -> 0 | AP4: ='[1]Sem 9'!H7 -> 0 | AQ4: ='[1]Sem 9'!I7 -> 0 | AR4: ='[1]Sem 9'!J7 -> 0 | AS4: ='[1]Sem 9'!N7 -> #DIV/0! | AT4: ='[1]Sem 9'!P7 -> 0 | AU4: ='[1]Sem 10'!H7 -> 0 | AV4: ='[1]Sem 10'!I7 -> 0 | AW4: ='[1]Sem 10'!J7 -> 0 | AX4: ='[1]Sem 10'!N7 -> #DIV/0! | AY4: ='[1]Sem 10'!P7 -> 0 | AZ4: ='[1]Sem 11'!H7 -> 0 | BA4: ='[1]Sem 11'!I7 -> 0 | BB4: ='[1]Sem 11'!J7 -> 0 | BC4: ='[1]Sem 11'!N7 -> #DIV/0! | BD4: ='[1]Sem 11'!P7 -> 0 | BE4: ='[1]Sem 12'!H7 -> 0 | BF4: ='[1]Sem 12'!I7 -> 0 | BG4: ='[1]Sem 12'!J7 -> 0 | BH4: ='[1]Sem 12'!N7 -> #DIV/0! | BI4: ='[1]Sem 12'!P7 -> 0 | BJ4: ='[1]Sem 13'!H7 -> 0 | BK4: ='[1]Sem 13'!I7 -> 0 | BL4: ='[1]Sem 13'!J7 -> 0 | BM4: ='[1]Sem 13'!N7 -> #DIV/0! | BN4: ='[1]Sem 13'!P7 -> 0 | BO4: ='[1]Sem 14'!H7 -> 0 | BP4: ='[1]Sem 14'!I7 -> 0 | BQ4: ='[1]Sem 14'!J7 -> 0 | BR4: ='[1]Sem 14'!N7 -> #DIV/0! | BS4: ='[1]Sem 14'!P7 -> 0 | BT4: ='[1]Sem 15'!H7 -> 0 | BU4: ='[1]Sem 15'!I7 -> 0 | BV4: ='[1]Sem 15'!J7 -> 0 | BW4: ='[1]Sem 15'!N7 -> #DIV/0! | BX4: ='[1]Sem 15'!P7 -> 0 | BY4: ='[1]Sem 16'!H7 -> 0 | BZ4: ='[1]Sem 16'!I7 -> 0 | CA4: ='[1]Sem 16'!J7 -> 0 | CB4: ='[1]Sem 16'!N7 -> #DIV/0! | CC4: ='[1]Sem 16'!P7 -> 0 | CD4: =INDIRECT("'I:\Ociane\Services aux Adhérents\Services aux Adhérents par Centre de Gestion\0 Tous centres\DEPARTEMENT GESTION PRESTATIONS\STOCKS 2019\[Stocks Prestations 2019.xlsx]Sem "&INT((COLUMN()+3)/5)&"'!$H"&ROWS($1:6)) -> 0 | CE4: =INDIRECT("'I:\Ociane\Services aux Adhérents\Services aux Adhérents par Centre de Gestion\0 Tous centres\DEPARTEMENT GESTION PRESTATIONS\STOCKS 2019\[Stocks Prestations 2019.xlsx]Sem "&INT((COLUMN()+3)/5)&"'!$I"&ROWS($1:6)) -> 0 | CF4: =INDIRECT("'I:\Ociane\Services aux Adhérents\Services aux Adhérents par Centre de Gestion\0 Tous centres\DEPARTEMENT GESTION PRESTATIONS\STOCKS 2019\[Stocks Prestations 2019.xlsx]Sem "&INT((COLUMN()+3)/5)&"'!$J"&ROWS($1:6)) -> 0 | CG4: =INDIRECT("'I:\Ociane\Services aux Adhérents\Services aux Adhérents par Centre de Gestion\0 Tous centres\DEPARTEMENT GESTION PRESTATIONS\STOCKS 2019\[Stocks Prestations 2019.xlsx]Sem "&INT((COLUMN()+3)/5)&"'!$N"&ROWS($1:6)) -> 0 | CH4: =INDIRECT("'I:\Ociane\Services aux Adhérents\Services aux Adhérents par Centre de Gestion\0 Tous centres\DEPARTEMENT GESTION PRESTATIONS\STOCKS 2019\[Stocks Prestations 2019.xlsx]Sem "&INT((COLUMN()+3)/5)&"'!$P"&ROWS($1:6)) -> 0 | CI4: =INDIRECT("'I:\Ociane\Services aux Adhérents\Services aux Adhérents par Centre de Gestion\0 Tous centres\DEPARTEMENT GESTION PRESTATIONS\STOCKS 2019\[Stocks Prestations 2019.xlsx]Sem "&INT((COLUMN()+3)/5)&"'!$H"&ROWS($1:6)) -> 0 | CJ4: =INDIRECT("'I:\Ociane\Services aux Adhérents\Services aux Adhérents par Centre de Gestion\0 Tous centres\DEPARTEMENT GESTION PRESTATIONS\STOCKS 2019\[Stocks Prestations 2019.xlsx]Sem "&INT((COLUMN()+3)/5)&"'!$I"&ROWS($1:6)) -> 0 | CK4: =INDIRECT("'I:\Ociane\Services aux Adhérents\Services aux Adhérents par Centre de Gestion\0 Tous centres\DEPARTEMENT GESTION PRESTATIONS\STOCKS 2019\[Stocks Prestations 2019.xlsx]Sem "&INT((COLUMN()+3)/5)&"'!$J"&ROWS($1:6)) -> 0 | CL4: =INDIRECT("'I:\Ociane\Services aux Adhérents\Services aux Adhérents par Centre de Gestion\0 Tous centres\DEPARTEMENT GESTION PRESTATIONS\STOCKS 2019\[Stocks Prestations 2019.xlsx]Sem "&INT((COLUMN()+3)/5)&"'!$N"&ROWS($1:6)) -> 0 | CM4: =INDIRECT("'I:\Ociane\Services aux Adhérents\Services aux Adhérents par Centre de Gestion\0 Tous centres\DEPARTEMENT GESTION PRESTATIONS\STOCKS 2019\[Stocks Prestations 2019.xlsx]Sem "&INT((COLUMN()+3)/5)&"'!$P"&ROWS($1:6)) -> 0 | CN4: =INDIRECT("'I:\Ociane\Services aux Adhérents\Services aux Adhérents par Centre de Gestion\0 Tous centres\DEPARTEMENT GESTION PRESTATIONS\STOCKS 2019\[Stocks Prestations 2019.xlsx]Sem "&INT((COLUMN()+3)/5)&"'!$H"&ROWS($1:6)) -> 0 | CO4: =INDIRECT("'I:\Ociane\Services aux Adhérents\Services aux Adhérents par Centre de Gestion\0 Tous centres\DEPARTEMENT GESTION PRESTATIONS\STOCKS 2019\[Stocks Prestations 2019.xlsx]Sem "&INT((COLUMN()+3)/5)&"'!$I"&ROWS($1:6)) -> 0 | CP4: =INDIRECT("'I:\Ociane\Services aux Adhérents\Services aux Adhérents par Centre de Gestion\0 Tous centres\DEPARTEMENT GESTION PRESTATIONS\STOCKS 2019\[Stocks Prestations 2019.xlsx]Sem "&INT((COLUMN()+3)/5)&"'!$J"&ROWS($1:6)) -> 0 | CQ4: =INDIRECT("'I:\Ociane\Services aux Adhérents\Services aux Adhérents par Centre de Gestion\0 Tous centres\DEPARTEMENT GESTION PRESTATIONS\STOCKS 2019\[Stocks Prestations 2019.xlsx]Sem "&INT((COLUMN()+3)/5)&"'!$N"&ROWS($1:6)) -> 0 | CR4: =INDIRECT("'I:\Ociane\Services aux Adhérents\Services aux Adhérents par Centre de Gestion\0 Tous centres\DEPARTEMENT GESTION PRESTATIONS\STOCKS 2019\[Stocks Prestations 2019.xlsx]Sem "&INT((COLUMN()+3)/5)&"'!$P"&ROWS($1:6)) -> 0 | CS4: =INDIRECT("'I:\Ociane\Services aux Adhérents\Services aux Adhérents par Centre de Gestion\0 Tous centres\DEPARTEMENT GESTION PRESTATIONS\STOCKS 2019\[Stocks Prestations 2019.xlsx]Sem "&INT((COLUMN()+3)/5)&"'!$H"&ROWS($1:6)) -> 0 | CT4: =INDIRECT("'I:\Ociane\Services aux Adhérents\Services aux Adhérents par Centre de Gestion\0 Tous centres\DEPARTEMENT GESTION PRESTATIONS\STOCKS 2019\[Stocks Prestations 2019.xlsx]Sem "&INT((COLUMN()+3)/5)&"'!$I"&ROWS($1:6)) -> 0 | CU4: =INDIRECT("'I:\Ociane\Services aux Adhérents\Services aux Adhérents par Centre de Gestion\0 Tous centres\DEPARTEMENT GESTION PRESTATIONS\STOCKS 2019\[Stocks Prestations 2019.xlsx]Sem "&INT((COLUMN()+3)/5)&"'!$J"&ROWS($1:6)) -> 0 | CV4: =INDIRECT("'I:\Ociane\Services aux Adhérents\Services aux Adhérents par Centre de Gestion\0 Tous centres\DEPARTEMENT GESTION PRESTATIONS\STOCKS 2019\[Stocks Prestations 2019.xlsx]Sem "&INT((COLUMN()+3)/5)&"'!$N"&ROWS($1:6)) -> 0 | CW4: =INDIRECT("'I:\Ociane\Services aux Adhérents\Services aux Adhérents par Centre de Gestion\0 Tous centres\DEPARTEMENT GESTION PRESTATIONS\STOCKS 2019\[Stocks Prestations 2019.xlsx]Sem "&INT((COLUMN()+3)/5)&"'!$P"&ROWS($1:6)) -> 0 | CX4: =INDIRECT("'I:\Ociane\Services aux Adhérents\Services aux Adhérents par Centre de Gestion\0 Tous centres\DEPARTEMENT GESTION PRESTATIONS\STOCKS 2019\[Stocks Prestations 2019.xlsx]Sem "&INT((COLUMN()+3)/5)&"'!$H"&ROWS($1:6)) -> 0 | CY4: =INDIRECT("'I:\Ociane\Services aux Adhérents\Services aux Adhérents par Centre de Gestion\0 Tous centres\DEPARTEMENT GESTION PRESTATIONS\STOCKS 2019\[Stocks Prestations 2019.xlsx]Sem "&INT((COLUMN()+3)/5)&"'!$I"&ROWS($1:6)) -> 0 | CZ4: =INDIRECT("'I:\Ociane\Services aux Adhérents\Services aux Adhérents par Centre de Gestion\0 Tous centres\DEPARTEMENT GESTION PRESTATIONS\STOCKS 2019\[Stocks Prestations 2019.xlsx]Sem "&INT((COLUMN()+3)/5)&"'!$J"&ROWS($1:6)) -> 0 | DA4: =INDIRECT("'I:\Ociane\Services aux Adhérents\Services aux Adhérents par Centre de Gestion\0 Tous centres\DEPARTEMENT GESTION PRESTATIONS\STOCKS 2019\[Stocks Prestations 2019.xlsx]Sem "&INT((COLUMN()+3)/5)&"'!$N"&ROWS($1:6)) -> 0 | DB4: =INDIRECT("'I:\Ociane\Services aux Adhérents\Services aux Adhérents par Centre de Gestion\0 Tous centres\DEPARTEMENT GESTION PRESTATIONS\STOCKS 2019\[Stocks Prestations 2019.xlsx]Sem "&INT((COLUMN()+3)/5)&"'!$P"&ROWS($1:6)) -> 0 | DC4: =INDIRECT("'I:\Ociane\Services aux Adhérents\Services aux Adhérents par Centre de Gestion\0 Tous centres\DEPARTEMENT GESTION PRESTATIONS\STOCKS 2019\[Stocks Prestations 2019.xlsx]Sem "&INT((COLUMN()+3)/5)&"'!$H"&ROWS($1:6)) -> 0 | DD4: =INDIRECT("'I:\Ociane\Services aux Adhérents\Services aux Adhérents par Centre de Gestion\0 Tous centres\DEPARTEMENT GESTION PRESTATIONS\STOCKS 2019\[Stocks Prestations 2019.xlsx]Sem "&INT((COLUMN()+3)/5)&"'!$I"&ROWS($1:6)) -> 0 | DE4: =INDIRECT("'I:\Ociane\Services aux Adhérents\Services aux Adhérents par Centre de Gestion\0 Tous centres\DEPARTEMENT GESTION PRESTATIONS\STOCKS 2019\[Stocks Prestations 2019.xlsx]Sem "&INT((COLUMN()+3)/5)&"'!$J"&ROWS($1:6)) -> 0 | DF4: =INDIRECT("'I:\Ociane\Services aux Adhérents\Services aux Adhérents par Centre de Gestion\0 Tous centres\DEPARTEMENT GESTION PRESTATIONS\STOCKS 2019\[Stocks Prestations 2019.xlsx]Sem "&INT((COLUMN()+3)/5)&"'!$N"&ROWS($1:6)) -> 0 | DG4: =INDIRECT("'I:\Ociane\Services aux Adhérents\Services aux Adhérents par Centre de Gestion\0 Tous centres\DEPARTEMENT GESTION PRESTATIONS\STOCKS 2019\[Stocks Prestations 2019.xlsx]Sem "&INT((COLUMN()+3)/5)&"'!$P"&ROWS($1:6)) -> 0 | DH4: =INDIRECT("'I:\Ociane\Services aux Adhérents\Services aux Adhérents par Centre de Gestion\0 Tous centres\DEPARTEMENT GESTION PRESTATIONS\STOCKS 2019\[Stocks Prestations 2019.xlsx]Sem "&INT((COLUMN()+3)/5)&"'!$H"&ROWS($1:6)) -> 0 | DI4: =INDIRECT("'I:\Ociane\Services aux Adhérents\Services aux Adhérents par Centre de Gestion\0 Tous centres\DEPARTEMENT GESTION PRESTATIONS\STOCKS 2019\[Stocks Prestations 2019.xlsx]Sem "&INT((COLUMN()+3)/5)&"'!$I"&ROWS($1:6)) -> 0 | DJ4: =INDIRECT("'I:\Ociane\Services aux Adhérents\Services aux Adhérents par Centre de Gestion\0 Tous centres\DEPARTEMENT GESTION PRESTATIONS\STOCKS 2019\[Stocks Prestations 2019.xlsx]Sem "&INT((COLUMN()+3)/5)&"'!$J"&ROWS($1:6)) -> 0 | DK4: =INDIRECT("'I:\Ociane\Services aux Adhérents\Services aux Adhérents par Centre de Gestion\0 Tous centres\DEPARTEMENT GESTION PRESTATIONS\STOCKS 2019\[Stocks Prestations 2019.xlsx]Sem "&INT((COLUMN()+3)/5)&"'!$N"&ROWS($1:6)) -> 0 | DL4: =INDIRECT("'I:\Ociane\Services aux Adhérents\Services aux Adhérents par Centre de Gestion\0 Tous centres\DEPARTEMENT GESTION PRESTATIONS\STOCKS 2019\[Stocks Prestations 2019.xlsx]Sem "&INT((COLUMN()+3)/5)&"'!$P"&ROWS($1:6)) -> 0 | DM4: =INDIRECT("'I:\Ociane\Services aux Adhérents\Services aux Adhérents par Centre de Gestion\0 Tous centres\DEPARTEMENT GESTION PRESTATIONS\STOCKS 2019\[Stocks Prestations 2019.xlsx]Sem "&INT((COLUMN()+3)/5)&"'!$H"&ROWS($1:6)) -> 0 | DN4: =INDIRECT("'I:\Ociane\Services aux Adhérents\Services aux Adhérents par Centre de Gestion\0 Tous centres\DEPARTEMENT GESTION PRESTATIONS\STOCKS 2019\[Stocks Prestations 2019.xlsx]Sem "&INT((COLUMN()+3)/5)&"'!$I"&ROWS($1:6)) -> 0 | DO4: =INDIRECT("'I:\Ociane\Services aux Adhérents\Services aux Adhérents par Centre de Gestion\0 Tous centres\DEPARTEMENT GESTION PRESTATIONS\STOCKS 2019\[Stocks Prestations 2019.xlsx]Sem "&INT((COLUMN()+3)/5)&"'!$J"&ROWS($1:6)) -> 0 | DP4: =INDIRECT("'I:\Ociane\Services aux Adhérents\Services aux Adhérents par Centre de Gestion\0 Tous centres\DEPARTEMENT GESTION PRESTATIONS\STOCKS 2019\[Stocks Prestations 2019.xlsx]Sem "&INT((COLUMN()+3)/5)&"'!$N"&ROWS($1:6)) -> 0 | DQ4: =INDIRECT("'I:\Ociane\Services aux Adhérents\Services aux Adhérents par Centre de Gestion\0 Tous centres\DEPARTEMENT GESTION PRESTATIONS\STOCKS 2019\[Stocks Prestations 2019.xlsx]Sem "&INT((COLUMN()+3)/5)&"'!$P"&ROWS($1:6)) -> 0 | DR4: =INDIRECT("'I:\Ociane\Services aux Adhérents\Services aux Adhérents par Centre de Gestion\0 Tous centres\DEPARTEMENT GESTION PRESTATIONS\STOCKS 2019\[Stocks Prestations 2019.xlsx]Sem "&INT((COLUMN()+3)/5)&"'!$H"&ROWS($1:6)) -> 0 | DS4: =INDIRECT("'I:\Ociane\Services aux Adhérents\Services aux Adhérents par Centre de Gestion\0 Tous centres\DEPARTEMENT GESTION PRESTATIONS\STOCKS 2019\[Stocks Prestations 2019.xlsx]Sem "&INT((COLUMN()+3)/5)&"'!$I"&ROWS($1:6)) -> 0 | DT4: =INDIRECT("'I:\Ociane\Services aux Adhérents\Services aux Adhérents par Centre de Gestion\0 Tous centres\DEPARTEMENT GESTION PRESTATIONS\STOCKS 2019\[Stocks Prestations 2019.xlsx]Sem "&INT((COLUMN()+3)/5)&"'!$J"&ROWS($1:6)) -> 0 | DU4: =INDIRECT("'I:\Ociane\Services aux Adhérents\Services aux Adhérents par Centre de Gestion\0 Tous centres\DEPARTEMENT GESTION PRESTATIONS\STOCKS 2019\[Stocks Prestations 2019.xlsx]Sem "&INT((COLUMN()+3)/5)&"'!$N"&ROWS($1:6)) -> 0 | DV4: =INDIRECT("'I:\Ociane\Services aux Adhérents\Services aux Adhérents par Centre de Gestion\0 Tous centres\DEPARTEMENT GESTION PRESTATIONS\STOCKS 2019\[Stocks Prestations 2019.xlsx]Sem "&INT((COLUMN()+3)/5)&"'!$P"&ROWS($1:6)) -> 0 | DW4: =INDIRECT("'I:\Ociane\Services aux Adhérents\Services aux Adhérents par Centre de Gestion\0 Tous centres\DEPARTEMENT GESTION PRESTATIONS\STOCKS 2019\[Stocks Prestations 2019.xlsx]Sem "&INT((COLUMN()+3)/5)&"'!$H"&ROWS($1:6)) -> 0 | DX4: =INDIRECT("'I:\Ociane\Services aux Adhérents\Services aux Adhérents par Centre de Gestion\0 Tous centres\DEPARTEMENT GESTION PRESTATIONS\STOCKS 2019\[Stocks Prestations 2019.xlsx]Sem "&INT((COLUMN()+3)/5)&"'!$I"&ROWS($1:6)) -> 0 | DY4: =INDIRECT("'I:\Ociane\Services aux Adhérents\Services aux Adhérents par Centre de Gestion\0 Tous centres\DEPARTEMENT GESTION PRESTATIONS\STOCKS 2019\[Stocks Prestations 2019.xlsx]Sem "&INT((COLUMN()+3)/5)&"'!$J"&ROWS($1:6)) -> 0 | DZ4: =INDIRECT("'I:\Ociane\Services aux Adhérents\Services aux Adhérents par Centre de Gestion\0 Tous centres\DEPARTEMENT GESTION PRESTATIONS\STOCKS 2019\[Stocks Prestations 2019.xlsx]Sem "&INT((COLUMN()+3)/5)&"'!$N"&ROWS($1:6)) -> 0 | EA4: =INDIRECT("'I:\Ociane\Services aux Adhérents\Services aux Adhérents par Centre de Gestion\0 Tous centres\DEPARTEMENT GESTION PRESTATIONS\STOCKS 2019\[Stocks Prestations 2019.xlsx]Sem "&INT((COLUMN()+3)/5)&"'!$P"&ROWS($1:6)) -> 0 | EB4: =INDIRECT("'I:\Ociane\Services aux Adhérents\Services aux Adhérents par Centre de Gestion\0 Tous centres\DEPARTEMENT GESTION PRESTATIONS\STOCKS 2019\[Stocks Prestations 2019.xlsx]Sem "&INT((COLUMN()+3)/5)&"'!$H"&ROWS($1:6)) -> 0 | EC4: =INDIRECT("'I:\Ociane\Services aux Adhérents\Services aux Adhérents par Centre de Gestion\0 Tous centres\DEPARTEMENT GESTION PRESTATIONS\STOCKS 2019\[Stocks Prestations 2019.xlsx]Sem "&INT((COLUMN()+3)/5)&"'!$I"&ROWS($1:6)) -> 0 | ED4: =INDIRECT("'I:\Ociane\Services aux Adhérents\Services aux Adhérents par Centre de Gestion\0 Tous centres\DEPARTEMENT GESTION PRESTATIONS\STOCKS 2019\[Stocks Prestations 2019.xlsx]Sem "&INT((COLUMN()+3)/5)&"'!$J"&ROWS($1:6)) -> 0 | EE4: =INDIRECT("'I:\Ociane\Services aux Adhérents\Services aux Adhérents par Centre de Gestion\0 Tous centres\DEPARTEMENT GESTION PRESTATIONS\STOCKS 2019\[Stocks Prestations 2019.xlsx]Sem "&INT((COLUMN()+3)/5)&"'!$N"&ROWS($1:6)) -> 0 | EF4: =INDIRECT("'I:\Ociane\Services aux Adhérents\Services aux Adhérents par Centre de Gestion\0 Tous centres\DEPARTEMENT GESTION PRESTATIONS\STOCKS 2019\[Stocks Prestations 2019.xlsx]Sem "&INT((COLUMN()+3)/5)&"'!$P"&ROWS($1:6)) -> 0 | EG4: =INDIRECT("'I:\Ociane\Services aux Adhérents\Services aux Adhérents par Centre de Gestion\0 Tous centres\DEPARTEMENT GESTION PRESTATIONS\STOCKS 2019\[Stocks Prestations 2019.xlsx]Sem "&INT((COLUMN()+3)/5)&"'!$H"&ROWS($1:6)) -> 0 | EH4: =INDIRECT("'I:\Ociane\Services aux Adhérents\Services aux Adhérents par Centre de Gestion\0 Tous centres\DEPARTEMENT GESTION PRESTATIONS\STOCKS 2019\[Stocks Prestations 2019.xlsx]Sem "&INT((COLUMN()+3)/5)&"'!$I"&ROWS($1:6)) -> 0 | EI4: =INDIRECT("'I:\Ociane\Services aux Adhérents\Services aux Adhérents par Centre de Gestion\0 Tous centres\DEPARTEMENT GESTION PRESTATIONS\STOCKS 2019\[Stocks Prestations 2019.xlsx]Sem "&INT((COLUMN()+3)/5)&"'!$J"&ROWS($1:6)) -> 0 | EJ4: =INDIRECT("'I:\Ociane\Services aux Adhérents\Services aux Adhérents par Centre de Gestion\0 Tous centres\DEPARTEMENT GESTION PRESTATIONS\STOCKS 2019\[Stocks Prestations 2019.xlsx]Sem "&INT((COLUMN()+3)/5)&"'!$N"&ROWS($1:6)) -> 0 | EK4: =INDIRECT("'I:\Ociane\Services aux Adhérents\Services aux Adhérents par Centre de Gestion\0 Tous centres\DEPARTEMENT GESTION PRESTATIONS\STOCKS 2019\[Stocks Prestations 2019.xlsx]Sem "&INT((COLUMN()+3)/5)&"'!$P"&ROWS($1:6)) -> 0 | EL4: =INDIRECT("'I:\Ociane\Services aux Adhérents\Services aux Adhérents par Centre de Gestion\0 Tous centres\DEPARTEMENT GESTION PRESTATIONS\STOCKS 2019\[Stocks Prestations 2019.xlsx]Sem "&INT((COLUMN()+3)/5)&"'!$H"&ROWS($1:6)) -> 0 | EM4: =INDIRECT("'I:\Ociane\Services aux Adhérents\Services aux Adhérents par Centre de Gestion\0 Tous centres\DEPARTEMENT GESTION PRESTATIONS\STOCKS 2019\[Stocks Prestations 2019.xlsx]Sem "&INT((COLUMN()+3)/5)&"'!$I"&ROWS($1:6)) -> 0 | EN4: =INDIRECT("'I:\Ociane\Services aux Adhérents\Services aux Adhérents par Centre de Gestion\0 Tous centres\DEPARTEMENT GESTION PRESTATIONS\STOCKS 2019\[Stocks Prestations 2019.xlsx]Sem "&INT((COLUMN()+3)/5)&"'!$J"&ROWS($1:6)) -> 0 | EO4: =INDIRECT("'I:\Ociane\Services aux Adhérents\Services aux Adhérents par Centre de Gestion\0 Tous centres\DEPARTEMENT GESTION PRESTATIONS\STOCKS 2019\[Stocks Prestations 2019.xlsx]Sem "&INT((COLUMN()+3)/5)&"'!$N"&ROWS($1:6)) -> 0 | EP4: =INDIRECT("'I:\Ociane\Services aux Adhérents\Services aux Adhérents par Centre de Gestion\0 Tous centres\DEPARTEMENT GESTION PRESTATIONS\STOCKS 2019\[Stocks Prestations 2019.xlsx]Sem "&INT((COLUMN()+3)/5)&"'!$P"&ROWS($1:6)) -> 0 | EQ4: =INDIRECT("'I:\Ociane\Services aux Adhérents\Services aux Adhérents par Centre de Gestion\0 Tous centres\DEPARTEMENT GESTION PRESTATIONS\STOCKS 2019\[Stocks Prestations 2019.xlsx]Sem "&INT((COLUMN()+3)/5)&"'!$H"&ROWS($1:6)) -> 0 | ER4: =INDIRECT("'I:\Ociane\Services aux Adhérents\Services aux Adhérents par Centre de Gestion\0 Tous centres\DEPARTEMENT GESTION PRESTATIONS\STOCKS 2019\[Stocks Prestations 2019.xlsx]Sem "&INT((COLUMN()+3)/5)&"'!$I"&ROWS($1:6)) -> 0 | ES4: =INDIRECT("'I:\Ociane\Services aux Adhérents\Services aux Adhérents par Centre de Gestion\0 Tous centres\DEPARTEMENT GESTION PRESTATIONS\STOCKS 2019\[Stocks Prestations 2019.xlsx]Sem "&INT((COLUMN()+3)/5)&"'!$J"&ROWS($1:6)) -> 0 | ET4: =INDIRECT("'I:\Ociane\Services aux Adhérents\Services aux Adhérents par Centre de Gestion\0 Tous centres\DEPARTEMENT GESTION PRESTATIONS\STOCKS 2019\[Stocks Prestations 2019.xlsx]Sem "&INT((COLUMN()+3)/5)&"'!$N"&ROWS($1:6)) -> 0 | EU4: =INDIRECT("'I:\Ociane\Services aux Adhérents\Services aux Adhérents par Centre de Gestion\0 Tous centres\DEPARTEMENT GESTION PRESTATIONS\STOCKS 2019\[Stocks Prestations 2019.xlsx]Sem "&INT((COLUMN()+3)/5)&"'!$P"&ROWS($1:6)) -> 0 | EV4: =INDIRECT("'I:\Ociane\Services aux Adhérents\Services aux Adhérents par Centre de Gestion\0 Tous centres\DEPARTEMENT GESTION PRESTATIONS\STOCKS 2019\[Stocks Prestations 2019.xlsx]Sem "&INT((COLUMN()+3)/5)&"'!$H"&ROWS($1:6)) -> 0 | EW4: =INDIRECT("'I:\Ociane\Services aux Adhérents\Services aux Adhérents par Centre de Gestion\0 Tous centres\DEPARTEMENT GESTION PRESTATIONS\STOCKS 2019\[Stocks Prestations 2019.xlsx]Sem "&INT((COLUMN()+3)/5)&"'!$I"&ROWS($1:6)) -> 0 | EX4: =INDIRECT("'I:\Ociane\Services aux Adhérents\Services aux Adhérents par Centre de Gestion\0 Tous centres\DEPARTEMENT GESTION PRESTATIONS\STOCKS 2019\[Stocks Prestations 2019.xlsx]Sem "&INT((COLUMN()+3)/5)&"'!$J"&ROWS($1:6)) -> 0 | EY4: =INDIRECT("'I:\Ociane\Services aux Adhérents\Services aux Adhérents par Centre de Gestion\0 Tous centres\DEPARTEMENT GESTION PRESTATIONS\STOCKS 2019\[Stocks Prestations 2019.xlsx]Sem "&INT((COLUMN()+3)/5)&"'!$N"&ROWS($1:6)) -> 0 | EZ4: =INDIRECT("'I:\Ociane\Services aux Adhérents\Services aux Adhérents par Centre de Gestion\0 Tous centres\DEPARTEMENT GESTION PRESTATIONS\STOCKS 2019\[Stocks Prestations 2019.xlsx]Sem "&INT((COLUMN()+3)/5)&"'!$P"&ROWS($1:6)) -> 0 | FA4: =INDIRECT("'I:\Ociane\Services aux Adhérents\Services aux Adhérents par Centre de Gestion\0 Tous centres\DEPARTEMENT GESTION PRESTATIONS\STOCKS 2019\[Stocks Prestations 2019.xlsx]Sem "&INT((COLUMN()+3)/5)&"'!$H"&ROWS($1:6)) -> 0 | FB4: =INDIRECT("'I:\Ociane\Services aux Adhérents\Services aux Adhérents par Centre de Gestion\0 Tous centres\DEPARTEMENT GESTION PRESTATIONS\STOCKS 2019\[Stocks Prestations 2019.xlsx]Sem "&INT((COLUMN()+3)/5)&"'!$I"&ROWS($1:6)) -> 0 | FC4: =INDIRECT("'I:\Ociane\Services aux Adhérents\Services aux Adhérents par Centre de Gestion\0 Tous centres\DEPARTEMENT GESTION PRESTATIONS\STOCKS 2019\[Stocks Prestations 2019.xlsx]Sem "&INT((COLUMN()+3)/5)&"'!$J"&ROWS($1:6)) -> 0 | FD4: =INDIRECT("'I:\Ociane\Services aux Adhérents\Services aux Adhérents par Centre de Gestion\0 Tous centres\DEPARTEMENT GESTION PRESTATIONS\STOCKS 2019\[Stocks Prestations 2019.xlsx]Sem "&INT((COLUMN()+3)/5)&"'!$N"&ROWS($1:6)) -> 0 | FE4: =INDIRECT("'I:\Ociane\Services aux Adhérents\Services aux Adhérents par Centre de Gestion\0 Tous centres\DEPARTEMENT GESTION PRESTATIONS\STOCKS 2019\[Stocks Prestations 2019.xlsx]Sem "&INT((COLUMN()+3)/5)&"'!$P"&ROWS($1:6)) -> 0 | FF4: =INDIRECT("'I:\Ociane\Services aux Adhérents\Services aux Adhérents par Centre de Gestion\0 Tous centres\DEPARTEMENT GESTION PRESTATIONS\STOCKS 2019\[Stocks Prestations 2019.xlsx]Sem "&INT((COLUMN()+3)/5)&"'!$H"&ROWS($1:6)) -> 0 | FG4: =INDIRECT("'I:\Ociane\Services aux Adhérents\Services aux Adhérents par Centre de Gestion\0 Tous centres\DEPARTEMENT GESTION PRESTATIONS\STOCKS 2019\[Stocks Prestations 2019.xlsx]Sem "&INT((COLUMN()+3)/5)&"'!$I"&ROWS($1:6)) -> 0 | FH4: =INDIRECT("'I:\Ociane\Services aux Adhérents\Services aux Adhérents par Centre de Gestion\0 Tous centres\DEPARTEMENT GESTION PRESTATIONS\STOCKS 2019\[Stocks Prestations 2019.xlsx]Sem "&INT((COLUMN()+3)/5)&"'!$J"&ROWS($1:6)) -> 0 | FI4: =INDIRECT("'I:\Ociane\Services aux Adhérents\Services aux Adhérents par Centre de Gestion\0 Tous centres\DEPARTEMENT GESTION PRESTATIONS\STOCKS 2019\[Stocks Prestations 2019.xlsx]Sem "&INT((COLUMN()+3)/5)&"'!$N"&ROWS($1:6)) -> 0 | FJ4: =INDIRECT("'I:\Ociane\Services aux Adhérents\Services aux Adhérents par Centre de Gestion\0 Tous centres\DEPARTEMENT GESTION PRESTATIONS\STOCKS 2019\[Stocks Prestations 2019.xlsx]Sem "&INT((COLUMN()+3)/5)&"'!$P"&ROWS($1:6)) -> 0 | FK4: =INDIRECT("'I:\Ociane\Services aux Adhérents\Services aux Adhérents par Centre de Gestion\0 Tous centres\DEPARTEMENT GESTION PRESTATIONS\STOCKS 2019\[Stocks Prestations 2019.xlsx]Sem "&INT((COLUMN()+3)/5)&"'!$H"&ROWS($1:6)) -> 0 | FL4: =INDIRECT("'I:\Ociane\Services aux Adhérents\Services aux Adhérents par Centre de Gestion\0 Tous centres\DEPARTEMENT GESTION PRESTATIONS\STOCKS 2019\[Stocks Prestations 2019.xlsx]Sem "&INT((COLUMN()+3)/5)&"'!$I"&ROWS($1:6)) -> 0 | FM4: =INDIRECT("'I:\Ociane\Services aux Adhérents\Services aux Adhérents par Centre de Gestion\0 Tous centres\DEPARTEMENT GESTION PRESTATIONS\STOCKS 2019\[Stocks Prestations 2019.xlsx]Sem "&INT((COLUMN()+3)/5)&"'!$J"&ROWS($1:6)) -> 0 | FN4: =INDIRECT("'I:\Ociane\Services aux Adhérents\Services aux Adhérents par Centre de Gestion\0 Tous centres\DEPARTEMENT GESTION PRESTATIONS\STOCKS 2019\[Stocks Prestations 2019.xlsx]Sem "&INT((COLUMN()+3)/5)&"'!$N"&ROWS($1:6)) -> 0 | FO4: =INDIRECT("'I:\Ociane\Services aux Adhérents\Services aux Adhérents par Centre de Gestion\0 Tous centres\DEPARTEMENT GESTION PRESTATIONS\STOCKS 2019\[Stocks Prestations 2019.xlsx]Sem "&INT((COLUMN()+3)/5)&"'!$P"&ROWS($1:6)) -> 0 | FP4: =INDIRECT("'I:\Ociane\Services aux Adhérents\Services aux Adhérents par Centre de Gestion\0 Tous centres\DEPARTEMENT GESTION PRESTATIONS\STOCKS 2019\[Stocks Prestations 2019.xlsx]Sem "&INT((COLUMN()+3)/5)&"'!$H"&ROWS($1:6)) -> 0 | FQ4: =INDIRECT("'I:\Ociane\Services aux Adhérents\Services aux Adhérents par Centre de Gestion\0 Tous centres\DEPARTEMENT GESTION PRESTATIONS\STOCKS 2019\[Stocks Prestations 2019.xlsx]Sem "&INT((COLUMN()+3)/5)&"'!$I"&ROWS($1:6)) -> 0 | FR4: =INDIRECT("'I:\Ociane\Services aux Adhérents\Services aux Adhérents par Centre de Gestion\0 Tous centres\DEPARTEMENT GESTION PRESTATIONS\STOCKS 2019\[Stocks Prestations 2019.xlsx]Sem "&INT((COLUMN()+3)/5)&"'!$J"&ROWS($1:6)) -> 0 | FS4: =INDIRECT("'I:\Ociane\Services aux Adhérents\Services aux Adhérents par Centre de Gestion\0 Tous centres\DEPARTEMENT GESTION PRESTATIONS\STOCKS 2019\[Stocks Prestations 2019.xlsx]Sem "&INT((COLUMN()+3)/5)&"'!$N"&ROWS($1:6)) -> 0 | FT4: =INDIRECT("'I:\Ociane\Services aux Adhérents\Services aux Adhérents par Centre de Gestion\0 Tous centres\DEPARTEMENT GESTION PRESTATIONS\STOCKS 2019\[Stocks Prestations 2019.xlsx]Sem "&INT((COLUMN()+3)/5)&"'!$P"&ROWS($1:6)) -> 0 | FU4: =INDIRECT("'I:\Ociane\Services aux Adhérents\Services aux Adhérents par Centre de Gestion\0 Tous centres\DEPARTEMENT GESTION PRESTATIONS\STOCKS 2019\[Stocks Prestations 2019.xlsx]Sem "&INT((COLUMN()+3)/5)&"'!$H"&ROWS($1:6)) -> 0 | FV4: =INDIRECT("'I:\Ociane\Services aux Adhérents\Services aux Adhérents par Centre de Gestion\0 Tous centres\DEPARTEMENT GESTION PRESTATIONS\STOCKS 2019\[Stocks Prestations 2019.xlsx]Sem "&INT((COLUMN()+3)/5)&"'!$I"&ROWS($1:6)) -> 0 | FW4: =INDIRECT("'I:\Ociane\Services aux Adhérents\Services aux Adhérents par Centre de Gestion\0 Tous centres\DEPARTEMENT GESTION PRESTATIONS\STOCKS 2019\[Stocks Prestations 2019.xlsx]Sem "&INT((COLUMN()+3)/5)&"'!$J"&ROWS($1:6)) -> 0 | FX4: =INDIRECT("'I:\Ociane\Services aux Adhérents\Services aux Adhérents par Centre de Gestion\0 Tous centres\DEPARTEMENT GESTION PRESTATIONS\STOCKS 2019\[Stocks Prestations 2019.xlsx]Sem "&INT((COLUMN()+3)/5)&"'!$N"&ROWS($1:6)) -> 0 | FY4: =INDIRECT("'I:\Ociane\Services aux Adhérents\Services aux Adhérents par Centre de Gestion\0 Tous centres\DEPARTEMENT GESTION PRESTATIONS\STOCKS 2019\[Stocks Prestations 2019.xlsx]Sem "&INT((COLUMN()+3)/5)&"'!$P"&ROWS($1:6)) -> 0 | FZ4: =INDIRECT("'I:\Ociane\Services aux Adhérents\Services aux Adhérents par Centre de Gestion\0 Tous centres\DEPARTEMENT GESTION PRESTATIONS\STOCKS 2019\[Stocks Prestations 2019.xlsx]Sem "&INT((COLUMN()+3)/5)&"'!$H"&ROWS($1:6)) -> 0 | GA4: =INDIRECT("'I:\Ociane\Services aux Adhérents\Services aux Adhérents par Centre de Gestion\0 Tous centres\DEPARTEMENT GESTION PRESTATIONS\STOCKS 2019\[Stocks Prestations 2019.xlsx]Sem "&INT((COLUMN()+3)/5)&"'!$I"&ROWS($1:6)) -> 0 | GB4: =INDIRECT("'I:\Ociane\Services aux Adhérents\Services aux Adhérents par Centre de Gestion\0 Tous centres\DEPARTEMENT GESTION PRESTATIONS\STOCKS 2019\[Stocks Prestations 2019.xlsx]Sem "&INT((COLUMN()+3)/5)&"'!$J"&ROWS($1:6)) -> 0 | GC4: =INDIRECT("'I:\Ociane\Services aux Adhérents\Services aux Adhérents par Centre de Gestion\0 Tous centres\DEPARTEMENT GESTION PRESTATIONS\STOCKS 2019\[Stocks Prestations 2019.xlsx]Sem "&INT((COLUMN()+3)/5)&"'!$N"&ROWS($1:6)) -> 0 | GD4: =INDIRECT("'I:\Ociane\Services aux Adhérents\Services aux Adhérents par Centre de Gestion\0 Tous centres\DEPARTEMENT GESTION PRESTATIONS\STOCKS 2019\[Stocks Prestations 2019.xlsx]Sem "&INT((COLUMN()+3)/5)&"'!$P"&ROWS($1:6)) -> 0 | GE4: =INDIRECT("'I:\Ociane\Services aux Adhérents\Services aux Adhérents par Centre de Gestion\0 Tous centres\DEPARTEMENT GESTION PRESTATIONS\STOCKS 2019\[Stocks Prestations 2019.xlsx]Sem "&INT((COLUMN()+3)/5)&"'!$H"&ROWS($1:6)) -> 0 | GF4: =INDIRECT("'I:\Ociane\Services aux Adhérents\Services aux Adhérents par Centre de Gestion\0 Tous centres\DEPARTEMENT GESTION PRESTATIONS\STOCKS 2019\[Stocks Prestations 2019.xlsx]Sem "&INT((COLUMN()+3)/5)&"'!$I"&ROWS($1:6)) -> 0 | GG4: =INDIRECT("'I:\Ociane\Services aux Adhérents\Services aux Adhérents par Centre de Gestion\0 Tous centres\DEPARTEMENT GESTION PRESTATIONS\STOCKS 2019\[Stocks Prestations 2019.xlsx]Sem "&INT((COLUMN()+3)/5)&"'!$J"&ROWS($1:6)) -> 0 | GH4: =INDIRECT("'I:\Ociane\Services aux Adhérents\Services aux Adhérents par Centre de Gestion\0 Tous centres\DEPARTEMENT GESTION PRESTATIONS\STOCKS 2019\[Stocks Prestations 2019.xlsx]Sem "&INT((COLUMN()+3)/5)&"'!$N"&ROWS($1:6)) -> 0 | GI4: =INDIRECT("'I:\Ociane\Services aux Adhérents\Services aux Adhérents par Centre de Gestion\0 Tous centres\DEPARTEMENT GESTION PRESTATIONS\STOCKS 2019\[Stocks Prestations 2019.xlsx]Sem "&INT((COLUMN()+3)/5)&"'!$P"&ROWS($1:6)) -> 0 | GJ4: =INDIRECT("'I:\Ociane\Services aux Adhérents\Services aux Adhérents par Centre de Gestion\0 Tous centres\DEPARTEMENT GESTION PRESTATIONS\STOCKS 2019\[Stocks Prestations 2019.xlsx]Sem "&INT((COLUMN()+3)/5)&"'!$H"&ROWS($1:6)) -> 0 | GK4: =INDIRECT("'I:\Ociane\Services aux Adhérents\Services aux Adhérents par Centre de Gestion\0 Tous centres\DEPARTEMENT GESTION PRESTATIONS\STOCKS 2019\[Stocks Prestations 2019.xlsx]Sem "&INT((COLUMN()+3)/5)&"'!$I"&ROWS($1:6)) -> 0 | GL4: =INDIRECT("'I:\Ociane\Services aux Adhérents\Services aux Adhérents par Centre de Gestion\0 Tous centres\DEPARTEMENT GESTION PRESTATIONS\STOCKS 2019\[Stocks Prestations 2019.xlsx]Sem "&INT((COLUMN()+3)/5)&"'!$J"&ROWS($1:6)) -> 0 | GM4: =INDIRECT("'I:\Ociane\Services aux Adhérents\Services aux Adhérents par Centre de Gestion\0 Tous centres\DEPARTEMENT GESTION PRESTATIONS\STOCKS 2019\[Stocks Prestations 2019.xlsx]Sem "&INT((COLUMN()+3)/5)&"'!$N"&ROWS($1:6)) -> 0 | GN4: =INDIRECT("'I:\Ociane\Services aux Adhérents\Services aux Adhérents par Centre de Gestion\0 Tous centres\DEPARTEMENT GESTION PRESTATIONS\STOCKS 2019\[Stocks Prestations 2019.xlsx]Sem "&INT((COLUMN()+3)/5)&"'!$P"&ROWS($1:6)) -> 0 | GO4: =INDIRECT("'I:\Ociane\Services aux Adhérents\Services aux Adhérents par Centre de Gestion\0 Tous centres\DEPARTEMENT GESTION PRESTATIONS\STOCKS 2019\[Stocks Prestations 2019.xlsx]Sem "&INT((COLUMN()+3)/5)&"'!$H"&ROWS($1:6)) -> 0 | GP4: =INDIRECT("'I:\Ociane\Services aux Adhérents\Services aux Adhérents par Centre de Gestion\0 Tous centres\DEPARTEMENT GESTION PRESTATIONS\STOCKS 2019\[Stocks Prestations 2019.xlsx]Sem "&INT((COLUMN()+3)/5)&"'!$I"&ROWS($1:6)) -> 0 | GQ4: =INDIRECT("'I:\Ociane\Services aux Adhérents\Services aux Adhérents par Centre de Gestion\0 Tous centres\DEPARTEMENT GESTION PRESTATIONS\STOCKS 2019\[Stocks Prestations 2019.xlsx]Sem "&INT((COLUMN()+3)/5)&"'!$J"&ROWS($1:6)) -> 0 | GR4: =INDIRECT("'I:\Ociane\Services aux Adhérents\Services aux Adhérents par Centre de Gestion\0 Tous centres\DEPARTEMENT GESTION PRESTATIONS\STOCKS 2019\[Stocks Prestations 2019.xlsx]Sem "&INT((COLUMN()+3)/5)&"'!$N"&ROWS($1:6)) -> 0 | GS4: =INDIRECT("'I:\Ociane\Services aux Adhérents\Services aux Adhérents par Centre de Gestion\0 Tous centres\DEPARTEMENT GESTION PRESTATIONS\STOCKS 2019\[Stocks Prestations 2019.xlsx]Sem "&INT((COLUMN()+3)/5)&"'!$P"&ROWS($1:6)) -> 0 | GT4: =INDIRECT("'I:\Ociane\Services aux Adhérents\Services aux Adhérents par Centre de Gestion\0 Tous centres\DEPARTEMENT GESTION PRESTATIONS\STOCKS 2019\[Stocks Prestations 2019.xlsx]Sem "&INT((COLUMN()+3)/5)&"'!$H"&ROWS($1:6)) -> 0 | GU4: =INDIRECT("'I:\Ociane\Services aux Adhérents\Services aux Adhérents par Centre de Gestion\0 Tous centres\DEPARTEMENT GESTION PRESTATIONS\STOCKS 2019\[Stocks Prestations 2019.xlsx]Sem "&INT((COLUMN()+3)/5)&"'!$I"&ROWS($1:6)) -> 0 | GV4: =INDIRECT("'I:\Ociane\Services aux Adhérents\Services aux Adhérents par Centre de Gestion\0 Tous centres\DEPARTEMENT GESTION PRESTATIONS\STOCKS 2019\[Stocks Prestations 2019.xlsx]Sem "&INT((COLUMN()+3)/5)&"'!$J"&ROWS($1:6)) -> 0 | GW4: =INDIRECT("'I:\Ociane\Services aux Adhérents\Services aux Adhérents par Centre de Gestion\0 Tous centres\DEPARTEMENT GESTION PRESTATIONS\STOCKS 2019\[Stocks Prestations 2019.xlsx]Sem "&INT((COLUMN()+3)/5)&"'!$N"&ROWS($1:6)) -> 0 | GX4: =INDIRECT("'I:\Ociane\Services aux Adhérents\Services aux Adhérents par Centre de Gestion\0 Tous centres\DEPARTEMENT GESTION PRESTATIONS\STOCKS 2019\[Stocks Prestations 2019.xlsx]Sem "&INT((COLUMN()+3)/5)&"'!$P"&ROWS($1:6)) -> 0 | GY4: =INDIRECT("'I:\Ociane\Services aux Adhérents\Services aux Adhérents par Centre de Gestion\0 Tous centres\DEPARTEMENT GESTION PRESTATIONS\STOCKS 2019\[Stocks Prestations 2019.xlsx]Sem "&INT((COLUMN()+3)/5)&"'!$H"&ROWS($1:6)) -> 0 | GZ4: =INDIRECT("'I:\Ociane\Services aux Adhérents\Services aux Adhérents par Centre de Gestion\0 Tous centres\DEPARTEMENT GESTION PRESTATIONS\STOCKS 2019\[Stocks Prestations 2019.xlsx]Sem "&INT((COLUMN()+3)/5)&"'!$I"&ROWS($1:6)) -> 0 | HA4: =INDIRECT("'I:\Ociane\Services aux Adhérents\Services aux Adhérents par Centre de Gestion\0 Tous centres\DEPARTEMENT GESTION PRESTATIONS\STOCKS 2019\[Stocks Prestations 2019.xlsx]Sem "&INT((COLUMN()+3)/5)&"'!$J"&ROWS($1:6)) -> 0 | HB4: =INDIRECT("'I:\Ociane\Services aux Adhérents\Services aux Adhérents par Centre de Gestion\0 Tous centres\DEPARTEMENT GESTION PRESTATIONS\STOCKS 2019\[Stocks Prestations 2019.xlsx]Sem "&INT((COLUMN()+3)/5)&"'!$N"&ROWS($1:6)) -> 0 | HC4: =INDIRECT("'I:\Ociane\Services aux Adhérents\Services aux Adhérents par Centre de Gestion\0 Tous centres\DEPARTEMENT GESTION PRESTATIONS\STOCKS 2019\[Stocks Prestations 2019.xlsx]Sem "&INT((COLUMN()+3)/5)&"'!$P"&ROWS($1:6)) -> 0 | HD4: =INDIRECT("'I:\Ociane\Services aux Adhérents\Services aux Adhérents par Centre de Gestion\0 Tous centres\DEPARTEMENT GESTION PRESTATIONS\STOCKS 2019\[Stocks Prestations 2019.xlsx]Sem "&INT((COLUMN()+3)/5)&"'!$H"&ROWS($1:6)) -> 0 | HE4: =INDIRECT("'I:\Ociane\Services aux Adhérents\Services aux Adhérents par Centre de Gestion\0 Tous centres\DEPARTEMENT GESTION PRESTATIONS\STOCKS 2019\[Stocks Prestations 2019.xlsx]Sem "&INT((COLUMN()+3)/5)&"'!$I"&ROWS($1:6)) -> 0 | HF4: =INDIRECT("'I:\Ociane\Services aux Adhérents\Services aux Adhérents par Centre de Gestion\0 Tous centres\DEPARTEMENT GESTION PRESTATIONS\STOCKS 2019\[Stocks Prestations 2019.xlsx]Sem "&INT((COLUMN()+3)/5)&"'!$J"&ROWS($1:6)) -> 0 | HG4: =INDIRECT("'I:\Ociane\Services aux Adhérents\Services aux Adhérents par Centre de Gestion\0 Tous centres\DEPARTEMENT GESTION PRESTATIONS\STOCKS 2019\[Stocks Prestations 2019.xlsx]Sem "&INT((COLUMN()+3)/5)&"'!$N"&ROWS($1:6)) -> 0 | HH4: =INDIRECT("'I:\Ociane\Services aux Adhérents\Services aux Adhérents par Centre de Gestion\0 Tous centres\DEPARTEMENT GESTION PRESTATIONS\STOCKS 2019\[Stocks Prestations 2019.xlsx]Sem "&INT((COLUMN()+3)/5)&"'!$P"&ROWS($1:6)) -> 0 | HI4: =INDIRECT("'I:\Ociane\Services aux Adhérents\Services aux Adhérents par Centre de Gestion\0 Tous centres\DEPARTEMENT GESTION PRESTATIONS\STOCKS 2019\[Stocks Prestations 2019.xlsx]Sem "&INT((COLUMN()+3)/5)&"'!$H"&ROWS($1:6)) -> 0 | HJ4: =INDIRECT("'I:\Ociane\Services aux Adhérents\Services aux Adhérents par Centre de Gestion\0 Tous centres\DEPARTEMENT GESTION PRESTATIONS\STOCKS 2019\[Stocks Prestations 2019.xlsx]Sem "&INT((COLUMN()+3)/5)&"'!$I"&ROWS($1:6)) -> 0 | HK4: =INDIRECT("'I:\Ociane\Services aux Adhérents\Services aux Adhérents par Centre de Gestion\0 Tous centres\DEPARTEMENT GESTION PRESTATIONS\STOCKS 2019\[Stocks Prestations 2019.xlsx]Sem "&INT((COLUMN()+3)/5)&"'!$J"&ROWS($1:6)) -> 0 | HL4: =INDIRECT("'I:\Ociane\Services aux Adhérents\Services aux Adhérents par Centre de Gestion\0 Tous centres\DEPARTEMENT GESTION PRESTATIONS\STOCKS 2019\[Stocks Prestations 2019.xlsx]Sem "&INT((COLUMN()+3)/5)&"'!$N"&ROWS($1:6)) -> 0 | HM4: =INDIRECT("'I:\Ociane\Services aux Adhérents\Services aux Adhérents par Centre de Gestion\0 Tous centres\DEPARTEMENT GESTION PRESTATIONS\STOCKS 2019\[Stocks Prestations 2019.xlsx]Sem "&INT((COLUMN()+3)/5)&"'!$P"&ROWS($1:6)) -> 0 | HN4: =INDIRECT("'I:\Ociane\Services aux Adhérents\Services aux Adhérents par Centre de Gestion\0 Tous centres\DEPARTEMENT GESTION PRESTATIONS\STOCKS 2019\[Stocks Prestations 2019.xlsx]Sem "&INT((COLUMN()+3)/5)&"'!$H"&ROWS($1:6)) -> 0 | HO4: =INDIRECT("'I:\Ociane\Services aux Adhérents\Services aux Adhérents par Centre de Gestion\0 Tous centres\DEPARTEMENT GESTION PRESTATIONS\STOCKS 2019\[Stocks Prestations 2019.xlsx]Sem "&INT((COLUMN()+3)/5)&"'!$I"&ROWS($1:6)) -> 0 | HP4: =INDIRECT("'I:\Ociane\Services aux Adhérents\Services aux Adhérents par Centre de Gestion\0 Tous centres\DEPARTEMENT GESTION PRESTATIONS\STOCKS 2019\[Stocks Prestations 2019.xlsx]Sem "&INT((COLUMN()+3)/5)&"'!$J"&ROWS($1:6)) -> 0 | HQ4: =INDIRECT("'I:\Ociane\Services aux Adhérents\Services aux Adhérents par Centre de Gestion\0 Tous centres\DEPARTEMENT GESTION PRESTATIONS\STOCKS 2019\[Stocks Prestations 2019.xlsx]Sem "&INT((COLUMN()+3)/5)&"'!$N"&ROWS($1:6)) -> 0 | HR4: =INDIRECT("'I:\Ociane\Services aux Adhérents\Services aux Adhérents par Centre de Gestion\0 Tous centres\DEPARTEMENT GESTION PRESTATIONS\STOCKS 2019\[Stocks Prestations 2019.xlsx]Sem "&INT((COLUMN()+3)/5)&"'!$P"&ROWS($1:6)) -> 0 | HS4: =INDIRECT("'I:\Ociane\Services aux Adhérents\Services aux Adhérents par Centre de Gestion\0 Tous centres\DEPARTEMENT GESTION PRESTATIONS\STOCKS 2019\[Stocks Prestations 2019.xlsx]Sem "&INT((COLUMN()+3)/5)&"'!$H"&ROWS($1:6)) -> 0 | HT4: =INDIRECT("'I:\Ociane\Services aux Adhérents\Services aux Adhérents par Centre de Gestion\0 Tous centres\DEPARTEMENT GESTION PRESTATIONS\STOCKS 2019\[Stocks Prestations 2019.xlsx]Sem "&INT((COLUMN()+3)/5)&"'!$I"&ROWS($1:6)) -> 0 | HU4: =INDIRECT("'I:\Ociane\Services aux Adhérents\Services aux Adhérents par Centre de Gestion\0 Tous centres\DEPARTEMENT GESTION PRESTATIONS\STOCKS 2019\[Stocks Prestations 2019.xlsx]Sem "&INT((COLUMN()+3)/5)&"'!$J"&ROWS($1:6)) -> 0 | HV4: =INDIRECT("'I:\Ociane\Services aux Adhérents\Services aux Adhérents par Centre de Gestion\0 Tous centres\DEPARTEMENT GESTION PRESTATIONS\STOCKS 2019\[Stocks Prestations 2019.xlsx]Sem "&INT((COLUMN()+3)/5)&"'!$N"&ROWS($1:6)) -> 0 | HW4: =INDIRECT("'I:\Ociane\Services aux Adhérents\Services aux Adhérents par Centre de Gestion\0 Tous centres\DEPARTEMENT GESTION PRESTATIONS\STOCKS 2019\[Stocks Prestations 2019.xlsx]Sem "&INT((COLUMN()+3)/5)&"'!$P"&ROWS($1:6)) -> 0 | HX4: =INDIRECT("'I:\Ociane\Services aux Adhérents\Services aux Adhérents par Centre de Gestion\0 Tous centres\DEPARTEMENT GESTION PRESTATIONS\STOCKS 2019\[Stocks Prestations 2019.xlsx]Sem "&INT((COLUMN()+3)/5)&"'!$H"&ROWS($1:6)) -> 0 | HY4: =INDIRECT("'I:\Ociane\Services aux Adhérents\Services aux Adhérents par Centre de Gestion\0 Tous centres\DEPARTEMENT GESTION PRESTATIONS\STOCKS 2019\[Stocks Prestations 2019.xlsx]Sem "&INT((COLUMN()+3)/5)&"'!$I"&ROWS($1:6)) -> 0 | HZ4: =INDIRECT("'I:\Ociane\Services aux Adhérents\Services aux Adhérents par Centre de Gestion\0 Tous centres\DEPARTEMENT GESTION PRESTATIONS\STOCKS 2019\[Stocks Prestations 2019.xlsx]Sem "&INT((COLUMN()+3)/5)&"'!$J"&ROWS($1:6)) -> 0 | IA4: =INDIRECT("'I:\Ociane\Services aux Adhérents\Services aux Adhérents par Centre de Gestion\0 Tous centres\DEPARTEMENT GESTION PRESTATIONS\STOCKS 2019\[Stocks Prestations 2019.xlsx]Sem "&INT((COLUMN()+3)/5)&"'!$N"&ROWS($1:6)) -> 0 | IB4: =INDIRECT("'I:\Ociane\Services aux Adhérents\Services aux Adhérents par Centre de Gestion\0 Tous centres\DEPARTEMENT GESTION PRESTATIONS\STOCKS 2019\[Stocks Prestations 2019.xlsx]Sem "&INT((COLUMN()+3)/5)&"'!$P"&ROWS($1:6)) -> 0 | IC4: =INDIRECT("'I:\Ociane\Services aux Adhérents\Services aux Adhérents par Centre de Gestion\0 Tous centres\DEPARTEMENT GESTION PRESTATIONS\STOCKS 2019\[Stocks Prestations 2019.xlsx]Sem "&INT((COLUMN()+3)/5)&"'!$H"&ROWS($1:6)) -> 0 | ID4: =INDIRECT("'I:\Ociane\Services aux Adhérents\Services aux Adhérents par Centre de Gestion\0 Tous centres\DEPARTEMENT GESTION PRESTATIONS\STOCKS 2019\[Stocks Prestations 2019.xlsx]Sem "&INT((COLUMN()+3)/5)&"'!$I"&ROWS($1:6)) -> 0 | IE4: =INDIRECT("'I:\Ociane\Services aux Adhérents\Services aux Adhérents par Centre de Gestion\0 Tous centres\DEPARTEMENT GESTION PRESTATIONS\STOCKS 2019\[Stocks Prestations 2019.xlsx]Sem "&INT((COLUMN()+3)/5)&"'!$J"&ROWS($1:6)) -> 0 | IF4: =INDIRECT("'I:\Ociane\Services aux Adhérents\Services aux Adhérents par Centre de Gestion\0 Tous centres\DEPARTEMENT GESTION PRESTATIONS\STOCKS 2019\[Stocks Prestations 2019.xlsx]Sem "&INT((COLUMN()+3)/5)&"'!$N"&ROWS($1:6)) -> 0 | IG4: =INDIRECT("'I:\Ociane\Services aux Adhérents\Services aux Adhérents par Centre de Gestion\0 Tous centres\DEPARTEMENT GESTION PRESTATIONS\STOCKS 2019\[Stocks Prestations 2019.xlsx]Sem "&INT((COLUMN()+3)/5)&"'!$P"&ROWS($1:6)) -> 0 | IH4: =INDIRECT("'I:\Ociane\Services aux Adhérents\Services aux Adhérents par Centre de Gestion\0 Tous centres\DEPARTEMENT GESTION PRESTATIONS\STOCKS 2019\[Stocks Prestations 2019.xlsx]Sem "&INT((COLUMN()+3)/5)&"'!$H"&ROWS($1:6)) -> 0 | II4: =INDIRECT("'I:\Ociane\Services aux Adhérents\Services aux Adhérents par Centre de Gestion\0 Tous centres\DEPARTEMENT GESTION PRESTATIONS\STOCKS 2019\[Stocks Prestations 2019.xlsx]Sem "&INT((COLUMN()+3)/5)&"'!$I"&ROWS($1:6)) -> 0 | IJ4: =INDIRECT("'I:\Ociane\Services aux Adhérents\Services aux Adhérents par Centre de Gestion\0 Tous centres\DEPARTEMENT GESTION PRESTATIONS\STOCKS 2019\[Stocks Prestations 2019.xlsx]Sem "&INT((COLUMN()+3)/5)&"'!$J"&ROWS($1:6)) -> 0 | IK4: =INDIRECT("'I:\Ociane\Services aux Adhérents\Services aux Adhérents par Centre de Gestion\0 Tous centres\DEPARTEMENT GESTION PRESTATIONS\STOCKS 2019\[Stocks Prestations 2019.xlsx]Sem "&INT((COLUMN()+3)/5)&"'!$N"&ROWS($1:6)) -> 0 | IL4: =INDIRECT("'I:\Ociane\Services aux Adhérents\Services aux Adhérents par Centre de Gestion\0 Tous centres\DEPARTEMENT GESTION PRESTATIONS\STOCKS 2019\[Stocks Prestations 2019.xlsx]Sem "&INT((COLUMN()+3)/5)&"'!$P"&ROWS($1:6)) -> 0 | IM4: =INDIRECT("'I:\Ociane\Services aux Adhérents\Services aux Adhérents par Centre de Gestion\0 Tous centres\DEPARTEMENT GESTION PRESTATIONS\STOCKS 2019\[Stocks Prestations 2019.xlsx]Sem "&INT((COLUMN()+3)/5)&"'!$H"&ROWS($1:6)) -> 0 | IN4: =INDIRECT("'I:\Ociane\Services aux Adhérents\Services aux Adhérents par Centre de Gestion\0 Tous centres\DEPARTEMENT GESTION PRESTATIONS\STOCKS 2019\[Stocks Prestations 2019.xlsx]Sem "&INT((COLUMN()+3)/5)&"'!$I"&ROWS($1:6)) -> 0 | IO4: =INDIRECT("'I:\Ociane\Services aux Adhérents\Services aux Adhérents par Centre de Gestion\0 Tous centres\DEPARTEMENT GESTION PRESTATIONS\STOCKS 2019\[Stocks Prestations 2019.xlsx]Sem "&INT((COLUMN()+3)/5)&"'!$J"&ROWS($1:6)) -> 0 | IP4: =INDIRECT("'I:\Ociane\Services aux Adhérents\Services aux Adhérents par Centre de Gestion\0 Tous centres\DEPARTEMENT GESTION PRESTATIONS\STOCKS 2019\[Stocks Prestations 2019.xlsx]Sem "&INT((COLUMN()+3)/5)&"'!$N"&ROWS($1:6)) -> 0 | IQ4: =INDIRECT("'I:\Ociane\Services aux Adhérents\Services aux Adhérents par Centre de Gestion\0 Tous centres\DEPARTEMENT GESTION PRESTATIONS\STOCKS 2019\[Stocks Prestations 2019.xlsx]Sem "&INT((COLUMN()+3)/5)&"'!$P"&ROWS($1:6)) -> 0 | IR4: =INDIRECT("'I:\Ociane\Services aux Adhérents\Services aux Adhérents par Centre de Gestion\0 Tous centres\DEPARTEMENT GESTION PRESTATIONS\STOCKS 2019\[Stocks Prestations 2019.xlsx]Sem "&INT((COLUMN()+3)/5)&"'!$H"&ROWS($1:6)) -> 0 | IS4: =INDIRECT("'I:\Ociane\Services aux Adhérents\Services aux Adhérents par Centre de Gestion\0 Tous centres\DEPARTEMENT GESTION PRESTATIONS\STOCKS 2019\[Stocks Prestations 2019.xlsx]Sem "&INT((COLUMN()+3)/5)&"'!$I"&ROWS($1:6)) -> 0 | IT4: =INDIRECT("'I:\Ociane\Services aux Adhérents\Services aux Adhérents par Centre de Gestion\0 Tous centres\DEPARTEMENT GESTION PRESTATIONS\STOCKS 2019\[Stocks Prestations 2019.xlsx]Sem "&INT((COLUMN()+3)/5)&"'!$J"&ROWS($1:6)) -> 0 | IU4: =INDIRECT("'I:\Ociane\Services aux Adhérents\Services aux Adhérents par Centre de Gestion\0 Tous centres\DEPARTEMENT GESTION PRESTATIONS\STOCKS 2019\[Stocks Prestations 2019.xlsx]Sem "&INT((COLUMN()+3)/5)&"'!$N"&ROWS($1:6)) -> 0 | IV4: =INDIRECT("'I:\Ociane\Services aux Adhérents\Services aux Adhérents par Centre de Gestion\0 Tous centres\DEPARTEMENT GESTION PRESTATIONS\STOCKS 2019\[Stocks Prestations 2019.xlsx]Sem "&INT((COLUMN()+3)/5)&"'!$P"&ROWS($1:6)) -> 0 | IW4: =INDIRECT("'I:\Ociane\Services aux Adhérents\Services aux Adhérents par Centre de Gestion\0 Tous centres\DEPARTEMENT GESTION PRESTATIONS\STOCKS 2019\[Stocks Prestations 2019.xlsx]Sem "&INT((COLUMN()+3)/5)&"'!$H"&ROWS($1:6)) -> 0 | IX4: =INDIRECT("'I:\Ociane\Services aux Adhérents\Services aux Adhérents par Centre de Gestion\0 Tous centres\DEPARTEMENT GESTION PRESTATIONS\STOCKS 2019\[Stocks Prestations 2019.xlsx]Sem "&INT((COLUMN()+3)/5)&"'!$I"&ROWS($1:6)) -> 0 | IY4: =INDIRECT("'I:\Ociane\Services aux Adhérents\Services aux Adhérents par Centre de Gestion\0 Tous centres\DEPARTEMENT GESTION PRESTATIONS\STOCKS 2019\[Stocks Prestations 2019.xlsx]Sem "&INT((COLUMN()+3)/5)&"'!$J"&ROWS($1:6)) -> 0 | IZ4: =INDIRECT("'I:\Ociane\Services aux Adhérents\Services aux Adhérents par Centre de Gestion\0 Tous centres\DEPARTEMENT GESTION PRESTATIONS\STOCKS 2019\[Stocks Prestations 2019.xlsx]Sem "&INT((COLUMN()+3)/5)&"'!$N"&ROWS($1:6)) -> 0 | JA4: =INDIRECT("'I:\Ociane\Services aux Adhérents\Services aux Adhérents par Centre de Gestion\0 Tous centres\DEPARTEMENT GESTION PRESTATIONS\STOCKS 2019\[Stocks Prestations 2019.xlsx]Sem "&INT((COLUMN()+3)/5)&"'!$P"&ROWS($1:6)) -> 0 | JB4: =INDIRECT("'I:\Ociane\Services aux Adhérents\Services aux Adhérents par Centre de Gestion\0 Tous centres\DEPARTEMENT GESTION PRESTATIONS\STOCKS 2019\[Stocks Prestations 2019.xlsx]Sem "&INT((COLUMN()+3)/5)&"'!$H"&ROWS($1:6)) -> 0 | JC4: =INDIRECT("'I:\Ociane\Services aux Adhérents\Services aux Adhérents par Centre de Gestion\0 Tous centres\DEPARTEMENT GESTION PRESTATIONS\STOCKS 2019\[Stocks Prestations 2019.xlsx]Sem "&INT((COLUMN()+3)/5)&"'!$I"&ROWS($1:6)) -> 0 | JD4: =INDIRECT("'I:\Ociane\Services aux Adhérents\Services aux Adhérents par Centre de Gestion\0 Tous centres\DEPARTEMENT GESTION PRESTATIONS\STOCKS 2019\[Stocks Prestations 2019.xlsx]Sem "&INT((COLUMN()+3)/5)&"'!$J"&ROWS($1:6)) -> 0 | JE4: =INDIRECT("'I:\Ociane\Services aux Adhérents\Services aux Adhérents par Centre de Gestion\0 Tous centres\DEPARTEMENT GESTION PRESTATIONS\STOCKS 2019\[Stocks Prestations 2019.xlsx]Sem "&INT((COLUMN()+3)/5)&"'!$N"&ROWS($1:6)) -> 0 | JF4: =INDIRECT("'I:\Ociane\Services aux Adhérents\Services aux Adhérents par Centre de Gestion\0 Tous centres\DEPARTEMENT GESTION PRESTATIONS\STOCKS 2019\[Stocks Prestations 2019.xlsx]Sem "&INT((COLUMN()+3)/5)&"'!$P"&ROWS($1:6)) -> 0
A5: Factures adhérents H | B5: ='[1]Sem 1'!H8 -> 0 | C5: ='[1]Sem 1'!I8 -> 0 | D5: ='[1]Sem 1'!J8 -> 0 | E5: ='[1]Sem 1'!N8 -> 0 | F5: ='[1]Sem 1'!P8 -> 0 | G5: ='[1]Sem 2'!H8 -> 0 | H5: ='[1]Sem 2'!I8 -> 0 | I5: ='[1]Sem 2'!J8 -> 0 | J5: ='[1]Sem 2'!N8 -> #DIV/0! | K5: ='[1]Sem 2'!P8 -> 0 | L5: ='[1]Sem 3'!H8 -> 0 | M5: ='[1]Sem 3'!I8 -> 0 | N5: ='[1]Sem 3'!J8 -> 0 | O5: ='[1]Sem 3'!N8 -> #DIV/0! | P5: ='[1]Sem 1'!AI8 -> 0 | Q5: ='[1]Sem 4'!H8 -> 0 | R5: ='[1]Sem 4'!I8 -> 0 | S5: ='[1]Sem 4'!J8 -> 0 | T5: ='[1]Sem 4'!N8 -> #DIV/0! | U5: ='[1]Sem 4'!P8 -> 0 | V5: ='[1]Sem 5'!H8 -> 0 | W5: ='[1]Sem 5'!I8 -> 0 | X5: ='[1]Sem 5'!J8 -> 0 | Y5: ='[1]Sem 5'!N8 -> #DIV/0! | Z5: ='[1]Sem 5'!P8 -> 0 | AA5: ='[1]Sem 6'!H8 -> 0 | AB5: ='[1]Sem 6'!I8 -> 0 | AC5: ='[1]Sem 6'!J8 -> 0 | AD5: ='[1]Sem 6'!N8 -> #DIV/0! | AE5: ='[1]Sem 6'!P8 -> 0 | AF5: ='[1]Sem 7'!H8 -> 0 | AG5: ='[1]Sem 7'!I8 -> 0 | AH5: ='[1]Sem 7'!J8 -> 0 | AI5: ='[1]Sem 7'!N8 -> #DIV/0! | AJ5: ='[1]Sem 7'!P8 -> 0 | AK5: ='[1]Sem 8'!H8 -> 0 | AL5: ='[1]Sem 8'!I8 -> 0 | AM5: ='[1]Sem 8'!J8 -> 0 | AN5: ='[1]Sem 8'!N8 -> #DIV/0! | AO5: ='[1]Sem 8'!P8 -> 0 | AP5: ='[1]Sem 9'!H8 -> 0 | AQ5: ='[1]Sem 9'!I8 -> 0 | AR5: ='[1]Sem 9'!J8 -> 0 | AS5: ='[1]Sem 9'!N8 -> #DIV/0! | AT5: ='[1]Sem 9'!P8 -> 0 | AU5: ='[1]Sem 10'!H8 -> 0 | AV5: ='[1]Sem 10'!I8 -> 0 | AW5: ='[1]Sem 10'!J8 -> 0 | AX5: ='[1]Sem 10'!N8 -> #DIV/0! | AY5: ='[1]Sem 10'!P8 -> 0 | AZ5: ='[1]Sem 11'!H8 -> 0 | BA5: ='[1]Sem 11'!I8 -> 0 | BB5: ='[1]Sem 11'!J8 -> 0 | BC5: ='[1]Sem 11'!N8 -> #DIV/0! | BD5: ='[1]Sem 11'!P8 -> 0 | BE5: ='[1]Sem 12'!H8 -> 0 | BF5: ='[1]Sem 12'!I8 -> 0 | BG5: ='[1]Sem 12'!J8 -> 0 | BH5: ='[1]Sem 12'!N8 -> #DIV/0! | BI5: ='[1]Sem 12'!P8 -> 0 | BJ5: ='[1]Sem 13'!H8 -> 0 | BK5: ='[1]Sem 13'!I8 -> 0 | BL5: ='[1]Sem 13'!J8 -> 0 | BM5: ='[1]Sem 13'!N8 -> #DIV/0! | BN5: ='[1]Sem 13'!P8 -> 0 | BO5: ='[1]Sem 14'!H8 -> 0 | BP5: ='[1]Sem 14'!I8 -> 0 | BQ5: ='[1]Sem 14'!J8 -> 0 | BR5: ='[1]Sem 14'!N8 -> #DIV/0! | BS5: ='[1]Sem 14'!P8 -> 0 | BT5: ='[1]Sem 15'!H8 -> 0 | BU5: ='[1]Sem 15'!I8 -> 0 | BV5: ='[1]Sem 15'!J8 -> 0 | BW5: ='[1]Sem 15'!N8 -> #DIV/0! | BX5: ='[1]Sem 15'!P8 -> 0 | BY5: ='[1]Sem 16'!H8 -> 0 | BZ5: ='[1]Sem 16'!I8 -> 0 | CA5: ='[1]Sem 16'!J8 -> 0 | CB5: ='[1]Sem 16'!N8 -> #DIV/0! | CC5: ='[1]Sem 16'!P8 -> 0 | CD5: =INDIRECT("'I:\Ociane\Services aux Adhérents\Services aux Adhérents par Centre de Gestion\0 Tous centres\DEPARTEMENT GESTION PRESTATIONS\STOCKS 2019\[Stocks Prestations 2019.xlsx]Sem "&INT((COLUMN()+3)/5)&"'!$H"&ROWS($1:6)) -> 0 | CE5: =INDIRECT("'I:\Ociane\Services aux Adhérents\Services aux Adhérents par Centre de Gestion\0 Tous centres\DEPARTEMENT GESTION PRESTATIONS\STOCKS 2019\[Stocks Prestations 2019.xlsx]Sem "&INT((COLUMN()+3)/5)&"'!$I"&ROWS($1:6)) -> 0 | CF5: =INDIRECT("'I:\Ociane\Services aux Adhérents\Services aux Adhérents par Centre de Gestion\0 Tous centres\DEPARTEMENT GESTION PRESTATIONS\STOCKS 2019\[Stocks Prestations 2019.xlsx]Sem "&INT((COLUMN()+3)/5)&"'!$J"&ROWS($1:6)) -> 0 | CG5: =INDIRECT("'I:\Ociane\Services aux Adhérents\Services aux Adhérents par Centre de Gestion\0 Tous centres\DEPARTEMENT GESTION PRESTATIONS\STOCKS 2019\[Stocks Prestations 2019.xlsx]Sem "&INT((COLUMN()+3)/5)&"'!$N"&ROWS($1:6)) -> 0 | CH5: =INDIRECT("'I:\Ociane\Services aux Adhérents\Services aux Adhérents par Centre de Gestion\0 Tous centres\DEPARTEMENT GESTION PRESTATIONS\STOCKS 2019\[Stocks Prestations 2019.xlsx]Sem "&INT((COLUMN()+3)/5)&"'!$P"&ROWS($1:6)) -> 0 | CI5: =INDIRECT("'I:\Ociane\Services aux Adhérents\Services aux Adhérents par Centre de Gestion\0 Tous centres\DEPARTEMENT GESTION PRESTATIONS\STOCKS 2019\[Stocks Prestations 2019.xlsx]Sem "&INT((COLUMN()+3)/5)&"'!$H"&ROWS($1:6)) -> 0 | CJ5: =INDIRECT("'I:\Ociane\Services aux Adhérents\Services aux Adhérents par Centre de Gestion\0 Tous centres\DEPARTEMENT GESTION PRESTATIONS\STOCKS 2019\[Stocks Prestations 2019.xlsx]Sem "&INT((COLUMN()+3)/5)&"'!$I"&ROWS($1:6)) -> 0 | CK5: =INDIRECT("'I:\Ociane\Services aux Adhérents\Services aux Adhérents par Centre de Gestion\0 Tous centres\DEPARTEMENT GESTION PRESTATIONS\STOCKS 2019\[Stocks Prestations 2019.xlsx]Sem "&INT((COLUMN()+3)/5)&"'!$J"&ROWS($1:6)) -> 0 | CL5: =INDIRECT("'I:\Ociane\Services aux Adhérents\Services aux Adhérents par Centre de Gestion\0 Tous centres\DEPARTEMENT GESTION PRESTATIONS\STOCKS 2019\[Stocks Prestations 2019.xlsx]Sem "&INT((COLUMN()+3)/5)&"'!$N"&ROWS($1:6)) -> 0 | CM5: =INDIRECT("'I:\Ociane\Services aux Adhérents\Services aux Adhérents par Centre de Gestion\0 Tous centres\DEPARTEMENT GESTION PRESTATIONS\STOCKS 2019\[Stocks Prestations 2019.xlsx]Sem "&INT((COLUMN()+3)/5)&"'!$P"&ROWS($1:6)) -> 0 | CN5: =INDIRECT("'I:\Ociane\Services aux Adhérents\Services aux Adhérents par Centre de Gestion\0 Tous centres\DEPARTEMENT GESTION PRESTATIONS\STOCKS 2019\[Stocks Prestations 2019.xlsx]Sem "&INT((COLUMN()+3)/5)&"'!$H"&ROWS($1:6)) -> 0 | CO5: =INDIRECT("'I:\Ociane\Services aux Adhérents\Services aux Adhérents par Centre de Gestion\0 Tous centres\DEPARTEMENT GESTION PRESTATIONS\STOCKS 2019\[Stocks Prestations 2019.xlsx]Sem "&INT((COLUMN()+3)/5)&"'!$I"&ROWS($1:6)) -> 0 | CP5: =INDIRECT("'I:\Ociane\Services aux Adhérents\Services aux Adhérents par Centre de Gestion\0 Tous centres\DEPARTEMENT GESTION PRESTATIONS\STOCKS 2019\[Stocks Prestations 2019.xlsx]Sem "&INT((COLUMN()+3)/5)&"'!$J"&ROWS($1:6)) -> 0 | CQ5: =INDIRECT("'I:\Ociane\Services aux Adhérents\Services aux Adhérents par Centre de Gestion\0 Tous centres\DEPARTEMENT GESTION PRESTATIONS\STOCKS 2019\[Stocks Prestations 2019.xlsx]Sem "&INT((COLUMN()+3)/5)&"'!$N"&ROWS($1:6)) -> 0 | CR5: =INDIRECT("'I:\Ociane\Services aux Adhérents\Services aux Adhérents par Centre de Gestion\0 Tous centres\DEPARTEMENT GESTION PRESTATIONS\STOCKS 2019\[Stocks Prestations 2019.xlsx]Sem "&INT((COLUMN()+3)/5)&"'!$P"&ROWS($1:6)) -> 0 | CS5: =INDIRECT("'I:\Ociane\Services aux Adhérents\Services aux Adhérents par Centre de Gestion\0 Tous centres\DEPARTEMENT GESTION PRESTATIONS\STOCKS 2019\[Stocks Prestations 2019.xlsx]Sem "&INT((COLUMN()+3)/5)&"'!$H"&ROWS($1:6)) -> 0 | CT5: =INDIRECT("'I:\Ociane\Services aux Adhérents\Services aux Adhérents par Centre de Gestion\0 Tous centres\DEPARTEMENT GESTION PRESTATIONS\STOCKS 2019\[Stocks Prestations 2019.xlsx]Sem "&INT((COLUMN()+3)/5)&"'!$I"&ROWS($1:6)) -> 0 | CU5: =INDIRECT("'I:\Ociane\Services aux Adhérents\Services aux Adhérents par Centre de Gestion\0 Tous centres\DEPARTEMENT GESTION PRESTATIONS\STOCKS 2019\[Stocks Prestations 2019.xlsx]Sem "&INT((COLUMN()+3)/5)&"'!$J"&ROWS($1:6)) -> 0 | CV5: =INDIRECT("'I:\Ociane\Services aux Adhérents\Services aux Adhérents par Centre de Gestion\0 Tous centres\DEPARTEMENT GESTION PRESTATIONS\STOCKS 2019\[Stocks Prestations 2019.xlsx]Sem "&INT((COLUMN()+3)/5)&"'!$N"&ROWS($1:6)) -> 0 | CW5: =INDIRECT("'I:\Ociane\Services aux Adhérents\Services aux Adhérents par Centre de Gestion\0 Tous centres\DEPARTEMENT GESTION PRESTATIONS\STOCKS 2019\[Stocks Prestations 2019.xlsx]Sem "&INT((COLUMN()+3)/5)&"'!$P"&ROWS($1:6)) -> 0 | CX5: =INDIRECT("'I:\Ociane\Services aux Adhérents\Services aux Adhérents par Centre de Gestion\0 Tous centres\DEPARTEMENT GESTION PRESTATIONS\STOCKS 2019\[Stocks Prestations 2019.xlsx]Sem "&INT((COLUMN()+3)/5)&"'!$H"&ROWS($1:6)) -> 0 | CY5: =INDIRECT("'I:\Ociane\Services aux Adhérents\Services aux Adhérents par Centre de Gestion\0 Tous centres\DEPARTEMENT GESTION PRESTATIONS\STOCKS 2019\[Stocks Prestations 2019.xlsx]Sem "&INT((COLUMN()+3)/5)&"'!$I"&ROWS($1:6)) -> 0 | CZ5: =INDIRECT("'I:\Ociane\Services aux Adhérents\Services aux Adhérents par Centre de Gestion\0 Tous centres\DEPARTEMENT GESTION PRESTATIONS\STOCKS 2019\[Stocks Prestations 2019.xlsx]Sem "&INT((COLUMN()+3)/5)&"'!$J"&ROWS($1:6)) -> 0 | DA5: =INDIRECT("'I:\Ociane\Services aux Adhérents\Services aux Adhérents par Centre de Gestion\0 Tous centres\DEPARTEMENT GESTION PRESTATIONS\STOCKS 2019\[Stocks Prestations 2019.xlsx]Sem "&INT((COLUMN()+3)/5)&"'!$N"&ROWS($1:6)) -> 0 | DB5: =INDIRECT("'I:\Ociane\Services aux Adhérents\Services aux Adhérents par Centre de Gestion\0 Tous centres\DEPARTEMENT GESTION PRESTATIONS\STOCKS 2019\[Stocks Prestations 2019.xlsx]Sem "&INT((COLUMN()+3)/5)&"'!$P"&ROWS($1:6)) -> 0 | DC5: =INDIRECT("'I:\Ociane\Services aux Adhérents\Services aux Adhérents par Centre de Gestion\0 Tous centres\DEPARTEMENT GESTION PRESTATIONS\STOCKS 2019\[Stocks Prestations 2019.xlsx]Sem "&INT((COLUMN()+3)/5)&"'!$H"&ROWS($1:6)) -> 0 | DD5: =INDIRECT("'I:\Ociane\Services aux Adhérents\Services aux Adhérents par Centre de Gestion\0 Tous centres\DEPARTEMENT GESTION PRESTATIONS\STOCKS 2019\[Stocks Prestations 2019.xlsx]Sem "&INT((COLUMN()+3)/5)&"'!$I"&ROWS($1:6)) -> 0 | DE5: =INDIRECT("'I:\Ociane\Services aux Adhérents\Services aux Adhérents par Centre de Gestion\0 Tous centres\DEPARTEMENT GESTION PRESTATIONS\STOCKS 2019\[Stocks Prestations 2019.xlsx]Sem "&INT((COLUMN()+3)/5)&"'!$J"&ROWS($1:6)) -> 0 | DF5: =INDIRECT("'I:\Ociane\Services aux Adhérents\Services aux Adhérents par Centre de Gestion\0 Tous centres\DEPARTEMENT GESTION PRESTATIONS\STOCKS 2019\[Stocks Prestations 2019.xlsx]Sem "&INT((COLUMN()+3)/5)&"'!$N"&ROWS($1:6)) -> 0 | DG5: =INDIRECT("'I:\Ociane\Services aux Adhérents\Services aux Adhérents par Centre de Gestion\0 Tous centres\DEPARTEMENT GESTION PRESTATIONS\STOCKS 2019\[Stocks Prestations 2019.xlsx]Sem "&INT((COLUMN()+3)/5)&"'!$P"&ROWS($1:6)) -> 0 | DH5: =INDIRECT("'I:\Ociane\Services aux Adhérents\Services aux Adhérents par Centre de Gestion\0 Tous centres\DEPARTEMENT GESTION PRESTATIONS\STOCKS 2019\[Stocks Prestations 2019.xlsx]Sem "&INT((COLUMN()+3)/5)&"'!$H"&ROWS($1:6)) -> 0 | DI5: =INDIRECT("'I:\Ociane\Services aux Adhérents\Services aux Adhérents par Centre de Gestion\0 Tous centres\DEPARTEMENT GESTION PRESTATIONS\STOCKS 2019\[Stocks Prestations 2019.xlsx]Sem "&INT((COLUMN()+3)/5)&"'!$I"&ROWS($1:6)) -> 0 | DJ5: =INDIRECT("'I:\Ociane\Services aux Adhérents\Services aux Adhérents par Centre de Gestion\0 Tous centres\DEPARTEMENT GESTION PRESTATIONS\STOCKS 2019\[Stocks Prestations 2019.xlsx]Sem "&INT((COLUMN()+3)/5)&"'!$J"&ROWS($1:6)) -> 0 | DK5: =INDIRECT("'I:\Ociane\Services aux Adhérents\Services aux Adhérents par Centre de Gestion\0 Tous centres\DEPARTEMENT GESTION PRESTATIONS\STOCKS 2019\[Stocks Prestations 2019.xlsx]Sem "&INT((COLUMN()+3)/5)&"'!$N"&ROWS($1:6)) -> 0 | DL5: =INDIRECT("'I:\Ociane\Services aux Adhérents\Services aux Adhérents par Centre de Gestion\0 Tous centres\DEPARTEMENT GESTION PRESTATIONS\STOCKS 2019\[Stocks Prestations 2019.xlsx]Sem "&INT((COLUMN()+3)/5)&"'!$P"&ROWS($1:6)) -> 0 | DM5: =INDIRECT("'I:\Ociane\Services aux Adhérents\Services aux Adhérents par Centre de Gestion\0 Tous centres\DEPARTEMENT GESTION PRESTATIONS\STOCKS 2019\[Stocks Prestations 2019.xlsx]Sem "&INT((COLUMN()+3)/5)&"'!$H"&ROWS($1:6)) -> 0 | DN5: =INDIRECT("'I:\Ociane\Services aux Adhérents\Services aux Adhérents par Centre de Gestion\0 Tous centres\DEPARTEMENT GESTION PRESTATIONS\STOCKS 2019\[Stocks Prestations 2019.xlsx]Sem "&INT((COLUMN()+3)/5)&"'!$I"&ROWS($1:6)) -> 0 | DO5: =INDIRECT("'I:\Ociane\Services aux Adhérents\Services aux Adhérents par Centre de Gestion\0 Tous centres\DEPARTEMENT GESTION PRESTATIONS\STOCKS 2019\[Stocks Prestations 2019.xlsx]Sem "&INT((COLUMN()+3)/5)&"'!$J"&ROWS($1:6)) -> 0 | DP5: =INDIRECT("'I:\Ociane\Services aux Adhérents\Services aux Adhérents par Centre de Gestion\0 Tous centres\DEPARTEMENT GESTION PRESTATIONS\STOCKS 2019\[Stocks Prestations 2019.xlsx]Sem "&INT((COLUMN()+3)/5)&"'!$N"&ROWS($1:6)) -> 0 | DQ5: =INDIRECT("'I:\Ociane\Services aux Adhérents\Services aux Adhérents par Centre de Gestion\0 Tous centres\DEPARTEMENT GESTION PRESTATIONS\STOCKS 2019\[Stocks Prestations 2019.xlsx]Sem "&INT((COLUMN()+3)/5)&"'!$P"&ROWS($1:6)) -> 0 | DR5: =INDIRECT("'I:\Ociane\Services aux Adhérents\Services aux Adhérents par Centre de Gestion\0 Tous centres\DEPARTEMENT GESTION PRESTATIONS\STOCKS 2019\[Stocks Prestations 2019.xlsx]Sem "&INT((COLUMN()+3)/5)&"'!$H"&ROWS($1:6)) -> 0 | DS5: =INDIRECT("'I:\Ociane\Services aux Adhérents\Services aux Adhérents par Centre de Gestion\0 Tous centres\DEPARTEMENT GESTION PRESTATIONS\STOCKS 2019\[Stocks Prestations 2019.xlsx]Sem "&INT((COLUMN()+3)/5)&"'!$I"&ROWS($1:6)) -> 0 | DT5: =INDIRECT("'I:\Ociane\Services aux Adhérents\Services aux Adhérents par Centre de Gestion\0 Tous centres\DEPARTEMENT GESTION PRESTATIONS\STOCKS 2019\[Stocks Prestations 2019.xlsx]Sem "&INT((COLUMN()+3)/5)&"'!$J"&ROWS($1:6)) -> 0 | DU5: =INDIRECT("'I:\Ociane\Services aux Adhérents\Services aux Adhérents par Centre de Gestion\0 Tous centres\DEPARTEMENT GESTION PRESTATIONS\STOCKS 2019\[Stocks Prestations 2019.xlsx]Sem "&INT((COLUMN()+3)/5)&"'!$N"&ROWS($1:6)) -> 0 | DV5: =INDIRECT("'I:\Ociane\Services aux Adhérents\Services aux Adhérents par Centre de Gestion\0 Tous centres\DEPARTEMENT GESTION PRESTATIONS\STOCKS 2019\[Stocks Prestations 2019.xlsx]Sem "&INT((COLUMN()+3)/5)&"'!$P"&ROWS($1:6)) -> 0 | DW5: =INDIRECT("'I:\Ociane\Services aux Adhérents\Services aux Adhérents par Centre de Gestion\0 Tous centres\DEPARTEMENT GESTION PRESTATIONS\STOCKS 2019\[Stocks Prestations 2019.xlsx]Sem "&INT((COLUMN()+3)/5)&"'!$H"&ROWS($1:6)) -> 0 | DX5: =INDIRECT("'I:\Ociane\Services aux Adhérents\Services aux Adhérents par Centre de Gestion\0 Tous centres\DEPARTEMENT GESTION PRESTATIONS\STOCKS 2019\[Stocks Prestations 2019.xlsx]Sem "&INT((COLUMN()+3)/5)&"'!$I"&ROWS($1:6)) -> 0 | DY5: =INDIRECT("'I:\Ociane\Services aux Adhérents\Services aux Adhérents par Centre de Gestion\0 Tous centres\DEPARTEMENT GESTION PRESTATIONS\STOCKS 2019\[Stocks Prestations 2019.xlsx]Sem "&INT((COLUMN()+3)/5)&"'!$J"&ROWS($1:6)) -> 0 | DZ5: =INDIRECT("'I:\Ociane\Services aux Adhérents\Services aux Adhérents par Centre de Gestion\0 Tous centres\DEPARTEMENT GESTION PRESTATIONS\STOCKS 2019\[Stocks Prestations 2019.xlsx]Sem "&INT((COLUMN()+3)/5)&"'!$N"&ROWS($1:6)) -> 0 | EA5: =INDIRECT("'I:\Ociane\Services aux Adhérents\Services aux Adhérents par Centre de Gestion\0 Tous centres\DEPARTEMENT GESTION PRESTATIONS\STOCKS 2019\[Stocks Prestations 2019.xlsx]Sem "&INT((COLUMN()+3)/5)&"'!$P"&ROWS($1:6)) -> 0 | EB5: =INDIRECT("'I:\Ociane\Services aux Adhérents\Services aux Adhérents par Centre de Gestion\0 Tous centres\DEPARTEMENT GESTION PRESTATIONS\STOCKS 2019\[Stocks Prestations 2019.xlsx]Sem "&INT((COLUMN()+3)/5)&"'!$H"&ROWS($1:6)) -> 0 | EC5: =INDIRECT("'I:\Ociane\Services aux Adhérents\Services aux Adhérents par Centre de Gestion\0 Tous centres\DEPARTEMENT GESTION PRESTATIONS\STOCKS 2019\[Stocks Prestations 2019.xlsx]Sem "&INT((COLUMN()+3)/5)&"'!$I"&ROWS($1:6)) -> 0 | ED5: =INDIRECT("'I:\Ociane\Services aux Adhérents\Services aux Adhérents par Centre de Gestion\0 Tous centres\DEPARTEMENT GESTION PRESTATIONS\STOCKS 2019\[Stocks Prestations 2019.xlsx]Sem "&INT((COLUMN()+3)/5)&"'!$J"&ROWS($1:6)) -> 0 | EE5: =INDIRECT("'I:\Ociane\Services aux Adhérents\Services aux Adhérents par Centre de Gestion\0 Tous centres\DEPARTEMENT GESTION PRESTATIONS\STOCKS 2019\[Stocks Prestations 2019.xlsx]Sem "&INT((COLUMN()+3)/5)&"'!$N"&ROWS($1:6)) -> 0 | EF5: =INDIRECT("'I:\Ociane\Services aux Adhérents\Services aux Adhérents par Centre de Gestion\0 Tous centres\DEPARTEMENT GESTION PRESTATIONS\STOCKS 2019\[Stocks Prestations 2019.xlsx]Sem "&INT((COLUMN()+3)/5)&"'!$P"&ROWS($1:6)) -> 0 | EG5: =INDIRECT("'I:\Ociane\Services aux Adhérents\Services aux Adhérents par Centre de Gestion\0 Tous centres\DEPARTEMENT GESTION PRESTATIONS\STOCKS 2019\[Stocks Prestations 2019.xlsx]Sem "&INT((COLUMN()+3)/5)&"'!$H"&ROWS($1:6)) -> 0 | EH5: =INDIRECT("'I:\Ociane\Services aux Adhérents\Services aux Adhérents par Centre de Gestion\0 Tous centres\DEPARTEMENT GESTION PRESTATIONS\STOCKS 2019\[Stocks Prestations 2019.xlsx]Sem "&INT((COLUMN()+3)/5)&"'!$I"&ROWS($1:6)) -> 0 | EI5: =INDIRECT("'I:\Ociane\Services aux Adhérents\Services aux Adhérents par Centre de Gestion\0 Tous centres\DEPARTEMENT GESTION PRESTATIONS\STOCKS 2019\[Stocks Prestations 2019.xlsx]Sem "&INT((COLUMN()+3)/5)&"'!$J"&ROWS($1:6)) -> 0 | EJ5: =INDIRECT("'I:\Ociane\Services aux Adhérents\Services aux Adhérents par Centre de Gestion\0 Tous centres\DEPARTEMENT GESTION PRESTATIONS\STOCKS 2019\[Stocks Prestations 2019.xlsx]Sem "&INT((COLUMN()+3)/5)&"'!$N"&ROWS($1:6)) -> 0 | EK5: =INDIRECT("'I:\Ociane\Services aux Adhérents\Services aux Adhérents par Centre de Gestion\0 Tous centres\DEPARTEMENT GESTION PRESTATIONS\STOCKS 2019\[Stocks Prestations 2019.xlsx]Sem "&INT((COLUMN()+3)/5)&"'!$P"&ROWS($1:6)) -> 0 | EL5: =INDIRECT("'I:\Ociane\Services aux Adhérents\Services aux Adhérents par Centre de Gestion\0 Tous centres\DEPARTEMENT GESTION PRESTATIONS\STOCKS 2019\[Stocks Prestations 2019.xlsx]Sem "&INT((COLUMN()+3)/5)&"'!$H"&ROWS($1:6)) -> 0 | EM5: =INDIRECT("'I:\Ociane\Services aux Adhérents\Services aux Adhérents par Centre de Gestion\0 Tous centres\DEPARTEMENT GESTION PRESTATIONS\STOCKS 2019\[Stocks Prestations 2019.xlsx]Sem "&INT((COLUMN()+3)/5)&"'!$I"&ROWS($1:6)) -> 0 | EN5: =INDIRECT("'I:\Ociane\Services aux Adhérents\Services aux Adhérents par Centre de Gestion\0 Tous centres\DEPARTEMENT GESTION PRESTATIONS\STOCKS 2019\[Stocks Prestations 2019.xlsx]Sem "&INT((COLUMN()+3)/5)&"'!$J"&ROWS($1:6)) -> 0 | EO5: =INDIRECT("'I:\Ociane\Services aux Adhérents\Services aux Adhérents par Centre de Gestion\0 Tous centres\DEPARTEMENT GESTION PRESTATIONS\STOCKS 2019\[Stocks Prestations 2019.xlsx]Sem "&INT((COLUMN()+3)/5)&"'!$N"&ROWS($1:6)) -> 0 | EP5: =INDIRECT("'I:\Ociane\Services aux Adhérents\Services aux Adhérents par Centre de Gestion\0 Tous centres\DEPARTEMENT GESTION PRESTATIONS\STOCKS 2019\[Stocks Prestations 2019.xlsx]Sem "&INT((COLUMN()+3)/5)&"'!$P"&ROWS($1:6)) -> 0 | EQ5: =INDIRECT("'I:\Ociane\Services aux Adhérents\Services aux Adhérents par Centre de Gestion\0 Tous centres\DEPARTEMENT GESTION PRESTATIONS\STOCKS 2019\[Stocks Prestations 2019.xlsx]Sem "&INT((COLUMN()+3)/5)&"'!$H"&ROWS($1:6)) -> 0 | ER5: =INDIRECT("'I:\Ociane\Services aux Adhérents\Services aux Adhérents par Centre de Gestion\0 Tous centres\DEPARTEMENT GESTION PRESTATIONS\STOCKS 2019\[Stocks Prestations 2019.xlsx]Sem "&INT((COLUMN()+3)/5)&"'!$I"&ROWS($1:6)) -> 0 | ES5: =INDIRECT("'I:\Ociane\Services aux Adhérents\Services aux Adhérents par Centre de Gestion\0 Tous centres\DEPARTEMENT GESTION PRESTATIONS\STOCKS 2019\[Stocks Prestations 2019.xlsx]Sem "&INT((COLUMN()+3)/5)&"'!$J"&ROWS($1:6)) -> 0 | ET5: =INDIRECT("'I:\Ociane\Services aux Adhérents\Services aux Adhérents par Centre de Gestion\0 Tous centres\DEPARTEMENT GESTION PRESTATIONS\STOCKS 2019\[Stocks Prestations 2019.xlsx]Sem "&INT((COLUMN()+3)/5)&"'!$N"&ROWS($1:6)) -> 0 | EU5: =INDIRECT("'I:\Ociane\Services aux Adhérents\Services aux Adhérents par Centre de Gestion\0 Tous centres\DEPARTEMENT GESTION PRESTATIONS\STOCKS 2019\[Stocks Prestations 2019.xlsx]Sem "&INT((COLUMN()+3)/5)&"'!$P"&ROWS($1:6)) -> 0 | EV5: =INDIRECT("'I:\Ociane\Services aux Adhérents\Services aux Adhérents par Centre de Gestion\0 Tous centres\DEPARTEMENT GESTION PRESTATIONS\STOCKS 2019\[Stocks Prestations 2019.xlsx]Sem "&INT((COLUMN()+3)/5)&"'!$H"&ROWS($1:6)) -> 0 | EW5: =INDIRECT("'I:\Ociane\Services aux Adhérents\Services aux Adhérents par Centre de Gestion\0 Tous centres\DEPARTEMENT GESTION PRESTATIONS\STOCKS 2019\[Stocks Prestations 2019.xlsx]Sem "&INT((COLUMN()+3)/5)&"'!$I"&ROWS($1:6)) -> 0 | EX5: =INDIRECT("'I:\Ociane\Services aux Adhérents\Services aux Adhérents par Centre de Gestion\0 Tous centres\DEPARTEMENT GESTION PRESTATIONS\STOCKS 2019\[Stocks Prestations 2019.xlsx]Sem "&INT((COLUMN()+3)/5)&"'!$J"&ROWS($1:6)) -> 0 | EY5: =INDIRECT("'I:\Ociane\Services aux Adhérents\Services aux Adhérents par Centre de Gestion\0 Tous centres\DEPARTEMENT GESTION PRESTATIONS\STOCKS 2019\[Stocks Prestations 2019.xlsx]Sem "&INT((COLUMN()+3)/5)&"'!$N"&ROWS($1:6)) -> 0 | EZ5: =INDIRECT("'I:\Ociane\Services aux Adhérents\Services aux Adhérents par Centre de Gestion\0 Tous centres\DEPARTEMENT GESTION PRESTATIONS\STOCKS 2019\[Stocks Prestations 2019.xlsx]Sem "&INT((COLUMN()+3)/5)&"'!$P"&ROWS($1:6)) -> 0 | FA5: =INDIRECT("'I:\Ociane\Services aux Adhérents\Services aux Adhérents par Centre de Gestion\0 Tous centres\DEPARTEMENT GESTION PRESTATIONS\STOCKS 2019\[Stocks Prestations 2019.xlsx]Sem "&INT((COLUMN()+3)/5)&"'!$H"&ROWS($1:6)) -> 0 | FB5: =INDIRECT("'I:\Ociane\Services aux Adhérents\Services aux Adhérents par Centre de Gestion\0 Tous centres\DEPARTEMENT GESTION PRESTATIONS\STOCKS 2019\[Stocks Prestations 2019.xlsx]Sem "&INT((COLUMN()+3)/5)&"'!$I"&ROWS($1:6)) -> 0 | FC5: =INDIRECT("'I:\Ociane\Services aux Adhérents\Services aux Adhérents par Centre de Gestion\0 Tous centres\DEPARTEMENT GESTION PRESTATIONS\STOCKS 2019\[Stocks Prestations 2019.xlsx]Sem "&INT((COLUMN()+3)/5)&"'!$J"&ROWS($1:6)) -> 0 | FD5: =INDIRECT("'I:\Ociane\Services aux Adhérents\Services aux Adhérents par Centre de Gestion\0 Tous centres\DEPARTEMENT GESTION PRESTATIONS\STOCKS 2019\[Stocks Prestations 2019.xlsx]Sem "&INT((COLUMN()+3)/5)&"'!$N"&ROWS($1:6)) -> 0 | FE5: =INDIRECT("'I:\Ociane\Services aux Adhérents\Services aux Adhérents par Centre de Gestion\0 Tous centres\DEPARTEMENT GESTION PRESTATIONS\STOCKS 2019\[Stocks Prestations 2019.xlsx]Sem "&INT((COLUMN()+3)/5)&"'!$P"&ROWS($1:6)) -> 0 | FF5: =INDIRECT("'I:\Ociane\Services aux Adhérents\Services aux Adhérents par Centre de Gestion\0 Tous centres\DEPARTEMENT GESTION PRESTATIONS\STOCKS 2019\[Stocks Prestations 2019.xlsx]Sem "&INT((COLUMN()+3)/5)&"'!$H"&ROWS($1:6)) -> 0 | FG5: =INDIRECT("'I:\Ociane\Services aux Adhérents\Services aux Adhérents par Centre de Gestion\0 Tous centres\DEPARTEMENT GESTION PRESTATIONS\STOCKS 2019\[Stocks Prestations 2019.xlsx]Sem "&INT((COLUMN()+3)/5)&"'!$I"&ROWS($1:6)) -> 0 | FH5: =INDIRECT("'I:\Ociane\Services aux Adhérents\Services aux Adhérents par Centre de Gestion\0 Tous centres\DEPARTEMENT GESTION PRESTATIONS\STOCKS 2019\[Stocks Prestations 2019.xlsx]Sem "&INT((COLUMN()+3)/5)&"'!$J"&ROWS($1:6)) -> 0 | FI5: =INDIRECT("'I:\Ociane\Services aux Adhérents\Services aux Adhérents par Centre de Gestion\0 Tous centres\DEPARTEMENT GESTION PRESTATIONS\STOCKS 2019\[Stocks Prestations 2019.xlsx]Sem "&INT((COLUMN()+3)/5)&"'!$N"&ROWS($1:6)) -> 0 | FJ5: =INDIRECT("'I:\Ociane\Services aux Adhérents\Services aux Adhérents par Centre de Gestion\0 Tous centres\DEPARTEMENT GESTION PRESTATIONS\STOCKS 2019\[Stocks Prestations 2019.xlsx]Sem "&INT((COLUMN()+3)/5)&"'!$P"&ROWS($1:6)) -> 0 | FK5: =INDIRECT("'I:\Ociane\Services aux Adhérents\Services aux Adhérents par Centre de Gestion\0 Tous centres\DEPARTEMENT GESTION PRESTATIONS\STOCKS 2019\[Stocks Prestations 2019.xlsx]Sem "&INT((COLUMN()+3)/5)&"'!$H"&ROWS($1:6)) -> 0 | FL5: =INDIRECT("'I:\Ociane\Services aux Adhérents\Services aux Adhérents par Centre de Gestion\0 Tous centres\DEPARTEMENT GESTION PRESTATIONS\STOCKS 2019\[Stocks Prestations 2019.xlsx]Sem "&INT((COLUMN()+3)/5)&"'!$I"&ROWS($1:6)) -> 0 | FM5: =INDIRECT("'I:\Ociane\Services aux Adhérents\Services aux Adhérents par Centre de Gestion\0 Tous centres\DEPARTEMENT GESTION PRESTATIONS\STOCKS 2019\[Stocks Prestations 2019.xlsx]Sem "&INT((COLUMN()+3)/5)&"'!$J"&ROWS($1:6)) -> 0 | FN5: =INDIRECT("'I:\Ociane\Services aux Adhérents\Services aux Adhérents par Centre de Gestion\0 Tous centres\DEPARTEMENT GESTION PRESTATIONS\STOCKS 2019\[Stocks Prestations 2019.xlsx]Sem "&INT((COLUMN()+3)/5)&"'!$N"&ROWS($1:6)) -> 0 | FO5: =INDIRECT("'I:\Ociane\Services aux Adhérents\Services aux Adhérents par Centre de Gestion\0 Tous centres\DEPARTEMENT GESTION PRESTATIONS\STOCKS 2019\[Stocks Prestations 2019.xlsx]Sem "&INT((COLUMN()+3)/5)&"'!$P"&ROWS($1:6)) -> 0 | FP5: =INDIRECT("'I:\Ociane\Services aux Adhérents\Services aux Adhérents par Centre de Gestion\0 Tous centres\DEPARTEMENT GESTION PRESTATIONS\STOCKS 2019\[Stocks Prestations 2019.xlsx]Sem "&INT((COLUMN()+3)/5)&"'!$H"&ROWS($1:6)) -> 0 | FQ5: =INDIRECT("'I:\Ociane\Services aux Adhérents\Services aux Adhérents par Centre de Gestion\0 Tous centres\DEPARTEMENT GESTION PRESTATIONS\STOCKS 2019\[Stocks Prestations 2019.xlsx]Sem "&INT((COLUMN()+3)/5)&"'!$I"&ROWS($1:6)) -> 0 | FR5: =INDIRECT("'I:\Ociane\Services aux Adhérents\Services aux Adhérents par Centre de Gestion\0 Tous centres\DEPARTEMENT GESTION PRESTATIONS\STOCKS 2019\[Stocks Prestations 2019.xlsx]Sem "&INT((COLUMN()+3)/5)&"'!$J"&ROWS($1:6)) -> 0 | FS5: =INDIRECT("'I:\Ociane\Services aux Adhérents\Services aux Adhérents par Centre de Gestion\0 Tous centres\DEPARTEMENT GESTION PRESTATIONS\STOCKS 2019\[Stocks Prestations 2019.xlsx]Sem "&INT((COLUMN()+3)/5)&"'!$N"&ROWS($1:6)) -> 0 | FT5: =INDIRECT("'I:\Ociane\Services aux Adhérents\Services aux Adhérents par Centre de Gestion\0 Tous centres\DEPARTEMENT GESTION PRESTATIONS\STOCKS 2019\[Stocks Prestations 2019.xlsx]Sem "&INT((COLUMN()+3)/5)&"'!$P"&ROWS($1:6)) -> 0 | FU5: =INDIRECT("'I:\Ociane\Services aux Adhérents\Services aux Adhérents par Centre de Gestion\0 Tous centres\DEPARTEMENT GESTION PRESTATIONS\STOCKS 2019\[Stocks Prestations 2019.xlsx]Sem "&INT((COLUMN()+3)/5)&"'!$H"&ROWS($1:6)) -> 0 | FV5: =INDIRECT("'I:\Ociane\Services aux Adhérents\Services aux Adhérents par Centre de Gestion\0 Tous centres\DEPARTEMENT GESTION PRESTATIONS\STOCKS 2019\[Stocks Prestations 2019.xlsx]Sem "&INT((COLUMN()+3)/5)&"'!$I"&ROWS($1:6)) -> 0 | FW5: =INDIRECT("'I:\Ociane\Services aux Adhérents\Services aux Adhérents par Centre de Gestion\0 Tous centres\DEPARTEMENT GESTION PRESTATIONS\STOCKS 2019\[Stocks Prestations 2019.xlsx]Sem "&INT((COLUMN()+3)/5)&"'!$J"&ROWS($1:6)) -> 0 | FX5: =INDIRECT("'I:\Ociane\Services aux Adhérents\Services aux Adhérents par Centre de Gestion\0 Tous centres\DEPARTEMENT GESTION PRESTATIONS\STOCKS 2019\[Stocks Prestations 2019.xlsx]Sem "&INT((COLUMN()+3)/5)&"'!$N"&ROWS($1:6)) -> 0 | FY5: =INDIRECT("'I:\Ociane\Services aux Adhérents\Services aux Adhérents par Centre de Gestion\0 Tous centres\DEPARTEMENT GESTION PRESTATIONS\STOCKS 2019\[Stocks Prestations 2019.xlsx]Sem "&INT((COLUMN()+3)/5)&"'!$P"&ROWS($1:6)) -> 0 | FZ5: =INDIRECT("'I:\Ociane\Services aux Adhérents\Services aux Adhérents par Centre de Gestion\0 Tous centres\DEPARTEMENT GESTION PRESTATIONS\STOCKS 2019\[Stocks Prestations 2019.xlsx]Sem "&INT((COLUMN()+3)/5)&"'!$H"&ROWS($1:6)) -> 0 | GA5: =INDIRECT("'I:\Ociane\Services aux Adhérents\Services aux Adhérents par Centre de Gestion\0 Tous centres\DEPARTEMENT GESTION PRESTATIONS\STOCKS 2019\[Stocks Prestations 2019.xlsx]Sem "&INT((COLUMN()+3)/5)&"'!$I"&ROWS($1:6)) -> 0 | GB5: =INDIRECT("'I:\Ociane\Services aux Adhérents\Services aux Adhérents par Centre de Gestion\0 Tous centres\DEPARTEMENT GESTION PRESTATIONS\STOCKS 2019\[Stocks Prestations 2019.xlsx]Sem "&INT((COLUMN()+3)/5)&"'!$J"&ROWS($1:6)) -> 0 | GC5: =INDIRECT("'I:\Ociane\Services aux Adhérents\Services aux Adhérents par Centre de Gestion\0 Tous centres\DEPARTEMENT GESTION PRESTATIONS\STOCKS 2019\[Stocks Prestations 2019.xlsx]Sem "&INT((COLUMN()+3)/5)&"'!$N"&ROWS($1:6)) -> 0 | GD5: =INDIRECT("'I:\Ociane\Services aux Adhérents\Services aux Adhérents par Centre de Gestion\0 Tous centres\DEPARTEMENT GESTION PRESTATIONS\STOCKS 2019\[Stocks Prestations 2019.xlsx]Sem "&INT((COLUMN()+3)/5)&"'!$P"&ROWS($1:6)) -> 0 | GE5: =INDIRECT("'I:\Ociane\Services aux Adhérents\Services aux Adhérents par Centre de Gestion\0 Tous centres\DEPARTEMENT GESTION PRESTATIONS\STOCKS 2019\[Stocks Prestations 2019.xlsx]Sem "&INT((COLUMN()+3)/5)&"'!$H"&ROWS($1:6)) -> 0 | GF5: =INDIRECT("'I:\Ociane\Services aux Adhérents\Services aux Adhérents par Centre de Gestion\0 Tous centres\DEPARTEMENT GESTION PRESTATIONS\STOCKS 2019\[Stocks Prestations 2019.xlsx]Sem "&INT((COLUMN()+3)/5)&"'!$I"&ROWS($1:6)) -> 0 | GG5: =INDIRECT("'I:\Ociane\Services aux Adhérents\Services aux Adhérents par Centre de Gestion\0 Tous centres\DEPARTEMENT GESTION PRESTATIONS\STOCKS 2019\[Stocks Prestations 2019.xlsx]Sem "&INT((COLUMN()+3)/5)&"'!$J"&ROWS($1:6)) -> 0 | GH5: =INDIRECT("'I:\Ociane\Services aux Adhérents\Services aux Adhérents par Centre de Gestion\0 Tous centres\DEPARTEMENT GESTION PRESTATIONS\STOCKS 2019\[Stocks Prestations 2019.xlsx]Sem "&INT((COLUMN()+3)/5)&"'!$N"&ROWS($1:6)) -> 0 | GI5: =INDIRECT("'I:\Ociane\Services aux Adhérents\Services aux Adhérents par Centre de Gestion\0 Tous centres\DEPARTEMENT GESTION PRESTATIONS\STOCKS 2019\[Stocks Prestations 2019.xlsx]Sem "&INT((COLUMN()+3)/5)&"'!$P"&ROWS($1:6)) -> 0 | GJ5: =INDIRECT("'I:\Ociane\Services aux Adhérents\Services aux Adhérents par Centre de Gestion\0 Tous centres\DEPARTEMENT GESTION PRESTATIONS\STOCKS 2019\[Stocks Prestations 2019.xlsx]Sem "&INT((COLUMN()+3)/5)&"'!$H"&ROWS($1:6)) -> 0 | GK5: =INDIRECT("'I:\Ociane\Services aux Adhérents\Services aux Adhérents par Centre de Gestion\0 Tous centres\DEPARTEMENT GESTION PRESTATIONS\STOCKS 2019\[Stocks Prestations 2019.xlsx]Sem "&INT((COLUMN()+3)/5)&"'!$I"&ROWS($1:6)) -> 0 | GL5: =INDIRECT("'I:\Ociane\Services aux Adhérents\Services aux Adhérents par Centre de Gestion\0 Tous centres\DEPARTEMENT GESTION PRESTATIONS\STOCKS 2019\[Stocks Prestations 2019.xlsx]Sem "&INT((COLUMN()+3)/5)&"'!$J"&ROWS($1:6)) -> 0 | GM5: =INDIRECT("'I:\Ociane\Services aux Adhérents\Services aux Adhérents par Centre de Gestion\0 Tous centres\DEPARTEMENT GESTION PRESTATIONS\STOCKS 2019\[Stocks Prestations 2019.xlsx]Sem "&INT((COLUMN()+3)/5)&"'!$N"&ROWS($1:6)) -> 0 | GN5: =INDIRECT("'I:\Ociane\Services aux Adhérents\Services aux Adhérents par Centre de Gestion\0 Tous centres\DEPARTEMENT GESTION PRESTATIONS\STOCKS 2019\[Stocks Prestations 2019.xlsx]Sem "&INT((COLUMN()+3)/5)&"'!$P"&ROWS($1:6)) -> 0 | GO5: =INDIRECT("'I:\Ociane\Services aux Adhérents\Services aux Adhérents par Centre de Gestion\0 Tous centres\DEPARTEMENT GESTION PRESTATIONS\STOCKS 2019\[Stocks Prestations 2019.xlsx]Sem "&INT((COLUMN()+3)/5)&"'!$H"&ROWS($1:6)) -> 0 | GP5: =INDIRECT("'I:\Ociane\Services aux Adhérents\Services aux Adhérents par Centre de Gestion\0 Tous centres\DEPARTEMENT GESTION PRESTATIONS\STOCKS 2019\[Stocks Prestations 2019.xlsx]Sem "&INT((COLUMN()+3)/5)&"'!$I"&ROWS($1:6)) -> 0 | GQ5: =INDIRECT("'I:\Ociane\Services aux Adhérents\Services aux Adhérents par Centre de Gestion\0 Tous centres\DEPARTEMENT GESTION PRESTATIONS\STOCKS 2019\[Stocks Prestations 2019.xlsx]Sem "&INT((COLUMN()+3)/5)&"'!$J"&ROWS($1:6)) -> 0 | GR5: =INDIRECT("'I:\Ociane\Services aux Adhérents\Services aux Adhérents par Centre de Gestion\0 Tous centres\DEPARTEMENT GESTION PRESTATIONS\STOCKS 2019\[Stocks Prestations 2019.xlsx]Sem "&INT((COLUMN()+3)/5)&"'!$N"&ROWS($1:6)) -> 0 | GS5: =INDIRECT("'I:\Ociane\Services aux Adhérents\Services aux Adhérents par Centre de Gestion\0 Tous centres\DEPARTEMENT GESTION PRESTATIONS\STOCKS 2019\[Stocks Prestations 2019.xlsx]Sem "&INT((COLUMN()+3)/5)&"'!$P"&ROWS($1:6)) -> 0 | GT5: =INDIRECT("'I:\Ociane\Services aux Adhérents\Services aux Adhérents par Centre de Gestion\0 Tous centres\DEPARTEMENT GESTION PRESTATIONS\STOCKS 2019\[Stocks Prestations 2019.xlsx]Sem "&INT((COLUMN()+3)/5)&"'!$H"&ROWS($1:6)) -> 0 | GU5: =INDIRECT("'I:\Ociane\Services aux Adhérents\Services aux Adhérents par Centre de Gestion\0 Tous centres\DEPARTEMENT GESTION PRESTATIONS\STOCKS 2019\[Stocks Prestations 2019.xlsx]Sem "&INT((COLUMN()+3)/5)&"'!$I"&ROWS($1:6)) -> 0 | GV5: =INDIRECT("'I:\Ociane\Services aux Adhérents\Services aux Adhérents par Centre de Gestion\0 Tous centres\DEPARTEMENT GESTION PRESTATIONS\STOCKS 2019\[Stocks Prestations 2019.xlsx]Sem "&INT((COLUMN()+3)/5)&"'!$J"&ROWS($1:6)) -> 0 | GW5: =INDIRECT("'I:\Ociane\Services aux Adhérents\Services aux Adhérents par Centre de Gestion\0 Tous centres\DEPARTEMENT GESTION PRESTATIONS\STOCKS 2019\[Stocks Prestations 2019.xlsx]Sem "&INT((COLUMN()+3)/5)&"'!$N"&ROWS($1:6)) -> 0 | GX5: =INDIRECT("'I:\Ociane\Services aux Adhérents\Services aux Adhérents par Centre de Gestion\0 Tous centres\DEPARTEMENT GESTION PRESTATIONS\STOCKS 2019\[Stocks Prestations 2019.xlsx]Sem "&INT((COLUMN()+3)/5)&"'!$P"&ROWS($1:6)) -> 0 | GY5: =INDIRECT("'I:\Ociane\Services aux Adhérents\Services aux Adhérents par Centre de Gestion\0 Tous centres\DEPARTEMENT GESTION PRESTATIONS\STOCKS 2019\[Stocks Prestations 2019.xlsx]Sem "&INT((COLUMN()+3)/5)&"'!$H"&ROWS($1:6)) -> 0 | GZ5: =INDIRECT("'I:\Ociane\Services aux Adhérents\Services aux Adhérents par Centre de Gestion\0 Tous centres\DEPARTEMENT GESTION PRESTATIONS\STOCKS 2019\[Stocks Prestations 2019.xlsx]Sem "&INT((COLUMN()+3)/5)&"'!$I"&ROWS($1:6)) -> 0 | HA5: =INDIRECT("'I:\Ociane\Services aux Adhérents\Services aux Adhérents par Centre de Gestion\0 Tous centres\DEPARTEMENT GESTION PRESTATIONS\STOCKS 2019\[Stocks Prestations 2019.xlsx]Sem "&INT((COLUMN()+3)/5)&"'!$J"&ROWS($1:6)) -> 0 | HB5: =INDIRECT("'I:\Ociane\Services aux Adhérents\Services aux Adhérents par Centre de Gestion\0 Tous centres\DEPARTEMENT GESTION PRESTATIONS\STOCKS 2019\[Stocks Prestations 2019.xlsx]Sem "&INT((COLUMN()+3)/5)&"'!$N"&ROWS($1:6)) -> 0 | HC5: =INDIRECT("'I:\Ociane\Services aux Adhérents\Services aux Adhérents par Centre de Gestion\0 Tous centres\DEPARTEMENT GESTION PRESTATIONS\STOCKS 2019\[Stocks Prestations 2019.xlsx]Sem "&INT((COLUMN()+3)/5)&"'!$P"&ROWS($1:6)) -> 0 | HD5: =INDIRECT("'I:\Ociane\Services aux Adhérents\Services aux Adhérents par Centre de Gestion\0 Tous centres\DEPARTEMENT GESTION PRESTATIONS\STOCKS 2019\[Stocks Prestations 2019.xlsx]Sem "&INT((COLUMN()+3)/5)&"'!$H"&ROWS($1:6)) -> 0 | HE5: =INDIRECT("'I:\Ociane\Services aux Adhérents\Services aux Adhérents par Centre de Gestion\0 Tous centres\DEPARTEMENT GESTION PRESTATIONS\STOCKS 2019\[Stocks Prestations 2019.xlsx]Sem "&INT((COLUMN()+3)/5)&"'!$I"&ROWS($1:6)) -> 0 | HF5: =INDIRECT("'I:\Ociane\Services aux Adhérents\Services aux Adhérents par Centre de Gestion\0 Tous centres\DEPARTEMENT GESTION PRESTATIONS\STOCKS 2019\[Stocks Prestations 2019.xlsx]Sem "&INT((COLUMN()+3)/5)&"'!$J"&ROWS($1:6)) -> 0 | HG5: =INDIRECT("'I:\Ociane\Services aux Adhérents\Services aux Adhérents par Centre de Gestion\0 Tous centres\DEPARTEMENT GESTION PRESTATIONS\STOCKS 2019\[Stocks Prestations 2019.xlsx]Sem "&INT((COLUMN()+3)/5)&"'!$N"&ROWS($1:6)) -> 0 | HH5: =INDIRECT("'I:\Ociane\Services aux Adhérents\Services aux Adhérents par Centre de Gestion\0 Tous centres\DEPARTEMENT GESTION PRESTATIONS\STOCKS 2019\[Stocks Prestations 2019.xlsx]Sem "&INT((COLUMN()+3)/5)&"'!$P"&ROWS($1:6)) -> 0 | HI5: =INDIRECT("'I:\Ociane\Services aux Adhérents\Services aux Adhérents par Centre de Gestion\0 Tous centres\DEPARTEMENT GESTION PRESTATIONS\STOCKS 2019\[Stocks Prestations 2019.xlsx]Sem "&INT((COLUMN()+3)/5)&"'!$H"&ROWS($1:6)) -> 0 | HJ5: =INDIRECT("'I:\Ociane\Services aux Adhérents\Services aux Adhérents par Centre de Gestion\0 Tous centres\DEPARTEMENT GESTION PRESTATIONS\STOCKS 2019\[Stocks Prestations 2019.xlsx]Sem "&INT((COLUMN()+3)/5)&"'!$I"&ROWS($1:6)) -> 0 | HK5: =INDIRECT("'I:\Ociane\Services aux Adhérents\Services aux Adhérents par Centre de Gestion\0 Tous centres\DEPARTEMENT GESTION PRESTATIONS\STOCKS 2019\[Stocks Prestations 2019.xlsx]Sem "&INT((COLUMN()+3)/5)&"'!$J"&ROWS($1:6)) -> 0 | HL5: =INDIRECT("'I:\Ociane\Services aux Adhérents\Services aux Adhérents par Centre de Gestion\0 Tous centres\DEPARTEMENT GESTION PRESTATIONS\STOCKS 2019\[Stocks Prestations 2019.xlsx]Sem "&INT((COLUMN()+3)/5)&"'!$N"&ROWS($1:6)) -> 0 | HM5: =INDIRECT("'I:\Ociane\Services aux Adhérents\Services aux Adhérents par Centre de Gestion\0 Tous centres\DEPARTEMENT GESTION PRESTATIONS\STOCKS 2019\[Stocks Prestations 2019.xlsx]Sem "&INT((COLUMN()+3)/5)&"'!$P"&ROWS($1:6)) -> 0 | HN5: =INDIRECT("'I:\Ociane\Services aux Adhérents\Services aux Adhérents par Centre de Gestion\0 Tous centres\DEPARTEMENT GESTION PRESTATIONS\STOCKS 2019\[Stocks Prestations 2019.xlsx]Sem "&INT((COLUMN()+3)/5)&"'!$H"&ROWS($1:6)) -> 0 | HO5: =INDIRECT("'I:\Ociane\Services aux Adhérents\Services aux Adhérents par Centre de Gestion\0 Tous centres\DEPARTEMENT GESTION PRESTATIONS\STOCKS 2019\[Stocks Prestations 2019.xlsx]Sem "&INT((COLUMN()+3)/5)&"'!$I"&ROWS($1:6)) -> 0 | HP5: =INDIRECT("'I:\Ociane\Services aux Adhérents\Services aux Adhérents par Centre de Gestion\0 Tous centres\DEPARTEMENT GESTION PRESTATIONS\STOCKS 2019\[Stocks Prestations 2019.xlsx]Sem "&INT((COLUMN()+3)/5)&"'!$J"&ROWS($1:6)) -> 0 | HQ5: =INDIRECT("'I:\Ociane\Services aux Adhérents\Services aux Adhérents par Centre de Gestion\0 Tous centres\DEPARTEMENT GESTION PRESTATIONS\STOCKS 2019\[Stocks Prestations 2019.xlsx]Sem "&INT((COLUMN()+3)/5)&"'!$N"&ROWS($1:6)) -> 0 | HR5: =INDIRECT("'I:\Ociane\Services aux Adhérents\Services aux Adhérents par Centre de Gestion\0 Tous centres\DEPARTEMENT GESTION PRESTATIONS\STOCKS 2019\[Stocks Prestations 2019.xlsx]Sem "&INT((COLUMN()+3)/5)&"'!$P"&ROWS($1:6)) -> 0 | HS5: =INDIRECT("'I:\Ociane\Services aux Adhérents\Services aux Adhérents par Centre de Gestion\0 Tous centres\DEPARTEMENT GESTION PRESTATIONS\STOCKS 2019\[Stocks Prestations 2019.xlsx]Sem "&INT((COLUMN()+3)/5)&"'!$H"&ROWS($1:6)) -> 0 | HT5: =INDIRECT("'I:\Ociane\Services aux Adhérents\Services aux Adhérents par Centre de Gestion\0 Tous centres\DEPARTEMENT GESTION PRESTATIONS\STOCKS 2019\[Stocks Prestations 2019.xlsx]Sem "&INT((COLUMN()+3)/5)&"'!$I"&ROWS($1:6)) -> 0 | HU5: =INDIRECT("'I:\Ociane\Services aux Adhérents\Services aux Adhérents par Centre de Gestion\0 Tous centres\DEPARTEMENT GESTION PRESTATIONS\STOCKS 2019\[Stocks Prestations 2019.xlsx]Sem "&INT((COLUMN()+3)/5)&"'!$J"&ROWS($1:6)) -> 0 | HV5: =INDIRECT("'I:\Ociane\Services aux Adhérents\Services aux Adhérents par Centre de Gestion\0 Tous centres\DEPARTEMENT GESTION PRESTATIONS\STOCKS 2019\[Stocks Prestations 2019.xlsx]Sem "&INT((COLUMN()+3)/5)&"'!$N"&ROWS($1:6)) -> 0 | HW5: =INDIRECT("'I:\Ociane\Services aux Adhérents\Services aux Adhérents par Centre de Gestion\0 Tous centres\DEPARTEMENT GESTION PRESTATIONS\STOCKS 2019\[Stocks Prestations 2019.xlsx]Sem "&INT((COLUMN()+3)/5)&"'!$P"&ROWS($1:6)) -> 0 | HX5: =INDIRECT("'I:\Ociane\Services aux Adhérents\Services aux Adhérents par Centre de Gestion\0 Tous centres\DEPARTEMENT GESTION PRESTATIONS\STOCKS 2019\[Stocks Prestations 2019.xlsx]Sem "&INT((COLUMN()+3)/5)&"'!$H"&ROWS($1:6)) -> 0 | HY5: =INDIRECT("'I:\Ociane\Services aux Adhérents\Services aux Adhérents par Centre de Gestion\0 Tous centres\DEPARTEMENT GESTION PRESTATIONS\STOCKS 2019\[Stocks Prestations 2019.xlsx]Sem "&INT((COLUMN()+3)/5)&"'!$I"&ROWS($1:6)) -> 0 | HZ5: =INDIRECT("'I:\Ociane\Services aux Adhérents\Services aux Adhérents par Centre de Gestion\0 Tous centres\DEPARTEMENT GESTION PRESTATIONS\STOCKS 2019\[Stocks Prestations 2019.xlsx]Sem "&INT((COLUMN()+3)/5)&"'!$J"&ROWS($1:6)) -> 0 | IA5: =INDIRECT("'I:\Ociane\Services aux Adhérents\Services aux Adhérents par Centre de Gestion\0 Tous centres\DEPARTEMENT GESTION PRESTATIONS\STOCKS 2019\[Stocks Prestations 2019.xlsx]Sem "&INT((COLUMN()+3)/5)&"'!$N"&ROWS($1:6)) -> 0 | IB5: =INDIRECT("'I:\Ociane\Services aux Adhérents\Services aux Adhérents par Centre de Gestion\0 Tous centres\DEPARTEMENT GESTION PRESTATIONS\STOCKS 2019\[Stocks Prestations 2019.xlsx]Sem "&INT((COLUMN()+3)/5)&"'!$P"&ROWS($1:6)) -> 0 | IC5: =INDIRECT("'I:\Ociane\Services aux Adhérents\Services aux Adhérents par Centre de Gestion\0 Tous centres\DEPARTEMENT GESTION PRESTATIONS\STOCKS 2019\[Stocks Prestations 2019.xlsx]Sem "&INT((COLUMN()+3)/5)&"'!$H"&ROWS($1:6)) -> 0 | ID5: =INDIRECT("'I:\Ociane\Services aux Adhérents\Services aux Adhérents par Centre de Gestion\0 Tous centres\DEPARTEMENT GESTION PRESTATIONS\STOCKS 2019\[Stocks Prestations 2019.xlsx]Sem "&INT((COLUMN()+3)/5)&"'!$I"&ROWS($1:6)) -> 0 | IE5: =INDIRECT("'I:\Ociane\Services aux Adhérents\Services aux Adhérents par Centre de Gestion\0 Tous centres\DEPARTEMENT GESTION PRESTATIONS\STOCKS 2019\[Stocks Prestations 2019.xlsx]Sem "&INT((COLUMN()+3)/5)&"'!$J"&ROWS($1:6)) -> 0 | IF5: =INDIRECT("'I:\Ociane\Services aux Adhérents\Services aux Adhérents par Centre de Gestion\0 Tous centres\DEPARTEMENT GESTION PRESTATIONS\STOCKS 2019\[Stocks Prestations 2019.xlsx]Sem "&INT((COLUMN()+3)/5)&"'!$N"&ROWS($1:6)) -> 0 | IG5: =INDIRECT("'I:\Ociane\Services aux Adhérents\Services aux Adhérents par Centre de Gestion\0 Tous centres\DEPARTEMENT GESTION PRESTATIONS\STOCKS 2019\[Stocks Prestations 2019.xlsx]Sem "&INT((COLUMN()+3)/5)&"'!$P"&ROWS($1:6)) -> 0 | IH5: =INDIRECT("'I:\Ociane\Services aux Adhérents\Services aux Adhérents par Centre de Gestion\0 Tous centres\DEPARTEMENT GESTION PRESTATIONS\STOCKS 2019\[Stocks Prestations 2019.xlsx]Sem "&INT((COLUMN()+3)/5)&"'!$H"&ROWS($1:6)) -> 0 | II5: =INDIRECT("'I:\Ociane\Services aux Adhérents\Services aux Adhérents par Centre de Gestion\0 Tous centres\DEPARTEMENT GESTION PRESTATIONS\STOCKS 2019\[Stocks Prestations 2019.xlsx]Sem "&INT((COLUMN()+3)/5)&"'!$I"&ROWS($1:6)) -> 0 | IJ5: =INDIRECT("'I:\Ociane\Services aux Adhérents\Services aux Adhérents par Centre de Gestion\0 Tous centres\DEPARTEMENT GESTION PRESTATIONS\STOCKS 2019\[Stocks Prestations 2019.xlsx]Sem "&INT((COLUMN()+3)/5)&"'!$J"&ROWS($1:6)) -> 0 | IK5: =INDIRECT("'I:\Ociane\Services aux Adhérents\Services aux Adhérents par Centre de Gestion\0 Tous centres\DEPARTEMENT GESTION PRESTATIONS\STOCKS 2019\[Stocks Prestations 2019.xlsx]Sem "&INT((COLUMN()+3)/5)&"'!$N"&ROWS($1:6)) -> 0 | IL5: =INDIRECT("'I:\Ociane\Services aux Adhérents\Services aux Adhérents par Centre de Gestion\0 Tous centres\DEPARTEMENT GESTION PRESTATIONS\STOCKS 2019\[Stocks Prestations 2019.xlsx]Sem "&INT((COLUMN()+3)/5)&"'!$P"&ROWS($1:6)) -> 0 | IM5: =INDIRECT("'I:\Ociane\Services aux Adhérents\Services aux Adhérents par Centre de Gestion\0 Tous centres\DEPARTEMENT GESTION PRESTATIONS\STOCKS 2019\[Stocks Prestations 2019.xlsx]Sem "&INT((COLUMN()+3)/5)&"'!$H"&ROWS($1:6)) -> 0 | IN5: =INDIRECT("'I:\Ociane\Services aux Adhérents\Services aux Adhérents par Centre de Gestion\0 Tous centres\DEPARTEMENT GESTION PRESTATIONS\STOCKS 2019\[Stocks Prestations 2019.xlsx]Sem "&INT((COLUMN()+3)/5)&"'!$I"&ROWS($1:6)) -> 0 | IO5: =INDIRECT("'I:\Ociane\Services aux Adhérents\Services aux Adhérents par Centre de Gestion\0 Tous centres\DEPARTEMENT GESTION PRESTATIONS\STOCKS 2019\[Stocks Prestations 2019.xlsx]Sem "&INT((COLUMN()+3)/5)&"'!$J"&ROWS($1:6)) -> 0 | IP5: =INDIRECT("'I:\Ociane\Services aux Adhérents\Services aux Adhérents par Centre de Gestion\0 Tous centres\DEPARTEMENT GESTION PRESTATIONS\STOCKS 2019\[Stocks Prestations 2019.xlsx]Sem "&INT((COLUMN()+3)/5)&"'!$N"&ROWS($1:6)) -> 0 | IQ5: =INDIRECT("'I:\Ociane\Services aux Adhérents\Services aux Adhérents par Centre de Gestion\0 Tous centres\DEPARTEMENT GESTION PRESTATIONS\STOCKS 2019\[Stocks Prestations 2019.xlsx]Sem "&INT((COLUMN()+3)/5)&"'!$P"&ROWS($1:6)) -> 0 | IR5: =INDIRECT("'I:\Ociane\Services aux Adhérents\Services aux Adhérents par Centre de Gestion\0 Tous centres\DEPARTEMENT GESTION PRESTATIONS\STOCKS 2019\[Stocks Prestations 2019.xlsx]Sem "&INT((COLUMN()+3)/5)&"'!$H"&ROWS($1:6)) -> 0 | IS5: =INDIRECT("'I:\Ociane\Services aux Adhérents\Services aux Adhérents par Centre de Gestion\0 Tous centres\DEPARTEMENT GESTION PRESTATIONS\STOCKS 2019\[Stocks Prestations 2019.xlsx]Sem "&INT((COLUMN()+3)/5)&"'!$I"&ROWS($1:6)) -> 0 | IT5: =INDIRECT("'I:\Ociane\Services aux Adhérents\Services aux Adhérents par Centre de Gestion\0 Tous centres\DEPARTEMENT GESTION PRESTATIONS\STOCKS 2019\[Stocks Prestations 2019.xlsx]Sem "&INT((COLUMN()+3)/5)&"'!$J"&ROWS($1:6)) -> 0 | IU5: =INDIRECT("'I:\Ociane\Services aux Adhérents\Services aux Adhérents par Centre de Gestion\0 Tous centres\DEPARTEMENT GESTION PRESTATIONS\STOCKS 2019\[Stocks Prestations 2019.xlsx]Sem "&INT((COLUMN()+3)/5)&"'!$N"&ROWS($1:6)) -> 0 | IV5: =INDIRECT("'I:\Ociane\Services aux Adhérents\Services aux Adhérents par Centre de Gestion\0 Tous centres\DEPARTEMENT GESTION PRESTATIONS\STOCKS 2019\[Stocks Prestations 2019.xlsx]Sem "&INT((COLUMN()+3)/5)&"'!$P"&ROWS($1:6)) -> 0 | IW5: =INDIRECT("'I:\Ociane\Services aux Adhérents\Services aux Adhérents par Centre de Gestion\0 Tous centres\DEPARTEMENT GESTION PRESTATIONS\STOCKS 2019\[Stocks Prestations 2019.xlsx]Sem "&INT((COLUMN()+3)/5)&"'!$H"&ROWS($1:6)) -> 0 | IX5: =INDIRECT("'I:\Ociane\Services aux Adhérents\Services aux Adhérents par Centre de Gestion\0 Tous centres\DEPARTEMENT GESTION PRESTATIONS\STOCKS 2019\[Stocks Prestations 2019.xlsx]Sem "&INT((COLUMN()+3)/5)&"'!$I"&ROWS($1:6)) -> 0 | IY5: =INDIRECT("'I:\Ociane\Services aux Adhérents\Services aux Adhérents par Centre de Gestion\0 Tous centres\DEPARTEMENT GESTION PRESTATIONS\STOCKS 2019\[Stocks Prestations 2019.xlsx]Sem "&INT((COLUMN()+3)/5)&"'!$J"&ROWS($1:6)) -> 0 | IZ5: =INDIRECT("'I:\Ociane\Services aux Adhérents\Services aux Adhérents par Centre de Gestion\0 Tous centres\DEPARTEMENT GESTION PRESTATIONS\STOCKS 2019\[Stocks Prestations 2019.xlsx]Sem "&INT((COLUMN()+3)/5)&"'!$N"&ROWS($1:6)) -> 0 | JA5: =INDIRECT("'I:\Ociane\Services aux Adhérents\Services aux Adhérents par Centre de Gestion\0 Tous centres\DEPARTEMENT GESTION PRESTATIONS\STOCKS 2019\[Stocks Prestations 2019.xlsx]Sem "&INT((COLUMN()+3)/5)&"'!$P"&ROWS($1:6)) -> 0 | JB5: =INDIRECT("'I:\Ociane\Services aux Adhérents\Services aux Adhérents par Centre de Gestion\0 Tous centres\DEPARTEMENT GESTION PRESTATIONS\STOCKS 2019\[Stocks Prestations 2019.xlsx]Sem "&INT((COLUMN()+3)/5)&"'!$H"&ROWS($1:6)) -> 0 | JC5: =INDIRECT("'I:\Ociane\Services aux Adhérents\Services aux Adhérents par Centre de Gestion\0 Tous centres\DEPARTEMENT GESTION PRESTATIONS\STOCKS 2019\[Stocks Prestations 2019.xlsx]Sem "&INT((COLUMN()+3)/5)&"'!$I"&ROWS($1:6)) -> 0 | JD5: =INDIRECT("'I:\Ociane\Services aux Adhérents\Services aux Adhérents par Centre de Gestion\0 Tous centres\DEPARTEMENT GESTION PRESTATIONS\STOCKS 2019\[Stocks Prestations 2019.xlsx]Sem "&INT((COLUMN()+3)/5)&"'!$J"&ROWS($1:6)) -> 0 | JE5: =INDIRECT("'I:\Ociane\Services aux Adhérents\Services aux Adhérents par Centre de Gestion\0 Tous centres\DEPARTEMENT GESTION PRESTATIONS\STOCKS 2019\[Stocks Prestations 2019.xlsx]Sem "&INT((COLUMN()+3)/5)&"'!$N"&ROWS($1:6)) -> 0 | JF5: =INDIRECT("'I:\Ociane\Services aux Adhérents\Services aux Adhérents par Centre de Gestion\0 Tous centres\DEPARTEMENT GESTION PRESTATIONS\STOCKS 2019\[Stocks Prestations 2019.xlsx]Sem "&INT((COLUMN()+3)/5)&"'!$P"&ROWS($1:6)) -> 0
A6: PS SV | B6: ='[1]Sem 1'!H9 -> 0 | C6: ='[1]Sem 1'!I9 -> 0 | D6: ='[1]Sem 1'!J9 -> 0 | E6: ='[1]Sem 1'!N9 -> 0 | F6: ='[1]Sem 1'!P9 -> 0 | G6: ='[1]Sem 2'!H9 -> 0 | H6: ='[1]Sem 2'!I9 -> 0 | I6: ='[1]Sem 2'!J9 -> 0 | J6: ='[1]Sem 2'!N9 -> #DIV/0! | K6: ='[1]Sem 2'!P9 -> 0 | L6: ='[1]Sem 3'!H9 -> 0 | M6: ='[1]Sem 3'!I9 -> 0 | N6: ='[1]Sem 3'!J9 -> 0 | O6: ='[1]Sem 3'!N9 -> #DIV/0! | P6: ='[1]Sem 1'!AI9 -> 0 | Q6: ='[1]Sem 4'!H9 -> 0 | R6: ='[1]Sem 4'!I9 -> 0 | S6: ='[1]Sem 4'!J9 -> 0 | T6: ='[1]Sem 4'!N9 -> #DIV/0! | U6: ='[1]Sem 4'!P9 -> 0 | V6: ='[1]Sem 5'!H9 -> 0 | W6: ='[1]Sem 5'!I9 -> 0 | X6: ='[1]Sem 5'!J9 -> 0 | Y6: ='[1]Sem 5'!N9 -> #DIV/0! | Z6: ='[1]Sem 5'!P9 -> 0 | AA6: ='[1]Sem 6'!H9 -> 0 | AB6: ='[1]Sem 6'!I9 -> 0 | AC6: ='[1]Sem 6'!J9 -> 0 | AD6: ='[1]Sem 6'!N9 -> #DIV/0! | AE6: ='[1]Sem 6'!P9 -> 0 | AF6: ='[1]Sem 7'!H9 -> 0 | AG6: ='[1]Sem 7'!I9 -> 0 | AH6: ='[1]Sem 7'!J9 -> 0 | AI6: ='[1]Sem 7'!N9 -> #DIV/0! | AJ6: ='[1]Sem 7'!P9 -> 0 | AK6: ='[1]Sem 8'!H9 -> 0 | AL6: ='[1]Sem 8'!I9 -> 0 | AM6: ='[1]Sem 8'!J9 -> 0 | AN6: ='[1]Sem 8'!N9 -> #DIV/0! | AO6: ='[1]Sem 8'!P9 -> 0 | AP6: ='[1]Sem 9'!H9 -> 0 | AQ6: ='[1]Sem 9'!I9 -> 0 | AR6: ='[1]Sem 9'!J9 -> 0 | AS6: ='[1]Sem 9'!N9 -> #DIV/0! | AT6: ='[1]Sem 9'!P9 -> 0 | AU6: ='[1]Sem 10'!H9 -> 0 | AV6: ='[1]Sem 10'!I9 -> 0 | AW6: ='[1]Sem 10'!J9 -> 0 | AX6: ='[1]Sem 10'!N9 -> #DIV/0! | AY6: ='[1]Sem 10'!P9 -> 0 | AZ6: ='[1]Sem 11'!H9 -> 0 | BA6: ='[1]Sem 11'!I9 -> 0 | BB6: ='[1]Sem 11'!J9 -> 0 | BC6: ='[1]Sem 11'!N9 -> #DIV/0! | BD6: ='[1]Sem 11'!P9 -> 0 | BE6: ='[1]Sem 12'!H9 -> 0 | BF6: ='[1]Sem 12'!I9 -> 0 | BG6: ='[1]Sem 12'!J9 -> 0 | BH6: ='[1]Sem 12'!N9 -> #DIV/0! | BI6: ='[1]Sem 12'!P9 -> 0 | BJ6: ='[1]Sem 13'!H9 -> 0 | BK6: ='[1]Sem 13'!I9 -> 0 | BL6: ='[1]Sem 13'!J9 -> 0 | BM6: ='[1]Sem 13'!N9 -> #DIV/0! | BN6: ='[1]Sem 13'!P9 -> 0 | BO6: ='[1]Sem 14'!H9 -> 0 | BP6: ='[1]Sem 14'!I9 -> 0 | BQ6: ='[1]Sem 14'!J9 -> 0 | BR6: ='[1]Sem 14'!N9 -> #DIV/0! | BS6: ='[1]Sem 14'!P9 -> 0 | BT6: ='[1]Sem 15'!H9 -> 0 | BU6: ='[1]Sem 15'!I9 -> 0 | BV6: ='[1]Sem 15'!J9 -> 0 | BW6: ='[1]Sem 15'!N9 -> #DIV/0! | BX6: ='[1]Sem 15'!P9 -> 0 | BY6: ='[1]Sem 16'!H9 -> 0 | BZ6: ='[1]Sem 16'!I9 -> 0 | CA6: ='[1]Sem 16'!J9 -> 0 | CB6: ='[1]Sem 16'!N9 -> #DIV/0! | CC6: ='[1]Sem 16'!P9 -> 0 | CD6: =INDIRECT("'I:\Ociane\Services aux Adhérents\Services aux Adhérents par Centre de Gestion\0 Tous centres\DEPARTEMENT GESTION PRESTATIONS\STOCKS 2019\[Stocks Prestations 2019.xlsx]Sem "&INT((COLUMN()+3)/5)&"'!$H"&ROWS($1:7)) -> 0 | CE6: =INDIRECT("'I:\Ociane\Services aux Adhérents\Services aux Adhérents par Centre de Gestion\0 Tous centres\DEPARTEMENT GESTION PRESTATIONS\STOCKS 2019\[Stocks Prestations 2019.xlsx]Sem "&INT((COLUMN()+3)/5)&"'!$I"&ROWS($1:7)) -> 0 | CF6: =INDIRECT("'I:\Ociane\Services aux Adhérents\Services aux Adhérents par Centre de Gestion\0 Tous centres\DEPARTEMENT GESTION PRESTATIONS\STOCKS 2019\[Stocks Prestations 2019.xlsx]Sem "&INT((COLUMN()+3)/5)&"'!$J"&ROWS($1:7)) -> 0 | CG6: =INDIRECT("'I:\Ociane\Services aux Adhérents\Services aux Adhérents par Centre de Gestion\0 Tous centres\DEPARTEMENT GESTION PRESTATIONS\STOCKS 2019\[Stocks Prestations 2019.xlsx]Sem "&INT((COLUMN()+3)/5)&"'!$N"&ROWS($1:7)) -> 0 | CH6: =INDIRECT("'I:\Ociane\Services aux Adhérents\Services aux Adhérents par Centre de Gestion\0 Tous centres\DEPARTEMENT GESTION PRESTATIONS\STOCKS 2019\[Stocks Prestations 2019.xlsx]Sem "&INT((COLUMN()+3)/5)&"'!$P"&ROWS($1:7)) -> 0 | CI6: =INDIRECT("'I:\Ociane\Services aux Adhérents\Services aux Adhérents par Centre de Gestion\0 Tous centres\DEPARTEMENT GESTION PRESTATIONS\STOCKS 2019\[Stocks Prestations 2019.xlsx]Sem "&INT((COLUMN()+3)/5)&"'!$H"&ROWS($1:7)) -> 0 | CJ6: =INDIRECT("'I:\Ociane\Services aux Adhérents\Services aux Adhérents par Centre de Gestion\0 Tous centres\DEPARTEMENT GESTION PRESTATIONS\STOCKS 2019\[Stocks Prestations 2019.xlsx]Sem "&INT((COLUMN()+3)/5)&"'!$I"&ROWS($1:7)) -> 0 | CK6: =INDIRECT("'I:\Ociane\Services aux Adhérents\Services aux Adhérents par Centre de Gestion\0 Tous centres\DEPARTEMENT GESTION PRESTATIONS\STOCKS 2019\[Stocks Prestations 2019.xlsx]Sem "&INT((COLUMN()+3)/5)&"'!$J"&ROWS($1:7)) -> 0 | CL6: =INDIRECT("'I:\Ociane\Services aux Adhérents\Services aux Adhérents par Centre de Gestion\0 Tous centres\DEPARTEMENT GESTION PRESTATIONS\STOCKS 2019\[Stocks Prestations 2019.xlsx]Sem "&INT((COLUMN()+3)/5)&"'!$N"&ROWS($1:7)) -> 0 | CM6: =INDIRECT("'I:\Ociane\Services aux Adhérents\Services aux Adhérents par Centre de Gestion\0 Tous centres\DEPARTEMENT GESTION PRESTATIONS\STOCKS 2019\[Stocks Prestations 2019.xlsx]Sem "&INT((COLUMN()+3)/5)&"'!$P"&ROWS($1:7)) -> 0 | CN6: =INDIRECT("'I:\Ociane\Services aux Adhérents\Services aux Adhérents par Centre de Gestion\0 Tous centres\DEPARTEMENT GESTION PRESTATIONS\STOCKS 2019\[Stocks Prestations 2019.xlsx]Sem "&INT((COLUMN()+3)/5)&"'!$H"&ROWS($1:7)) -> 0 | CO6: =INDIRECT("'I:\Ociane\Services aux Adhérents\Services aux Adhérents par Centre de Gestion\0 Tous centres\DEPARTEMENT GESTION PRESTATIONS\STOCKS 2019\[Stocks Prestations 2019.xlsx]Sem "&INT((COLUMN()+3)/5)&"'!$I"&ROWS($1:7)) -> 0 | CP6: =INDIRECT("'I:\Ociane\Services aux Adhérents\Services aux Adhérents par Centre de Gestion\0 Tous centres\DEPARTEMENT GESTION PRESTATIONS\STOCKS 2019\[Stocks Prestations 2019.xlsx]Sem "&INT((COLUMN()+3)/5)&"'!$J"&ROWS($1:7)) -> 0 | CQ6: =INDIRECT("'I:\Ociane\Services aux Adhérents\Services aux Adhérents par Centre de Gestion\0 Tous centres\DEPARTEMENT GESTION PRESTATIONS\STOCKS 2019\[Stocks Prestations 2019.xlsx]Sem "&INT((COLUMN()+3)/5)&"'!$N"&ROWS($1:7)) -> 0 | CR6: =INDIRECT("'I:\Ociane\Services aux Adhérents\Services aux Adhérents par Centre de Gestion\0 Tous centres\DEPARTEMENT GESTION PRESTATIONS\STOCKS 2019\[Stocks Prestations 2019.xlsx]Sem "&INT((COLUMN()+3)/5)&"'!$P"&ROWS($1:7)) -> 0 | CS6: =INDIRECT("'I:\Ociane\Services aux Adhérents\Services aux Adhérents par Centre de Gestion\0 Tous centres\DEPARTEMENT GESTION PRESTATIONS\STOCKS 2019\[Stocks Prestations 2019.xlsx]Sem "&INT((COLUMN()+3)/5)&"'!$H"&ROWS($1:7)) -> 0 | CT6: =INDIRECT("'I:\Ociane\Services aux Adhérents\Services aux Adhérents par Centre de Gestion\0 Tous centres\DEPARTEMENT GESTION PRESTATIONS\STOCKS 2019\[Stocks Prestations 2019.xlsx]Sem "&INT((COLUMN()+3)/5)&"'!$I"&ROWS($1:7)) -> 0 | CU6: =INDIRECT("'I:\Ociane\Services aux Adhérents\Services aux Adhérents par Centre de Gestion\0 Tous centres\DEPARTEMENT GESTION PRESTATIONS\STOCKS 2019\[Stocks Prestations 2019.xlsx]Sem "&INT((COLUMN()+3)/5)&"'!$J"&ROWS($1:7)) -> 0 | CV6: =INDIRECT("'I:\Ociane\Services aux Adhérents\Services aux Adhérents par Centre de Gestion\0 Tous centres\DEPARTEMENT GESTION PRESTATIONS\STOCKS 2019\[Stocks Prestations 2019.xlsx]Sem "&INT((COLUMN()+3)/5)&"'!$N"&ROWS($1:7)) -> 0 | CW6: =INDIRECT("'I:\Ociane\Services aux Adhérents\Services aux Adhérents par Centre de Gestion\0 Tous centres\DEPARTEMENT GESTION PRESTATIONS\STOCKS 2019\[Stocks Prestations 2019.xlsx]Sem "&INT((COLUMN()+3)/5)&"'!$P"&ROWS($1:7)) -> 0 | CX6: =INDIRECT("'I:\Ociane\Services aux Adhérents\Services aux Adhérents par Centre de Gestion\0 Tous centres\DEPARTEMENT GESTION PRESTATIONS\STOCKS 2019\[Stocks Prestations 2019.xlsx]Sem "&INT((COLUMN()+3)/5)&"'!$H"&ROWS($1:7)) -> 0 | CY6: =INDIRECT("'I:\Ociane\Services aux Adhérents\Services aux Adhérents par Centre de Gestion\0 Tous centres\DEPARTEMENT GESTION PRESTATIONS\STOCKS 2019\[Stocks Prestations 2019.xlsx]Sem "&INT((COLUMN()+3)/5)&"'!$I"&ROWS($1:7)) -> 0 | CZ6: =INDIRECT("'I:\Ociane\Services aux Adhérents\Services aux Adhérents par Centre de Gestion\0 Tous centres\DEPARTEMENT GESTION PRESTATIONS\STOCKS 2019\[Stocks Prestations 2019.xlsx]Sem "&INT((COLUMN()+3)/5)&"'!$J"&ROWS($1:7)) -> 0 | DA6: =INDIRECT("'I:\Ociane\Services aux Adhérents\Services aux Adhérents par Centre de Gestion\0 Tous centres\DEPARTEMENT GESTION PRESTATIONS\STOCKS 2019\[Stocks Prestations 2019.xlsx]Sem "&INT((COLUMN()+3)/5)&"'!$N"&ROWS($1:7)) -> 0 | DB6: =INDIRECT("'I:\Ociane\Services aux Adhérents\Services aux Adhérents par Centre de Gestion\0 Tous centres\DEPARTEMENT GESTION PRESTATIONS\STOCKS 2019\[Stocks Prestations 2019.xlsx]Sem "&INT((COLUMN()+3)/5)&"'!$P"&ROWS($1:7)) -> 0 | DC6: =INDIRECT("'I:\Ociane\Services aux Adhérents\Services aux Adhérents par Centre de Gestion\0 Tous centres\DEPARTEMENT GESTION PRESTATIONS\STOCKS 2019\[Stocks Prestations 2019.xlsx]Sem "&INT((COLUMN()+3)/5)&"'!$H"&ROWS($1:7)) -> 0 | DD6: =INDIRECT("'I:\Ociane\Services aux Adhérents\Services aux Adhérents par Centre de Gestion\0 Tous centres\DEPARTEMENT GESTION PRESTATIONS\STOCKS 2019\[Stocks Prestations 2019.xlsx]Sem "&INT((COLUMN()+3)/5)&"'!$I"&ROWS($1:7)) -> 0 | DE6: =INDIRECT("'I:\Ociane\Services aux Adhérents\Services aux Adhérents par Centre de Gestion\0 Tous centres\DEPARTEMENT GESTION PRESTATIONS\STOCKS 2019\[Stocks Prestations 2019.xlsx]Sem "&INT((COLUMN()+3)/5)&"'!$J"&ROWS($1:7)) -> 0 | DF6: =INDIRECT("'I:\Ociane\Services aux Adhérents\Services aux Adhérents par Centre de Gestion\0 Tous centres\DEPARTEMENT GESTION PRESTATIONS\STOCKS 2019\[Stocks Prestations 2019.xlsx]Sem "&INT((COLUMN()+3)/5)&"'!$N"&ROWS($1:7)) -> 0 | DG6: =INDIRECT("'I:\Ociane\Services aux Adhérents\Services aux Adhérents par Centre de Gestion\0 Tous centres\DEPARTEMENT GESTION PRESTATIONS\STOCKS 2019\[Stocks Prestations 2019.xlsx]Sem "&INT((COLUMN()+3)/5)&"'!$P"&ROWS($1:7)) -> 0 | DH6: =INDIRECT("'I:\Ociane\Services aux Adhérents\Services aux Adhérents par Centre de Gestion\0 Tous centres\DEPARTEMENT GESTION PRESTATIONS\STOCKS 2019\[Stocks Prestations 2019.xlsx]Sem "&INT((COLUMN()+3)/5)&"'!$H"&ROWS($1:7)) -> 0 | DI6: =INDIRECT("'I:\Ociane\Services aux Adhérents\Services aux Adhérents par Centre de Gestion\0 Tous centres\DEPARTEMENT GESTION PRESTATIONS\STOCKS 2019\[Stocks Prestations 2019.xlsx]Sem "&INT((COLUMN()+3)/5)&"'!$I"&ROWS($1:7)) -> 0 | DJ6: =INDIRECT("'I:\Ociane\Services aux Adhérents\Services aux Adhérents par Centre de Gestion\0 Tous centres\DEPARTEMENT GESTION PRESTATIONS\STOCKS 2019\[Stocks Prestations 2019.xlsx]Sem "&INT((COLUMN()+3)/5)&"'!$J"&ROWS($1:7)) -> 0 | DK6: =INDIRECT("'I:\Ociane\Services aux Adhérents\Services aux Adhérents par Centre de Gestion\0 Tous centres\DEPARTEMENT GESTION PRESTATIONS\STOCKS 2019\[Stocks Prestations 2019.xlsx]Sem "&INT((COLUMN()+3)/5)&"'!$N"&ROWS($1:7)) -> 0 | DL6: =INDIRECT("'I:\Ociane\Services aux Adhérents\Services aux Adhérents par Centre de Gestion\0 Tous centres\DEPARTEMENT GESTION PRESTATIONS\STOCKS 2019\[Stocks Prestations 2019.xlsx]Sem "&INT((COLUMN()+3)/5)&"'!$P"&ROWS($1:7)) -> 0 | DM6: =INDIRECT("'I:\Ociane\Services aux Adhérents\Services aux Adhérents par Centre de Gestion\0 Tous centres\DEPARTEMENT GESTION PRESTATIONS\STOCKS 2019\[Stocks Prestations 2019.xlsx]Sem "&INT((COLUMN()+3)/5)&"'!$H"&ROWS($1:7)) -> 0 | DN6: =INDIRECT("'I:\Ociane\Services aux Adhérents\Services aux Adhérents par Centre de Gestion\0 Tous centres\DEPARTEMENT GESTION PRESTATIONS\STOCKS 2019\[Stocks Prestations 2019.xlsx]Sem "&INT((COLUMN()+3)/5)&"'!$I"&ROWS($1:7)) -> 0 | DO6: =INDIRECT("'I:\Ociane\Services aux Adhérents\Services aux Adhérents par Centre de Gestion\0 Tous centres\DEPARTEMENT GESTION PRESTATIONS\STOCKS 2019\[Stocks Prestations 2019.xlsx]Sem "&INT((COLUMN()+3)/5)&"'!$J"&ROWS($1:7)) -> 0 | DP6: =INDIRECT("'I:\Ociane\Services aux Adhérents\Services aux Adhérents par Centre de Gestion\0 Tous centres\DEPARTEMENT GESTION PRESTATIONS\STOCKS 2019\[Stocks Prestations 2019.xlsx]Sem "&INT((COLUMN()+3)/5)&"'!$N"&ROWS($1:7)) -> 0 | DQ6: =INDIRECT("'I:\Ociane\Services aux Adhérents\Services aux Adhérents par Centre de Gestion\0 Tous centres\DEPARTEMENT GESTION PRESTATIONS\STOCKS 2019\[Stocks Prestations 2019.xlsx]Sem "&INT((COLUMN()+3)/5)&"'!$P"&ROWS($1:7)) -> 0 | DR6: =INDIRECT("'I:\Ociane\Services aux Adhérents\Services aux Adhérents par Centre de Gestion\0 Tous centres\DEPARTEMENT GESTION PRESTATIONS\STOCKS 2019\[Stocks Prestations 2019.xlsx]Sem "&INT((COLUMN()+3)/5)&"'!$H"&ROWS($1:7)) -> 0 | DS6: =INDIRECT("'I:\Ociane\Services aux Adhérents\Services aux Adhérents par Centre de Gestion\0 Tous centres\DEPARTEMENT GESTION PRESTATIONS\STOCKS 2019\[Stocks Prestations 2019.xlsx]Sem "&INT((COLUMN()+3)/5)&"'!$I"&ROWS($1:7)) -> 0 | DT6: =INDIRECT("'I:\Ociane\Services aux Adhérents\Services aux Adhérents par Centre de Gestion\0 Tous centres\DEPARTEMENT GESTION PRESTATIONS\STOCKS 2019\[Stocks Prestations 2019.xlsx]Sem "&INT((COLUMN()+3)/5)&"'!$J"&ROWS($1:7)) -> 0 | DU6: =INDIRECT("'I:\Ociane\Services aux Adhérents\Services aux Adhérents par Centre de Gestion\0 Tous centres\DEPARTEMENT GESTION PRESTATIONS\STOCKS 2019\[Stocks Prestations 2019.xlsx]Sem "&INT((COLUMN()+3)/5)&"'!$N"&ROWS($1:7)) -> 0 | DV6: =INDIRECT("'I:\Ociane\Services aux Adhérents\Services aux Adhérents par Centre de Gestion\0 Tous centres\DEPARTEMENT GESTION PRESTATIONS\STOCKS 2019\[Stocks Prestations 2019.xlsx]Sem "&INT((COLUMN()+3)/5)&"'!$P"&ROWS($1:7)) -> 0 | DW6: =INDIRECT("'I:\Ociane\Services aux Adhérents\Services aux Adhérents par Centre de Gestion\0 Tous centres\DEPARTEMENT GESTION PRESTATIONS\STOCKS 2019\[Stocks Prestations 2019.xlsx]Sem "&INT((COLUMN()+3)/5)&"'!$H"&ROWS($1:7)) -> 0 | DX6: =INDIRECT("'I:\Ociane\Services aux Adhérents\Services aux Adhérents par Centre de Gestion\0 Tous centres\DEPARTEMENT GESTION PRESTATIONS\STOCKS 2019\[Stocks Prestations 2019.xlsx]Sem "&INT((COLUMN()+3)/5)&"'!$I"&ROWS($1:7)) -> 0 | DY6: =INDIRECT("'I:\Ociane\Services aux Adhérents\Services aux Adhérents par Centre de Gestion\0 Tous centres\DEPARTEMENT GESTION PRESTATIONS\STOCKS 2019\[Stocks Prestations 2019.xlsx]Sem "&INT((COLUMN()+3)/5)&"'!$J"&ROWS($1:7)) -> 0 | DZ6: =INDIRECT("'I:\Ociane\Services aux Adhérents\Services aux Adhérents par Centre de Gestion\0 Tous centres\DEPARTEMENT GESTION PRESTATIONS\STOCKS 2019\[Stocks Prestations 2019.xlsx]Sem "&INT((COLUMN()+3)/5)&"'!$N"&ROWS($1:7)) -> 0 | EA6: =INDIRECT("'I:\Ociane\Services aux Adhérents\Services aux Adhérents par Centre de Gestion\0 Tous centres\DEPARTEMENT GESTION PRESTATIONS\STOCKS 2019\[Stocks Prestations 2019.xlsx]Sem "&INT((COLUMN()+3)/5)&"'!$P"&ROWS($1:7)) -> 0 | EB6: =INDIRECT("'I:\Ociane\Services aux Adhérents\Services aux Adhérents par Centre de Gestion\0 Tous centres\DEPARTEMENT GESTION PRESTATIONS\STOCKS 2019\[Stocks Prestations 2019.xlsx]Sem "&INT((COLUMN()+3)/5)&"'!$H"&ROWS($1:7)) -> 0 | EC6: =INDIRECT("'I:\Ociane\Services aux Adhérents\Services aux Adhérents par Centre de Gestion\0 Tous centres\DEPARTEMENT GESTION PRESTATIONS\STOCKS 2019\[Stocks Prestations 2019.xlsx]Sem "&INT((COLUMN()+3)/5)&"'!$I"&ROWS($1:7)) -> 0 | ED6: =INDIRECT("'I:\Ociane\Services aux Adhérents\Services aux Adhérents par Centre de Gestion\0 Tous centres\DEPARTEMENT GESTION PRESTATIONS\STOCKS 2019\[Stocks Prestations 2019.xlsx]Sem "&INT((COLUMN()+3)/5)&"'!$J"&ROWS($1:7)) -> 0 | EE6: =INDIRECT("'I:\Ociane\Services aux Adhérents\Services aux Adhérents par Centre de Gestion\0 Tous centres\DEPARTEMENT GESTION PRESTATIONS\STOCKS 2019\[Stocks Prestations 2019.xlsx]Sem "&INT((COLUMN()+3)/5)&"'!$N"&ROWS($1:7)) -> 0 | EF6: =INDIRECT("'I:\Ociane\Services aux Adhérents\Services aux Adhérents par Centre de Gestion\0 Tous centres\DEPARTEMENT GESTION PRESTATIONS\STOCKS 2019\[Stocks Prestations 2019.xlsx]Sem "&INT((COLUMN()+3)/5)&"'!$P"&ROWS($1:7)) -> 0 | EG6: =INDIRECT("'I:\Ociane\Services aux Adhérents\Services aux Adhérents par Centre de Gestion\0 Tous centres\DEPARTEMENT GESTION PRESTATIONS\STOCKS 2019\[Stocks Prestations 2019.xlsx]Sem "&INT((COLUMN()+3)/5)&"'!$H"&ROWS($1:7)) -> 0 | EH6: =INDIRECT("'I:\Ociane\Services aux Adhérents\Services aux Adhérents par Centre de Gestion\0 Tous centres\DEPARTEMENT GESTION PRESTATIONS\STOCKS 2019\[Stocks Prestations 2019.xlsx]Sem "&INT((COLUMN()+3)/5)&"'!$I"&ROWS($1:7)) -> 0 | EI6: =INDIRECT("'I:\Ociane\Services aux Adhérents\Services aux Adhérents par Centre de Gestion\0 Tous centres\DEPARTEMENT GESTION PRESTATIONS\STOCKS 2019\[Stocks Prestations 2019.xlsx]Sem "&INT((COLUMN()+3)/5)&"'!$J"&ROWS($1:7)) -> 0 | EJ6: =INDIRECT("'I:\Ociane\Services aux Adhérents\Services aux Adhérents par Centre de Gestion\0 Tous centres\DEPARTEMENT GESTION PRESTATIONS\STOCKS 2019\[Stocks Prestations 2019.xlsx]Sem "&INT((COLUMN()+3)/5)&"'!$N"&ROWS($1:7)) -> 0 | EK6: =INDIRECT("'I:\Ociane\Services aux Adhérents\Services aux Adhérents par Centre de Gestion\0 Tous centres\DEPARTEMENT GESTION PRESTATIONS\STOCKS 2019\[Stocks Prestations 2019.xlsx]Sem "&INT((COLUMN()+3)/5)&"'!$P"&ROWS($1:7)) -> 0 | EL6: =INDIRECT("'I:\Ociane\Services aux Adhérents\Services aux Adhérents par Centre de Gestion\0 Tous centres\DEPARTEMENT GESTION PRESTATIONS\STOCKS 2019\[Stocks Prestations 2019.xlsx]Sem "&INT((COLUMN()+3)/5)&"'!$H"&ROWS($1:7)) -> 0 | EM6: =INDIRECT("'I:\Ociane\Services aux Adhérents\Services aux Adhérents par Centre de Gestion\0 Tous centres\DEPARTEMENT GESTION PRESTATIONS\STOCKS 2019\[Stocks Prestations 2019.xlsx]Sem "&INT((COLUMN()+3)/5)&"'!$I"&ROWS($1:7)) -> 0 | EN6: =INDIRECT("'I:\Ociane\Services aux Adhérents\Services aux Adhérents par Centre de Gestion\0 Tous centres\DEPARTEMENT GESTION PRESTATIONS\STOCKS 2019\[Stocks Prestations 2019.xlsx]Sem "&INT((COLUMN()+3)/5)&"'!$J"&ROWS($1:7)) -> 0 | EO6: =INDIRECT("'I:\Ociane\Services aux Adhérents\Services aux Adhérents par Centre de Gestion\0 Tous centres\DEPARTEMENT GESTION PRESTATIONS\STOCKS 2019\[Stocks Prestations 2019.xlsx]Sem "&INT((COLUMN()+3)/5)&"'!$N"&ROWS($1:7)) -> 0 | EP6: =INDIRECT("'I:\Ociane\Services aux Adhérents\Services aux Adhérents par Centre de Gestion\0 Tous centres\DEPARTEMENT GESTION PRESTATIONS\STOCKS 2019\[Stocks Prestations 2019.xlsx]Sem "&INT((COLUMN()+3)/5)&"'!$P"&ROWS($1:7)) -> 0 | EQ6: =INDIRECT("'I:\Ociane\Services aux Adhérents\Services aux Adhérents par Centre de Gestion\0 Tous centres\DEPARTEMENT GESTION PRESTATIONS\STOCKS 2019\[Stocks Prestations 2019.xlsx]Sem "&INT((COLUMN()+3)/5)&"'!$H"&ROWS($1:7)) -> 0 | ER6: =INDIRECT("'I:\Ociane\Services aux Adhérents\Services aux Adhérents par Centre de Gestion\0 Tous centres\DEPARTEMENT GESTION PRESTATIONS\STOCKS 2019\[Stocks Prestations 2019.xlsx]Sem "&INT((COLUMN()+3)/5)&"'!$I"&ROWS($1:7)) -> 0 | ES6: =INDIRECT("'I:\Ociane\Services aux Adhérents\Services aux Adhérents par Centre de Gestion\0 Tous centres\DEPARTEMENT GESTION PRESTATIONS\STOCKS 2019\[Stocks Prestations 2019.xlsx]Sem "&INT((COLUMN()+3)/5)&"'!$J"&ROWS($1:7)) -> 0 | ET6: =INDIRECT("'I:\Ociane\Services aux Adhérents\Services aux Adhérents par Centre de Gestion\0 Tous centres\DEPARTEMENT GESTION PRESTATIONS\STOCKS 2019\[Stocks Prestations 2019.xlsx]Sem "&INT((COLUMN()+3)/5)&"'!$N"&ROWS($1:7)) -> 0 | EU6: =INDIRECT("'I:\Ociane\Services aux Adhérents\Services aux Adhérents par Centre de Gestion\0 Tous centres\DEPARTEMENT GESTION PRESTATIONS\STOCKS 2019\[Stocks Prestations 2019.xlsx]Sem "&INT((COLUMN()+3)/5)&"'!$P"&ROWS($1:7)) -> 0 | EV6: =INDIRECT("'I:\Ociane\Services aux Adhérents\Services aux Adhérents par Centre de Gestion\0 Tous centres\DEPARTEMENT GESTION PRESTATIONS\STOCKS 2019\[Stocks Prestations 2019.xlsx]Sem "&INT((COLUMN()+3)/5)&"'!$H"&ROWS($1:7)) -> 0 | EW6: =INDIRECT("'I:\Ociane\Services aux Adhérents\Services aux Adhérents par Centre de Gestion\0 Tous centres\DEPARTEMENT GESTION PRESTATIONS\STOCKS 2019\[Stocks Prestations 2019.xlsx]Sem "&INT((COLUMN()+3)/5)&"'!$I"&ROWS($1:7)) -> 0 | EX6: =INDIRECT("'I:\Ociane\Services aux Adhérents\Services aux Adhérents par Centre de Gestion\0 Tous centres\DEPARTEMENT GESTION PRESTATIONS\STOCKS 2019\[Stocks Prestations 2019.xlsx]Sem "&INT((COLUMN()+3)/5)&"'!$J"&ROWS($1:7)) -> 0 | EY6: =INDIRECT("'I:\Ociane\Services aux Adhérents\Services aux Adhérents par Centre de Gestion\0 Tous centres\DEPARTEMENT GESTION PRESTATIONS\STOCKS 2019\[Stocks Prestations 2019.xlsx]Sem "&INT((COLUMN()+3)/5)&"'!$N"&ROWS($1:7)) -> 0 | EZ6: =INDIRECT("'I:\Ociane\Services aux Adhérents\Services aux Adhérents par Centre de Gestion\0 Tous centres\DEPARTEMENT GESTION PRESTATIONS\STOCKS 2019\[Stocks Prestations 2019.xlsx]Sem "&INT((COLUMN()+3)/5)&"'!$P"&ROWS($1:7)) -> 0 | FA6: =INDIRECT("'I:\Ociane\Services aux Adhérents\Services aux Adhérents par Centre de Gestion\0 Tous centres\DEPARTEMENT GESTION PRESTATIONS\STOCKS 2019\[Stocks Prestations 2019.xlsx]Sem "&INT((COLUMN()+3)/5)&"'!$H"&ROWS($1:7)) -> 0 | FB6: =INDIRECT("'I:\Ociane\Services aux Adhérents\Services aux Adhérents par Centre de Gestion\0 Tous centres\DEPARTEMENT GESTION PRESTATIONS\STOCKS 2019\[Stocks Prestations 2019.xlsx]Sem "&INT((COLUMN()+3)/5)&"'!$I"&ROWS($1:7)) -> 0 | FC6: =INDIRECT("'I:\Ociane\Services aux Adhérents\Services aux Adhérents par Centre de Gestion\0 Tous centres\DEPARTEMENT GESTION PRESTATIONS\STOCKS 2019\[Stocks Prestations 2019.xlsx]Sem "&INT((COLUMN()+3)/5)&"'!$J"&ROWS($1:7)) -> 0 | FD6: =INDIRECT("'I:\Ociane\Services aux Adhérents\Services aux Adhérents par Centre de Gestion\0 Tous centres\DEPARTEMENT GESTION PRESTATIONS\STOCKS 2019\[Stocks Prestations 2019.xlsx]Sem "&INT((COLUMN()+3)/5)&"'!$N"&ROWS($1:7)) -> 0 | FE6: =INDIRECT("'I:\Ociane\Services aux Adhérents\Services aux Adhérents par Centre de Gestion\0 Tous centres\DEPARTEMENT GESTION PRESTATIONS\STOCKS 2019\[Stocks Prestations 2019.xlsx]Sem "&INT((COLUMN()+3)/5)&"'!$P"&ROWS($1:7)) -> 0 | FF6: =INDIRECT("'I:\Ociane\Services aux Adhérents\Services aux Adhérents par Centre de Gestion\0 Tous centres\DEPARTEMENT GESTION PRESTATIONS\STOCKS 2019\[Stocks Prestations 2019.xlsx]Sem "&INT((COLUMN()+3)/5)&"'!$H"&ROWS($1:7)) -> 0 | FG6: =INDIRECT("'I:\Ociane\Services aux Adhérents\Services aux Adhérents par Centre de Gestion\0 Tous centres\DEPARTEMENT GESTION PRESTATIONS\STOCKS 2019\[Stocks Prestations 2019.xlsx]Sem "&INT((COLUMN()+3)/5)&"'!$I"&ROWS($1:7)) -> 0 | FH6: =INDIRECT("'I:\Ociane\Services aux Adhérents\Services aux Adhérents par Centre de Gestion\0 Tous centres\DEPARTEMENT GESTION PRESTATIONS\STOCKS 2019\[Stocks Prestations 2019.xlsx]Sem "&INT((COLUMN()+3)/5)&"'!$J"&ROWS($1:7)) -> 0 | FI6: =INDIRECT("'I:\Ociane\Services aux Adhérents\Services aux Adhérents par Centre de Gestion\0 Tous centres\DEPARTEMENT GESTION PRESTATIONS\STOCKS 2019\[Stocks Prestations 2019.xlsx]Sem "&INT((COLUMN()+3)/5)&"'!$N"&ROWS($1:7)) -> 0 | FJ6: =INDIRECT("'I:\Ociane\Services aux Adhérents\Services aux Adhérents par Centre de Gestion\0 Tous centres\DEPARTEMENT GESTION PRESTATIONS\STOCKS 2019\[Stocks Prestations 2019.xlsx]Sem "&INT((COLUMN()+3)/5)&"'!$P"&ROWS($1:7)) -> 0 | FK6: =INDIRECT("'I:\Ociane\Services aux Adhérents\Services aux Adhérents par Centre de Gestion\0 Tous centres\DEPARTEMENT GESTION PRESTATIONS\STOCKS 2019\[Stocks Prestations 2019.xlsx]Sem "&INT((COLUMN()+3)/5)&"'!$H"&ROWS($1:7)) -> 0 | FL6: =INDIRECT("'I:\Ociane\Services aux Adhérents\Services aux Adhérents par Centre de Gestion\0 Tous centres\DEPARTEMENT GESTION PRESTATIONS\STOCKS 2019\[Stocks Prestations 2019.xlsx]Sem "&INT((COLUMN()+3)/5)&"'!$I"&ROWS($1:7)) -> 0 | FM6: =INDIRECT("'I:\Ociane\Services aux Adhérents\Services aux Adhérents par Centre de Gestion\0 Tous centres\DEPARTEMENT GESTION PRESTATIONS\STOCKS 2019\[Stocks Prestations 2019.xlsx]Sem "&INT((COLUMN()+3)/5)&"'!$J"&ROWS($1:7)) -> 0 | FN6: =INDIRECT("'I:\Ociane\Services aux Adhérents\Services aux Adhérents par Centre de Gestion\0 Tous centres\DEPARTEMENT GESTION PRESTATIONS\STOCKS 2019\[Stocks Prestations 2019.xlsx]Sem "&INT((COLUMN()+3)/5)&"'!$N"&ROWS($1:7)) -> 0 | FO6: =INDIRECT("'I:\Ociane\Services aux Adhérents\Services aux Adhérents par Centre de Gestion\0 Tous centres\DEPARTEMENT GESTION PRESTATIONS\STOCKS 2019\[Stocks Prestations 2019.xlsx]Sem "&INT((COLUMN()+3)/5)&"'!$P"&ROWS($1:7)) -> 0 | FP6: =INDIRECT("'I:\Ociane\Services aux Adhérents\Services aux Adhérents par Centre de Gestion\0 Tous centres\DEPARTEMENT GESTION PRESTATIONS\STOCKS 2019\[Stocks Prestations 2019.xlsx]Sem "&INT((COLUMN()+3)/5)&"'!$H"&ROWS($1:7)) -> 0 | FQ6: =INDIRECT("'I:\Ociane\Services aux Adhérents\Services aux Adhérents par Centre de Gestion\0 Tous centres\DEPARTEMENT GESTION PRESTATIONS\STOCKS 2019\[Stocks Prestations 2019.xlsx]Sem "&INT((COLUMN()+3)/5)&"'!$I"&ROWS($1:7)) -> 0 | FR6: =INDIRECT("'I:\Ociane\Services aux Adhérents\Services aux Adhérents par Centre de Gestion\0 Tous centres\DEPARTEMENT GESTION PRESTATIONS\STOCKS 2019\[Stocks Prestations 2019.xlsx]Sem "&INT((COLUMN()+3)/5)&"'!$J"&ROWS($1:7)) -> 0 | FS6: =INDIRECT("'I:\Ociane\Services aux Adhérents\Services aux Adhérents par Centre de Gestion\0 Tous centres\DEPARTEMENT GESTION PRESTATIONS\STOCKS 2019\[Stocks Prestations 2019.xlsx]Sem "&INT((COLUMN()+3)/5)&"'!$N"&ROWS($1:7)) -> 0 | FT6: =INDIRECT("'I:\Ociane\Services aux Adhérents\Services aux Adhérents par Centre de Gestion\0 Tous centres\DEPARTEMENT GESTION PRESTATIONS\STOCKS 2019\[Stocks Prestations 2019.xlsx]Sem "&INT((COLUMN()+3)/5)&"'!$P"&ROWS($1:7)) -> 0 | FU6: =INDIRECT("'I:\Ociane\Services aux Adhérents\Services aux Adhérents par Centre de Gestion\0 Tous centres\DEPARTEMENT GESTION PRESTATIONS\STOCKS 2019\[Stocks Prestations 2019.xlsx]Sem "&INT((COLUMN()+3)/5)&"'!$H"&ROWS($1:7)) -> 0 | FV6: =INDIRECT("'I:\Ociane\Services aux Adhérents\Services aux Adhérents par Centre de Gestion\0 Tous centres\DEPARTEMENT GESTION PRESTATIONS\STOCKS 2019\[Stocks Prestations 2019.xlsx]Sem "&INT((COLUMN()+3)/5)&"'!$I"&ROWS($1:7)) -> 0 | FW6: =INDIRECT("'I:\Ociane\Services aux Adhérents\Services aux Adhérents par Centre de Gestion\0 Tous centres\DEPARTEMENT GESTION PRESTATIONS\STOCKS 2019\[Stocks Prestations 2019.xlsx]Sem "&INT((COLUMN()+3)/5)&"'!$J"&ROWS($1:7)) -> 0 | FX6: =INDIRECT("'I:\Ociane\Services aux Adhérents\Services aux Adhérents par Centre de Gestion\0 Tous centres\DEPARTEMENT GESTION PRESTATIONS\STOCKS 2019\[Stocks Prestations 2019.xlsx]Sem "&INT((COLUMN()+3)/5)&"'!$N"&ROWS($1:7)) -> 0 | FY6: =INDIRECT("'I:\Ociane\Services aux Adhérents\Services aux Adhérents par Centre de Gestion\0 Tous centres\DEPARTEMENT GESTION PRESTATIONS\STOCKS 2019\[Stocks Prestations 2019.xlsx]Sem "&INT((COLUMN()+3)/5)&"'!$P"&ROWS($1:7)) -> 0 | FZ6: =INDIRECT("'I:\Ociane\Services aux Adhérents\Services aux Adhérents par Centre de Gestion\0 Tous centres\DEPARTEMENT GESTION PRESTATIONS\STOCKS 2019\[Stocks Prestations 2019.xlsx]Sem "&INT((COLUMN()+3)/5)&"'!$H"&ROWS($1:7)) -> 0 | GA6: =INDIRECT("'I:\Ociane\Services aux Adhérents\Services aux Adhérents par Centre de Gestion\0 Tous centres\DEPARTEMENT GESTION PRESTATIONS\STOCKS 2019\[Stocks Prestations 2019.xlsx]Sem "&INT((COLUMN()+3)/5)&"'!$I"&ROWS($1:7)) -> 0 | GB6: =INDIRECT("'I:\Ociane\Services aux Adhérents\Services aux Adhérents par Centre de Gestion\0 Tous centres\DEPARTEMENT GESTION PRESTATIONS\STOCKS 2019\[Stocks Prestations 2019.xlsx]Sem "&INT((COLUMN()+3)/5)&"'!$J"&ROWS($1:7)) -> 0 | GC6: =INDIRECT("'I:\Ociane\Services aux Adhérents\Services aux Adhérents par Centre de Gestion\0 Tous centres\DEPARTEMENT GESTION PRESTATIONS\STOCKS 2019\[Stocks Prestations 2019.xlsx]Sem "&INT((COLUMN()+3)/5)&"'!$N"&ROWS($1:7)) -> 0 | GD6: =INDIRECT("'I:\Ociane\Services aux Adhérents\Services aux Adhérents par Centre de Gestion\0 Tous centres\DEPARTEMENT GESTION PRESTATIONS\STOCKS 2019\[Stocks Prestations 2019.xlsx]Sem "&INT((COLUMN()+3)/5)&"'!$P"&ROWS($1:7)) -> 0 | GE6: =INDIRECT("'I:\Ociane\Services aux Adhérents\Services aux Adhérents par Centre de Gestion\0 Tous centres\DEPARTEMENT GESTION PRESTATIONS\STOCKS 2019\[Stocks Prestations 2019.xlsx]Sem "&INT((COLUMN()+3)/5)&"'!$H"&ROWS($1:7)) -> 0 | GF6: =INDIRECT("'I:\Ociane\Services aux Adhérents\Services aux Adhérents par Centre de Gestion\0 Tous centres\DEPARTEMENT GESTION PRESTATIONS\STOCKS 2019\[Stocks Prestations 2019.xlsx]Sem "&INT((COLUMN()+3)/5)&"'!$I"&ROWS($1:7)) -> 0 | GG6: =INDIRECT("'I:\Ociane\Services aux Adhérents\Services aux Adhérents par Centre de Gestion\0 Tous centres\DEPARTEMENT GESTION PRESTATIONS\STOCKS 2019\[Stocks Prestations 2019.xlsx]Sem "&INT((COLUMN()+3)/5)&"'!$J"&ROWS($1:7)) -> 0 | GH6: =INDIRECT("'I:\Ociane\Services aux Adhérents\Services aux Adhérents par Centre de Gestion\0 Tous centres\DEPARTEMENT GESTION PRESTATIONS\STOCKS 2019\[Stocks Prestations 2019.xlsx]Sem "&INT((COLUMN()+3)/5)&"'!$N"&ROWS($1:7)) -> 0 | GI6: =INDIRECT("'I:\Ociane\Services aux Adhérents\Services aux Adhérents par Centre de Gestion\0 Tous centres\DEPARTEMENT GESTION PRESTATIONS\STOCKS 2019\[Stocks Prestations 2019.xlsx]Sem "&INT((COLUMN()+3)/5)&"'!$P"&ROWS($1:7)) -> 0 | GJ6: =INDIRECT("'I:\Ociane\Services aux Adhérents\Services aux Adhérents par Centre de Gestion\0 Tous centres\DEPARTEMENT GESTION PRESTATIONS\STOCKS 2019\[Stocks Prestations 2019.xlsx]Sem "&INT((COLUMN()+3)/5)&"'!$H"&ROWS($1:7)) -> 0 | GK6: =INDIRECT("'I:\Ociane\Services aux Adhérents\Services aux Adhérents par Centre de Gestion\0 Tous centres\DEPARTEMENT GESTION PRESTATIONS\STOCKS 2019\[Stocks Prestations 2019.xlsx]Sem "&INT((COLUMN()+3)/5)&"'!$I"&ROWS($1:7)) -> 0 | GL6: =INDIRECT("'I:\Ociane\Services aux Adhérents\Services aux Adhérents par Centre de Gestion\0 Tous centres\DEPARTEMENT GESTION PRESTATIONS\STOCKS 2019\[Stocks Prestations 2019.xlsx]Sem "&INT((COLUMN()+3)/5)&"'!$J"&ROWS($1:7)) -> 0 | GM6: =INDIRECT("'I:\Ociane\Services aux Adhérents\Services aux Adhérents par Centre de Gestion\0 Tous centres\DEPARTEMENT GESTION PRESTATIONS\STOCKS 2019\[Stocks Prestations 2019.xlsx]Sem "&INT((COLUMN()+3)/5)&"'!$N"&ROWS($1:7)) -> 0 | GN6: =INDIRECT("'I:\Ociane\Services aux Adhérents\Services aux Adhérents par Centre de Gestion\0 Tous centres\DEPARTEMENT GESTION PRESTATIONS\STOCKS 2019\[Stocks Prestations 2019.xlsx]Sem "&INT((COLUMN()+3)/5)&"'!$P"&ROWS($1:7)) -> 0 | GO6: =INDIRECT("'I:\Ociane\Services aux Adhérents\Services aux Adhérents par Centre de Gestion\0 Tous centres\DEPARTEMENT GESTION PRESTATIONS\STOCKS 2019\[Stocks Prestations 2019.xlsx]Sem "&INT((COLUMN()+3)/5)&"'!$H"&ROWS($1:7)) -> 0 | GP6: =INDIRECT("'I:\Ociane\Services aux Adhérents\Services aux Adhérents par Centre de Gestion\0 Tous centres\DEPARTEMENT GESTION PRESTATIONS\STOCKS 2019\[Stocks Prestations 2019.xlsx]Sem "&INT((COLUMN()+3)/5)&"'!$I"&ROWS($1:7)) -> 0 | GQ6: =INDIRECT("'I:\Ociane\Services aux Adhérents\Services aux Adhérents par Centre de Gestion\0 Tous centres\DEPARTEMENT GESTION PRESTATIONS\STOCKS 2019\[Stocks Prestations 2019.xlsx]Sem "&INT((COLUMN()+3)/5)&"'!$J"&ROWS($1:7)) -> 0 | GR6: =INDIRECT("'I:\Ociane\Services aux Adhérents\Services aux Adhérents par Centre de Gestion\0 Tous centres\DEPARTEMENT GESTION PRESTATIONS\STOCKS 2019\[Stocks Prestations 2019.xlsx]Sem "&INT((COLUMN()+3)/5)&"'!$N"&ROWS($1:7)) -> 0 | GS6: =INDIRECT("'I:\Ociane\Services aux Adhérents\Services aux Adhérents par Centre de Gestion\0 Tous centres\DEPARTEMENT GESTION PRESTATIONS\STOCKS 2019\[Stocks Prestations 2019.xlsx]Sem "&INT((COLUMN()+3)/5)&"'!$P"&ROWS($1:7)) -> 0 | GT6: =INDIRECT("'I:\Ociane\Services aux Adhérents\Services aux Adhérents par Centre de Gestion\0 Tous centres\DEPARTEMENT GESTION PRESTATIONS\STOCKS 2019\[Stocks Prestations 2019.xlsx]Sem "&INT((COLUMN()+3)/5)&"'!$H"&ROWS($1:7)) -> 0 | GU6: =INDIRECT("'I:\Ociane\Services aux Adhérents\Services aux Adhérents par Centre de Gestion\0 Tous centres\DEPARTEMENT GESTION PRESTATIONS\STOCKS 2019\[Stocks Prestations 2019.xlsx]Sem "&INT((COLUMN()+3)/5)&"'!$I"&ROWS($1:7)) -> 0 | GV6: =INDIRECT("'I:\Ociane\Services aux Adhérents\Services aux Adhérents par Centre de Gestion\0 Tous centres\DEPARTEMENT GESTION PRESTATIONS\STOCKS 2019\[Stocks Prestations 2019.xlsx]Sem "&INT((COLUMN()+3)/5)&"'!$J"&ROWS($1:7)) -> 0 | GW6: =INDIRECT("'I:\Ociane\Services aux Adhérents\Services aux Adhérents par Centre de Gestion\0 Tous centres\DEPARTEMENT GESTION PRESTATIONS\STOCKS 2019\[Stocks Prestations 2019.xlsx]Sem "&INT((COLUMN()+3)/5)&"'!$N"&ROWS($1:7)) -> 0 | GX6: =INDIRECT("'I:\Ociane\Services aux Adhérents\Services aux Adhérents par Centre de Gestion\0 Tous centres\DEPARTEMENT GESTION PRESTATIONS\STOCKS 2019\[Stocks Prestations 2019.xlsx]Sem "&INT((COLUMN()+3)/5)&"'!$P"&ROWS($1:7)) -> 0 | GY6: =INDIRECT("'I:\Ociane\Services aux Adhérents\Services aux Adhérents par Centre de Gestion\0 Tous centres\DEPARTEMENT GESTION PRESTATIONS\STOCKS 2019\[Stocks Prestations 2019.xlsx]Sem "&INT((COLUMN()+3)/5)&"'!$H"&ROWS($1:7)) -> 0 | GZ6: =INDIRECT("'I:\Ociane\Services aux Adhérents\Services aux Adhérents par Centre de Gestion\0 Tous centres\DEPARTEMENT GESTION PRESTATIONS\STOCKS 2019\[Stocks Prestations 2019.xlsx]Sem "&INT((COLUMN()+3)/5)&"'!$I"&ROWS($1:7)) -> 0 | HA6: =INDIRECT("'I:\Ociane\Services aux Adhérents\Services aux Adhérents par Centre de Gestion\0 Tous centres\DEPARTEMENT GESTION PRESTATIONS\STOCKS 2019\[Stocks Prestations 2019.xlsx]Sem "&INT((COLUMN()+3)/5)&"'!$J"&ROWS($1:7)) -> 0 | HB6: =INDIRECT("'I:\Ociane\Services aux Adhérents\Services aux Adhérents par Centre de Gestion\0 Tous centres\DEPARTEMENT GESTION PRESTATIONS\STOCKS 2019\[Stocks Prestations 2019.xlsx]Sem "&INT((COLUMN()+3)/5)&"'!$N"&ROWS($1:7)) -> 0 | HC6: =INDIRECT("'I:\Ociane\Services aux Adhérents\Services aux Adhérents par Centre de Gestion\0 Tous centres\DEPARTEMENT GESTION PRESTATIONS\STOCKS 2019\[Stocks Prestations 2019.xlsx]Sem "&INT((COLUMN()+3)/5)&"'!$P"&ROWS($1:7)) -> 0 | HD6: =INDIRECT("'I:\Ociane\Services aux Adhérents\Services aux Adhérents par Centre de Gestion\0 Tous centres\DEPARTEMENT GESTION PRESTATIONS\STOCKS 2019\[Stocks Prestations 2019.xlsx]Sem "&INT((COLUMN()+3)/5)&"'!$H"&ROWS($1:7)) -> 0 | HE6: =INDIRECT("'I:\Ociane\Services aux Adhérents\Services aux Adhérents par Centre de Gestion\0 Tous centres\DEPARTEMENT GESTION PRESTATIONS\STOCKS 2019\[Stocks Prestations 2019.xlsx]Sem "&INT((COLUMN()+3)/5)&"'!$I"&ROWS($1:7)) -> 0 | HF6: =INDIRECT("'I:\Ociane\Services aux Adhérents\Services aux Adhérents par Centre de Gestion\0 Tous centres\DEPARTEMENT GESTION PRESTATIONS\STOCKS 2019\[Stocks Prestations 2019.xlsx]Sem "&INT((COLUMN()+3)/5)&"'!$J"&ROWS($1:7)) -> 0 | HG6: =INDIRECT("'I:\Ociane\Services aux Adhérents\Services aux Adhérents par Centre de Gestion\0 Tous centres\DEPARTEMENT GESTION PRESTATIONS\STOCKS 2019\[Stocks Prestations 2019.xlsx]Sem "&INT((COLUMN()+3)/5)&"'!$N"&ROWS($1:7)) -> 0 | HH6: =INDIRECT("'I:\Ociane\Services aux Adhérents\Services aux Adhérents par Centre de Gestion\0 Tous centres\DEPARTEMENT GESTION PRESTATIONS\STOCKS 2019\[Stocks Prestations 2019.xlsx]Sem "&INT((COLUMN()+3)/5)&"'!$P"&ROWS($1:7)) -> 0 | HI6: =INDIRECT("'I:\Ociane\Services aux Adhérents\Services aux Adhérents par Centre de Gestion\0 Tous centres\DEPARTEMENT GESTION PRESTATIONS\STOCKS 2019\[Stocks Prestations 2019.xlsx]Sem "&INT((COLUMN()+3)/5)&"'!$H"&ROWS($1:7)) -> 0 | HJ6: =INDIRECT("'I:\Ociane\Services aux Adhérents\Services aux Adhérents par Centre de Gestion\0 Tous centres\DEPARTEMENT GESTION PRESTATIONS\STOCKS 2019\[Stocks Prestations 2019.xlsx]Sem "&INT((COLUMN()+3)/5)&"'!$I"&ROWS($1:7)) -> 0 | HK6: =INDIRECT("'I:\Ociane\Services aux Adhérents\Services aux Adhérents par Centre de Gestion\0 Tous centres\DEPARTEMENT GESTION PRESTATIONS\STOCKS 2019\[Stocks Prestations 2019.xlsx]Sem "&INT((COLUMN()+3)/5)&"'!$J"&ROWS($1:7)) -> 0 | HL6: =INDIRECT("'I:\Ociane\Services aux Adhérents\Services aux Adhérents par Centre de Gestion\0 Tous centres\DEPARTEMENT GESTION PRESTATIONS\STOCKS 2019\[Stocks Prestations 2019.xlsx]Sem "&INT((COLUMN()+3)/5)&"'!$N"&ROWS($1:7)) -> 0 | HM6: =INDIRECT("'I:\Ociane\Services aux Adhérents\Services aux Adhérents par Centre de Gestion\0 Tous centres\DEPARTEMENT GESTION PRESTATIONS\STOCKS 2019\[Stocks Prestations 2019.xlsx]Sem "&INT((COLUMN()+3)/5)&"'!$P"&ROWS($1:7)) -> 0 | HN6: =INDIRECT("'I:\Ociane\Services aux Adhérents\Services aux Adhérents par Centre de Gestion\0 Tous centres\DEPARTEMENT GESTION PRESTATIONS\STOCKS 2019\[Stocks Prestations 2019.xlsx]Sem "&INT((COLUMN()+3)/5)&"'!$H"&ROWS($1:7)) -> 0 | HO6: =INDIRECT("'I:\Ociane\Services aux Adhérents\Services aux Adhérents par Centre de Gestion\0 Tous centres\DEPARTEMENT GESTION PRESTATIONS\STOCKS 2019\[Stocks Prestations 2019.xlsx]Sem "&INT((COLUMN()+3)/5)&"'!$I"&ROWS($1:7)) -> 0 | HP6: =INDIRECT("'I:\Ociane\Services aux Adhérents\Services aux Adhérents par Centre de Gestion\0 Tous centres\DEPARTEMENT GESTION PRESTATIONS\STOCKS 2019\[Stocks Prestations 2019.xlsx]Sem "&INT((COLUMN()+3)/5)&"'!$J"&ROWS($1:7)) -> 0 | HQ6: =INDIRECT("'I:\Ociane\Services aux Adhérents\Services aux Adhérents par Centre de Gestion\0 Tous centres\DEPARTEMENT GESTION PRESTATIONS\STOCKS 2019\[Stocks Prestations 2019.xlsx]Sem "&INT((COLUMN()+3)/5)&"'!$N"&ROWS($1:7)) -> 0 | HR6: =INDIRECT("'I:\Ociane\Services aux Adhérents\Services aux Adhérents par Centre de Gestion\0 Tous centres\DEPARTEMENT GESTION PRESTATIONS\STOCKS 2019\[Stocks Prestations 2019.xlsx]Sem "&INT((COLUMN()+3)/5)&"'!$P"&ROWS($1:7)) -> 0 | HS6: =INDIRECT("'I:\Ociane\Services aux Adhérents\Services aux Adhérents par Centre de Gestion\0 Tous centres\DEPARTEMENT GESTION PRESTATIONS\STOCKS 2019\[Stocks Prestations 2019.xlsx]Sem "&INT((COLUMN()+3)/5)&"'!$H"&ROWS($1:7)) -> 0 | HT6: =INDIRECT("'I:\Ociane\Services aux Adhérents\Services aux Adhérents par Centre de Gestion\0 Tous centres\DEPARTEMENT GESTION PRESTATIONS\STOCKS 2019\[Stocks Prestations 2019.xlsx]Sem "&INT((COLUMN()+3)/5)&"'!$I"&ROWS($1:7)) -> 0 | HU6: =INDIRECT("'I:\Ociane\Services aux Adhérents\Services aux Adhérents par Centre de Gestion\0 Tous centres\DEPARTEMENT GESTION PRESTATIONS\STOCKS 2019\[Stocks Prestations 2019.xlsx]Sem "&INT((COLUMN()+3)/5)&"'!$J"&ROWS($1:7)) -> 0 | HV6: =INDIRECT("'I:\Ociane\Services aux Adhérents\Services aux Adhérents par Centre de Gestion\0 Tous centres\DEPARTEMENT GESTION PRESTATIONS\STOCKS 2019\[Stocks Prestations 2019.xlsx]Sem "&INT((COLUMN()+3)/5)&"'!$N"&ROWS($1:7)) -> 0 | HW6: =INDIRECT("'I:\Ociane\Services aux Adhérents\Services aux Adhérents par Centre de Gestion\0 Tous centres\DEPARTEMENT GESTION PRESTATIONS\STOCKS 2019\[Stocks Prestations 2019.xlsx]Sem "&INT((COLUMN()+3)/5)&"'!$P"&ROWS($1:7)) -> 0 | HX6: =INDIRECT("'I:\Ociane\Services aux Adhérents\Services aux Adhérents par Centre de Gestion\0 Tous centres\DEPARTEMENT GESTION PRESTATIONS\STOCKS 2019\[Stocks Prestations 2019.xlsx]Sem "&INT((COLUMN()+3)/5)&"'!$H"&ROWS($1:7)) -> 0 | HY6: =INDIRECT("'I:\Ociane\Services aux Adhérents\Services aux Adhérents par Centre de Gestion\0 Tous centres\DEPARTEMENT GESTION PRESTATIONS\STOCKS 2019\[Stocks Prestations 2019.xlsx]Sem "&INT((COLUMN()+3)/5)&"'!$I"&ROWS($1:7)) -> 0 | HZ6: =INDIRECT("'I:\Ociane\Services aux Adhérents\Services aux Adhérents par Centre de Gestion\0 Tous centres\DEPARTEMENT GESTION PRESTATIONS\STOCKS 2019\[Stocks Prestations 2019.xlsx]Sem "&INT((COLUMN()+3)/5)&"'!$J"&ROWS($1:7)) -> 0 | IA6: =INDIRECT("'I:\Ociane\Services aux Adhérents\Services aux Adhérents par Centre de Gestion\0 Tous centres\DEPARTEMENT GESTION PRESTATIONS\STOCKS 2019\[Stocks Prestations 2019.xlsx]Sem "&INT((COLUMN()+3)/5)&"'!$N"&ROWS($1:7)) -> 0 | IB6: =INDIRECT("'I:\Ociane\Services aux Adhérents\Services aux Adhérents par Centre de Gestion\0 Tous centres\DEPARTEMENT GESTION PRESTATIONS\STOCKS 2019\[Stocks Prestations 2019.xlsx]Sem "&INT((COLUMN()+3)/5)&"'!$P"&ROWS($1:7)) -> 0 | IC6: =INDIRECT("'I:\Ociane\Services aux Adhérents\Services aux Adhérents par Centre de Gestion\0 Tous centres\DEPARTEMENT GESTION PRESTATIONS\STOCKS 2019\[Stocks Prestations 2019.xlsx]Sem "&INT((COLUMN()+3)/5)&"'!$H"&ROWS($1:7)) -> 0 | ID6: =INDIRECT("'I:\Ociane\Services aux Adhérents\Services aux Adhérents par Centre de Gestion\0 Tous centres\DEPARTEMENT GESTION PRESTATIONS\STOCKS 2019\[Stocks Prestations 2019.xlsx]Sem "&INT((COLUMN()+3)/5)&"'!$I"&ROWS($1:7)) -> 0 | IE6: =INDIRECT("'I:\Ociane\Services aux Adhérents\Services aux Adhérents par Centre de Gestion\0 Tous centres\DEPARTEMENT GESTION PRESTATIONS\STOCKS 2019\[Stocks Prestations 2019.xlsx]Sem "&INT((COLUMN()+3)/5)&"'!$J"&ROWS($1:7)) -> 0 | IF6: =INDIRECT("'I:\Ociane\Services aux Adhérents\Services aux Adhérents par Centre de Gestion\0 Tous centres\DEPARTEMENT GESTION PRESTATIONS\STOCKS 2019\[Stocks Prestations 2019.xlsx]Sem "&INT((COLUMN()+3)/5)&"'!$N"&ROWS($1:7)) -> 0 | IG6: =INDIRECT("'I:\Ociane\Services aux Adhérents\Services aux Adhérents par Centre de Gestion\0 Tous centres\DEPARTEMENT GESTION PRESTATIONS\STOCKS 2019\[Stocks Prestations 2019.xlsx]Sem "&INT((COLUMN()+3)/5)&"'!$P"&ROWS($1:7)) -> 0 | IH6: =INDIRECT("'I:\Ociane\Services aux Adhérents\Services aux Adhérents par Centre de Gestion\0 Tous centres\DEPARTEMENT GESTION PRESTATIONS\STOCKS 2019\[Stocks Prestations 2019.xlsx]Sem "&INT((COLUMN()+3)/5)&"'!$H"&ROWS($1:7)) -> 0 | II6: =INDIRECT("'I:\Ociane\Services aux Adhérents\Services aux Adhérents par Centre de Gestion\0 Tous centres\DEPARTEMENT GESTION PRESTATIONS\STOCKS 2019\[Stocks Prestations 2019.xlsx]Sem "&INT((COLUMN()+3)/5)&"'!$I"&ROWS($1:7)) -> 0 | IJ6: =INDIRECT("'I:\Ociane\Services aux Adhérents\Services aux Adhérents par Centre de Gestion\0 Tous centres\DEPARTEMENT GESTION PRESTATIONS\STOCKS 2019\[Stocks Prestations 2019.xlsx]Sem "&INT((COLUMN()+3)/5)&"'!$J"&ROWS($1:7)) -> 0 | IK6: =INDIRECT("'I:\Ociane\Services aux Adhérents\Services aux Adhérents par Centre de Gestion\0 Tous centres\DEPARTEMENT GESTION PRESTATIONS\STOCKS 2019\[Stocks Prestations 2019.xlsx]Sem "&INT((COLUMN()+3)/5)&"'!$N"&ROWS($1:7)) -> 0 | IL6: =INDIRECT("'I:\Ociane\Services aux Adhérents\Services aux Adhérents par Centre de Gestion\0 Tous centres\DEPARTEMENT GESTION PRESTATIONS\STOCKS 2019\[Stocks Prestations 2019.xlsx]Sem "&INT((COLUMN()+3)/5)&"'!$P"&ROWS($1:7)) -> 0 | IM6: =INDIRECT("'I:\Ociane\Services aux Adhérents\Services aux Adhérents par Centre de Gestion\0 Tous centres\DEPARTEMENT GESTION PRESTATIONS\STOCKS 2019\[Stocks Prestations 2019.xlsx]Sem "&INT((COLUMN()+3)/5)&"'!$H"&ROWS($1:7)) -> 0 | IN6: =INDIRECT("'I:\Ociane\Services aux Adhérents\Services aux Adhérents par Centre de Gestion\0 Tous centres\DEPARTEMENT GESTION PRESTATIONS\STOCKS 2019\[Stocks Prestations 2019.xlsx]Sem "&INT((COLUMN()+3)/5)&"'!$I"&ROWS($1:7)) -> 0 | IO6: =INDIRECT("'I:\Ociane\Services aux Adhérents\Services aux Adhérents par Centre de Gestion\0 Tous centres\DEPARTEMENT GESTION PRESTATIONS\STOCKS 2019\[Stocks Prestations 2019.xlsx]Sem "&INT((COLUMN()+3)/5)&"'!$J"&ROWS($1:7)) -> 0 | IP6: =INDIRECT("'I:\Ociane\Services aux Adhérents\Services aux Adhérents par Centre de Gestion\0 Tous centres\DEPARTEMENT GESTION PRESTATIONS\STOCKS 2019\[Stocks Prestations 2019.xlsx]Sem "&INT((COLUMN()+3)/5)&"'!$N"&ROWS($1:7)) -> 0 | IQ6: =INDIRECT("'I:\Ociane\Services aux Adhérents\Services aux Adhérents par Centre de Gestion\0 Tous centres\DEPARTEMENT GESTION PRESTATIONS\STOCKS 2019\[Stocks Prestations 2019.xlsx]Sem "&INT((COLUMN()+3)/5)&"'!$P"&ROWS($1:7)) -> 0 | IR6: =INDIRECT("'I:\Ociane\Services aux Adhérents\Services aux Adhérents par Centre de Gestion\0 Tous centres\DEPARTEMENT GESTION PRESTATIONS\STOCKS 2019\[Stocks Prestations 2019.xlsx]Sem "&INT((COLUMN()+3)/5)&"'!$H"&ROWS($1:7)) -> 0 | IS6: =INDIRECT("'I:\Ociane\Services aux Adhérents\Services aux Adhérents par Centre de Gestion\0 Tous centres\DEPARTEMENT GESTION PRESTATIONS\STOCKS 2019\[Stocks Prestations 2019.xlsx]Sem "&INT((COLUMN()+3)/5)&"'!$I"&ROWS($1:7)) -> 0 | IT6: =INDIRECT("'I:\Ociane\Services aux Adhérents\Services aux Adhérents par Centre de Gestion\0 Tous centres\DEPARTEMENT GESTION PRESTATIONS\STOCKS 2019\[Stocks Prestations 2019.xlsx]Sem "&INT((COLUMN()+3)/5)&"'!$J"&ROWS($1:7)) -> 0 | IU6: =INDIRECT("'I:\Ociane\Services aux Adhérents\Services aux Adhérents par Centre de Gestion\0 Tous centres\DEPARTEMENT GESTION PRESTATIONS\STOCKS 2019\[Stocks Prestations 2019.xlsx]Sem "&INT((COLUMN()+3)/5)&"'!$N"&ROWS($1:7)) -> 0 | IV6: =INDIRECT("'I:\Ociane\Services aux Adhérents\Services aux Adhérents par Centre de Gestion\0 Tous centres\DEPARTEMENT GESTION PRESTATIONS\STOCKS 2019\[Stocks Prestations 2019.xlsx]Sem "&INT((COLUMN()+3)/5)&"'!$P"&ROWS($1:7)) -> 0 | IW6: =INDIRECT("'I:\Ociane\Services aux Adhérents\Services aux Adhérents par Centre de Gestion\0 Tous centres\DEPARTEMENT GESTION PRESTATIONS\STOCKS 2019\[Stocks Prestations 2019.xlsx]Sem "&INT((COLUMN()+3)/5)&"'!$H"&ROWS($1:7)) -> 0 | IX6: =INDIRECT("'I:\Ociane\Services aux Adhérents\Services aux Adhérents par Centre de Gestion\0 Tous centres\DEPARTEMENT GESTION PRESTATIONS\STOCKS 2019\[Stocks Prestations 2019.xlsx]Sem "&INT((COLUMN()+3)/5)&"'!$I"&ROWS($1:7)) -> 0 | IY6: =INDIRECT("'I:\Ociane\Services aux Adhérents\Services aux Adhérents par Centre de Gestion\0 Tous centres\DEPARTEMENT GESTION PRESTATIONS\STOCKS 2019\[Stocks Prestations 2019.xlsx]Sem "&INT((COLUMN()+3)/5)&"'!$J"&ROWS($1:7)) -> 0 | IZ6: =INDIRECT("'I:\Ociane\Services aux Adhérents\Services aux Adhérents par Centre de Gestion\0 Tous centres\DEPARTEMENT GESTION PRESTATIONS\STOCKS 2019\[Stocks Prestations 2019.xlsx]Sem "&INT((COLUMN()+3)/5)&"'!$N"&ROWS($1:7)) -> 0 | JA6: =INDIRECT("'I:\Ociane\Services aux Adhérents\Services aux Adhérents par Centre de Gestion\0 Tous centres\DEPARTEMENT GESTION PRESTATIONS\STOCKS 2019\[Stocks Prestations 2019.xlsx]Sem "&INT((COLUMN()+3)/5)&"'!$P"&ROWS($1:7)) -> 0 | JB6: =INDIRECT("'I:\Ociane\Services aux Adhérents\Services aux Adhérents par Centre de Gestion\0 Tous centres\DEPARTEMENT GESTION PRESTATIONS\STOCKS 2019\[Stocks Prestations 2019.xlsx]Sem "&INT((COLUMN()+3)/5)&"'!$H"&ROWS($1:7)) -> 0 | JC6: =INDIRECT("'I:\Ociane\Services aux Adhérents\Services aux Adhérents par Centre de Gestion\0 Tous centres\DEPARTEMENT GESTION PRESTATIONS\STOCKS 2019\[Stocks Prestations 2019.xlsx]Sem "&INT((COLUMN()+3)/5)&"'!$I"&ROWS($1:7)) -> 0 | JD6: =INDIRECT("'I:\Ociane\Services aux Adhérents\Services aux Adhérents par Centre de Gestion\0 Tous centres\DEPARTEMENT GESTION PRESTATIONS\STOCKS 2019\[Stocks Prestations 2019.xlsx]Sem "&INT((COLUMN()+3)/5)&"'!$J"&ROWS($1:7)) -> 0 | JE6: =INDIRECT("'I:\Ociane\Services aux Adhérents\Services aux Adhérents par Centre de Gestion\0 Tous centres\DEPARTEMENT GESTION PRESTATIONS\STOCKS 2019\[Stocks Prestations 2019.xlsx]Sem "&INT((COLUMN()+3)/5)&"'!$N"&ROWS($1:7)) -> 0 | JF6: =INDIRECT("'I:\Ociane\Services aux Adhérents\Services aux Adhérents par Centre de Gestion\0 Tous centres\DEPARTEMENT GESTION PRESTATIONS\STOCKS 2019\[Stocks Prestations 2019.xlsx]Sem "&INT((COLUMN()+3)/5)&"'!$P"&ROWS($1:7)) -> 0
A7: PS HOSPI | B7: ='[1]Sem 1'!H11 -> 0 | C7: ='[1]Sem 1'!I11 -> 0 | D7: ='[1]Sem 1'!J11 -> 0 | E7: ='[1]Sem 1'!N11 -> 0 | F7: ='[1]Sem 1'!P11 -> 0 | G7: ='[1]Sem 2'!H11 -> 0 | H7: ='[1]Sem 2'!I11 -> 0 | I7: ='[1]Sem 2'!J11 -> 0 | J7: ='[1]Sem 2'!N11 -> #DIV/0! | K7: ='[1]Sem 2'!P11 -> 0 | L7: ='[1]Sem 3'!H11 -> 0 | M7: ='[1]Sem 3'!I11 -> 0 | N7: ='[1]Sem 3'!J11 -> 0 | O7: ='[1]Sem 3'!N11 -> #DIV/0! | P7: ='[1]Sem 1'!AI11 -> 0 | Q7: ='[1]Sem 4'!H11 -> 0 | R7: ='[1]Sem 4'!I11 -> 0 | S7: ='[1]Sem 4'!J11 -> 0 | T7: ='[1]Sem 4'!N11 -> #DIV/0! | U7: ='[1]Sem 4'!P11 -> 0 | V7: ='[1]Sem 5'!H11 -> 0 | W7: ='[1]Sem 5'!I11 -> 0 | X7: ='[1]Sem 5'!J11 -> 0 | Y7: ='[1]Sem 5'!N11 -> #DIV/0! | Z7: ='[1]Sem 5'!P11 -> 0 | AA7: ='[1]Sem 6'!H11 -> 0 | AB7: ='[1]Sem 6'!I11 -> 0 | AC7: ='[1]Sem 6'!J11 -> 0 | AD7: ='[1]Sem 6'!N11 -> #DIV/0! | AE7: ='[1]Sem 6'!P11 -> 0 | AF7: ='[1]Sem 7'!H11 -> 0 | AG7: ='[1]Sem 7'!I11 -> 0 | AH7: ='[1]Sem 7'!J11 -> 0 | AI7: ='[1]Sem 7'!N11 -> #DIV/0! | AJ7: ='[1]Sem 7'!P11 -> 0 | AK7: ='[1]Sem 8'!H11 -> 0 | AL7: ='[1]Sem 8'!I11 -> 0 | AM7: ='[1]Sem 8'!J11 -> 0 | AN7: ='[1]Sem 8'!N11 -> #DIV/0! | AO7: ='[1]Sem 8'!P11 -> 0 | AP7: ='[1]Sem 9'!H11 -> 0 | AQ7: ='[1]Sem 9'!I11 -> 0 | AR7: ='[1]Sem 9'!J11 -> 0 | AS7: ='[1]Sem 9'!N11 -> #DIV/0! | AT7: ='[1]Sem 9'!P11 -> 0 | AU7: ='[1]Sem 10'!H11 -> 0 | AV7: ='[1]Sem 10'!I11 -> 0 | AW7: ='[1]Sem 10'!J11 -> 0 | AX7: ='[1]Sem 10'!N11 -> #DIV/0! | AY7: ='[1]Sem 10'!P11 -> 0 | AZ7: ='[1]Sem 11'!H11 -> 0 | BA7: ='[1]Sem 11'!I11 -> 0 | BB7: ='[1]Sem 11'!J11 -> 0 | BC7: ='[1]Sem 11'!N11 -> #DIV/0! | BD7: ='[1]Sem 11'!P11 -> 0 | BE7: ='[1]Sem 12'!H11 -> 0 | BF7: ='[1]Sem 12'!I11 -> 0 | BG7: ='[1]Sem 12'!J11 -> 0 | BH7: ='[1]Sem 12'!N11 -> #DIV/0! | BI7: ='[1]Sem 12'!P11 -> 0 | BJ7: ='[1]Sem 13'!H11 -> 0 | BK7: ='[1]Sem 13'!I11 -> 0 | BL7: ='[1]Sem 13'!J11 -> 0 | BM7: ='[1]Sem 13'!N11 -> #DIV/0! | BN7: ='[1]Sem 13'!P11 -> 0 | BO7: ='[1]Sem 14'!H11 -> 0 | BP7: ='[1]Sem 14'!I11 -> 0 | BQ7: ='[1]Sem 14'!J11 -> 0 | BR7: ='[1]Sem 14'!N11 -> #DIV/0! | BS7: ='[1]Sem 14'!P11 -> 0 | BT7: ='[1]Sem 15'!H11 -> 0 | BU7: ='[1]Sem 15'!I11 -> 0 | BV7: ='[1]Sem 15'!J11 -> 0 | BW7: ='[1]Sem 15'!N11 -> #DIV/0! | BX7: ='[1]Sem 15'!P11 -> 0 | BY7: ='[1]Sem 16'!H11 -> 0 | BZ7: ='[1]Sem 16'!I11 -> 0 | CA7: ='[1]Sem 16'!J11 -> 0 | CB7: ='[1]Sem 16'!N11 -> #DIV/0! | CC7: ='[1]Sem 16'!P11 -> 0 | CD7: =INDIRECT("'I:\Ociane\Services aux Adhérents\Services aux Adhérents par Centre de Gestion\0 Tous centres\DEPARTEMENT GESTION PRESTATIONS\STOCKS 2019\[Stocks Prestations 2019.xlsx]Sem "&INT((COLUMN()+3)/5)&"'!$H"&ROWS($1:9)) -> 0 | CE7: =INDIRECT("'I:\Ociane\Services aux Adhérents\Services aux Adhérents par Centre de Gestion\0 Tous centres\DEPARTEMENT GESTION PRESTATIONS\STOCKS 2019\[Stocks Prestations 2019.xlsx]Sem "&INT((COLUMN()+3)/5)&"'!$I"&ROWS($1:9)) -> 0 | CF7: =INDIRECT("'I:\Ociane\Services aux Adhérents\Services aux Adhérents par Centre de Gestion\0 Tous centres\DEPARTEMENT GESTION PRESTATIONS\STOCKS 2019\[Stocks Prestations 2019.xlsx]Sem "&INT((COLUMN()+3)/5)&"'!$J"&ROWS($1:9)) -> 0 | CG7: =INDIRECT("'I:\Ociane\Services aux Adhérents\Services aux Adhérents par Centre de Gestion\0 Tous centres\DEPARTEMENT GESTION PRESTATIONS\STOCKS 2019\[Stocks Prestations 2019.xlsx]Sem "&INT((COLUMN()+3)/5)&"'!$N"&ROWS($1:9)) -> 0 | CH7: =INDIRECT("'I:\Ociane\Services aux Adhérents\Services aux Adhérents par Centre de Gestion\0 Tous centres\DEPARTEMENT GESTION PRESTATIONS\STOCKS 2019\[Stocks Prestations 2019.xlsx]Sem "&INT((COLUMN()+3)/5)&"'!$P"&ROWS($1:9)) -> 0 | CI7: =INDIRECT("'I:\Ociane\Services aux Adhérents\Services aux Adhérents par Centre de Gestion\0 Tous centres\DEPARTEMENT GESTION PRESTATIONS\STOCKS 2019\[Stocks Prestations 2019.xlsx]Sem "&INT((COLUMN()+3)/5)&"'!$H"&ROWS($1:9)) -> 0 | CJ7: =INDIRECT("'I:\Ociane\Services aux Adhérents\Services aux Adhérents par Centre de Gestion\0 Tous centres\DEPARTEMENT GESTION PRESTATIONS\STOCKS 2019\[Stocks Prestations 2019.xlsx]Sem "&INT((COLUMN()+3)/5)&"'!$I"&ROWS($1:9)) -> 0 | CK7: =INDIRECT("'I:\Ociane\Services aux Adhérents\Services aux Adhérents par Centre de Gestion\0 Tous centres\DEPARTEMENT GESTION PRESTATIONS\STOCKS 2019\[Stocks Prestations 2019.xlsx]Sem "&INT((COLUMN()+3)/5)&"'!$J"&ROWS($1:9)) -> 0 | CL7: =INDIRECT("'I:\Ociane\Services aux Adhérents\Services aux Adhérents par Centre de Gestion\0 Tous centres\DEPARTEMENT GESTION PRESTATIONS\STOCKS 2019\[Stocks Prestations 2019.xlsx]Sem "&INT((COLUMN()+3)/5)&"'!$N"&ROWS($1:9)) -> 0 | CM7: =INDIRECT("'I:\Ociane\Services aux Adhérents\Services aux Adhérents par Centre de Gestion\0 Tous centres\DEPARTEMENT GESTION PRESTATIONS\STOCKS 2019\[Stocks Prestations 2019.xlsx]Sem "&INT((COLUMN()+3)/5)&"'!$P"&ROWS($1:9)) -> 0 | CN7: =INDIRECT("'I:\Ociane\Services aux Adhérents\Services aux Adhérents par Centre de Gestion\0 Tous centres\DEPARTEMENT GESTION PRESTATIONS\STOCKS 2019\[Stocks Prestations 2019.xlsx]Sem "&INT((COLUMN()+3)/5)&"'!$H"&ROWS($1:9)) -> 0 | CO7: =INDIRECT("'I:\Ociane\Services aux Adhérents\Services aux Adhérents par Centre de Gestion\0 Tous centres\DEPARTEMENT GESTION PRESTATIONS\STOCKS 2019\[Stocks Prestations 2019.xlsx]Sem "&INT((COLUMN()+3)/5)&"'!$I"&ROWS($1:9)) -> 0 | CP7: =INDIRECT("'I:\Ociane\Services aux Adhérents\Services aux Adhérents par Centre de Gestion\0 Tous centres\DEPARTEMENT GESTION PRESTATIONS\STOCKS 2019\[Stocks Prestations 2019.xlsx]Sem "&INT((COLUMN()+3)/5)&"'!$J"&ROWS($1:9)) -> 0 | CQ7: =INDIRECT("'I:\Ociane\Services aux Adhérents\Services aux Adhérents par Centre de Gestion\0 Tous centres\DEPARTEMENT GESTION PRESTATIONS\STOCKS 2019\[Stocks Prestations 2019.xlsx]Sem "&INT((COLUMN()+3)/5)&"'!$N"&ROWS($1:9)) -> 0 | CR7: =INDIRECT("'I:\Ociane\Services aux Adhérents\Services aux Adhérents par Centre de Gestion\0 Tous centres\DEPARTEMENT GESTION PRESTATIONS\STOCKS 2019\[Stocks Prestations 2019.xlsx]Sem "&INT((COLUMN()+3)/5)&"'!$P"&ROWS($1:9)) -> 0 | CS7: =INDIRECT("'I:\Ociane\Services aux Adhérents\Services aux Adhérents par Centre de Gestion\0 Tous centres\DEPARTEMENT GESTION PRESTATIONS\STOCKS 2019\[Stocks Prestations 2019.xlsx]Sem "&INT((COLUMN()+3)/5)&"'!$H"&ROWS($1:9)) -> 0 | CT7: =INDIRECT("'I:\Ociane\Services aux Adhérents\Services aux Adhérents par Centre de Gestion\0 Tous centres\DEPARTEMENT GESTION PRESTATIONS\STOCKS 2019\[Stocks Prestations 2019.xlsx]Sem "&INT((COLUMN()+3)/5)&"'!$I"&ROWS($1:9)) -> 0 | CU7: =INDIRECT("'I:\Ociane\Services aux Adhérents\Services aux Adhérents par Centre de Gestion\0 Tous centres\DEPARTEMENT GESTION PRESTATIONS\STOCKS 2019\[Stocks Prestations 2019.xlsx]Sem "&INT((COLUMN()+3)/5)&"'!$J"&ROWS($1:9)) -> 0 | CV7: =INDIRECT("'I:\Ociane\Services aux Adhérents\Services aux Adhérents par Centre de Gestion\0 Tous centres\DEPARTEMENT GESTION PRESTATIONS\STOCKS 2019\[Stocks Prestations 2019.xlsx]Sem "&INT((COLUMN()+3)/5)&"'!$N"&ROWS($1:9)) -> 0 | CW7: =INDIRECT("'I:\Ociane\Services aux Adhérents\Services aux Adhérents par Centre de Gestion\0 Tous centres\DEPARTEMENT GESTION PRESTATIONS\STOCKS 2019\[Stocks Prestations 2019.xlsx]Sem "&INT((COLUMN()+3)/5)&"'!$P"&ROWS($1:9)) -> 0 | CX7: =INDIRECT("'I:\Ociane\Services aux Adhérents\Services aux Adhérents par Centre de Gestion\0 Tous centres\DEPARTEMENT GESTION PRESTATIONS\STOCKS 2019\[Stocks Prestations 2019.xlsx]Sem "&INT((COLUMN()+3)/5)&"'!$H"&ROWS($1:9)) -> 0 | CY7: =INDIRECT("'I:\Ociane\Services aux Adhérents\Services aux Adhérents par Centre de Gestion\0 Tous centres\DEPARTEMENT GESTION PRESTATIONS\STOCKS 2019\[Stocks Prestations 2019.xlsx]Sem "&INT((COLUMN()+3)/5)&"'!$I"&ROWS($1:9)) -> 0 | CZ7: =INDIRECT("'I:\Ociane\Services aux Adhérents\Services aux Adhérents par Centre de Gestion\0 Tous centres\DEPARTEMENT GESTION PRESTATIONS\STOCKS 2019\[Stocks Prestations 2019.xlsx]Sem "&INT((COLUMN()+3)/5)&"'!$J"&ROWS($1:9)) -> 0 | DA7: =INDIRECT("'I:\Ociane\Services aux Adhérents\Services aux Adhérents par Centre de Gestion\0 Tous centres\DEPARTEMENT GESTION PRESTATIONS\STOCKS 2019\[Stocks Prestations 2019.xlsx]Sem "&INT((COLUMN()+3)/5)&"'!$N"&ROWS($1:9)) -> 0 | DB7: =INDIRECT("'I:\Ociane\Services aux Adhérents\Services aux Adhérents par Centre de Gestion\0 Tous centres\DEPARTEMENT GESTION PRESTATIONS\STOCKS 2019\[Stocks Prestations 2019.xlsx]Sem "&INT((COLUMN()+3)/5)&"'!$P"&ROWS($1:9)) -> 0 | DC7: =INDIRECT("'I:\Ociane\Services aux Adhérents\Services aux Adhérents par Centre de Gestion\0 Tous centres\DEPARTEMENT GESTION PRESTATIONS\STOCKS 2019\[Stocks Prestations 2019.xlsx]Sem "&INT((COLUMN()+3)/5)&"'!$H"&ROWS($1:9)) -> 0 | DD7: =INDIRECT("'I:\Ociane\Services aux Adhérents\Services aux Adhérents par Centre de Gestion\0 Tous centres\DEPARTEMENT GESTION PRESTATIONS\STOCKS 2019\[Stocks Prestations 2019.xlsx]Sem "&INT((COLUMN()+3)/5)&"'!$I"&ROWS($1:9)) -> 0 | DE7: =INDIRECT("'I:\Ociane\Services aux Adhérents\Services aux Adhérents par Centre de Gestion\0 Tous centres\DEPARTEMENT GESTION PRESTATIONS\STOCKS 2019\[Stocks Prestations 2019.xlsx]Sem "&INT((COLUMN()+3)/5)&"'!$J"&ROWS($1:9)) -> 0 | DF7: =INDIRECT("'I:\Ociane\Services aux Adhérents\Services aux Adhérents par Centre de Gestion\0 Tous centres\DEPARTEMENT GESTION PRESTATIONS\STOCKS 2019\[Stocks Prestations 2019.xlsx]Sem "&INT((COLUMN()+3)/5)&"'!$N"&ROWS($1:9)) -> 0 | DG7: =INDIRECT("'I:\Ociane\Services aux Adhérents\Services aux Adhérents par Centre de Gestion\0 Tous centres\DEPARTEMENT GESTION PRESTATIONS\STOCKS 2019\[Stocks Prestations 2019.xlsx]Sem "&INT((COLUMN()+3)/5)&"'!$P"&ROWS($1:9)) -> 0 | DH7: =INDIRECT("'I:\Ociane\Services aux Adhérents\Services aux Adhérents par Centre de Gestion\0 Tous centres\DEPARTEMENT GESTION PRESTATIONS\STOCKS 2019\[Stocks Prestations 2019.xlsx]Sem "&INT((COLUMN()+3)/5)&"'!$H"&ROWS($1:9)) -> 0 | DI7: =INDIRECT("'I:\Ociane\Services aux Adhérents\Services aux Adhérents par Centre de Gestion\0 Tous centres\DEPARTEMENT GESTION PRESTATIONS\STOCKS 2019\[Stocks Prestations 2019.xlsx]Sem "&INT((COLUMN()+3)/5)&"'!$I"&ROWS($1:9)) -> 0 | DJ7: =INDIRECT("'I:\Ociane\Services aux Adhérents\Services aux Adhérents par Centre de Gestion\0 Tous centres\DEPARTEMENT GESTION PRESTATIONS\STOCKS 2019\[Stocks Prestations 2019.xlsx]Sem "&INT((COLUMN()+3)/5)&"'!$J"&ROWS($1:9)) -> 0 | DK7: =INDIRECT("'I:\Ociane\Services aux Adhérents\Services aux Adhérents par Centre de Gestion\0 Tous centres\DEPARTEMENT GESTION PRESTATIONS\STOCKS 2019\[Stocks Prestations 2019.xlsx]Sem "&INT((COLUMN()+3)/5)&"'!$N"&ROWS($1:9)) -> 0 | DL7: =INDIRECT("'I:\Ociane\Services aux Adhérents\Services aux Adhérents par Centre de Gestion\0 Tous centres\DEPARTEMENT GESTION PRESTATIONS\STOCKS 2019\[Stocks Prestations 2019.xlsx]Sem "&INT((COLUMN()+3)/5)&"'!$P"&ROWS($1:9)) -> 0 | DM7: =INDIRECT("'I:\Ociane\Services aux Adhérents\Services aux Adhérents par Centre de Gestion\0 Tous centres\DEPARTEMENT GESTION PRESTATIONS\STOCKS 2019\[Stocks Prestations 2019.xlsx]Sem "&INT((COLUMN()+3)/5)&"'!$H"&ROWS($1:9)) -> 0 | DN7: =INDIRECT("'I:\Ociane\Services aux Adhérents\Services aux Adhérents par Centre de Gestion\0 Tous centres\DEPARTEMENT GESTION PRESTATIONS\STOCKS 2019\[Stocks Prestations 2019.xlsx]Sem "&INT((COLUMN()+3)/5)&"'!$I"&ROWS($1:9)) -> 0 | DO7: =INDIRECT("'I:\Ociane\Services aux Adhérents\Services aux Adhérents par Centre de Gestion\0 Tous centres\DEPARTEMENT GESTION PRESTATIONS\STOCKS 2019\[Stocks Prestations 2019.xlsx]Sem "&INT((COLUMN()+3)/5)&"'!$J"&ROWS($1:9)) -> 0 | DP7: =INDIRECT("'I:\Ociane\Services aux Adhérents\Services aux Adhérents par Centre de Gestion\0 Tous centres\DEPARTEMENT GESTION PRESTATIONS\STOCKS 2019\[Stocks Prestations 2019.xlsx]Sem "&INT((COLUMN()+3)/5)&"'!$N"&ROWS($1:9)) -> 0 | DQ7: =INDIRECT("'I:\Ociane\Services aux Adhérents\Services aux Adhérents par Centre de Gestion\0 Tous centres\DEPARTEMENT GESTION PRESTATIONS\STOCKS 2019\[Stocks Prestations 2019.xlsx]Sem "&INT((COLUMN()+3)/5)&"'!$P"&ROWS($1:9)) -> 0 | DR7: =INDIRECT("'I:\Ociane\Services aux Adhérents\Services aux Adhérents par Centre de Gestion\0 Tous centres\DEPARTEMENT GESTION PRESTATIONS\STOCKS 2019\[Stocks Prestations 2019.xlsx]Sem "&INT((COLUMN()+3)/5)&"'!$H"&ROWS($1:9)) -> 0 | DS7: =INDIRECT("'I:\Ociane\Services aux Adhérents\Services aux Adhérents par Centre de Gestion\0 Tous centres\DEPARTEMENT GESTION PRESTATIONS\STOCKS 2019\[Stocks Prestations 2019.xlsx]Sem "&INT((COLUMN()+3)/5)&"'!$I"&ROWS($1:9)) -> 0 | DT7: =INDIRECT("'I:\Ociane\Services aux Adhérents\Services aux Adhérents par Centre de Gestion\0 Tous centres\DEPARTEMENT GESTION PRESTATIONS\STOCKS 2019\[Stocks Prestations 2019.xlsx]Sem "&INT((COLUMN()+3)/5)&"'!$J"&ROWS($1:9)) -> 0 | DU7: =INDIRECT("'I:\Ociane\Services aux Adhérents\Services aux Adhérents par Centre de Gestion\0 Tous centres\DEPARTEMENT GESTION PRESTATIONS\STOCKS 2019\[Stocks Prestations 2019.xlsx]Sem "&INT((COLUMN()+3)/5)&"'!$N"&ROWS($1:9)) -> 0 | DV7: =INDIRECT("'I:\Ociane\Services aux Adhérents\Services aux Adhérents par Centre de Gestion\0 Tous centres\DEPARTEMENT GESTION PRESTATIONS\STOCKS 2019\[Stocks Prestations 2019.xlsx]Sem "&INT((COLUMN()+3)/5)&"'!$P"&ROWS($1:9)) -> 0 | DW7: =INDIRECT("'I:\Ociane\Services aux Adhérents\Services aux Adhérents par Centre de Gestion\0 Tous centres\DEPARTEMENT GESTION PRESTATIONS\STOCKS 2019\[Stocks Prestations 2019.xlsx]Sem "&INT((COLUMN()+3)/5)&"'!$H"&ROWS($1:9)) -> 0 | DX7: =INDIRECT("'I:\Ociane\Services aux Adhérents\Services aux Adhérents par Centre de Gestion\0 Tous centres\DEPARTEMENT GESTION PRESTATIONS\STOCKS 2019\[Stocks Prestations 2019.xlsx]Sem "&INT((COLUMN()+3)/5)&"'!$I"&ROWS($1:9)) -> 0 | DY7: =INDIRECT("'I:\Ociane\Services aux Adhérents\Services aux Adhérents par Centre de Gestion\0 Tous centres\DEPARTEMENT GESTION PRESTATIONS\STOCKS 2019\[Stocks Prestations 2019.xlsx]Sem "&INT((COLUMN()+3)/5)&"'!$J"&ROWS($1:9)) -> 0 | DZ7: =INDIRECT("'I:\Ociane\Services aux Adhérents\Services aux Adhérents par Centre de Gestion\0 Tous centres\DEPARTEMENT GESTION PRESTATIONS\STOCKS 2019\[Stocks Prestations 2019.xlsx]Sem "&INT((COLUMN()+3)/5)&"'!$N"&ROWS($1:9)) -> 0 | EA7: =INDIRECT("'I:\Ociane\Services aux Adhérents\Services aux Adhérents par Centre de Gestion\0 Tous centres\DEPARTEMENT GESTION PRESTATIONS\STOCKS 2019\[Stocks Prestations 2019.xlsx]Sem "&INT((COLUMN()+3)/5)&"'!$P"&ROWS($1:9)) -> 0 | EB7: =INDIRECT("'I:\Ociane\Services aux Adhérents\Services aux Adhérents par Centre de Gestion\0 Tous centres\DEPARTEMENT GESTION PRESTATIONS\STOCKS 2019\[Stocks Prestations 2019.xlsx]Sem "&INT((COLUMN()+3)/5)&"'!$H"&ROWS($1:9)) -> 0 | EC7: =INDIRECT("'I:\Ociane\Services aux Adhérents\Services aux Adhérents par Centre de Gestion\0 Tous centres\DEPARTEMENT GESTION PRESTATIONS\STOCKS 2019\[Stocks Prestations 2019.xlsx]Sem "&INT((COLUMN()+3)/5)&"'!$I"&ROWS($1:9)) -> 0 | ED7: =INDIRECT("'I:\Ociane\Services aux Adhérents\Services aux Adhérents par Centre de Gestion\0 Tous centres\DEPARTEMENT GESTION PRESTATIONS\STOCKS 2019\[Stocks Prestations 2019.xlsx]Sem "&INT((COLUMN()+3)/5)&"'!$J"&ROWS($1:9)) -> 0 | EE7: =INDIRECT("'I:\Ociane\Services aux Adhérents\Services aux Adhérents par Centre de Gestion\0 Tous centres\DEPARTEMENT GESTION PRESTATIONS\STOCKS 2019\[Stocks Prestations 2019.xlsx]Sem "&INT((COLUMN()+3)/5)&"'!$N"&ROWS($1:9)) -> 0 | EF7: =INDIRECT("'I:\Ociane\Services aux Adhérents\Services aux Adhérents par Centre de Gestion\0 Tous centres\DEPARTEMENT GESTION PRESTATIONS\STOCKS 2019\[Stocks Prestations 2019.xlsx]Sem "&INT((COLUMN()+3)/5)&"'!$P"&ROWS($1:9)) -> 0 | EG7: =INDIRECT("'I:\Ociane\Services aux Adhérents\Services aux Adhérents par Centre de Gestion\0 Tous centres\DEPARTEMENT GESTION PRESTATIONS\STOCKS 2019\[Stocks Prestations 2019.xlsx]Sem "&INT((COLUMN()+3)/5)&"'!$H"&ROWS($1:9)) -> 0 | EH7: =INDIRECT("'I:\Ociane\Services aux Adhérents\Services aux Adhérents par Centre de Gestion\0 Tous centres\DEPARTEMENT GESTION PRESTATIONS\STOCKS 2019\[Stocks Prestations 2019.xlsx]Sem "&INT((COLUMN()+3)/5)&"'!$I"&ROWS($1:9)) -> 0 | EI7: =INDIRECT("'I:\Ociane\Services aux Adhérents\Services aux Adhérents par Centre de Gestion\0 Tous centres\DEPARTEMENT GESTION PRESTATIONS\STOCKS 2019\[Stocks Prestations 2019.xlsx]Sem "&INT((COLUMN()+3)/5)&"'!$J"&ROWS($1:9)) -> 0 | EJ7: =INDIRECT("'I:\Ociane\Services aux Adhérents\Services aux Adhérents par Centre de Gestion\0 Tous centres\DEPARTEMENT GESTION PRESTATIONS\STOCKS 2019\[Stocks Prestations 2019.xlsx]Sem "&INT((COLUMN()+3)/5)&"'!$N"&ROWS($1:9)) -> 0 | EK7: =INDIRECT("'I:\Ociane\Services aux Adhérents\Services aux Adhérents par Centre de Gestion\0 Tous centres\DEPARTEMENT GESTION PRESTATIONS\STOCKS 2019\[Stocks Prestations 2019.xlsx]Sem "&INT((COLUMN()+3)/5)&"'!$P"&ROWS($1:9)) -> 0 | EL7: =INDIRECT("'I:\Ociane\Services aux Adhérents\Services aux Adhérents par Centre de Gestion\0 Tous centres\DEPARTEMENT GESTION PRESTATIONS\STOCKS 2019\[Stocks Prestations 2019.xlsx]Sem "&INT((COLUMN()+3)/5)&"'!$H"&ROWS($1:9)) -> 0 | EM7: =INDIRECT("'I:\Ociane\Services aux Adhérents\Services aux Adhérents par Centre de Gestion\0 Tous centres\DEPARTEMENT GESTION PRESTATIONS\STOCKS 2019\[Stocks Prestations 2019.xlsx]Sem "&INT((COLUMN()+3)/5)&"'!$I"&ROWS($1:9)) -> 0 | EN7: =INDIRECT("'I:\Ociane\Services aux Adhérents\Services aux Adhérents par Centre de Gestion\0 Tous centres\DEPARTEMENT GESTION PRESTATIONS\STOCKS 2019\[Stocks Prestations 2019.xlsx]Sem "&INT((COLUMN()+3)/5)&"'!$J"&ROWS($1:9)) -> 0 | EO7: =INDIRECT("'I:\Ociane\Services aux Adhérents\Services aux Adhérents par Centre de Gestion\0 Tous centres\DEPARTEMENT GESTION PRESTATIONS\STOCKS 2019\[Stocks Prestations 2019.xlsx]Sem "&INT((COLUMN()+3)/5)&"'!$N"&ROWS($1:9)) -> 0 | EP7: =INDIRECT("'I:\Ociane\Services aux Adhérents\Services aux Adhérents par Centre de Gestion\0 Tous centres\DEPARTEMENT GESTION PRESTATIONS\STOCKS 2019\[Stocks Prestations 2019.xlsx]Sem "&INT((COLUMN()+3)/5)&"'!$P"&ROWS($1:9)) -> 0 | EQ7: =INDIRECT("'I:\Ociane\Services aux Adhérents\Services aux Adhérents par Centre de Gestion\0 Tous centres\DEPARTEMENT GESTION PRESTATIONS\STOCKS 2019\[Stocks Prestations 2019.xlsx]Sem "&INT((COLUMN()+3)/5)&"'!$H"&ROWS($1:9)) -> 0 | ER7: =INDIRECT("'I:\Ociane\Services aux Adhérents\Services aux Adhérents par Centre de Gestion\0 Tous centres\DEPARTEMENT GESTION PRESTATIONS\STOCKS 2019\[Stocks Prestations 2019.xlsx]Sem "&INT((COLUMN()+3)/5)&"'!$I"&ROWS($1:9)) -> 0 | ES7: =INDIRECT("'I:\Ociane\Services aux Adhérents\Services aux Adhérents par Centre de Gestion\0 Tous centres\DEPARTEMENT GESTION PRESTATIONS\STOCKS 2019\[Stocks Prestations 2019.xlsx]Sem "&INT((COLUMN()+3)/5)&"'!$J"&ROWS($1:9)) -> 0 | ET7: =INDIRECT("'I:\Ociane\Services aux Adhérents\Services aux Adhérents par Centre de Gestion\0 Tous centres\DEPARTEMENT GESTION PRESTATIONS\STOCKS 2019\[Stocks Prestations 2019.xlsx]Sem "&INT((COLUMN()+3)/5)&"'!$N"&ROWS($1:9)) -> 0 | EU7: =INDIRECT("'I:\Ociane\Services aux Adhérents\Services aux Adhérents par Centre de Gestion\0 Tous centres\DEPARTEMENT GESTION PRESTATIONS\STOCKS 2019\[Stocks Prestations 2019.xlsx]Sem "&INT((COLUMN()+3)/5)&"'!$P"&ROWS($1:9)) -> 0 | EV7: =INDIRECT("'I:\Ociane\Services aux Adhérents\Services aux Adhérents par Centre de Gestion\0 Tous centres\DEPARTEMENT GESTION PRESTATIONS\STOCKS 2019\[Stocks Prestations 2019.xlsx]Sem "&INT((COLUMN()+3)/5)&"'!$H"&ROWS($1:9)) -> 0 | EW7: =INDIRECT("'I:\Ociane\Services aux Adhérents\Services aux Adhérents par Centre de Gestion\0 Tous centres\DEPARTEMENT GESTION PRESTATIONS\STOCKS 2019\[Stocks Prestations 2019.xlsx]Sem "&INT((COLUMN()+3)/5)&"'!$I"&ROWS($1:9)) -> 0 | EX7: =INDIRECT("'I:\Ociane\Services aux Adhérents\Services aux Adhérents par Centre de Gestion\0 Tous centres\DEPARTEMENT GESTION PRESTATIONS\STOCKS 2019\[Stocks Prestations 2019.xlsx]Sem "&INT((COLUMN()+3)/5)&"'!$J"&ROWS($1:9)) -> 0 | EY7: =INDIRECT("'I:\Ociane\Services aux Adhérents\Services aux Adhérents par Centre de Gestion\0 Tous centres\DEPARTEMENT GESTION PRESTATIONS\STOCKS 2019\[Stocks Prestations 2019.xlsx]Sem "&INT((COLUMN()+3)/5)&"'!$N"&ROWS($1:9)) -> 0 | EZ7: =INDIRECT("'I:\Ociane\Services aux Adhérents\Services aux Adhérents par Centre de Gestion\0 Tous centres\DEPARTEMENT GESTION PRESTATIONS\STOCKS 2019\[Stocks Prestations 2019.xlsx]Sem "&INT((COLUMN()+3)/5)&"'!$P"&ROWS($1:9)) -> 0 | FA7: =INDIRECT("'I:\Ociane\Services aux Adhérents\Services aux Adhérents par Centre de Gestion\0 Tous centres\DEPARTEMENT GESTION PRESTATIONS\STOCKS 2019\[Stocks Prestations 2019.xlsx]Sem "&INT((COLUMN()+3)/5)&"'!$H"&ROWS($1:9)) -> 0 | FB7: =INDIRECT("'I:\Ociane\Services aux Adhérents\Services aux Adhérents par Centre de Gestion\0 Tous centres\DEPARTEMENT GESTION PRESTATIONS\STOCKS 2019\[Stocks Prestations 2019.xlsx]Sem "&INT((COLUMN()+3)/5)&"'!$I"&ROWS($1:9)) -> 0 | FC7: =INDIRECT("'I:\Ociane\Services aux Adhérents\Services aux Adhérents par Centre de Gestion\0 Tous centres\DEPARTEMENT GESTION PRESTATIONS\STOCKS 2019\[Stocks Prestations 2019.xlsx]Sem "&INT((COLUMN()+3)/5)&"'!$J"&ROWS($1:9)) -> 0 | FD7: =INDIRECT("'I:\Ociane\Services aux Adhérents\Services aux Adhérents par Centre de Gestion\0 Tous centres\DEPARTEMENT GESTION PRESTATIONS\STOCKS 2019\[Stocks Prestations 2019.xlsx]Sem "&INT((COLUMN()+3)/5)&"'!$N"&ROWS($1:9)) -> 0 | FE7: =INDIRECT("'I:\Ociane\Services aux Adhérents\Services aux Adhérents par Centre de Gestion\0 Tous centres\DEPARTEMENT GESTION PRESTATIONS\STOCKS 2019\[Stocks Prestations 2019.xlsx]Sem "&INT((COLUMN()+3)/5)&"'!$P"&ROWS($1:9)) -> 0 | FF7: =INDIRECT("'I:\Ociane\Services aux Adhérents\Services aux Adhérents par Centre de Gestion\0 Tous centres\DEPARTEMENT GESTION PRESTATIONS\STOCKS 2019\[Stocks Prestations 2019.xlsx]Sem "&INT((COLUMN()+3)/5)&"'!$H"&ROWS($1:9)) -> 0 | FG7: =INDIRECT("'I:\Ociane\Services aux Adhérents\Services aux Adhérents par Centre de Gestion\0 Tous centres\DEPARTEMENT GESTION PRESTATIONS\STOCKS 2019\[Stocks Prestations 2019.xlsx]Sem "&INT((COLUMN()+3)/5)&"'!$I"&ROWS($1:9)) -> 0 | FH7: =INDIRECT("'I:\Ociane\Services aux Adhérents\Services aux Adhérents par Centre de Gestion\0 Tous centres\DEPARTEMENT GESTION PRESTATIONS\STOCKS 2019\[Stocks Prestations 2019.xlsx]Sem "&INT((COLUMN()+3)/5)&"'!$J"&ROWS($1:9)) -> 0 | FI7: =INDIRECT("'I:\Ociane\Services aux Adhérents\Services aux Adhérents par Centre de Gestion\0 Tous centres\DEPARTEMENT GESTION PRESTATIONS\STOCKS 2019\[Stocks Prestations 2019.xlsx]Sem "&INT((COLUMN()+3)/5)&"'!$N"&ROWS($1:9)) -> 0 | FJ7: =INDIRECT("'I:\Ociane\Services aux Adhérents\Services aux Adhérents par Centre de Gestion\0 Tous centres\DEPARTEMENT GESTION PRESTATIONS\STOCKS 2019\[Stocks Prestations 2019.xlsx]Sem "&INT((COLUMN()+3)/5)&"'!$P"&ROWS($1:9)) -> 0 | FK7: =INDIRECT("'I:\Ociane\Services aux Adhérents\Services aux Adhérents par Centre de Gestion\0 Tous centres\DEPARTEMENT GESTION PRESTATIONS\STOCKS 2019\[Stocks Prestations 2019.xlsx]Sem "&INT((COLUMN()+3)/5)&"'!$H"&ROWS($1:9)) -> 0 | FL7: =INDIRECT("'I:\Ociane\Services aux Adhérents\Services aux Adhérents par Centre de Gestion\0 Tous centres\DEPARTEMENT GESTION PRESTATIONS\STOCKS 2019\[Stocks Prestations 2019.xlsx]Sem "&INT((COLUMN()+3)/5)&"'!$I"&ROWS($1:9)) -> 0 | FM7: =INDIRECT("'I:\Ociane\Services aux Adhérents\Services aux Adhérents par Centre de Gestion\0 Tous centres\DEPARTEMENT GESTION PRESTATIONS\STOCKS 2019\[Stocks Prestations 2019.xlsx]Sem "&INT((COLUMN()+3)/5)&"'!$J"&ROWS($1:9)) -> 0 | FN7: =INDIRECT("'I:\Ociane\Services aux Adhérents\Services aux Adhérents par Centre de Gestion\0 Tous centres\DEPARTEMENT GESTION PRESTATIONS\STOCKS 2019\[Stocks Prestations 2019.xlsx]Sem "&INT((COLUMN()+3)/5)&"'!$N"&ROWS($1:9)) -> 0 | FO7: =INDIRECT("'I:\Ociane\Services aux Adhérents\Services aux Adhérents par Centre de Gestion\0 Tous centres\DEPARTEMENT GESTION PRESTATIONS\STOCKS 2019\[Stocks Prestations 2019.xlsx]Sem "&INT((COLUMN()+3)/5)&"'!$P"&ROWS($1:9)) -> 0 | FP7: =INDIRECT("'I:\Ociane\Services aux Adhérents\Services aux Adhérents par Centre de Gestion\0 Tous centres\DEPARTEMENT GESTION PRESTATIONS\STOCKS 2019\[Stocks Prestations 2019.xlsx]Sem "&INT((COLUMN()+3)/5)&"'!$H"&ROWS($1:9)) -> 0 | FQ7: =INDIRECT("'I:\Ociane\Services aux Adhérents\Services aux Adhérents par Centre de Gestion\0 Tous centres\DEPARTEMENT GESTION PRESTATIONS\STOCKS 2019\[Stocks Prestations 2019.xlsx]Sem "&INT((COLUMN()+3)/5)&"'!$I"&ROWS($1:9)) -> 0 | FR7: =INDIRECT("'I:\Ociane\Services aux Adhérents\Services aux Adhérents par Centre de Gestion\0 Tous centres\DEPARTEMENT GESTION PRESTATIONS\STOCKS 2019\[Stocks Prestations 2019.xlsx]Sem "&INT((COLUMN()+3)/5)&"'!$J"&ROWS($1:9)) -> 0 | FS7: =INDIRECT("'I:\Ociane\Services aux Adhérents\Services aux Adhérents par Centre de Gestion\0 Tous centres\DEPARTEMENT GESTION PRESTATIONS\STOCKS 2019\[Stocks Prestations 2019.xlsx]Sem "&INT((COLUMN()+3)/5)&"'!$N"&ROWS($1:9)) -> 0 | FT7: =INDIRECT("'I:\Ociane\Services aux Adhérents\Services aux Adhérents par Centre de Gestion\0 Tous centres\DEPARTEMENT GESTION PRESTATIONS\STOCKS 2019\[Stocks Prestations 2019.xlsx]Sem "&INT((COLUMN()+3)/5)&"'!$P"&ROWS($1:9)) -> 0 | FU7: =INDIRECT("'I:\Ociane\Services aux Adhérents\Services aux Adhérents par Centre de Gestion\0 Tous centres\DEPARTEMENT GESTION PRESTATIONS\STOCKS 2019\[Stocks Prestations 2019.xlsx]Sem "&INT((COLUMN()+3)/5)&"'!$H"&ROWS($1:9)) -> 0 | FV7: =INDIRECT("'I:\Ociane\Services aux Adhérents\Services aux Adhérents par Centre de Gestion\0 Tous centres\DEPARTEMENT GESTION PRESTATIONS\STOCKS 2019\[Stocks Prestations 2019.xlsx]Sem "&INT((COLUMN()+3)/5)&"'!$I"&ROWS($1:9)) -> 0 | FW7: =INDIRECT("'I:\Ociane\Services aux Adhérents\Services aux Adhérents par Centre de Gestion\0 Tous centres\DEPARTEMENT GESTION PRESTATIONS\STOCKS 2019\[Stocks Prestations 2019.xlsx]Sem "&INT((COLUMN()+3)/5)&"'!$J"&ROWS($1:9)) -> 0 | FX7: =INDIRECT("'I:\Ociane\Services aux Adhérents\Services aux Adhérents par Centre de Gestion\0 Tous centres\DEPARTEMENT GESTION PRESTATIONS\STOCKS 2019\[Stocks Prestations 2019.xlsx]Sem "&INT((COLUMN()+3)/5)&"'!$N"&ROWS($1:9)) -> 0 | FY7: =INDIRECT("'I:\Ociane\Services aux Adhérents\Services aux Adhérents par Centre de Gestion\0 Tous centres\DEPARTEMENT GESTION PRESTATIONS\STOCKS 2019\[Stocks Prestations 2019.xlsx]Sem "&INT((COLUMN()+3)/5)&"'!$P"&ROWS($1:9)) -> 0 | FZ7: =INDIRECT("'I:\Ociane\Services aux Adhérents\Services aux Adhérents par Centre de Gestion\0 Tous centres\DEPARTEMENT GESTION PRESTATIONS\STOCKS 2019\[Stocks Prestations 2019.xlsx]Sem "&INT((COLUMN()+3)/5)&"'!$H"&ROWS($1:9)) -> 0 | GA7: =INDIRECT("'I:\Ociane\Services aux Adhérents\Services aux Adhérents par Centre de Gestion\0 Tous centres\DEPARTEMENT GESTION PRESTATIONS\STOCKS 2019\[Stocks Prestations 2019.xlsx]Sem "&INT((COLUMN()+3)/5)&"'!$I"&ROWS($1:9)) -> 0 | GB7: =INDIRECT("'I:\Ociane\Services aux Adhérents\Services aux Adhérents par Centre de Gestion\0 Tous centres\DEPARTEMENT GESTION PRESTATIONS\STOCKS 2019\[Stocks Prestations 2019.xlsx]Sem "&INT((COLUMN()+3)/5)&"'!$J"&ROWS($1:9)) -> 0 | GC7: =INDIRECT("'I:\Ociane\Services aux Adhérents\Services aux Adhérents par Centre de Gestion\0 Tous centres\DEPARTEMENT GESTION PRESTATIONS\STOCKS 2019\[Stocks Prestations 2019.xlsx]Sem "&INT((COLUMN()+3)/5)&"'!$N"&ROWS($1:9)) -> 0 | GD7: =INDIRECT("'I:\Ociane\Services aux Adhérents\Services aux Adhérents par Centre de Gestion\0 Tous centres\DEPARTEMENT GESTION PRESTATIONS\STOCKS 2019\[Stocks Prestations 2019.xlsx]Sem "&INT((COLUMN()+3)/5)&"'!$P"&ROWS($1:9)) -> 0 | GE7: =INDIRECT("'I:\Ociane\Services aux Adhérents\Services aux Adhérents par Centre de Gestion\0 Tous centres\DEPARTEMENT GESTION PRESTATIONS\STOCKS 2019\[Stocks Prestations 2019.xlsx]Sem "&INT((COLUMN()+3)/5)&"'!$H"&ROWS($1:9)) -> 0 | GF7: =INDIRECT("'I:\Ociane\Services aux Adhérents\Services aux Adhérents par Centre de Gestion\0 Tous centres\DEPARTEMENT GESTION PRESTATIONS\STOCKS 2019\[Stocks Prestations 2019.xlsx]Sem "&INT((COLUMN()+3)/5)&"'!$I"&ROWS($1:9)) -> 0 | GG7: =INDIRECT("'I:\Ociane\Services aux Adhérents\Services aux Adhérents par Centre de Gestion\0 Tous centres\DEPARTEMENT GESTION PRESTATIONS\STOCKS 2019\[Stocks Prestations 2019.xlsx]Sem "&INT((COLUMN()+3)/5)&"'!$J"&ROWS($1:9)) -> 0 | GH7: =INDIRECT("'I:\Ociane\Services aux Adhérents\Services aux Adhérents par Centre de Gestion\0 Tous centres\DEPARTEMENT GESTION PRESTATIONS\STOCKS 2019\[Stocks Prestations 2019.xlsx]Sem "&INT((COLUMN()+3)/5)&"'!$N"&ROWS($1:9)) -> 0 | GI7: =INDIRECT("'I:\Ociane\Services aux Adhérents\Services aux Adhérents par Centre de Gestion\0 Tous centres\DEPARTEMENT GESTION PRESTATIONS\STOCKS 2019\[Stocks Prestations 2019.xlsx]Sem "&INT((COLUMN()+3)/5)&"'!$P"&ROWS($1:9)) -> 0 | GJ7: =INDIRECT("'I:\Ociane\Services aux Adhérents\Services aux Adhérents par Centre de Gestion\0 Tous centres\DEPARTEMENT GESTION PRESTATIONS\STOCKS 2019\[Stocks Prestations 2019.xlsx]Sem "&INT((COLUMN()+3)/5)&"'!$H"&ROWS($1:9)) -> 0 | GK7: =INDIRECT("'I:\Ociane\Services aux Adhérents\Services aux Adhérents par Centre de Gestion\0 Tous centres\DEPARTEMENT GESTION PRESTATIONS\STOCKS 2019\[Stocks Prestations 2019.xlsx]Sem "&INT((COLUMN()+3)/5)&"'!$I"&ROWS($1:9)) -> 0 | GL7: =INDIRECT("'I:\Ociane\Services aux Adhérents\Services aux Adhérents par Centre de Gestion\0 Tous centres\DEPARTEMENT GESTION PRESTATIONS\STOCKS 2019\[Stocks Prestations 2019.xlsx]Sem "&INT((COLUMN()+3)/5)&"'!$J"&ROWS($1:9)) -> 0 | GM7: =INDIRECT("'I:\Ociane\Services aux Adhérents\Services aux Adhérents par Centre de Gestion\0 Tous centres\DEPARTEMENT GESTION PRESTATIONS\STOCKS 2019\[Stocks Prestations 2019.xlsx]Sem "&INT((COLUMN()+3)/5)&"'!$N"&ROWS($1:9)) -> 0 | GN7: =INDIRECT("'I:\Ociane\Services aux Adhérents\Services aux Adhérents par Centre de Gestion\0 Tous centres\DEPARTEMENT GESTION PRESTATIONS\STOCKS 2019\[Stocks Prestations 2019.xlsx]Sem "&INT((COLUMN()+3)/5)&"'!$P"&ROWS($1:9)) -> 0 | GO7: =INDIRECT("'I:\Ociane\Services aux Adhérents\Services aux Adhérents par Centre de Gestion\0 Tous centres\DEPARTEMENT GESTION PRESTATIONS\STOCKS 2019\[Stocks Prestations 2019.xlsx]Sem "&INT((COLUMN()+3)/5)&"'!$H"&ROWS($1:9)) -> 0 | GP7: =INDIRECT("'I:\Ociane\Services aux Adhérents\Services aux Adhérents par Centre de Gestion\0 Tous centres\DEPARTEMENT GESTION PRESTATIONS\STOCKS 2019\[Stocks Prestations 2019.xlsx]Sem "&INT((COLUMN()+3)/5)&"'!$I"&ROWS($1:9)) -> 0 | GQ7: =INDIRECT("'I:\Ociane\Services aux Adhérents\Services aux Adhérents par Centre de Gestion\0 Tous centres\DEPARTEMENT GESTION PRESTATIONS\STOCKS 2019\[Stocks Prestations 2019.xlsx]Sem "&INT((COLUMN()+3)/5)&"'!$J"&ROWS($1:9)) -> 0 | GR7: =INDIRECT("'I:\Ociane\Services aux Adhérents\Services aux Adhérents par Centre de Gestion\0 Tous centres\DEPARTEMENT GESTION PRESTATIONS\STOCKS 2019\[Stocks Prestations 2019.xlsx]Sem "&INT((COLUMN()+3)/5)&"'!$N"&ROWS($1:9)) -> 0 | GS7: =INDIRECT("'I:\Ociane\Services aux Adhérents\Services aux Adhérents par Centre de Gestion\0 Tous centres\DEPARTEMENT GESTION PRESTATIONS\STOCKS 2019\[Stocks Prestations 2019.xlsx]Sem "&INT((COLUMN()+3)/5)&"'!$P"&ROWS($1:9)) -> 0 | GT7: =INDIRECT("'I:\Ociane\Services aux Adhérents\Services aux Adhérents par Centre de Gestion\0 Tous centres\DEPARTEMENT GESTION PRESTATIONS\STOCKS 2019\[Stocks Prestations 2019.xlsx]Sem "&INT((COLUMN()+3)/5)&"'!$H"&ROWS($1:9)) -> 0 | GU7: =INDIRECT("'I:\Ociane\Services aux Adhérents\Services aux Adhérents par Centre de Gestion\0 Tous centres\DEPARTEMENT GESTION PRESTATIONS\STOCKS 2019\[Stocks Prestations 2019.xlsx]Sem "&INT((COLUMN()+3)/5)&"'!$I"&ROWS($1:9)) -> 0 | GV7: =INDIRECT("'I:\Ociane\Services aux Adhérents\Services aux Adhérents par Centre de Gestion\0 Tous centres\DEPARTEMENT GESTION PRESTATIONS\STOCKS 2019\[Stocks Prestations 2019.xlsx]Sem "&INT((COLUMN()+3)/5)&"'!$J"&ROWS($1:9)) -> 0 | GW7: =INDIRECT("'I:\Ociane\Services aux Adhérents\Services aux Adhérents par Centre de Gestion\0 Tous centres\DEPARTEMENT GESTION PRESTATIONS\STOCKS 2019\[Stocks Prestations 2019.xlsx]Sem "&INT((COLUMN()+3)/5)&"'!$N"&ROWS($1:9)) -> 0 | GX7: =INDIRECT("'I:\Ociane\Services aux Adhérents\Services aux Adhérents par Centre de Gestion\0 Tous centres\DEPARTEMENT GESTION PRESTATIONS\STOCKS 2019\[Stocks Prestations 2019.xlsx]Sem "&INT((COLUMN()+3)/5)&"'!$P"&ROWS($1:9)) -> 0 | GY7: =INDIRECT("'I:\Ociane\Services aux Adhérents\Services aux Adhérents par Centre de Gestion\0 Tous centres\DEPARTEMENT GESTION PRESTATIONS\STOCKS 2019\[Stocks Prestations 2019.xlsx]Sem "&INT((COLUMN()+3)/5)&"'!$H"&ROWS($1:9)) -> 0 | GZ7: =INDIRECT("'I:\Ociane\Services aux Adhérents\Services aux Adhérents par Centre de Gestion\0 Tous centres\DEPARTEMENT GESTION PRESTATIONS\STOCKS 2019\[Stocks Prestations 2019.xlsx]Sem "&INT((COLUMN()+3)/5)&"'!$I"&ROWS($1:9)) -> 0 | HA7: =INDIRECT("'I:\Ociane\Services aux Adhérents\Services aux Adhérents par Centre de Gestion\0 Tous centres\DEPARTEMENT GESTION PRESTATIONS\STOCKS 2019\[Stocks Prestations 2019.xlsx]Sem "&INT((COLUMN()+3)/5)&"'!$J"&ROWS($1:9)) -> 0 | HB7: =INDIRECT("'I:\Ociane\Services aux Adhérents\Services aux Adhérents par Centre de Gestion\0 Tous centres\DEPARTEMENT GESTION PRESTATIONS\STOCKS 2019\[Stocks Prestations 2019.xlsx]Sem "&INT((COLUMN()+3)/5)&"'!$N"&ROWS($1:9)) -> 0 | HC7: =INDIRECT("'I:\Ociane\Services aux Adhérents\Services aux Adhérents par Centre de Gestion\0 Tous centres\DEPARTEMENT GESTION PRESTATIONS\STOCKS 2019\[Stocks Prestations 2019.xlsx]Sem "&INT((COLUMN()+3)/5)&"'!$P"&ROWS($1:9)) -> 0 | HD7: =INDIRECT("'I:\Ociane\Services aux Adhérents\Services aux Adhérents par Centre de Gestion\0 Tous centres\DEPARTEMENT GESTION PRESTATIONS\STOCKS 2019\[Stocks Prestations 2019.xlsx]Sem "&INT((COLUMN()+3)/5)&"'!$H"&ROWS($1:9)) -> 0 | HE7: =INDIRECT("'I:\Ociane\Services aux Adhérents\Services aux Adhérents par Centre de Gestion\0 Tous centres\DEPARTEMENT GESTION PRESTATIONS\STOCKS 2019\[Stocks Prestations 2019.xlsx]Sem "&INT((COLUMN()+3)/5)&"'!$I"&ROWS($1:9)) -> 0 | HF7: =INDIRECT("'I:\Ociane\Services aux Adhérents\Services aux Adhérents par Centre de Gestion\0 Tous centres\DEPARTEMENT GESTION PRESTATIONS\STOCKS 2019\[Stocks Prestations 2019.xlsx]Sem "&INT((COLUMN()+3)/5)&"'!$J"&ROWS($1:9)) -> 0 | HG7: =INDIRECT("'I:\Ociane\Services aux Adhérents\Services aux Adhérents par Centre de Gestion\0 Tous centres\DEPARTEMENT GESTION PRESTATIONS\STOCKS 2019\[Stocks Prestations 2019.xlsx]Sem "&INT((COLUMN()+3)/5)&"'!$N"&ROWS($1:9)) -> 0 | HH7: =INDIRECT("'I:\Ociane\Services aux Adhérents\Services aux Adhérents par Centre de Gestion\0 Tous centres\DEPARTEMENT GESTION PRESTATIONS\STOCKS 2019\[Stocks Prestations 2019.xlsx]Sem "&INT((COLUMN()+3)/5)&"'!$P"&ROWS($1:9)) -> 0 | HI7: =INDIRECT("'I:\Ociane\Services aux Adhérents\Services aux Adhérents par Centre de Gestion\0 Tous centres\DEPARTEMENT GESTION PRESTATIONS\STOCKS 2019\[Stocks Prestations 2019.xlsx]Sem "&INT((COLUMN()+3)/5)&"'!$H"&ROWS($1:9)) -> 0 | HJ7: =INDIRECT("'I:\Ociane\Services aux Adhérents\Services aux Adhérents par Centre de Gestion\0 Tous centres\DEPARTEMENT GESTION PRESTATIONS\STOCKS 2019\[Stocks Prestations 2019.xlsx]Sem "&INT((COLUMN()+3)/5)&"'!$I"&ROWS($1:9)) -> 0 | HK7: =INDIRECT("'I:\Ociane\Services aux Adhérents\Services aux Adhérents par Centre de Gestion\0 Tous centres\DEPARTEMENT GESTION PRESTATIONS\STOCKS 2019\[Stocks Prestations 2019.xlsx]Sem "&INT((COLUMN()+3)/5)&"'!$J"&ROWS($1:9)) -> 0 | HL7: =INDIRECT("'I:\Ociane\Services aux Adhérents\Services aux Adhérents par Centre de Gestion\0 Tous centres\DEPARTEMENT GESTION PRESTATIONS\STOCKS 2019\[Stocks Prestations 2019.xlsx]Sem "&INT((COLUMN()+3)/5)&"'!$N"&ROWS($1:9)) -> 0 | HM7: =INDIRECT("'I:\Ociane\Services aux Adhérents\Services aux Adhérents par Centre de Gestion\0 Tous centres\DEPARTEMENT GESTION PRESTATIONS\STOCKS 2019\[Stocks Prestations 2019.xlsx]Sem "&INT((COLUMN()+3)/5)&"'!$P"&ROWS($1:9)) -> 0 | HN7: =INDIRECT("'I:\Ociane\Services aux Adhérents\Services aux Adhérents par Centre de Gestion\0 Tous centres\DEPARTEMENT GESTION PRESTATIONS\STOCKS 2019\[Stocks Prestations 2019.xlsx]Sem "&INT((COLUMN()+3)/5)&"'!$H"&ROWS($1:9)) -> 0 | HO7: =INDIRECT("'I:\Ociane\Services aux Adhérents\Services aux Adhérents par Centre de Gestion\0 Tous centres\DEPARTEMENT GESTION PRESTATIONS\STOCKS 2019\[Stocks Prestations 2019.xlsx]Sem "&INT((COLUMN()+3)/5)&"'!$I"&ROWS($1:9)) -> 0 | HP7: =INDIRECT("'I:\Ociane\Services aux Adhérents\Services aux Adhérents par Centre de Gestion\0 Tous centres\DEPARTEMENT GESTION PRESTATIONS\STOCKS 2019\[Stocks Prestations 2019.xlsx]Sem "&INT((COLUMN()+3)/5)&"'!$J"&ROWS($1:9)) -> 0 | HQ7: =INDIRECT("'I:\Ociane\Services aux Adhérents\Services aux Adhérents par Centre de Gestion\0 Tous centres\DEPARTEMENT GESTION PRESTATIONS\STOCKS 2019\[Stocks Prestations 2019.xlsx]Sem "&INT((COLUMN()+3)/5)&"'!$N"&ROWS($1:9)) -> 0 | HR7: =INDIRECT("'I:\Ociane\Services aux Adhérents\Services aux Adhérents par Centre de Gestion\0 Tous centres\DEPARTEMENT GESTION PRESTATIONS\STOCKS 2019\[Stocks Prestations 2019.xlsx]Sem "&INT((COLUMN()+3)/5)&"'!$P"&ROWS($1:9)) -> 0 | HS7: =INDIRECT("'I:\Ociane\Services aux Adhérents\Services aux Adhérents par Centre de Gestion\0 Tous centres\DEPARTEMENT GESTION PRESTATIONS\STOCKS 2019\[Stocks Prestations 2019.xlsx]Sem "&INT((COLUMN()+3)/5)&"'!$H"&ROWS($1:9)) -> 0 | HT7: =INDIRECT("'I:\Ociane\Services aux Adhérents\Services aux Adhérents par Centre de Gestion\0 Tous centres\DEPARTEMENT GESTION PRESTATIONS\STOCKS 2019\[Stocks Prestations 2019.xlsx]Sem "&INT((COLUMN()+3)/5)&"'!$I"&ROWS($1:9)) -> 0 | HU7: =INDIRECT("'I:\Ociane\Services aux Adhérents\Services aux Adhérents par Centre de Gestion\0 Tous centres\DEPARTEMENT GESTION PRESTATIONS\STOCKS 2019\[Stocks Prestations 2019.xlsx]Sem "&INT((COLUMN()+3)/5)&"'!$J"&ROWS($1:9)) -> 0 | HV7: =INDIRECT("'I:\Ociane\Services aux Adhérents\Services aux Adhérents par Centre de Gestion\0 Tous centres\DEPARTEMENT GESTION PRESTATIONS\STOCKS 2019\[Stocks Prestations 2019.xlsx]Sem "&INT((COLUMN()+3)/5)&"'!$N"&ROWS($1:9)) -> 0 | HW7: =INDIRECT("'I:\Ociane\Services aux Adhérents\Services aux Adhérents par Centre de Gestion\0 Tous centres\DEPARTEMENT GESTION PRESTATIONS\STOCKS 2019\[Stocks Prestations 2019.xlsx]Sem "&INT((COLUMN()+3)/5)&"'!$P"&ROWS($1:9)) -> 0 | HX7: =INDIRECT("'I:\Ociane\Services aux Adhérents\Services aux Adhérents par Centre de Gestion\0 Tous centres\DEPARTEMENT GESTION PRESTATIONS\STOCKS 2019\[Stocks Prestations 2019.xlsx]Sem "&INT((COLUMN()+3)/5)&"'!$H"&ROWS($1:9)) -> 0 | HY7: =INDIRECT("'I:\Ociane\Services aux Adhérents\Services aux Adhérents par Centre de Gestion\0 Tous centres\DEPARTEMENT GESTION PRESTATIONS\STOCKS 2019\[Stocks Prestations 2019.xlsx]Sem "&INT((COLUMN()+3)/5)&"'!$I"&ROWS($1:9)) -> 0 | HZ7: =INDIRECT("'I:\Ociane\Services aux Adhérents\Services aux Adhérents par Centre de Gestion\0 Tous centres\DEPARTEMENT GESTION PRESTATIONS\STOCKS 2019\[Stocks Prestations 2019.xlsx]Sem "&INT((COLUMN()+3)/5)&"'!$J"&ROWS($1:9)) -> 0 | IA7: =INDIRECT("'I:\Ociane\Services aux Adhérents\Services aux Adhérents par Centre de Gestion\0 Tous centres\DEPARTEMENT GESTION PRESTATIONS\STOCKS 2019\[Stocks Prestations 2019.xlsx]Sem "&INT((COLUMN()+3)/5)&"'!$N"&ROWS($1:9)) -> 0 | IB7: =INDIRECT("'I:\Ociane\Services aux Adhérents\Services aux Adhérents par Centre de Gestion\0 Tous centres\DEPARTEMENT GESTION PRESTATIONS\STOCKS 2019\[Stocks Prestations 2019.xlsx]Sem "&INT((COLUMN()+3)/5)&"'!$P"&ROWS($1:9)) -> 0 | IC7: =INDIRECT("'I:\Ociane\Services aux Adhérents\Services aux Adhérents par Centre de Gestion\0 Tous centres\DEPARTEMENT GESTION PRESTATIONS\STOCKS 2019\[Stocks Prestations 2019.xlsx]Sem "&INT((COLUMN()+3)/5)&"'!$H"&ROWS($1:9)) -> 0 | ID7: =INDIRECT("'I:\Ociane\Services aux Adhérents\Services aux Adhérents par Centre de Gestion\0 Tous centres\DEPARTEMENT GESTION PRESTATIONS\STOCKS 2019\[Stocks Prestations 2019.xlsx]Sem "&INT((COLUMN()+3)/5)&"'!$I"&ROWS($1:9)) -> 0 | IE7: =INDIRECT("'I:\Ociane\Services aux Adhérents\Services aux Adhérents par Centre de Gestion\0 Tous centres\DEPARTEMENT GESTION PRESTATIONS\STOCKS 2019\[Stocks Prestations 2019.xlsx]Sem "&INT((COLUMN()+3)/5)&"'!$J"&ROWS($1:9)) -> 0 | IF7: =INDIRECT("'I:\Ociane\Services aux Adhérents\Services aux Adhérents par Centre de Gestion\0 Tous centres\DEPARTEMENT GESTION PRESTATIONS\STOCKS 2019\[Stocks Prestations 2019.xlsx]Sem "&INT((COLUMN()+3)/5)&"'!$N"&ROWS($1:9)) -> 0 | IG7: =INDIRECT("'I:\Ociane\Services aux Adhérents\Services aux Adhérents par Centre de Gestion\0 Tous centres\DEPARTEMENT GESTION PRESTATIONS\STOCKS 2019\[Stocks Prestations 2019.xlsx]Sem "&INT((COLUMN()+3)/5)&"'!$P"&ROWS($1:9)) -> 0 | IH7: =INDIRECT("'I:\Ociane\Services aux Adhérents\Services aux Adhérents par Centre de Gestion\0 Tous centres\DEPARTEMENT GESTION PRESTATIONS\STOCKS 2019\[Stocks Prestations 2019.xlsx]Sem "&INT((COLUMN()+3)/5)&"'!$H"&ROWS($1:9)) -> 0 | II7: =INDIRECT("'I:\Ociane\Services aux Adhérents\Services aux Adhérents par Centre de Gestion\0 Tous centres\DEPARTEMENT GESTION PRESTATIONS\STOCKS 2019\[Stocks Prestations 2019.xlsx]Sem "&INT((COLUMN()+3)/5)&"'!$I"&ROWS($1:9)) -> 0 | IJ7: =INDIRECT("'I:\Ociane\Services aux Adhérents\Services aux Adhérents par Centre de Gestion\0 Tous centres\DEPARTEMENT GESTION PRESTATIONS\STOCKS 2019\[Stocks Prestations 2019.xlsx]Sem "&INT((COLUMN()+3)/5)&"'!$J"&ROWS($1:9)) -> 0 | IK7: =INDIRECT("'I:\Ociane\Services aux Adhérents\Services aux Adhérents par Centre de Gestion\0 Tous centres\DEPARTEMENT GESTION PRESTATIONS\STOCKS 2019\[Stocks Prestations 2019.xlsx]Sem "&INT((COLUMN()+3)/5)&"'!$N"&ROWS($1:9)) -> 0 | IL7: =INDIRECT("'I:\Ociane\Services aux Adhérents\Services aux Adhérents par Centre de Gestion\0 Tous centres\DEPARTEMENT GESTION PRESTATIONS\STOCKS 2019\[Stocks Prestations 2019.xlsx]Sem "&INT((COLUMN()+3)/5)&"'!$P"&ROWS($1:9)) -> 0 | IM7: =INDIRECT("'I:\Ociane\Services aux Adhérents\Services aux Adhérents par Centre de Gestion\0 Tous centres\DEPARTEMENT GESTION PRESTATIONS\STOCKS 2019\[Stocks Prestations 2019.xlsx]Sem "&INT((COLUMN()+3)/5)&"'!$H"&ROWS($1:9)) -> 0 | IN7: =INDIRECT("'I:\Ociane\Services aux Adhérents\Services aux Adhérents par Centre de Gestion\0 Tous centres\DEPARTEMENT GESTION PRESTATIONS\STOCKS 2019\[Stocks Prestations 2019.xlsx]Sem "&INT((COLUMN()+3)/5)&"'!$I"&ROWS($1:9)) -> 0 | IO7: =INDIRECT("'I:\Ociane\Services aux Adhérents\Services aux Adhérents par Centre de Gestion\0 Tous centres\DEPARTEMENT GESTION PRESTATIONS\STOCKS 2019\[Stocks Prestations 2019.xlsx]Sem "&INT((COLUMN()+3)/5)&"'!$J"&ROWS($1:9)) -> 0 | IP7: =INDIRECT("'I:\Ociane\Services aux Adhérents\Services aux Adhérents par Centre de Gestion\0 Tous centres\DEPARTEMENT GESTION PRESTATIONS\STOCKS 2019\[Stocks Prestations 2019.xlsx]Sem "&INT((COLUMN()+3)/5)&"'!$N"&ROWS($1:9)) -> 0 | IQ7: =INDIRECT("'I:\Ociane\Services aux Adhérents\Services aux Adhérents par Centre de Gestion\0 Tous centres\DEPARTEMENT GESTION PRESTATIONS\STOCKS 2019\[Stocks Prestations 2019.xlsx]Sem "&INT((COLUMN()+3)/5)&"'!$P"&ROWS($1:9)) -> 0 | IR7: =INDIRECT("'I:\Ociane\Services aux Adhérents\Services aux Adhérents par Centre de Gestion\0 Tous centres\DEPARTEMENT GESTION PRESTATIONS\STOCKS 2019\[Stocks Prestations 2019.xlsx]Sem "&INT((COLUMN()+3)/5)&"'!$H"&ROWS($1:9)) -> 0 | IS7: =INDIRECT("'I:\Ociane\Services aux Adhérents\Services aux Adhérents par Centre de Gestion\0 Tous centres\DEPARTEMENT GESTION PRESTATIONS\STOCKS 2019\[Stocks Prestations 2019.xlsx]Sem "&INT((COLUMN()+3)/5)&"'!$I"&ROWS($1:9)) -> 0 | IT7: =INDIRECT("'I:\Ociane\Services aux Adhérents\Services aux Adhérents par Centre de Gestion\0 Tous centres\DEPARTEMENT GESTION PRESTATIONS\STOCKS 2019\[Stocks Prestations 2019.xlsx]Sem "&INT((COLUMN()+3)/5)&"'!$J"&ROWS($1:9)) -> 0 | IU7: =INDIRECT("'I:\Ociane\Services aux Adhérents\Services aux Adhérents par Centre de Gestion\0 Tous centres\DEPARTEMENT GESTION PRESTATIONS\STOCKS 2019\[Stocks Prestations 2019.xlsx]Sem "&INT((COLUMN()+3)/5)&"'!$N"&ROWS($1:9)) -> 0 | IV7: =INDIRECT("'I:\Ociane\Services aux Adhérents\Services aux Adhérents par Centre de Gestion\0 Tous centres\DEPARTEMENT GESTION PRESTATIONS\STOCKS 2019\[Stocks Prestations 2019.xlsx]Sem "&INT((COLUMN()+3)/5)&"'!$P"&ROWS($1:9)) -> 0 | IW7: =INDIRECT("'I:\Ociane\Services aux Adhérents\Services aux Adhérents par Centre de Gestion\0 Tous centres\DEPARTEMENT GESTION PRESTATIONS\STOCKS 2019\[Stocks Prestations 2019.xlsx]Sem "&INT((COLUMN()+3)/5)&"'!$H"&ROWS($1:9)) -> 0 | IX7: =INDIRECT("'I:\Ociane\Services aux Adhérents\Services aux Adhérents par Centre de Gestion\0 Tous centres\DEPARTEMENT GESTION PRESTATIONS\STOCKS 2019\[Stocks Prestations 2019.xlsx]Sem "&INT((COLUMN()+3)/5)&"'!$I"&ROWS($1:9)) -> 0 | IY7: =INDIRECT("'I:\Ociane\Services aux Adhérents\Services aux Adhérents par Centre de Gestion\0 Tous centres\DEPARTEMENT GESTION PRESTATIONS\STOCKS 2019\[Stocks Prestations 2019.xlsx]Sem "&INT((COLUMN()+3)/5)&"'!$J"&ROWS($1:9)) -> 0 | IZ7: =INDIRECT("'I:\Ociane\Services aux Adhérents\Services aux Adhérents par Centre de Gestion\0 Tous centres\DEPARTEMENT GESTION PRESTATIONS\STOCKS 2019\[Stocks Prestations 2019.xlsx]Sem "&INT((COLUMN()+3)/5)&"'!$N"&ROWS($1:9)) -> 0 | JA7: =INDIRECT("'I:\Ociane\Services aux Adhérents\Services aux Adhérents par Centre de Gestion\0 Tous centres\DEPARTEMENT GESTION PRESTATIONS\STOCKS 2019\[Stocks Prestations 2019.xlsx]Sem "&INT((COLUMN()+3)/5)&"'!$P"&ROWS($1:9)) -> 0 | JB7: =INDIRECT("'I:\Ociane\Services aux Adhérents\Services aux Adhérents par Centre de Gestion\0 Tous centres\DEPARTEMENT GESTION PRESTATIONS\STOCKS 2019\[Stocks Prestations 2019.xlsx]Sem "&INT((COLUMN()+3)/5)&"'!$H"&ROWS($1:9)) -> 0 | JC7: =INDIRECT("'I:\Ociane\Services aux Adhérents\Services aux Adhérents par Centre de Gestion\0 Tous centres\DEPARTEMENT GESTION PRESTATIONS\STOCKS 2019\[Stocks Prestations 2019.xlsx]Sem "&INT((COLUMN()+3)/5)&"'!$I"&ROWS($1:9)) -> 0 | JD7: =INDIRECT("'I:\Ociane\Services aux Adhérents\Services aux Adhérents par Centre de Gestion\0 Tous centres\DEPARTEMENT GESTION PRESTATIONS\STOCKS 2019\[Stocks Prestations 2019.xlsx]Sem "&INT((COLUMN()+3)/5)&"'!$J"&ROWS($1:9)) -> 0 | JE7: =INDIRECT("'I:\Ociane\Services aux Adhérents\Services aux Adhérents par Centre de Gestion\0 Tous centres\DEPARTEMENT GESTION PRESTATIONS\STOCKS 2019\[Stocks Prestations 2019.xlsx]Sem "&INT((COLUMN()+3)/5)&"'!$N"&ROWS($1:9)) -> 0 | JF7: =INDIRECT("'I:\Ociane\Services aux Adhérents\Services aux Adhérents par Centre de Gestion\0 Tous centres\DEPARTEMENT GESTION PRESTATIONS\STOCKS 2019\[Stocks Prestations 2019.xlsx]Sem "&INT((COLUMN()+3)/5)&"'!$P"&ROWS($1:9)) -> 0
