Workbook

Sheet Planning Global
A2: =IF($AF$5,"Détails du projet","Project Details") -> Détails du projet | O2: =IF($AF$5,"Personalisation","Customization") -> Personalisation
A3: =IF($AF$5,"Produit","Part") -> Produit | D3: Programme 1 | O3: =IF($AF$5,"Jours ouvrés uniquement","Working days only") -> Jours ouvrés uniquement | Y3: Oui | AF3: =IF(OR(Y3="Oui",Y3="Yes"),1,0) -> 1 | AG3: =IF($AF$5,"Oui","Yes") -> Oui | AH3: =IF($AF$5,"Non","No") -> Non
A4: =IF($AF$5,"Directeur de programme","Project Leader") -> Directeur de programme | D4: Eulalie | O4: =IF($AF$5,"Prefixe pour les semaines","Prefix for weeks") -> Prefixe pour les semaines | Y4: S | AF4: W | AG4: CW | AH4: S
A5: =IF($AF$5,"Révision","Revision") -> Révision | D5: 10 - 20/08/2019 | O5: =IF($AF$5,"Langue:","Language:") -> Langue: | Y5: Français | AF5: =IF(Y5="Français",1,0) -> 1 | AG5: Français | AH5: English
A6: Comments : document de travail ne rien modifier Eulalie | O6: =IF($AF$5,"Date de la ligne rouge:","Date Of Red Line:") -> Date de la ligne rouge: | Y6: 20 | AA6: 40391 | AD6: 2019 | AH6: =DATE(AD6,MONTH(AA6),Y6) -> 43697 | AI6: =AH6*1 -> 43697 | AQ6: 1 | AR6: 2 | AS6: 3 | AT6: 4 | AU6: 5 | AV6: 6 | AW6: 7 | AX6: 8 | AY6: 9 | AZ6: 10 | BA6: 11 | BB6: 12 | BC6: 13 | BD6: 14 | BE6: 15 | BF6: 16 | BG6: 17 | BH6: 18 | BI6: 19 | BJ6: 20 | BK6: 21 | BL6: 22 | BM6: 23 | BN6: 24 | BO6: 25 | BP6: 26 | BQ6: 27 | BR6: 28 | BS6: 29 | BT6: 30 | BU6: 31 | BV6: 40179 | BW6: 40210 | BX6: 40238 | BY6: 40269 | BZ6: 40299 | CA6: 40330 | CB6: 40360 | CC6: 40391 | CD6: 40422 | CE6: 40452 | CF6: 40483 | CG6: 40513 | CH6: 2010 | CI6: 2011 | CJ6: 2012 | CK6: 2013 | CL6: 2014 | CM6: 2015 | CN6: 2016 | CO6: 2017 | CP6: 2018 | CQ6: 2019 | CR6: 2020 | CS6: 2021 | CT6: 2022 | CU6: 2023
O7: =IF($AF$5,"1er jour du diagramme:","First Date Of Gantt:") -> 1er jour du diagramme: | Y7: 20 | AA7: 40391 | AD7: 2019 | AH7: =DATE(AD7,MONTH(AA7),Y7) -> 43697 | AI7: =AH7*1 -> 43697
O9: =IF($AF$3,NETWORKDAYS(O10,O10,Congés!$A$6:$A$50),1) -> 1 | P9: =IF($AF$3,NETWORKDAYS(P10,P10,Congés!$A$6:$A$50),1) -> 1 | Q9: =IF($AF$3,NETWORKDAYS(Q10,Q10,Congés!$A$6:$A$50),1) -> 1 | R9: =IF($AF$3,NETWORKDAYS(R10,R10,Congés!$A$6:$A$50),1) -> 1 | S9: =IF($AF$3,NETWORKDAYS(S10,S10,Congés!$A$6:$A$50),1) -> 0 | T9: =IF($AF$3,NETWORKDAYS(T10,T10,Congés!$A$6:$A$50),1) -> 0 | U9: =IF($AF$3,NETWORKDAYS(U10,U10,Congés!$A$6:$A$50),1) -> 1 | V9: =IF($AF$3,NETWORKDAYS(V10,V10,Congés!$A$6:$A$50),1) -> 1 | ... AKF9: =IF($AF$3,NETWORKDAYS(AKF10,AKF10,Congés!$A$6:$A$50),1) -> 1
O10: =AI7 -> 43697 | P10: =O10+1 -> 43698 | Q10: =P10+1 -> 43699 | R10: =Q10+1 -> 43700 | S10: =R10+1 -> 43701 | T10: =S10+1 -> 43702 | U10: =T10+1 -> 43703 | V10: =U10+1 -> 43704 | W10: =V10+1 -> 43705 | ... AKF10: =AKE10+1 -> 44650
O11: =IF(DAY(O17)=1,O17,IF(O10=$AI$6,"TODAY","")) -> TODAY | P11: =IF(DAY(P17)=1,P17,IF(P10=$AI$6,"TODAY","")) | Q11: =IF(DAY(Q17)=1,Q17,IF(Q10=$AI$6,"TODAY","")) | R11: =IF(DAY(R17)=1,R17,IF(R10=$AI$6,"TODAY","")) | S11: =IF(DAY(S17)=1,S17,IF(S10=$AI$6,"TODAY","")) | T11: =IF(DAY(T17)=1,T17,IF(T10=$AI$6,"TODAY","")) | U11: =IF(DAY(U17)=1,U17,IF(U10=$AI$6,"TODAY","")) | V11: =IF(DAY(V17)=1,V17,IF(V10=$AI$6,"TODAY","")) | ... AKF11: =IF(DAY(AKF17)=1,AKF17,IF(AKF10=$AI$6,"TODAY",""))
O15: =$Y$4&WEEKNUM(O10,2) -> S34 | P15: =$Y$4&WEEKNUM(P10,2) -> S34 | Q15: =$Y$4&WEEKNUM(Q10,2) -> S34 | R15: =$Y$4&WEEKNUM(R10,2) -> S34 | S15: =$Y$4&WEEKNUM(S10,2) -> S34 | T15: =$Y$4&WEEKNUM(T10,2) -> S34 | U15: =$Y$4&WEEKNUM(U10,2) -> S35 | V15: =$Y$4&WEEKNUM(V10,2) -> S35 | ... AKF15: =$Y$4&WEEKNUM(AKF10,2) -> S14
O16: =IF(TEXT(O10,"ddd")="ddd",UPPER(LEFT(TEXT(O10,"jjj"),1)),UPPER(LEFT(TEXT(O10,"ddd"),1))) -> M | P16: =IF(TEXT(P10,"ddd")="ddd",UPPER(LEFT(TEXT(P10,"jjj"),1)),UPPER(LEFT(TEXT(P10,"ddd"),1))) -> M | Q16: =IF(TEXT(Q10,"ddd")="ddd",UPPER(LEFT(TEXT(Q10,"jjj"),1)),UPPER(LEFT(TEXT(Q10,"ddd"),1))) -> J | R16: =IF(TEXT(R10,"ddd")="ddd",UPPER(LEFT(TEXT(R10,"jjj"),1)),UPPER(LEFT(TEXT(R10,"ddd"),1))) -> V | S16: =IF(TEXT(S10,"ddd")="ddd",UPPER(LEFT(TEXT(S10,"jjj"),1)),UPPER(LEFT(TEXT(S10,"ddd"),1))) -> S | T16: =IF(TEXT(T10,"ddd")="ddd",UPPER(LEFT(TEXT(T10,"jjj"),1)),UPPER(LEFT(TEXT(T10,"ddd"),1))) -> D | U16: =IF(TEXT(U10,"ddd")="ddd",UPPER(LEFT(TEXT(U10,"jjj"),1)),UPPER(LEFT(TEXT(U10,"ddd"),1))) -> L | V16: =IF(TEXT(V10,"ddd")="ddd",UPPER(LEFT(TEXT(V10,"jjj"),1)),UPPER(LEFT(TEXT(V10,"ddd"),1))) -> M | ... AKF16: =IF(TEXT(AKF10,"ddd")="ddd",UPPER(LEFT(TEXT(AKF10,"jjj"),1)),UPPER(LEFT(TEXT(AKF10,"ddd"),1))) -> M
F17: Resp | G17: =IF($AF$5,"Début","Start") -> Début | H17: =IF($AF$5,"Durée","Duration") -> Durée | I17: Fin Jours Ouvrés Uniquement | J17: Fin Normale | K17: =IF($AF$5,"Fin","End") -> Fin | L17: =IF($AF$5,"Avanc.","Status") -> Avanc. | O17: =O10 -> 43697 | P17: =P10 -> 43698 | Q17: =Q10 -> 43699 | R17: =R10 -> 43700 | S17: =S10 -> 43701 | T17: =T10 -> 43702 | U17: =U10 -> 43703 | V17: =V10 -> 43704 | ... AKF17: =AKF10 -> 44650
A18: 1 | B18: Opportunité | G18: =MIN(G19:G28) -> 43710 | H18: =SUM(H19:H28) -> 25 | I18: =WORKDAY(G18,IF(WEEKDAY(G18,2)>=6,H18,H18-1),Congés!$A$6:$A$52) -> 43742 | J18: =MAX(J19:J28) -> 43742 | K18: =MAX(K19:K28) -> 43742 | L18: =SUMPRODUCT(J19:J26,L19:L26)/SUM(J19:J26) -> 0.1875134 | M18: =G18-1+L18*H18 -> 43713.688 | N18: =IF(L18<>"",IF(AND(L18<1,K18<TODAY()),"n",""))
A19: 1.1 | B19: Action 1 | G19: 43710 | H19: 1 | I19: =WORKDAY(G19,IF(WEEKDAY(G19,2)>=6,H19,H19-1),Congés!$A$6:$A$52) -> 43710 | J19: =G19+H19-1 -> 43710 | K19: =IF($AF$3,I19,J19) -> 43710 | L19: 0.5 | M19: =G19+L19*(K19-G19) -> 43710 | N19: =IF(AND(L19<1,K19<$AI$6),"n","")
A20: 1.2 | B20: Action 2 | G20: 43711 | H20: 1 | I20: =WORKDAY(G20,IF(WEEKDAY(G20,2)>=6,H20,H20-1),Congés!$A$6:$A$52) -> 43711 | J20: 43676 | K20: =IF($AF$3,I20,J20) -> 43711 | L20: 0 | M20: =G20+L20*(K20-G20) -> 43711 | N20: =IF(AND(L20<1,K20<$AI$6),"n","")
A21: 1.3 | B21: Action 3 | G21: 43712 | H21: 1 | I21: =WORKDAY(G21,IF(WEEKDAY(G21,2)>=6,H21,H21-1),Congés!$A$6:$A$52) -> 43712 | J21: =G21+H21-1 -> 43712 | K21: =IF($AF$3,I21,J21) -> 43712 | L21: 0 | M21: =G21+L21*(K21-G21) -> 43712 | N21: =IF(AND(L21<1,K21<$AI$6),"n","")
A22: 1.4 | B22: Action 4 | G22: 43713 | H22: 2 | I22: =WORKDAY(G22,IF(WEEKDAY(G22,2)>=6,H22,H22-1),Congés!$A$6:$A$52) -> 43714 | J22: =G22+H22-1 -> 43714 | K22: =IF($AF$3,I22,J22) -> 43714 | L22: 0 | M22: =G22+L22*(K22-G22) -> 43713 | N22: =IF(AND(L22<1,K22<$AI$6),"n","")
A23: 1.5 | B23: Action 5 | G23: 43715 | H23: 5 | I23: =WORKDAY(G23,IF(WEEKDAY(G23,2)>=6,H23,H23-1),Congés!$A$6:$A$52) -> 43721 | J23: =G23+H23-1 -> 43719 | K23: =IF($AF$3,I23,J23) -> 43721 | L23: 0 | M23: =G23+L23*(K23-G23) -> 43715 | N23: =IF(AND(L23<1,K23<$AI$6),"n","")
A24: 1.6 | B24: Action 6 | G24: 43722 | H24: 1 | I24: =WORKDAY(G24,IF(WEEKDAY(G24,2)>=6,H24,H24-1),Congés!$A$6:$A$52) -> 43724 | J24: =G24+H24-1 -> 43722 | K24: =IF($AF$3,I24,J24) -> 43724 | L24: 1 | M24: =G24+L24*(K24-G24) -> 43724 | N24: =IF(AND(L24<1,K24<$AI$6),"n","")
A25: 1.7 | B25: Action 7 | G25: 43725 | H25: 5 | I25: =WORKDAY(G25,IF(WEEKDAY(G25,2)>=6,H25,H25-1),Congés!$A$6:$A$52) -> 43731 | J25: =G25+H25-1 -> 43729 | K25: =IF($AF$3,I25,J25) -> 43731 | L25: 0 | M25: =G25+L25*(K25-G25) -> 43725 | N25: =IF(AND(L25<1,K25<$AI$6),"n","")
A26: 1.8 | B26: Action 8 | G26: 43732 | H26: 6 | I26: =WORKDAY(G26,IF(WEEKDAY(G26,2)>=6,H26,H26-1),Congés!$A$6:$A$52) -> 43739 | J26: =G26+H26-1 -> 43737 | K26: =IF($AF$3,I26,J26) -> 43739 | L26: 0 | M26: =G26+L26*(K26-G26) -> 43732 | N26: =IF(AND(L26<1,K26<$AI$6),"n","")
A27: 1.9 | B27: Action 9 | G27: 43740 | H27: 1 | I27: =WORKDAY(G27,IF(WEEKDAY(G27,2)>=6,H27,H27-1),Congés!$A$6:$A$52) -> 43740 | J27: =G27+H27-1 -> 43740 | K27: =IF($AF$3,I27,J27) -> 43740 | L27: 0 | M27: =G27+L27*(K27-G27) -> 43740 | N27: =IF(AND(L27<1,K27<$AI$6),"n","")
A28: 1.10 | B28: Action 10 | G28: 43741 | H28: 2 | I28: =WORKDAY(G28,IF(WEEKDAY(G28,2)>=6,H28,H28-1),Congés!$A$6:$A$52) -> 43742 | J28: =G28+H28-1 -> 43742 | K28: =IF($AF$3,I28,J28) -> 43742 | L28: 0 | M28: =G28+L28*(K28-G28) -> 43741 | N28: =IF(AND(L28<1,K28<$AI$6),"n","")
A29: 2 | B29: PILOTE | G29: =MIN(G30:G37) -> 43713 | H29: =MAX(J30:J37)-G29 -> 60 | I29: =WORKDAY(G29,IF(WEEKDAY(G29,2)>=6,H29,H29-1),Congés!$A$6:$A$52) -> 43798 | J29: =G29+H29-1 -> 43772 | K29: =MAX(J30:J43) -> 43791 | L29: =SUMPRODUCT(J30:J43,L30:L43)/SUM(J30:J43) -> 0 | M29: =G29-1+L29*H29 -> 43712 | N29: =IF(L29<>"",IF(AND(L29<1,K29<TODAY()),"n",""))
A30: 2.1 | B30: Action 1 | G30: 43743 | H30: 1 | I30: =WORKDAY(G30,IF(WEEKDAY(G30,2)>=6,H30,H30-1),Congés!$A$6:$A$52) -> 43745 | J30: =G30+H30-1 -> 43743 | K30: =IF($AF$3,I30,J30) -> 43745 | L30: 0 | M30: =G30+L30*(K30-G30) -> 43743 | N30: =IF(AND(L30<1,K30<$AI$6),"n","")
A31: 2.1 | B31: Action 2 | G31: 43746 | H31: 5 | I31: =WORKDAY(G31,IF(WEEKDAY(G31,2)>=6,H31,H31-1),Congés!$A$6:$A$52) -> 43752 | J31: =G31+H31-1 -> 43750 | K31: =IF($AF$3,I31,J31) -> 43752 | L31: 0 | M31: =G31+L31*(K31-G31) -> 43746 | N31: =IF(AND(L31<1,K31<$AI$6),"n","")
A32: 2.4 | B32: Action 3 | G32: 43753 | H32: 1 | I32: =WORKDAY(G32,IF(WEEKDAY(G32,2)>=6,H32,H32-1),Congés!$A$6:$A$52) -> 43753 | J32: =G32+H32-1 -> 43753 | K32: =IF($AF$3,I32,J32) -> 43753 | L32: 0 | M32: =G32+L32*(K32-G32) -> 43753 | N32: =IF(AND(L32<1,K32<$AI$6),"n","")
A33: 2.1 | B33: Action 4 | G33: 43754 | H33: 1 | I33: =WORKDAY(G33,IF(WEEKDAY(G33,2)>=6,H33,H33-1),Congés!$A$6:$A$52) -> 43754 | J33: =G33+H33-1 -> 43754 | K33: =IF($AF$3,I33,J33) -> 43754 | L33: 0 | M33: =G33+L33*(K33-G33) -> 43754 | N33: =IF(AND(L33<1,K33<$AI$6),"n","")
A34: 2.4 | B34: Action 5 | G34: 43755 | H34: 1 | I34: =WORKDAY(G34,IF(WEEKDAY(G34,2)>=6,H34,H34-1),Congés!$A$6:$A$52) -> 43755 | J34: =G34+H34-1 -> 43755 | K34: =IF($AF$3,I34,J34) -> 43755 | L34: 0 | M34: =G34+L34*(K34-G34) -> 43755 | N34: =IF(AND(L34<1,K34<$AI$6),"n","")
A35: 3 | B35: OPERATION SIEGE | G35: 43713 | H35: =MAX(J36:J41)-G35 -> 61 | I35: =WORKDAY(G35,IF(WEEKDAY(G35,2)>=6,H35,H35-1),Congés!$A$6:$A$52) -> 43801 | J35: =G35+H35-1 -> 43773 | K35: =MAX(J36:J47) -> 43806 | L35: =SUMPRODUCT(J36:J47,L36:L47)/SUM(J36:J47) -> 0 | M35: =G35-1+L35*H35 -> 43712 | N35: =IF(L35<>"",IF(AND(L35<1,K35<TODAY()),"n",""))
A36: 3.1 | B36: Action 1 | G36: 43756 | H36: 1 | I36: =WORKDAY(G36,IF(WEEKDAY(G36,2)>=6,H36,H36-1),Congés!$A$6:$A$52) -> 43756 | J36: =G36+H36-1 -> 43756 | K36: =IF($AF$3,I36,J36) -> 43756 | L36: 0 | M36: =G36+L36*(K36-G36) -> 43756 | N36: =IF(AND(L36<1,K36<$AI$6),"n","")
A37: 3.2 | B37: Action 2 | G37: 43757 | H37: 5 | I37: =WORKDAY(G37,IF(WEEKDAY(G37,2)>=6,H37,H37-1),Congés!$A$6:$A$52) -> 43763 | J37: =G37+H37-1 -> 43761 | K37: =IF($AF$3,I37,J37) -> 43763 | L37: 0 | M37: =G37+L37*(K37-G37) -> 43757 | N37: =IF(AND(L37<1,K37<$AI$6),"n","")
A38: 3.3 | B38: Action 3 | G38: 43764 | H38: 1 | I38: =WORKDAY(G38,IF(WEEKDAY(G38,2)>=6,H38,H38-1),Congés!$A$6:$A$52) -> 43766 | J38: =G38+H38-1 -> 43764 | K38: =IF($AF$3,I38,J38) -> 43766 | L38: 0 | M38: =G38+L38*(K38-G38) -> 43764 | N38: =IF(AND(L38<1,K38<$AI$6),"n","")
A39: 3.4 | B39: Action 4 | G39: 43767 | H39: 1 | I39: =WORKDAY(G39,IF(WEEKDAY(G39,2)>=6,H39,H39-1),Congés!$A$6:$A$52) -> 43767 | J39: =G39+H39-1 -> 43767 | K39: =IF($AF$3,I39,J39) -> 43767 | L39: 0 | M39: =G39+L39*(K39-G39) -> 43767 | N39: =IF(AND(L39<1,K39<$AI$6),"n","")
A40: 3.5 | B40: Action 5 | G40: 43768 | H40: 2 | I40: =WORKDAY(G40,IF(WEEKDAY(G40,2)>=6,H40,H40-1),Congés!$A$6:$A$52) -> 43769 | J40: =G40+H40-1 -> 43769 | K40: =IF($AF$3,I40,J40) -> 43769 | L40: 0 | M40: =G40+L40*(K40-G40) -> 43768 | N40: =IF(AND(L40<1,K40<$AI$6),"n","")
A41: 3.6 | B41: Action 6 | G41: 43770 | H41: 5 | I41: =WORKDAY(G41,IF(WEEKDAY(G41,2)>=6,H41,H41-1),Congés!$A$6:$A$52) -> 43776 | J41: =G41+H41-1 -> 43774 | K41: =IF($AF$3,I41,J41) -> 43776 | L41: 0 | M41: =G41+L41*(K41-G41) -> 43770 | N41: =IF(AND(L41<1,K41<$AI$6),"n","")
A42: 3.7 | B42: Action 7 | G42: 43777 | H42: 4 | I42: =WORKDAY(G42,IF(WEEKDAY(G42,2)>=6,H42,H42-1),Congés!$A$6:$A$52) -> 43783 | J42: =G42+H42-1 -> 43780 | K42: =IF($AF$3,I42,J42) -> 43783 | L42: 0 | M42: =G42+L42*(K42-G42) -> 43777 | N42: =IF(AND(L42<1,K42<$AI$6),"n","")
A43: 3.8 | B43: Action 8 | G43: 43784 | H43: 8 | I43: =WORKDAY(G43,IF(WEEKDAY(G43,2)>=6,H43,H43-1),Congés!$A$6:$A$52) -> 43795 | J43: =G43+H43-1 -> 43791 | K43: =IF($AF$3,I43,J43) -> 43795 | L43: 0 | M43: =G43+L43*(K43-G43) -> 43784 | N43: =IF(AND(L43<1,K43<$AI$6),"n","")
A44: 3.9 | B44: Action 9 | G44: 43796 | H44: 2 | I44: =WORKDAY(G44,IF(WEEKDAY(G44,2)>=6,H44,H44-1),Congés!$A$6:$A$52) -> 43797 | J44: =G44+H44-1 -> 43797 | K44: =IF($AF$3,I44,J44) -> 43797 | L44: 0 | M44: =G44+L44*(K44-G44) -> 43796 | N44: =IF(AND(L44<1,K44<$AI$6),"n","")
A45: 3.10 | B45: Action 10 | G45: 43798 | H45: 5 | I45: =WORKDAY(G45,IF(WEEKDAY(G45,2)>=6,H45,H45-1),Congés!$A$6:$A$52) -> 43804 | J45: =G45+H45-1 -> 43802 | K45: =IF($AF$3,I45,J45) -> 43804 | L45: 0 | M45: =G45+L45*(K45-G45) -> 43798 | N45: =IF(AND(L45<1,K45<$AI$6),"n","")
...

Sheet Congés
A1: Bank Holidays - Jours Fériés :
A6: 43466
A7: 43471
A8: 43510
A9: 43529
A10: 43576
A11: 43576
A12: 43577
A13: 43586
A14: 43593
A15: 43615
A16: 43625
A17: 43625
... A24: 43830

Sheet Week End Mapping
A1: Weekend Mapping
A3: 1 | B3: 01- Sam & Dim | C3: 6 | D3: 7
A4: 2 | B4: 02- Dim & Lun | C4: 7 | D4: 1
A5: 3 | B5: 03- Lun & Mar | C5: 1 | D5: 2
A6: 4 | B6: 04- Mar & Mer | C6: 2 | D6: 3
A7: 5 | B7: 05- Mer & Jeu | C7: 3 | D7: 4
A8: 6 | B8: 06- Jeu & Ven | C8: 4 | D8: 5
A9: 7 | B9: 07- Ven & Sam | C9: 5 | D9: 6
A10: 11 | B10: 11- Dim. uniquement | C10: 7 | D10: 7
A11: 12 | B11: 12- Lun. uniquement | C11: 1 | D11: 1
A12: 13 | B12: 13- Mar. uniquement | C12: 2 | D12: 2
A13: 14 | B13: 14- Mer. uniquement | C13: 3 | D13: 3
A14: 15 | B14: 15- Jeu. uniquement | C14: 4 | D14: 4
... A16: 17 | B16: 17- Sam. uniquement | C16: 6 | D16: 6

Sheet F4
A1: =WEEKDAY(B$1,2) -> 2 | B1: =MIN('Planning Global'!$10:$10) -> 43697 | C1: =EOMONTH(B1,-1)+1 -> 43678 | D1: =MAX('Planning Global'!$10:$10) -> 44650 | F1: Choisir : | G1: année : | H1: 2020
A2: Lundi | B2: =SUM(ROW(),-1,-A$1) -> -1 | C2: =IF(C1="","",IF(EOMONTH(C1,0)+1>$D$1,"",EOMONTH(C1,0)+1)) -> 43709 | F2: =IF(ISBLANK(H3)," ou ","") -> ou | G2: =IF(ISBLANK(H3)," mois :","") -> mois : | H2: févr.
A3: Mardi | B3: =SUM(ROW(),-1,-A$1) -> 0 | F3: =IF(ISBLANK(H2)," ou ","") | G3: =IF(ISBLANK(H2)," semaine : ","")
A4: Mercredi | B4: =SUM(ROW(),-1,-A$1) -> 1
A5: Jeudi | B5: =SUM(ROW(),-1,-A$1) -> 2
A6: Vendredi | B6: =SUM(ROW(),-1,-A$1) -> 3
A7: Samedi | B7: =SUM(ROW(),-1,-A$1) -> 4
A8: Dimanche | B8: =SUM(ROW(),-1,-A$1) -> 5
R9: =IF(R$10="","",MATCH(R10,'Planning Global'!$10:$10,1)) -> 180 | S9: =IF(S$10="","",MATCH(S10,'Planning Global'!$10:$10,1)) -> 181 | T9: =IF(T$10="","",MATCH(T10,'Planning Global'!$10:$10,1)) -> 180 | U9: =IF(U$10="","",MATCH(U10,'Planning Global'!$10:$10,1)) -> 181 | V9: =IF(V$10="","",MATCH(V10,'Planning Global'!$10:$10,1)) -> 182 | W9: =IF(W$10="","",MATCH(W10,'Planning Global'!$10:$10,1)) -> 183 | X9: =IF(X$10="","",MATCH(X10,'Planning Global'!$10:$10,1)) -> 184 | Y9: =IF(Y$10="","",MATCH(Y10,'Planning Global'!$10:$10,1)) -> 185 | ... AV9: =IF(AV$10="","",MATCH(AV10,'Planning Global'!$10:$10,1)) -> 208
A10: Jours | B10: Semaines | C10: Mois | D10: Années | F10: ='Planning Global'!A17 -> 0 | G10: ='Planning Global'!B17 -> 0 | K10: ='Planning Global'!F17 -> Resp | L10: ='Planning Global'!G17 -> Début | M10: ='Planning Global'!H17 -> Durée | N10: ='Planning Global'!I17 -> Fin Jours Ouvrés Uniquement | O10: ='Planning Global'!J17 -> Fin Normale | P10: ='Planning Global'!K17 -> Fin | Q10: ='Planning Global'!L17 -> Avanc. | R10: =IF(ISERROR(SMALL($E$11:$E$964,COLUMN()-17)),"",INDIRECT("A"&SMALL($E$11:$E$964,COLUMN()-17),1)) -> 43862 | S10: =IF(ISERROR(SMALL($E$11:$E$964,COLUMN()-17)),"",INDIRECT("A"&SMALL($E$11:$E$964,COLUMN()-17),1)) -> 43863 | T10: =IF(ISERROR(SMALL($E$11:$E$964,COLUMN()-19)),"",INDIRECT("A"&SMALL($E$11:$E$964,COLUMN()-19),1)) -> 43862 | U10: =IF(ISERROR(SMALL($E$11:$E$964,COLUMN()-19)),"",INDIRECT("A"&SMALL($E$11:$E$964,COLUMN()-19),1)) -> 43863 | V10: =IF(ISERROR(SMALL($E$11:$E$964,COLUMN()-19)),"",INDIRECT("A"&SMALL($E$11:$E$964,COLUMN()-19),1)) -> 43864 | W10: =IF(ISERROR(SMALL($E$11:$E$964,COLUMN()-19)),"",INDIRECT("A"&SMALL($E$11:$E$964,COLUMN()-19),1)) -> 43865 | X10: =IF(ISERROR(SMALL($E$11:$E$964,COLUMN()-19)),"",INDIRECT("A"&SMALL($E$11:$E$964,COLUMN()-19),1)) -> 43866 | Y10: =IF(ISERROR(SMALL($E$11:$E$964,COLUMN()-19)),"",INDIRECT("A"&SMALL($E$11:$E$964,COLUMN()-19),1)) -> 43867 | Z10: =IF(ISERROR(SMALL($E$11:$E$964,COLUMN()-19)),"",INDIRECT("A"&SMALL($E$11:$E$964,COLUMN()-19),1)) -> 43868 | AA10: =IF(ISERROR(SMALL($E$11:$E$964,COLUMN()-19)),"",INDIRECT("A"&SMALL($E$11:$E$964,COLUMN()-19),1)) -> 43869 | ... AX10: =IF(ISERROR(SMALL($E$11:$E$964,COLUMN()-19)),"",INDIRECT("A"&SMALL($E$11:$E$964,COLUMN()-19),1))
A11: =B$1 -> 43697 | B11: =IF(WEEKDAY(A11,2)=WEEKDAY(B$1,2),WEEKNUM(A11,2),"") -> 34 | C11: =IF(A11=EOMONTH(A11,0),TEXT(A11,"mmm"),"") | D11: =IF(OR(AND(DAY(A11)=31,MONTH(A11)=12),AND(DAY(A11)=1,MONTH(A11)=1)),YEAR(A11),"") | E11: =IF(IF(YEAR(A11)=$H$1,TRUE())*IF(OR($H$2="",TEXT(A11,"mmm")=$H$2),TRUE())*IF(OR($H$3="",WEEKNUM(A11,2)=$H$3),TRUE())=1,ROW(),"") | F11: ='Planning Global'!A18 -> 1 | G11: ='Planning Global'!B18 -> Opportunité | K11: ='Planning Global'!F18 -> 0 | L11: ='Planning Global'!G18 -> 43710 | M11: ='Planning Global'!H18 -> 25 | N11: ='Planning Global'!I18 -> 43742 | O11: ='Planning Global'!J18 -> 43742 | P11: ='Planning Global'!K18 -> 43742 | Q11: ='Planning Global'!L18 -> 0.1875134 | T11: =IF(T$10="","",INDIRECT(ADDRESS(ROW()+7,COLUMN()-3,4,1,"Planning Global"),1)) -> 0 | U11: =IF(U$10="","",INDIRECT(ADDRESS(ROW()+7,COLUMN()-3,4,1,"Planning Global"),1)) -> 0 | V11: =IF(V$10="","",INDIRECT(ADDRESS(ROW()+7,COLUMN()-3,4,1,"Planning Global"),1)) -> 0 | W11: =IF(W$10="","",INDIRECT(ADDRESS(ROW()+7,COLUMN()-3,4,1,"Planning Global"),1)) -> 0 | X11: =IF(X$10="","",INDIRECT(ADDRESS(ROW()+7,COLUMN()-3,4,1,"Planning Global"),1)) -> 0 | Y11: =IF(Y$10="","",INDIRECT(ADDRESS(ROW()+7,COLUMN()-3,4,1,"Planning Global"),1)) -> 0 | Z11: =IF(Z$10="","",INDIRECT(ADDRESS(ROW()+7,COLUMN()-3,4,1,"Planning Global"),1)) -> 0 | AA11: =IF(AA$10="","",INDIRECT(ADDRESS(ROW()+7,COLUMN()-3,4,1,"Planning Global"),1)) -> 0 | ... AX11: =IF(AX$10="","",INDIRECT(ADDRESS(ROW()+7,COLUMN()-3,4,1,"Planning Global"),1))
A12: =IF(MAX(A$11:A11)+1<=$D$1,A11+1,"") -> 43698 | B12: =IF(WEEKDAY(A12,2)=WEEKDAY(B$1,2),WEEKNUM(A12,2),"") | C12: =IF(A12=EOMONTH(A12,0),TEXT(A12,"mmm"),"") | D12: =IF(OR(AND(DAY(A12)=31,MONTH(A12)=12),AND(DAY(A12)=1,MONTH(A12)=1)),YEAR(A12),"") | E12: =IF(IF(YEAR(A12)=$H$1,TRUE())*IF(OR($H$2="",TEXT(A12,"mmm")=$H$2),TRUE())*IF(OR($H$3="",WEEKNUM(A12,2)=$H$3),TRUE())=1,ROW(),"") | F12: ='Planning Global'!A19 -> 1.1 | G12: ='Planning Global'!B19 -> Action 1 | K12: ='Planning Global'!F19 -> 0 | L12: ='Planning Global'!G19 -> 43710 | M12: ='Planning Global'!H19 -> 1 | N12: ='Planning Global'!I19 -> 43710 | O12: ='Planning Global'!J19 -> 43710 | P12: ='Planning Global'!K19 -> 43710 | Q12: ='Planning Global'!L19 -> 0.5
A13: =IF(MAX(A$11:A12)+1<=$D$1,A12+1,"") -> 43699 | B13: =IF(WEEKDAY(A13,2)=WEEKDAY(B$1,2),WEEKNUM(A13,2),"") | C13: =IF(A13=EOMONTH(A13,0),TEXT(A13,"mmm"),"") | D13: =IF(OR(AND(DAY(A13)=31,MONTH(A13)=12),AND(DAY(A13)=1,MONTH(A13)=1)),YEAR(A13),"") | E13: =IF(IF(YEAR(A13)=$H$1,TRUE())*IF(OR($H$2="",TEXT(A13,"mmm")=$H$2),TRUE())*IF(OR($H$3="",WEEKNUM(A13,2)=$H$3),TRUE())=1,ROW(),"") | F13: ='Planning Global'!A20 -> 1.2 | G13: ='Planning Global'!B20 -> Action 2 | K13: ='Planning Global'!F20 -> 0 | L13: ='Planning Global'!G20 -> 43711 | M13: ='Planning Global'!H20 -> 1 | N13: ='Planning Global'!I20 -> 43711 | O13: ='Planning Global'!J20 -> 43676 | P13: ='Planning Global'!K20 -> 43711 | Q13: ='Planning Global'!L20 -> 0
A14: =IF(MAX(A$11:A13)+1<=$D$1,A13+1,"") -> 43700 | B14: =IF(WEEKDAY(A14,2)=WEEKDAY(B$1,2),WEEKNUM(A14,2),"") | C14: =IF(A14=EOMONTH(A14,0),TEXT(A14,"mmm"),"") | D14: =IF(OR(AND(DAY(A14)=31,MONTH(A14)=12),AND(DAY(A14)=1,MONTH(A14)=1)),YEAR(A14),"") | E14: =IF(IF(YEAR(A14)=$H$1,TRUE())*IF(OR($H$2="",TEXT(A14,"mmm")=$H$2),TRUE())*IF(OR($H$3="",WEEKNUM(A14,2)=$H$3),TRUE())=1,ROW(),"") | F14: ='Planning Global'!A21 -> 1.3 | G14: ='Planning Global'!B21 -> Action 3 | K14: ='Planning Global'!F21 -> 0 | L14: ='Planning Global'!G21 -> 43712 | M14: ='Planning Global'!H21 -> 1 | N14: ='Planning Global'!I21 -> 43712 | O14: ='Planning Global'!J21 -> 43712 | P14: ='Planning Global'!K21 -> 43712 | Q14: ='Planning Global'!L21 -> 0
A15: =IF(MAX(A$11:A14)+1<=$D$1,A14+1,"") -> 43701 | B15: =IF(WEEKDAY(A15,2)=WEEKDAY(B$1,2),WEEKNUM(A15,2),"") | C15: =IF(A15=EOMONTH(A15,0),TEXT(A15,"mmm"),"") | D15: =IF(OR(AND(DAY(A15)=31,MONTH(A15)=12),AND(DAY(A15)=1,MONTH(A15)=1)),YEAR(A15),"") | E15: =IF(IF(YEAR(A15)=$H$1,TRUE())*IF(OR($H$2="",TEXT(A15,"mmm")=$H$2),TRUE())*IF(OR($H$3="",WEEKNUM(A15,2)=$H$3),TRUE())=1,ROW(),"") | F15: ='Planning Global'!A22 -> 1.4 | G15: ='Planning Global'!B22 -> Action 4 | K15: ='Planning Global'!F22 -> 0 | L15: ='Planning Global'!G22 -> 43713 | M15: ='Planning Global'!H22 -> 2 | N15: ='Planning Global'!I22 -> 43714 | O15: ='Planning Global'!J22 -> 43714 | P15: ='Planning Global'!K22 -> 43714 | Q15: ='Planning Global'!L22 -> 0
A16: =IF(MAX(A$11:A15)+1<=$D$1,A15+1,"") -> 43702 | B16: =IF(WEEKDAY(A16,2)=WEEKDAY(B$1,2),WEEKNUM(A16,2),"") | C16: =IF(A16=EOMONTH(A16,0),TEXT(A16,"mmm"),"") | D16: =IF(OR(AND(DAY(A16)=31,MONTH(A16)=12),AND(DAY(A16)=1,MONTH(A16)=1)),YEAR(A16),"") | E16: =IF(IF(YEAR(A16)=$H$1,TRUE())*IF(OR($H$2="",TEXT(A16,"mmm")=$H$2),TRUE())*IF(OR($H$3="",WEEKNUM(A16,2)=$H$3),TRUE())=1,ROW(),"") | F16: ='Planning Global'!A23 -> 1.5 | G16: ='Planning Global'!B23 -> Action 5 | K16: ='Planning Global'!F23 -> 0 | L16: ='Planning Global'!G23 -> 43715 | M16: ='Planning Global'!H23 -> 5 | N16: ='Planning Global'!I23 -> 43721 | O16: ='Planning Global'!J23 -> 43719 | P16: ='Planning Global'!K23 -> 43721 | Q16: ='Planning Global'!L23 -> 0
A17: =IF(MAX(A$11:A16)+1<=$D$1,A16+1,"") -> 43703 | B17: =IF(WEEKDAY(A17,2)=WEEKDAY(B$1,2),WEEKNUM(A17,2),"") | C17: =IF(A17=EOMONTH(A17,0),TEXT(A17,"mmm"),"") | D17: =IF(OR(AND(DAY(A17)=31,MONTH(A17)=12),AND(DAY(A17)=1,MONTH(A17)=1)),YEAR(A17),"") | E17: =IF(IF(YEAR(A17)=$H$1,TRUE())*IF(OR($H$2="",TEXT(A17,"mmm")=$H$2),TRUE())*IF(OR($H$3="",WEEKNUM(A17,2)=$H$3),TRUE())=1,ROW(),"") | F17: ='Planning Global'!A24 -> 1.6 | G17: ='Planning Global'!B24 -> Action 6 | K17: ='Planning Global'!F24 -> 0 | L17: ='Planning Global'!G24 -> 43722 | M17: ='Planning Global'!H24 -> 1 | N17: ='Planning Global'!I24 -> 43724 | O17: ='Planning Global'!J24 -> 43722 | P17: ='Planning Global'!K24 -> 43724 | Q17: ='Planning Global'!L24 -> 1
A18: =IF(MAX(A$11:A17)+1<=$D$1,A17+1,"") -> 43704 | B18: =IF(WEEKDAY(A18,2)=WEEKDAY(B$1,2),WEEKNUM(A18,2),"") -> 35 | C18: =IF(A18=EOMONTH(A18,0),TEXT(A18,"mmm"),"") | D18: =IF(OR(AND(DAY(A18)=31,MONTH(A18)=12),AND(DAY(A18)=1,MONTH(A18)=1)),YEAR(A18),"") | E18: =IF(IF(YEAR(A18)=$H$1,TRUE())*IF(OR($H$2="",TEXT(A18,"mmm")=$H$2),TRUE())*IF(OR($H$3="",WEEKNUM(A18,2)=$H$3),TRUE())=1,ROW(),"") | F18: ='Planning Global'!A25 -> 1.7 | G18: ='Planning Global'!B25 -> Action 7 | K18: ='Planning Global'!F25 -> 0 | L18: ='Planning Global'!G25 -> 43725 | M18: ='Planning Global'!H25 -> 5 | N18: ='Planning Global'!I25 -> 43731 | O18: ='Planning Global'!J25 -> 43729 | P18: ='Planning Global'!K25 -> 43731 | Q18: ='Planning Global'!L25 -> 0
A19: =IF(MAX(A$11:A18)+1<=$D$1,A18+1,"") -> 43705 | B19: =IF(WEEKDAY(A19,2)=WEEKDAY(B$1,2),WEEKNUM(A19,2),"") | C19: =IF(A19=EOMONTH(A19,0),TEXT(A19,"mmm"),"") | D19: =IF(OR(AND(DAY(A19)=31,MONTH(A19)=12),AND(DAY(A19)=1,MONTH(A19)=1)),YEAR(A19),"") | E19: =IF(IF(YEAR(A19)=$H$1,TRUE())*IF(OR($H$2="",TEXT(A19,"mmm")=$H$2),TRUE())*IF(OR($H$3="",WEEKNUM(A19,2)=$H$3),TRUE())=1,ROW(),"") | F19: ='Planning Global'!A26 -> 1.8 | G19: ='Planning Global'!B26 -> Action 8 | K19: ='Planning Global'!F26 -> 0 | L19: ='Planning Global'!G26 -> 43732 | M19: ='Planning Global'!H26 -> 6 | N19: ='Planning Global'!I26 -> 43739 | O19: ='Planning Global'!J26 -> 43737 | P19: ='Planning Global'!K26 -> 43739 | Q19: ='Planning Global'!L26 -> 0
A20: =IF(MAX(A$11:A19)+1<=$D$1,A19+1,"") -> 43706 | B20: =IF(WEEKDAY(A20,2)=WEEKDAY(B$1,2),WEEKNUM(A20,2),"") | C20: =IF(A20=EOMONTH(A20,0),TEXT(A20,"mmm"),"") | D20: =IF(OR(AND(DAY(A20)=31,MONTH(A20)=12),AND(DAY(A20)=1,MONTH(A20)=1)),YEAR(A20),"") | E20: =IF(IF(YEAR(A20)=$H$1,TRUE())*IF(OR($H$2="",TEXT(A20,"mmm")=$H$2),TRUE())*IF(OR($H$3="",WEEKNUM(A20,2)=$H$3),TRUE())=1,ROW(),"") | F20: ='Planning Global'!A27 -> 1.9 | G20: ='Planning Global'!B27 -> Action 9 | K20: ='Planning Global'!F27 -> 0 | L20: ='Planning Global'!G27 -> 43740 | M20: ='Planning Global'!H27 -> 1 | N20: ='Planning Global'!I27 -> 43740 | O20: ='Planning Global'!J27 -> 43740 | P20: ='Planning Global'!K27 -> 43740 | Q20: ='Planning Global'!L27 -> 0
A21: =IF(MAX(A$11:A20)+1<=$D$1,A20+1,"") -> 43707 | B21: =IF(WEEKDAY(A21,2)=WEEKDAY(B$1,2),WEEKNUM(A21,2),"") | C21: =IF(A21=EOMONTH(A21,0),TEXT(A21,"mmm"),"") | D21: =IF(OR(AND(DAY(A21)=31,MONTH(A21)=12),AND(DAY(A21)=1,MONTH(A21)=1)),YEAR(A21),"") | E21: =IF(IF(YEAR(A21)=$H$1,TRUE())*IF(OR($H$2="",TEXT(A21,"mmm")=$H$2),TRUE())*IF(OR($H$3="",WEEKNUM(A21,2)=$H$3),TRUE())=1,ROW(),"") | F21: ='Planning Global'!A28 -> 1.10 | G21: ='Planning Global'!B28 -> Action 10 | K21: ='Planning Global'!F28 -> 0 | L21: ='Planning Global'!G28 -> 43741 | M21: ='Planning Global'!H28 -> 2 | N21: ='Planning Global'!I28 -> 43742 | O21: ='Planning Global'!J28 -> 43742 | P21: ='Planning Global'!K28 -> 43742 | Q21: ='Planning Global'!L28 -> 0
A22: =IF(MAX(A$11:A21)+1<=$D$1,A21+1,"") -> 43708 | B22: =IF(WEEKDAY(A22,2)=WEEKDAY(B$1,2),WEEKNUM(A22,2),"") | C22: =IF(A22=EOMONTH(A22,0),TEXT(A22,"mmm"),"") -> août | D22: =IF(OR(AND(DAY(A22)=31,MONTH(A22)=12),AND(DAY(A22)=1,MONTH(A22)=1)),YEAR(A22),"") | E22: =IF(IF(YEAR(A22)=$H$1,TRUE())*IF(OR($H$2="",TEXT(A22,"mmm")=$H$2),TRUE())*IF(OR($H$3="",WEEKNUM(A22,2)=$H$3),TRUE())=1,ROW(),"") | F22: ='Planning Global'!A29 -> 2 | G22: ='Planning Global'!B29 -> PILOTE | K22: ='Planning Global'!F29 -> 0 | L22: ='Planning Global'!G29 -> 43713 | M22: ='Planning Global'!H29 -> 60 | N22: ='Planning Global'!I29 -> 43798 | O22: ='Planning Global'!J29 -> 43772 | P22: ='Planning Global'!K29 -> 43791 | Q22: ='Planning Global'!L29 -> 0
A23: =IF(MAX(A$11:A22)+1<=$D$1,A22+1,"") -> 43709 | B23: =IF(WEEKDAY(A23,2)=WEEKDAY(B$1,2),WEEKNUM(A23,2),"") | C23: =IF(A23=EOMONTH(A23,0),TEXT(A23,"mmm"),"") | D23: =IF(OR(AND(DAY(A23)=31,MONTH(A23)=12),AND(DAY(A23)=1,MONTH(A23)=1)),YEAR(A23),"") | E23: =IF(IF(YEAR(A23)=$H$1,TRUE())*IF(OR($H$2="",TEXT(A23,"mmm")=$H$2),TRUE())*IF(OR($H$3="",WEEKNUM(A23,2)=$H$3),TRUE())=1,ROW(),"") | F23: ='Planning Global'!A30 -> 2.1 | G23: ='Planning Global'!B30 -> Action 1 | K23: ='Planning Global'!F30 -> 0 | L23: ='Planning Global'!G30 -> 43743 | M23: ='Planning Global'!H30 -> 1 | N23: ='Planning Global'!I30 -> 43745 | O23: ='Planning Global'!J30 -> 43743 | P23: ='Planning Global'!K30 -> 43745 | Q23: ='Planning Global'!L30 -> 0
... A57: =IF(MAX(A$11:A56)+1<=$D$1,A56+1,"") -> 43743 | B57: =IF(WEEKDAY(A57,2)=WEEKDAY(B$1,2),WEEKNUM(A57,2),"") | C57: =IF(A57=EOMONTH(A57,0),TEXT(A57,"mmm"),"") | D57: =IF(OR(AND(DAY(A57)=31,MONTH(A57)=12),AND(DAY(A57)=1,MONTH(A57)=1)),YEAR(A57),"") | E57: =IF(IF(YEAR(A57)=$H$1,TRUE())*IF(OR($H$2="",TEXT(A57,"mmm")=$H$2),TRUE())*IF(OR($H$3="",WEEKNUM(A57,2)=$H$3),TRUE())=1,ROW(),"") | F57: ='Planning Global'!A64 -> 5.4 | G57: ='Planning Global'!B64 -> Action 1 | K57: ='Planning Global'!F64 -> 0 | L57: ='Planning Global'!G64 -> 43868 | M57: ='Planning Global'!H64 -> 1 | N57: ='Planning Global'!I64 -> 43868 | O57: ='Planning Global'!J64 -> 43868 | P57: ='Planning Global'!K64 -> 43868 | Q57: ='Planning Global'!L64 -> 0
A58: =IF(MAX(A$11:A57)+1<=$D$1,A57+1,"") -> 43744 | G58: ='Planning Global'!B65 -> Fin Phase 1
A59: =IF(MAX(A$11:A58)+1<=$D$1,A58+1,"") -> 43745
A60: =IF(MAX(A$11:A59)+1<=$D$1,A59+1,"") -> 43746
A61: =IF(MAX(A$11:A60)+1<=$D$1,A60+1,"") -> 43747 | B61: =IF(WEEKDAY(A61,2)=WEEKDAY(B$1,2),WEEKNUM(A61,2),"") | C61: =IF(A61=EOMONTH(A61,0),TEXT(A61,"mmm"),"") | D61: =IF(OR(AND(DAY(A61)=31,MONTH(A61)=12),AND(DAY(A61)=1,MONTH(A61)=1)),YEAR(A61),"") | E61: =IF(IF(YEAR(A61)=$H$1,TRUE())*IF(OR($H$2="",TEXT(A61,"mmm")=$H$2),TRUE())*IF(OR($H$3="",WEEKNUM(A61,2)=$H$3),TRUE())=1,ROW(),"")
A62: =IF(MAX(A$11:A61)+1<=$D$1,A61+1,"") -> 43748 | B62: =IF(WEEKDAY(A62,2)=WEEKDAY(B$1,2),WEEKNUM(A62,2),"") | C62: =IF(A62=EOMONTH(A62,0),TEXT(A62,"mmm"),"") | D62: =IF(OR(AND(DAY(A62)=31,MONTH(A62)=12),AND(DAY(A62)=1,MONTH(A62)=1)),YEAR(A62),"") | E62: =IF(IF(YEAR(A62)=$H$1,TRUE())*IF(OR($H$2="",TEXT(A62,"mmm")=$H$2),TRUE())*IF(OR($H$3="",WEEKNUM(A62,2)=$H$3),TRUE())=1,ROW(),"")
A63: =IF(MAX(A$11:A62)+1<=$D$1,A62+1,"") -> 43749 | B63: =IF(WEEKDAY(A63,2)=WEEKDAY(B$1,2),WEEKNUM(A63,2),"") | C63: =IF(A63=EOMONTH(A63,0),TEXT(A63,"mmm"),"") | D63: =IF(OR(AND(DAY(A63)=31,MONTH(A63)=12),AND(DAY(A63)=1,MONTH(A63)=1)),YEAR(A63),"") | E63: =IF(IF(YEAR(A63)=$H$1,TRUE())*IF(OR($H$2="",TEXT(A63,"mmm")=$H$2),TRUE())*IF(OR($H$3="",WEEKNUM(A63,2)=$H$3),TRUE())=1,ROW(),"")
A64: =IF(MAX(A$11:A63)+1<=$D$1,A63+1,"") -> 43750 | B64: =IF(WEEKDAY(A64,2)=WEEKDAY(B$1,2),WEEKNUM(A64,2),"") | C64: =IF(A64=EOMONTH(A64,0),TEXT(A64,"mmm"),"") | D64: =IF(OR(AND(DAY(A64)=31,MONTH(A64)=12),AND(DAY(A64)=1,MONTH(A64)=1)),YEAR(A64),"") | E64: =IF(IF(YEAR(A64)=$H$1,TRUE())*IF(OR($H$2="",TEXT(A64,"mmm")=$H$2),TRUE())*IF(OR($H$3="",WEEKNUM(A64,2)=$H$3),TRUE())=1,ROW(),"")
A65: =IF(MAX(A$11:A64)+1<=$D$1,A64+1,"") -> 43751 | B65: =IF(WEEKDAY(A65,2)=WEEKDAY(B$1,2),WEEKNUM(A65,2),"") | C65: =IF(A65=EOMONTH(A65,0),TEXT(A65,"mmm"),"") | D65: =IF(OR(AND(DAY(A65)=31,MONTH(A65)=12),AND(DAY(A65)=1,MONTH(A65)=1)),YEAR(A65),"") | E65: =IF(IF(YEAR(A65)=$H$1,TRUE())*IF(OR($H$2="",TEXT(A65,"mmm")=$H$2),TRUE())*IF(OR($H$3="",WEEKNUM(A65,2)=$H$3),TRUE())=1,ROW(),"")
A66: =IF(MAX(A$11:A65)+1<=$D$1,A65+1,"") -> 43752 | B66: =IF(WEEKDAY(A66,2)=WEEKDAY(B$1,2),WEEKNUM(A66,2),"") | C66: =IF(A66=EOMONTH(A66,0),TEXT(A66,"mmm"),"") | D66: =IF(OR(AND(DAY(A66)=31,MONTH(A66)=12),AND(DAY(A66)=1,MONTH(A66)=1)),YEAR(A66),"") | E66: =IF(IF(YEAR(A66)=$H$1,TRUE())*IF(OR($H$2="",TEXT(A66,"mmm")=$H$2),TRUE())*IF(OR($H$3="",WEEKNUM(A66,2)=$H$3),TRUE())=1,ROW(),"")
A67: =IF(MAX(A$11:A66)+1<=$D$1,A66+1,"") -> 43753 | B67: =IF(WEEKDAY(A67,2)=WEEKDAY(B$1,2),WEEKNUM(A67,2),"") -> 42 | C67: =IF(A67=EOMONTH(A67,0),TEXT(A67,"mmm"),"") | D67: =IF(OR(AND(DAY(A67)=31,MONTH(A67)=12),AND(DAY(A67)=1,MONTH(A67)=1)),YEAR(A67),"") | E67: =IF(IF(YEAR(A67)=$H$1,TRUE())*IF(OR($H$2="",TEXT(A67,"mmm")=$H$2),TRUE())*IF(OR($H$3="",WEEKNUM(A67,2)=$H$3),TRUE())=1,ROW(),"")
A68: =IF(MAX(A$11:A67)+1<=$D$1,A67+1,"") -> 43754 | B68: =IF(WEEKDAY(A68,2)=WEEKDAY(B$1,2),WEEKNUM(A68,2),"") | C68: =IF(A68=EOMONTH(A68,0),TEXT(A68,"mmm"),"") | D68: =IF(OR(AND(DAY(A68)=31,MONTH(A68)=12),AND(DAY(A68)=1,MONTH(A68)=1)),YEAR(A68),"") | E68: =IF(IF(YEAR(A68)=$H$1,TRUE())*IF(OR($H$2="",TEXT(A68,"mmm")=$H$2),TRUE())*IF(OR($H$3="",WEEKNUM(A68,2)=$H$3),TRUE())=1,ROW(),"")
A69: =IF(MAX(A$11:A68)+1<=$D$1,A68+1,"") -> 43755 | B69: =IF(WEEKDAY(A69,2)=WEEKDAY(B$1,2),WEEKNUM(A69,2),"") | C69: =IF(A69=EOMONTH(A69,0),TEXT(A69,"mmm"),"") | D69: =IF(OR(AND(DAY(A69)=31,MONTH(A69)=12),AND(DAY(A69)=1,MONTH(A69)=1)),YEAR(A69),"") | E69: =IF(IF(YEAR(A69)=$H$1,TRUE())*IF(OR($H$2="",TEXT(A69,"mmm")=$H$2),TRUE())*IF(OR($H$3="",WEEKNUM(A69,2)=$H$3),TRUE())=1,ROW(),"")
A70: =IF(MAX(A$11:A69)+1<=$D$1,A69+1,"") -> 43756 | B70: =IF(WEEKDAY(A70,2)=WEEKDAY(B$1,2),WEEKNUM(A70,2),"") | C70: =IF(A70=EOMONTH(A70,0),TEXT(A70,"mmm"),"") | D70: =IF(OR(AND(DAY(A70)=31,MONTH(A70)=12),AND(DAY(A70)=1,MONTH(A70)=1)),YEAR(A70),"") | E70: =IF(IF(YEAR(A70)=$H$1,TRUE())*IF(OR($H$2="",TEXT(A70,"mmm")=$H$2),TRUE())*IF(OR($H$3="",WEEKNUM(A70,2)=$H$3),TRUE())=1,ROW(),"")
A71: =IF(MAX(A$11:A70)+1<=$D$1,A70+1,"") -> 43757 | B71: =IF(WEEKDAY(A71,2)=WEEKDAY(B$1,2),WEEKNUM(A71,2),"") | C71: =IF(A71=EOMONTH(A71,0),TEXT(A71,"mmm"),"") | D71: =IF(OR(AND(DAY(A71)=31,MONTH(A71)=12),AND(DAY(A71)=1,MONTH(A71)=1)),YEAR(A71),"") | E71: =IF(IF(YEAR(A71)=$H$1,TRUE())*IF(OR($H$2="",TEXT(A71,"mmm")=$H$2),TRUE())*IF(OR($H$3="",WEEKNUM(A71,2)=$H$3),TRUE())=1,ROW(),"")
A72: =IF(MAX(A$11:A71)+1<=$D$1,A71+1,"") -> 43758 | B72: =IF(WEEKDAY(A72,2)=WEEKDAY(B$1,2),WEEKNUM(A72,2),"") | C72: =IF(A72=EOMONTH(A72,0),TEXT(A72,"mmm"),"") | D72: =IF(OR(AND(DAY(A72)=31,MONTH(A72)=12),AND(DAY(A72)=1,MONTH(A72)=1)),YEAR(A72),"") | E72: =IF(IF(YEAR(A72)=$H$1,TRUE())*IF(OR($H$2="",TEXT(A72,"mmm")=$H$2),TRUE())*IF(OR($H$3="",WEEKNUM(A72,2)=$H$3),TRUE())=1,ROW(),"")
... A964: =IF(MAX(A$11:A963)+1<=$D$1,A963+1,"") -> 44650 | B964: =IF(WEEKDAY(A964,2)=WEEKDAY(B$1,2),WEEKNUM(A964,2),"") | C964: =IF(A964=EOMONTH(A964,0),TEXT(A964,"mmm"),"") | D964: =IF(OR(AND(DAY(A964)=31,MONTH(A964)=12),AND(DAY(A964)=1,MONTH(A964)=1)),YEAR(A964),"") | E964: =IF(IF(YEAR(A964)=$H$1,TRUE())*IF(OR($H$2="",TEXT(A964,"mmm")=$H$2),TRUE())*IF(OR($H$3="",WEEKNUM(A964,2)=$H$3),TRUE())=1,ROW(),"")
...
