Workbook

Sheet Rapport
B1: NOM DU PRODUIT | C1: =A3 -> SOUS CATEGORIE | D1: REFERENCE | E1: CODE-BARRES | F1: QTE | G1: STATUT | H1: EMPLACEMENT | I1: Valeur | J1: =IF(K1>0,"",Inventaires!A1) -> 10 | K1: =Inventaires!B1 -> 0
A2: 0100 Analgésiques | B2: =IF(AND($K$1=0,ROW()-1<=$J$1),INDIRECT("Inventaires!D"&SMALL(Inventaires!$A$3:$A$400,ROW()-1),1),IF(AND(ROW()-1<=$K$1,$K$1>0),INDIRECT("Inventaires!D"&SMALL(Inventaires!$B$3:$B$400,ROW()-1),1),"")) -> Atoma IBUPROFEN 200MG cplt 100 | C2: =IF(AND($K$1=0,ROW()-1<=$J$1),INDIRECT("Inventaires!I"&SMALL(Inventaires!$A$3:$A$400,ROW()-1),1),IF(AND(ROW()-1<=$K$1,$K$1>0),INDIRECT("Inventaires!I"&SMALL(Inventaires!$B$3:$B$400,ROW()-1),1),"")) -> 0 | D2: =IF(AND($K$1=0,ROW()-1<=$J$1),INDIRECT("Inventaires!C"&SMALL(Inventaires!$A$3:$A$400,ROW()-1),1),IF(AND(ROW()-1<=$K$1,$K$1>0),INDIRECT("Inventaires!C"&SMALL(Inventaires!$B$3:$B$400,ROW()-1),1),"")) -> 049-159 | E2: =IF(AND($K$1=0,ROW()-1<=$J$1),INDIRECT("Inventaires!Q"&SMALL(Inventaires!$A$3:$A$400,ROW()-1),1),IF(AND(ROW()-1<=$K$1,$K$1>0),INDIRECT("Inventaires!Q"&SMALL(Inventaires!$B$3:$B$400,ROW()-1),1),"")) -> 777747100873 | F2: =IF(AND($K$1=0,ROW()-1<=$J$1),INDIRECT("Inventaires!J"&SMALL(Inventaires!$A$3:$A$400,ROW()-1),1),IF(AND(ROW()-1<=$K$1,$K$1>0),INDIRECT("Inventaires!J"&SMALL(Inventaires!$B$3:$B$400,ROW()-1),1),"")) -> 0 | G2: =IF(AND($K$1=0,ROW()-1<=$J$1),INDIRECT("Inventaires!K"&SMALL(Inventaires!$A$3:$A$400,ROW()-1),1),IF(AND(ROW()-1<=$K$1,$K$1>0),INDIRECT("Inventaires!K"&SMALL(Inventaires!$B$3:$B$400,ROW()-1),1),"")) -> RUPTURE | H2: =IF(AND($K$1=0,ROW()-1<=$J$1),INDIRECT("Inventaires!O"&SMALL(Inventaires!$A$3:$A$400,ROW()-1),1),IF(AND(ROW()-1<=$K$1,$K$1>0),INDIRECT("Inventaires!O"&SMALL(Inventaires!$B$3:$B$400,ROW()-1),1),"")) -> 0 | I2: =IF(AND($K$1=0,ROW()-1<=$J$1),INDIRECT("Inventaires!M"&SMALL(Inventaires!$A$3:$A$400,ROW()-1),1),IF(AND(ROW()-1<=$K$1,$K$1>0),INDIRECT("Inventaires!M"&SMALL(Inventaires!$B$3:$B$400,ROW()-1),1),"")) -> 0 | K2: =IF(ROW()-1<=$K$1,ROW()-1,"")
A3: SOUS CATEGORIE | B3: =IF(AND($K$1=0,ROW()-1<=$J$1),INDIRECT("Inventaires!D"&SMALL(Inventaires!$A$3:$A$400,ROW()-1),1),IF(AND(ROW()-1<=$K$1,$K$1>0),INDIRECT("Inventaires!D"&SMALL(Inventaires!$B$3:$B$400,ROW()-1),1),"")) -> Atoma IBUPROFEN 200MG comp 100 | C3: =IF(AND($K$1=0,ROW()-1<=$J$1),INDIRECT("Inventaires!I"&SMALL(Inventaires!$A$3:$A$400,ROW()-1),1),IF(AND(ROW()-1<=$K$1,$K$1>0),INDIRECT("Inventaires!I"&SMALL(Inventaires!$B$3:$B$400,ROW()-1),1),"")) -> 0 | D3: =IF(AND($K$1=0,ROW()-1<=$J$1),INDIRECT("Inventaires!C"&SMALL(Inventaires!$A$3:$A$400,ROW()-1),1),IF(AND(ROW()-1<=$K$1,$K$1>0),INDIRECT("Inventaires!C"&SMALL(Inventaires!$B$3:$B$400,ROW()-1),1),"")) -> 049-160 | E3: =IF(AND($K$1=0,ROW()-1<=$J$1),INDIRECT("Inventaires!Q"&SMALL(Inventaires!$A$3:$A$400,ROW()-1),1),IF(AND(ROW()-1<=$K$1,$K$1>0),INDIRECT("Inventaires!Q"&SMALL(Inventaires!$B$3:$B$400,ROW()-1),1),"")) -> 777747100903 | F3: =IF(AND($K$1=0,ROW()-1<=$J$1),INDIRECT("Inventaires!J"&SMALL(Inventaires!$A$3:$A$400,ROW()-1),1),IF(AND(ROW()-1<=$K$1,$K$1>0),INDIRECT("Inventaires!J"&SMALL(Inventaires!$B$3:$B$400,ROW()-1),1),"")) -> 0 | G3: =IF(AND($K$1=0,ROW()-1<=$J$1),INDIRECT("Inventaires!K"&SMALL(Inventaires!$A$3:$A$400,ROW()-1),1),IF(AND(ROW()-1<=$K$1,$K$1>0),INDIRECT("Inventaires!K"&SMALL(Inventaires!$B$3:$B$400,ROW()-1),1),"")) -> RUPTURE | H3: =IF(AND($K$1=0,ROW()-1<=$J$1),INDIRECT("Inventaires!O"&SMALL(Inventaires!$A$3:$A$400,ROW()-1),1),IF(AND(ROW()-1<=$K$1,$K$1>0),INDIRECT("Inventaires!O"&SMALL(Inventaires!$B$3:$B$400,ROW()-1),1),"")) -> 0 | I3: =IF(AND($K$1=0,ROW()-1<=$J$1),INDIRECT("Inventaires!M"&SMALL(Inventaires!$A$3:$A$400,ROW()-1),1),IF(AND(ROW()-1<=$K$1,$K$1>0),INDIRECT("Inventaires!M"&SMALL(Inventaires!$B$3:$B$400,ROW()-1),1),"")) -> 0 | K3: =IF(ROW()-1<=$K$1,ROW()-1,"")
A4: =" Total = "&TEXT(SUM(I2:I12400),"# ##0,##")&" $" -> Total = 0 $ | B4: =IF(AND($K$1=0,ROW()-1<=$J$1),INDIRECT("Inventaires!D"&SMALL(Inventaires!$A$3:$A$400,ROW()-1),1),IF(AND(ROW()-1<=$K$1,$K$1>0),INDIRECT("Inventaires!D"&SMALL(Inventaires!$B$3:$B$400,ROW()-1),1),"")) -> Atoma IBUPROFEN 200MG gélule 16 | C4: =IF(AND($K$1=0,ROW()-1<=$J$1),INDIRECT("Inventaires!I"&SMALL(Inventaires!$A$3:$A$400,ROW()-1),1),IF(AND(ROW()-1<=$K$1,$K$1>0),INDIRECT("Inventaires!I"&SMALL(Inventaires!$B$3:$B$400,ROW()-1),1),"")) -> 0 | D4: =IF(AND($K$1=0,ROW()-1<=$J$1),INDIRECT("Inventaires!C"&SMALL(Inventaires!$A$3:$A$400,ROW()-1),1),IF(AND(ROW()-1<=$K$1,$K$1>0),INDIRECT("Inventaires!C"&SMALL(Inventaires!$B$3:$B$400,ROW()-1),1),"")) -> 049-199 | E4: =IF(AND($K$1=0,ROW()-1<=$J$1),INDIRECT("Inventaires!Q"&SMALL(Inventaires!$A$3:$A$400,ROW()-1),1),IF(AND(ROW()-1<=$K$1,$K$1>0),INDIRECT("Inventaires!Q"&SMALL(Inventaires!$B$3:$B$400,ROW()-1),1),"")) -> 777747101009 | F4: =IF(AND($K$1=0,ROW()-1<=$J$1),INDIRECT("Inventaires!J"&SMALL(Inventaires!$A$3:$A$400,ROW()-1),1),IF(AND(ROW()-1<=$K$1,$K$1>0),INDIRECT("Inventaires!J"&SMALL(Inventaires!$B$3:$B$400,ROW()-1),1),"")) -> 0 | G4: =IF(AND($K$1=0,ROW()-1<=$J$1),INDIRECT("Inventaires!K"&SMALL(Inventaires!$A$3:$A$400,ROW()-1),1),IF(AND(ROW()-1<=$K$1,$K$1>0),INDIRECT("Inventaires!K"&SMALL(Inventaires!$B$3:$B$400,ROW()-1),1),"")) -> RUPTURE | H4: =IF(AND($K$1=0,ROW()-1<=$J$1),INDIRECT("Inventaires!O"&SMALL(Inventaires!$A$3:$A$400,ROW()-1),1),IF(AND(ROW()-1<=$K$1,$K$1>0),INDIRECT("Inventaires!O"&SMALL(Inventaires!$B$3:$B$400,ROW()-1),1),"")) -> 0 | I4: =IF(AND($K$1=0,ROW()-1<=$J$1),INDIRECT("Inventaires!M"&SMALL(Inventaires!$A$3:$A$400,ROW()-1),1),IF(AND(ROW()-1<=$K$1,$K$1>0),INDIRECT("Inventaires!M"&SMALL(Inventaires!$B$3:$B$400,ROW()-1),1),"")) -> 0 | K4: =IF(ROW()-1<=$K$1,ROW()-1,"")
B5: =IF(AND($K$1=0,ROW()-1<=$J$1),INDIRECT("Inventaires!D"&SMALL(Inventaires!$A$3:$A$400,ROW()-1),1),IF(AND(ROW()-1<=$K$1,$K$1>0),INDIRECT("Inventaires!D"&SMALL(Inventaires!$B$3:$B$400,ROW()-1),1),"")) -> Atoma IBUPROFEN 200MG gélule 72 | C5: =IF(AND($K$1=0,ROW()-1<=$J$1),INDIRECT("Inventaires!I"&SMALL(Inventaires!$A$3:$A$400,ROW()-1),1),IF(AND(ROW()-1<=$K$1,$K$1>0),INDIRECT("Inventaires!I"&SMALL(Inventaires!$B$3:$B$400,ROW()-1),1),"")) -> 0 | D5: =IF(AND($K$1=0,ROW()-1<=$J$1),INDIRECT("Inventaires!C"&SMALL(Inventaires!$A$3:$A$400,ROW()-1),1),IF(AND(ROW()-1<=$K$1,$K$1>0),INDIRECT("Inventaires!C"&SMALL(Inventaires!$B$3:$B$400,ROW()-1),1),"")) -> 049-200 | E5: =IF(AND($K$1=0,ROW()-1<=$J$1),INDIRECT("Inventaires!Q"&SMALL(Inventaires!$A$3:$A$400,ROW()-1),1),IF(AND(ROW()-1<=$K$1,$K$1>0),INDIRECT("Inventaires!Q"&SMALL(Inventaires!$B$3:$B$400,ROW()-1),1),"")) -> 777747101023 | F5: =IF(AND($K$1=0,ROW()-1<=$J$1),INDIRECT("Inventaires!J"&SMALL(Inventaires!$A$3:$A$400,ROW()-1),1),IF(AND(ROW()-1<=$K$1,$K$1>0),INDIRECT("Inventaires!J"&SMALL(Inventaires!$B$3:$B$400,ROW()-1),1),"")) -> 0 | G5: =IF(AND($K$1=0,ROW()-1<=$J$1),INDIRECT("Inventaires!K"&SMALL(Inventaires!$A$3:$A$400,ROW()-1),1),IF(AND(ROW()-1<=$K$1,$K$1>0),INDIRECT("Inventaires!K"&SMALL(Inventaires!$B$3:$B$400,ROW()-1),1),"")) -> RUPTURE | H5: =IF(AND($K$1=0,ROW()-1<=$J$1),INDIRECT("Inventaires!O"&SMALL(Inventaires!$A$3:$A$400,ROW()-1),1),IF(AND(ROW()-1<=$K$1,$K$1>0),INDIRECT("Inventaires!O"&SMALL(Inventaires!$B$3:$B$400,ROW()-1),1),"")) -> 0 | I5: =IF(AND($K$1=0,ROW()-1<=$J$1),INDIRECT("Inventaires!M"&SMALL(Inventaires!$A$3:$A$400,ROW()-1),1),IF(AND(ROW()-1<=$K$1,$K$1>0),INDIRECT("Inventaires!M"&SMALL(Inventaires!$B$3:$B$400,ROW()-1),1),"")) -> 0 | K5: =IF(ROW()-1<=$K$1,ROW()-1,"")
B6: =IF(AND($K$1=0,ROW()-1<=$J$1),INDIRECT("Inventaires!D"&SMALL(Inventaires!$A$3:$A$400,ROW()-1),1),IF(AND(ROW()-1<=$K$1,$K$1>0),INDIRECT("Inventaires!D"&SMALL(Inventaires!$B$3:$B$400,ROW()-1),1),"")) -> Atoma ACET FAA 500MG 100 comp | C6: =IF(AND($K$1=0,ROW()-1<=$J$1),INDIRECT("Inventaires!I"&SMALL(Inventaires!$A$3:$A$400,ROW()-1),1),IF(AND(ROW()-1<=$K$1,$K$1>0),INDIRECT("Inventaires!I"&SMALL(Inventaires!$B$3:$B$400,ROW()-1),1),"")) -> 0 | D6: =IF(AND($K$1=0,ROW()-1<=$J$1),INDIRECT("Inventaires!C"&SMALL(Inventaires!$A$3:$A$400,ROW()-1),1),IF(AND(ROW()-1<=$K$1,$K$1>0),INDIRECT("Inventaires!C"&SMALL(Inventaires!$B$3:$B$400,ROW()-1),1),"")) -> 050-311 | E6: =IF(AND($K$1=0,ROW()-1<=$J$1),INDIRECT("Inventaires!Q"&SMALL(Inventaires!$A$3:$A$400,ROW()-1),1),IF(AND(ROW()-1<=$K$1,$K$1>0),INDIRECT("Inventaires!Q"&SMALL(Inventaires!$B$3:$B$400,ROW()-1),1),"")) -> 777747101900 | F6: =IF(AND($K$1=0,ROW()-1<=$J$1),INDIRECT("Inventaires!J"&SMALL(Inventaires!$A$3:$A$400,ROW()-1),1),IF(AND(ROW()-1<=$K$1,$K$1>0),INDIRECT("Inventaires!J"&SMALL(Inventaires!$B$3:$B$400,ROW()-1),1),"")) -> 0 | G6: =IF(AND($K$1=0,ROW()-1<=$J$1),INDIRECT("Inventaires!K"&SMALL(Inventaires!$A$3:$A$400,ROW()-1),1),IF(AND(ROW()-1<=$K$1,$K$1>0),INDIRECT("Inventaires!K"&SMALL(Inventaires!$B$3:$B$400,ROW()-1),1),"")) -> RUPTURE | H6: =IF(AND($K$1=0,ROW()-1<=$J$1),INDIRECT("Inventaires!O"&SMALL(Inventaires!$A$3:$A$400,ROW()-1),1),IF(AND(ROW()-1<=$K$1,$K$1>0),INDIRECT("Inventaires!O"&SMALL(Inventaires!$B$3:$B$400,ROW()-1),1),"")) -> 0 | I6: =IF(AND($K$1=0,ROW()-1<=$J$1),INDIRECT("Inventaires!M"&SMALL(Inventaires!$A$3:$A$400,ROW()-1),1),IF(AND(ROW()-1<=$K$1,$K$1>0),INDIRECT("Inventaires!M"&SMALL(Inventaires!$B$3:$B$400,ROW()-1),1),"")) -> 0 | K6: =IF(ROW()-1<=$K$1,ROW()-1,"")
B7: =IF(AND($K$1=0,ROW()-1<=$J$1),INDIRECT("Inventaires!D"&SMALL(Inventaires!$A$3:$A$400,ROW()-1),1),IF(AND(ROW()-1<=$K$1,$K$1>0),INDIRECT("Inventaires!D"&SMALL(Inventaires!$B$3:$B$400,ROW()-1),1),"")) -> Atoma ACET FAO FAA 150 comp | C7: =IF(AND($K$1=0,ROW()-1<=$J$1),INDIRECT("Inventaires!I"&SMALL(Inventaires!$A$3:$A$400,ROW()-1),1),IF(AND(ROW()-1<=$K$1,$K$1>0),INDIRECT("Inventaires!I"&SMALL(Inventaires!$B$3:$B$400,ROW()-1),1),"")) -> 0 | D7: =IF(AND($K$1=0,ROW()-1<=$J$1),INDIRECT("Inventaires!C"&SMALL(Inventaires!$A$3:$A$400,ROW()-1),1),IF(AND(ROW()-1<=$K$1,$K$1>0),INDIRECT("Inventaires!C"&SMALL(Inventaires!$B$3:$B$400,ROW()-1),1),"")) -> 050-314 | E7: =IF(AND($K$1=0,ROW()-1<=$J$1),INDIRECT("Inventaires!Q"&SMALL(Inventaires!$A$3:$A$400,ROW()-1),1),IF(AND(ROW()-1<=$K$1,$K$1>0),INDIRECT("Inventaires!Q"&SMALL(Inventaires!$B$3:$B$400,ROW()-1),1),"")) -> 777747101917 | F7: =IF(AND($K$1=0,ROW()-1<=$J$1),INDIRECT("Inventaires!J"&SMALL(Inventaires!$A$3:$A$400,ROW()-1),1),IF(AND(ROW()-1<=$K$1,$K$1>0),INDIRECT("Inventaires!J"&SMALL(Inventaires!$B$3:$B$400,ROW()-1),1),"")) -> 0 | G7: =IF(AND($K$1=0,ROW()-1<=$J$1),INDIRECT("Inventaires!K"&SMALL(Inventaires!$A$3:$A$400,ROW()-1),1),IF(AND(ROW()-1<=$K$1,$K$1>0),INDIRECT("Inventaires!K"&SMALL(Inventaires!$B$3:$B$400,ROW()-1),1),"")) -> RUPTURE | H7: =IF(AND($K$1=0,ROW()-1<=$J$1),INDIRECT("Inventaires!O"&SMALL(Inventaires!$A$3:$A$400,ROW()-1),1),IF(AND(ROW()-1<=$K$1,$K$1>0),INDIRECT("Inventaires!O"&SMALL(Inventaires!$B$3:$B$400,ROW()-1),1),"")) -> 0 | I7: =IF(AND($K$1=0,ROW()-1<=$J$1),INDIRECT("Inventaires!M"&SMALL(Inventaires!$A$3:$A$400,ROW()-1),1),IF(AND(ROW()-1<=$K$1,$K$1>0),INDIRECT("Inventaires!M"&SMALL(Inventaires!$B$3:$B$400,ROW()-1),1),"")) -> 0 | K7: =IF(ROW()-1<=$K$1,ROW()-1,"")
B8: =IF(AND($K$1=0,ROW()-1<=$J$1),INDIRECT("Inventaires!D"&SMALL(Inventaires!$A$3:$A$400,ROW()-1),1),IF(AND(ROW()-1<=$K$1,$K$1>0),INDIRECT("Inventaires!D"&SMALL(Inventaires!$B$3:$B$400,ROW()-1),1),"")) -> Atoma ACET CPLT 500MG 500 cplt | C8: =IF(AND($K$1=0,ROW()-1<=$J$1),INDIRECT("Inventaires!I"&SMALL(Inventaires!$A$3:$A$400,ROW()-1),1),IF(AND(ROW()-1<=$K$1,$K$1>0),INDIRECT("Inventaires!I"&SMALL(Inventaires!$B$3:$B$400,ROW()-1),1),"")) -> 0 | D8: =IF(AND($K$1=0,ROW()-1<=$J$1),INDIRECT("Inventaires!C"&SMALL(Inventaires!$A$3:$A$400,ROW()-1),1),IF(AND(ROW()-1<=$K$1,$K$1>0),INDIRECT("Inventaires!C"&SMALL(Inventaires!$B$3:$B$400,ROW()-1),1),"")) -> 082-965 | E8: =IF(AND($K$1=0,ROW()-1<=$J$1),INDIRECT("Inventaires!Q"&SMALL(Inventaires!$A$3:$A$400,ROW()-1),1),IF(AND(ROW()-1<=$K$1,$K$1>0),INDIRECT("Inventaires!Q"&SMALL(Inventaires!$B$3:$B$400,ROW()-1),1),"")) -> 777747109517 | F8: =IF(AND($K$1=0,ROW()-1<=$J$1),INDIRECT("Inventaires!J"&SMALL(Inventaires!$A$3:$A$400,ROW()-1),1),IF(AND(ROW()-1<=$K$1,$K$1>0),INDIRECT("Inventaires!J"&SMALL(Inventaires!$B$3:$B$400,ROW()-1),1),"")) -> 0 | G8: =IF(AND($K$1=0,ROW()-1<=$J$1),INDIRECT("Inventaires!K"&SMALL(Inventaires!$A$3:$A$400,ROW()-1),1),IF(AND(ROW()-1<=$K$1,$K$1>0),INDIRECT("Inventaires!K"&SMALL(Inventaires!$B$3:$B$400,ROW()-1),1),"")) -> RUPTURE | H8: =IF(AND($K$1=0,ROW()-1<=$J$1),INDIRECT("Inventaires!O"&SMALL(Inventaires!$A$3:$A$400,ROW()-1),1),IF(AND(ROW()-1<=$K$1,$K$1>0),INDIRECT("Inventaires!O"&SMALL(Inventaires!$B$3:$B$400,ROW()-1),1),"")) -> 0 | I8: =IF(AND($K$1=0,ROW()-1<=$J$1),INDIRECT("Inventaires!M"&SMALL(Inventaires!$A$3:$A$400,ROW()-1),1),IF(AND(ROW()-1<=$K$1,$K$1>0),INDIRECT("Inventaires!M"&SMALL(Inventaires!$B$3:$B$400,ROW()-1),1),"")) -> 0 | K8: =IF(ROW()-1<=$K$1,ROW()-1,"")
B9: =IF(AND($K$1=0,ROW()-1<=$J$1),INDIRECT("Inventaires!D"&SMALL(Inventaires!$A$3:$A$400,ROW()-1),1),IF(AND(ROW()-1<=$K$1,$K$1>0),INDIRECT("Inventaires!D"&SMALL(Inventaires!$B$3:$B$400,ROW()-1),1),"")) -> Atoma Ibuprofen 32cap | C9: =IF(AND($K$1=0,ROW()-1<=$J$1),INDIRECT("Inventaires!I"&SMALL(Inventaires!$A$3:$A$400,ROW()-1),1),IF(AND(ROW()-1<=$K$1,$K$1>0),INDIRECT("Inventaires!I"&SMALL(Inventaires!$B$3:$B$400,ROW()-1),1),"")) -> 0 | D9: =IF(AND($K$1=0,ROW()-1<=$J$1),INDIRECT("Inventaires!C"&SMALL(Inventaires!$A$3:$A$400,ROW()-1),1),IF(AND(ROW()-1<=$K$1,$K$1>0),INDIRECT("Inventaires!C"&SMALL(Inventaires!$B$3:$B$400,ROW()-1),1),"")) -> 105-813 | E9: =IF(AND($K$1=0,ROW()-1<=$J$1),INDIRECT("Inventaires!Q"&SMALL(Inventaires!$A$3:$A$400,ROW()-1),1),IF(AND(ROW()-1<=$K$1,$K$1>0),INDIRECT("Inventaires!Q"&SMALL(Inventaires!$B$3:$B$400,ROW()-1),1),"")) -> 777747110322 | F9: =IF(AND($K$1=0,ROW()-1<=$J$1),INDIRECT("Inventaires!J"&SMALL(Inventaires!$A$3:$A$400,ROW()-1),1),IF(AND(ROW()-1<=$K$1,$K$1>0),INDIRECT("Inventaires!J"&SMALL(Inventaires!$B$3:$B$400,ROW()-1),1),"")) -> 0 | G9: =IF(AND($K$1=0,ROW()-1<=$J$1),INDIRECT("Inventaires!K"&SMALL(Inventaires!$A$3:$A$400,ROW()-1),1),IF(AND(ROW()-1<=$K$1,$K$1>0),INDIRECT("Inventaires!K"&SMALL(Inventaires!$B$3:$B$400,ROW()-1),1),"")) -> RUPTURE | H9: =IF(AND($K$1=0,ROW()-1<=$J$1),INDIRECT("Inventaires!O"&SMALL(Inventaires!$A$3:$A$400,ROW()-1),1),IF(AND(ROW()-1<=$K$1,$K$1>0),INDIRECT("Inventaires!O"&SMALL(Inventaires!$B$3:$B$400,ROW()-1),1),"")) -> 0 | I9: =IF(AND($K$1=0,ROW()-1<=$J$1),INDIRECT("Inventaires!M"&SMALL(Inventaires!$A$3:$A$400,ROW()-1),1),IF(AND(ROW()-1<=$K$1,$K$1>0),INDIRECT("Inventaires!M"&SMALL(Inventaires!$B$3:$B$400,ROW()-1),1),"")) -> 0 | K9: =IF(ROW()-1<=$K$1,ROW()-1,"")
B10: =IF(AND($K$1=0,ROW()-1<=$J$1),INDIRECT("Inventaires!D"&SMALL(Inventaires!$A$3:$A$400,ROW()-1),1),IF(AND(ROW()-1<=$K$1,$K$1>0),INDIRECT("Inventaires!D"&SMALL(Inventaires!$B$3:$B$400,ROW()-1),1),"")) -> Laboratoire Suisse SUIS ARTRIKOR CR ANALG Boni | C10: =IF(AND($K$1=0,ROW()-1<=$J$1),INDIRECT("Inventaires!I"&SMALL(Inventaires!$A$3:$A$400,ROW()-1),1),IF(AND(ROW()-1<=$K$1,$K$1>0),INDIRECT("Inventaires!I"&SMALL(Inventaires!$B$3:$B$400,ROW()-1),1),"")) -> 0 | D10: =IF(AND($K$1=0,ROW()-1<=$J$1),INDIRECT("Inventaires!C"&SMALL(Inventaires!$A$3:$A$400,ROW()-1),1),IF(AND(ROW()-1<=$K$1,$K$1>0),INDIRECT("Inventaires!C"&SMALL(Inventaires!$B$3:$B$400,ROW()-1),1),"")) -> 559-484 | E10: =IF(AND($K$1=0,ROW()-1<=$J$1),INDIRECT("Inventaires!Q"&SMALL(Inventaires!$A$3:$A$400,ROW()-1),1),IF(AND(ROW()-1<=$K$1,$K$1>0),INDIRECT("Inventaires!Q"&SMALL(Inventaires!$B$3:$B$400,ROW()-1),1),"")) -> 776329547730 | F10: =IF(AND($K$1=0,ROW()-1<=$J$1),INDIRECT("Inventaires!J"&SMALL(Inventaires!$A$3:$A$400,ROW()-1),1),IF(AND(ROW()-1<=$K$1,$K$1>0),INDIRECT("Inventaires!J"&SMALL(Inventaires!$B$3:$B$400,ROW()-1),1),"")) -> 0 | G10: =IF(AND($K$1=0,ROW()-1<=$J$1),INDIRECT("Inventaires!K"&SMALL(Inventaires!$A$3:$A$400,ROW()-1),1),IF(AND(ROW()-1<=$K$1,$K$1>0),INDIRECT("Inventaires!K"&SMALL(Inventaires!$B$3:$B$400,ROW()-1),1),"")) -> RUPTURE | H10: =IF(AND($K$1=0,ROW()-1<=$J$1),INDIRECT("Inventaires!O"&SMALL(Inventaires!$A$3:$A$400,ROW()-1),1),IF(AND(ROW()-1<=$K$1,$K$1>0),INDIRECT("Inventaires!O"&SMALL(Inventaires!$B$3:$B$400,ROW()-1),1),"")) -> 0 | I10: =IF(AND($K$1=0,ROW()-1<=$J$1),INDIRECT("Inventaires!M"&SMALL(Inventaires!$A$3:$A$400,ROW()-1),1),IF(AND(ROW()-1<=$K$1,$K$1>0),INDIRECT("Inventaires!M"&SMALL(Inventaires!$B$3:$B$400,ROW()-1),1),"")) -> 0 | K10: =IF(ROW()-1<=$K$1,ROW()-1,"")
B11: =IF(AND($K$1=0,ROW()-1<=$J$1),INDIRECT("Inventaires!D"&SMALL(Inventaires!$A$3:$A$400,ROW()-1),1),IF(AND(ROW()-1<=$K$1,$K$1>0),INDIRECT("Inventaires!D"&SMALL(Inventaires!$B$3:$B$400,ROW()-1),1),"")) -> Tylenol FAC/OUV 500MG 150cplt | C11: =IF(AND($K$1=0,ROW()-1<=$J$1),INDIRECT("Inventaires!I"&SMALL(Inventaires!$A$3:$A$400,ROW()-1),1),IF(AND(ROW()-1<=$K$1,$K$1>0),INDIRECT("Inventaires!I"&SMALL(Inventaires!$B$3:$B$400,ROW()-1),1),"")) -> 0 | D11: =IF(AND($K$1=0,ROW()-1<=$J$1),INDIRECT("Inventaires!C"&SMALL(Inventaires!$A$3:$A$400,ROW()-1),1),IF(AND(ROW()-1<=$K$1,$K$1>0),INDIRECT("Inventaires!C"&SMALL(Inventaires!$B$3:$B$400,ROW()-1),1),"")) -> 667-931 | E11: =IF(AND($K$1=0,ROW()-1<=$J$1),INDIRECT("Inventaires!Q"&SMALL(Inventaires!$A$3:$A$400,ROW()-1),1),IF(AND(ROW()-1<=$K$1,$K$1>0),INDIRECT("Inventaires!Q"&SMALL(Inventaires!$B$3:$B$400,ROW()-1),1),"")) -> 62600142290 | F11: =IF(AND($K$1=0,ROW()-1<=$J$1),INDIRECT("Inventaires!J"&SMALL(Inventaires!$A$3:$A$400,ROW()-1),1),IF(AND(ROW()-1<=$K$1,$K$1>0),INDIRECT("Inventaires!J"&SMALL(Inventaires!$B$3:$B$400,ROW()-1),1),"")) -> 0 | G11: =IF(AND($K$1=0,ROW()-1<=$J$1),INDIRECT("Inventaires!K"&SMALL(Inventaires!$A$3:$A$400,ROW()-1),1),IF(AND(ROW()-1<=$K$1,$K$1>0),INDIRECT("Inventaires!K"&SMALL(Inventaires!$B$3:$B$400,ROW()-1),1),"")) -> RUPTURE | H11: =IF(AND($K$1=0,ROW()-1<=$J$1),INDIRECT("Inventaires!O"&SMALL(Inventaires!$A$3:$A$400,ROW()-1),1),IF(AND(ROW()-1<=$K$1,$K$1>0),INDIRECT("Inventaires!O"&SMALL(Inventaires!$B$3:$B$400,ROW()-1),1),"")) -> 0 | I11: =IF(AND($K$1=0,ROW()-1<=$J$1),INDIRECT("Inventaires!M"&SMALL(Inventaires!$A$3:$A$400,ROW()-1),1),IF(AND(ROW()-1<=$K$1,$K$1>0),INDIRECT("Inventaires!M"&SMALL(Inventaires!$B$3:$B$400,ROW()-1),1),"")) -> 0 | K11: =IF(ROW()-1<=$K$1,ROW()-1,"")
B12: =IF(AND($K$1=0,ROW()-1<=$J$1),INDIRECT("Inventaires!D"&SMALL(Inventaires!$A$3:$A$400,ROW()-1),1),IF(AND(ROW()-1<=$K$1,$K$1>0),INDIRECT("Inventaires!D"&SMALL(Inventaires!$B$3:$B$400,ROW()-1),1),"")) | C12: =IF(AND($K$1=0,ROW()-1<=$J$1),INDIRECT("Inventaires!I"&SMALL(Inventaires!$A$3:$A$400,ROW()-1),1),IF(AND(ROW()-1<=$K$1,$K$1>0),INDIRECT("Inventaires!I"&SMALL(Inventaires!$B$3:$B$400,ROW()-1),1),"")) | D12: =IF(AND($K$1=0,ROW()-1<=$J$1),INDIRECT("Inventaires!C"&SMALL(Inventaires!$A$3:$A$400,ROW()-1),1),IF(AND(ROW()-1<=$K$1,$K$1>0),INDIRECT("Inventaires!C"&SMALL(Inventaires!$B$3:$B$400,ROW()-1),1),"")) | E12: =IF(AND($K$1=0,ROW()-1<=$J$1),INDIRECT("Inventaires!Q"&SMALL(Inventaires!$A$3:$A$400,ROW()-1),1),IF(AND(ROW()-1<=$K$1,$K$1>0),INDIRECT("Inventaires!Q"&SMALL(Inventaires!$B$3:$B$400,ROW()-1),1),"")) | F12: =IF(AND($K$1=0,ROW()-1<=$J$1),INDIRECT("Inventaires!J"&SMALL(Inventaires!$A$3:$A$400,ROW()-1),1),IF(AND(ROW()-1<=$K$1,$K$1>0),INDIRECT("Inventaires!J"&SMALL(Inventaires!$B$3:$B$400,ROW()-1),1),"")) | G12: =IF(AND($K$1=0,ROW()-1<=$J$1),INDIRECT("Inventaires!K"&SMALL(Inventaires!$A$3:$A$400,ROW()-1),1),IF(AND(ROW()-1<=$K$1,$K$1>0),INDIRECT("Inventaires!K"&SMALL(Inventaires!$B$3:$B$400,ROW()-1),1),"")) | H12: =IF(AND($K$1=0,ROW()-1<=$J$1),INDIRECT("Inventaires!O"&SMALL(Inventaires!$A$3:$A$400,ROW()-1),1),IF(AND(ROW()-1<=$K$1,$K$1>0),INDIRECT("Inventaires!O"&SMALL(Inventaires!$B$3:$B$400,ROW()-1),1),"")) | I12: =IF(AND($K$1=0,ROW()-1<=$J$1),INDIRECT("Inventaires!M"&SMALL(Inventaires!$A$3:$A$400,ROW()-1),1),IF(AND(ROW()-1<=$K$1,$K$1>0),INDIRECT("Inventaires!M"&SMALL(Inventaires!$B$3:$B$400,ROW()-1),1),"")) | K12: =IF(ROW()-1<=$K$1,ROW()-1,"")
B13: =IF(AND($K$1=0,ROW()-1<=$J$1),INDIRECT("Inventaires!D"&SMALL(Inventaires!$A$3:$A$400,ROW()-1),1),IF(AND(ROW()-1<=$K$1,$K$1>0),INDIRECT("Inventaires!D"&SMALL(Inventaires!$B$3:$B$400,ROW()-1),1),"")) | C13: =IF(AND($K$1=0,ROW()-1<=$J$1),INDIRECT("Inventaires!I"&SMALL(Inventaires!$A$3:$A$400,ROW()-1),1),IF(AND(ROW()-1<=$K$1,$K$1>0),INDIRECT("Inventaires!I"&SMALL(Inventaires!$B$3:$B$400,ROW()-1),1),"")) | D13: =IF(AND($K$1=0,ROW()-1<=$J$1),INDIRECT("Inventaires!C"&SMALL(Inventaires!$A$3:$A$400,ROW()-1),1),IF(AND(ROW()-1<=$K$1,$K$1>0),INDIRECT("Inventaires!C"&SMALL(Inventaires!$B$3:$B$400,ROW()-1),1),"")) | E13: =IF(AND($K$1=0,ROW()-1<=$J$1),INDIRECT("Inventaires!Q"&SMALL(Inventaires!$A$3:$A$400,ROW()-1),1),IF(AND(ROW()-1<=$K$1,$K$1>0),INDIRECT("Inventaires!Q"&SMALL(Inventaires!$B$3:$B$400,ROW()-1),1),"")) | F13: =IF(AND($K$1=0,ROW()-1<=$J$1),INDIRECT("Inventaires!J"&SMALL(Inventaires!$A$3:$A$400,ROW()-1),1),IF(AND(ROW()-1<=$K$1,$K$1>0),INDIRECT("Inventaires!J"&SMALL(Inventaires!$B$3:$B$400,ROW()-1),1),"")) | G13: =IF(AND($K$1=0,ROW()-1<=$J$1),INDIRECT("Inventaires!K"&SMALL(Inventaires!$A$3:$A$400,ROW()-1),1),IF(AND(ROW()-1<=$K$1,$K$1>0),INDIRECT("Inventaires!K"&SMALL(Inventaires!$B$3:$B$400,ROW()-1),1),"")) | H13: =IF(AND($K$1=0,ROW()-1<=$J$1),INDIRECT("Inventaires!O"&SMALL(Inventaires!$A$3:$A$400,ROW()-1),1),IF(AND(ROW()-1<=$K$1,$K$1>0),INDIRECT("Inventaires!O"&SMALL(Inventaires!$B$3:$B$400,ROW()-1),1),"")) | I13: =IF(AND($K$1=0,ROW()-1<=$J$1),INDIRECT("Inventaires!M"&SMALL(Inventaires!$A$3:$A$400,ROW()-1),1),IF(AND(ROW()-1<=$K$1,$K$1>0),INDIRECT("Inventaires!M"&SMALL(Inventaires!$B$3:$B$400,ROW()-1),1),"")) | K13: =IF(ROW()-1<=$K$1,ROW()-1,"")
B14: =IF(AND($K$1=0,ROW()-1<=$J$1),INDIRECT("Inventaires!D"&SMALL(Inventaires!$A$3:$A$400,ROW()-1),1),IF(AND(ROW()-1<=$K$1,$K$1>0),INDIRECT("Inventaires!D"&SMALL(Inventaires!$B$3:$B$400,ROW()-1),1),"")) | C14: =IF(AND($K$1=0,ROW()-1<=$J$1),INDIRECT("Inventaires!I"&SMALL(Inventaires!$A$3:$A$400,ROW()-1),1),IF(AND(ROW()-1<=$K$1,$K$1>0),INDIRECT("Inventaires!I"&SMALL(Inventaires!$B$3:$B$400,ROW()-1),1),"")) | D14: =IF(AND($K$1=0,ROW()-1<=$J$1),INDIRECT("Inventaires!C"&SMALL(Inventaires!$A$3:$A$400,ROW()-1),1),IF(AND(ROW()-1<=$K$1,$K$1>0),INDIRECT("Inventaires!C"&SMALL(Inventaires!$B$3:$B$400,ROW()-1),1),"")) | E14: =IF(AND($K$1=0,ROW()-1<=$J$1),INDIRECT("Inventaires!Q"&SMALL(Inventaires!$A$3:$A$400,ROW()-1),1),IF(AND(ROW()-1<=$K$1,$K$1>0),INDIRECT("Inventaires!Q"&SMALL(Inventaires!$B$3:$B$400,ROW()-1),1),"")) | F14: =IF(AND($K$1=0,ROW()-1<=$J$1),INDIRECT("Inventaires!J"&SMALL(Inventaires!$A$3:$A$400,ROW()-1),1),IF(AND(ROW()-1<=$K$1,$K$1>0),INDIRECT("Inventaires!J"&SMALL(Inventaires!$B$3:$B$400,ROW()-1),1),"")) | G14: =IF(AND($K$1=0,ROW()-1<=$J$1),INDIRECT("Inventaires!K"&SMALL(Inventaires!$A$3:$A$400,ROW()-1),1),IF(AND(ROW()-1<=$K$1,$K$1>0),INDIRECT("Inventaires!K"&SMALL(Inventaires!$B$3:$B$400,ROW()-1),1),"")) | H14: =IF(AND($K$1=0,ROW()-1<=$J$1),INDIRECT("Inventaires!O"&SMALL(Inventaires!$A$3:$A$400,ROW()-1),1),IF(AND(ROW()-1<=$K$1,$K$1>0),INDIRECT("Inventaires!O"&SMALL(Inventaires!$B$3:$B$400,ROW()-1),1),"")) | I14: =IF(AND($K$1=0,ROW()-1<=$J$1),INDIRECT("Inventaires!M"&SMALL(Inventaires!$A$3:$A$400,ROW()-1),1),IF(AND(ROW()-1<=$K$1,$K$1>0),INDIRECT("Inventaires!M"&SMALL(Inventaires!$B$3:$B$400,ROW()-1),1),"")) | K14: =IF(ROW()-1<=$K$1,ROW()-1,"")
B15: =IF(AND($K$1=0,ROW()-1<=$J$1),INDIRECT("Inventaires!D"&SMALL(Inventaires!$A$3:$A$400,ROW()-1),1),IF(AND(ROW()-1<=$K$1,$K$1>0),INDIRECT("Inventaires!D"&SMALL(Inventaires!$B$3:$B$400,ROW()-1),1),"")) | C15: =IF(AND($K$1=0,ROW()-1<=$J$1),INDIRECT("Inventaires!I"&SMALL(Inventaires!$A$3:$A$400,ROW()-1),1),IF(AND(ROW()-1<=$K$1,$K$1>0),INDIRECT("Inventaires!I"&SMALL(Inventaires!$B$3:$B$400,ROW()-1),1),"")) | D15: =IF(AND($K$1=0,ROW()-1<=$J$1),INDIRECT("Inventaires!C"&SMALL(Inventaires!$A$3:$A$400,ROW()-1),1),IF(AND(ROW()-1<=$K$1,$K$1>0),INDIRECT("Inventaires!C"&SMALL(Inventaires!$B$3:$B$400,ROW()-1),1),"")) | E15: =IF(AND($K$1=0,ROW()-1<=$J$1),INDIRECT("Inventaires!Q"&SMALL(Inventaires!$A$3:$A$400,ROW()-1),1),IF(AND(ROW()-1<=$K$1,$K$1>0),INDIRECT("Inventaires!Q"&SMALL(Inventaires!$B$3:$B$400,ROW()-1),1),"")) | F15: =IF(AND($K$1=0,ROW()-1<=$J$1),INDIRECT("Inventaires!J"&SMALL(Inventaires!$A$3:$A$400,ROW()-1),1),IF(AND(ROW()-1<=$K$1,$K$1>0),INDIRECT("Inventaires!J"&SMALL(Inventaires!$B$3:$B$400,ROW()-1),1),"")) | G15: =IF(AND($K$1=0,ROW()-1<=$J$1),INDIRECT("Inventaires!K"&SMALL(Inventaires!$A$3:$A$400,ROW()-1),1),IF(AND(ROW()-1<=$K$1,$K$1>0),INDIRECT("Inventaires!K"&SMALL(Inventaires!$B$3:$B$400,ROW()-1),1),"")) | H15: =IF(AND($K$1=0,ROW()-1<=$J$1),INDIRECT("Inventaires!O"&SMALL(Inventaires!$A$3:$A$400,ROW()-1),1),IF(AND(ROW()-1<=$K$1,$K$1>0),INDIRECT("Inventaires!O"&SMALL(Inventaires!$B$3:$B$400,ROW()-1),1),"")) | I15: =IF(AND($K$1=0,ROW()-1<=$J$1),INDIRECT("Inventaires!M"&SMALL(Inventaires!$A$3:$A$400,ROW()-1),1),IF(AND(ROW()-1<=$K$1,$K$1>0),INDIRECT("Inventaires!M"&SMALL(Inventaires!$B$3:$B$400,ROW()-1),1),"")) | K15: =IF(ROW()-1<=$K$1,ROW()-1,"")
B16: =IF(AND($K$1=0,ROW()-1<=$J$1),INDIRECT("Inventaires!D"&SMALL(Inventaires!$A$3:$A$400,ROW()-1),1),IF(AND(ROW()-1<=$K$1,$K$1>0),INDIRECT("Inventaires!D"&SMALL(Inventaires!$B$3:$B$400,ROW()-1),1),"")) | C16: =IF(AND($K$1=0,ROW()-1<=$J$1),INDIRECT("Inventaires!I"&SMALL(Inventaires!$A$3:$A$400,ROW()-1),1),IF(AND(ROW()-1<=$K$1,$K$1>0),INDIRECT("Inventaires!I"&SMALL(Inventaires!$B$3:$B$400,ROW()-1),1),"")) | D16: =IF(AND($K$1=0,ROW()-1<=$J$1),INDIRECT("Inventaires!C"&SMALL(Inventaires!$A$3:$A$400,ROW()-1),1),IF(AND(ROW()-1<=$K$1,$K$1>0),INDIRECT("Inventaires!C"&SMALL(Inventaires!$B$3:$B$400,ROW()-1),1),"")) | E16: =IF(AND($K$1=0,ROW()-1<=$J$1),INDIRECT("Inventaires!Q"&SMALL(Inventaires!$A$3:$A$400,ROW()-1),1),IF(AND(ROW()-1<=$K$1,$K$1>0),INDIRECT("Inventaires!Q"&SMALL(Inventaires!$B$3:$B$400,ROW()-1),1),"")) | F16: =IF(AND($K$1=0,ROW()-1<=$J$1),INDIRECT("Inventaires!J"&SMALL(Inventaires!$A$3:$A$400,ROW()-1),1),IF(AND(ROW()-1<=$K$1,$K$1>0),INDIRECT("Inventaires!J"&SMALL(Inventaires!$B$3:$B$400,ROW()-1),1),"")) | G16: =IF(AND($K$1=0,ROW()-1<=$J$1),INDIRECT("Inventaires!K"&SMALL(Inventaires!$A$3:$A$400,ROW()-1),1),IF(AND(ROW()-1<=$K$1,$K$1>0),INDIRECT("Inventaires!K"&SMALL(Inventaires!$B$3:$B$400,ROW()-1),1),"")) | H16: =IF(AND($K$1=0,ROW()-1<=$J$1),INDIRECT("Inventaires!O"&SMALL(Inventaires!$A$3:$A$400,ROW()-1),1),IF(AND(ROW()-1<=$K$1,$K$1>0),INDIRECT("Inventaires!O"&SMALL(Inventaires!$B$3:$B$400,ROW()-1),1),"")) | I16: =IF(AND($K$1=0,ROW()-1<=$J$1),INDIRECT("Inventaires!M"&SMALL(Inventaires!$A$3:$A$400,ROW()-1),1),IF(AND(ROW()-1<=$K$1,$K$1>0),INDIRECT("Inventaires!M"&SMALL(Inventaires!$B$3:$B$400,ROW()-1),1),"")) | K16: =IF(ROW()-1<=$K$1,ROW()-1,"")
... B400: =IF(AND($K$1=0,ROW()-1<=$J$1),INDIRECT("Inventaires!D"&SMALL(Inventaires!$A$3:$A$400,ROW()-1),1),IF(AND(ROW()-1<=$K$1,$K$1>0),INDIRECT("Inventaires!D"&SMALL(Inventaires!$B$3:$B$400,ROW()-1),1),"")) | C400: =IF(AND($K$1=0,ROW()-1<=$J$1),INDIRECT("Inventaires!I"&SMALL(Inventaires!$A$3:$A$400,ROW()-1),1),IF(AND(ROW()-1<=$K$1,$K$1>0),INDIRECT("Inventaires!I"&SMALL(Inventaires!$B$3:$B$400,ROW()-1),1),"")) | D400: =IF(AND($K$1=0,ROW()-1<=$J$1),INDIRECT("Inventaires!C"&SMALL(Inventaires!$A$3:$A$400,ROW()-1),1),IF(AND(ROW()-1<=$K$1,$K$1>0),INDIRECT("Inventaires!C"&SMALL(Inventaires!$B$3:$B$400,ROW()-1),1),"")) | E400: =IF(AND($K$1=0,ROW()-1<=$J$1),INDIRECT("Inventaires!Q"&SMALL(Inventaires!$A$3:$A$400,ROW()-1),1),IF(AND(ROW()-1<=$K$1,$K$1>0),INDIRECT("Inventaires!Q"&SMALL(Inventaires!$B$3:$B$400,ROW()-1),1),"")) | F400: =IF(AND($K$1=0,ROW()-1<=$J$1),INDIRECT("Inventaires!J"&SMALL(Inventaires!$A$3:$A$400,ROW()-1),1),IF(AND(ROW()-1<=$K$1,$K$1>0),INDIRECT("Inventaires!J"&SMALL(Inventaires!$B$3:$B$400,ROW()-1),1),"")) | G400: =IF(AND($K$1=0,ROW()-1<=$J$1),INDIRECT("Inventaires!K"&SMALL(Inventaires!$A$3:$A$400,ROW()-1),1),IF(AND(ROW()-1<=$K$1,$K$1>0),INDIRECT("Inventaires!K"&SMALL(Inventaires!$B$3:$B$400,ROW()-1),1),"")) | H400: =IF(AND($K$1=0,ROW()-1<=$J$1),INDIRECT("Inventaires!O"&SMALL(Inventaires!$A$3:$A$400,ROW()-1),1),IF(AND(ROW()-1<=$K$1,$K$1>0),INDIRECT("Inventaires!O"&SMALL(Inventaires!$B$3:$B$400,ROW()-1),1),"")) | I400: =IF(AND($K$1=0,ROW()-1<=$J$1),INDIRECT("Inventaires!M"&SMALL(Inventaires!$A$3:$A$400,ROW()-1),1),IF(AND(ROW()-1<=$K$1,$K$1>0),INDIRECT("Inventaires!M"&SMALL(Inventaires!$B$3:$B$400,ROW()-1),1),"")) | K400: =IF(ROW()-1<=$K$1,ROW()-1,"")
B401: =IF(ROW()-1>$J$1,"",INDIRECT("Inventaires!D"&SMALL(Inventaires!$A$3:$A$400,ROW()-1),1)) | C401: =IF(ROW()-1>$J$1,"",INDIRECT("Inventaires!I"&SMALL(Inventaires!$A$3:$A$400,ROW()-1),1)) | D401: =IF(ROW()-1>$J$1,"",INDIRECT("Inventaires!C"&SMALL(Inventaires!$A$3:$A$400,ROW()-1),1)) | E401: =IF(ROW()-1>$J$1,"",INDIRECT("Inventaires!Q"&SMALL(Inventaires!$A$3:$A$400,ROW()-1),1)) | F401: =IF(ROW()-1>$J$1,"",INDIRECT("Inventaires!J"&SMALL(Inventaires!$A$3:$A$400,ROW()-1),1)) | G401: =IF(ROW()-1>$J$1,"",INDIRECT("Inventaires!K"&SMALL(Inventaires!$A$3:$A$400,ROW()-1),1)) | H401: =IF(ROW()-1>$J$1,"",INDIRECT("Inventaires!O"&SMALL(Inventaires!$A$3:$A$400,ROW()-1),1)) | I401: =IF(AND($K$1=0,ROW()-1<=$J$1),INDIRECT("Inventaires!M"&SMALL(Inventaires!$A$3:$A$400,ROW()-1),1),IF(AND(ROW()-1<=$K$1,$K$1>0),INDIRECT("Inventaires!M"&SMALL(Inventaires!$B$3:$B$400,ROW()-1),1),""))
B402: =IF(ROW()-1>$J$1,"",INDIRECT("Inventaires!D"&SMALL(Inventaires!$A$3:$A$400,ROW()-1),1)) | C402: =IF(ROW()-1>$J$1,"",INDIRECT("Inventaires!I"&SMALL(Inventaires!$A$3:$A$400,ROW()-1),1)) | D402: =IF(ROW()-1>$J$1,"",INDIRECT("Inventaires!C"&SMALL(Inventaires!$A$3:$A$400,ROW()-1),1)) | E402: =IF(ROW()-1>$J$1,"",INDIRECT("Inventaires!Q"&SMALL(Inventaires!$A$3:$A$400,ROW()-1),1)) | F402: =IF(ROW()-1>$J$1,"",INDIRECT("Inventaires!J"&SMALL(Inventaires!$A$3:$A$400,ROW()-1),1)) | G402: =IF(ROW()-1>$J$1,"",INDIRECT("Inventaires!K"&SMALL(Inventaires!$A$3:$A$400,ROW()-1),1)) | H402: =IF(ROW()-1>$J$1,"",INDIRECT("Inventaires!O"&SMALL(Inventaires!$A$3:$A$400,ROW()-1),1)) | I402: =IF(AND($K$1=0,ROW()-1<=$J$1),INDIRECT("Inventaires!M"&SMALL(Inventaires!$A$3:$A$400,ROW()-1),1),IF(AND(ROW()-1<=$K$1,$K$1>0),INDIRECT("Inventaires!M"&SMALL(Inventaires!$B$3:$B$400,ROW()-1),1),""))
B403: =IF(ROW()-1>$J$1,"",INDIRECT("Inventaires!D"&SMALL(Inventaires!$A$3:$A$400,ROW()-1),1)) | C403: =IF(ROW()-1>$J$1,"",INDIRECT("Inventaires!I"&SMALL(Inventaires!$A$3:$A$400,ROW()-1),1)) | D403: =IF(ROW()-1>$J$1,"",INDIRECT("Inventaires!C"&SMALL(Inventaires!$A$3:$A$400,ROW()-1),1)) | E403: =IF(ROW()-1>$J$1,"",INDIRECT("Inventaires!Q"&SMALL(Inventaires!$A$3:$A$400,ROW()-1),1)) | F403: =IF(ROW()-1>$J$1,"",INDIRECT("Inventaires!J"&SMALL(Inventaires!$A$3:$A$400,ROW()-1),1)) | G403: =IF(ROW()-1>$J$1,"",INDIRECT("Inventaires!K"&SMALL(Inventaires!$A$3:$A$400,ROW()-1),1)) | H403: =IF(ROW()-1>$J$1,"",INDIRECT("Inventaires!O"&SMALL(Inventaires!$A$3:$A$400,ROW()-1),1)) | I403: =IF(AND($K$1=0,ROW()-1<=$J$1),INDIRECT("Inventaires!M"&SMALL(Inventaires!$A$3:$A$400,ROW()-1),1),IF(AND(ROW()-1<=$K$1,$K$1>0),INDIRECT("Inventaires!M"&SMALL(Inventaires!$B$3:$B$400,ROW()-1),1),""))
B404: =IF(ROW()-1>$J$1,"",INDIRECT("Inventaires!D"&SMALL(Inventaires!$A$3:$A$400,ROW()-1),1)) | C404: =IF(ROW()-1>$J$1,"",INDIRECT("Inventaires!I"&SMALL(Inventaires!$A$3:$A$400,ROW()-1),1)) | D404: =IF(ROW()-1>$J$1,"",INDIRECT("Inventaires!C"&SMALL(Inventaires!$A$3:$A$400,ROW()-1),1)) | E404: =IF(ROW()-1>$J$1,"",INDIRECT("Inventaires!Q"&SMALL(Inventaires!$A$3:$A$400,ROW()-1),1)) | F404: =IF(ROW()-1>$J$1,"",INDIRECT("Inventaires!J"&SMALL(Inventaires!$A$3:$A$400,ROW()-1),1)) | G404: =IF(ROW()-1>$J$1,"",INDIRECT("Inventaires!K"&SMALL(Inventaires!$A$3:$A$400,ROW()-1),1)) | H404: =IF(ROW()-1>$J$1,"",INDIRECT("Inventaires!O"&SMALL(Inventaires!$A$3:$A$400,ROW()-1),1)) | I404: =IF(AND($K$1=0,ROW()-1<=$J$1),INDIRECT("Inventaires!M"&SMALL(Inventaires!$A$3:$A$400,ROW()-1),1),IF(AND(ROW()-1<=$K$1,$K$1>0),INDIRECT("Inventaires!M"&SMALL(Inventaires!$B$3:$B$400,ROW()-1),1),""))
B405: =IF(ROW()-1>$J$1,"",INDIRECT("Inventaires!D"&SMALL(Inventaires!$A$3:$A$400,ROW()-1),1)) | C405: =IF(ROW()-1>$J$1,"",INDIRECT("Inventaires!I"&SMALL(Inventaires!$A$3:$A$400,ROW()-1),1)) | D405: =IF(ROW()-1>$J$1,"",INDIRECT("Inventaires!C"&SMALL(Inventaires!$A$3:$A$400,ROW()-1),1)) | E405: =IF(ROW()-1>$J$1,"",INDIRECT("Inventaires!Q"&SMALL(Inventaires!$A$3:$A$400,ROW()-1),1)) | F405: =IF(ROW()-1>$J$1,"",INDIRECT("Inventaires!J"&SMALL(Inventaires!$A$3:$A$400,ROW()-1),1)) | G405: =IF(ROW()-1>$J$1,"",INDIRECT("Inventaires!K"&SMALL(Inventaires!$A$3:$A$400,ROW()-1),1)) | H405: =IF(ROW()-1>$J$1,"",INDIRECT("Inventaires!O"&SMALL(Inventaires!$A$3:$A$400,ROW()-1),1)) | I405: =IF(AND($K$1=0,ROW()-1<=$J$1),INDIRECT("Inventaires!M"&SMALL(Inventaires!$A$3:$A$400,ROW()-1),1),IF(AND(ROW()-1<=$K$1,$K$1>0),INDIRECT("Inventaires!M"&SMALL(Inventaires!$B$3:$B$400,ROW()-1),1),""))
B406: =IF(ROW()-1>$J$1,"",INDIRECT("Inventaires!D"&SMALL(Inventaires!$A$3:$A$400,ROW()-1),1)) | C406: =IF(ROW()-1>$J$1,"",INDIRECT("Inventaires!I"&SMALL(Inventaires!$A$3:$A$400,ROW()-1),1)) | D406: =IF(ROW()-1>$J$1,"",INDIRECT("Inventaires!C"&SMALL(Inventaires!$A$3:$A$400,ROW()-1),1)) | E406: =IF(ROW()-1>$J$1,"",INDIRECT("Inventaires!Q"&SMALL(Inventaires!$A$3:$A$400,ROW()-1),1)) | F406: =IF(ROW()-1>$J$1,"",INDIRECT("Inventaires!J"&SMALL(Inventaires!$A$3:$A$400,ROW()-1),1)) | G406: =IF(ROW()-1>$J$1,"",INDIRECT("Inventaires!K"&SMALL(Inventaires!$A$3:$A$400,ROW()-1),1)) | H406: =IF(ROW()-1>$J$1,"",INDIRECT("Inventaires!O"&SMALL(Inventaires!$A$3:$A$400,ROW()-1),1)) | I406: =IF(AND($K$1=0,ROW()-1<=$J$1),INDIRECT("Inventaires!M"&SMALL(Inventaires!$A$3:$A$400,ROW()-1),1),IF(AND(ROW()-1<=$K$1,$K$1>0),INDIRECT("Inventaires!M"&SMALL(Inventaires!$B$3:$B$400,ROW()-1),1),""))
B407: =IF(ROW()-1>$J$1,"",INDIRECT("Inventaires!D"&SMALL(Inventaires!$A$3:$A$400,ROW()-1),1)) | C407: =IF(ROW()-1>$J$1,"",INDIRECT("Inventaires!I"&SMALL(Inventaires!$A$3:$A$400,ROW()-1),1)) | D407: =IF(ROW()-1>$J$1,"",INDIRECT("Inventaires!C"&SMALL(Inventaires!$A$3:$A$400,ROW()-1),1)) | E407: =IF(ROW()-1>$J$1,"",INDIRECT("Inventaires!Q"&SMALL(Inventaires!$A$3:$A$400,ROW()-1),1)) | F407: =IF(ROW()-1>$J$1,"",INDIRECT("Inventaires!J"&SMALL(Inventaires!$A$3:$A$400,ROW()-1),1)) | G407: =IF(ROW()-1>$J$1,"",INDIRECT("Inventaires!K"&SMALL(Inventaires!$A$3:$A$400,ROW()-1),1)) | H407: =IF(ROW()-1>$J$1,"",INDIRECT("Inventaires!O"&SMALL(Inventaires!$A$3:$A$400,ROW()-1),1)) | I407: =IF(AND($K$1=0,ROW()-1<=$J$1),INDIRECT("Inventaires!M"&SMALL(Inventaires!$A$3:$A$400,ROW()-1),1),IF(AND(ROW()-1<=$K$1,$K$1>0),INDIRECT("Inventaires!M"&SMALL(Inventaires!$B$3:$B$400,ROW()-1),1),""))
B408: =IF(ROW()-1>$J$1,"",INDIRECT("Inventaires!D"&SMALL(Inventaires!$A$3:$A$400,ROW()-1),1)) | C408: =IF(ROW()-1>$J$1,"",INDIRECT("Inventaires!I"&SMALL(Inventaires!$A$3:$A$400,ROW()-1),1)) | D408: =IF(ROW()-1>$J$1,"",INDIRECT("Inventaires!C"&SMALL(Inventaires!$A$3:$A$400,ROW()-1),1)) | E408: =IF(ROW()-1>$J$1,"",INDIRECT("Inventaires!Q"&SMALL(Inventaires!$A$3:$A$400,ROW()-1),1)) | F408: =IF(ROW()-1>$J$1,"",INDIRECT("Inventaires!J"&SMALL(Inventaires!$A$3:$A$400,ROW()-1),1)) | G408: =IF(ROW()-1>$J$1,"",INDIRECT("Inventaires!K"&SMALL(Inventaires!$A$3:$A$400,ROW()-1),1)) | H408: =IF(ROW()-1>$J$1,"",INDIRECT("Inventaires!O"&SMALL(Inventaires!$A$3:$A$400,ROW()-1),1)) | I408: =IF(AND($K$1=0,ROW()-1<=$J$1),INDIRECT("Inventaires!M"&SMALL(Inventaires!$A$3:$A$400,ROW()-1),1),IF(AND(ROW()-1<=$K$1,$K$1>0),INDIRECT("Inventaires!M"&SMALL(Inventaires!$B$3:$B$400,ROW()-1),1),""))
B409: =IF(ROW()-1>$J$1,"",INDIRECT("Inventaires!D"&SMALL(Inventaires!$A$3:$A$400,ROW()-1),1)) | C409: =IF(ROW()-1>$J$1,"",INDIRECT("Inventaires!I"&SMALL(Inventaires!$A$3:$A$400,ROW()-1),1)) | D409: =IF(ROW()-1>$J$1,"",INDIRECT("Inventaires!C"&SMALL(Inventaires!$A$3:$A$400,ROW()-1),1)) | E409: =IF(ROW()-1>$J$1,"",INDIRECT("Inventaires!Q"&SMALL(Inventaires!$A$3:$A$400,ROW()-1),1)) | F409: =IF(ROW()-1>$J$1,"",INDIRECT("Inventaires!J"&SMALL(Inventaires!$A$3:$A$400,ROW()-1),1)) | G409: =IF(ROW()-1>$J$1,"",INDIRECT("Inventaires!K"&SMALL(Inventaires!$A$3:$A$400,ROW()-1),1)) | H409: =IF(ROW()-1>$J$1,"",INDIRECT("Inventaires!O"&SMALL(Inventaires!$A$3:$A$400,ROW()-1),1)) | I409: =IF(AND($K$1=0,ROW()-1<=$J$1),INDIRECT("Inventaires!M"&SMALL(Inventaires!$A$3:$A$400,ROW()-1),1),IF(AND(ROW()-1<=$K$1,$K$1>0),INDIRECT("Inventaires!M"&SMALL(Inventaires!$B$3:$B$400,ROW()-1),1),""))
B410: =IF(ROW()-1>$J$1,"",INDIRECT("Inventaires!D"&SMALL(Inventaires!$A$3:$A$400,ROW()-1),1)) | C410: =IF(ROW()-1>$J$1,"",INDIRECT("Inventaires!I"&SMALL(Inventaires!$A$3:$A$400,ROW()-1),1)) | D410: =IF(ROW()-1>$J$1,"",INDIRECT("Inventaires!C"&SMALL(Inventaires!$A$3:$A$400,ROW()-1),1)) | E410: =IF(ROW()-1>$J$1,"",INDIRECT("Inventaires!Q"&SMALL(Inventaires!$A$3:$A$400,ROW()-1),1)) | F410: =IF(ROW()-1>$J$1,"",INDIRECT("Inventaires!J"&SMALL(Inventaires!$A$3:$A$400,ROW()-1),1)) | G410: =IF(ROW()-1>$J$1,"",INDIRECT("Inventaires!K"&SMALL(Inventaires!$A$3:$A$400,ROW()-1),1)) | H410: =IF(ROW()-1>$J$1,"",INDIRECT("Inventaires!O"&SMALL(Inventaires!$A$3:$A$400,ROW()-1),1)) | I410: =IF(AND($K$1=0,ROW()-1<=$J$1),INDIRECT("Inventaires!M"&SMALL(Inventaires!$A$3:$A$400,ROW()-1),1),IF(AND(ROW()-1<=$K$1,$K$1>0),INDIRECT("Inventaires!M"&SMALL(Inventaires!$B$3:$B$400,ROW()-1),1),""))
B411: =IF(ROW()-1>$J$1,"",INDIRECT("Inventaires!D"&SMALL(Inventaires!$A$3:$A$400,ROW()-1),1)) | C411: =IF(ROW()-1>$J$1,"",INDIRECT("Inventaires!I"&SMALL(Inventaires!$A$3:$A$400,ROW()-1),1)) | D411: =IF(ROW()-1>$J$1,"",INDIRECT("Inventaires!C"&SMALL(Inventaires!$A$3:$A$400,ROW()-1),1)) | E411: =IF(ROW()-1>$J$1,"",INDIRECT("Inventaires!Q"&SMALL(Inventaires!$A$3:$A$400,ROW()-1),1)) | F411: =IF(ROW()-1>$J$1,"",INDIRECT("Inventaires!J"&SMALL(Inventaires!$A$3:$A$400,ROW()-1),1)) | G411: =IF(ROW()-1>$J$1,"",INDIRECT("Inventaires!K"&SMALL(Inventaires!$A$3:$A$400,ROW()-1),1)) | H411: =IF(ROW()-1>$J$1,"",INDIRECT("Inventaires!O"&SMALL(Inventaires!$A$3:$A$400,ROW()-1),1)) | I411: =IF(AND($K$1=0,ROW()-1<=$J$1),INDIRECT("Inventaires!M"&SMALL(Inventaires!$A$3:$A$400,ROW()-1),1),IF(AND(ROW()-1<=$K$1,$K$1>0),INDIRECT("Inventaires!M"&SMALL(Inventaires!$B$3:$B$400,ROW()-1),1),""))
B412: =IF(ROW()-1>$J$1,"",INDIRECT("Inventaires!D"&SMALL(Inventaires!$A$3:$A$400,ROW()-1),1)) | C412: =IF(ROW()-1>$J$1,"",INDIRECT("Inventaires!I"&SMALL(Inventaires!$A$3:$A$400,ROW()-1),1)) | D412: =IF(ROW()-1>$J$1,"",INDIRECT("Inventaires!C"&SMALL(Inventaires!$A$3:$A$400,ROW()-1),1)) | E412: =IF(ROW()-1>$J$1,"",INDIRECT("Inventaires!Q"&SMALL(Inventaires!$A$3:$A$400,ROW()-1),1)) | F412: =IF(ROW()-1>$J$1,"",INDIRECT("Inventaires!J"&SMALL(Inventaires!$A$3:$A$400,ROW()-1),1)) | G412: =IF(ROW()-1>$J$1,"",INDIRECT("Inventaires!K"&SMALL(Inventaires!$A$3:$A$400,ROW()-1),1)) | H412: =IF(ROW()-1>$J$1,"",INDIRECT("Inventaires!O"&SMALL(Inventaires!$A$3:$A$400,ROW()-1),1)) | I412: =IF(AND($K$1=0,ROW()-1<=$J$1),INDIRECT("Inventaires!M"&SMALL(Inventaires!$A$3:$A$400,ROW()-1),1),IF(AND(ROW()-1<=$K$1,$K$1>0),INDIRECT("Inventaires!M"&SMALL(Inventaires!$B$3:$B$400,ROW()-1),1),""))
... B1000: =IF(ROW()-1>$J$1,"",INDIRECT("Inventaires!D"&SMALL(Inventaires!$A$3:$A$400,ROW()-1),1)) | C1000: =IF(ROW()-1>$J$1,"",INDIRECT("Inventaires!I"&SMALL(Inventaires!$A$3:$A$400,ROW()-1),1)) | D1000: =IF(ROW()-1>$J$1,"",INDIRECT("Inventaires!C"&SMALL(Inventaires!$A$3:$A$400,ROW()-1),1)) | E1000: =IF(ROW()-1>$J$1,"",INDIRECT("Inventaires!Q"&SMALL(Inventaires!$A$3:$A$400,ROW()-1),1)) | F1000: =IF(ROW()-1>$J$1,"",INDIRECT("Inventaires!J"&SMALL(Inventaires!$A$3:$A$400,ROW()-1),1)) | G1000: =IF(ROW()-1>$J$1,"",INDIRECT("Inventaires!K"&SMALL(Inventaires!$A$3:$A$400,ROW()-1),1)) | H1000: =IF(ROW()-1>$J$1,"",INDIRECT("Inventaires!O"&SMALL(Inventaires!$A$3:$A$400,ROW()-1),1)) | I1000: =IF(AND($K$1=0,ROW()-1<=$J$1),INDIRECT("Inventaires!M"&SMALL(Inventaires!$A$3:$A$400,ROW()-1),1),IF(AND(ROW()-1<=$K$1,$K$1>0),INDIRECT("Inventaires!M"&SMALL(Inventaires!$B$3:$B$400,ROW()-1),1),""))

Sheet Inventaires
A1: =COUNTIF(A3:A400,">=1") -> 10 | B1: =COUNTIF(B3:B318,">=1") -> 0 | C1: =HYPERLINK("#C2:AB1000","INVENTAIRE GÉNERÉ LE 04/01/2018 21:07:26") -> INVENTAIRE GÉNERÉ LE 04/01/2018 21:07:26
C2: REFERENCE | D2: NOM DU PRODUIT | E2: DESCRIPTION | F2: NUMERO DE LOT | G2: FAMILLE | H2: CATEGORIE | I2: SOUS CATEGORIE | J2: QTE | K2: STATUT | L2: TARIF | M2: VALEUR | N2: LIMITE DE COMMANDE | O2: EMPLACEMENT | P2: UNITÉ | Q2: CODE-BARRES | R2: TVA | S2: COULEUR | T2: TAILLE | U2: DATE DE PEREMPTION
A3: =IF(H3=Rapport!$A$2,ROW(),B3) -> 3 | B3: =IF(OR(AND(H3<>Rapport!$A$2,Rapport!$C$1=""),I3<>Rapport!$C$1),"",ROW()) | C3: 049-159 | D3: Atoma IBUPROFEN 200MG cplt 100 | H3: 0100 Analgésiques | K3: RUPTURE | Q3: 777747100873 | V3: =IF(K3="rupture",ROW(),"") -> 3
A4: =IF(H4=Rapport!$A$2,ROW(),B4) -> 4 | B4: =IF(OR(AND(H4<>Rapport!$A$2,Rapport!$C$1=""),I4<>Rapport!$C$1),"",ROW()) | C4: 049-160 | D4: Atoma IBUPROFEN 200MG comp 100 | H4: 0100 Analgésiques | K4: RUPTURE | Q4: 777747100903 | V4: =IF(K4="rupture",ROW(),"") -> 4
A5: =IF(H5=Rapport!$A$2,ROW(),B5) -> 5 | B5: =IF(OR(AND(H5<>Rapport!$A$2,Rapport!$C$1=""),I5<>Rapport!$C$1),"",ROW()) | C5: 049-199 | D5: Atoma IBUPROFEN 200MG gélule 16 | H5: 0100 Analgésiques | K5: RUPTURE | Q5: 777747101009 | V5: =IF(K5="rupture",ROW(),"") -> 5
A6: =IF(H6=Rapport!$A$2,ROW(),B6) -> 6 | B6: =IF(OR(AND(H6<>Rapport!$A$2,Rapport!$C$1=""),I6<>Rapport!$C$1),"",ROW()) | C6: 049-200 | D6: Atoma IBUPROFEN 200MG gélule 72 | H6: 0100 Analgésiques | K6: RUPTURE | Q6: 777747101023 | V6: =IF(K6="rupture",ROW(),"") -> 6
A7: =IF(H7=Rapport!$A$2,ROW(),B7) -> 7 | B7: =IF(OR(AND(H7<>Rapport!$A$2,Rapport!$C$1=""),I7<>Rapport!$C$1),"",ROW()) | C7: 050-311 | D7: Atoma ACET FAA 500MG 100 comp | H7: 0100 Analgésiques | K7: RUPTURE | Q7: 777747101900 | V7: =IF(K7="rupture",ROW(),"") -> 7
A8: =IF(H8=Rapport!$A$2,ROW(),B8) -> 8 | B8: =IF(OR(AND(H8<>Rapport!$A$2,Rapport!$C$1=""),I8<>Rapport!$C$1),"",ROW()) | C8: 050-314 | D8: Atoma ACET FAO FAA 150 comp | H8: 0100 Analgésiques | K8: RUPTURE | Q8: 777747101917 | V8: =IF(K8="rupture",ROW(),"") -> 8
A9: =IF(H9=Rapport!$A$2,ROW(),B9) -> 9 | B9: =IF(OR(AND(H9<>Rapport!$A$2,Rapport!$C$1=""),I9<>Rapport!$C$1),"",ROW()) | C9: 082-965 | D9: Atoma ACET CPLT 500MG 500 cplt | H9: 0100 Analgésiques | K9: RUPTURE | Q9: 777747109517 | V9: =IF(K9="rupture",ROW(),"") -> 9
A10: =IF(H10=Rapport!$A$2,ROW(),B10) -> 10 | B10: =IF(OR(AND(H10<>Rapport!$A$2,Rapport!$C$1=""),I10<>Rapport!$C$1),"",ROW()) | C10: 105-813 | D10: Atoma Ibuprofen 32cap | H10: 0100 Analgésiques | K10: RUPTURE | Q10: 777747110322 | V10: =IF(K10="rupture",ROW(),"") -> 10
A11: =IF(H11=Rapport!$A$2,ROW(),B11) -> 11 | B11: =IF(OR(AND(H11<>Rapport!$A$2,Rapport!$C$1=""),I11<>Rapport!$C$1),"",ROW()) | C11: 559-484 | D11: Laboratoire Suisse SUIS ARTRIKOR CR ANALG Boni | H11: 0100 Analgésiques | K11: RUPTURE | Q11: 776329547730 | V11: =IF(K11="rupture",ROW(),"") -> 11
A12: =IF(H12=Rapport!$A$2,ROW(),B12) -> 12 | B12: =IF(OR(AND(H12<>Rapport!$A$2,Rapport!$C$1=""),I12<>Rapport!$C$1),"",ROW()) | C12: 667-931 | D12: Tylenol FAC/OUV 500MG 150cplt | H12: 0100 Analgésiques | K12: RUPTURE | Q12: 62600142290 | V12: =IF(K12="rupture",ROW(),"") -> 12
A13: =IF(H13=Rapport!$A$2,ROW(),B13) | B13: =IF(OR(AND(H13<>Rapport!$A$2,Rapport!$C$1=""),I13<>Rapport!$C$1),"",ROW()) | C13: 106-162 | D13: Relaxa 510g | E13: Relaxa 510 g Laxatif | H13: 0300 Laxatifs et Anti-Diarrheique | I13: 320 | J13: 50 | M13: 734.5 | Q13: 665982000143 | S13: Mauve | V13: =IF(K13="rupture",ROW(),"")
A14: =IF(H14=Rapport!$A$2,ROW(),B14) | B14: =IF(OR(AND(H14<>Rapport!$A$2,Rapport!$C$1=""),I14<>Rapport!$C$1),"",ROW()) | C14: 004-134 | D14: Relaxa 510g | H14: 0300 Laxatifs et Anti-Diarrheique | K14: RUPTURE | Q14: 830853005019 | V14: =IF(K14="rupture",ROW(),"") -> 14
A15: =IF(H15=Rapport!$A$2,ROW(),B15) | B15: =IF(OR(AND(H15<>Rapport!$A$2,Rapport!$C$1=""),I15<>Rapport!$C$1),"",ROW()) | C15: 822-544 | D15: Gluverna Liq Chocolat | H15: 0500 Diètétique | K15: RUPTURE | Q15: 55325036562 | V15: =IF(K15="rupture",ROW(),"") -> 15
A16: =IF(H16=Rapport!$A$2,ROW(),B16) | B16: =IF(OR(AND(H16<>Rapport!$A$2,Rapport!$C$1=""),I16<>Rapport!$C$1),"",ROW()) | C16: 823-468 | D16: Glucerna Liq Fruit Sauvage | H16: 0500 Diètétique | J16: 24 | M16: 239.76 | O16: ND | P16: U | Q16: 55325036586 | V16: =IF(K16="rupture",ROW(),"")
A17: =IF(H17=Rapport!$A$2,ROW(),B17) | B17: =IF(OR(AND(H17<>Rapport!$A$2,Rapport!$C$1=""),I17<>Rapport!$C$1),"",ROW()) | C17: 834-895 | D17: Glucerna Liq Fraise | H17: 0500 Diètétique | K17: RUPTURE | O17: ND | P17: U | Q17: 55325036579 | V17: =IF(K17="rupture",ROW(),"") -> 17
A18: =IF(H18=Rapport!$A$2,ROW(),B18) | B18: =IF(OR(AND(H18<>Rapport!$A$2,Rapport!$C$1=""),I18<>Rapport!$C$1),"",ROW()) | C18: 837-260 | D18: Glucerna Liq Vanille | H18: 0500 Diètétique | J18: 32 | M18: 319.68 | O18: ND | P18: U | Q18: 55325036555 | V18: =IF(K18="rupture",ROW(),"")
A19: =IF(H19=Rapport!$A$2,ROW(),B19) | B19: =IF(OR(AND(H19<>Rapport!$A$2,Rapport!$C$1=""),I19<>Rapport!$C$1),"",ROW()) | C19: 471-631 | D19: Jamieson JAM VIT C CRQ ASST BN 3 sav | H19: 0700 Vitamines | K19: RUPTURE | Q19: 64642028839 | V19: =IF(K19="rupture",ROW(),"") -> 19
A20: =IF(H20=Rapport!$A$2,ROW(),B20) | B20: =IF(OR(AND(H20<>Rapport!$A$2,Rapport!$C$1=""),I20<>Rapport!$C$1),"",ROW()) | C20: 026-616 | D20: Helixia toux enfant 100ml | E20: Helixia toux prospan enfant 100ml | H20: 0900 Rhume et toux | I20: 0910 RHUME TOUX LIQUIDES | J20: 18 | M20: 93.96 | Q20: 625972013430 | S20: Vert | V20: =IF(K20="rupture",ROW(),"")
A21: =IF(H21=Rapport!$A$2,ROW(),B21) | B21: =IF(OR(AND(H21<>Rapport!$A$2,Rapport!$C$1=""),I21<>Rapport!$C$1),"",ROW()) | C21: 026-619 | D21: Helixia Toux adulte 100ml | E21: Helixia Toux adulte prospan 100ml | H21: 0900 Rhume et toux | I21: 0910 RHUME TOUX LIQUIDES | J21: 17 | M21: 88.74 | Q21: 625972013324 | S21: Vert | V21: =IF(K21="rupture",ROW(),"")
A22: =IF(H22=Rapport!$A$2,ROW(),B22) | B22: =IF(OR(AND(H22<>Rapport!$A$2,Rapport!$C$1=""),I22<>Rapport!$C$1),"",ROW()) | C22: 038-870 | D22: Helixia Toux enfants 200ml | E22: Helixia Toux prospan enfants 200ml | H22: 0900 Rhume et toux | I22: 0910 RHUME TOUX LIQUIDES | J22: 10 | M22: 70.8 | Q22: 625972019289 | S22: Vert | V22: =IF(K22="rupture",ROW(),"")
A23: =IF(H23=Rapport!$A$2,ROW(),B23) | B23: =IF(OR(AND(H23<>Rapport!$A$2,Rapport!$C$1=""),I23<>Rapport!$C$1),"",ROW()) | C23: 038-873 | D23: Helixia toux adulte 200ml | E23: Helixia toux prospan adulte 200ml | H23: 0900 Rhume et toux | I23: 0910 RHUME TOUX LIQUIDES | J23: 10 | M23: 71.2 | Q23: 625972019272 | V23: =IF(K23="rupture",ROW(),"")
A24: =IF(H24=Rapport!$A$2,ROW(),B24) | B24: =IF(OR(AND(H24<>Rapport!$A$2,Rapport!$C$1=""),I24<>Rapport!$C$1),"",ROW()) | C24: 050-296 | D24: Atoma Pastille Menthole Eucalyptus Citron | E24: Atoma Pastille Menthole Eucalyptus Citron 30 Pastille | H24: 0900 Rhume et toux | I24: 0920 RHUME TOUX PASTILLES | J24: 36 | M24: 40.32 | Q24: 777747101313 | S24: Jaune | V24: =IF(K24="rupture",ROW(),"")
A25: =IF(H25=Rapport!$A$2,ROW(),B25) | B25: =IF(OR(AND(H25<>Rapport!$A$2,Rapport!$C$1=""),I25<>Rapport!$C$1),"",ROW()) | C25: 645-598 | D25: Neilmed Sinues Rinse 50u | H25: 0900 Rhume et toux | I25: 0950 RHUME TOUX GOUTTES VAP.NASAUX | J25: 23 | M25: 206.31 | O25: ND | Q25: 705928001008 | V25: =IF(K25="rupture",ROW(),"")
A26: =IF(H26=Rapport!$A$2,ROW(),B26) | B26: =IF(OR(AND(H26<>Rapport!$A$2,Rapport!$C$1=""),I26<>Rapport!$C$1),"",ROW()) | C26: 006-067 | D26: Sucons au miel Labonté Rose | H26: 0900 Rhume et toux | K26: RUPTURE | Q26: 626665006067 | V26: =IF(K26="rupture",ROW(),"") -> 26
A27: =IF(H27=Rapport!$A$2,ROW(),B27) | B27: =IF(OR(AND(H27<>Rapport!$A$2,Rapport!$C$1=""),I27<>Rapport!$C$1),"",ROW()) | C27: 006-159 | D27: Pastilles au miel Labonté | H27: 0900 Rhume et toux | K27: RUPTURE | Q27: 626665006159 | V27: =IF(K27="rupture",ROW(),"") -> 27
A28: =IF(H28=Rapport!$A$2,ROW(),B28) | B28: =IF(OR(AND(H28<>Rapport!$A$2,Rapport!$C$1=""),I28<>Rapport!$C$1),"",ROW()) | C28: 006-166 | D28: Pastilles au miel Labonté Orange | H28: 0900 Rhume et toux | K28: RUPTURE | Q28: 626665006166 | V28: =IF(K28="rupture",ROW(),"") -> 28
A29: =IF(H29=Rapport!$A$2,ROW(),B29) | B29: =IF(OR(AND(H29<>Rapport!$A$2,Rapport!$C$1=""),I29<>Rapport!$C$1),"",ROW()) | C29: 006-173 | D29: Pastilles au miel labonté Vert | H29: 0900 Rhume et toux | K29: RUPTURE | Q29: 626665006173 | V29: =IF(K29="rupture",ROW(),"") -> 29
A30: =IF(H30=Rapport!$A$2,ROW(),B30) | B30: =IF(OR(AND(H30<>Rapport!$A$2,Rapport!$C$1=""),I30<>Rapport!$C$1),"",ROW()) | C30: 006-180 | D30: Pastilles au miel labonté Bleu | H30: 0900 Rhume et toux | K30: RUPTURE | Q30: 626665006180 | V30: =IF(K30="rupture",ROW(),"") -> 30
A31: =IF(H31=Rapport!$A$2,ROW(),B31) | B31: =IF(OR(AND(H31<>Rapport!$A$2,Rapport!$C$1=""),I31<>Rapport!$C$1),"",ROW()) | C31: 006-265 | D31: Pastilles au miel labonté rouge | H31: 0900 Rhume et toux | K31: RUPTURE | Q31: 626665006265 | V31: =IF(K31="rupture",ROW(),"") -> 31
A32: =IF(H32=Rapport!$A$2,ROW(),B32) | B32: =IF(OR(AND(H32<>Rapport!$A$2,Rapport!$C$1=""),I32<>Rapport!$C$1),"",ROW()) | C32: 049-230 | D32: Atoma LORATADINE 10MG comp 10 | H32: 0900 Rhume et toux | K32: RUPTURE | Q32: 777747101092 | V32: =IF(K32="rupture",ROW(),"") -> 32
A33: =IF(H33=Rapport!$A$2,ROW(),B33) | B33: =IF(OR(AND(H33<>Rapport!$A$2,Rapport!$C$1=""),I33<>Rapport!$C$1),"",ROW()) | C33: 050-295 | D33: Atoma pastille Cerise Menthol Eucalyptus | E33: Atoma pastille Cerise Menthol Eucalyptus en 30. | H33: 0900 Rhume et toux | J33: 52 | M33: 65.52 | Q33: 777747101290 | S33: rouge | V33: =IF(K33="rupture",ROW(),"")
A34: =IF(H34=Rapport!$A$2,ROW(),B34) | B34: =IF(OR(AND(H34<>Rapport!$A$2,Rapport!$C$1=""),I34<>Rapport!$C$1),"",ROW()) | C34: 054-352 | D34: Atoma SIR ALLRG ENF DP 100ml | H34: 0900 Rhume et toux | K34: RUPTURE | Q34: 777747104260 | V34: =IF(K34="rupture",ROW(),"") -> 34
A35: =IF(H35=Rapport!$A$2,ROW(),B35) | B35: =IF(OR(AND(H35<>Rapport!$A$2,Rapport!$C$1=""),I35<>Rapport!$C$1),"",ROW()) | C35: 194-076 | D35: Benadryl ENF GOMME BAL 100ml | H35: 0900 Rhume et toux | K35: RUPTURE | Q35: 60093265809 | V35: =IF(K35="rupture",ROW(),"") -> 35
A36: =IF(H36=Rapport!$A$2,ROW(),B36) | B36: =IF(OR(AND(H36<>Rapport!$A$2,Rapport!$C$1=""),I36<>Rapport!$C$1),"",ROW()) | C36: 417-667 | D36: Neilmed Sinus Rince 100u recharge | H36: 0900 Rhume et toux | J36: 14 | O36: ND | Q36: 705928002005 | V36: =IF(K36="rupture",ROW(),"")
A37: =IF(H37=Rapport!$A$2,ROW(),B37) | B37: =IF(OR(AND(H37<>Rapport!$A$2,Rapport!$C$1=""),I37<>Rapport!$C$1),"",ROW()) | C37: 825-562 | D37: Systane Ultra haute perf 10ml | H37: 1000 Yeux et Oreilles | K37: RUPTURE | Q37: 56394310119 | V37: =IF(K37="rupture",ROW(),"") -> 37
A38: =IF(H38=Rapport!$A$2,ROW(),B38) | B38: =IF(OR(AND(H38<>Rapport!$A$2,Rapport!$C$1=""),I38<>Rapport!$C$1),"",ROW()) | C38: 027-232 | D38: Sac Magique rectangle (allongé) | H38: 1200 Orthopédie | J38: 5 | Q38: 778314110011 | V38: =IF(K38="rupture",ROW(),"")
A39: =IF(H39=Rapport!$A$2,ROW(),B39) | B39: =IF(OR(AND(H39<>Rapport!$A$2,Rapport!$C$1=""),I39<>Rapport!$C$1),"",ROW()) | C39: 433-200 | D39: Trio-thermo sac | E39: Trio-thermo sac | H39: 1200 Orthopédie | J39: 18 | M39: 180 | O39: ND | Q39: 627843433200 | V39: =IF(K39="rupture",ROW(),"")
A40: =IF(H40=Rapport!$A$2,ROW(),B40) | B40: =IF(OR(AND(H40<>Rapport!$A$2,Rapport!$C$1=""),I40<>Rapport!$C$1),"",ROW()) | C40: 040-647 | D40: Elastoplast aqua protect 40u | H40: 1300 Premiers soins | K40: RUPTURE | Q40: 56594114715 | V40: =IF(K40="rupture",ROW(),"") -> 40
...

Sheet LD
A1: CATEGORIE | B1: SOUS CATEGORIE | E1: =COUNTIF(E2:E1000,">=1")+1 -> 28 | G1: =COUNTIF(G2:G1000,">=1") -> 0 | J1: =COUNTIF(J2:J1000,">=1") -> 1
A2: =IF(ISERROR(SMALL(E$2:E$400,ROW()-1)),"",INDIRECT("D"&SMALL(E$2:E$400,ROW()-1))) -> 0100 Analgésiques | B2: =IF(ROW()-1<=J$1,INDIRECT("LD!I"&SMALL(J$2:J$1000,ROW()-1),1),"") -> 0 | D2: =IF(Inventaires!H3="","",Inventaires!H3) -> 0100 Analgésiques | E2: =IF(OR(D2="",D2=D3),"",ROW()) | F2: =IF(OR(Inventaires!H3="",Rapport!A$2<>Inventaires!H3),"",Inventaires!I3) -> 0 | G2: =IF(F2="","",ROW()) | H2: =IF(OR(F2<>Rapport!$C$1,F2=""),"",ROW()) | I2: =IF(COUNTIF($I1:I$3,F2)<1,F2,"") | J2: =IF(OR(I2=0,I2<>""),ROW(),"")
A3: =IF(ISERROR(SMALL(E$2:E$400,ROW()-1)),"",INDIRECT("D"&SMALL(E$2:E$400,ROW()-1))) -> 0300 Laxatifs et Anti-Diarrheique | B3: =IF(ROW()-1<=J$1,INDIRECT("LD!I"&SMALL(J$2:J$1000,ROW()-1),1),"") | D3: =IF(Inventaires!H4="","",Inventaires!H4) -> 0100 Analgésiques | E3: =IF(OR(D3="",D3=D4),"",ROW()) | F3: =IF(OR(Inventaires!H4="",Rapport!A$2<>Inventaires!H4),"",Inventaires!I4) -> 0 | G3: =IF(F3="","",ROW()) | H3: =IF(OR(F3<>Rapport!$C$1,F3=""),"",ROW()) | I3: =IF(COUNTIF($I2:I$3,F3)<1,F3,"") -> 0 | J3: =IF(OR(I3=0,I3<>""),ROW(),"") -> 3
A4: =IF(ISERROR(SMALL(E$2:E$400,ROW()-1)),"",INDIRECT("D"&SMALL(E$2:E$400,ROW()-1))) -> 0500 Diètétique | B4: =IF(ROW()-1<=J$1,INDIRECT("LD!I"&SMALL(J$2:J$1000,ROW()-1),1),"") | D4: =IF(Inventaires!H5="","",Inventaires!H5) -> 0100 Analgésiques | E4: =IF(OR(D4="",D4=D5),"",ROW()) | F4: =IF(OR(Inventaires!H5="",Rapport!A$2<>Inventaires!H5),"",Inventaires!I5) -> 0 | G4: =IF(F4="","",ROW()) | H4: =IF(OR(F4<>Rapport!$C$1,F4=""),"",ROW()) | I4: =IF(COUNTIF($I3:I$3,F4)<1,F4,"") | J4: =IF(OR(I4=0,I4<>""),ROW(),"")
A5: =IF(ISERROR(SMALL(E$2:E$400,ROW()-1)),"",INDIRECT("D"&SMALL(E$2:E$400,ROW()-1))) -> 0700 Vitamines | B5: =IF(ROW()-1<=J$1,INDIRECT("LD!I"&SMALL(J$2:J$1000,ROW()-1),1),"") | D5: =IF(Inventaires!H6="","",Inventaires!H6) -> 0100 Analgésiques | E5: =IF(OR(D5="",D5=D6),"",ROW()) | F5: =IF(OR(Inventaires!H6="",Rapport!A$2<>Inventaires!H6),"",Inventaires!I6) -> 0 | G5: =IF(F5="","",ROW()) | H5: =IF(OR(F5<>Rapport!$C$1,F5=""),"",ROW()) | I5: =IF(COUNTIF($I4:I$3,F5)<1,F5,"") | J5: =IF(OR(I5=0,I5<>""),ROW(),"")
A6: =IF(ISERROR(SMALL(E$2:E$400,ROW()-1)),"",INDIRECT("D"&SMALL(E$2:E$400,ROW()-1))) -> 0900 Rhume et toux | B6: =IF(ROW()-1<=J$1,INDIRECT("LD!I"&SMALL(J$2:J$1000,ROW()-1),1),"") | D6: =IF(Inventaires!H7="","",Inventaires!H7) -> 0100 Analgésiques | E6: =IF(OR(D6="",D6=D7),"",ROW()) | F6: =IF(OR(Inventaires!H7="",Rapport!A$2<>Inventaires!H7),"",Inventaires!I7) -> 0 | G6: =IF(F6="","",ROW()) | H6: =IF(OR(F6<>Rapport!$C$1,F6=""),"",ROW()) | I6: =IF(COUNTIF($I5:I$3,F6)<1,F6,"") | J6: =IF(OR(I6=0,I6<>""),ROW(),"")
A7: =IF(ISERROR(SMALL(E$2:E$400,ROW()-1)),"",INDIRECT("D"&SMALL(E$2:E$400,ROW()-1))) -> 1000 Yeux et Oreilles | B7: =IF(ROW()-1<=J$1,INDIRECT("LD!I"&SMALL(J$2:J$1000,ROW()-1),1),"") | D7: =IF(Inventaires!H8="","",Inventaires!H8) -> 0100 Analgésiques | E7: =IF(OR(D7="",D7=D8),"",ROW()) | F7: =IF(OR(Inventaires!H8="",Rapport!A$2<>Inventaires!H8),"",Inventaires!I8) -> 0 | G7: =IF(F7="","",ROW()) | H7: =IF(OR(F7<>Rapport!$C$1,F7=""),"",ROW()) | I7: =IF(COUNTIF($I6:I$3,F7)<1,F7,"") | J7: =IF(OR(I7=0,I7<>""),ROW(),"")
A8: =IF(ISERROR(SMALL(E$2:E$400,ROW()-1)),"",INDIRECT("D"&SMALL(E$2:E$400,ROW()-1))) -> 1200 Orthopédie | B8: =IF(ROW()-1<=J$1,INDIRECT("LD!I"&SMALL(J$2:J$1000,ROW()-1),1),"") | D8: =IF(Inventaires!H9="","",Inventaires!H9) -> 0100 Analgésiques | E8: =IF(OR(D8="",D8=D9),"",ROW()) | F8: =IF(OR(Inventaires!H9="",Rapport!A$2<>Inventaires!H9),"",Inventaires!I9) -> 0 | G8: =IF(F8="","",ROW()) | H8: =IF(OR(F8<>Rapport!$C$1,F8=""),"",ROW()) | I8: =IF(COUNTIF($I7:I$3,F8)<1,F8,"") | J8: =IF(OR(I8=0,I8<>""),ROW(),"")
A9: =IF(ISERROR(SMALL(E$2:E$400,ROW()-1)),"",INDIRECT("D"&SMALL(E$2:E$400,ROW()-1))) -> 1300 Premiers soins | B9: =IF(ROW()-1<=J$1,INDIRECT("LD!I"&SMALL(J$2:J$1000,ROW()-1),1),"") | D9: =IF(Inventaires!H10="","",Inventaires!H10) -> 0100 Analgésiques | E9: =IF(OR(D9="",D9=D10),"",ROW()) | F9: =IF(OR(Inventaires!H10="",Rapport!A$2<>Inventaires!H10),"",Inventaires!I10) -> 0 | G9: =IF(F9="","",ROW()) | H9: =IF(OR(F9<>Rapport!$C$1,F9=""),"",ROW()) | I9: =IF(COUNTIF($I8:I$3,F9)<1,F9,"") | J9: =IF(OR(I9=0,I9<>""),ROW(),"")
A10: =IF(ISERROR(SMALL(E$2:E$400,ROW()-1)),"",INDIRECT("D"&SMALL(E$2:E$400,ROW()-1))) -> 1400 Soins à Domiciles | B10: =IF(ROW()-1<=J$1,INDIRECT("LD!I"&SMALL(J$2:J$1000,ROW()-1),1),"") | D10: =IF(Inventaires!H11="","",Inventaires!H11) -> 0100 Analgésiques | E10: =IF(OR(D10="",D10=D11),"",ROW()) | F10: =IF(OR(Inventaires!H11="",Rapport!A$2<>Inventaires!H11),"",Inventaires!I11) -> 0 | G10: =IF(F10="","",ROW()) | H10: =IF(OR(F10<>Rapport!$C$1,F10=""),"",ROW()) | I10: =IF(COUNTIF($I9:I$3,F10)<1,F10,"") | J10: =IF(OR(I10=0,I10<>""),ROW(),"")
A11: =IF(ISERROR(SMALL(E$2:E$400,ROW()-1)),"",INDIRECT("D"&SMALL(E$2:E$400,ROW()-1))) -> 1500 Soins de la Peau | B11: =IF(ROW()-1<=J$1,INDIRECT("LD!I"&SMALL(J$2:J$1000,ROW()-1),1),"") | D11: =IF(Inventaires!H12="","",Inventaires!H12) -> 0100 Analgésiques | E11: =IF(OR(D11="",D11=D12),"",ROW()) -> 11 | F11: =IF(OR(Inventaires!H12="",Rapport!A$2<>Inventaires!H12),"",Inventaires!I12) -> 0 | G11: =IF(F11="","",ROW()) | H11: =IF(OR(F11<>Rapport!$C$1,F11=""),"",ROW()) | I11: =IF(COUNTIF($I10:I$3,F11)<1,F11,"") | J11: =IF(OR(I11=0,I11<>""),ROW(),"")
A12: =IF(ISERROR(SMALL(E$2:E$400,ROW()-1)),"",INDIRECT("D"&SMALL(E$2:E$400,ROW()-1))) -> 3200 Cosmétique | B12: =IF(ROW()-1<=J$1,INDIRECT("LD!I"&SMALL(J$2:J$1000,ROW()-1),1),"") | D12: =IF(Inventaires!H13="","",Inventaires!H13) -> 0300 Laxatifs et Anti-Diarrheique | E12: =IF(OR(D12="",D12=D13),"",ROW()) | F12: =IF(OR(Inventaires!H13="",Rapport!A$2<>Inventaires!H13),"",Inventaires!I13) | G12: =IF(F12="","",ROW()) | H12: =IF(OR(F12<>Rapport!$C$1,F12=""),"",ROW()) | I12: =IF(COUNTIF($I11:I$3,F12)<1,F12,"") | J12: =IF(OR(I12=0,I12<>""),ROW(),"")
A13: =IF(ISERROR(SMALL(E$2:E$400,ROW()-1)),"",INDIRECT("D"&SMALL(E$2:E$400,ROW()-1))) -> 3500 Hygiène corporelle | B13: =IF(ROW()-1<=J$1,INDIRECT("LD!I"&SMALL(J$2:J$1000,ROW()-1),1),"") | D13: =IF(Inventaires!H14="","",Inventaires!H14) -> 0300 Laxatifs et Anti-Diarrheique | E13: =IF(OR(D13="",D13=D14),"",ROW()) -> 13 | F13: =IF(OR(Inventaires!H14="",Rapport!A$2<>Inventaires!H14),"",Inventaires!I14) | G13: =IF(F13="","",ROW()) | H13: =IF(OR(F13<>Rapport!$C$1,F13=""),"",ROW()) | I13: =IF(COUNTIF($I12:I$3,F13)<1,F13,"") | J13: =IF(OR(I13=0,I13<>""),ROW(),"")
... A400: =IF(ISERROR(SMALL(E$2:E$400,ROW()-1)),"",INDIRECT("D"&SMALL(E$2:E$400,ROW()-1))) | B400: =IF(ROW()-1<=J$1,INDIRECT("LD!I"&SMALL(J$2:J$1000,ROW()-1),1),"") | D400: =IF(Inventaires!H401="","",Inventaires!H401) | E400: =IF(OR(D400="",D400=D401),"",ROW()) | F400: =IF(OR(Inventaires!H401="",Rapport!A$2<>Inventaires!H401),"",Inventaires!I401) | G400: =IF(F400="","",ROW()) | H400: =IF(OR(F400<>Rapport!$C$1,F400=""),"",ROW()) | I400: =IF(COUNTIF($I399:I$3,F400)<1,F400,"") | J400: =IF(OR(I400=0,I400<>""),ROW(),"")
B401: =IF(ROW()-1<=G$1,INDIRECT("LD!I"&SMALL(G$2:G$1000,ROW()-1),1),"") | D401: =IF(Inventaires!H402="","",Inventaires!H402) | E401: =IF(OR(D401="",D401=D402),"",ROW()) | F401: =IF(OR(Inventaires!H402="",Rapport!A$2<>Inventaires!H402),"",Inventaires!I402) | G401: =IF(F401="","",ROW()) | H401: =IF(OR(F401<>Rapport!$C$1,F401=""),"",ROW()) | I401: =IF(ROW()-1<=H$1,INDIRECT("Inventaires!d"&SMALL(H$2:H$1000,ROW()-1)+1,1),"")
B402: =IF(ROW()-1<=G$1,INDIRECT("LD!I"&SMALL(G$2:G$1000,ROW()-1),1),"") | D402: =IF(Inventaires!H403="","",Inventaires!H403) | E402: =IF(OR(D402="",D402=D403),"",ROW()) | F402: =IF(OR(Inventaires!H403="",Rapport!A$2<>Inventaires!H403),"",Inventaires!I403) | G402: =IF(F402="","",ROW()) | H402: =IF(OR(F402<>Rapport!$C$1,F402=""),"",ROW()) | I402: =IF(ROW()-1<=H$1,INDIRECT("Inventaires!d"&SMALL(H$2:H$1000,ROW()-1)+1,1),"")
B403: =IF(ROW()-1<=G$1,INDIRECT("LD!I"&SMALL(G$2:G$1000,ROW()-1),1),"") | D403: =IF(Inventaires!H404="","",Inventaires!H404) | E403: =IF(OR(D403="",D403=D404),"",ROW()) | F403: =IF(OR(Inventaires!H404="",Rapport!A$2<>Inventaires!H404),"",Inventaires!I404) | G403: =IF(F403="","",ROW()) | H403: =IF(OR(F403<>Rapport!$C$1,F403=""),"",ROW()) | I403: =IF(ROW()-1<=H$1,INDIRECT("Inventaires!d"&SMALL(H$2:H$1000,ROW()-1)+1,1),"")
B404: =IF(ROW()-1<=G$1,INDIRECT("LD!I"&SMALL(G$2:G$1000,ROW()-1),1),"") | D404: =IF(Inventaires!H405="","",Inventaires!H405) | E404: =IF(OR(D404="",D404=D405),"",ROW()) | F404: =IF(OR(Inventaires!H405="",Rapport!A$2<>Inventaires!H405),"",Inventaires!I405) | G404: =IF(F404="","",ROW()) | H404: =IF(OR(F404<>Rapport!$C$1,F404=""),"",ROW()) | I404: =IF(ROW()-1<=H$1,INDIRECT("Inventaires!d"&SMALL(H$2:H$1000,ROW()-1)+1,1),"")
