Workbook

Sheet Arrivées
A1: Arrivées Quinté au 1 Avril et suite | H1: Les 5 premiers favoris de la course | M1: C P 5 cv | N1: C G 5cv | P1: 1 | Q1: 2 | R1: 3 | S1: 4 | T1: 5 | U1: 6 | V1: 7 | W1: 8 | X1: 9 | Y1: 10 | Z1: 11 | AA1: 12 | AB1: 13 | AC1: 14 | AD1: 15 | AE1: 16 | AF1: 17 | AG1: 18 | AH1: 19 | AI1: 20
A2: DATE
A3: 43556 | B3: 2 | C3: 1 | D3: 9 | E3: 12 | F3: 4 | H3: 2 | I3: 1 | J3: 8 | K3: 7 | L3: 15 | P3: =IF(ISNUMBER(MATCH(P$1,$B3:$C3,0)),0,P2+1) -> 0 | Q3: =IF(ISNUMBER(MATCH(Q$1,$B3:$C3,0)),0,Q2+1) -> 0 | R3: =IF(ISNUMBER(MATCH(R$1,$B3:$C3,0)),0,R2+1) -> 1 | S3: =IF(ISNUMBER(MATCH(S$1,$B3:$C3,0)),0,S2+1) -> 1 | T3: =IF(ISNUMBER(MATCH(T$1,$B3:$C3,0)),0,T2+1) -> 1 | U3: =IF(ISNUMBER(MATCH(U$1,$B3:$C3,0)),0,U2+1) -> 1 | V3: =IF(ISNUMBER(MATCH(V$1,$B3:$C3,0)),0,V2+1) -> 1 | W3: =IF(ISNUMBER(MATCH(W$1,$B3:$C3,0)),0,W2+1) -> 1 | ... AI3: =IF(ISNUMBER(MATCH(AI$1,$B3:$C3,0)),0,AI2+1) -> 1
A4: 43557 | B4: 9 | C4: 1 | D4: 12 | E4: 7 | F4: 5 | H4: 2 | I4: 6 | J4: 10 | K4: 12 | L4: 11 | P4: =IF(ISNUMBER(MATCH(P$1,$B4:$C4,0)),0,P3+1) -> 0 | Q4: =IF(ISNUMBER(MATCH(Q$1,$B4:$C4,0)),0,Q3+1) -> 1 | R4: =IF(ISNUMBER(MATCH(R$1,$B4:$C4,0)),0,R3+1) -> 2 | S4: =IF(ISNUMBER(MATCH(S$1,$B4:$C4,0)),0,S3+1) -> 2 | T4: =IF(ISNUMBER(MATCH(T$1,$B4:$C4,0)),0,T3+1) -> 2 | U4: =IF(ISNUMBER(MATCH(U$1,$B4:$C4,0)),0,U3+1) -> 2 | V4: =IF(ISNUMBER(MATCH(V$1,$B4:$C4,0)),0,V3+1) -> 2 | W4: =IF(ISNUMBER(MATCH(W$1,$B4:$C4,0)),0,W3+1) -> 2 | ... AI4: =IF(ISNUMBER(MATCH(AI$1,$B4:$C4,0)),0,AI3+1) -> 2
A5: 43558 | B5: 18 | C5: 16 | D5: 13 | E5: 9 | F5: 12 | H5: 18 | I5: 16 | J5: 9 | K5: 13 | L5: 12 | P5: =IF(ISNUMBER(MATCH(P$1,$B5:$C5,0)),0,P4+1) -> 1 | Q5: =IF(ISNUMBER(MATCH(Q$1,$B5:$C5,0)),0,Q4+1) -> 2 | R5: =IF(ISNUMBER(MATCH(R$1,$B5:$C5,0)),0,R4+1) -> 3 | S5: =IF(ISNUMBER(MATCH(S$1,$B5:$C5,0)),0,S4+1) -> 3 | T5: =IF(ISNUMBER(MATCH(T$1,$B5:$C5,0)),0,T4+1) -> 3 | U5: =IF(ISNUMBER(MATCH(U$1,$B5:$C5,0)),0,U4+1) -> 3 | V5: =IF(ISNUMBER(MATCH(V$1,$B5:$C5,0)),0,V4+1) -> 3 | W5: =IF(ISNUMBER(MATCH(W$1,$B5:$C5,0)),0,W4+1) -> 3 | ... AI5: =IF(ISNUMBER(MATCH(AI$1,$B5:$C5,0)),0,AI4+1) -> 3
A6: 43559 | B6: 12 | C6: 2 | D6: 9 | E6: 15 | F6: 10 | H6: 5 | I6: 9 | J6: 15 | K6: 13 | L6: 16 | P6: =IF(ISNUMBER(MATCH(P$1,$B6:$C6,0)),0,P5+1) -> 2 | Q6: =IF(ISNUMBER(MATCH(Q$1,$B6:$C6,0)),0,Q5+1) -> 0 | R6: =IF(ISNUMBER(MATCH(R$1,$B6:$C6,0)),0,R5+1) -> 4 | S6: =IF(ISNUMBER(MATCH(S$1,$B6:$C6,0)),0,S5+1) -> 4 | T6: =IF(ISNUMBER(MATCH(T$1,$B6:$C6,0)),0,T5+1) -> 4 | U6: =IF(ISNUMBER(MATCH(U$1,$B6:$C6,0)),0,U5+1) -> 4 | V6: =IF(ISNUMBER(MATCH(V$1,$B6:$C6,0)),0,V5+1) -> 4 | W6: =IF(ISNUMBER(MATCH(W$1,$B6:$C6,0)),0,W5+1) -> 4 | ... AI6: =IF(ISNUMBER(MATCH(AI$1,$B6:$C6,0)),0,AI5+1) -> 4
A7: 43560 | B7: 9 | C7: 6 | D7: 12 | E7: 4 | F7: 10 | H7: 10 | I7: 2 | J7: 15 | K7: 12 | L7: 4 | P7: =IF(ISNUMBER(MATCH(P$1,$B7:$C7,0)),0,P6+1) -> 3 | Q7: =IF(ISNUMBER(MATCH(Q$1,$B7:$C7,0)),0,Q6+1) -> 1 | R7: =IF(ISNUMBER(MATCH(R$1,$B7:$C7,0)),0,R6+1) -> 5 | S7: =IF(ISNUMBER(MATCH(S$1,$B7:$C7,0)),0,S6+1) -> 5 | T7: =IF(ISNUMBER(MATCH(T$1,$B7:$C7,0)),0,T6+1) -> 5 | U7: =IF(ISNUMBER(MATCH(U$1,$B7:$C7,0)),0,U6+1) -> 0 | V7: =IF(ISNUMBER(MATCH(V$1,$B7:$C7,0)),0,V6+1) -> 5 | W7: =IF(ISNUMBER(MATCH(W$1,$B7:$C7,0)),0,W6+1) -> 5 | ... AI7: =IF(ISNUMBER(MATCH(AI$1,$B7:$C7,0)),0,AI6+1) -> 5
A8: 43561 | B8: 10 | C8: 4 | D8: 7 | E8: 3 | F8: 6 | H8: 4 | I8: 7 | J8: 12 | K8: 10 | L8: 2 | P8: =IF(ISNUMBER(MATCH(P$1,$B8:$C8,0)),0,P7+1) -> 4 | Q8: =IF(ISNUMBER(MATCH(Q$1,$B8:$C8,0)),0,Q7+1) -> 2 | R8: =IF(ISNUMBER(MATCH(R$1,$B8:$C8,0)),0,R7+1) -> 6 | S8: =IF(ISNUMBER(MATCH(S$1,$B8:$C8,0)),0,S7+1) -> 0 | T8: =IF(ISNUMBER(MATCH(T$1,$B8:$C8,0)),0,T7+1) -> 6 | U8: =IF(ISNUMBER(MATCH(U$1,$B8:$C8,0)),0,U7+1) -> 1 | V8: =IF(ISNUMBER(MATCH(V$1,$B8:$C8,0)),0,V7+1) -> 6 | W8: =IF(ISNUMBER(MATCH(W$1,$B8:$C8,0)),0,W7+1) -> 6 | ... AI8: =IF(ISNUMBER(MATCH(AI$1,$B8:$C8,0)),0,AI7+1) -> 6
A9: 43562 | B9: 10 | C9: 16 | D9: 3 | E9: 2 | F9: 11 | H9: 10 | I9: 2 | J9: 4 | K9: 1 | L9: 6 | P9: =IF(ISNUMBER(MATCH(P$1,$B9:$C9,0)),0,P8+1) -> 5 | Q9: =IF(ISNUMBER(MATCH(Q$1,$B9:$C9,0)),0,Q8+1) -> 3 | R9: =IF(ISNUMBER(MATCH(R$1,$B9:$C9,0)),0,R8+1) -> 7 | S9: =IF(ISNUMBER(MATCH(S$1,$B9:$C9,0)),0,S8+1) -> 1 | T9: =IF(ISNUMBER(MATCH(T$1,$B9:$C9,0)),0,T8+1) -> 7 | U9: =IF(ISNUMBER(MATCH(U$1,$B9:$C9,0)),0,U8+1) -> 2 | V9: =IF(ISNUMBER(MATCH(V$1,$B9:$C9,0)),0,V8+1) -> 7 | W9: =IF(ISNUMBER(MATCH(W$1,$B9:$C9,0)),0,W8+1) -> 7 | ... AI9: =IF(ISNUMBER(MATCH(AI$1,$B9:$C9,0)),0,AI8+1) -> 7
A10: 43563 | B10: 16 | C10: 1 | D10: 5 | E10: 6 | F10: 14 | H10: 3 | I10: 11 | J10: 7 | K10: 1 | L10: 8 | P10: =IF(ISNUMBER(MATCH(P$1,$B10:$C10,0)),0,P9+1) -> 0 | Q10: =IF(ISNUMBER(MATCH(Q$1,$B10:$C10,0)),0,Q9+1) -> 4 | R10: =IF(ISNUMBER(MATCH(R$1,$B10:$C10,0)),0,R9+1) -> 8 | S10: =IF(ISNUMBER(MATCH(S$1,$B10:$C10,0)),0,S9+1) -> 2 | T10: =IF(ISNUMBER(MATCH(T$1,$B10:$C10,0)),0,T9+1) -> 8 | U10: =IF(ISNUMBER(MATCH(U$1,$B10:$C10,0)),0,U9+1) -> 3 | V10: =IF(ISNUMBER(MATCH(V$1,$B10:$C10,0)),0,V9+1) -> 8 | W10: =IF(ISNUMBER(MATCH(W$1,$B10:$C10,0)),0,W9+1) -> 8 | ... AI10: =IF(ISNUMBER(MATCH(AI$1,$B10:$C10,0)),0,AI9+1) -> 8
A11: 43564 | B11: 3 | C11: 1 | D11: 14 | E11: 12 | F11: 11 | H11: 15 | I11: 1 | J11: 5 | K11: 3 | L11: 11 | P11: =IF(ISNUMBER(MATCH(P$1,$B11:$C11,0)),0,P10+1) -> 0 | Q11: =IF(ISNUMBER(MATCH(Q$1,$B11:$C11,0)),0,Q10+1) -> 5 | R11: =IF(ISNUMBER(MATCH(R$1,$B11:$C11,0)),0,R10+1) -> 0 | S11: =IF(ISNUMBER(MATCH(S$1,$B11:$C11,0)),0,S10+1) -> 3 | T11: =IF(ISNUMBER(MATCH(T$1,$B11:$C11,0)),0,T10+1) -> 9 | U11: =IF(ISNUMBER(MATCH(U$1,$B11:$C11,0)),0,U10+1) -> 4 | V11: =IF(ISNUMBER(MATCH(V$1,$B11:$C11,0)),0,V10+1) -> 9 | W11: =IF(ISNUMBER(MATCH(W$1,$B11:$C11,0)),0,W10+1) -> 9 | ... AI11: =IF(ISNUMBER(MATCH(AI$1,$B11:$C11,0)),0,AI10+1) -> 9
A12: 43565 | B12: 6 | C12: 12 | D12: 2 | E12: 11 | F12: 3 | H12: 6 | I12: 12 | J12: 13 | K12: 5 | L12: 8 | P12: =IF(ISNUMBER(MATCH(P$1,$B12:$C12,0)),0,P11+1) -> 1 | Q12: =IF(ISNUMBER(MATCH(Q$1,$B12:$C12,0)),0,Q11+1) -> 6 | R12: =IF(ISNUMBER(MATCH(R$1,$B12:$C12,0)),0,R11+1) -> 1 | S12: =IF(ISNUMBER(MATCH(S$1,$B12:$C12,0)),0,S11+1) -> 4 | T12: =IF(ISNUMBER(MATCH(T$1,$B12:$C12,0)),0,T11+1) -> 10 | U12: =IF(ISNUMBER(MATCH(U$1,$B12:$C12,0)),0,U11+1) -> 0 | V12: =IF(ISNUMBER(MATCH(V$1,$B12:$C12,0)),0,V11+1) -> 10 | W12: =IF(ISNUMBER(MATCH(W$1,$B12:$C12,0)),0,W11+1) -> 10 | ... AI12: =IF(ISNUMBER(MATCH(AI$1,$B12:$C12,0)),0,AI11+1) -> 10
A13: 43566 | B13: 8 | C13: 7 | D13: 9 | E13: 15 | F13: 11 | H13: 8 | I13: 12 | J13: 9 | K13: 15 | L13: 4 | P13: =IF(ISNUMBER(MATCH(P$1,$B13:$C13,0)),0,P12+1) -> 2 | Q13: =IF(ISNUMBER(MATCH(Q$1,$B13:$C13,0)),0,Q12+1) -> 7 | R13: =IF(ISNUMBER(MATCH(R$1,$B13:$C13,0)),0,R12+1) -> 2 | S13: =IF(ISNUMBER(MATCH(S$1,$B13:$C13,0)),0,S12+1) -> 5 | T13: =IF(ISNUMBER(MATCH(T$1,$B13:$C13,0)),0,T12+1) -> 11 | U13: =IF(ISNUMBER(MATCH(U$1,$B13:$C13,0)),0,U12+1) -> 1 | V13: =IF(ISNUMBER(MATCH(V$1,$B13:$C13,0)),0,V12+1) -> 0 | W13: =IF(ISNUMBER(MATCH(W$1,$B13:$C13,0)),0,W12+1) -> 0 | ... AI13: =IF(ISNUMBER(MATCH(AI$1,$B13:$C13,0)),0,AI12+1) -> 11
A14: 43567 | B14: 15 | C14: 13 | D14: 6 | E14: 10 | F14: 8 | H14: 15 | I14: 6 | J14: 8 | K14: 13 | L14: 11 | P14: =IF(ISNUMBER(MATCH(P$1,$B14:$C14,0)),0,P13+1) -> 3 | Q14: =IF(ISNUMBER(MATCH(Q$1,$B14:$C14,0)),0,Q13+1) -> 8 | R14: =IF(ISNUMBER(MATCH(R$1,$B14:$C14,0)),0,R13+1) -> 3 | S14: =IF(ISNUMBER(MATCH(S$1,$B14:$C14,0)),0,S13+1) -> 6 | T14: =IF(ISNUMBER(MATCH(T$1,$B14:$C14,0)),0,T13+1) -> 12 | U14: =IF(ISNUMBER(MATCH(U$1,$B14:$C14,0)),0,U13+1) -> 2 | V14: =IF(ISNUMBER(MATCH(V$1,$B14:$C14,0)),0,V13+1) -> 1 | W14: =IF(ISNUMBER(MATCH(W$1,$B14:$C14,0)),0,W13+1) -> 1 | ... AI14: =IF(ISNUMBER(MATCH(AI$1,$B14:$C14,0)),0,AI13+1) -> 12
... A34: 43587 | B34: 2 | C34: 10 | D34: 6 | E34: 17 | F34: 4 | H34: 6 | I34: 13 | J34: 18 | K34: 5 | L34: 4 | P34: =IF(ISNUMBER(MATCH(P$1,$B34:$C34,0)),0,P33+1) -> 3 | Q34: =IF(ISNUMBER(MATCH(Q$1,$B34:$C34,0)),0,Q33+1) -> 0 | R34: =IF(ISNUMBER(MATCH(R$1,$B34:$C34,0)),0,R33+1) -> 7 | S34: =IF(ISNUMBER(MATCH(S$1,$B34:$C34,0)),0,S33+1) -> 14 | T34: =IF(ISNUMBER(MATCH(T$1,$B34:$C34,0)),0,T33+1) -> 8 | U34: =IF(ISNUMBER(MATCH(U$1,$B34:$C34,0)),0,U33+1) -> 1 | V34: =IF(ISNUMBER(MATCH(V$1,$B34:$C34,0)),0,V33+1) -> 5 | W34: =IF(ISNUMBER(MATCH(W$1,$B34:$C34,0)),0,W33+1) -> 10 | ... AI34: =IF(ISNUMBER(MATCH(AI$1,$B34:$C34,0)),0,AI33+1) -> 32
A35: 43588 | B35: 8 | C35: 5 | D35: 6 | E35: 12 | F35: 1/11 | H35: 8 | I35: 11 | J35: 12 | K35: 1 | L35: 4 | P35: =IF(ISNUMBER(MATCH(P$1,$B35:$C35,0)),0,P34+1) -> 4 | Q35: =IF(ISNUMBER(MATCH(Q$1,$B35:$C35,0)),0,Q34+1) -> 1 | R35: =IF(ISNUMBER(MATCH(R$1,$B35:$C35,0)),0,R34+1) -> 8 | S35: =IF(ISNUMBER(MATCH(S$1,$B35:$C35,0)),0,S34+1) -> 15 | T35: =IF(ISNUMBER(MATCH(T$1,$B35:$C35,0)),0,T34+1) -> 0 | U35: =IF(ISNUMBER(MATCH(U$1,$B35:$C35,0)),0,U34+1) -> 2 | V35: =IF(ISNUMBER(MATCH(V$1,$B35:$C35,0)),0,V34+1) -> 6 | W35: =IF(ISNUMBER(MATCH(W$1,$B35:$C35,0)),0,W34+1) -> 0 | ... AI35: =IF(ISNUMBER(MATCH(AI$1,$B35:$C35,0)),0,AI34+1) -> 33
A36: 43589 | B36: 6 | C36: 15 | D36: 14 | E36: 1 | F36: 16 | H36: 16 | I36: 1 | J36: 12 | K36: 9 | L36: 4 | P36: =IF(ISNUMBER(MATCH(P$1,$B36:$C36,0)),0,P35+1) -> 5 | Q36: =IF(ISNUMBER(MATCH(Q$1,$B36:$C36,0)),0,Q35+1) -> 2 | R36: =IF(ISNUMBER(MATCH(R$1,$B36:$C36,0)),0,R35+1) -> 9 | S36: =IF(ISNUMBER(MATCH(S$1,$B36:$C36,0)),0,S35+1) -> 16 | T36: =IF(ISNUMBER(MATCH(T$1,$B36:$C36,0)),0,T35+1) -> 1 | U36: =IF(ISNUMBER(MATCH(U$1,$B36:$C36,0)),0,U35+1) -> 0 | V36: =IF(ISNUMBER(MATCH(V$1,$B36:$C36,0)),0,V35+1) -> 7 | W36: =IF(ISNUMBER(MATCH(W$1,$B36:$C36,0)),0,W35+1) -> 1 | ... AI36: =IF(ISNUMBER(MATCH(AI$1,$B36:$C36,0)),0,AI35+1) -> 34
A37: 43590 | B37: 15 | C37: 4 | D37: 12 | E37: 2 | F37: 6 | H37: 15 | I37: 9 | J37: 16 | K37: 8 | L37: 12 | P37: =IF(ISNUMBER(MATCH(P$1,$B37:$C37,0)),0,P36+1) -> 6 | Q37: =IF(ISNUMBER(MATCH(Q$1,$B37:$C37,0)),0,Q36+1) -> 3 | R37: =IF(ISNUMBER(MATCH(R$1,$B37:$C37,0)),0,R36+1) -> 10 | S37: =IF(ISNUMBER(MATCH(S$1,$B37:$C37,0)),0,S36+1) -> 0 | T37: =IF(ISNUMBER(MATCH(T$1,$B37:$C37,0)),0,T36+1) -> 2 | U37: =IF(ISNUMBER(MATCH(U$1,$B37:$C37,0)),0,U36+1) -> 1 | V37: =IF(ISNUMBER(MATCH(V$1,$B37:$C37,0)),0,V36+1) -> 8 | W37: =IF(ISNUMBER(MATCH(W$1,$B37:$C37,0)),0,W36+1) -> 2 | ... AI37: =IF(ISNUMBER(MATCH(AI$1,$B37:$C37,0)),0,AI36+1) -> 35
A38: 43591 | B38: 14 | C38: 10 | D38: 13 | E38: 2 | F38: 9 | H38: 8 | I38: 3 | J38: 4 | K38: 10 | L38: 13 | P38: =IF(ISNUMBER(MATCH(P$1,$B38:$C38,0)),0,P37+1) -> 7 | Q38: =IF(ISNUMBER(MATCH(Q$1,$B38:$C38,0)),0,Q37+1) -> 4 | R38: =IF(ISNUMBER(MATCH(R$1,$B38:$C38,0)),0,R37+1) -> 11 | S38: =IF(ISNUMBER(MATCH(S$1,$B38:$C38,0)),0,S37+1) -> 1 | T38: =IF(ISNUMBER(MATCH(T$1,$B38:$C38,0)),0,T37+1) -> 3 | U38: =IF(ISNUMBER(MATCH(U$1,$B38:$C38,0)),0,U37+1) -> 2 | V38: =IF(ISNUMBER(MATCH(V$1,$B38:$C38,0)),0,V37+1) -> 9 | W38: =IF(ISNUMBER(MATCH(W$1,$B38:$C38,0)),0,W37+1) -> 3 | ... AI38: =IF(ISNUMBER(MATCH(AI$1,$B38:$C38,0)),0,AI37+1) -> 36
A39: 43592 | B39: 12 | C39: 13 | D39: 4 | E39: 5 | F39: 11 | H39: 4 | I39: 12 | J39: 5 | K39: 2 | L39: 1 | P39: =IF(ISNUMBER(MATCH(P$1,$B39:$C39,0)),0,P38+1) -> 8 | Q39: =IF(ISNUMBER(MATCH(Q$1,$B39:$C39,0)),0,Q38+1) -> 5 | R39: =IF(ISNUMBER(MATCH(R$1,$B39:$C39,0)),0,R38+1) -> 12 | S39: =IF(ISNUMBER(MATCH(S$1,$B39:$C39,0)),0,S38+1) -> 2 | T39: =IF(ISNUMBER(MATCH(T$1,$B39:$C39,0)),0,T38+1) -> 4 | U39: =IF(ISNUMBER(MATCH(U$1,$B39:$C39,0)),0,U38+1) -> 3 | V39: =IF(ISNUMBER(MATCH(V$1,$B39:$C39,0)),0,V38+1) -> 10 | W39: =IF(ISNUMBER(MATCH(W$1,$B39:$C39,0)),0,W38+1) -> 4 | ... AI39: =IF(ISNUMBER(MATCH(AI$1,$B39:$C39,0)),0,AI38+1) -> 37
A40: 43593 | B40: 15 | C40: 5 | D40: 10 | E40: 12 | F40: 8 | H40: 6 | I40: 11 | J40: 1 | K40: 8 | L40: 10 | P40: =IF(ISNUMBER(MATCH(P$1,$B40:$C40,0)),0,P39+1) -> 9 | Q40: =IF(ISNUMBER(MATCH(Q$1,$B40:$C40,0)),0,Q39+1) -> 6 | R40: =IF(ISNUMBER(MATCH(R$1,$B40:$C40,0)),0,R39+1) -> 13 | S40: =IF(ISNUMBER(MATCH(S$1,$B40:$C40,0)),0,S39+1) -> 3 | T40: =IF(ISNUMBER(MATCH(T$1,$B40:$C40,0)),0,T39+1) -> 0 | U40: =IF(ISNUMBER(MATCH(U$1,$B40:$C40,0)),0,U39+1) -> 4 | V40: =IF(ISNUMBER(MATCH(V$1,$B40:$C40,0)),0,V39+1) -> 11 | W40: =IF(ISNUMBER(MATCH(W$1,$B40:$C40,0)),0,W39+1) -> 5 | ... AI40: =IF(ISNUMBER(MATCH(AI$1,$B40:$C40,0)),0,AI39+1) -> 38
A41: 43594 | B41: 4 | C41: 10 | D41: 6 | E41: 5 | F41: 14 | H41: 11 | I41: 1 | J41: 4 | K41: 10 | L41: 6 | P41: =IF(ISNUMBER(MATCH(P$1,$B41:$C41,0)),0,P40+1) -> 10 | Q41: =IF(ISNUMBER(MATCH(Q$1,$B41:$C41,0)),0,Q40+1) -> 7 | R41: =IF(ISNUMBER(MATCH(R$1,$B41:$C41,0)),0,R40+1) -> 14 | S41: =IF(ISNUMBER(MATCH(S$1,$B41:$C41,0)),0,S40+1) -> 0 | T41: =IF(ISNUMBER(MATCH(T$1,$B41:$C41,0)),0,T40+1) -> 1 | U41: =IF(ISNUMBER(MATCH(U$1,$B41:$C41,0)),0,U40+1) -> 5 | V41: =IF(ISNUMBER(MATCH(V$1,$B41:$C41,0)),0,V40+1) -> 12 | W41: =IF(ISNUMBER(MATCH(W$1,$B41:$C41,0)),0,W40+1) -> 6 | ... AI41: =IF(ISNUMBER(MATCH(AI$1,$B41:$C41,0)),0,AI40+1) -> 39
A42: 43595 | B42: 9 | C42: 4 | D42: 1 | E42: 11 | F42: 12 | H42: 7 | I42: 4 | J42: 1 | K42: 12 | L42: 6 | P42: =IF(ISNUMBER(MATCH(P$1,$B42:$C42,0)),0,P41+1) -> 11 | Q42: =IF(ISNUMBER(MATCH(Q$1,$B42:$C42,0)),0,Q41+1) -> 8 | R42: =IF(ISNUMBER(MATCH(R$1,$B42:$C42,0)),0,R41+1) -> 15 | S42: =IF(ISNUMBER(MATCH(S$1,$B42:$C42,0)),0,S41+1) -> 0 | T42: =IF(ISNUMBER(MATCH(T$1,$B42:$C42,0)),0,T41+1) -> 2 | U42: =IF(ISNUMBER(MATCH(U$1,$B42:$C42,0)),0,U41+1) -> 6 | V42: =IF(ISNUMBER(MATCH(V$1,$B42:$C42,0)),0,V41+1) -> 13 | W42: =IF(ISNUMBER(MATCH(W$1,$B42:$C42,0)),0,W41+1) -> 7 | ... AI42: =IF(ISNUMBER(MATCH(AI$1,$B42:$C42,0)),0,AI41+1) -> 40
A43: 43596 | B43: 10 | C43: 2 | D43: 8 | E43: 4 | F43: 12 | H43: 2 | I43: 5 | J43: 8 | K43: 3 | L43: 6 | P43: =IF(ISNUMBER(MATCH(P$1,$B43:$C43,0)),0,P42+1) -> 12 | Q43: =IF(ISNUMBER(MATCH(Q$1,$B43:$C43,0)),0,Q42+1) -> 0 | R43: =IF(ISNUMBER(MATCH(R$1,$B43:$C43,0)),0,R42+1) -> 16 | S43: =IF(ISNUMBER(MATCH(S$1,$B43:$C43,0)),0,S42+1) -> 1 | T43: =IF(ISNUMBER(MATCH(T$1,$B43:$C43,0)),0,T42+1) -> 3 | U43: =IF(ISNUMBER(MATCH(U$1,$B43:$C43,0)),0,U42+1) -> 7 | V43: =IF(ISNUMBER(MATCH(V$1,$B43:$C43,0)),0,V42+1) -> 14 | W43: =IF(ISNUMBER(MATCH(W$1,$B43:$C43,0)),0,W42+1) -> 8 | ... AI43: =IF(ISNUMBER(MATCH(AI$1,$B43:$C43,0)),0,AI42+1) -> 41
A44: 43597 | B44: 9 | C44: 11 | D44: 5 | E44: 2 | F44: 14 | H44: 9 | I44: 5 | J44: 2 | K44: 3 | L44: 8 | P44: =IF(ISNUMBER(MATCH(P$1,$B44:$C44,0)),0,P43+1) -> 13 | Q44: =IF(ISNUMBER(MATCH(Q$1,$B44:$C44,0)),0,Q43+1) -> 1 | R44: =IF(ISNUMBER(MATCH(R$1,$B44:$C44,0)),0,R43+1) -> 17 | S44: =IF(ISNUMBER(MATCH(S$1,$B44:$C44,0)),0,S43+1) -> 2 | T44: =IF(ISNUMBER(MATCH(T$1,$B44:$C44,0)),0,T43+1) -> 4 | U44: =IF(ISNUMBER(MATCH(U$1,$B44:$C44,0)),0,U43+1) -> 8 | V44: =IF(ISNUMBER(MATCH(V$1,$B44:$C44,0)),0,V43+1) -> 15 | W44: =IF(ISNUMBER(MATCH(W$1,$B44:$C44,0)),0,W43+1) -> 9 | ... AI44: =IF(ISNUMBER(MATCH(AI$1,$B44:$C44,0)),0,AI43+1) -> 42
A45: 43598 | B45: 14 | C45: 9 | D45: 10 | E45: 8 | F45: 11 | H45: 3 | I45: 9 | J45: 10 | K45: 2 | L45: 7 | P45: =IF(ISNUMBER(MATCH(P$1,$B45:$C45,0)),0,P44+1) -> 14 | Q45: =IF(ISNUMBER(MATCH(Q$1,$B45:$C45,0)),0,Q44+1) -> 2 | R45: =IF(ISNUMBER(MATCH(R$1,$B45:$C45,0)),0,R44+1) -> 18 | S45: =IF(ISNUMBER(MATCH(S$1,$B45:$C45,0)),0,S44+1) -> 3 | T45: =IF(ISNUMBER(MATCH(T$1,$B45:$C45,0)),0,T44+1) -> 5 | U45: =IF(ISNUMBER(MATCH(U$1,$B45:$C45,0)),0,U44+1) -> 9 | V45: =IF(ISNUMBER(MATCH(V$1,$B45:$C45,0)),0,V44+1) -> 16 | W45: =IF(ISNUMBER(MATCH(W$1,$B45:$C45,0)),0,W44+1) -> 10 | ... AI45: =IF(ISNUMBER(MATCH(AI$1,$B45:$C45,0)),0,AI44+1) -> 43
A46: 43599 | B46: 14 | C46: 5 | D46: 16 | E46: 9 | F46: 2 | H46: 15 | I46: 10 | J46: 14 | K46: 18 | L46: 16 | P46: =IF(ISNUMBER(MATCH(P$1,$B46:$C46,0)),0,P45+1) -> 15 | Q46: =IF(ISNUMBER(MATCH(Q$1,$B46:$C46,0)),0,Q45+1) -> 3 | R46: =IF(ISNUMBER(MATCH(R$1,$B46:$C46,0)),0,R45+1) -> 19 | S46: =IF(ISNUMBER(MATCH(S$1,$B46:$C46,0)),0,S45+1) -> 4 | T46: =IF(ISNUMBER(MATCH(T$1,$B46:$C46,0)),0,T45+1) -> 0 | U46: =IF(ISNUMBER(MATCH(U$1,$B46:$C46,0)),0,U45+1) -> 10 | V46: =IF(ISNUMBER(MATCH(V$1,$B46:$C46,0)),0,V45+1) -> 17 | W46: =IF(ISNUMBER(MATCH(W$1,$B46:$C46,0)),0,W45+1) -> 11 | ... AI46: =IF(ISNUMBER(MATCH(AI$1,$B46:$C46,0)),0,AI45+1) -> 44
... A66: 43619 | B66: 1 | C66: 8 | D66: 14 | E66: 6 | F66: 9 | H66: 5 | I66: 8 | J66: 3 | K66: 1 | L66: 12 | P66: =IF(ISNUMBER(MATCH(P$1,$B66:$C66,0)),0,P65+1) -> 0 | Q66: =IF(ISNUMBER(MATCH(Q$1,$B66:$C66,0)),0,Q65+1) -> 9 | R66: =IF(ISNUMBER(MATCH(R$1,$B66:$C66,0)),0,R65+1) -> 19 | S66: =IF(ISNUMBER(MATCH(S$1,$B66:$C66,0)),0,S65+1) -> 2 | T66: =IF(ISNUMBER(MATCH(T$1,$B66:$C66,0)),0,T65+1) -> 5 | U66: =IF(ISNUMBER(MATCH(U$1,$B66:$C66,0)),0,U65+1) -> 1 | V66: =IF(ISNUMBER(MATCH(V$1,$B66:$C66,0)),0,V65+1) -> 8 | W66: =IF(ISNUMBER(MATCH(W$1,$B66:$C66,0)),0,W65+1) -> 0 | ... AI66: =IF(ISNUMBER(MATCH(AI$1,$B66:$C66,0)),0,AI65+1) -> 64
A67: 43620 | B67: 11 | C67: 9 | D67: 3 | E67: 4 | F67: 6 | H67: 2 np | I67: 8 np | J67: 4 | K67: 3 | L67: 6 | P67: =IF(ISNUMBER(MATCH(P$1,$B67:$C67,0)),0,P66+1) -> 1 | Q67: =IF(ISNUMBER(MATCH(Q$1,$B67:$C67,0)),0,Q66+1) -> 10 | R67: =IF(ISNUMBER(MATCH(R$1,$B67:$C67,0)),0,R66+1) -> 20 | S67: =IF(ISNUMBER(MATCH(S$1,$B67:$C67,0)),0,S66+1) -> 3 | T67: =IF(ISNUMBER(MATCH(T$1,$B67:$C67,0)),0,T66+1) -> 6 | U67: =IF(ISNUMBER(MATCH(U$1,$B67:$C67,0)),0,U66+1) -> 2 | V67: =IF(ISNUMBER(MATCH(V$1,$B67:$C67,0)),0,V66+1) -> 9 | W67: =IF(ISNUMBER(MATCH(W$1,$B67:$C67,0)),0,W66+1) -> 1 | ... AI67: =IF(ISNUMBER(MATCH(AI$1,$B67:$C67,0)),0,AI66+1) -> 65
A68: 43621 | B68: 1 | C68: 10 | D68: 11 | E68: 2 | F68: 16 | H68: 10 | I68: 1 | J68: 2 | K68: 16 | L68: 12 | P68: =IF(ISNUMBER(MATCH(P$1,$B68:$C68,0)),0,P67+1) -> 0 | Q68: =IF(ISNUMBER(MATCH(Q$1,$B68:$C68,0)),0,Q67+1) -> 11 | R68: =IF(ISNUMBER(MATCH(R$1,$B68:$C68,0)),0,R67+1) -> 21 | S68: =IF(ISNUMBER(MATCH(S$1,$B68:$C68,0)),0,S67+1) -> 4 | T68: =IF(ISNUMBER(MATCH(T$1,$B68:$C68,0)),0,T67+1) -> 7 | U68: =IF(ISNUMBER(MATCH(U$1,$B68:$C68,0)),0,U67+1) -> 3 | V68: =IF(ISNUMBER(MATCH(V$1,$B68:$C68,0)),0,V67+1) -> 10 | W68: =IF(ISNUMBER(MATCH(W$1,$B68:$C68,0)),0,W67+1) -> 2 | ... AI68: =IF(ISNUMBER(MATCH(AI$1,$B68:$C68,0)),0,AI67+1) -> 66
A69: 43622 | B69: 13 | C69: 2 | D69: 12 | E69: 10 | F69: 5 | H69: 10 | I69: 3 | J69: 12 | K69: 5 | L69: 8 | P69: =IF(ISNUMBER(MATCH(P$1,$B69:$C69,0)),0,P68+1) -> 1 | Q69: =IF(ISNUMBER(MATCH(Q$1,$B69:$C69,0)),0,Q68+1) -> 0 | R69: =IF(ISNUMBER(MATCH(R$1,$B69:$C69,0)),0,R68+1) -> 22 | S69: =IF(ISNUMBER(MATCH(S$1,$B69:$C69,0)),0,S68+1) -> 5 | T69: =IF(ISNUMBER(MATCH(T$1,$B69:$C69,0)),0,T68+1) -> 8 | U69: =IF(ISNUMBER(MATCH(U$1,$B69:$C69,0)),0,U68+1) -> 4 | V69: =IF(ISNUMBER(MATCH(V$1,$B69:$C69,0)),0,V68+1) -> 11 | W69: =IF(ISNUMBER(MATCH(W$1,$B69:$C69,0)),0,W68+1) -> 3 | ... AI69: =IF(ISNUMBER(MATCH(AI$1,$B69:$C69,0)),0,AI68+1) -> 67
A70: 43623 | B70: 10 | C70: 8 | D70: 5 | E70: 6 | F70: 13 | H70: 6 | I70: 10 | J70: 4 | K70: 12 | L70: 13 | P70: =IF(ISNUMBER(MATCH(P$1,$B70:$C70,0)),0,P69+1) -> 2 | Q70: =IF(ISNUMBER(MATCH(Q$1,$B70:$C70,0)),0,Q69+1) -> 1 | R70: =IF(ISNUMBER(MATCH(R$1,$B70:$C70,0)),0,R69+1) -> 23 | S70: =IF(ISNUMBER(MATCH(S$1,$B70:$C70,0)),0,S69+1) -> 6 | T70: =IF(ISNUMBER(MATCH(T$1,$B70:$C70,0)),0,T69+1) -> 9 | U70: =IF(ISNUMBER(MATCH(U$1,$B70:$C70,0)),0,U69+1) -> 5 | V70: =IF(ISNUMBER(MATCH(V$1,$B70:$C70,0)),0,V69+1) -> 12 | W70: =IF(ISNUMBER(MATCH(W$1,$B70:$C70,0)),0,W69+1) -> 0 | ... AI70: =IF(ISNUMBER(MATCH(AI$1,$B70:$C70,0)),0,AI69+1) -> 68
A71: 43624 | B71: 12 | C71: 9 | D71: 7 | E71: 11 | F71: 15 | H71: 9 | I71: 7 | J71: 2 | K71: 11 | L71: 6 | P71: =IF(ISNUMBER(MATCH(P$1,$B71:$C71,0)),0,P70+1) -> 3 | Q71: =IF(ISNUMBER(MATCH(Q$1,$B71:$C71,0)),0,Q70+1) -> 2 | R71: =IF(ISNUMBER(MATCH(R$1,$B71:$C71,0)),0,R70+1) -> 24 | S71: =IF(ISNUMBER(MATCH(S$1,$B71:$C71,0)),0,S70+1) -> 7 | T71: =IF(ISNUMBER(MATCH(T$1,$B71:$C71,0)),0,T70+1) -> 10 | U71: =IF(ISNUMBER(MATCH(U$1,$B71:$C71,0)),0,U70+1) -> 6 | V71: =IF(ISNUMBER(MATCH(V$1,$B71:$C71,0)),0,V70+1) -> 13 | W71: =IF(ISNUMBER(MATCH(W$1,$B71:$C71,0)),0,W70+1) -> 1 | ... AI71: =IF(ISNUMBER(MATCH(AI$1,$B71:$C71,0)),0,AI70+1) -> 69
A72: 43625 | B72: 12 | C72: 9 | D72: 10 | E72: 11 | F72: 7 | H72: 9 | I72: 5 | J72: 10 | K72: 14 | L72: 16 | P72: =IF(ISNUMBER(MATCH(P$1,$B72:$C72,0)),0,P71+1) -> 4 | Q72: =IF(ISNUMBER(MATCH(Q$1,$B72:$C72,0)),0,Q71+1) -> 3 | R72: =IF(ISNUMBER(MATCH(R$1,$B72:$C72,0)),0,R71+1) -> 25 | S72: =IF(ISNUMBER(MATCH(S$1,$B72:$C72,0)),0,S71+1) -> 8 | T72: =IF(ISNUMBER(MATCH(T$1,$B72:$C72,0)),0,T71+1) -> 11 | U72: =IF(ISNUMBER(MATCH(U$1,$B72:$C72,0)),0,U71+1) -> 7 | V72: =IF(ISNUMBER(MATCH(V$1,$B72:$C72,0)),0,V71+1) -> 14 | W72: =IF(ISNUMBER(MATCH(W$1,$B72:$C72,0)),0,W71+1) -> 2 | ... AI72: =IF(ISNUMBER(MATCH(AI$1,$B72:$C72,0)),0,AI71+1) -> 70
A73: 43626 | B73: 2 | C73: 10 | D73: 9 | E73: 13 | F73: 4 | H73: 4 | I73: 1 | J73: 10 | K73: 2 | L73: 9 | P73: =IF(ISNUMBER(MATCH(P$1,$B73:$C73,0)),0,P72+1) -> 5 | Q73: =IF(ISNUMBER(MATCH(Q$1,$B73:$C73,0)),0,Q72+1) -> 0 | R73: =IF(ISNUMBER(MATCH(R$1,$B73:$C73,0)),0,R72+1) -> 26 | S73: =IF(ISNUMBER(MATCH(S$1,$B73:$C73,0)),0,S72+1) -> 9 | T73: =IF(ISNUMBER(MATCH(T$1,$B73:$C73,0)),0,T72+1) -> 12 | U73: =IF(ISNUMBER(MATCH(U$1,$B73:$C73,0)),0,U72+1) -> 8 | V73: =IF(ISNUMBER(MATCH(V$1,$B73:$C73,0)),0,V72+1) -> 15 | W73: =IF(ISNUMBER(MATCH(W$1,$B73:$C73,0)),0,W72+1) -> 3 | ... AI73: =IF(ISNUMBER(MATCH(AI$1,$B73:$C73,0)),0,AI72+1) -> 71
A74: 43627 | B74: 15 | C74: 7 | D74: 2 | E74: 13 | F74: 6 | H74: 6 | I74: 16 | J74: 15 | K74: 1 | L74: 9 | P74: =IF(ISNUMBER(MATCH(P$1,$B74:$C74,0)),0,P73+1) -> 6 | Q74: =IF(ISNUMBER(MATCH(Q$1,$B74:$C74,0)),0,Q73+1) -> 1 | R74: =IF(ISNUMBER(MATCH(R$1,$B74:$C74,0)),0,R73+1) -> 27 | S74: =IF(ISNUMBER(MATCH(S$1,$B74:$C74,0)),0,S73+1) -> 10 | T74: =IF(ISNUMBER(MATCH(T$1,$B74:$C74,0)),0,T73+1) -> 13 | U74: =IF(ISNUMBER(MATCH(U$1,$B74:$C74,0)),0,U73+1) -> 9 | V74: =IF(ISNUMBER(MATCH(V$1,$B74:$C74,0)),0,V73+1) -> 0 | W74: =IF(ISNUMBER(MATCH(W$1,$B74:$C74,0)),0,W73+1) -> 4 | ... AI74: =IF(ISNUMBER(MATCH(AI$1,$B74:$C74,0)),0,AI73+1) -> 72
A75: 43628 | B75: 4 | C75: 15 | D75: 2 | E75: 16 | F75: 14 | H75: 9 | I75: 3 | J75: 6 | K75: 2 | L75: 5 | P75: =IF(ISNUMBER(MATCH(P$1,$B75:$C75,0)),0,P74+1) -> 7 | Q75: =IF(ISNUMBER(MATCH(Q$1,$B75:$C75,0)),0,Q74+1) -> 2 | R75: =IF(ISNUMBER(MATCH(R$1,$B75:$C75,0)),0,R74+1) -> 28 | S75: =IF(ISNUMBER(MATCH(S$1,$B75:$C75,0)),0,S74+1) -> 0 | T75: =IF(ISNUMBER(MATCH(T$1,$B75:$C75,0)),0,T74+1) -> 14 | U75: =IF(ISNUMBER(MATCH(U$1,$B75:$C75,0)),0,U74+1) -> 10 | V75: =IF(ISNUMBER(MATCH(V$1,$B75:$C75,0)),0,V74+1) -> 1 | W75: =IF(ISNUMBER(MATCH(W$1,$B75:$C75,0)),0,W74+1) -> 5 | ... AI75: =IF(ISNUMBER(MATCH(AI$1,$B75:$C75,0)),0,AI74+1) -> 73
A76: 43629 | B76: 7 | C76: 11 | D76: 4 | E76: 14 | F76: 3 | H76: 1 | I76: 7 | J76: 11 | K76: 10 | L76: 3 | P76: =IF(ISNUMBER(MATCH(P$1,$B76:$C76,0)),0,P75+1) -> 8 | Q76: =IF(ISNUMBER(MATCH(Q$1,$B76:$C76,0)),0,Q75+1) -> 3 | R76: =IF(ISNUMBER(MATCH(R$1,$B76:$C76,0)),0,R75+1) -> 29 | S76: =IF(ISNUMBER(MATCH(S$1,$B76:$C76,0)),0,S75+1) -> 1 | T76: =IF(ISNUMBER(MATCH(T$1,$B76:$C76,0)),0,T75+1) -> 15 | U76: =IF(ISNUMBER(MATCH(U$1,$B76:$C76,0)),0,U75+1) -> 11 | V76: =IF(ISNUMBER(MATCH(V$1,$B76:$C76,0)),0,V75+1) -> 0 | W76: =IF(ISNUMBER(MATCH(W$1,$B76:$C76,0)),0,W75+1) -> 6 | ... AI76: =IF(ISNUMBER(MATCH(AI$1,$B76:$C76,0)),0,AI75+1) -> 74
A77: 43630 | B77: 8 | C77: 4 | D77: 6 | E77: 1 | F77: 12 | H77: 9 | I77: 8 | J77: 1 | K77: 7 | L77: 11 | P77: =IF(ISNUMBER(MATCH(P$1,$B77:$C77,0)),0,P76+1) -> 9 | Q77: =IF(ISNUMBER(MATCH(Q$1,$B77:$C77,0)),0,Q76+1) -> 4 | R77: =IF(ISNUMBER(MATCH(R$1,$B77:$C77,0)),0,R76+1) -> 30 | S77: =IF(ISNUMBER(MATCH(S$1,$B77:$C77,0)),0,S76+1) -> 0 | T77: =IF(ISNUMBER(MATCH(T$1,$B77:$C77,0)),0,T76+1) -> 16 | U77: =IF(ISNUMBER(MATCH(U$1,$B77:$C77,0)),0,U76+1) -> 12 | V77: =IF(ISNUMBER(MATCH(V$1,$B77:$C77,0)),0,V76+1) -> 1 | W77: =IF(ISNUMBER(MATCH(W$1,$B77:$C77,0)),0,W76+1) -> 0 | ... AI77: =IF(ISNUMBER(MATCH(AI$1,$B77:$C77,0)),0,AI76+1) -> 75
A78: 43631 | B78: 12 | C78: 13 | D78: 5 | E78: 7 | F78: 2 | H78: 9 | I78: 13 | J78: 4 | K78: 2 | L78: 7 | P78: =IF(ISNUMBER(MATCH(P$1,$B78:$C78,0)),0,P77+1) -> 10 | Q78: =IF(ISNUMBER(MATCH(Q$1,$B78:$C78,0)),0,Q77+1) -> 5 | R78: =IF(ISNUMBER(MATCH(R$1,$B78:$C78,0)),0,R77+1) -> 31 | S78: =IF(ISNUMBER(MATCH(S$1,$B78:$C78,0)),0,S77+1) -> 1 | T78: =IF(ISNUMBER(MATCH(T$1,$B78:$C78,0)),0,T77+1) -> 17 | U78: =IF(ISNUMBER(MATCH(U$1,$B78:$C78,0)),0,U77+1) -> 13 | V78: =IF(ISNUMBER(MATCH(V$1,$B78:$C78,0)),0,V77+1) -> 2 | W78: =IF(ISNUMBER(MATCH(W$1,$B78:$C78,0)),0,W77+1) -> 1 | ... AI78: =IF(ISNUMBER(MATCH(AI$1,$B78:$C78,0)),0,AI77+1) -> 76
A79: 43632 | B79: 4 | C79: 16 | D79: 1 | E79: 7 | F79: 10 | H79: 3 | I79: 16 | J79: 4 | K79: 10 | L79: 2 | P79: =IF(ISNUMBER(MATCH(P$1,$B79:$C79,0)),0,P78+1) -> 11 | Q79: =IF(ISNUMBER(MATCH(Q$1,$B79:$C79,0)),0,Q78+1) -> 6 | R79: =IF(ISNUMBER(MATCH(R$1,$B79:$C79,0)),0,R78+1) -> 32 | S79: =IF(ISNUMBER(MATCH(S$1,$B79:$C79,0)),0,S78+1) -> 0 | T79: =IF(ISNUMBER(MATCH(T$1,$B79:$C79,0)),0,T78+1) -> 18 | U79: =IF(ISNUMBER(MATCH(U$1,$B79:$C79,0)),0,U78+1) -> 14 | V79: =IF(ISNUMBER(MATCH(V$1,$B79:$C79,0)),0,V78+1) -> 3 | W79: =IF(ISNUMBER(MATCH(W$1,$B79:$C79,0)),0,W78+1) -> 2 | ... AI79: =IF(ISNUMBER(MATCH(AI$1,$B79:$C79,0)),0,AI78+1) -> 77
... A184: 43737 | B184: 13 | C184: 5 | D184: 1 | E184: 8 | F184: 4 | H184: 10 | I184: 1 | J184: 13 | K184: 9 | L184: 12 | P184: =IF(ISNUMBER(MATCH(P$1,$B184:$C184,0)),0,P183+1) -> 1 | Q184: =IF(ISNUMBER(MATCH(Q$1,$B184:$C184,0)),0,Q183+1) -> 27 | R184: =IF(ISNUMBER(MATCH(R$1,$B184:$C184,0)),0,R183+1) -> 5 | S184: =IF(ISNUMBER(MATCH(S$1,$B184:$C184,0)),0,S183+1) -> 5 | T184: =IF(ISNUMBER(MATCH(T$1,$B184:$C184,0)),0,T183+1) -> 0 | U184: =IF(ISNUMBER(MATCH(U$1,$B184:$C184,0)),0,U183+1) -> 3 | V184: =IF(ISNUMBER(MATCH(V$1,$B184:$C184,0)),0,V183+1) -> 1 | W184: =IF(ISNUMBER(MATCH(W$1,$B184:$C184,0)),0,W183+1) -> 11 | ... AI184: =IF(ISNUMBER(MATCH(AI$1,$B184:$C184,0)),0,AI183+1) -> 182
A185: 43738 | B185: 15 | C185: 7 | D185: 13 | E185: 11 | F185: 16 | G185: T | H185: 12 | I185: 11 | J185: 7 | K185: 13 | L185: 4 | P185: =IF(ISNUMBER(MATCH(P$1,$B185:$C185,0)),0,P184+1) -> 2 | Q185: =IF(ISNUMBER(MATCH(Q$1,$B185:$C185,0)),0,Q184+1) -> 28 | R185: =IF(ISNUMBER(MATCH(R$1,$B185:$C185,0)),0,R184+1) -> 6 | S185: =IF(ISNUMBER(MATCH(S$1,$B185:$C185,0)),0,S184+1) -> 6 | T185: =IF(ISNUMBER(MATCH(T$1,$B185:$C185,0)),0,T184+1) -> 1 | U185: =IF(ISNUMBER(MATCH(U$1,$B185:$C185,0)),0,U184+1) -> 4 | V185: =IF(ISNUMBER(MATCH(V$1,$B185:$C185,0)),0,V184+1) -> 0 | W185: =IF(ISNUMBER(MATCH(W$1,$B185:$C185,0)),0,W184+1) -> 12 | ... AI185: =IF(ISNUMBER(MATCH(AI$1,$B185:$C185,0)),0,AI184+1) -> 183
A186: 43739 | B186: 6 | C186: 13 | D186: 10 | E186: 3 | F186: 5 | G186: P | H186: 6 | I186: 13 | J186: 2 | K186: 5 | L186: 9 | P186: =IF(ISNUMBER(MATCH(P$1,$B186:$C186,0)),0,P185+1) -> 3 | Q186: =IF(ISNUMBER(MATCH(Q$1,$B186:$C186,0)),0,Q185+1) -> 29 | R186: =IF(ISNUMBER(MATCH(R$1,$B186:$C186,0)),0,R185+1) -> 7 | S186: =IF(ISNUMBER(MATCH(S$1,$B186:$C186,0)),0,S185+1) -> 7 | T186: =IF(ISNUMBER(MATCH(T$1,$B186:$C186,0)),0,T185+1) -> 2 | U186: =IF(ISNUMBER(MATCH(U$1,$B186:$C186,0)),0,U185+1) -> 0 | V186: =IF(ISNUMBER(MATCH(V$1,$B186:$C186,0)),0,V185+1) -> 1 | W186: =IF(ISNUMBER(MATCH(W$1,$B186:$C186,0)),0,W185+1) -> 13 | ... AI186: =IF(ISNUMBER(MATCH(AI$1,$B186:$C186,0)),0,AI185+1) -> 184
A187: 43740 | B187: 15 | C187: 5 | D187: 13 | E187: 8 | F187: 1 | G187: T | H187: 15 | I187: 13 | J187: 5 | K187: 8 | L187: 1 | P187: =IF(ISNUMBER(MATCH(P$1,$B187:$C187,0)),0,P186+1) -> 4 | Q187: =IF(ISNUMBER(MATCH(Q$1,$B187:$C187,0)),0,Q186+1) -> 30 | R187: =IF(ISNUMBER(MATCH(R$1,$B187:$C187,0)),0,R186+1) -> 8 | S187: =IF(ISNUMBER(MATCH(S$1,$B187:$C187,0)),0,S186+1) -> 8 | T187: =IF(ISNUMBER(MATCH(T$1,$B187:$C187,0)),0,T186+1) -> 0 | U187: =IF(ISNUMBER(MATCH(U$1,$B187:$C187,0)),0,U186+1) -> 1 | V187: =IF(ISNUMBER(MATCH(V$1,$B187:$C187,0)),0,V186+1) -> 2 | W187: =IF(ISNUMBER(MATCH(W$1,$B187:$C187,0)),0,W186+1) -> 14 | ... AI187: =IF(ISNUMBER(MATCH(AI$1,$B187:$C187,0)),0,AI186+1) -> 185
A188: 43741 | B188: 2 | C188: 15 | D188: 12 | E188: 5 | F188: 9 | G188: O | H188: 10 | I188: 2 | J188: 12 | K188: 4 | L188: 7 | P188: =IF(ISNUMBER(MATCH(P$1,$B188:$C188,0)),0,P187+1) -> 5 | Q188: =IF(ISNUMBER(MATCH(Q$1,$B188:$C188,0)),0,Q187+1) -> 0 | R188: =IF(ISNUMBER(MATCH(R$1,$B188:$C188,0)),0,R187+1) -> 9 | S188: =IF(ISNUMBER(MATCH(S$1,$B188:$C188,0)),0,S187+1) -> 9 | T188: =IF(ISNUMBER(MATCH(T$1,$B188:$C188,0)),0,T187+1) -> 1 | U188: =IF(ISNUMBER(MATCH(U$1,$B188:$C188,0)),0,U187+1) -> 2 | V188: =IF(ISNUMBER(MATCH(V$1,$B188:$C188,0)),0,V187+1) -> 3 | W188: =IF(ISNUMBER(MATCH(W$1,$B188:$C188,0)),0,W187+1) -> 15 | ... AI188: =IF(ISNUMBER(MATCH(AI$1,$B188:$C188,0)),0,AI187+1) -> 186
A189: 43742 | B189: 14 | C189: 4 | D189: 11 | E189: 12 | F189: 3 | G189: T | H189: 6 | I189: 3 | J189: 14 | K189: 4 | L189: 5 | P189: =IF(ISNUMBER(MATCH(P$1,$B189:$C189,0)),0,P188+1) -> 6 | Q189: =IF(ISNUMBER(MATCH(Q$1,$B189:$C189,0)),0,Q188+1) -> 1 | R189: =IF(ISNUMBER(MATCH(R$1,$B189:$C189,0)),0,R188+1) -> 10 | S189: =IF(ISNUMBER(MATCH(S$1,$B189:$C189,0)),0,S188+1) -> 0 | T189: =IF(ISNUMBER(MATCH(T$1,$B189:$C189,0)),0,T188+1) -> 2 | U189: =IF(ISNUMBER(MATCH(U$1,$B189:$C189,0)),0,U188+1) -> 3 | V189: =IF(ISNUMBER(MATCH(V$1,$B189:$C189,0)),0,V188+1) -> 4 | W189: =IF(ISNUMBER(MATCH(W$1,$B189:$C189,0)),0,W188+1) -> 16 | ... AI189: =IF(ISNUMBER(MATCH(AI$1,$B189:$C189,0)),0,AI188+1) -> 187
A190: 43743 | B190: 13 | C190: 5 | D190: 4 | E190: 10 | F190: 3 | G190: P | H190: 4 | I190: 11 | J190: 14 | K190: 3 | L190: 7 | P190: =IF(ISNUMBER(MATCH(P$1,$B190:$C190,0)),0,P189+1) -> 7 | Q190: =IF(ISNUMBER(MATCH(Q$1,$B190:$C190,0)),0,Q189+1) -> 2 | R190: =IF(ISNUMBER(MATCH(R$1,$B190:$C190,0)),0,R189+1) -> 11 | S190: =IF(ISNUMBER(MATCH(S$1,$B190:$C190,0)),0,S189+1) -> 1 | T190: =IF(ISNUMBER(MATCH(T$1,$B190:$C190,0)),0,T189+1) -> 0 | U190: =IF(ISNUMBER(MATCH(U$1,$B190:$C190,0)),0,U189+1) -> 4 | V190: =IF(ISNUMBER(MATCH(V$1,$B190:$C190,0)),0,V189+1) -> 5 | W190: =IF(ISNUMBER(MATCH(W$1,$B190:$C190,0)),0,W189+1) -> 17 | ... AI190: =IF(ISNUMBER(MATCH(AI$1,$B190:$C190,0)),0,AI189+1) -> 188
A191: 43744 | B191: 2 | C191: 8 | D191: 12 | E191: 10 | F191: 9 | G191: P | H191: 8 | I191: 12 | J191: 10 | K191: 9 | L191: 2 | P191: =IF(ISNUMBER(MATCH(P$1,$B191:$C191,0)),0,P190+1) -> 8 | Q191: =IF(ISNUMBER(MATCH(Q$1,$B191:$C191,0)),0,Q190+1) -> 0 | R191: =IF(ISNUMBER(MATCH(R$1,$B191:$C191,0)),0,R190+1) -> 12 | S191: =IF(ISNUMBER(MATCH(S$1,$B191:$C191,0)),0,S190+1) -> 2 | T191: =IF(ISNUMBER(MATCH(T$1,$B191:$C191,0)),0,T190+1) -> 1 | U191: =IF(ISNUMBER(MATCH(U$1,$B191:$C191,0)),0,U190+1) -> 5 | V191: =IF(ISNUMBER(MATCH(V$1,$B191:$C191,0)),0,V190+1) -> 6 | W191: =IF(ISNUMBER(MATCH(W$1,$B191:$C191,0)),0,W190+1) -> 0 | ... AI191: =IF(ISNUMBER(MATCH(AI$1,$B191:$C191,0)),0,AI190+1) -> 189
A192: 43745 | B192: 1 | C192: 4 | D192: 12 | E192: 11 | F192: 3 | G192: T | H192: 6 | I192: 1 | J192: 3 | K192: 12 | L192: 2 | P192: =IF(ISNUMBER(MATCH(P$1,$B192:$C192,0)),0,P191+1) -> 0 | Q192: =IF(ISNUMBER(MATCH(Q$1,$B192:$C192,0)),0,Q191+1) -> 1 | R192: =IF(ISNUMBER(MATCH(R$1,$B192:$C192,0)),0,R191+1) -> 13 | S192: =IF(ISNUMBER(MATCH(S$1,$B192:$C192,0)),0,S191+1) -> 0 | T192: =IF(ISNUMBER(MATCH(T$1,$B192:$C192,0)),0,T191+1) -> 2 | U192: =IF(ISNUMBER(MATCH(U$1,$B192:$C192,0)),0,U191+1) -> 6 | V192: =IF(ISNUMBER(MATCH(V$1,$B192:$C192,0)),0,V191+1) -> 7 | W192: =IF(ISNUMBER(MATCH(W$1,$B192:$C192,0)),0,W191+1) -> 1 | ... AI192: =IF(ISNUMBER(MATCH(AI$1,$B192:$C192,0)),0,AI191+1) -> 190
A193: 43746 | B193: 2 | C193: 10 | D193: 8 | E193: 12 | F193: 7 | G193: P | H193: 6 | I193: 9 | J193: 3 | K193: 16 | L193: 8 | P193: =IF(ISNUMBER(MATCH(P$1,$B193:$C193,0)),0,P192+1) -> 1 | Q193: =IF(ISNUMBER(MATCH(Q$1,$B193:$C193,0)),0,Q192+1) -> 0 | R193: =IF(ISNUMBER(MATCH(R$1,$B193:$C193,0)),0,R192+1) -> 14 | S193: =IF(ISNUMBER(MATCH(S$1,$B193:$C193,0)),0,S192+1) -> 1 | T193: =IF(ISNUMBER(MATCH(T$1,$B193:$C193,0)),0,T192+1) -> 3 | U193: =IF(ISNUMBER(MATCH(U$1,$B193:$C193,0)),0,U192+1) -> 7 | V193: =IF(ISNUMBER(MATCH(V$1,$B193:$C193,0)),0,V192+1) -> 8 | W193: =IF(ISNUMBER(MATCH(W$1,$B193:$C193,0)),0,W192+1) -> 2 | ... AI193: =IF(ISNUMBER(MATCH(AI$1,$B193:$C193,0)),0,AI192+1) -> 191
A194: 43747 | B194: 5 | C194: 14 | D194: 13 | E194: 8 | F194: 3 | G194: T | H194: 15 | I194: 11 | J194: 5 | K194: 2 | L194: 1 | P194: =IF(ISNUMBER(MATCH(P$1,$B194:$C194,0)),0,P193+1) -> 2 | Q194: =IF(ISNUMBER(MATCH(Q$1,$B194:$C194,0)),0,Q193+1) -> 1 | R194: =IF(ISNUMBER(MATCH(R$1,$B194:$C194,0)),0,R193+1) -> 15 | S194: =IF(ISNUMBER(MATCH(S$1,$B194:$C194,0)),0,S193+1) -> 2 | T194: =IF(ISNUMBER(MATCH(T$1,$B194:$C194,0)),0,T193+1) -> 0 | U194: =IF(ISNUMBER(MATCH(U$1,$B194:$C194,0)),0,U193+1) -> 8 | V194: =IF(ISNUMBER(MATCH(V$1,$B194:$C194,0)),0,V193+1) -> 9 | W194: =IF(ISNUMBER(MATCH(W$1,$B194:$C194,0)),0,W193+1) -> 3 | ... AI194: =IF(ISNUMBER(MATCH(AI$1,$B194:$C194,0)),0,AI193+1) -> 192
A195: 43748 | B195: 2 | C195: 15 | D195: 10 | E195: 4 | F195: 7 | G195: P | H195: 5 | I195: 10 | J195: 15 | K195: 8 | L195: 3 | P195: =IF(ISNUMBER(MATCH(P$1,$B195:$C195,0)),0,P194+1) -> 3 | Q195: =IF(ISNUMBER(MATCH(Q$1,$B195:$C195,0)),0,Q194+1) -> 0 | R195: =IF(ISNUMBER(MATCH(R$1,$B195:$C195,0)),0,R194+1) -> 16 | S195: =IF(ISNUMBER(MATCH(S$1,$B195:$C195,0)),0,S194+1) -> 3 | T195: =IF(ISNUMBER(MATCH(T$1,$B195:$C195,0)),0,T194+1) -> 1 | U195: =IF(ISNUMBER(MATCH(U$1,$B195:$C195,0)),0,U194+1) -> 9 | V195: =IF(ISNUMBER(MATCH(V$1,$B195:$C195,0)),0,V194+1) -> 10 | W195: =IF(ISNUMBER(MATCH(W$1,$B195:$C195,0)),0,W194+1) -> 4 | ... AI195: =IF(ISNUMBER(MATCH(AI$1,$B195:$C195,0)),0,AI194+1) -> 193
A196: 43749 | B196: 1 | C196: 6 | D196: 2 | E196: 10 | F196: 5 | G196: T | H196: 1 | I196: 5 | J196: 6 | K196: 9 | L196: 8 | P196: =IF(ISNUMBER(MATCH(P$1,$B196:$C196,0)),0,P195+1) -> 0 | Q196: =IF(ISNUMBER(MATCH(Q$1,$B196:$C196,0)),0,Q195+1) -> 1 | R196: =IF(ISNUMBER(MATCH(R$1,$B196:$C196,0)),0,R195+1) -> 17 | S196: =IF(ISNUMBER(MATCH(S$1,$B196:$C196,0)),0,S195+1) -> 4 | T196: =IF(ISNUMBER(MATCH(T$1,$B196:$C196,0)),0,T195+1) -> 2 | U196: =IF(ISNUMBER(MATCH(U$1,$B196:$C196,0)),0,U195+1) -> 0 | V196: =IF(ISNUMBER(MATCH(V$1,$B196:$C196,0)),0,V195+1) -> 11 | W196: =IF(ISNUMBER(MATCH(W$1,$B196:$C196,0)),0,W195+1) -> 5 | ... AI196: =IF(ISNUMBER(MATCH(AI$1,$B196:$C196,0)),0,AI195+1) -> 194
... A215: 43768 | B215: 12 | C215: 7 | D215: 11 | E215: 10 | F215: 5 | G215: T | H215: 12 | I215: 10 | J215: 9 | K215: 13 | L215: 4 | P215: =IF(ISNUMBER(MATCH(P$1,$B215:$C215,0)),0,P214+1) -> 2 | Q215: =IF(ISNUMBER(MATCH(Q$1,$B215:$C215,0)),0,Q214+1) -> 4 | R215: =IF(ISNUMBER(MATCH(R$1,$B215:$C215,0)),0,R214+1) -> 7 | S215: =IF(ISNUMBER(MATCH(S$1,$B215:$C215,0)),0,S214+1) -> 5 | T215: =IF(ISNUMBER(MATCH(T$1,$B215:$C215,0)),0,T214+1) -> 10 | U215: =IF(ISNUMBER(MATCH(U$1,$B215:$C215,0)),0,U214+1) -> 1 | V215: =IF(ISNUMBER(MATCH(V$1,$B215:$C215,0)),0,V214+1) -> 0 | W215: =IF(ISNUMBER(MATCH(W$1,$B215:$C215,0)),0,W214+1) -> 2 | ... AI215: =IF(ISNUMBER(MATCH(AI$1,$B215:$C215,0)),0,AI214+1) -> 213
A216: 43769 | B216: 8 | C216: 3 | D216: 7 | E216: 10 | F216: 1 | G216: P | H216: 8 | I216: 3 | J216: 2 | K216: 1 | L216: 6 | M216: 1 | P216: =IF(ISNUMBER(MATCH(P$1,$B216:$C216,0)),0,P215+1) -> 3 | Q216: =IF(ISNUMBER(MATCH(Q$1,$B216:$C216,0)),0,Q215+1) -> 5 | R216: =IF(ISNUMBER(MATCH(R$1,$B216:$C216,0)),0,R215+1) -> 0 | S216: =IF(ISNUMBER(MATCH(S$1,$B216:$C216,0)),0,S215+1) -> 6 | T216: =IF(ISNUMBER(MATCH(T$1,$B216:$C216,0)),0,T215+1) -> 11 | U216: =IF(ISNUMBER(MATCH(U$1,$B216:$C216,0)),0,U215+1) -> 2 | V216: =IF(ISNUMBER(MATCH(V$1,$B216:$C216,0)),0,V215+1) -> 1 | W216: =IF(ISNUMBER(MATCH(W$1,$B216:$C216,0)),0,W215+1) -> 0 | ... AI216: =IF(ISNUMBER(MATCH(AI$1,$B216:$C216,0)),0,AI215+1) -> 214
A217: 43770 | B217: 9 | C217: 4 | D217: 2 | E217: 12 | F217: 13 | G217: O | H217: 2 | I217: 4 | J217: 1 | K217: 5 | L217: 6 | M217: 1 | P217: =IF(ISNUMBER(MATCH(P$1,$B217:$C217,0)),0,P216+1) -> 4 | Q217: =IF(ISNUMBER(MATCH(Q$1,$B217:$C217,0)),0,Q216+1) -> 6 | R217: =IF(ISNUMBER(MATCH(R$1,$B217:$C217,0)),0,R216+1) -> 1 | S217: =IF(ISNUMBER(MATCH(S$1,$B217:$C217,0)),0,S216+1) -> 0 | T217: =IF(ISNUMBER(MATCH(T$1,$B217:$C217,0)),0,T216+1) -> 12 | U217: =IF(ISNUMBER(MATCH(U$1,$B217:$C217,0)),0,U216+1) -> 3 | V217: =IF(ISNUMBER(MATCH(V$1,$B217:$C217,0)),0,V216+1) -> 2 | W217: =IF(ISNUMBER(MATCH(W$1,$B217:$C217,0)),0,W216+1) -> 1 | ... AI217: =IF(ISNUMBER(MATCH(AI$1,$B217:$C217,0)),0,AI216+1) -> 215
A218: 43771 | B218: 2 | C218: 5 | D218: 13 | E218: 6 | F218: 12 | G218: O | H218: 3 | I218: 6 | J218: 11 | K218: 7 | L218: 10 | P218: =IF(ISNUMBER(MATCH(P$1,$B218:$C218,0)),0,P217+1) -> 5 | Q218: =IF(ISNUMBER(MATCH(Q$1,$B218:$C218,0)),0,Q217+1) -> 0 | R218: =IF(ISNUMBER(MATCH(R$1,$B218:$C218,0)),0,R217+1) -> 2 | S218: =IF(ISNUMBER(MATCH(S$1,$B218:$C218,0)),0,S217+1) -> 1 | T218: =IF(ISNUMBER(MATCH(T$1,$B218:$C218,0)),0,T217+1) -> 0 | U218: =IF(ISNUMBER(MATCH(U$1,$B218:$C218,0)),0,U217+1) -> 4 | V218: =IF(ISNUMBER(MATCH(V$1,$B218:$C218,0)),0,V217+1) -> 3 | W218: =IF(ISNUMBER(MATCH(W$1,$B218:$C218,0)),0,W217+1) -> 2 | ... AI218: =IF(ISNUMBER(MATCH(AI$1,$B218:$C218,0)),0,AI217+1) -> 216
A219: 43772 | B219: 16 | C219: 12 | D219: 5 | E219: 10 | F219: 13 | G219: O | H219: 9 | I219: 12 | J219: 7 | K219: 6 | L219: 1 | P219: =IF(ISNUMBER(MATCH(P$1,$B219:$C219,0)),0,P218+1) -> 6 | Q219: =IF(ISNUMBER(MATCH(Q$1,$B219:$C219,0)),0,Q218+1) -> 1 | R219: =IF(ISNUMBER(MATCH(R$1,$B219:$C219,0)),0,R218+1) -> 3 | S219: =IF(ISNUMBER(MATCH(S$1,$B219:$C219,0)),0,S218+1) -> 2 | T219: =IF(ISNUMBER(MATCH(T$1,$B219:$C219,0)),0,T218+1) -> 1 | U219: =IF(ISNUMBER(MATCH(U$1,$B219:$C219,0)),0,U218+1) -> 5 | V219: =IF(ISNUMBER(MATCH(V$1,$B219:$C219,0)),0,V218+1) -> 4 | W219: =IF(ISNUMBER(MATCH(W$1,$B219:$C219,0)),0,W218+1) -> 3 | ... AI219: =IF(ISNUMBER(MATCH(AI$1,$B219:$C219,0)),0,AI218+1) -> 217
A220: 43773 | B220: 13 | C220: 2 | D220: 11 | E220: 7 | F220: 12 | G220: T | H220: 2 | I220: 11 | J220: 13 | K220: 12 | L220: 3 | M220: 3 | N220: 1 | P220: =IF(ISNUMBER(MATCH(P$1,$B220:$C220,0)),0,P219+1) -> 7 | Q220: =IF(ISNUMBER(MATCH(Q$1,$B220:$C220,0)),0,Q219+1) -> 0 | R220: =IF(ISNUMBER(MATCH(R$1,$B220:$C220,0)),0,R219+1) -> 4 | S220: =IF(ISNUMBER(MATCH(S$1,$B220:$C220,0)),0,S219+1) -> 3 | T220: =IF(ISNUMBER(MATCH(T$1,$B220:$C220,0)),0,T219+1) -> 2 | U220: =IF(ISNUMBER(MATCH(U$1,$B220:$C220,0)),0,U219+1) -> 6 | V220: =IF(ISNUMBER(MATCH(V$1,$B220:$C220,0)),0,V219+1) -> 5 | W220: =IF(ISNUMBER(MATCH(W$1,$B220:$C220,0)),0,W219+1) -> 4 | ... AI220: =IF(ISNUMBER(MATCH(AI$1,$B220:$C220,0)),0,AI219+1) -> 218
A221: 43774 | B221: 4 | C221: 16 | D221: 7 | E221: 8 | F221: 11 | G221: P | H221: 2 | I221: 4 | J221: 13 | K221: 7 | L221: 1 | M221: 1 | P221: =IF(ISNUMBER(MATCH(P$1,$B221:$C221,0)),0,P220+1) -> 8 | Q221: =IF(ISNUMBER(MATCH(Q$1,$B221:$C221,0)),0,Q220+1) -> 1 | R221: =IF(ISNUMBER(MATCH(R$1,$B221:$C221,0)),0,R220+1) -> 5 | S221: =IF(ISNUMBER(MATCH(S$1,$B221:$C221,0)),0,S220+1) -> 0 | T221: =IF(ISNUMBER(MATCH(T$1,$B221:$C221,0)),0,T220+1) -> 3 | U221: =IF(ISNUMBER(MATCH(U$1,$B221:$C221,0)),0,U220+1) -> 7 | V221: =IF(ISNUMBER(MATCH(V$1,$B221:$C221,0)),0,V220+1) -> 6 | W221: =IF(ISNUMBER(MATCH(W$1,$B221:$C221,0)),0,W220+1) -> 5 | ... AI221: =IF(ISNUMBER(MATCH(AI$1,$B221:$C221,0)),0,AI220+1) -> 219
A222: 43775 | B222: 14 | C222: 2 | D222: 11 | E222: 10 | F222: 4 | G222: T | H222: 14 | I222: 11 | J222: 7 | K222: 2 | L222: 10 | M222: 3 | N222: 2 | P222: =IF(ISNUMBER(MATCH(P$1,$B222:$C222,0)),0,P221+1) -> 9 | Q222: =IF(ISNUMBER(MATCH(Q$1,$B222:$C222,0)),0,Q221+1) -> 0 | R222: =IF(ISNUMBER(MATCH(R$1,$B222:$C222,0)),0,R221+1) -> 6 | S222: =IF(ISNUMBER(MATCH(S$1,$B222:$C222,0)),0,S221+1) -> 1 | T222: =IF(ISNUMBER(MATCH(T$1,$B222:$C222,0)),0,T221+1) -> 4 | U222: =IF(ISNUMBER(MATCH(U$1,$B222:$C222,0)),0,U221+1) -> 8 | V222: =IF(ISNUMBER(MATCH(V$1,$B222:$C222,0)),0,V221+1) -> 7 | W222: =IF(ISNUMBER(MATCH(W$1,$B222:$C222,0)),0,W221+1) -> 6 | ... AI222: =IF(ISNUMBER(MATCH(AI$1,$B222:$C222,0)),0,AI221+1) -> 220
A223: 43776 | B223: 9 | C223: 2 | D223: 8 | E223: 10 | F223: 12 | G223: T | H223: 8 | I223: 1 | J223: 9 | K223: 5 | L223: 2 | M223: 3 | N223: 3 | P223: =IF(ISNUMBER(MATCH(P$1,$B223:$C223,0)),0,P222+1) -> 10 | Q223: =IF(ISNUMBER(MATCH(Q$1,$B223:$C223,0)),0,Q222+1) -> 0 | R223: =IF(ISNUMBER(MATCH(R$1,$B223:$C223,0)),0,R222+1) -> 7 | S223: =IF(ISNUMBER(MATCH(S$1,$B223:$C223,0)),0,S222+1) -> 2 | T223: =IF(ISNUMBER(MATCH(T$1,$B223:$C223,0)),0,T222+1) -> 5 | U223: =IF(ISNUMBER(MATCH(U$1,$B223:$C223,0)),0,U222+1) -> 9 | V223: =IF(ISNUMBER(MATCH(V$1,$B223:$C223,0)),0,V222+1) -> 8 | W223: =IF(ISNUMBER(MATCH(W$1,$B223:$C223,0)),0,W222+1) -> 7 | ... AI223: =IF(ISNUMBER(MATCH(AI$1,$B223:$C223,0)),0,AI222+1) -> 221
A224: 43777 | B224: 16 | C224: 6 | D224: 8 | E224: 14 | F224: 4 | G224: T | H224: 16 | I224: 5 | J224: 15 | K224: 11 | L224: 7 | P224: =IF(ISNUMBER(MATCH(P$1,$B224:$C224,0)),0,P223+1) -> 11 | Q224: =IF(ISNUMBER(MATCH(Q$1,$B224:$C224,0)),0,Q223+1) -> 1 | R224: =IF(ISNUMBER(MATCH(R$1,$B224:$C224,0)),0,R223+1) -> 8 | S224: =IF(ISNUMBER(MATCH(S$1,$B224:$C224,0)),0,S223+1) -> 3 | T224: =IF(ISNUMBER(MATCH(T$1,$B224:$C224,0)),0,T223+1) -> 6 | U224: =IF(ISNUMBER(MATCH(U$1,$B224:$C224,0)),0,U223+1) -> 0 | V224: =IF(ISNUMBER(MATCH(V$1,$B224:$C224,0)),0,V223+1) -> 9 | W224: =IF(ISNUMBER(MATCH(W$1,$B224:$C224,0)),0,W223+1) -> 8 | ... AI224: =IF(ISNUMBER(MATCH(AI$1,$B224:$C224,0)),0,AI223+1) -> 222
A225: 43778 | B225: 2 | C225: 9 | D225: 1 | E225: 12 | F225: 6 | G225: T | H225: 2 | I225: 8 | J225: 9 | K225: 6 | L225: 7 | M225: 1 | N225: 4 | P225: =IF(ISNUMBER(MATCH(P$1,$B225:$C225,0)),0,P224+1) -> 12 | Q225: =IF(ISNUMBER(MATCH(Q$1,$B225:$C225,0)),0,Q224+1) -> 0 | R225: =IF(ISNUMBER(MATCH(R$1,$B225:$C225,0)),0,R224+1) -> 9 | S225: =IF(ISNUMBER(MATCH(S$1,$B225:$C225,0)),0,S224+1) -> 4 | T225: =IF(ISNUMBER(MATCH(T$1,$B225:$C225,0)),0,T224+1) -> 7 | U225: =IF(ISNUMBER(MATCH(U$1,$B225:$C225,0)),0,U224+1) -> 1 | V225: =IF(ISNUMBER(MATCH(V$1,$B225:$C225,0)),0,V224+1) -> 10 | W225: =IF(ISNUMBER(MATCH(W$1,$B225:$C225,0)),0,W224+1) -> 9 | ... AI225: =IF(ISNUMBER(MATCH(AI$1,$B225:$C225,0)),0,AI224+1) -> 223
A226: 43779 | B226: 6 | C226: 3 | D226: 5 | E226: 11 | F226: 7 | G226: O | H226: 7 | I226: 1 | J226: 9 | K226: 6 | L226: 5 | M226: 1 | P226: =IF(ISNUMBER(MATCH(P$1,$B226:$C226,0)),0,P225+1) -> 13 | Q226: =IF(ISNUMBER(MATCH(Q$1,$B226:$C226,0)),0,Q225+1) -> 1 | R226: =IF(ISNUMBER(MATCH(R$1,$B226:$C226,0)),0,R225+1) -> 0 | S226: =IF(ISNUMBER(MATCH(S$1,$B226:$C226,0)),0,S225+1) -> 5 | T226: =IF(ISNUMBER(MATCH(T$1,$B226:$C226,0)),0,T225+1) -> 8 | U226: =IF(ISNUMBER(MATCH(U$1,$B226:$C226,0)),0,U225+1) -> 0 | V226: =IF(ISNUMBER(MATCH(V$1,$B226:$C226,0)),0,V225+1) -> 11 | W226: =IF(ISNUMBER(MATCH(W$1,$B226:$C226,0)),0,W225+1) -> 10 | ... AI226: =IF(ISNUMBER(MATCH(AI$1,$B226:$C226,0)),0,AI225+1) -> 224
A227: 43780 | B227: 6 | C227: 4 | D227: 2 | E227: 8 | F227: 5 | G227: P | H227: 2 | I227: 4 | J227: 10 | K227: 3 | L227: 6 | M227: 3 | N227: 5 | P227: =IF(ISNUMBER(MATCH(P$1,$B227:$C227,0)),0,P226+1) -> 14 | Q227: =IF(ISNUMBER(MATCH(Q$1,$B227:$C227,0)),0,Q226+1) -> 2 | R227: =IF(ISNUMBER(MATCH(R$1,$B227:$C227,0)),0,R226+1) -> 1 | S227: =IF(ISNUMBER(MATCH(S$1,$B227:$C227,0)),0,S226+1) -> 0 | T227: =IF(ISNUMBER(MATCH(T$1,$B227:$C227,0)),0,T226+1) -> 9 | U227: =IF(ISNUMBER(MATCH(U$1,$B227:$C227,0)),0,U226+1) -> 0 | V227: =IF(ISNUMBER(MATCH(V$1,$B227:$C227,0)),0,V226+1) -> 12 | W227: =IF(ISNUMBER(MATCH(W$1,$B227:$C227,0)),0,W226+1) -> 11 | ... AI227: =IF(ISNUMBER(MATCH(AI$1,$B227:$C227,0)),0,AI226+1) -> 225
A228: 43781 | B228: 14 | C228: 12 | D228: 16 | E228: 6 | F228: 5 | G228: T | H228: 14 | I228: 12 | J228: 16 | K228: 2 | L228: 3 | M228: 3 | N228: 6 | P228: =IF(ISNUMBER(MATCH(P$1,$B228:$C228,0)),0,P227+1) -> 15 | Q228: =IF(ISNUMBER(MATCH(Q$1,$B228:$C228,0)),0,Q227+1) -> 3 | R228: =IF(ISNUMBER(MATCH(R$1,$B228:$C228,0)),0,R227+1) -> 2 | S228: =IF(ISNUMBER(MATCH(S$1,$B228:$C228,0)),0,S227+1) -> 1 | T228: =IF(ISNUMBER(MATCH(T$1,$B228:$C228,0)),0,T227+1) -> 10 | U228: =IF(ISNUMBER(MATCH(U$1,$B228:$C228,0)),0,U227+1) -> 1 | V228: =IF(ISNUMBER(MATCH(V$1,$B228:$C228,0)),0,V227+1) -> 13 | W228: =IF(ISNUMBER(MATCH(W$1,$B228:$C228,0)),0,W227+1) -> 12 | ... AI228: =IF(ISNUMBER(MATCH(AI$1,$B228:$C228,0)),0,AI227+1) -> 226
A229: 43782 | B229: 8 | C229: 5 | D229: 15 | E229: 12 | F229: 6 | G229: P | H229: 5 | I229: 4 | J229: 2 | K229: 12 | L229: 1 | P229: =IF(ISNUMBER(MATCH(P$1,$B229:$C229,0)),0,P228+1) -> 16 | Q229: =IF(ISNUMBER(MATCH(Q$1,$B229:$C229,0)),0,Q228+1) -> 4 | R229: =IF(ISNUMBER(MATCH(R$1,$B229:$C229,0)),0,R228+1) -> 3 | S229: =IF(ISNUMBER(MATCH(S$1,$B229:$C229,0)),0,S228+1) -> 2 | T229: =IF(ISNUMBER(MATCH(T$1,$B229:$C229,0)),0,T228+1) -> 0 | U229: =IF(ISNUMBER(MATCH(U$1,$B229:$C229,0)),0,U228+1) -> 2 | V229: =IF(ISNUMBER(MATCH(V$1,$B229:$C229,0)),0,V228+1) -> 14 | W229: =IF(ISNUMBER(MATCH(W$1,$B229:$C229,0)),0,W228+1) -> 0 | ... AI229: =IF(ISNUMBER(MATCH(AI$1,$B229:$C229,0)),0,AI228+1) -> 227
A230: 43783 | B230: 3 | C230: 16 | D230: 13 | E230: 6 | F230: 8 | G230: T | H230: 3 | I230: 16 | J230: 8 | K230: 14 | L230: 13 | M230: 3 | N230: 1 | P230: =IF(ISNUMBER(MATCH(P$1,$B230:$C230,0)),0,P229+1) -> 17 | Q230: =IF(ISNUMBER(MATCH(Q$1,$B230:$C230,0)),0,Q229+1) -> 5 | R230: =IF(ISNUMBER(MATCH(R$1,$B230:$C230,0)),0,R229+1) -> 0 | S230: =IF(ISNUMBER(MATCH(S$1,$B230:$C230,0)),0,S229+1) -> 3 | T230: =IF(ISNUMBER(MATCH(T$1,$B230:$C230,0)),0,T229+1) -> 1 | U230: =IF(ISNUMBER(MATCH(U$1,$B230:$C230,0)),0,U229+1) -> 3 | V230: =IF(ISNUMBER(MATCH(V$1,$B230:$C230,0)),0,V229+1) -> 15 | W230: =IF(ISNUMBER(MATCH(W$1,$B230:$C230,0)),0,W229+1) -> 1 | ... AI230: =IF(ISNUMBER(MATCH(AI$1,$B230:$C230,0)),0,AI229+1) -> 228
A231: 43784 | B231: 13 | C231: 8 | D231: 15 | E231: 9 | F231: 5 | G231: T | H231: 11 | I231: 2 | J231: 13 | K231: 9 | L231: 16 | P231: =IF(ISNUMBER(MATCH(P$1,$B231:$C231,0)),0,P230+1) -> 18 | Q231: =IF(ISNUMBER(MATCH(Q$1,$B231:$C231,0)),0,Q230+1) -> 6 | R231: =IF(ISNUMBER(MATCH(R$1,$B231:$C231,0)),0,R230+1) -> 1 | S231: =IF(ISNUMBER(MATCH(S$1,$B231:$C231,0)),0,S230+1) -> 4 | T231: =IF(ISNUMBER(MATCH(T$1,$B231:$C231,0)),0,T230+1) -> 2 | U231: =IF(ISNUMBER(MATCH(U$1,$B231:$C231,0)),0,U230+1) -> 4 | V231: =IF(ISNUMBER(MATCH(V$1,$B231:$C231,0)),0,V230+1) -> 16 | W231: =IF(ISNUMBER(MATCH(W$1,$B231:$C231,0)),0,W230+1) -> 0 | ... AI231: =IF(ISNUMBER(MATCH(AI$1,$B231:$C231,0)),0,AI230+1) -> 229
A232: 43785 | B232: 8 | C232: 10 | D232: 2 | E232: 15 | F232: 4 | G232: O | H232: 8 | I232: 15 | J232: 6 | K232: 11 | L232: 10 | M232: 1 | N232: 1 | P232: =IF(ISNUMBER(MATCH(P$1,$B232:$C232,0)),0,P231+1) -> 19 | Q232: =IF(ISNUMBER(MATCH(Q$1,$B232:$C232,0)),0,Q231+1) -> 7 | R232: =IF(ISNUMBER(MATCH(R$1,$B232:$C232,0)),0,R231+1) -> 2 | S232: =IF(ISNUMBER(MATCH(S$1,$B232:$C232,0)),0,S231+1) -> 5 | T232: =IF(ISNUMBER(MATCH(T$1,$B232:$C232,0)),0,T231+1) -> 3 | U232: =IF(ISNUMBER(MATCH(U$1,$B232:$C232,0)),0,U231+1) -> 5 | V232: =IF(ISNUMBER(MATCH(V$1,$B232:$C232,0)),0,V231+1) -> 17 | W232: =IF(ISNUMBER(MATCH(W$1,$B232:$C232,0)),0,W231+1) -> 0 | ... AI232: =IF(ISNUMBER(MATCH(AI$1,$B232:$C232,0)),0,AI231+1) -> 230
A233: 43786 | B233: 11 | C233: 6 | D233: 7 | E233: 12 | F233: 8 | G233: T | H233: 11 | I233: 7 | J233: 8 | K233: 9 | L233: 2 | M233: 1 | P233: =IF(ISNUMBER(MATCH(P$1,$B233:$C233,0)),0,P232+1) -> 20 | Q233: =IF(ISNUMBER(MATCH(Q$1,$B233:$C233,0)),0,Q232+1) -> 8 | R233: =IF(ISNUMBER(MATCH(R$1,$B233:$C233,0)),0,R232+1) -> 3 | S233: =IF(ISNUMBER(MATCH(S$1,$B233:$C233,0)),0,S232+1) -> 6 | T233: =IF(ISNUMBER(MATCH(T$1,$B233:$C233,0)),0,T232+1) -> 4 | U233: =IF(ISNUMBER(MATCH(U$1,$B233:$C233,0)),0,U232+1) -> 0 | V233: =IF(ISNUMBER(MATCH(V$1,$B233:$C233,0)),0,V232+1) -> 18 | W233: =IF(ISNUMBER(MATCH(W$1,$B233:$C233,0)),0,W232+1) -> 1 | ... AI233: =IF(ISNUMBER(MATCH(AI$1,$B233:$C233,0)),0,AI232+1) -> 231
A234: 43787 | B234: 12 | C234: 10 | D234: 5 | E234: 4 | F234: 6 | G234: T | H234: 10 | I234: 12 | J234: 3 | K234: 7 | L234: 13 | M234: 1 | N234: 1 | P234: =IF(ISNUMBER(MATCH(P$1,$B234:$C234,0)),0,P233+1) -> 21 | Q234: =IF(ISNUMBER(MATCH(Q$1,$B234:$C234,0)),0,Q233+1) -> 9 | R234: =IF(ISNUMBER(MATCH(R$1,$B234:$C234,0)),0,R233+1) -> 4 | S234: =IF(ISNUMBER(MATCH(S$1,$B234:$C234,0)),0,S233+1) -> 7 | T234: =IF(ISNUMBER(MATCH(T$1,$B234:$C234,0)),0,T233+1) -> 5 | U234: =IF(ISNUMBER(MATCH(U$1,$B234:$C234,0)),0,U233+1) -> 1 | V234: =IF(ISNUMBER(MATCH(V$1,$B234:$C234,0)),0,V233+1) -> 19 | W234: =IF(ISNUMBER(MATCH(W$1,$B234:$C234,0)),0,W233+1) -> 2 | ... AI234: =IF(ISNUMBER(MATCH(AI$1,$B234:$C234,0)),0,AI233+1) -> 232
A235: 43788 | B235: 8 | C235: 15 | D235: 10 | E235: 12 | F235: 4 | G235: P | H235: 6 | I235: 1 | J235: 12 | K235: 8 | L235: 13 | P235: =IF(ISNUMBER(MATCH(P$1,$B235:$C235,0)),0,P234+1) -> 22 | Q235: =IF(ISNUMBER(MATCH(Q$1,$B235:$C235,0)),0,Q234+1) -> 10 | R235: =IF(ISNUMBER(MATCH(R$1,$B235:$C235,0)),0,R234+1) -> 5 | S235: =IF(ISNUMBER(MATCH(S$1,$B235:$C235,0)),0,S234+1) -> 8 | T235: =IF(ISNUMBER(MATCH(T$1,$B235:$C235,0)),0,T234+1) -> 6 | U235: =IF(ISNUMBER(MATCH(U$1,$B235:$C235,0)),0,U234+1) -> 2 | V235: =IF(ISNUMBER(MATCH(V$1,$B235:$C235,0)),0,V234+1) -> 20 | W235: =IF(ISNUMBER(MATCH(W$1,$B235:$C235,0)),0,W234+1) -> 0 | ... AI235: =IF(ISNUMBER(MATCH(AI$1,$B235:$C235,0)),0,AI234+1) -> 233
A236: 43789 | B236: 9 | C236: 12 | D236: 10 | E236: 5 | F236: 15 | G236: T | H236: 9 | I236: 4 | J236: 7 | K236: 8 | L236: 12 | M236: 1 | N236: 1 | P236: =IF(ISNUMBER(MATCH(P$1,$B236:$C236,0)),0,P235+1) -> 23 | Q236: =IF(ISNUMBER(MATCH(Q$1,$B236:$C236,0)),0,Q235+1) -> 11 | R236: =IF(ISNUMBER(MATCH(R$1,$B236:$C236,0)),0,R235+1) -> 6 | S236: =IF(ISNUMBER(MATCH(S$1,$B236:$C236,0)),0,S235+1) -> 9 | T236: =IF(ISNUMBER(MATCH(T$1,$B236:$C236,0)),0,T235+1) -> 7 | U236: =IF(ISNUMBER(MATCH(U$1,$B236:$C236,0)),0,U235+1) -> 3 | V236: =IF(ISNUMBER(MATCH(V$1,$B236:$C236,0)),0,V235+1) -> 21 | W236: =IF(ISNUMBER(MATCH(W$1,$B236:$C236,0)),0,W235+1) -> 1 | ... AI236: =IF(ISNUMBER(MATCH(AI$1,$B236:$C236,0)),0,AI235+1) -> 234
A237: 43790 | B237: 3 | C237: 9 | D237: 12 | E237: 14 | F237: 15 | G237: T | H237: 7 | I237: 12 | J237: 3 | K237: 4 | L237: 10 | M237: 1 | P237: =IF(ISNUMBER(MATCH(P$1,$B237:$C237,0)),0,P236+1) -> 24 | Q237: =IF(ISNUMBER(MATCH(Q$1,$B237:$C237,0)),0,Q236+1) -> 12 | R237: =IF(ISNUMBER(MATCH(R$1,$B237:$C237,0)),0,R236+1) -> 0 | S237: =IF(ISNUMBER(MATCH(S$1,$B237:$C237,0)),0,S236+1) -> 10 | T237: =IF(ISNUMBER(MATCH(T$1,$B237:$C237,0)),0,T236+1) -> 8 | U237: =IF(ISNUMBER(MATCH(U$1,$B237:$C237,0)),0,U236+1) -> 4 | V237: =IF(ISNUMBER(MATCH(V$1,$B237:$C237,0)),0,V236+1) -> 22 | W237: =IF(ISNUMBER(MATCH(W$1,$B237:$C237,0)),0,W236+1) -> 2 | ... AI237: =IF(ISNUMBER(MATCH(AI$1,$B237:$C237,0)),0,AI236+1) -> 235
A238: 43791 | B238: 8 | C238: 13 | D238: 3 | E238: 14 | F238: 5 | G238: T | H238: 6 | I238: 8 | J238: 10 | K238: 12 | L238: 14 | P238: =IF(ISNUMBER(MATCH(P$1,$B238:$C238,0)),0,P237+1) -> 25 | Q238: =IF(ISNUMBER(MATCH(Q$1,$B238:$C238,0)),0,Q237+1) -> 13 | R238: =IF(ISNUMBER(MATCH(R$1,$B238:$C238,0)),0,R237+1) -> 1 | S238: =IF(ISNUMBER(MATCH(S$1,$B238:$C238,0)),0,S237+1) -> 11 | T238: =IF(ISNUMBER(MATCH(T$1,$B238:$C238,0)),0,T237+1) -> 9 | U238: =IF(ISNUMBER(MATCH(U$1,$B238:$C238,0)),0,U237+1) -> 5 | V238: =IF(ISNUMBER(MATCH(V$1,$B238:$C238,0)),0,V237+1) -> 23 | W238: =IF(ISNUMBER(MATCH(W$1,$B238:$C238,0)),0,W237+1) -> 0 | ... AI238: =IF(ISNUMBER(MATCH(AI$1,$B238:$C238,0)),0,AI237+1) -> 236
A239: 43792 | B239: 8 | C239: 4 | D239: 12 | E239: 3 | F239: 10 | G239: T | H239: 3 | I239: 15 | J239: 9 | K239: 12 | L239: 4 | M239: 1 | P239: =IF(ISNUMBER(MATCH(P$1,$B239:$C239,0)),0,P238+1) -> 26 | Q239: =IF(ISNUMBER(MATCH(Q$1,$B239:$C239,0)),0,Q238+1) -> 14 | R239: =IF(ISNUMBER(MATCH(R$1,$B239:$C239,0)),0,R238+1) -> 2 | S239: =IF(ISNUMBER(MATCH(S$1,$B239:$C239,0)),0,S238+1) -> 0 | T239: =IF(ISNUMBER(MATCH(T$1,$B239:$C239,0)),0,T238+1) -> 10 | U239: =IF(ISNUMBER(MATCH(U$1,$B239:$C239,0)),0,U238+1) -> 6 | V239: =IF(ISNUMBER(MATCH(V$1,$B239:$C239,0)),0,V238+1) -> 24 | W239: =IF(ISNUMBER(MATCH(W$1,$B239:$C239,0)),0,W238+1) -> 0 | ... AI239: =IF(ISNUMBER(MATCH(AI$1,$B239:$C239,0)),0,AI238+1) -> 237
A240: 43793 | B240: 14 | C240: 2 | D240: 1 | E240: 16 | F240: 9 | G240: O | H240: 4 | I240: 8 | J240: 3 | K240: 6 | L240: 1 | P240: =IF(ISNUMBER(MATCH(P$1,$B240:$C240,0)),0,P239+1) -> 27 | Q240: =IF(ISNUMBER(MATCH(Q$1,$B240:$C240,0)),0,Q239+1) -> 0 | R240: =IF(ISNUMBER(MATCH(R$1,$B240:$C240,0)),0,R239+1) -> 3 | S240: =IF(ISNUMBER(MATCH(S$1,$B240:$C240,0)),0,S239+1) -> 1 | T240: =IF(ISNUMBER(MATCH(T$1,$B240:$C240,0)),0,T239+1) -> 11 | U240: =IF(ISNUMBER(MATCH(U$1,$B240:$C240,0)),0,U239+1) -> 7 | V240: =IF(ISNUMBER(MATCH(V$1,$B240:$C240,0)),0,V239+1) -> 25 | W240: =IF(ISNUMBER(MATCH(W$1,$B240:$C240,0)),0,W239+1) -> 1 | ... AI240: =IF(ISNUMBER(MATCH(AI$1,$B240:$C240,0)),0,AI239+1) -> 238
A241: 43794 | B241: 9 | C241: 2 | D241: 11 | E241: 10 | F241: 8 | G241: T | H241: 9 | I241: 11 | J241: 8 | K241: 3 | L241: 13 | M241: 1 | P241: =IF(ISNUMBER(MATCH(P$1,$B241:$C241,0)),0,P240+1) -> 28 | Q241: =IF(ISNUMBER(MATCH(Q$1,$B241:$C241,0)),0,Q240+1) -> 0 | R241: =IF(ISNUMBER(MATCH(R$1,$B241:$C241,0)),0,R240+1) -> 4 | S241: =IF(ISNUMBER(MATCH(S$1,$B241:$C241,0)),0,S240+1) -> 2 | T241: =IF(ISNUMBER(MATCH(T$1,$B241:$C241,0)),0,T240+1) -> 12 | U241: =IF(ISNUMBER(MATCH(U$1,$B241:$C241,0)),0,U240+1) -> 8 | V241: =IF(ISNUMBER(MATCH(V$1,$B241:$C241,0)),0,V240+1) -> 26 | W241: =IF(ISNUMBER(MATCH(W$1,$B241:$C241,0)),0,W240+1) -> 2 | ... AI241: =IF(ISNUMBER(MATCH(AI$1,$B241:$C241,0)),0,AI240+1) -> 239
A242: 43795 | B242: 15 | C242: 9 | D242: 12 | E242: 14 | F242: 8 | G242: P | H242: 16 | I242: 7 | J242: 5 | K242: 9 | L242: 11 | P242: =IF(ISNUMBER(MATCH(P$1,$B242:$C242,0)),0,P241+1) -> 29 | Q242: =IF(ISNUMBER(MATCH(Q$1,$B242:$C242,0)),0,Q241+1) -> 1 | R242: =IF(ISNUMBER(MATCH(R$1,$B242:$C242,0)),0,R241+1) -> 5 | S242: =IF(ISNUMBER(MATCH(S$1,$B242:$C242,0)),0,S241+1) -> 3 | T242: =IF(ISNUMBER(MATCH(T$1,$B242:$C242,0)),0,T241+1) -> 13 | U242: =IF(ISNUMBER(MATCH(U$1,$B242:$C242,0)),0,U241+1) -> 9 | V242: =IF(ISNUMBER(MATCH(V$1,$B242:$C242,0)),0,V241+1) -> 27 | W242: =IF(ISNUMBER(MATCH(W$1,$B242:$C242,0)),0,W241+1) -> 3 | ... AI242: =IF(ISNUMBER(MATCH(AI$1,$B242:$C242,0)),0,AI241+1) -> 240
A243: 43796 | G243: T | H243: 11 | I243: 10 | J243: 2 | K243: 5 | L243: 3 | P243: =IF($B243="","",IF(ISNUMBER(MATCH(P$1,$B243:$C243,0)),0,P242+1)) | Q243: =IF($B243="","",IF(ISNUMBER(MATCH(Q$1,$B243:$C243,0)),0,Q242+1)) | R243: =IF($B243="","",IF(ISNUMBER(MATCH(R$1,$B243:$C243,0)),0,R242+1)) | S243: =IF($B243="","",IF(ISNUMBER(MATCH(S$1,$B243:$C243,0)),0,S242+1)) | T243: =IF($B243="","",IF(ISNUMBER(MATCH(T$1,$B243:$C243,0)),0,T242+1)) | U243: =IF($B243="","",IF(ISNUMBER(MATCH(U$1,$B243:$C243,0)),0,U242+1)) | V243: =IF($B243="","",IF(ISNUMBER(MATCH(V$1,$B243:$C243,0)),0,V242+1)) | W243: =IF($B243="","",IF(ISNUMBER(MATCH(W$1,$B243:$C243,0)),0,W242+1)) | ... AI243: =IF($B243="","",IF(ISNUMBER(MATCH(AI$1,$B243:$C243,0)),0,AI242+1))
A244: 43797 | G244: P | H244: 3 | I244: 4 | J244: 12 | K244: 2 | L244: 1 | P244: =IF($B244="","",IF(ISNUMBER(MATCH(P$1,$B244:$C244,0)),0,P243+1)) | Q244: =IF($B244="","",IF(ISNUMBER(MATCH(Q$1,$B244:$C244,0)),0,Q243+1)) | R244: =IF($B244="","",IF(ISNUMBER(MATCH(R$1,$B244:$C244,0)),0,R243+1)) | S244: =IF($B244="","",IF(ISNUMBER(MATCH(S$1,$B244:$C244,0)),0,S243+1)) | T244: =IF($B244="","",IF(ISNUMBER(MATCH(T$1,$B244:$C244,0)),0,T243+1)) | U244: =IF($B244="","",IF(ISNUMBER(MATCH(U$1,$B244:$C244,0)),0,U243+1)) | V244: =IF($B244="","",IF(ISNUMBER(MATCH(V$1,$B244:$C244,0)),0,V243+1)) | W244: =IF($B244="","",IF(ISNUMBER(MATCH(W$1,$B244:$C244,0)),0,W243+1)) | ... AI244: =IF($B244="","",IF(ISNUMBER(MATCH(AI$1,$B244:$C244,0)),0,AI243+1))
A245: 43798 | P245: =IF($B245="","",IF(ISNUMBER(MATCH(P$1,$B245:$C245,0)),0,P244+1)) | Q245: =IF($B245="","",IF(ISNUMBER(MATCH(Q$1,$B245:$C245,0)),0,Q244+1)) | R245: =IF($B245="","",IF(ISNUMBER(MATCH(R$1,$B245:$C245,0)),0,R244+1)) | S245: =IF($B245="","",IF(ISNUMBER(MATCH(S$1,$B245:$C245,0)),0,S244+1)) | T245: =IF($B245="","",IF(ISNUMBER(MATCH(T$1,$B245:$C245,0)),0,T244+1)) | U245: =IF($B245="","",IF(ISNUMBER(MATCH(U$1,$B245:$C245,0)),0,U244+1)) | V245: =IF($B245="","",IF(ISNUMBER(MATCH(V$1,$B245:$C245,0)),0,V244+1)) | W245: =IF($B245="","",IF(ISNUMBER(MATCH(W$1,$B245:$C245,0)),0,W244+1)) | ... AI245: =IF($B245="","",IF(ISNUMBER(MATCH(AI$1,$B245:$C245,0)),0,AI244+1))
A246: 43799 | P246: =IF($B246="","",IF(ISNUMBER(MATCH(P$1,$B246:$C246,0)),0,P245+1)) | Q246: =IF($B246="","",IF(ISNUMBER(MATCH(Q$1,$B246:$C246,0)),0,Q245+1)) | R246: =IF($B246="","",IF(ISNUMBER(MATCH(R$1,$B246:$C246,0)),0,R245+1)) | S246: =IF($B246="","",IF(ISNUMBER(MATCH(S$1,$B246:$C246,0)),0,S245+1)) | T246: =IF($B246="","",IF(ISNUMBER(MATCH(T$1,$B246:$C246,0)),0,T245+1)) | U246: =IF($B246="","",IF(ISNUMBER(MATCH(U$1,$B246:$C246,0)),0,U245+1)) | V246: =IF($B246="","",IF(ISNUMBER(MATCH(V$1,$B246:$C246,0)),0,V245+1)) | W246: =IF($B246="","",IF(ISNUMBER(MATCH(W$1,$B246:$C246,0)),0,W245+1)) | ... AI246: =IF($B246="","",IF(ISNUMBER(MATCH(AI$1,$B246:$C246,0)),0,AI245+1))
A247: 43800 | P247: =IF($B247="","",IF(ISNUMBER(MATCH(P$1,$B247:$C247,0)),0,P246+1)) | Q247: =IF($B247="","",IF(ISNUMBER(MATCH(Q$1,$B247:$C247,0)),0,Q246+1)) | R247: =IF($B247="","",IF(ISNUMBER(MATCH(R$1,$B247:$C247,0)),0,R246+1)) | S247: =IF($B247="","",IF(ISNUMBER(MATCH(S$1,$B247:$C247,0)),0,S246+1)) | T247: =IF($B247="","",IF(ISNUMBER(MATCH(T$1,$B247:$C247,0)),0,T246+1)) | U247: =IF($B247="","",IF(ISNUMBER(MATCH(U$1,$B247:$C247,0)),0,U246+1)) | V247: =IF($B247="","",IF(ISNUMBER(MATCH(V$1,$B247:$C247,0)),0,V246+1)) | W247: =IF($B247="","",IF(ISNUMBER(MATCH(W$1,$B247:$C247,0)),0,W246+1)) | ... AI247: =IF($B247="","",IF(ISNUMBER(MATCH(AI$1,$B247:$C247,0)),0,AI246+1))
A248: 43801 | P248: =IF($B248="","",IF(ISNUMBER(MATCH(P$1,$B248:$C248,0)),0,P247+1)) | Q248: =IF($B248="","",IF(ISNUMBER(MATCH(Q$1,$B248:$C248,0)),0,Q247+1)) | R248: =IF($B248="","",IF(ISNUMBER(MATCH(R$1,$B248:$C248,0)),0,R247+1)) | S248: =IF($B248="","",IF(ISNUMBER(MATCH(S$1,$B248:$C248,0)),0,S247+1)) | T248: =IF($B248="","",IF(ISNUMBER(MATCH(T$1,$B248:$C248,0)),0,T247+1)) | U248: =IF($B248="","",IF(ISNUMBER(MATCH(U$1,$B248:$C248,0)),0,U247+1)) | V248: =IF($B248="","",IF(ISNUMBER(MATCH(V$1,$B248:$C248,0)),0,V247+1)) | W248: =IF($B248="","",IF(ISNUMBER(MATCH(W$1,$B248:$C248,0)),0,W247+1)) | ... AI248: =IF($B248="","",IF(ISNUMBER(MATCH(AI$1,$B248:$C248,0)),0,AI247+1))
A249: 43802 | P249: =IF($B249="","",IF(ISNUMBER(MATCH(P$1,$B249:$C249,0)),0,P248+1)) | Q249: =IF($B249="","",IF(ISNUMBER(MATCH(Q$1,$B249:$C249,0)),0,Q248+1)) | R249: =IF($B249="","",IF(ISNUMBER(MATCH(R$1,$B249:$C249,0)),0,R248+1)) | S249: =IF($B249="","",IF(ISNUMBER(MATCH(S$1,$B249:$C249,0)),0,S248+1)) | T249: =IF($B249="","",IF(ISNUMBER(MATCH(T$1,$B249:$C249,0)),0,T248+1)) | U249: =IF($B249="","",IF(ISNUMBER(MATCH(U$1,$B249:$C249,0)),0,U248+1)) | V249: =IF($B249="","",IF(ISNUMBER(MATCH(V$1,$B249:$C249,0)),0,V248+1)) | W249: =IF($B249="","",IF(ISNUMBER(MATCH(W$1,$B249:$C249,0)),0,W248+1)) | ... AI249: =IF($B249="","",IF(ISNUMBER(MATCH(AI$1,$B249:$C249,0)),0,AI248+1))
A250: 43803 | P250: =IF($B250="","",IF(ISNUMBER(MATCH(P$1,$B250:$C250,0)),0,P249+1)) | Q250: =IF($B250="","",IF(ISNUMBER(MATCH(Q$1,$B250:$C250,0)),0,Q249+1)) | R250: =IF($B250="","",IF(ISNUMBER(MATCH(R$1,$B250:$C250,0)),0,R249+1)) | S250: =IF($B250="","",IF(ISNUMBER(MATCH(S$1,$B250:$C250,0)),0,S249+1)) | T250: =IF($B250="","",IF(ISNUMBER(MATCH(T$1,$B250:$C250,0)),0,T249+1)) | U250: =IF($B250="","",IF(ISNUMBER(MATCH(U$1,$B250:$C250,0)),0,U249+1)) | V250: =IF($B250="","",IF(ISNUMBER(MATCH(V$1,$B250:$C250,0)),0,V249+1)) | W250: =IF($B250="","",IF(ISNUMBER(MATCH(W$1,$B250:$C250,0)),0,W249+1)) | ... AI250: =IF($B250="","",IF(ISNUMBER(MATCH(AI$1,$B250:$C250,0)),0,AI249+1))
A251: 43804 | P251: =IF($B251="","",IF(ISNUMBER(MATCH(P$1,$B251:$C251,0)),0,P250+1)) | Q251: =IF($B251="","",IF(ISNUMBER(MATCH(Q$1,$B251:$C251,0)),0,Q250+1)) | R251: =IF($B251="","",IF(ISNUMBER(MATCH(R$1,$B251:$C251,0)),0,R250+1)) | S251: =IF($B251="","",IF(ISNUMBER(MATCH(S$1,$B251:$C251,0)),0,S250+1)) | T251: =IF($B251="","",IF(ISNUMBER(MATCH(T$1,$B251:$C251,0)),0,T250+1)) | U251: =IF($B251="","",IF(ISNUMBER(MATCH(U$1,$B251:$C251,0)),0,U250+1)) | V251: =IF($B251="","",IF(ISNUMBER(MATCH(V$1,$B251:$C251,0)),0,V250+1)) | W251: =IF($B251="","",IF(ISNUMBER(MATCH(W$1,$B251:$C251,0)),0,W250+1)) | ... AI251: =IF($B251="","",IF(ISNUMBER(MATCH(AI$1,$B251:$C251,0)),0,AI250+1))
A252: 43805 | P252: =IF($B252="","",IF(ISNUMBER(MATCH(P$1,$B252:$C252,0)),0,P251+1)) | Q252: =IF($B252="","",IF(ISNUMBER(MATCH(Q$1,$B252:$C252,0)),0,Q251+1)) | R252: =IF($B252="","",IF(ISNUMBER(MATCH(R$1,$B252:$C252,0)),0,R251+1)) | S252: =IF($B252="","",IF(ISNUMBER(MATCH(S$1,$B252:$C252,0)),0,S251+1)) | T252: =IF($B252="","",IF(ISNUMBER(MATCH(T$1,$B252:$C252,0)),0,T251+1)) | U252: =IF($B252="","",IF(ISNUMBER(MATCH(U$1,$B252:$C252,0)),0,U251+1)) | V252: =IF($B252="","",IF(ISNUMBER(MATCH(V$1,$B252:$C252,0)),0,V251+1)) | W252: =IF($B252="","",IF(ISNUMBER(MATCH(W$1,$B252:$C252,0)),0,W251+1)) | ... AI252: =IF($B252="","",IF(ISNUMBER(MATCH(AI$1,$B252:$C252,0)),0,AI251+1))
A253: 43806 | P253: =IF($B253="","",IF(ISNUMBER(MATCH(P$1,$B253:$C253,0)),0,P252+1)) | Q253: =IF($B253="","",IF(ISNUMBER(MATCH(Q$1,$B253:$C253,0)),0,Q252+1)) | R253: =IF($B253="","",IF(ISNUMBER(MATCH(R$1,$B253:$C253,0)),0,R252+1)) | S253: =IF($B253="","",IF(ISNUMBER(MATCH(S$1,$B253:$C253,0)),0,S252+1)) | T253: =IF($B253="","",IF(ISNUMBER(MATCH(T$1,$B253:$C253,0)),0,T252+1)) | U253: =IF($B253="","",IF(ISNUMBER(MATCH(U$1,$B253:$C253,0)),0,U252+1)) | V253: =IF($B253="","",IF(ISNUMBER(MATCH(V$1,$B253:$C253,0)),0,V252+1)) | W253: =IF($B253="","",IF(ISNUMBER(MATCH(W$1,$B253:$C253,0)),0,W252+1)) | ... AI253: =IF($B253="","",IF(ISNUMBER(MATCH(AI$1,$B253:$C253,0)),0,AI252+1))
A254: 43807 | P254: =IF($B254="","",IF(ISNUMBER(MATCH(P$1,$B254:$C254,0)),0,P253+1)) | Q254: =IF($B254="","",IF(ISNUMBER(MATCH(Q$1,$B254:$C254,0)),0,Q253+1)) | R254: =IF($B254="","",IF(ISNUMBER(MATCH(R$1,$B254:$C254,0)),0,R253+1)) | S254: =IF($B254="","",IF(ISNUMBER(MATCH(S$1,$B254:$C254,0)),0,S253+1)) | T254: =IF($B254="","",IF(ISNUMBER(MATCH(T$1,$B254:$C254,0)),0,T253+1)) | U254: =IF($B254="","",IF(ISNUMBER(MATCH(U$1,$B254:$C254,0)),0,U253+1)) | V254: =IF($B254="","",IF(ISNUMBER(MATCH(V$1,$B254:$C254,0)),0,V253+1)) | W254: =IF($B254="","",IF(ISNUMBER(MATCH(W$1,$B254:$C254,0)),0,W253+1)) | ... AI254: =IF($B254="","",IF(ISNUMBER(MATCH(AI$1,$B254:$C254,0)),0,AI253+1))
A255: 43808 | P255: =IF($B255="","",IF(ISNUMBER(MATCH(P$1,$B255:$C255,0)),0,P254+1)) | Q255: =IF($B255="","",IF(ISNUMBER(MATCH(Q$1,$B255:$C255,0)),0,Q254+1)) | R255: =IF($B255="","",IF(ISNUMBER(MATCH(R$1,$B255:$C255,0)),0,R254+1)) | S255: =IF($B255="","",IF(ISNUMBER(MATCH(S$1,$B255:$C255,0)),0,S254+1)) | T255: =IF($B255="","",IF(ISNUMBER(MATCH(T$1,$B255:$C255,0)),0,T254+1)) | U255: =IF($B255="","",IF(ISNUMBER(MATCH(U$1,$B255:$C255,0)),0,U254+1)) | V255: =IF($B255="","",IF(ISNUMBER(MATCH(V$1,$B255:$C255,0)),0,V254+1)) | W255: =IF($B255="","",IF(ISNUMBER(MATCH(W$1,$B255:$C255,0)),0,W254+1)) | ... AI255: =IF($B255="","",IF(ISNUMBER(MATCH(AI$1,$B255:$C255,0)),0,AI254+1))
A256: 43809 | P256: =IF($B256="","",IF(ISNUMBER(MATCH(P$1,$B256:$C256,0)),0,P255+1)) | Q256: =IF($B256="","",IF(ISNUMBER(MATCH(Q$1,$B256:$C256,0)),0,Q255+1)) | R256: =IF($B256="","",IF(ISNUMBER(MATCH(R$1,$B256:$C256,0)),0,R255+1)) | S256: =IF($B256="","",IF(ISNUMBER(MATCH(S$1,$B256:$C256,0)),0,S255+1)) | T256: =IF($B256="","",IF(ISNUMBER(MATCH(T$1,$B256:$C256,0)),0,T255+1)) | U256: =IF($B256="","",IF(ISNUMBER(MATCH(U$1,$B256:$C256,0)),0,U255+1)) | V256: =IF($B256="","",IF(ISNUMBER(MATCH(V$1,$B256:$C256,0)),0,V255+1)) | W256: =IF($B256="","",IF(ISNUMBER(MATCH(W$1,$B256:$C256,0)),0,W255+1)) | ... AI256: =IF($B256="","",IF(ISNUMBER(MATCH(AI$1,$B256:$C256,0)),0,AI255+1))
... A277: 43830 | P277: =IF($B277="","",IF(ISNUMBER(MATCH(P$1,$B277:$C277,0)),0,P276+1)) | Q277: =IF($B277="","",IF(ISNUMBER(MATCH(Q$1,$B277:$C277,0)),0,Q276+1)) | R277: =IF($B277="","",IF(ISNUMBER(MATCH(R$1,$B277:$C277,0)),0,R276+1)) | S277: =IF($B277="","",IF(ISNUMBER(MATCH(S$1,$B277:$C277,0)),0,S276+1)) | T277: =IF($B277="","",IF(ISNUMBER(MATCH(T$1,$B277:$C277,0)),0,T276+1)) | U277: =IF($B277="","",IF(ISNUMBER(MATCH(U$1,$B277:$C277,0)),0,U276+1)) | V277: =IF($B277="","",IF(ISNUMBER(MATCH(V$1,$B277:$C277,0)),0,V276+1)) | W277: =IF($B277="","",IF(ISNUMBER(MATCH(W$1,$B277:$C277,0)),0,W276+1)) | ... AI277: =IF($B277="","",IF(ISNUMBER(MATCH(AI$1,$B277:$C277,0)),0,AI276+1))
P278: =SUM(P3:P277)/COUNTA(P3:P277) -> 5.3163636 | Q278: =SUM(Q3:Q277)/COUNTA(Q3:Q277) -> 4.9127273 | R278: =SUM(R3:R277)/COUNTA(R3:R277) -> 7.9709091 | S278: =SUM(S3:S277)/COUNTA(S3:S277) -> 3.4218182 | T278: =SUM(T3:T277)/COUNTA(T3:T277) -> 7.6290909 | U278: =SUM(U3:U277)/COUNTA(U3:U277) -> 4.6109091 | V278: =SUM(V3:V277)/COUNTA(V3:V277) -> 6.3272727 | W278: =SUM(W3:W277)/COUNTA(W3:W277) -> 4.6545455 | ... AI278: =SUM(AI3:AI277)/COUNTA(AI3:AI277) -> 105.16364
P279: =RANK(P278,$P278:$AI278,1) -> 7 | Q279: =RANK(Q278,$P278:$AI278,1) -> 4 | R279: =RANK(R278,$P278:$AI278,1) -> 15 | S279: =RANK(S278,$P278:$AI278,1) -> 1 | T279: =RANK(T278,$P278:$AI278,1) -> 13 | U279: =RANK(U278,$P278:$AI278,1) -> 2 | V279: =RANK(V278,$P278:$AI278,1) -> 9 | W279: =RANK(W278,$P278:$AI278,1) -> 3 | ... AI279: =RANK(AI278,$P278:$AI278,1) -> 20

Sheet Favoris P  I
A4: Couplés Pair / Impair suivant favoris
A6: Favoris Pair ou Impair | B6: N° Pair suivant favoris | C6: N° Impair suivant favoris
A8: 1 | B8: 4,6,10,12,14 | C8: 5,13,15
A9: 2 | B9: 4 | C9: 1,3,5,9,11,13,17
A10: 3 | B10: 2,6,8,10,14 | C10: 9
A11: 4 | C11: 1,3,5,7,9,13,15
A12: 5 | B12: 2,4,6,8,12,14,16
A13: 6 | C13: 1,3,5,7,9,11,15
A14: 7 | B14: 2,4,6,10,12,16
A15: 8 | C15: 3,5,7,9,11,13
A16: 9 | B16: 4,6,8,10,14,18 | C16: 1.7
A17: 10 | B17: 18 | C17: 1,3,5,7,9,15,17
A18: 11 | B18: 2,4,6,8,12,14,18 | C18: 1.7
A19: 12 | C19: 3,5,7,9,11,15
A20: 13 | B20: 2,4,6,8,10,12,14,16 | C20: 11
A21: 14 | C21: 3,5,7,9,11,15
A22: 15 | B22: 2,6,8,12,14 | C22: 7,9,11
A23: 16 | C23: 1,3,9,11,13,15
A24: 17 | B24: 4,6,7,10,14,16 | C24: 9.15
A25: 18 | C25: 5,7,9,13,17
A26: 19
A27: 20 | C27: 15

Sheet Handicaps
A4: On JOUE donc les poids MOYENS, ou plus exactement le nombre de partants ayant été divisés par deux, on JOUE LES PREMIERS DE LA SECONDE MOITIE DU HANDICAP.
A6: Le nombre de chevaux à jouer dans chaque handicap est déterminé par le nombre de partants.
A9: * CINQ partants : UNE CHEVAL A JOUER (le 3ème de l'échelle)
A11: * SIX à ONZE partants : DEUX CHEVAUX A JOUER (quand il y a 6 partants, ce sont le 3ème et le 4ème. Pour 11 partants, le 5ème et le 6ème de l'échelle).
A13: * DOUZE à QUATORZE partants : TROIS CHEVAUX A JOUER (pour 12 et 13 partants, ce sont les 6ème, 7ème et 8ème de l'échelle. Pour 14 partants : 7ème, 8ème et 9ème.
A15: * QUINZE à VINGT partants : QUATRE CHEVAUX A JOUER (pour 17 partants par exemple, ce sont les 8ème, 9ème, 10ème, 11ème de l'échelle

Sheet Carré magique 
B3: 4 | C3: 14 | D3: 15 | E3: 1
B4: 9 | C4: 7 | D4: 6 | E4: 12
B5: 5 | C5: 11 | D5: 10 | E5: 8
B6: 16 | C6: 2 | D6: 3 | E6: 13

Sheet F5
A1: Classement | B1: Cheval
A2: 1 | B2: =MATCH(A2,Arrivées!A$279:AI$279,0)-15 -> 4
A3: 2 | B3: =MATCH(A3,Arrivées!A$279:AI$279,0)-15 -> 6
A4: 3 | B4: =MATCH(A4,Arrivées!A$279:AI$279,0)-15 -> 8
A5: 4 | B5: =MATCH(A5,Arrivées!A$279:AI$279,0)-15 -> 2
A6: 5 | B6: =MATCH(A6,Arrivées!A$279:AI$279,0)-15 -> 13
A7: 6 | B7: =MATCH(A7,Arrivées!A$279:AI$279,0)-15 -> 14
A8: 7 | B8: =MATCH(A8,Arrivées!A$279:AI$279,0)-15 -> 1
A9: 8 | B9: =MATCH(A9,Arrivées!A$279:AI$279,0)-15 -> 9
A10: 9 | B10: =MATCH(A10,Arrivées!A$279:AI$279,0)-15 -> 7
A11: 10 | B11: =MATCH(A11,Arrivées!A$279:AI$279,0)-15 -> 11
A12: 11 | B12: =MATCH(A12,Arrivées!A$279:AI$279,0)-15 -> 15
A13: 12 | B13: =MATCH(A13,Arrivées!A$279:AI$279,0)-15 -> 16
... A20: 19 | B20: =MATCH(A20,Arrivées!A$279:AI$279,0)-15 -> 18
