Workbook

Sheet Arrivées
A1: Arrivées Quinté au 1 Avril et suite | H1: Les 5 premiers favoris de la course | M1: C P 5 cv | N1: C G 5cv | P1: 1 | Q1: 2 | R1: 3 | S1: 4 | T1: 5 | U1: 6 | V1: 7 | W1: 8 | X1: 9 | Y1: 10 | Z1: 11 | AA1: 12 | AB1: 13 | AC1: 14 | AD1: 15 | AE1: 16 | AF1: 17 | AG1: 18 | AH1: 19 | AI1: 20
A2: DATE
A3: 43556 | B3: 2 | C3: 1 | D3: 9 | E3: 12 | F3: 4 | H3: 2 | I3: 1 | J3: 8 | K3: 7 | L3: 15 | P3: =IF(ISNUMBER(MATCH(P$1,$B3:$C3,0)),0,P2+1) -> 0 | Q3: =IF(ISNUMBER(MATCH(Q$1,$B3:$C3,0)),0,Q2+1) -> 0 | R3: =IF(ISNUMBER(MATCH(R$1,$B3:$C3,0)),0,R2+1) -> 1 | S3: =IF(ISNUMBER(MATCH(S$1,$B3:$C3,0)),0,S2+1) -> 1 | T3: =IF(ISNUMBER(MATCH(T$1,$B3:$C3,0)),0,T2+1) -> 1 | U3: =IF(ISNUMBER(MATCH(U$1,$B3:$C3,0)),0,U2+1) -> 1 | V3: =IF(ISNUMBER(MATCH(V$1,$B3:$C3,0)),0,V2+1) -> 1 | W3: =IF(ISNUMBER(MATCH(W$1,$B3:$C3,0)),0,W2+1) -> 1 | ... AI3: =IF(ISNUMBER(MATCH(AI$1,$B3:$C3,0)),0,AI2+1) -> 1
A4: 43557 | B4: 9 | C4: 1 | D4: 12 | E4: 7 | F4: 5 | H4: 2 | I4: 6 | J4: 10 | K4: 12 | L4: 11 | P4: =IF(ISNUMBER(MATCH(P$1,$B4:$C4,0)),0,P3+1) -> 0 | Q4: =IF(ISNUMBER(MATCH(Q$1,$B4:$C4,0)),0,Q3+1) -> 1 | R4: =IF(ISNUMBER(MATCH(R$1,$B4:$C4,0)),0,R3+1) -> 2 | S4: =IF(ISNUMBER(MATCH(S$1,$B4:$C4,0)),0,S3+1) -> 2 | T4: =IF(ISNUMBER(MATCH(T$1,$B4:$C4,0)),0,T3+1) -> 2 | U4: =IF(ISNUMBER(MATCH(U$1,$B4:$C4,0)),0,U3+1) -> 2 | V4: =IF(ISNUMBER(MATCH(V$1,$B4:$C4,0)),0,V3+1) -> 2 | W4: =IF(ISNUMBER(MATCH(W$1,$B4:$C4,0)),0,W3+1) -> 2 | ... AI4: =IF(ISNUMBER(MATCH(AI$1,$B4:$C4,0)),0,AI3+1) -> 2
A5: 43558 | B5: 18 | C5: 16 | D5: 13 | E5: 9 | F5: 12 | H5: 18 | I5: 16 | J5: 9 | K5: 13 | L5: 12 | P5: =IF(ISNUMBER(MATCH(P$1,$B5:$C5,0)),0,P4+1) -> 1 | Q5: =IF(ISNUMBER(MATCH(Q$1,$B5:$C5,0)),0,Q4+1) -> 2 | R5: =IF(ISNUMBER(MATCH(R$1,$B5:$C5,0)),0,R4+1) -> 3 | S5: =IF(ISNUMBER(MATCH(S$1,$B5:$C5,0)),0,S4+1) -> 3 | T5: =IF(ISNUMBER(MATCH(T$1,$B5:$C5,0)),0,T4+1) -> 3 | U5: =IF(ISNUMBER(MATCH(U$1,$B5:$C5,0)),0,U4+1) -> 3 | V5: =IF(ISNUMBER(MATCH(V$1,$B5:$C5,0)),0,V4+1) -> 3 | W5: =IF(ISNUMBER(MATCH(W$1,$B5:$C5,0)),0,W4+1) -> 3 | ... AI5: =IF(ISNUMBER(MATCH(AI$1,$B5:$C5,0)),0,AI4+1) -> 3
A6: 43559 | B6: 12 | C6: 2 | D6: 9 | E6: 15 | F6: 10 | H6: 5 | I6: 9 | J6: 15 | K6: 13 | L6: 16 | P6: =IF(ISNUMBER(MATCH(P$1,$B6:$C6,0)),0,P5+1) -> 2 | Q6: =IF(ISNUMBER(MATCH(Q$1,$B6:$C6,0)),0,Q5+1) -> 0 | R6: =IF(ISNUMBER(MATCH(R$1,$B6:$C6,0)),0,R5+1) -> 4 | S6: =IF(ISNUMBER(MATCH(S$1,$B6:$C6,0)),0,S5+1) -> 4 | T6: =IF(ISNUMBER(MATCH(T$1,$B6:$C6,0)),0,T5+1) -> 4 | U6: =IF(ISNUMBER(MATCH(U$1,$B6:$C6,0)),0,U5+1) -> 4 | V6: =IF(ISNUMBER(MATCH(V$1,$B6:$C6,0)),0,V5+1) -> 4 | W6: =IF(ISNUMBER(MATCH(W$1,$B6:$C6,0)),0,W5+1) -> 4 | ... AI6: =IF(ISNUMBER(MATCH(AI$1,$B6:$C6,0)),0,AI5+1) -> 4
A7: 43560 | B7: 9 | C7: 6 | D7: 12 | E7: 4 | F7: 10 | H7: 10 | I7: 2 | J7: 15 | K7: 12 | L7: 4 | P7: =IF(ISNUMBER(MATCH(P$1,$B7:$C7,0)),0,P6+1) -> 3 | Q7: =IF(ISNUMBER(MATCH(Q$1,$B7:$C7,0)),0,Q6+1) -> 1 | R7: =IF(ISNUMBER(MATCH(R$1,$B7:$C7,0)),0,R6+1) -> 5 | S7: =IF(ISNUMBER(MATCH(S$1,$B7:$C7,0)),0,S6+1) -> 5 | T7: =IF(ISNUMBER(MATCH(T$1,$B7:$C7,0)),0,T6+1) -> 5 | U7: =IF(ISNUMBER(MATCH(U$1,$B7:$C7,0)),0,U6+1) -> 0 | V7: =IF(ISNUMBER(MATCH(V$1,$B7:$C7,0)),0,V6+1) -> 5 | W7: =IF(ISNUMBER(MATCH(W$1,$B7:$C7,0)),0,W6+1) -> 5 | ... AI7: =IF(ISNUMBER(MATCH(AI$1,$B7:$C7,0)),0,AI6+1) -> 5
A8: 43561 | B8: 10 | C8: 4 | D8: 7 | E8: 3 | F8: 6 | H8: 4 | I8: 7 | J8: 12 | K8: 10 | L8: 2 | P8: =IF(ISNUMBER(MATCH(P$1,$B8:$C8,0)),0,P7+1) -> 4 | Q8: =IF(ISNUMBER(MATCH(Q$1,$B8:$C8,0)),0,Q7+1) -> 2 | R8: =IF(ISNUMBER(MATCH(R$1,$B8:$C8,0)),0,R7+1) -> 6 | S8: =IF(ISNUMBER(MATCH(S$1,$B8:$C8,0)),0,S7+1) -> 0 | T8: =IF(ISNUMBER(MATCH(T$1,$B8:$C8,0)),0,T7+1) -> 6 | U8: =IF(ISNUMBER(MATCH(U$1,$B8:$C8,0)),0,U7+1) -> 1 | V8: =IF(ISNUMBER(MATCH(V$1,$B8:$C8,0)),0,V7+1) -> 6 | W8: =IF(ISNUMBER(MATCH(W$1,$B8:$C8,0)),0,W7+1) -> 6 | ... AI8: =IF(ISNUMBER(MATCH(AI$1,$B8:$C8,0)),0,AI7+1) -> 6
A9: 43562 | B9: 10 | C9: 16 | D9: 3 | E9: 2 | F9: 11 | H9: 10 | I9: 2 | J9: 4 | K9: 1 | L9: 6 | P9: =IF(ISNUMBER(MATCH(P$1,$B9:$C9,0)),0,P8+1) -> 5 | Q9: =IF(ISNUMBER(MATCH(Q$1,$B9:$C9,0)),0,Q8+1) -> 3 | R9: =IF(ISNUMBER(MATCH(R$1,$B9:$C9,0)),0,R8+1) -> 7 | S9: =IF(ISNUMBER(MATCH(S$1,$B9:$C9,0)),0,S8+1) -> 1 | T9: =IF(ISNUMBER(MATCH(T$1,$B9:$C9,0)),0,T8+1) -> 7 | U9: =IF(ISNUMBER(MATCH(U$1,$B9:$C9,0)),0,U8+1) -> 2 | V9: =IF(ISNUMBER(MATCH(V$1,$B9:$C9,0)),0,V8+1) -> 7 | W9: =IF(ISNUMBER(MATCH(W$1,$B9:$C9,0)),0,W8+1) -> 7 | ... AI9: =IF(ISNUMBER(MATCH(AI$1,$B9:$C9,0)),0,AI8+1) -> 7
A10: 43563 | B10: 16 | C10: 1 | D10: 5 | E10: 6 | F10: 14 | H10: 3 | I10: 11 | J10: 7 | K10: 1 | L10: 8 | P10: =IF(ISNUMBER(MATCH(P$1,$B10:$C10,0)),0,P9+1) -> 0 | Q10: =IF(ISNUMBER(MATCH(Q$1,$B10:$C10,0)),0,Q9+1) -> 4 | R10: =IF(ISNUMBER(MATCH(R$1,$B10:$C10,0)),0,R9+1) -> 8 | S10: =IF(ISNUMBER(MATCH(S$1,$B10:$C10,0)),0,S9+1) -> 2 | T10: =IF(ISNUMBER(MATCH(T$1,$B10:$C10,0)),0,T9+1) -> 8 | U10: =IF(ISNUMBER(MATCH(U$1,$B10:$C10,0)),0,U9+1) -> 3 | V10: =IF(ISNUMBER(MATCH(V$1,$B10:$C10,0)),0,V9+1) -> 8 | W10: =IF(ISNUMBER(MATCH(W$1,$B10:$C10,0)),0,W9+1) -> 8 | ... AI10: =IF(ISNUMBER(MATCH(AI$1,$B10:$C10,0)),0,AI9+1) -> 8
A11: 43564 | B11: 3 | C11: 1 | D11: 14 | E11: 12 | F11: 11 | H11: 15 | I11: 1 | J11: 5 | K11: 3 | L11: 11 | P11: =IF(ISNUMBER(MATCH(P$1,$B11:$C11,0)),0,P10+1) -> 0 | Q11: =IF(ISNUMBER(MATCH(Q$1,$B11:$C11,0)),0,Q10+1) -> 5 | R11: =IF(ISNUMBER(MATCH(R$1,$B11:$C11,0)),0,R10+1) -> 0 | S11: =IF(ISNUMBER(MATCH(S$1,$B11:$C11,0)),0,S10+1) -> 3 | T11: =IF(ISNUMBER(MATCH(T$1,$B11:$C11,0)),0,T10+1) -> 9 | U11: =IF(ISNUMBER(MATCH(U$1,$B11:$C11,0)),0,U10+1) -> 4 | V11: =IF(ISNUMBER(MATCH(V$1,$B11:$C11,0)),0,V10+1) -> 9 | W11: =IF(ISNUMBER(MATCH(W$1,$B11:$C11,0)),0,W10+1) -> 9 | ... AI11: =IF(ISNUMBER(MATCH(AI$1,$B11:$C11,0)),0,AI10+1) -> 9
A12: 43565 | B12: 6 | C12: 12 | D12: 2 | E12: 11 | F12: 3 | H12: 6 | I12: 12 | J12: 13 | K12: 5 | L12: 8 | P12: =IF(ISNUMBER(MATCH(P$1,$B12:$C12,0)),0,P11+1) -> 1 | Q12: =IF(ISNUMBER(MATCH(Q$1,$B12:$C12,0)),0,Q11+1) -> 6 | R12: =IF(ISNUMBER(MATCH(R$1,$B12:$C12,0)),0,R11+1) -> 1 | S12: =IF(ISNUMBER(MATCH(S$1,$B12:$C12,0)),0,S11+1) -> 4 | T12: =IF(ISNUMBER(MATCH(T$1,$B12:$C12,0)),0,T11+1) -> 10 | U12: =IF(ISNUMBER(MATCH(U$1,$B12:$C12,0)),0,U11+1) -> 0 | V12: =IF(ISNUMBER(MATCH(V$1,$B12:$C12,0)),0,V11+1) -> 10 | W12: =IF(ISNUMBER(MATCH(W$1,$B12:$C12,0)),0,W11+1) -> 10 | ... AI12: =IF(ISNUMBER(MATCH(AI$1,$B12:$C12,0)),0,AI11+1) -> 10
A13: 43566 | B13: 8 | C13: 7 | D13: 9 | E13: 15 | F13: 11 | H13: 8 | I13: 12 | J13: 9 | K13: 15 | L13: 4 | P13: =IF(ISNUMBER(MATCH(P$1,$B13:$C13,0)),0,P12+1) -> 2 | Q13: =IF(ISNUMBER(MATCH(Q$1,$B13:$C13,0)),0,Q12+1) -> 7 | R13: =IF(ISNUMBER(MATCH(R$1,$B13:$C13,0)),0,R12+1) -> 2 | S13: =IF(ISNUMBER(MATCH(S$1,$B13:$C13,0)),0,S12+1) -> 5 | T13: =IF(ISNUMBER(MATCH(T$1,$B13:$C13,0)),0,T12+1) -> 11 | U13: =IF(ISNUMBER(MATCH(U$1,$B13:$C13,0)),0,U12+1) -> 1 | V13: =IF(ISNUMBER(MATCH(V$1,$B13:$C13,0)),0,V12+1) -> 0 | W13: =IF(ISNUMBER(MATCH(W$1,$B13:$C13,0)),0,W12+1) -> 0 | ... AI13: =IF(ISNUMBER(MATCH(AI$1,$B13:$C13,0)),0,AI12+1) -> 11
A14: 43567 | B14: 15 | C14: 13 | D14: 6 | E14: 10 | F14: 8 | H14: 15 | I14: 6 | J14: 8 | K14: 13 | L14: 11 | P14: =IF(ISNUMBER(MATCH(P$1,$B14:$C14,0)),0,P13+1) -> 3 | Q14: =IF(ISNUMBER(MATCH(Q$1,$B14:$C14,0)),0,Q13+1) -> 8 | R14: =IF(ISNUMBER(MATCH(R$1,$B14:$C14,0)),0,R13+1) -> 3 | S14: =IF(ISNUMBER(MATCH(S$1,$B14:$C14,0)),0,S13+1) -> 6 | T14: =IF(ISNUMBER(MATCH(T$1,$B14:$C14,0)),0,T13+1) -> 12 | U14: =IF(ISNUMBER(MATCH(U$1,$B14:$C14,0)),0,U13+1) -> 2 | V14: =IF(ISNUMBER(MATCH(V$1,$B14:$C14,0)),0,V13+1) -> 1 | W14: =IF(ISNUMBER(MATCH(W$1,$B14:$C14,0)),0,W13+1) -> 1 | ... AI14: =IF(ISNUMBER(MATCH(AI$1,$B14:$C14,0)),0,AI13+1) -> 12
... A34: 43587 | B34: 2 | C34: 10 | D34: 6 | E34: 17 | F34: 4 | H34: 6 | I34: 13 | J34: 18 | K34: 5 | L34: 4 | P34: =IF(ISNUMBER(MATCH(P$1,$B34:$C34,0)),0,P33+1) -> 3 | Q34: =IF(ISNUMBER(MATCH(Q$1,$B34:$C34,0)),0,Q33+1) -> 0 | R34: =IF(ISNUMBER(MATCH(R$1,$B34:$C34,0)),0,R33+1) -> 7 | S34: =IF(ISNUMBER(MATCH(S$1,$B34:$C34,0)),0,S33+1) -> 14 | T34: =IF(ISNUMBER(MATCH(T$1,$B34:$C34,0)),0,T33+1) -> 8 | U34: =IF(ISNUMBER(MATCH(U$1,$B34:$C34,0)),0,U33+1) -> 1 | V34: =IF(ISNUMBER(MATCH(V$1,$B34:$C34,0)),0,V33+1) -> 5 | W34: =IF(ISNUMBER(MATCH(W$1,$B34:$C34,0)),0,W33+1) -> 10 | ... AI34: =IF(ISNUMBER(MATCH(AI$1,$B34:$C34,0)),0,AI33+1) -> 32
A35: 43588 | B35: 8 | C35: 5 | D35: 6 | E35: 12 | F35: 1/11 | H35: 8 | I35: 11 | J35: 12 | K35: 1 | L35: 4 | P35: =IF(ISNUMBER(MATCH(P$1,$B35:$C35,0)),0,P34+1) -> 4 | Q35: =IF(ISNUMBER(MATCH(Q$1,$B35:$C35,0)),0,Q34+1) -> 1 | R35: =IF(ISNUMBER(MATCH(R$1,$B35:$C35,0)),0,R34+1) -> 8 | S35: =IF(ISNUMBER(MATCH(S$1,$B35:$C35,0)),0,S34+1) -> 15 | T35: =IF(ISNUMBER(MATCH(T$1,$B35:$C35,0)),0,T34+1) -> 0 | U35: =IF(ISNUMBER(MATCH(U$1,$B35:$C35,0)),0,U34+1) -> 2 | V35: =IF(ISNUMBER(MATCH(V$1,$B35:$C35,0)),0,V34+1) -> 6 | W35: =IF(ISNUMBER(MATCH(W$1,$B35:$C35,0)),0,W34+1) -> 0 | ... AI35: =IF(ISNUMBER(MATCH(AI$1,$B35:$C35,0)),0,AI34+1) -> 33
A36: 43589 | B36: 6 | C36: 15 | D36: 14 | E36: 1 | F36: 16 | H36: 16 | I36: 1 | J36: 12 | K36: 9 | L36: 4 | P36: =IF(ISNUMBER(MATCH(P$1,$B36:$C36,0)),0,P35+1) -> 5 | Q36: =IF(ISNUMBER(MATCH(Q$1,$B36:$C36,0)),0,Q35+1) -> 2 | R36: =IF(ISNUMBER(MATCH(R$1,$B36:$C36,0)),0,R35+1) -> 9 | S36: =IF(ISNUMBER(MATCH(S$1,$B36:$C36,0)),0,S35+1) -> 16 | T36: =IF(ISNUMBER(MATCH(T$1,$B36:$C36,0)),0,T35+1) -> 1 | U36: =IF(ISNUMBER(MATCH(U$1,$B36:$C36,0)),0,U35+1) -> 0 | V36: =IF(ISNUMBER(MATCH(V$1,$B36:$C36,0)),0,V35+1) -> 7 | W36: =IF(ISNUMBER(MATCH(W$1,$B36:$C36,0)),0,W35+1) -> 1 | ... AI36: =IF(ISNUMBER(MATCH(AI$1,$B36:$C36,0)),0,AI35+1) -> 34
A37: 43590 | B37: 15 | C37: 4 | D37: 12 | E37: 2 | F37: 6 | H37: 15 | I37: 9 | J37: 16 | K37: 8 | L37: 12 | P37: =IF(ISNUMBER(MATCH(P$1,$B37:$C37,0)),0,P36+1) -> 6 | Q37: =IF(ISNUMBER(MATCH(Q$1,$B37:$C37,0)),0,Q36+1) -> 3 | R37: =IF(ISNUMBER(MATCH(R$1,$B37:$C37,0)),0,R36+1) -> 10 | S37: =IF(ISNUMBER(MATCH(S$1,$B37:$C37,0)),0,S36+1) -> 0 | T37: =IF(ISNUMBER(MATCH(T$1,$B37:$C37,0)),0,T36+1) -> 2 | U37: =IF(ISNUMBER(MATCH(U$1,$B37:$C37,0)),0,U36+1) -> 1 | V37: =IF(ISNUMBER(MATCH(V$1,$B37:$C37,0)),0,V36+1) -> 8 | W37: =IF(ISNUMBER(MATCH(W$1,$B37:$C37,0)),0,W36+1) -> 2 | ... AI37: =IF(ISNUMBER(MATCH(AI$1,$B37:$C37,0)),0,AI36+1) -> 35
A38: 43591 | B38: 14 | C38: 10 | D38: 13 | E38: 2 | F38: 9 | H38: 8 | I38: 3 | J38: 4 | K38: 10 | L38: 13 | P38: =IF(ISNUMBER(MATCH(P$1,$B38:$C38,0)),0,P37+1) -> 7 | Q38: =IF(ISNUMBER(MATCH(Q$1,$B38:$C38,0)),0,Q37+1) -> 4 | R38: =IF(ISNUMBER(MATCH(R$1,$B38:$C38,0)),0,R37+1) -> 11 | S38: =IF(ISNUMBER(MATCH(S$1,$B38:$C38,0)),0,S37+1) -> 1 | T38: =IF(ISNUMBER(MATCH(T$1,$B38:$C38,0)),0,T37+1) -> 3 | U38: =IF(ISNUMBER(MATCH(U$1,$B38:$C38,0)),0,U37+1) -> 2 | V38: =IF(ISNUMBER(MATCH(V$1,$B38:$C38,0)),0,V37+1) -> 9 | W38: =IF(ISNUMBER(MATCH(W$1,$B38:$C38,0)),0,W37+1) -> 3 | ... AI38: =IF(ISNUMBER(MATCH(AI$1,$B38:$C38,0)),0,AI37+1) -> 36
A39: 43592 | B39: 12 | C39: 13 | D39: 4 | E39: 5 | F39: 11 | H39: 4 | I39: 12 | J39: 5 | K39: 2 | L39: 1 | P39: =IF(ISNUMBER(MATCH(P$1,$B39:$C39,0)),0,P38+1) -> 8 | Q39: =IF(ISNUMBER(MATCH(Q$1,$B39:$C39,0)),0,Q38+1) -> 5 | R39: =IF(ISNUMBER(MATCH(R$1,$B39:$C39,0)),0,R38+1) -> 12 | S39: =IF(ISNUMBER(MATCH(S$1,$B39:$C39,0)),0,S38+1) -> 2 | T39: =IF(ISNUMBER(MATCH(T$1,$B39:$C39,0)),0,T38+1) -> 4 | U39: =IF(ISNUMBER(MATCH(U$1,$B39:$C39,0)),0,U38+1) -> 3 | V39: =IF(ISNUMBER(MATCH(V$1,$B39:$C39,0)),0,V38+1) -> 10 | W39: =IF(ISNUMBER(MATCH(W$1,$B39:$C39,0)),0,W38+1) -> 4 | ... AI39: =IF(ISNUMBER(MATCH(AI$1,$B39:$C39,0)),0,AI38+1) -> 37
A40: 43593 | B40: 15 | C40: 5 | D40: 10 | E40: 12 | F40: 8 | H40: 6 | I40: 11 | J40: 1 | K40: 8 | L40: 10 | P40: =IF(ISNUMBER(MATCH(P$1,$B40:$C40,0)),0,P39+1) -> 9 | Q40: =IF(ISNUMBER(MATCH(Q$1,$B40:$C40,0)),0,Q39+1) -> 6 | R40: =IF(ISNUMBER(MATCH(R$1,$B40:$C40,0)),0,R39+1) -> 13 | S40: =IF(ISNUMBER(MATCH(S$1,$B40:$C40,0)),0,S39+1) -> 3 | T40: =IF(ISNUMBER(MATCH(T$1,$B40:$C40,0)),0,T39+1) -> 0 | U40: =IF(ISNUMBER(MATCH(U$1,$B40:$C40,0)),0,U39+1) -> 4 | V40: =IF(ISNUMBER(MATCH(V$1,$B40:$C40,0)),0,V39+1) -> 11 | W40: =IF(ISNUMBER(MATCH(W$1,$B40:$C40,0)),0,W39+1) -> 5 | ... AI40: =IF(ISNUMBER(MATCH(AI$1,$B40:$C40,0)),0,AI39+1) -> 38
A41: 43594 | B41: 4 | C41: 10 | D41: 6 | E41: 5 | F41: 14 | H41: 11 | I41: 1 | J41: 4 | K41: 10 | L41: 6 | P41: =IF(ISNUMBER(MATCH(P$1,$B41:$C41,0)),0,P40+1) -> 10 | Q41: =IF(ISNUMBER(MATCH(Q$1,$B41:$C41,0)),0,Q40+1) -> 7 | R41: =IF(ISNUMBER(MATCH(R$1,$B41:$C41,0)),0,R40+1) -> 14 | S41: =IF(ISNUMBER(MATCH(S$1,$B41:$C41,0)),0,S40+1) -> 0 | T41: =IF(ISNUMBER(MATCH(T$1,$B41:$C41,0)),0,T40+1) -> 1 | U41: =IF(ISNUMBER(MATCH(U$1,$B41:$C41,0)),0,U40+1) -> 5 | V41: =IF(ISNUMBER(MATCH(V$1,$B41:$C41,0)),0,V40+1) -> 12 | W41: =IF(ISNUMBER(MATCH(W$1,$B41:$C41,0)),0,W40+1) -> 6 | ... AI41: =IF(ISNUMBER(MATCH(AI$1,$B41:$C41,0)),0,AI40+1) -> 39
A42: 43595 | B42: 9 | C42: 4 | D42: 1 | E42: 11 | F42: 12 | H42: 7 | I42: 4 | J42: 1 | K42: 12 | L42: 6 | P42: =IF(ISNUMBER(MATCH(P$1,$B42:$C42,0)),0,P41+1) -> 11 | Q42: =IF(ISNUMBER(MATCH(Q$1,$B42:$C42,0)),0,Q41+1) -> 8 | R42: =IF(ISNUMBER(MATCH(R$1,$B42:$C42,0)),0,R41+1) -> 15 | S42: =IF(ISNUMBER(MATCH(S$1,$B42:$C42,0)),0,S41+1) -> 0 | T42: =IF(ISNUMBER(MATCH(T$1,$B42:$C42,0)),0,T41+1) -> 2 | U42: =IF(ISNUMBER(MATCH(U$1,$B42:$C42,0)),0,U41+1) -> 6 | V42: =IF(ISNUMBER(MATCH(V$1,$B42:$C42,0)),0,V41+1) -> 13 | W42: =IF(ISNUMBER(MATCH(W$1,$B42:$C42,0)),0,W41+1) -> 7 | ... AI42: =IF(ISNUMBER(MATCH(AI$1,$B42:$C42,0)),0,AI41+1) -> 40
A43: 43596 | B43: 10 | C43: 2 | D43: 8 | E43: 4 | F43: 12 | H43: 2 | I43: 5 | J43: 8 | K43: 3 | L43: 6 | P43: =IF(ISNUMBER(MATCH(P$1,$B43:$C43,0)),0,P42+1) -> 12 | Q43: =IF(ISNUMBER(MATCH(Q$1,$B43:$C43,0)),0,Q42+1) -> 0 | R43: =IF(ISNUMBER(MATCH(R$1,$B43:$C43,0)),0,R42+1) -> 16 | S43: =IF(ISNUMBER(MATCH(S$1,$B43:$C43,0)),0,S42+1) -> 1 | T43: =IF(ISNUMBER(MATCH(T$1,$B43:$C43,0)),0,T42+1) -> 3 | U43: =IF(ISNUMBER(MATCH(U$1,$B43:$C43,0)),0,U42+1) -> 7 | V43: =IF(ISNUMBER(MATCH(V$1,$B43:$C43,0)),0,V42+1) -> 14 | W43: =IF(ISNUMBER(MATCH(W$1,$B43:$C43,0)),0,W42+1) -> 8 | ... AI43: =IF(ISNUMBER(MATCH(AI$1,$B43:$C43,0)),0,AI42+1) -> 41
A44: 43597 | B44: 9 | C44: 11 | D44: 5 | E44: 2 | F44: 14 | H44: 9 | I44: 5 | J44: 2 | K44: 3 | L44: 8 | P44: =IF(ISNUMBER(MATCH(P$1,$B44:$C44,0)),0,P43+1) -> 13 | Q44: =IF(ISNUMBER(MATCH(Q$1,$B44:$C44,0)),0,Q43+1) -> 1 | R44: =IF(ISNUMBER(MATCH(R$1,$B44:$C44,0)),0,R43+1) -> 17 | S44: =IF(ISNUMBER(MATCH(S$1,$B44:$C44,0)),0,S43+1) -> 2 | T44: =IF(ISNUMBER(MATCH(T$1,$B44:$C44,0)),0,T43+1) -> 4 | U44: =IF(ISNUMBER(MATCH(U$1,$B44:$C44,0)),0,U43+1) -> 8 | V44: =IF(ISNUMBER(MATCH(V$1,$B44:$C44,0)),0,V43+1) -> 15 | W44: =IF(ISNUMBER(MATCH(W$1,$B44:$C44,0)),0,W43+1) -> 9 | ... AI44: =IF(ISNUMBER(MATCH(AI$1,$B44:$C44,0)),0,AI43+1) -> 42
A45: 43598 | B45: 14 | C45: 9 | D45: 10 | E45: 8 | F45: 11 | H45: 3 | I45: 9 | J45: 10 | K45: 2 | L45: 7 | P45: =IF(ISNUMBER(MATCH(P$1,$B45:$C45,0)),0,P44+1) -> 14 | Q45: =IF(ISNUMBER(MATCH(Q$1,$B45:$C45,0)),0,Q44+1) -> 2 | R45: =IF(ISNUMBER(MATCH(R$1,$B45:$C45,0)),0,R44+1) -> 18 | S45: =IF(ISNUMBER(MATCH(S$1,$B45:$C45,0)),0,S44+1) -> 3 | T45: =IF(ISNUMBER(MATCH(T$1,$B45:$C45,0)),0,T44+1) -> 5 | U45: =IF(ISNUMBER(MATCH(U$1,$B45:$C45,0)),0,U44+1) -> 9 | V45: =IF(ISNUMBER(MATCH(V$1,$B45:$C45,0)),0,V44+1) -> 16 | W45: =IF(ISNUMBER(MATCH(W$1,$B45:$C45,0)),0,W44+1) -> 10 | ... AI45: =IF(ISNUMBER(MATCH(AI$1,$B45:$C45,0)),0,AI44+1) -> 43
A46: 43599 | B46: 14 | C46: 5 | D46: 16 | E46: 9 | F46: 2 | H46: 15 | I46: 10 | J46: 14 | K46: 18 | L46: 16 | P46: =IF(ISNUMBER(MATCH(P$1,$B46:$C46,0)),0,P45+1) -> 15 | Q46: =IF(ISNUMBER(MATCH(Q$1,$B46:$C46,0)),0,Q45+1) -> 3 | R46: =IF(ISNUMBER(MATCH(R$1,$B46:$C46,0)),0,R45+1) -> 19 | S46: =IF(ISNUMBER(MATCH(S$1,$B46:$C46,0)),0,S45+1) -> 4 | T46: =IF(ISNUMBER(MATCH(T$1,$B46:$C46,0)),0,T45+1) -> 0 | U46: =IF(ISNUMBER(MATCH(U$1,$B46:$C46,0)),0,U45+1) -> 10 | V46: =IF(ISNUMBER(MATCH(V$1,$B46:$C46,0)),0,V45+1) -> 17 | W46: =IF(ISNUMBER(MATCH(W$1,$B46:$C46,0)),0,W45+1) -> 11 | ... AI46: =IF(ISNUMBER(MATCH(AI$1,$B46:$C46,0)),0,AI45+1) -> 44
... A66: 43619 | B66: 1 | C66: 8 | D66: 14 | E66: 6 | F66: 9 | H66: 5 | I66: 8 | J66: 3 | K66: 1 | L66: 12 | P66: =IF(ISNUMBER(MATCH(P$1,$B66:$C66,0)),0,P65+1) -> 0 | Q66: =IF(ISNUMBER(MATCH(Q$1,$B66:$C66,0)),0,Q65+1) -> 9 | R66: =IF(ISNUMBER(MATCH(R$1,$B66:$C66,0)),0,R65+1) -> 19 | S66: =IF(ISNUMBER(MATCH(S$1,$B66:$C66,0)),0,S65+1) -> 2 | T66: =IF(ISNUMBER(MATCH(T$1,$B66:$C66,0)),0,T65+1) -> 5 | U66: =IF(ISNUMBER(MATCH(U$1,$B66:$C66,0)),0,U65+1) -> 1 | V66: =IF(ISNUMBER(MATCH(V$1,$B66:$C66,0)),0,V65+1) -> 8 | W66: =IF(ISNUMBER(MATCH(W$1,$B66:$C66,0)),0,W65+1) -> 0 | ... AI66: =IF(ISNUMBER(MATCH(AI$1,$B66:$C66,0)),0,AI65+1) -> 64
A67: 43620 | B67: 11 | C67: 9 | D67: 3 | E67: 4 | F67: 6 | H67: 2 np | I67: 8 np | J67: 4 | K67: 3 | L67: 6 | P67: =IF(ISNUMBER(MATCH(P$1,$B67:$C67,0)),0,P66+1) -> 1 | Q67: =IF(ISNUMBER(MATCH(Q$1,$B67:$C67,0)),0,Q66+1) -> 10 | R67: =IF(ISNUMBER(MATCH(R$1,$B67:$C67,0)),0,R66+1) -> 20 | S67: =IF(ISNUMBER(MATCH(S$1,$B67:$C67,0)),0,S66+1) -> 3 | T67: =IF(ISNUMBER(MATCH(T$1,$B67:$C67,0)),0,T66+1) -> 6 | U67: =IF(ISNUMBER(MATCH(U$1,$B67:$C67,0)),0,U66+1) -> 2 | V67: =IF(ISNUMBER(MATCH(V$1,$B67:$C67,0)),0,V66+1) -> 9 | W67: =IF(ISNUMBER(MATCH(W$1,$B67:$C67,0)),0,W66+1) -> 1 | ... AI67: =IF(ISNUMBER(MATCH(AI$1,$B67:$C67,0)),0,AI66+1) -> 65
A68: 43621 | B68: 1 | C68: 10 | D68: 11 | E68: 2 | F68: 16 | H68: 10 | I68: 1 | J68: 2 | K68: 16 | L68: 12 | P68: =IF(ISNUMBER(MATCH(P$1,$B68:$C68,0)),0,P67+1) -> 0 | Q68: =IF(ISNUMBER(MATCH(Q$1,$B68:$C68,0)),0,Q67+1) -> 11 | R68: =IF(ISNUMBER(MATCH(R$1,$B68:$C68,0)),0,R67+1) -> 21 | S68: =IF(ISNUMBER(MATCH(S$1,$B68:$C68,0)),0,S67+1) -> 4 | T68: =IF(ISNUMBER(MATCH(T$1,$B68:$C68,0)),0,T67+1) -> 7 | U68: =IF(ISNUMBER(MATCH(U$1,$B68:$C68,0)),0,U67+1) -> 3 | V68: =IF(ISNUMBER(MATCH(V$1,$B68:$C68,0)),0,V67+1) -> 10 | W68: =IF(ISNUMBER(MATCH(W$1,$B68:$C68,0)),0,W67+1) -> 2 | ... AI68: =IF(ISNUMBER(MATCH(AI$1,$B68:$C68,0)),0,AI67+1) -> 66
A69: 43622 | B69: 13 | C69: 2 | D69: 12 | E69: 10 | F69: 5 | H69: 10 | I69: 3 | J69: 12 | K69: 5 | L69: 8 | P69: =IF(ISNUMBER(MATCH(P$1,$B69:$C69,0)),0,P68+1) -> 1 | Q69: =IF(ISNUMBER(MATCH(Q$1,$B69:$C69,0)),0,Q68+1) -> 0 | R69: =IF(ISNUMBER(MATCH(R$1,$B69:$C69,0)),0,R68+1) -> 22 | S69: =IF(ISNUMBER(MATCH(S$1,$B69:$C69,0)),0,S68+1) -> 5 | T69: =IF(ISNUMBER(MATCH(T$1,$B69:$C69,0)),0,T68+1) -> 8 | U69: =IF(ISNUMBER(MATCH(U$1,$B69:$C69,0)),0,U68+1) -> 4 | V69: =IF(ISNUMBER(MATCH(V$1,$B69:$C69,0)),0,V68+1) -> 11 | W69: =IF(ISNUMBER(MATCH(W$1,$B69:$C69,0)),0,W68+1) -> 3 | ... AI69: =IF(ISNUMBER(MATCH(AI$1,$B69:$C69,0)),0,AI68+1) -> 67
A70: 43623 | B70: 10 | C70: 8 | D70: 5 | E70: 6 | F70: 13 | H70: 6 | I70: 10 | J70: 4 | K70: 12 | L70: 13 | P70: =IF(ISNUMBER(MATCH(P$1,$B70:$C70,0)),0,P69+1) -> 2 | Q70: =IF(ISNUMBER(MATCH(Q$1,$B70:$C70,0)),0,Q69+1) -> 1 | R70: =IF(ISNUMBER(MATCH(R$1,$B70:$C70,0)),0,R69+1) -> 23 | S70: =IF(ISNUMBER(MATCH(S$1,$B70:$C70,0)),0,S69+1) -> 6 | T70: =IF(ISNUMBER(MATCH(T$1,$B70:$C70,0)),0,T69+1) -> 9 | U70: =IF(ISNUMBER(MATCH(U$1,$B70:$C70,0)),0,U69+1) -> 5 | V70: =IF(ISNUMBER(MATCH(V$1,$B70:$C70,0)),0,V69+1) -> 12 | W70: =IF(ISNUMBER(MATCH(W$1,$B70:$C70,0)),0,W69+1) -> 0 | ... AI70: =IF(ISNUMBER(MATCH(AI$1,$B70:$C70,0)),0,AI69+1) -> 68
A71: 43624 | B71: 12 | C71: 9 | D71: 7 | E71: 11 | F71: 15 | H71: 9 | I71: 7 | J71: 2 | K71: 11 | L71: 6 | P71: =IF(ISNUMBER(MATCH(P$1,$B71:$C71,0)),0,P70+1) -> 3 | Q71: =IF(ISNUMBER(MATCH(Q$1,$B71:$C71,0)),0,Q70+1) -> 2 | R71: =IF(ISNUMBER(MATCH(R$1,$B71:$C71,0)),0,R70+1) -> 24 | S71: =IF(ISNUMBER(MATCH(S$1,$B71:$C71,0)),0,S70+1) -> 7 | T71: =IF(ISNUMBER(MATCH(T$1,$B71:$C71,0)),0,T70+1) -> 10 | U71: =IF(ISNUMBER(MATCH(U$1,$B71:$C71,0)),0,U70+1) -> 6 | V71: =IF(ISNUMBER(MATCH(V$1,$B71:$C71,0)),0,V70+1) -> 13 | W71: =IF(ISNUMBER(MATCH(W$1,$B71:$C71,0)),0,W70+1) -> 1 | ... AI71: =IF(ISNUMBER(MATCH(AI$1,$B71:$C71,0)),0,AI70+1) -> 69
A72: 43625 | B72: 12 | C72: 9 | D72: 10 | E72: 11 | F72: 7 | H72: 9 | I72: 5 | J72: 10 | K72: 14 | L72: 16 | P72: =IF(ISNUMBER(MATCH(P$1,$B72:$C72,0)),0,P71+1) -> 4 | Q72: =IF(ISNUMBER(MATCH(Q$1,$B72:$C72,0)),0,Q71+1) -> 3 | R72: =IF(ISNUMBER(MATCH(R$1,$B72:$C72,0)),0,R71+1) -> 25 | S72: =IF(ISNUMBER(MATCH(S$1,$B72:$C72,0)),0,S71+1) -> 8 | T72: =IF(ISNUMBER(MATCH(T$1,$B72:$C72,0)),0,T71+1) -> 11 | U72: =IF(ISNUMBER(MATCH(U$1,$B72:$C72,0)),0,U71+1) -> 7 | V72: =IF(ISNUMBER(MATCH(V$1,$B72:$C72,0)),0,V71+1) -> 14 | W72: =IF(ISNUMBER(MATCH(W$1,$B72:$C72,0)),0,W71+1) -> 2 | ... AI72: =IF(ISNUMBER(MATCH(AI$1,$B72:$C72,0)),0,AI71+1) -> 70
A73: 43626 | B73: 2 | C73: 10 | D73: 9 | E73: 13 | F73: 4 | H73: 4 | I73: 1 | J73: 10 | K73: 2 | L73: 9 | P73: =IF(ISNUMBER(MATCH(P$1,$B73:$C73,0)),0,P72+1) -> 5 | Q73: =IF(ISNUMBER(MATCH(Q$1,$B73:$C73,0)),0,Q72+1) -> 0 | R73: =IF(ISNUMBER(MATCH(R$1,$B73:$C73,0)),0,R72+1) -> 26 | S73: =IF(ISNUMBER(MATCH(S$1,$B73:$C73,0)),0,S72+1) -> 9 | T73: =IF(ISNUMBER(MATCH(T$1,$B73:$C73,0)),0,T72+1) -> 12 | U73: =IF(ISNUMBER(MATCH(U$1,$B73:$C73,0)),0,U72+1) -> 8 | V73: =IF(ISNUMBER(MATCH(V$1,$B73:$C73,0)),0,V72+1) -> 15 | W73: =IF(ISNUMBER(MATCH(W$1,$B73:$C73,0)),0,W72+1) -> 3 | ... AI73: =IF(ISNUMBER(MATCH(AI$1,$B73:$C73,0)),0,AI72+1) -> 71
A74: 43627 | B74: 15 | C74: 7 | D74: 2 | E74: 13 | F74: 6 | H74: 6 | I74: 16 | J74: 15 | K74: 1 | L74: 9 | P74: =IF(ISNUMBER(MATCH(P$1,$B74:$C74,0)),0,P73+1) -> 6 | Q74: =IF(ISNUMBER(MATCH(Q$1,$B74:$C74,0)),0,Q73+1) -> 1 | R74: =IF(ISNUMBER(MATCH(R$1,$B74:$C74,0)),0,R73+1) -> 27 | S74: =IF(ISNUMBER(MATCH(S$1,$B74:$C74,0)),0,S73+1) -> 10 | T74: =IF(ISNUMBER(MATCH(T$1,$B74:$C74,0)),0,T73+1) -> 13 | U74: =IF(ISNUMBER(MATCH(U$1,$B74:$C74,0)),0,U73+1) -> 9 | V74: =IF(ISNUMBER(MATCH(V$1,$B74:$C74,0)),0,V73+1) -> 0 | W74: =IF(ISNUMBER(MATCH(W$1,$B74:$C74,0)),0,W73+1) -> 4 | ... AI74: =IF(ISNUMBER(MATCH(AI$1,$B74:$C74,0)),0,AI73+1) -> 72
A75: 43628 | B75: 4 | C75: 15 | D75: 2 | E75: 16 | F75: 14 | H75: 9 | I75: 3 | J75: 6 | K75: 2 | L75: 5 | P75: =IF(ISNUMBER(MATCH(P$1,$B75:$C75,0)),0,P74+1) -> 7 | Q75: =IF(ISNUMBER(MATCH(Q$1,$B75:$C75,0)),0,Q74+1) -> 2 | R75: =IF(ISNUMBER(MATCH(R$1,$B75:$C75,0)),0,R74+1) -> 28 | S75: =IF(ISNUMBER(MATCH(S$1,$B75:$C75,0)),0,S74+1) -> 0 | T75: =IF(ISNUMBER(MATCH(T$1,$B75:$C75,0)),0,T74+1) -> 14 | U75: =IF(ISNUMBER(MATCH(U$1,$B75:$C75,0)),0,U74+1) -> 10 | V75: =IF(ISNUMBER(MATCH(V$1,$B75:$C75,0)),0,V74+1) -> 1 | W75: =IF(ISNUMBER(MATCH(W$1,$B75:$C75,0)),0,W74+1) -> 5 | ... AI75: =IF(ISNUMBER(MATCH(AI$1,$B75:$C75,0)),0,AI74+1) -> 73
A76: 43629 | B76: 7 | C76: 11 | D76: 4 | E76: 14 | F76: 3 | H76: 1 | I76: 7 | J76: 11 | K76: 10 | L76: 3 | P76: =IF(ISNUMBER(MATCH(P$1,$B76:$C76,0)),0,P75+1) -> 8 | Q76: =IF(ISNUMBER(MATCH(Q$1,$B76:$C76,0)),0,Q75+1) -> 3 | R76: =IF(ISNUMBER(MATCH(R$1,$B76:$C76,0)),0,R75+1) -> 29 | S76: =IF(ISNUMBER(MATCH(S$1,$B76:$C76,0)),0,S75+1) -> 1 | T76: =IF(ISNUMBER(MATCH(T$1,$B76:$C76,0)),0,T75+1) -> 15 | U76: =IF(ISNUMBER(MATCH(U$1,$B76:$C76,0)),0,U75+1) -> 11 | V76: =IF(ISNUMBER(MATCH(V$1,$B76:$C76,0)),0,V75+1) -> 0 | W76: =IF(ISNUMBER(MATCH(W$1,$B76:$C76,0)),0,W75+1) -> 6 | ... AI76: =IF(ISNUMBER(MATCH(AI$1,$B76:$C76,0)),0,AI75+1) -> 74
A77: 43630 | B77: 8 | C77: 4 | D77: 6 | E77: 1 | F77: 12 | H77: 9 | I77: 8 | J77: 1 | K77: 7 | L77: 11 | P77: =IF(ISNUMBER(MATCH(P$1,$B77:$C77,0)),0,P76+1) -> 9 | Q77: =IF(ISNUMBER(MATCH(Q$1,$B77:$C77,0)),0,Q76+1) -> 4 | R77: =IF(ISNUMBER(MATCH(R$1,$B77:$C77,0)),0,R76+1) -> 30 | S77: =IF(ISNUMBER(MATCH(S$1,$B77:$C77,0)),0,S76+1) -> 0 | T77: =IF(ISNUMBER(MATCH(T$1,$B77:$C77,0)),0,T76+1) -> 16 | U77: =IF(ISNUMBER(MATCH(U$1,$B77:$C77,0)),0,U76+1) -> 12 | V77: =IF(ISNUMBER(MATCH(V$1,$B77:$C77,0)),0,V76+1) -> 1 | W77: =IF(ISNUMBER(MATCH(W$1,$B77:$C77,0)),0,W76+1) -> 0 | ... AI77: =IF(ISNUMBER(MATCH(AI$1,$B77:$C77,0)),0,AI76+1) -> 75
A78: 43631 | B78: 12 | C78: 13 | D78: 5 | E78: 7 | F78: 2 | H78: 9 | I78: 13 | J78: 4 | K78: 2 | L78: 7 | P78: =IF(ISNUMBER(MATCH(P$1,$B78:$C78,0)),0,P77+1) -> 10 | Q78: =IF(ISNUMBER(MATCH(Q$1,$B78:$C78,0)),0,Q77+1) -> 5 | R78: =IF(ISNUMBER(MATCH(R$1,$B78:$C78,0)),0,R77+1) -> 31 | S78: =IF(ISNUMBER(MATCH(S$1,$B78:$C78,0)),0,S77+1) -> 1 | T78: =IF(ISNUMBER(MATCH(T$1,$B78:$C78,0)),0,T77+1) -> 17 | U78: =IF(ISNUMBER(MATCH(U$1,$B78:$C78,0)),0,U77+1) -> 13 | V78: =IF(ISNUMBER(MATCH(V$1,$B78:$C78,0)),0,V77+1) -> 2 | W78: =IF(ISNUMBER(MATCH(W$1,$B78:$C78,0)),0,W77+1) -> 1 | ... AI78: =IF(ISNUMBER(MATCH(AI$1,$B78:$C78,0)),0,AI77+1) -> 76
...

Sheet Favoris P  I
A4: Couplés Pair / Impair suivant favoris
A6: Favoris Pair ou Impair | B6: N° Pair suivant favoris | C6: N° Impair suivant favoris
A8: 1 | B8: 4,6,10,12,14 | C8: 5,13,15
A9: 2 | B9: 4 | C9: 1,3,5,9,11,13,17
A10: 3 | B10: 2,6,8,10,14 | C10: 9
A11: 4 | C11: 1,3,5,7,9,13,15
A12: 5 | B12: 2,4,6,8,12,14,16
A13: 6 | C13: 1,3,5,7,9,11,15
A14: 7 | B14: 2,4,6,10,12,16
A15: 8 | C15: 3,5,7,9,11,13
A16: 9 | B16: 4,6,8,10,14,18 | C16: 1.7
A17: 10 | B17: 18 | C17: 1,3,5,7,9,15,17
A18: 11 | B18: 2,4,6,8,12,14,18 | C18: 1.7
A19: 12 | C19: 3,5,7,9,11,15
A20: 13 | B20: 2,4,6,8,10,12,14,16 | C20: 11
A21: 14 | C21: 3,5,7,9,11,15
A22: 15 | B22: 2,6,8,12,14 | C22: 7,9,11
A23: 16 | C23: 1,3,9,11,13,15
A24: 17 | B24: 4,6,7,10,14,16 | C24: 9.15
A25: 18 | C25: 5,7,9,13,17
A26: 19
A27: 20 | C27: 15

Sheet Handicaps
A4: On JOUE donc les poids MOYENS, ou plus exactement le nombre de partants ayant été divisés par deux, on JOUE LES PREMIERS DE LA SECONDE MOITIE DU HANDICAP.
A6: Le nombre de chevaux à jouer dans chaque handicap est déterminé par le nombre de partants.
A9: * CINQ partants : UNE CHEVAL A JOUER (le 3ème de l'échelle)
A11: * SIX à ONZE partants : DEUX CHEVAUX A JOUER (quand il y a 6 partants, ce sont le 3ème et le 4ème. Pour 11 partants, le 5ème et le 6ème de l'échelle).
A13: * DOUZE à QUATORZE partants : TROIS CHEVAUX A JOUER (pour 12 et 13 partants, ce sont les 6ème, 7ème et 8ème de l'échelle. Pour 14 partants : 7ème, 8ème et 9ème.
A15: * QUINZE à VINGT partants : QUATRE CHEVAUX A JOUER (pour 17 partants par exemple, ce sont les 8ème, 9ème, 10ème, 11ème de l'échelle

Sheet Carré magique 
B3: 4 | C3: 14 | D3: 15 | E3: 1
B4: 9 | C4: 7 | D4: 6 | E4: 12
B5: 5 | C5: 11 | D5: 10 | E5: 8
B6: 16 | C6: 2 | D6: 3 | E6: 13

Sheet F5
A1: Classement | B1: Cheval
A2: 1 | B2: =MATCH(A2,Arrivées!A$279:AI$279,0)-15 -> 4
A3: 2 | B3: =MATCH(A3,Arrivées!A$279:AI$279,0)-15 -> 6
A4: 3 | B4: =MATCH(A4,Arrivées!A$279:AI$279,0)-15 -> 8
A5: 4 | B5: =MATCH(A5,Arrivées!A$279:AI$279,0)-15 -> 2
A6: 5 | B6: =MATCH(A6,Arrivées!A$279:AI$279,0)-15 -> 13
A7: 6 | B7: =MATCH(A7,Arrivées!A$279:AI$279,0)-15 -> 14
A8: 7 | B8: =MATCH(A8,Arrivées!A$279:AI$279,0)-15 -> 1
A9: 8 | B9: =MATCH(A9,Arrivées!A$279:AI$279,0)-15 -> 9
A10: 9 | B10: =MATCH(A10,Arrivées!A$279:AI$279,0)-15 -> 7
A11: 10 | B11: =MATCH(A11,Arrivées!A$279:AI$279,0)-15 -> 11
A12: 11 | B12: =MATCH(A12,Arrivées!A$279:AI$279,0)-15 -> 15
A13: 12 | B13: =MATCH(A13,Arrivées!A$279:AI$279,0)-15 -> 16
... A20: 19 | B20: =MATCH(A20,Arrivées!A$279:AI$279,0)-15 -> 18
