Workbook

Sheet Base Fact
B1: =IF(B4=Fact!$C$4,COLUMN(),"") -> 2 | C1: =IF(C4=Fact!$C$4,COLUMN(),"") | D1: =IF(D4=Fact!$C$4,COLUMN(),"") | E1: =IF(E4=Fact!$C$4,COLUMN(),"") | F1: =IF(F4=Fact!$C$4,COLUMN(),"") | G1: =IF(G4=Fact!$C$4,COLUMN(),"") | H1: =IF(H4=Fact!$C$4,COLUMN(),"") | I1: =IF(I4=Fact!$C$4,COLUMN(),"") | ... K1: =IF(K4=Fact!$C$4,COLUMN(),"")
B4: F.001 | C4: F.002 | D4: F.003 | E4: F.004 | F4: F.005 | G4: F.006 | H4: F.007 | I4: F.008 | J4: F.009 | K4: F.010
A5: FP.01 | D5: 1 | L5: =IF(INDIRECT(ADDRESS(ROW(),MATCH(Fact!$C$4,$4:$4)),1)="","",ROW())
A6: FP.02 | E6: 2 | L6: =IF(INDIRECT(ADDRESS(ROW(),MATCH(Fact!$C$4,$4:$4)),1)="","",ROW())
A7: FP.03 | B7: 5 | L7: =IF(INDIRECT(ADDRESS(ROW(),MATCH(Fact!$C$4,$4:$4)),1)="","",ROW()) -> 7
A8: FP.04 | C8: 2 | L8: =IF(INDIRECT(ADDRESS(ROW(),MATCH(Fact!$C$4,$4:$4)),1)="","",ROW())
A9: FP.05 | B9: 5 | F9: 6 | L9: =IF(INDIRECT(ADDRESS(ROW(),MATCH(Fact!$C$4,$4:$4)),1)="","",ROW()) -> 9
A10: FP.06 | D10: 4 | L10: =IF(INDIRECT(ADDRESS(ROW(),MATCH(Fact!$C$4,$4:$4)),1)="","",ROW())
A11: FP.07 | D11: 4 | L11: =IF(INDIRECT(ADDRESS(ROW(),MATCH(Fact!$C$4,$4:$4)),1)="","",ROW())
A12: FP.08 | B12: 10 | L12: =IF(INDIRECT(ADDRESS(ROW(),MATCH(Fact!$C$4,$4:$4)),1)="","",ROW()) -> 12
A13: FP.09 | C13: 4 | L13: =IF(INDIRECT(ADDRESS(ROW(),MATCH(Fact!$C$4,$4:$4)),1)="","",ROW())
A14: FP.10 | L14: =IF(INDIRECT(ADDRESS(ROW(),MATCH(Fact!$C$4,$4:$4)),1)="","",ROW())
A15: FP.11 | L15: =IF(INDIRECT(ADDRESS(ROW(),MATCH(Fact!$C$4,$4:$4)),1)="","",ROW())
A16: FP.12 | D16: 7 | L16: =IF(INDIRECT(ADDRESS(ROW(),MATCH(Fact!$C$4,$4:$4)),1)="","",ROW())
A17: FP.13 | B17: 7 | L17: =IF(INDIRECT(ADDRESS(ROW(),MATCH(Fact!$C$4,$4:$4)),1)="","",ROW()) -> 17
A18: FP.14 | F18: 7 | L18: =IF(INDIRECT(ADDRESS(ROW(),MATCH(Fact!$C$4,$4:$4)),1)="","",ROW())
A19: FP.15 | L19: =IF(INDIRECT(ADDRESS(ROW(),MATCH(Fact!$C$4,$4:$4)),1)="","",ROW())
A20: FP.16 | L20: =IF(INDIRECT(ADDRESS(ROW(),MATCH(Fact!$C$4,$4:$4)),1)="","",ROW())
A21: FP.17 | E21: 10 | L21: =IF(INDIRECT(ADDRESS(ROW(),MATCH(Fact!$C$4,$4:$4)),1)="","",ROW())
A22: FP.18 | L22: =IF(INDIRECT(ADDRESS(ROW(),MATCH(Fact!$C$4,$4:$4)),1)="","",ROW())
A23: FP.19 | L23: =IF(INDIRECT(ADDRESS(ROW(),MATCH(Fact!$C$4,$4:$4)),1)="","",ROW())
A24: FP.20 | L24: =IF(INDIRECT(ADDRESS(ROW(),MATCH(Fact!$C$4,$4:$4)),1)="","",ROW())
L25: =IF(INDIRECT(ADDRESS(ROW(),MATCH(Fact!$C$4,$4:$4)),1)="","",ROW())

Sheet Fact
A4: FACT : | C4: F.001
A6: FP : | B6: Quantité :
A7: =IF(ISERROR(SMALL('Base Fact'!$L:$L,ROW()-6)),"",INDIRECT(ADDRESS(SMALL('Base Fact'!$L:$L,ROW()-6),1,4,1,"Base Fact"),1)) -> FP.03 | B7: =IF(ISERROR(SMALL('Base Fact'!$L:$L,ROW()-6)),"",INDIRECT(ADDRESS(SMALL('Base Fact'!$L:$L,ROW()-6),MATCH($C$4,'Base Fact'!$4:$4,0),4,1,"Base Fact"),1)) -> 5
A8: =IF(ISERROR(SMALL('Base Fact'!$L:$L,ROW()-6)),"",INDIRECT(ADDRESS(SMALL('Base Fact'!$L:$L,ROW()-6),1,4,1,"Base Fact"),1)) -> FP.05 | B8: =IF(ISERROR(SMALL('Base Fact'!$L:$L,ROW()-6)),"",INDIRECT(ADDRESS(SMALL('Base Fact'!$L:$L,ROW()-6),MATCH($C$4,'Base Fact'!$4:$4,0),4,1,"Base Fact"),1)) -> 5
A9: =IF(ISERROR(SMALL('Base Fact'!$L:$L,ROW()-6)),"",INDIRECT(ADDRESS(SMALL('Base Fact'!$L:$L,ROW()-6),1,4,1,"Base Fact"),1)) -> FP.08 | B9: =IF(ISERROR(SMALL('Base Fact'!$L:$L,ROW()-6)),"",INDIRECT(ADDRESS(SMALL('Base Fact'!$L:$L,ROW()-6),MATCH($C$4,'Base Fact'!$4:$4,0),4,1,"Base Fact"),1)) -> 10
A10: =IF(ISERROR(SMALL('Base Fact'!$L:$L,ROW()-6)),"",INDIRECT(ADDRESS(SMALL('Base Fact'!$L:$L,ROW()-6),1,4,1,"Base Fact"),1)) -> FP.13 | B10: =IF(ISERROR(SMALL('Base Fact'!$L:$L,ROW()-6)),"",INDIRECT(ADDRESS(SMALL('Base Fact'!$L:$L,ROW()-6),MATCH($C$4,'Base Fact'!$4:$4,0),4,1,"Base Fact"),1)) -> 7
A11: =IF(ISERROR(SMALL('Base Fact'!$L:$L,ROW()-6)),"",INDIRECT(ADDRESS(SMALL('Base Fact'!$L:$L,ROW()-6),1,4,1,"Base Fact"),1)) | B11: =IF(ISERROR(SMALL('Base Fact'!$L:$L,ROW()-6)),"",INDIRECT(ADDRESS(SMALL('Base Fact'!$L:$L,ROW()-6),MATCH($C$4,'Base Fact'!$4:$4,0),4,1,"Base Fact"),1))
A12: =IF(ISERROR(SMALL('Base Fact'!$L:$L,ROW()-6)),"",INDIRECT(ADDRESS(SMALL('Base Fact'!$L:$L,ROW()-6),1,4,1,"Base Fact"),1)) | B12: =IF(ISERROR(SMALL('Base Fact'!$L:$L,ROW()-6)),"",INDIRECT(ADDRESS(SMALL('Base Fact'!$L:$L,ROW()-6),MATCH($C$4,'Base Fact'!$4:$4,0),4,1,"Base Fact"),1))
A13: =IF(ISERROR(SMALL('Base Fact'!$L:$L,ROW()-6)),"",INDIRECT(ADDRESS(SMALL('Base Fact'!$L:$L,ROW()-6),1,4,1,"Base Fact"),1)) | B13: =IF(ISERROR(SMALL('Base Fact'!$L:$L,ROW()-6)),"",INDIRECT(ADDRESS(SMALL('Base Fact'!$L:$L,ROW()-6),MATCH($C$4,'Base Fact'!$4:$4,0),4,1,"Base Fact"),1))
A14: =IF(ISERROR(SMALL('Base Fact'!$L:$L,ROW()-6)),"",INDIRECT(ADDRESS(SMALL('Base Fact'!$L:$L,ROW()-6),1,4,1,"Base Fact"),1)) | B14: =IF(ISERROR(SMALL('Base Fact'!$L:$L,ROW()-6)),"",INDIRECT(ADDRESS(SMALL('Base Fact'!$L:$L,ROW()-6),MATCH($C$4,'Base Fact'!$4:$4,0),4,1,"Base Fact"),1))
A15: =IF(ISERROR(SMALL('Base Fact'!$L:$L,ROW()-6)),"",INDIRECT(ADDRESS(SMALL('Base Fact'!$L:$L,ROW()-6),1,4,1,"Base Fact"),1)) | B15: =IF(ISERROR(SMALL('Base Fact'!$L:$L,ROW()-6)),"",INDIRECT(ADDRESS(SMALL('Base Fact'!$L:$L,ROW()-6),MATCH($C$4,'Base Fact'!$4:$4,0),4,1,"Base Fact"),1))
A16: =IF(ISERROR(SMALL('Base Fact'!$L:$L,ROW()-6)),"",INDIRECT(ADDRESS(SMALL('Base Fact'!$L:$L,ROW()-6),1,4,1,"Base Fact"),1)) | B16: =IF(ISERROR(SMALL('Base Fact'!$L:$L,ROW()-6)),"",INDIRECT(ADDRESS(SMALL('Base Fact'!$L:$L,ROW()-6),MATCH($C$4,'Base Fact'!$4:$4,0),4,1,"Base Fact"),1))
A17: =IF(ISERROR(SMALL('Base Fact'!$L:$L,ROW()-6)),"",INDIRECT(ADDRESS(SMALL('Base Fact'!$L:$L,ROW()-6),1,4,1,"Base Fact"),1)) | B17: =IF(ISERROR(SMALL('Base Fact'!$L:$L,ROW()-6)),"",INDIRECT(ADDRESS(SMALL('Base Fact'!$L:$L,ROW()-6),MATCH($C$4,'Base Fact'!$4:$4,0),4,1,"Base Fact"),1))
A18: =IF(ISERROR(SMALL('Base Fact'!$L:$L,ROW()-6)),"",INDIRECT(ADDRESS(SMALL('Base Fact'!$L:$L,ROW()-6),1,4,1,"Base Fact"),1)) | B18: =IF(ISERROR(SMALL('Base Fact'!$L:$L,ROW()-6)),"",INDIRECT(ADDRESS(SMALL('Base Fact'!$L:$L,ROW()-6),MATCH($C$4,'Base Fact'!$4:$4,0),4,1,"Base Fact"),1))
... A26: =IF(ISERROR(SMALL('Base Fact'!$L:$L,ROW()-6)),"",INDIRECT(ADDRESS(SMALL('Base Fact'!$L:$L,ROW()-6),1,4,1,"Base Fact"),1)) | B26: =IF(ISERROR(SMALL('Base Fact'!$L:$L,ROW()-6)),"",INDIRECT(ADDRESS(SMALL('Base Fact'!$L:$L,ROW()-6),MATCH($C$4,'Base Fact'!$4:$4,0),4,1,"Base Fact"),1))
