Workbook

Sheet Resources
A1: ID Resource | B1: Legal Entity Id information | C1: Legal Entity Id - Code | D1: Gender information | E1: Last Name | F1: First Name | G1: Profile Type information | H1: Email Address | I1: First arrival date | J1: Last departure date | K1: System Source | L1: Creation Date | M1: Modification Date | N1: Country information | O1: Country - Code | P1: Assigned Organization information | Q1: BU information | R1: Status information | S1: Status - Code | T1: Manager information | U1: Manager - ID Resource | V1: Manager or Not
A2: MDM_1224 | G2: Internal | R2: ACTIVE | S2: IN | U2: MDM_1032 | V2: =IF(COUNTIF($U:$U,A2)>=1,"Manager","Not") -> Manager | W2: =IF(OR(V2="Not",U2=U3),"",IF(AND(S2="IN",R2="ACTIVE",OR(COUNTIFS($G$2:$G$6607,"Internal",$V$2:$V$6607,"<>"&"Not",$U$2:$U$6607,U2)>=2,COUNTIFS($G$2:$G$6607,"External",$V$2:$V$6607,"<>"&"Not",$U$2:$U$6607,U2)>=10))=1,ROW(),""))
A3: MDM_1600 | G3: Internal | R3: ACTIVE | S3: IN | U3: MDM_1032 | V3: =IF(COUNTIF($U:$U,A3)>=1,"Manager","Not") -> Manager | W3: =IF(OR(V3="Not",U3=U4),"",IF(AND(S3="IN",R3="ACTIVE",OR(COUNTIFS($G$2:$G$6607,"Internal",$V$2:$V$6607,"<>"&"Not",$U$2:$U$6607,U3)>=2,COUNTIFS($G$2:$G$6607,"External",$V$2:$V$6607,"<>"&"Not",$U$2:$U$6607,U3)>=10))=1,ROW(),""))
A4: MDM_1834 | G4: Internal | R4: ACTIVE | S4: IN | U4: MDM_1032 | V4: =IF(COUNTIF($U:$U,A4)>=1,"Manager","Not") -> Manager | W4: =IF(OR(V4="Not",U4=U5),"",IF(AND(S4="IN",R4="ACTIVE",OR(COUNTIFS($G$2:$G$6607,"Internal",$V$2:$V$6607,"<>"&"Not",$U$2:$U$6607,U4)>=2,COUNTIFS($G$2:$G$6607,"External",$V$2:$V$6607,"<>"&"Not",$U$2:$U$6607,U4)>=10))=1,ROW(),""))
A5: MDM_3744 | G5: Internal | R5: ACTIVE | S5: IN | U5: MDM_1032 | V5: =IF(COUNTIF($U:$U,A5)>=1,"Manager","Not") -> Manager | W5: =IF(OR(V5="Not",U5=U6),"",IF(AND(S5="IN",R5="ACTIVE",OR(COUNTIFS($G$2:$G$6607,"Internal",$V$2:$V$6607,"<>"&"Not",$U$2:$U$6607,U5)>=2,COUNTIFS($G$2:$G$6607,"External",$V$2:$V$6607,"<>"&"Not",$U$2:$U$6607,U5)>=10))=1,ROW(),""))
A6: MDM_4399 | G6: Internal | R6: ACTIVE | S6: IN | U6: MDM_1032 | V6: =IF(COUNTIF($U:$U,A6)>=1,"Manager","Not") -> Manager | W6: =IF(OR(V6="Not",U6=U7),"",IF(AND(S6="IN",R6="ACTIVE",OR(COUNTIFS($G$2:$G$6607,"Internal",$V$2:$V$6607,"<>"&"Not",$U$2:$U$6607,U6)>=2,COUNTIFS($G$2:$G$6607,"External",$V$2:$V$6607,"<>"&"Not",$U$2:$U$6607,U6)>=10))=1,ROW(),""))
A7: MDM_490 | G7: Internal | R7: ACTIVE | S7: IN | U7: MDM_1032 | V7: =IF(COUNTIF($U:$U,A7)>=1,"Manager","Not") -> Manager | W7: =IF(OR(V7="Not",U7=U8),"",IF(AND(S7="IN",R7="ACTIVE",OR(COUNTIFS($G$2:$G$6607,"Internal",$V$2:$V$6607,"<>"&"Not",$U$2:$U$6607,U7)>=2,COUNTIFS($G$2:$G$6607,"External",$V$2:$V$6607,"<>"&"Not",$U$2:$U$6607,U7)>=10))=1,ROW(),"")) -> 7
A8: MDM_1653 | G8: Internal | R8: ACTIVE | S8: IN | U8: MDM_1035 | V8: =IF(COUNTIF($U:$U,A8)>=1,"Manager","Not") -> Manager | W8: =IF(OR(V8="Not",U8=U9),"",IF(AND(S8="IN",R8="ACTIVE",OR(COUNTIFS($G$2:$G$6607,"Internal",$V$2:$V$6607,"<>"&"Not",$U$2:$U$6607,U8)>=2,COUNTIFS($G$2:$G$6607,"External",$V$2:$V$6607,"<>"&"Not",$U$2:$U$6607,U8)>=10))=1,ROW(),""))
A9: MDM_1673 | G9: Internal | R9: ACTIVE | S9: IN | U9: MDM_1035 | V9: =IF(COUNTIF($U:$U,A9)>=1,"Manager","Not") -> Manager | W9: =IF(OR(V9="Not",U9=U10),"",IF(AND(S9="IN",R9="ACTIVE",OR(COUNTIFS($G$2:$G$6607,"Internal",$V$2:$V$6607,"<>"&"Not",$U$2:$U$6607,U9)>=2,COUNTIFS($G$2:$G$6607,"External",$V$2:$V$6607,"<>"&"Not",$U$2:$U$6607,U9)>=10))=1,ROW(),""))
A10: MDM_1706 | G10: Internal | R10: ACTIVE | S10: IN | U10: MDM_1035 | V10: =IF(COUNTIF($U:$U,A10)>=1,"Manager","Not") -> Manager | W10: =IF(OR(V10="Not",U10=U11),"",IF(AND(S10="IN",R10="ACTIVE",OR(COUNTIFS($G$2:$G$6607,"Internal",$V$2:$V$6607,"<>"&"Not",$U$2:$U$6607,U10)>=2,COUNTIFS($G$2:$G$6607,"External",$V$2:$V$6607,"<>"&"Not",$U$2:$U$6607,U10)>=10))=1,ROW(),""))
A11: MDM_3753 | G11: Internal | R11: ACTIVE | S11: IN | U11: MDM_1035 | V11: =IF(COUNTIF($U:$U,A11)>=1,"Manager","Not") -> Manager | W11: =IF(OR(V11="Not",U11=U12),"",IF(AND(S11="IN",R11="ACTIVE",OR(COUNTIFS($G$2:$G$6607,"Internal",$V$2:$V$6607,"<>"&"Not",$U$2:$U$6607,U11)>=2,COUNTIFS($G$2:$G$6607,"External",$V$2:$V$6607,"<>"&"Not",$U$2:$U$6607,U11)>=10))=1,ROW(),""))
A12: MDM_6142 | G12: Internal | R12: ACTIVE | S12: IN | U12: MDM_1035 | V12: =IF(COUNTIF($U:$U,A12)>=1,"Manager","Not") -> Manager | W12: =IF(OR(V12="Not",U12=U13),"",IF(AND(S12="IN",R12="ACTIVE",OR(COUNTIFS($G$2:$G$6607,"Internal",$V$2:$V$6607,"<>"&"Not",$U$2:$U$6607,U12)>=2,COUNTIFS($G$2:$G$6607,"External",$V$2:$V$6607,"<>"&"Not",$U$2:$U$6607,U12)>=10))=1,ROW(),"")) -> 12
A13: MDM_1168 | G13: Internal | R13: ACTIVE | S13: IN | U13: MDM_1079 | V13: =IF(COUNTIF($U:$U,A13)>=1,"Manager","Not") -> Manager | W13: =IF(OR(V13="Not",U13=U14),"",IF(AND(S13="IN",R13="ACTIVE",OR(COUNTIFS($G$2:$G$6607,"Internal",$V$2:$V$6607,"<>"&"Not",$U$2:$U$6607,U13)>=2,COUNTIFS($G$2:$G$6607,"External",$V$2:$V$6607,"<>"&"Not",$U$2:$U$6607,U13)>=10))=1,ROW(),""))
... A727: MDM_1760 | G727: Internal | R727: ACTIVE | S727: IN | U727: MDM_937 | V727: =IF(COUNTIF($U:$U,A727)>=1,"Manager","Not") -> Manager | W727: =IF(OR(V727="Not",U727=U728),"",IF(AND(S727="IN",R727="ACTIVE",OR(COUNTIFS($G$2:$G$6607,"Internal",$V$2:$V$6607,"<>"&"Not",$U$2:$U$6607,U727)>=2,COUNTIFS($G$2:$G$6607,"External",$V$2:$V$6607,"<>"&"Not",$U$2:$U$6607,U727)>=10))=1,ROW(),""))
A728: MDM_1176 | G728: Internal | R728: INACTIVE | S728: OUT | V728: =IF(COUNTIF($U:$U,A728)>=1,"Manager","Not") -> Manager | W728: =IF(OR(V728="Not",U728=U729),"",IF(AND(S728="IN",R728="ACTIVE",OR(COUNTIFS($G$2:$G$6607,"Internal",$V$2:$V$6607,"<>"&"Not",$U$2:$U$6607,U728)>=2,COUNTIFS($G$2:$G$6607,"External",$V$2:$V$6607,"<>"&"Not",$U$2:$U$6607,U728)>=10))=1,ROW(),""))
A729: MDM_1281 | G729: Internal | R729: INACTIVE | S729: OUT | V729: =IF(COUNTIF($U:$U,A729)>=1,"Manager","Not") -> Manager | W729: =IF(OR(V729="Not",U729=U730),"",IF(AND(S729="IN",R729="ACTIVE",OR(COUNTIFS($G$2:$G$6607,"Internal",$V$2:$V$6607,"<>"&"Not",$U$2:$U$6607,U729)>=2,COUNTIFS($G$2:$G$6607,"External",$V$2:$V$6607,"<>"&"Not",$U$2:$U$6607,U729)>=10))=1,ROW(),""))
A730: MDM_1370 | G730: Internal | R730: INACTIVE | S730: OUT | V730: =IF(COUNTIF($U:$U,A730)>=1,"Manager","Not") -> Manager | W730: =IF(OR(V730="Not",U730=U731),"",IF(AND(S730="IN",R730="ACTIVE",OR(COUNTIFS($G$2:$G$6607,"Internal",$V$2:$V$6607,"<>"&"Not",$U$2:$U$6607,U730)>=2,COUNTIFS($G$2:$G$6607,"External",$V$2:$V$6607,"<>"&"Not",$U$2:$U$6607,U730)>=10))=1,ROW(),""))
A731: MDM_1847 | G731: Internal | R731: INACTIVE | S731: OUT | V731: =IF(COUNTIF($U:$U,A731)>=1,"Manager","Not") -> Manager | W731: =IF(OR(V731="Not",U731=U732),"",IF(AND(S731="IN",R731="ACTIVE",OR(COUNTIFS($G$2:$G$6607,"Internal",$V$2:$V$6607,"<>"&"Not",$U$2:$U$6607,U731)>=2,COUNTIFS($G$2:$G$6607,"External",$V$2:$V$6607,"<>"&"Not",$U$2:$U$6607,U731)>=10))=1,ROW(),""))
A732: MDM_1914 | G732: Internal | R732: INACTIVE | S732: OUT | V732: =IF(COUNTIF($U:$U,A732)>=1,"Manager","Not") -> Manager | W732: =IF(OR(V732="Not",U732=U733),"",IF(AND(S732="IN",R732="ACTIVE",OR(COUNTIFS($G$2:$G$6607,"Internal",$V$2:$V$6607,"<>"&"Not",$U$2:$U$6607,U732)>=2,COUNTIFS($G$2:$G$6607,"External",$V$2:$V$6607,"<>"&"Not",$U$2:$U$6607,U732)>=10))=1,ROW(),""))
A733: MDM_1918 | G733: Internal | R733: INACTIVE | S733: OUT | V733: =IF(COUNTIF($U:$U,A733)>=1,"Manager","Not") -> Manager | W733: =IF(OR(V733="Not",U733=U734),"",IF(AND(S733="IN",R733="ACTIVE",OR(COUNTIFS($G$2:$G$6607,"Internal",$V$2:$V$6607,"<>"&"Not",$U$2:$U$6607,U733)>=2,COUNTIFS($G$2:$G$6607,"External",$V$2:$V$6607,"<>"&"Not",$U$2:$U$6607,U733)>=10))=1,ROW(),""))
A734: MDM_1976 | G734: Internal | R734: INACTIVE | S734: OUT | V734: =IF(COUNTIF($U:$U,A734)>=1,"Manager","Not") -> Manager | W734: =IF(OR(V734="Not",U734=U735),"",IF(AND(S734="IN",R734="ACTIVE",OR(COUNTIFS($G$2:$G$6607,"Internal",$V$2:$V$6607,"<>"&"Not",$U$2:$U$6607,U734)>=2,COUNTIFS($G$2:$G$6607,"External",$V$2:$V$6607,"<>"&"Not",$U$2:$U$6607,U734)>=10))=1,ROW(),""))
A735: MDM_3359 | G735: Internal | R735: INACTIVE | S735: OUT | V735: =IF(COUNTIF($U:$U,A735)>=1,"Manager","Not") -> Manager | W735: =IF(OR(V735="Not",U735=U736),"",IF(AND(S735="IN",R735="ACTIVE",OR(COUNTIFS($G$2:$G$6607,"Internal",$V$2:$V$6607,"<>"&"Not",$U$2:$U$6607,U735)>=2,COUNTIFS($G$2:$G$6607,"External",$V$2:$V$6607,"<>"&"Not",$U$2:$U$6607,U735)>=10))=1,ROW(),""))
A736: MDM_3366 | G736: Internal | R736: INACTIVE | S736: OUT | V736: =IF(COUNTIF($U:$U,A736)>=1,"Manager","Not") -> Manager | W736: =IF(OR(V736="Not",U736=U737),"",IF(AND(S736="IN",R736="ACTIVE",OR(COUNTIFS($G$2:$G$6607,"Internal",$V$2:$V$6607,"<>"&"Not",$U$2:$U$6607,U736)>=2,COUNTIFS($G$2:$G$6607,"External",$V$2:$V$6607,"<>"&"Not",$U$2:$U$6607,U736)>=10))=1,ROW(),""))
A737: MDM_346 | G737: Internal | R737: INACTIVE | S737: OUT | V737: =IF(COUNTIF($U:$U,A737)>=1,"Manager","Not") -> Manager | W737: =IF(OR(V737="Not",U737=U738),"",IF(AND(S737="IN",R737="ACTIVE",OR(COUNTIFS($G$2:$G$6607,"Internal",$V$2:$V$6607,"<>"&"Not",$U$2:$U$6607,U737)>=2,COUNTIFS($G$2:$G$6607,"External",$V$2:$V$6607,"<>"&"Not",$U$2:$U$6607,U737)>=10))=1,ROW(),""))
A738: MDM_3482 | G738: Internal | R738: INACTIVE | S738: OUT | V738: =IF(COUNTIF($U:$U,A738)>=1,"Manager","Not") -> Manager | W738: =IF(OR(V738="Not",U738=U739),"",IF(AND(S738="IN",R738="ACTIVE",OR(COUNTIFS($G$2:$G$6607,"Internal",$V$2:$V$6607,"<>"&"Not",$U$2:$U$6607,U738)>=2,COUNTIFS($G$2:$G$6607,"External",$V$2:$V$6607,"<>"&"Not",$U$2:$U$6607,U738)>=10))=1,ROW(),""))
A739: MDM_651 | G739: Internal | R739: INACTIVE | S739: OUT | V739: =IF(COUNTIF($U:$U,A739)>=1,"Manager","Not") -> Manager | W739: =IF(OR(V739="Not",U739=U740),"",IF(AND(S739="IN",R739="ACTIVE",OR(COUNTIFS($G$2:$G$6607,"Internal",$V$2:$V$6607,"<>"&"Not",$U$2:$U$6607,U739)>=2,COUNTIFS($G$2:$G$6607,"External",$V$2:$V$6607,"<>"&"Not",$U$2:$U$6607,U739)>=10))=1,ROW(),""))
... A741: MDM_814 | G741: Internal | R741: INACTIVE | S741: OUT | V741: =IF(COUNTIF($U:$U,A741)>=1,"Manager","Not") -> Manager | W741: =IF(OR(V741="Not",U741=U742),"",IF(AND(S741="IN",R741="ACTIVE",OR(COUNTIFS($G$2:$G$6607,"Internal",$V$2:$V$6607,"<>"&"Not",$U$2:$U$6607,U741)>=2,COUNTIFS($G$2:$G$6607,"External",$V$2:$V$6607,"<>"&"Not",$U$2:$U$6607,U741)>=10))=1,ROW(),""))
A742: MDM_7121 | G742: External | R742: ACTIVE | S742: IN | U742: MDM_1002 | V742: =IF(COUNTIF($U:$U,A742)>=1,"Manager","Not") -> Not | W742: =IF(OR(V742="Not",U742=U743),"",IF(AND(S742="IN",R742="ACTIVE",OR(COUNTIFS($G$2:$G$6607,"Internal",$V$2:$V$6607,"<>"&"Not",$U$2:$U$6607,U742)>=2,COUNTIFS($G$2:$G$6607,"External",$V$2:$V$6607,"<>"&"Not",$U$2:$U$6607,U742)>=10))=1,ROW(),""))
A743: MDM_1192 | G743: Internal | R743: ACTIVE | S743: IN | U743: MDM_1005 | V743: =IF(COUNTIF($U:$U,A743)>=1,"Manager","Not") -> Not | W743: =IF(OR(V743="Not",U743=U744),"",IF(AND(S743="IN",R743="ACTIVE",OR(COUNTIFS($G$2:$G$6607,"Internal",$V$2:$V$6607,"<>"&"Not",$U$2:$U$6607,U743)>=2,COUNTIFS($G$2:$G$6607,"External",$V$2:$V$6607,"<>"&"Not",$U$2:$U$6607,U743)>=10))=1,ROW(),""))
A744: MDM_1724 | G744: Internal | R744: ACTIVE | S744: IN | U744: MDM_1005 | V744: =IF(COUNTIF($U:$U,A744)>=1,"Manager","Not") -> Not | W744: =IF(OR(V744="Not",U744=U745),"",IF(AND(S744="IN",R744="ACTIVE",OR(COUNTIFS($G$2:$G$6607,"Internal",$V$2:$V$6607,"<>"&"Not",$U$2:$U$6607,U744)>=2,COUNTIFS($G$2:$G$6607,"External",$V$2:$V$6607,"<>"&"Not",$U$2:$U$6607,U744)>=10))=1,ROW(),""))
A745: MDM_3536 | G745: Internal | R745: ACTIVE | S745: IN | U745: MDM_1005 | V745: =IF(COUNTIF($U:$U,A745)>=1,"Manager","Not") -> Not | W745: =IF(OR(V745="Not",U745=U746),"",IF(AND(S745="IN",R745="ACTIVE",OR(COUNTIFS($G$2:$G$6607,"Internal",$V$2:$V$6607,"<>"&"Not",$U$2:$U$6607,U745)>=2,COUNTIFS($G$2:$G$6607,"External",$V$2:$V$6607,"<>"&"Not",$U$2:$U$6607,U745)>=10))=1,ROW(),""))
A746: MDM_1539 | G746: Internal | R746: ACTIVE | S746: IN | U746: MDM_1007 | V746: =IF(COUNTIF($U:$U,A746)>=1,"Manager","Not") -> Not | W746: =IF(OR(V746="Not",U746=U747),"",IF(AND(S746="IN",R746="ACTIVE",OR(COUNTIFS($G$2:$G$6607,"Internal",$V$2:$V$6607,"<>"&"Not",$U$2:$U$6607,U746)>=2,COUNTIFS($G$2:$G$6607,"External",$V$2:$V$6607,"<>"&"Not",$U$2:$U$6607,U746)>=10))=1,ROW(),""))
A747: MDM_2073 | G747: Internal | R747: ACTIVE | S747: IN | U747: MDM_1007 | V747: =IF(COUNTIF($U:$U,A747)>=1,"Manager","Not") -> Not | W747: =IF(OR(V747="Not",U747=U748),"",IF(AND(S747="IN",R747="ACTIVE",OR(COUNTIFS($G$2:$G$6607,"Internal",$V$2:$V$6607,"<>"&"Not",$U$2:$U$6607,U747)>=2,COUNTIFS($G$2:$G$6607,"External",$V$2:$V$6607,"<>"&"Not",$U$2:$U$6607,U747)>=10))=1,ROW(),""))
A748: MDM_5953 | G748: Internal | R748: ACTIVE | S748: IN | U748: MDM_1007 | V748: =IF(COUNTIF($U:$U,A748)>=1,"Manager","Not") -> Not | W748: =IF(OR(V748="Not",U748=U749),"",IF(AND(S748="IN",R748="ACTIVE",OR(COUNTIFS($G$2:$G$6607,"Internal",$V$2:$V$6607,"<>"&"Not",$U$2:$U$6607,U748)>=2,COUNTIFS($G$2:$G$6607,"External",$V$2:$V$6607,"<>"&"Not",$U$2:$U$6607,U748)>=10))=1,ROW(),""))
A749: MDM_861 | G749: Internal | R749: ACTIVE | S749: IN | U749: MDM_1007 | V749: =IF(COUNTIF($U:$U,A749)>=1,"Manager","Not") -> Not | W749: =IF(OR(V749="Not",U749=U750),"",IF(AND(S749="IN",R749="ACTIVE",OR(COUNTIFS($G$2:$G$6607,"Internal",$V$2:$V$6607,"<>"&"Not",$U$2:$U$6607,U749)>=2,COUNTIFS($G$2:$G$6607,"External",$V$2:$V$6607,"<>"&"Not",$U$2:$U$6607,U749)>=10))=1,ROW(),""))
A750: MDM_977 | G750: Internal | R750: ACTIVE | S750: IN | U750: MDM_1007 | V750: =IF(COUNTIF($U:$U,A750)>=1,"Manager","Not") -> Not | W750: =IF(OR(V750="Not",U750=U751),"",IF(AND(S750="IN",R750="ACTIVE",OR(COUNTIFS($G$2:$G$6607,"Internal",$V$2:$V$6607,"<>"&"Not",$U$2:$U$6607,U750)>=2,COUNTIFS($G$2:$G$6607,"External",$V$2:$V$6607,"<>"&"Not",$U$2:$U$6607,U750)>=10))=1,ROW(),""))
A751: MDM_3999 | G751: External | R751: INACTIVE | S751: OUT | U751: MDM_1013 | V751: =IF(COUNTIF($U:$U,A751)>=1,"Manager","Not") -> Not | W751: =IF(OR(V751="Not",U751=U752),"",IF(AND(S751="IN",R751="ACTIVE",OR(COUNTIFS($G$2:$G$6607,"Internal",$V$2:$V$6607,"<>"&"Not",$U$2:$U$6607,U751)>=2,COUNTIFS($G$2:$G$6607,"External",$V$2:$V$6607,"<>"&"Not",$U$2:$U$6607,U751)>=10))=1,ROW(),""))
A752: MDM_103 | G752: Internal | R752: ACTIVE | S752: IN | U752: MDM_102 | V752: =IF(COUNTIF($U:$U,A752)>=1,"Manager","Not") -> Not | W752: =IF(OR(V752="Not",U752=U753),"",IF(AND(S752="IN",R752="ACTIVE",OR(COUNTIFS($G$2:$G$6607,"Internal",$V$2:$V$6607,"<>"&"Not",$U$2:$U$6607,U752)>=2,COUNTIFS($G$2:$G$6607,"External",$V$2:$V$6607,"<>"&"Not",$U$2:$U$6607,U752)>=10))=1,ROW(),""))
A753: MDM_1060 | G753: Internal | R753: ACTIVE | S753: IN | U753: MDM_102 | V753: =IF(COUNTIF($U:$U,A753)>=1,"Manager","Not") -> Not | W753: =IF(OR(V753="Not",U753=U754),"",IF(AND(S753="IN",R753="ACTIVE",OR(COUNTIFS($G$2:$G$6607,"Internal",$V$2:$V$6607,"<>"&"Not",$U$2:$U$6607,U753)>=2,COUNTIFS($G$2:$G$6607,"External",$V$2:$V$6607,"<>"&"Not",$U$2:$U$6607,U753)>=10))=1,ROW(),""))
... A6151: MDM_951 | G6151: Internal | R6151: ACTIVE | S6151: IN | U6151: MDM_996 | V6151: =IF(COUNTIF($U:$U,A6151)>=1,"Manager","Not") -> Not | W6151: =IF(OR(V6151="Not",U6151=U6152),"",IF(AND(S6151="IN",R6151="ACTIVE",OR(COUNTIFS($G$2:$G$6607,"Internal",$V$2:$V$6607,"<>"&"Not",$U$2:$U$6607,U6151)>=2,COUNTIFS($G$2:$G$6607,"External",$V$2:$V$6607,"<>"&"Not",$U$2:$U$6607,U6151)>=10))=1,ROW(),""))
A6152: MDM_10 | G6152: Internal | R6152: INACTIVE | S6152: OUT | V6152: =IF(COUNTIF($U:$U,A6152)>=1,"Manager","Not") -> Not | W6152: =IF(OR(V6152="Not",U6152=U6153),"",IF(AND(S6152="IN",R6152="ACTIVE",OR(COUNTIFS($G$2:$G$6607,"Internal",$V$2:$V$6607,"<>"&"Not",$U$2:$U$6607,U6152)>=2,COUNTIFS($G$2:$G$6607,"External",$V$2:$V$6607,"<>"&"Not",$U$2:$U$6607,U6152)>=10))=1,ROW(),""))
A6153: MDM_1001 | G6153: Internal | R6153: INACTIVE | S6153: OUT | V6153: =IF(COUNTIF($U:$U,A6153)>=1,"Manager","Not") -> Not | W6153: =IF(OR(V6153="Not",U6153=U6154),"",IF(AND(S6153="IN",R6153="ACTIVE",OR(COUNTIFS($G$2:$G$6607,"Internal",$V$2:$V$6607,"<>"&"Not",$U$2:$U$6607,U6153)>=2,COUNTIFS($G$2:$G$6607,"External",$V$2:$V$6607,"<>"&"Not",$U$2:$U$6607,U6153)>=10))=1,ROW(),""))
A6154: MDM_1006 | G6154: Internal | R6154: INACTIVE | S6154: OUT | V6154: =IF(COUNTIF($U:$U,A6154)>=1,"Manager","Not") -> Not | W6154: =IF(OR(V6154="Not",U6154=U6155),"",IF(AND(S6154="IN",R6154="ACTIVE",OR(COUNTIFS($G$2:$G$6607,"Internal",$V$2:$V$6607,"<>"&"Not",$U$2:$U$6607,U6154)>=2,COUNTIFS($G$2:$G$6607,"External",$V$2:$V$6607,"<>"&"Not",$U$2:$U$6607,U6154)>=10))=1,ROW(),""))
A6155: MDM_1011 | G6155: Internal | R6155: INACTIVE | S6155: OUT | V6155: =IF(COUNTIF($U:$U,A6155)>=1,"Manager","Not") -> Not | W6155: =IF(OR(V6155="Not",U6155=U6156),"",IF(AND(S6155="IN",R6155="ACTIVE",OR(COUNTIFS($G$2:$G$6607,"Internal",$V$2:$V$6607,"<>"&"Not",$U$2:$U$6607,U6155)>=2,COUNTIFS($G$2:$G$6607,"External",$V$2:$V$6607,"<>"&"Not",$U$2:$U$6607,U6155)>=10))=1,ROW(),""))
A6156: MDM_1040 | G6156: Internal | R6156: INACTIVE | S6156: OUT | V6156: =IF(COUNTIF($U:$U,A6156)>=1,"Manager","Not") -> Not | W6156: =IF(OR(V6156="Not",U6156=U6157),"",IF(AND(S6156="IN",R6156="ACTIVE",OR(COUNTIFS($G$2:$G$6607,"Internal",$V$2:$V$6607,"<>"&"Not",$U$2:$U$6607,U6156)>=2,COUNTIFS($G$2:$G$6607,"External",$V$2:$V$6607,"<>"&"Not",$U$2:$U$6607,U6156)>=10))=1,ROW(),""))
A6157: MDM_1046 | G6157: Internal | R6157: INACTIVE | S6157: OUT | V6157: =IF(COUNTIF($U:$U,A6157)>=1,"Manager","Not") -> Not | W6157: =IF(OR(V6157="Not",U6157=U6158),"",IF(AND(S6157="IN",R6157="ACTIVE",OR(COUNTIFS($G$2:$G$6607,"Internal",$V$2:$V$6607,"<>"&"Not",$U$2:$U$6607,U6157)>=2,COUNTIFS($G$2:$G$6607,"External",$V$2:$V$6607,"<>"&"Not",$U$2:$U$6607,U6157)>=10))=1,ROW(),""))
A6158: MDM_1047 | G6158: Internal | R6158: INACTIVE | S6158: OUT | V6158: =IF(COUNTIF($U:$U,A6158)>=1,"Manager","Not") -> Not | W6158: =IF(OR(V6158="Not",U6158=U6159),"",IF(AND(S6158="IN",R6158="ACTIVE",OR(COUNTIFS($G$2:$G$6607,"Internal",$V$2:$V$6607,"<>"&"Not",$U$2:$U$6607,U6158)>=2,COUNTIFS($G$2:$G$6607,"External",$V$2:$V$6607,"<>"&"Not",$U$2:$U$6607,U6158)>=10))=1,ROW(),""))
A6159: MDM_1051 | G6159: Internal | R6159: INACTIVE | S6159: OUT | V6159: =IF(COUNTIF($U:$U,A6159)>=1,"Manager","Not") -> Not | W6159: =IF(OR(V6159="Not",U6159=U6160),"",IF(AND(S6159="IN",R6159="ACTIVE",OR(COUNTIFS($G$2:$G$6607,"Internal",$V$2:$V$6607,"<>"&"Not",$U$2:$U$6607,U6159)>=2,COUNTIFS($G$2:$G$6607,"External",$V$2:$V$6607,"<>"&"Not",$U$2:$U$6607,U6159)>=10))=1,ROW(),""))
A6160: MDM_1053 | G6160: Internal | R6160: INACTIVE | S6160: OUT | V6160: =IF(COUNTIF($U:$U,A6160)>=1,"Manager","Not") -> Not | W6160: =IF(OR(V6160="Not",U6160=U6161),"",IF(AND(S6160="IN",R6160="ACTIVE",OR(COUNTIFS($G$2:$G$6607,"Internal",$V$2:$V$6607,"<>"&"Not",$U$2:$U$6607,U6160)>=2,COUNTIFS($G$2:$G$6607,"External",$V$2:$V$6607,"<>"&"Not",$U$2:$U$6607,U6160)>=10))=1,ROW(),""))
A6161: MDM_1055 | G6161: Internal | R6161: INACTIVE | S6161: OUT | V6161: =IF(COUNTIF($U:$U,A6161)>=1,"Manager","Not") -> Not | W6161: =IF(OR(V6161="Not",U6161=U6162),"",IF(AND(S6161="IN",R6161="ACTIVE",OR(COUNTIFS($G$2:$G$6607,"Internal",$V$2:$V$6607,"<>"&"Not",$U$2:$U$6607,U6161)>=2,COUNTIFS($G$2:$G$6607,"External",$V$2:$V$6607,"<>"&"Not",$U$2:$U$6607,U6161)>=10))=1,ROW(),""))
A6162: MDM_1058 | G6162: Internal | R6162: INACTIVE | S6162: OUT | V6162: =IF(COUNTIF($U:$U,A6162)>=1,"Manager","Not") -> Not | W6162: =IF(OR(V6162="Not",U6162=U6163),"",IF(AND(S6162="IN",R6162="ACTIVE",OR(COUNTIFS($G$2:$G$6607,"Internal",$V$2:$V$6607,"<>"&"Not",$U$2:$U$6607,U6162)>=2,COUNTIFS($G$2:$G$6607,"External",$V$2:$V$6607,"<>"&"Not",$U$2:$U$6607,U6162)>=10))=1,ROW(),""))
A6163: MDM_1088 | G6163: Internal | R6163: INACTIVE | S6163: OUT | V6163: =IF(COUNTIF($U:$U,A6163)>=1,"Manager","Not") -> Not | W6163: =IF(OR(V6163="Not",U6163=U6164),"",IF(AND(S6163="IN",R6163="ACTIVE",OR(COUNTIFS($G$2:$G$6607,"Internal",$V$2:$V$6607,"<>"&"Not",$U$2:$U$6607,U6163)>=2,COUNTIFS($G$2:$G$6607,"External",$V$2:$V$6607,"<>"&"Not",$U$2:$U$6607,U6163)>=10))=1,ROW(),""))
... A6607: MDM_971 | G6607: Internal | R6607: INACTIVE | S6607: OUT | V6607: =IF(COUNTIF($U:$U,A6607)>=1,"Manager","Not") -> Not | W6607: =IF(OR(V6607="Not",U6607=U6608),"",IF(AND(S6607="IN",R6607="ACTIVE",OR(COUNTIFS($G$2:$G$6607,"Internal",$V$2:$V$6607,"<>"&"Not",$U$2:$U$6607,U6607)>=2,COUNTIFS($G$2:$G$6607,"External",$V$2:$V$6607,"<>"&"Not",$U$2:$U$6607,U6607)>=10))=1,ROW(),""))

Sheet Manager
B1: Manager | C1: N+1 | D1: N+2 | E1: N+3 | F1: N+4 | G1: N+5 | H1: N+6 | I1: N+7
A2: =IFERROR(SMALL(Resources!W2:W6608,ROW()-1),"") -> 7 | B2: =IF(A2="","",INDIRECT("Resources!U"&A2,1)) -> MDM_1032 | C2: =IFERROR(INDIRECT("Resources!U"&MATCH(B2,Resources!$A$1:$A$6607,0),1),"") -> MDM_706 | D2: =IFERROR(INDIRECT("Resources!U"&MATCH(C2,Resources!$A$1:$A$6607,0),1),"") -> MDM_4496 | E2: =IFERROR(INDIRECT("Resources!U"&MATCH(D2,Resources!$A$1:$A$6607,0),1),"") -> MDM_1741 | F2: =IFERROR(INDIRECT("Resources!U"&MATCH(E2,Resources!$A$1:$A$6607,0),1),"") -> MDM_5114 | G2: =IFERROR(INDIRECT("Resources!U"&MATCH(F2,Resources!$A$1:$A$6607,0),1),"") | H2: =IFERROR(INDIRECT("Resources!U"&MATCH(G2,Resources!$A$1:$A$6607,0),1),"") | I2: =IFERROR(INDIRECT("Resources!U"&MATCH(H2,Resources!$A$1:$A$6607,0),1),"")
A3: =IFERROR(SMALL(Resources!W3:W6609,ROW()-1),"") -> 12 | B3: =IF(A3="","",INDIRECT("Resources!U"&A3,1)) -> MDM_1035 | C3: =IFERROR(INDIRECT("Resources!U"&MATCH(B3,Resources!A$1:A$6607,0),1),"") -> MDM_706 | D3: =IFERROR(INDIRECT("Resources!U"&MATCH(C3,Resources!$A$1:$A$6607,0),1),"") -> MDM_4496 | E3: =IFERROR(INDIRECT("Resources!U"&MATCH(D3,Resources!$A$1:$A$6607,0),1),"") -> MDM_1741 | F3: =IFERROR(INDIRECT("Resources!U"&MATCH(E3,Resources!$A$1:$A$6607,0),1),"") -> MDM_5114 | G3: =IFERROR(INDIRECT("Resources!U"&MATCH(F3,Resources!$A$1:$A$6607,0),1),"") | H3: =IFERROR(INDIRECT("Resources!U"&MATCH(G3,Resources!$A$1:$A$6607,0),1),"") | I3: =IFERROR(INDIRECT("Resources!U"&MATCH(H3,Resources!$A$1:$A$6607,0),1),"")
A4: =IFERROR(SMALL(Resources!W4:W6610,ROW()-1),"") -> 17 | B4: =IF(A4="","",INDIRECT("Resources!U"&A4,1)) -> MDM_1079 | C4: =IFERROR(INDIRECT("Resources!U"&MATCH(B4,Resources!A$1:A$6607,0),1),"") -> MDM_823 | D4: =IFERROR(INDIRECT("Resources!U"&MATCH(C4,Resources!$A$1:$A$6607,0),1),"") -> MDM_706 | E4: =IFERROR(INDIRECT("Resources!U"&MATCH(D4,Resources!$A$1:$A$6607,0),1),"") -> MDM_4496 | F4: =IFERROR(INDIRECT("Resources!U"&MATCH(E4,Resources!$A$1:$A$6607,0),1),"") -> MDM_1741 | G4: =IFERROR(INDIRECT("Resources!U"&MATCH(F4,Resources!$A$1:$A$6607,0),1),"") -> MDM_5114 | H4: =IFERROR(INDIRECT("Resources!U"&MATCH(G4,Resources!$A$1:$A$6607,0),1),"") | I4: =IFERROR(INDIRECT("Resources!U"&MATCH(H4,Resources!$A$1:$A$6607,0),1),"")
A5: =IFERROR(SMALL(Resources!W5:W6611,ROW()-1),"") -> 21 | B5: =IF(A5="","",INDIRECT("Resources!U"&A5,1)) -> MDM_1125 | C5: =IFERROR(INDIRECT("Resources!U"&MATCH(B5,Resources!A$1:A$6607,0),1),"") -> MDM_1270 | D5: =IFERROR(INDIRECT("Resources!U"&MATCH(C5,Resources!$A$1:$A$6607,0),1),"") -> MDM_706 | E5: =IFERROR(INDIRECT("Resources!U"&MATCH(D5,Resources!$A$1:$A$6607,0),1),"") -> MDM_4496 | F5: =IFERROR(INDIRECT("Resources!U"&MATCH(E5,Resources!$A$1:$A$6607,0),1),"") -> MDM_1741 | G5: =IFERROR(INDIRECT("Resources!U"&MATCH(F5,Resources!$A$1:$A$6607,0),1),"") -> MDM_5114 | H5: =IFERROR(INDIRECT("Resources!U"&MATCH(G5,Resources!$A$1:$A$6607,0),1),"") | I5: =IFERROR(INDIRECT("Resources!U"&MATCH(H5,Resources!$A$1:$A$6607,0),1),"")
A6: =IFERROR(SMALL(Resources!W6:W6612,ROW()-1),"") -> 29 | B6: =IF(A6="","",INDIRECT("Resources!U"&A6,1)) -> MDM_1126 | C6: =IFERROR(INDIRECT("Resources!U"&MATCH(B6,Resources!A$1:A$6607,0),1),"") -> MDM_4481 | D6: =IFERROR(INDIRECT("Resources!U"&MATCH(C6,Resources!$A$1:$A$6607,0),1),"") -> MDM_3561 | E6: =IFERROR(INDIRECT("Resources!U"&MATCH(D6,Resources!$A$1:$A$6607,0),1),"") -> MDM_3546 | F6: =IFERROR(INDIRECT("Resources!U"&MATCH(E6,Resources!$A$1:$A$6607,0),1),"") -> MDM_5114 | G6: =IFERROR(INDIRECT("Resources!U"&MATCH(F6,Resources!$A$1:$A$6607,0),1),"") | H6: =IFERROR(INDIRECT("Resources!U"&MATCH(G6,Resources!$A$1:$A$6607,0),1),"") | I6: =IFERROR(INDIRECT("Resources!U"&MATCH(H6,Resources!$A$1:$A$6607,0),1),"")
A7: =IFERROR(SMALL(Resources!W7:W6613,ROW()-1),"") -> 39 | B7: =IF(A7="","",INDIRECT("Resources!U"&A7,1)) -> MDM_1154 | C7: =IFERROR(INDIRECT("Resources!U"&MATCH(B7,Resources!A$1:A$6607,0),1),"") -> MDM_1659 | D7: =IFERROR(INDIRECT("Resources!U"&MATCH(C7,Resources!$A$1:$A$6607,0),1),"") -> MDM_5114 | E7: =IFERROR(INDIRECT("Resources!U"&MATCH(D7,Resources!$A$1:$A$6607,0),1),"") | F7: =IFERROR(INDIRECT("Resources!U"&MATCH(E7,Resources!$A$1:$A$6607,0),1),"") | G7: =IFERROR(INDIRECT("Resources!U"&MATCH(F7,Resources!$A$1:$A$6607,0),1),"") | H7: =IFERROR(INDIRECT("Resources!U"&MATCH(G7,Resources!$A$1:$A$6607,0),1),"") | I7: =IFERROR(INDIRECT("Resources!U"&MATCH(H7,Resources!$A$1:$A$6607,0),1),"")
A8: =IFERROR(SMALL(Resources!W8:W6614,ROW()-1),"") -> 51 | B8: =IF(A8="","",INDIRECT("Resources!U"&A8,1)) -> MDM_1232 | C8: =IFERROR(INDIRECT("Resources!U"&MATCH(B8,Resources!A$1:A$6607,0),1),"") -> MDM_1741 | D8: =IFERROR(INDIRECT("Resources!U"&MATCH(C8,Resources!$A$1:$A$6607,0),1),"") -> MDM_5114 | E8: =IFERROR(INDIRECT("Resources!U"&MATCH(D8,Resources!$A$1:$A$6607,0),1),"") | F8: =IFERROR(INDIRECT("Resources!U"&MATCH(E8,Resources!$A$1:$A$6607,0),1),"") | G8: =IFERROR(INDIRECT("Resources!U"&MATCH(F8,Resources!$A$1:$A$6607,0),1),"") | H8: =IFERROR(INDIRECT("Resources!U"&MATCH(G8,Resources!$A$1:$A$6607,0),1),"") | I8: =IFERROR(INDIRECT("Resources!U"&MATCH(H8,Resources!$A$1:$A$6607,0),1),"")
A9: =IFERROR(SMALL(Resources!W9:W6615,ROW()-1),"") -> 56 | B9: =IF(A9="","",INDIRECT("Resources!U"&A9,1)) -> MDM_1239 | C9: =IFERROR(INDIRECT("Resources!U"&MATCH(B9,Resources!A$1:A$6607,0),1),"") -> MDM_4549 | D9: =IFERROR(INDIRECT("Resources!U"&MATCH(C9,Resources!$A$1:$A$6607,0),1),"") -> MDM_5114 | E9: =IFERROR(INDIRECT("Resources!U"&MATCH(D9,Resources!$A$1:$A$6607,0),1),"") | F9: =IFERROR(INDIRECT("Resources!U"&MATCH(E9,Resources!$A$1:$A$6607,0),1),"") | G9: =IFERROR(INDIRECT("Resources!U"&MATCH(F9,Resources!$A$1:$A$6607,0),1),"") | H9: =IFERROR(INDIRECT("Resources!U"&MATCH(G9,Resources!$A$1:$A$6607,0),1),"") | I9: =IFERROR(INDIRECT("Resources!U"&MATCH(H9,Resources!$A$1:$A$6607,0),1),"")
A10: =IFERROR(SMALL(Resources!W10:W6616,ROW()-1),"") -> 61 | B10: =IF(A10="","",INDIRECT("Resources!U"&A10,1)) -> MDM_1261 | C10: =IFERROR(INDIRECT("Resources!U"&MATCH(B10,Resources!A$1:A$6607,0),1),"") -> MDM_1283 | D10: =IFERROR(INDIRECT("Resources!U"&MATCH(C10,Resources!$A$1:$A$6607,0),1),"") -> MDM_4496 | E10: =IFERROR(INDIRECT("Resources!U"&MATCH(D10,Resources!$A$1:$A$6607,0),1),"") -> MDM_1741 | F10: =IFERROR(INDIRECT("Resources!U"&MATCH(E10,Resources!$A$1:$A$6607,0),1),"") -> MDM_5114 | G10: =IFERROR(INDIRECT("Resources!U"&MATCH(F10,Resources!$A$1:$A$6607,0),1),"") | H10: =IFERROR(INDIRECT("Resources!U"&MATCH(G10,Resources!$A$1:$A$6607,0),1),"") | I10: =IFERROR(INDIRECT("Resources!U"&MATCH(H10,Resources!$A$1:$A$6607,0),1),"")
A11: =IFERROR(SMALL(Resources!W11:W6617,ROW()-1),"") -> 66 | B11: =IF(A11="","",INDIRECT("Resources!U"&A11,1)) -> MDM_1270 | C11: =IFERROR(INDIRECT("Resources!U"&MATCH(B11,Resources!A$1:A$6607,0),1),"") -> MDM_706 | D11: =IFERROR(INDIRECT("Resources!U"&MATCH(C11,Resources!$A$1:$A$6607,0),1),"") -> MDM_4496 | E11: =IFERROR(INDIRECT("Resources!U"&MATCH(D11,Resources!$A$1:$A$6607,0),1),"") -> MDM_1741 | F11: =IFERROR(INDIRECT("Resources!U"&MATCH(E11,Resources!$A$1:$A$6607,0),1),"") -> MDM_5114 | G11: =IFERROR(INDIRECT("Resources!U"&MATCH(F11,Resources!$A$1:$A$6607,0),1),"") | H11: =IFERROR(INDIRECT("Resources!U"&MATCH(G11,Resources!$A$1:$A$6607,0),1),"") | I11: =IFERROR(INDIRECT("Resources!U"&MATCH(H11,Resources!$A$1:$A$6607,0),1),"")
A12: =IFERROR(SMALL(Resources!W12:W6618,ROW()-1),"") -> 71 | B12: =IF(A12="","",INDIRECT("Resources!U"&A12,1)) -> MDM_1283 | C12: =IFERROR(INDIRECT("Resources!U"&MATCH(B12,Resources!A$1:A$6607,0),1),"") -> MDM_4496 | D12: =IFERROR(INDIRECT("Resources!U"&MATCH(C12,Resources!$A$1:$A$6607,0),1),"") -> MDM_1741 | E12: =IFERROR(INDIRECT("Resources!U"&MATCH(D12,Resources!$A$1:$A$6607,0),1),"") -> MDM_5114 | F12: =IFERROR(INDIRECT("Resources!U"&MATCH(E12,Resources!$A$1:$A$6607,0),1),"") | G12: =IFERROR(INDIRECT("Resources!U"&MATCH(F12,Resources!$A$1:$A$6607,0),1),"") | H12: =IFERROR(INDIRECT("Resources!U"&MATCH(G12,Resources!$A$1:$A$6607,0),1),"") | I12: =IFERROR(INDIRECT("Resources!U"&MATCH(H12,Resources!$A$1:$A$6607,0),1),"")
A13: =IFERROR(SMALL(Resources!W13:W6619,ROW()-1),"") -> 80 | B13: =IF(A13="","",INDIRECT("Resources!U"&A13,1)) -> MDM_1357 | C13: =IFERROR(INDIRECT("Resources!U"&MATCH(B13,Resources!A$1:A$6607,0),1),"") -> MDM_1232 | D13: =IFERROR(INDIRECT("Resources!U"&MATCH(C13,Resources!$A$1:$A$6607,0),1),"") -> MDM_1741 | E13: =IFERROR(INDIRECT("Resources!U"&MATCH(D13,Resources!$A$1:$A$6607,0),1),"") -> MDM_5114 | F13: =IFERROR(INDIRECT("Resources!U"&MATCH(E13,Resources!$A$1:$A$6607,0),1),"") | G13: =IFERROR(INDIRECT("Resources!U"&MATCH(F13,Resources!$A$1:$A$6607,0),1),"") | H13: =IFERROR(INDIRECT("Resources!U"&MATCH(G13,Resources!$A$1:$A$6607,0),1),"") | I13: =IFERROR(INDIRECT("Resources!U"&MATCH(H13,Resources!$A$1:$A$6607,0),1),"")
A14: =IFERROR(SMALL(Resources!W14:W6620,ROW()-1),"") -> 83 | B14: =IF(A14="","",INDIRECT("Resources!U"&A14,1)) -> MDM_1359 | C14: =IFERROR(INDIRECT("Resources!U"&MATCH(B14,Resources!A$1:A$6607,0),1),"") -> MDM_4496 | D14: =IFERROR(INDIRECT("Resources!U"&MATCH(C14,Resources!$A$1:$A$6607,0),1),"") -> MDM_1741 | E14: =IFERROR(INDIRECT("Resources!U"&MATCH(D14,Resources!$A$1:$A$6607,0),1),"") -> MDM_5114 | F14: =IFERROR(INDIRECT("Resources!U"&MATCH(E14,Resources!$A$1:$A$6607,0),1),"") | G14: =IFERROR(INDIRECT("Resources!U"&MATCH(F14,Resources!$A$1:$A$6607,0),1),"") | H14: =IFERROR(INDIRECT("Resources!U"&MATCH(G14,Resources!$A$1:$A$6607,0),1),"") | I14: =IFERROR(INDIRECT("Resources!U"&MATCH(H14,Resources!$A$1:$A$6607,0),1),"")
... A150: =IFERROR(SMALL(Resources!W150:W6756,ROW()-1),"") | B150: =IF(A150="","",INDIRECT("Resources!U"&A150,1)) | C150: =IFERROR(INDIRECT("Resources!U"&MATCH(B150,Resources!A$1:A$6607,0),1),"") | D150: =IFERROR(INDIRECT("Resources!U"&MATCH(C150,Resources!$A$1:$A$6607,0),1),"") | E150: =IFERROR(INDIRECT("Resources!U"&MATCH(D150,Resources!$A$1:$A$6607,0),1),"") | F150: =IFERROR(INDIRECT("Resources!U"&MATCH(E150,Resources!$A$1:$A$6607,0),1),"") | G150: =IFERROR(INDIRECT("Resources!U"&MATCH(F150,Resources!$A$1:$A$6607,0),1),"") | H150: =IFERROR(INDIRECT("Resources!U"&MATCH(G150,Resources!$A$1:$A$6607,0),1),"") | I150: =IFERROR(INDIRECT("Resources!U"&MATCH(H150,Resources!$A$1:$A$6607,0),1),"")
