Workbook

Sheet ma liste 
C1: A-M-N | D1: LISTE ANNUELLE DES SALAIRES
C3: CONS
C4: ASSURANCE GROUPE A-M-N 2017 | Q4: JANVIER | R4: FEVRIER | S4: MARS | T4: TOTAL
C6: Année : 2017
E7: NOM ET PRENOM | F7: Janvier | G7: Février | H7: Mars | I7: AVRIL | J7: MAI | K7: JUIN | L7: JUILLET
C8: 1 | D8: 21816 | E8: AAKEL Belmokhtar | F8: 600 | G8: 600 | H8: 600 | I8: 0 | J8: 0 | K8: 0 | L8: 0
C9: 2 | D9: 22004 | E9: ABABOU MOHAMMED | F9: 600 | G9: 600 | H9: 600 | I9: 600 | J9: 600 | K9: 600 | L9: 600
C10: 3 | D10: 21352 | E10: ABADA MOKHTAR | F10: 600 | G10: 600 | H10: 600 | I10: 600 | J10: 600 | K10: 600 | L10: 600
C11: 4 | D11: 23486 | E11: ABBADA NOUREDDINE | F11: 600 | G11: 600 | H11: 600 | I11: 600 | J11: 600 | K11: 600 | L11: 600
C12: 5 | D12: 23638 | E12: ABBASSI ABDELLAH | F12: 600 | G12: 600 | H12: 600 | I12: 600 | J12: 600 | K12: 600 | L12: 600
C13: 6 | D13: 21054 | E13: ABBES BOUBKEUR | F13: 600 | G13: 600 | H13: 600 | I13: 600 | J13: 600 | K13: 600 | L13: 600
C14: 7 | D14: 22048 | E14: ABBES DJILLALI | F14: 600 | G14: 600 | H14: 600 | I14: 600 | J14: 600 | K14: 600 | L14: 600
C15: 8 | D15: 24447 | E15: ABBOU YASSINE | F15: 600 | G15: 600 | H15: 600 | I15: 600 | J15: 600 | K15: 600 | L15: 600
C16: 9 | D16: 24597 | E16: ABDELAZIZ MOHAMMED NADIR | F16: 600 | G16: 600 | H16: 600 | I16: 600 | J16: 600 | K16: 600 | L16: 600
C17: 10 | D17: 21752 | E17: ABDELDJOUAD Ismail | F17: 600 | G17: 600 | H17: 600 | I17: 600 | J17: 600 | K17: 600 | L17: 600 | N17: EX: | P17: DG COTISE 1000 DA / MOIS
C18: 11 | D18: 24255 | E18: ABDELHADI ABDELKADER | F18: 600 | G18: 600 | H18: 600 | I18: 600 | J18: 600 | K18: 600 | L18: 600 | N18: 865 | O18: 23891 | P18: KARA DJELLOUL | Q18: 600 | R18: 600 | S18: 1800 | T18: 3000
C19: 12 | D19: 23886 | E19: ABDELHAK AMINE | F19: 600 | G19: 600 | H19: 600 | I19: 600 | J19: 600 | K19: 600 | L19: 600
C20: 13 | D20: 25008 | E20: ABDELI ALI | F20: 0 | G20: 0 | H20: 600 | I20: 600 | J20: 0 | K20: 0 | L20: 0
A21: 30546 | B21: 831549007042 | C21: 14 | D21: 23201 | E21: ABDELMOUMENE ABDELHALIM | F21: 600 | G21: 600 | H21: 600 | I21: 600 | J21: 600 | K21: 600 | L21: 600
A22: 26013 | B22: 710292018243 | C22: 15 | D22: 22326 | E22: ABDELMOUMENE MOHAMMED | F22: 600 | G22: 600 | H22: 600 | I22: 600 | J22: 600 | K22: 600 | L22: 600
C23: 16 | D23: 22854 | E23: ABDENEBI MADJID | F23: 600 | G23: 600 | H23: 600 | I23: 600 | J23: 600 | K23: 600 | L23: 600
C24: 17 | D24: 20711 | E24: ABED BOUALEM | F24: 600 | G24: 600 | H24: 600 | I24: 600 | J24: 600 | K24: 600 | L24: 600
C25: 18 | D25: 20580 | E25: ABED SAHRAOUI | F25: 600 | G25: 600 | H25: 600 | I25: 600 | J25: 600 | K25: 600 | L25: 600
C26: 19 | D26: 24246 | E26: ABID DAOUD | F26: 600 | G26: 600 | H26: 600 | I26: 600 | J26: 600 | K26: 600 | L26: 600
C27: 20 | D27: 23094 | E27: ABID HAOUARI | F27: 600 | G27: 600 | H27: 600 | I27: 600 | J27: 600 | K27: 600 | L27: 600
C28: 21 | D28: 22241 | E28: ACHOUR Norredine | F28: 600 | G28: 600 | H28: 600 | I28: 600 | J28: 600 | K28: 600 | L28: 600
C29: 22 | D29: 22299 | E29: ACHOUR RABIE | F29: 600 | G29: 600 | H29: 600 | I29: 600 | J29: 600 | K29: 600 | L29: 600
C30: 23 | D30: 21329 | E30: ADDA Baghdad | F30: 600 | G30: 600 | H30: 600 | I30: 600 | J30: 600 | K30: 600 | L30: 600
C31: 24 | D31: 21989 | E31: ADDA MOHAMED | F31: 600 | G31: 600 | H31: 600 | I31: 600 | J31: 600 | K31: 600 | L31: 600
C32: 25 | D32: 21786 | E32: ADLAOUI Seddik | F32: 600 | G32: 600 | H32: 600 | I32: 600 | J32: 600 | K32: 600 | L32: 600
C33: 26 | D33: 24532 | E33: AFFANE Abdelwahab | F33: 600 | G33: 0 | H33: 0 | I33: 0 | J33: 600 | K33: 600 | L33: 600
C34: 27 | D34: 21628 | E34: AFFOUN Moulay Safi | F34: 600 | G34: 600 | H34: 600 | I34: 600 | J34: 600 | K34: 600 | L34: 600
... C37: 30 | D37: 24162 | E37: AGBOUBI ABDELLAH | F37: 600 | G37: 600 | H37: 600 | I37: 600 | J37: 600 | K37: 600 | L37: 600
A38: rappel | C38: 31 | E38: AGBOUBI ABDELWAHAB | F38: 0 | G38: 600 | H38: 600 | I38: 600 | J38: 600 | K38: 600 | L38: 600
C39: 32 | D39: 23322 | E39: AGHFOUL RACHID | F39: 600 | G39: 600 | H39: 600 | I39: 600 | J39: 600 | K39: 600 | L39: 600
C40: 33 | D40: 22192 | E40: AGOUDJIL Mahmoud | F40: 600 | G40: 600 | H40: 600 | I40: 600 | J40: 600 | K40: 600 | L40: 600
C41: 34 | D41: 24007 | E41: AGUEB NEDJADI | F41: 600 | G41: 600 | H41: 600 | I41: 600 | J41: 600 | K41: 600 | L41: 600
C42: 35 | D42: 24169 | E42: AGUENI RACHIDA | F42: 600 | G42: 600 | H42: 600 | I42: 600 | J42: 600 | K42: 600 | L42: 600
C43: 36 | D43: 23457 | E43: AHMED BENYAHIA | F43: 0 | G43: 0 | H43: 600 | I43: 0 | J43: 0 | K43: 0 | L43: 0
C44: 37 | D44: 22270 | E44: AHMEDI BOUDJELTHIA BENALI | F44: 600 | G44: 600 | H44: 600 | I44: 600 | J44: 600 | K44: 600 | L44: 600
C45: 38 | D45: 21391 | E45: AHSSEN Houari | F45: 600 | G45: 600 | H45: 600 | I45: 600 | J45: 600 | K45: 600 | L45: 600
C46: 39 | D46: 23953 | E46: AICHOUCHE DJELLOUL | F46: 600 | G46: 600 | H46: 600 | I46: 600 | J46: 600 | K46: 600 | L46: 600
C47: 40 | D47: 23863 | E47: AIS MOHAMED HICHAM | F47: 600 | G47: 600 | H47: 600 | I47: 600 | J47: 600 | K47: 600 | L47: 0
C48: 41 | D48: 22552 | E48: AISSAOUI KAMEL | F48: 600 | G48: 600 | H48: 600 | I48: 600 | J48: 600 | K48: 600 | L48: 600
C49: 42 | D49: 24257 | E49: AISSAOUI MOHAMMED | F49: 600 | G49: 600 | H49: 600 | I49: 600 | J49: 600 | K49: 600 | L49: 600
C50: 43 | D50: 24564 | E50: AIT YAHIA IBRAHIM | F50: 600 | G50: 600 | H50: 600 | I50: 600 | J50: 600 | K50: 600 | L50: 600
... C121: 114 | D121: 24361 | E121: BACHIR M'HAMED | F121: 600 | G121: 600 | H121: 600 | I121: 600 | J121: 600 | K121: 600 | L121: 600
E122: BACHIR MOHAMED | F122: 0 | G122: 0 | H122: 0 | I122: 0 | J122: 600 | K122: 600 | L122: 600
C123: 115 | D123: 24175 | E123: BAGHDAD ALI | F123: 600 | G123: 600 | H123: 600 | I123: 600 | J123: 600 | K123: 600 | L123: 600
C124: 116 | D124: 22006 | E124: BAGHDAD RACHID | F124: 600 | G124: 600 | H124: 600 | I124: 600 | J124: 600 | K124: 600 | L124: 600
C125: 117 | D125: 22822 | E125: BAGHDAD SAID | F125: 600 | G125: 600 | H125: 600 | I125: 600 | J125: 600 | K125: 600 | L125: 600
C126: 118 | D126: 21773 | E126: BAGLAB AHMED | F126: 600 | G126: 0 | H126: 0 | I126: 0 | J126: 0 | K126: 600 | L126: 600
C127: 119 | D127: 21358 | E127: BAHET MOHAMMED REDA | F127: 600 | G127: 600 | H127: 600 | I127: 600 | J127: 600 | K127: 600 | L127: 600
C128: 120 | D128: 23278 | E128: BAHLOUL KHEIR EDDINE | F128: 600 | G128: 600 | H128: 600 | I128: 600 | J128: 600 | K128: 600 | L128: 600
C129: 121 | D129: 20793 | E129: BAHLOULI AHMED | F129: 600 | G129: 600 | H129: 600 | I129: 600 | J129: 600 | K129: 600 | L129: 600
C130: 122 | D130: 23624 | E130: BAHLOULI SAADEDDINE | F130: 600 | G130: 600 | H130: 600 | I130: 600 | J130: 600 | K130: 600 | L130: 600
C131: 123 | D131: 20492 | E131: BAHOUS NOREDDINE | F131: 600 | G131: 600 | H131: 600 | I131: 600 | J131: 600 | K131: 600 | L131: 600
C132: 124 | D132: 22805 | E132: BAHOUS RACHID | F132: 600 | G132: 600 | H132: 600 | I132: 600 | J132: 600 | K132: 600 | L132: 600
C133: 125 | D133: 22797 | E133: BAHRI MOHAMMED | F133: 600 | G133: 600 | H133: 600 | I133: 600 | J133: 600 | K133: 600 | L133: 600
C134: 126 | D134: 21913 | E134: BAHRIA Ahmed | F134: 600 | G134: 600 | H134: 600 | I134: 600 | J134: 600 | K134: 600 | L134: 600
... C218: 210 | D218: 21757 | E218: BENABDELHAKEM Tayeb | F218: 600 | G218: 600 | H218: 600 | I218: 600 | J218: 600 | K218: 600 | L218: 600
A219: 25667 | B219: 700328002363 | C219: 211 | D219: 21696 | E219: BENABDELKADER MOHAMMED | F219: 600 | G219: 600 | H219: 600 | I219: 600 | J219: 600 | K219: 600 | L219: 600
A220: 25376 | B220: 690537010059 | C220: 212 | D220: 21169 | E220: BENABDELKADER MOHAMMED | F220: 600 | G220: 600 | H220: 600 | I220: 600 | J220: 600 | K220: 600 | L220: 600
C221: 213 | D221: 22012 | E221: BENABDELLAH ABDELKADER | F221: 600 | G221: 600 | H221: 600 | I221: 600 | J221: 600 | K221: 600 | L221: 600
C222: 214 | D222: 24200 | E222: BENABDELMOULA MOHAMED CHERIF | F222: 600 | G222: 600 | H222: 600 | I222: 600 | J222: 600 | K222: 600 | L222: 600
C223: 215 | D223: 20837 | E223: BENABDERRAHMANE MOHAMED | F223: 600 | G223: 600 | H223: 600 | I223: 600 | J223: 600 | K223: 600 | L223: 600
C224: 216 | D224: 24360 | E224: BENABDESSLEM MOHAMED | F224: 600 | G224: 600 | H224: 600 | I224: 600 | J224: 600 | K224: 600 | L224: 600
C225: 217 | D225: 22372 | E225: BENABED HASNI | F225: 600 | G225: 600 | H225: 600 | I225: 600 | J225: 600 | K225: 600 | L225: 600
C226: 218 | D226: 24385 | E226: BENABELA LAID | F226: 600 | G226: 600 | H226: 600 | I226: 600 | J226: 600 | K226: 600 | L226: 600
C227: 219 | D227: 24260 | E227: BENABI KADA | F227: 600 | G227: 600 | H227: 600 | I227: 600 | J227: 600 | K227: 600 | L227: 600
C228: 220 | D228: 23487 | E228: BENACEUR ABDELHAFID | F228: 600 | G228: 600 | H228: 600 | I228: 600 | J228: 600 | K228: 600 | L228: 600
C229: 221 | D229: 23433 | E229: BENADDA FATIMA | F229: 600 | G229: 600 | H229: 600 | I229: 600 | J229: 600 | K229: 600 | L229: 600
C230: 222 | D230: 20514 | E230: BENADDA LAHOUARI | F230: 600 | G230: 600 | H230: 600 | I230: 600 | J230: 600 | K230: 600 | L230: 600
C231: 223 | D231: 24374 | E231: BENAHMED DJILLALI | F231: 600 | G231: 600 | H231: 600 | I231: 600 | J231: 600 | K231: 600 | L231: 600
C232: 224 | D232: 21521 | E232: BENAHMED MOHAMMED | F232: 600 | G232: 600 | H232: 600 | I232: 600 | J232: 600 | K232: 600 | L232: 600
... C380: 372 | D380: 22814 | E380: BESSAFI CHAFIK | F380: 600 | G380: 600 | H380: 600 | I380: 600 | J380: 600 | K380: 600 | L380: 600
E381: BESSELMA BACHIR | F381: 0 | G381: 0 | H381: 0 | I381: 0 | J381: 0 | K381: 0 | L381: 600
C382: 373 | D382: 25013 | E382: BETOUIL ABDALLAH | F382: 0 | G382: 0 | H382: 600 | I382: 0 | J382: 0 | K382: 0 | L382: 0
C383: 374 | D383: 21440 | E383: BETTAHAR Houari | F383: 600 | G383: 600 | H383: 600 | I383: 600 | J383: 600 | K383: 600 | L383: 600
C384: 375 | D384: 24987 | E384: BETTAHER HACHEMI | F384: 0 | G384: 0 | H384: 600 | I384: 0 | J384: 0 | K384: 0 | L384: 0
C385: 376 | D385: 21554 | E385: BETTERKI Rachid | F385: 600 | G385: 600 | H385: 600 | I385: 600 | J385: 600 | K385: 600 | L385: 600
C386: 377 | D386: 24961 | E386: BEY KARIM | F386: 0 | G386: 0 | H386: 600 | I386: 0 | J386: 0 | K386: 0 | L386: 0
C387: 378 | D387: 22302 | E387: BEY BACHIR | F387: 600 | G387: 600 | H387: 600 | I387: 600 | J387: 600 | K387: 600 | L387: 600
C388: 379 | D388: 23761 | E388: BEY OMAR | F388: 600 | G388: 600 | H388: 600 | I388: 600 | J388: 600 | K388: 600 | L388: 600
C389: 380 | D389: 21859 | E389: BIDARI Kamel | F389: 600 | G389: 600 | H389: 600 | I389: 600 | J389: 600 | K389: 600 | L389: 600
C390: 381 | D390: 24964 | E390: BLIDI AHMED | F390: 0 | G390: 0 | H390: 600 | I390: 0 | J390: 0 | K390: 0 | L390: 0
C391: 382 | D391: 21639 | E391: BOUAB Ahmed | F391: 600 | G391: 600 | H391: 600 | I391: 600 | J391: 600 | K391: 600 | L391: 600
C392: 383 | D392: 23774 | E392: BOUABDELLAH TOUFIK | F392: 0 | G392: 600 | H392: 600 | I392: 0 | J392: 0 | K392: 0 | L392: 0
C393: 384 | D393: 21438 | E393: BOUADI Mehdi | F393: 600 | G393: 600 | H393: 600 | I393: 600 | J393: 600 | K393: 600 | L393: 600
... C398: 389 | D398: 22159 | E398: BOUARFA ABDELKADER | F398: 600 | G398: 600 | H398: 600 | I398: 600 | J398: 600 | K398: 600 | L398: 600
E399: BOUARICHA BOUABDELLAH | F399: 0 | G399: 0 | H399: 0 | I399: 0 | J399: 0 | K399: 600 | L399: 600
C400: 390 | D400: 24845 | E400: BOUARICHA FETHI | F400: 600 | G400: 600 | H400: 600 | I400: 600 | J400: 600 | K400: 600 | L400: 600
C401: 391 | D401: 23370 | E401: BOUAZZA ABDALLAH | F401: 600 | G401: 600 | H401: 600 | I401: 600 | J401: 600 | K401: 600 | L401: 600
C402: 392 | D402: 21753 | E402: BOUAZZA Benmoussa | F402: 600 | G402: 600 | H402: 600 | I402: 600 | J402: 600 | K402: 600 | L402: 600
C403: 393 | D403: 24400 | E403: BOUAZZA MOHAMED | F403: 600 | G403: 600 | H403: 600 | I403: 600 | J403: 600 | K403: 600 | L403: 600
C404: 394 | D404: 21087 | E404: BOUAZZA Soufiane | F404: 600 | G404: 600 | H404: 600 | I404: 600 | J404: 600 | K404: 600 | L404: 600
C405: 395 | D405: 21947 | E405: BOUBEKEUR HICHEM | F405: 600 | G405: 600 | H405: 600 | I405: 600 | J405: 600 | K405: 600 | L405: 600
C406: 396 | D406: 23614 | E406: BOUBTANA ZAKARIA | F406: 600 | G406: 600 | H406: 600 | I406: 600 | J406: 600 | K406: 600 | L406: 600
C407: 397 | D407: 22185 | E407: BOUCETTA Madjid | F407: 600 | G407: 600 | H407: 600 | I407: 600 | J407: 600 | K407: 600 | L407: 600
C408: 398 | D408: 22022 | E408: BOUCHEKIMA AMAR | F408: 600 | G408: 600 | H408: 600 | I408: 600 | J408: 600 | K408: 600 | L408: 600
...

Sheet AOUT
C2: Rubrique : RET.ASSURANCE GROUPE AOUT 2017
A4: NUM | B4: MATRECULE | C4: NOM PRENOM | D4: MONTANT
A5: 1 | B5: 22004 | C5: ABABOU MOHAMMED | D5: 600
A6: 2 | B6: 21352 | C6: ABADA MOKHTAR | D6: 600
A7: 3 | B7: 23486 | C7: ABBADA NOUREDDINE | D7: 600
A8: 4 | B8: 23638 | C8: ABBASSI ABDELLAH | D8: 600
A9: 5 | B9: 21054 | C9: ABBES BOUBKEUR | D9: 600
A10: 6 | B10: 22048 | C10: ABBES DJILLALI | D10: 600
A11: 7 | B11: 24447 | C11: ABBOU YASSINE | D11: 600
A12: 8 | B12: 24597 | C12: ABDELAZIZ MOHAMMED NADIR | D12: 600
A13: 9 | B13: 21752 | C13: ABDELDJOUAD Ismail | D13: 600
A14: 10 | B14: 24255 | C14: ABDELHADI ABDELKADER | D14: 600
A15: 11 | B15: 23886 | C15: ABDELHAK AMINE | D15: 600
A16: 12 | B16: 23201 | C16: ABDELMOUMENE ABDELHALIM | D16: 600
... A1306: 1302 | B1306: 22814 | C1306: bessafi CHAFIK | D1306: 600
A1307: TOTAL | D1307: =SUM(D5:D1306) -> 783600

Sheet SEPT
B4: Rubrique : RET.ASSURANCE GROUPE SEPTEMBRE
A6: NUM | B6: MATRECULE | C6: NOM ET PRENOM | D6: septembre 2017
A7: 1 | B7: 22004 | C7: ABABOU MOHAMMED | D7: 600
A8: 2 | B8: 21352 | C8: ABADA MOKHTAR | D8: 600
A9: 3 | B9: 23486 | C9: ABBADA NOUREDDINE | D9: 600
A10: 4 | B10: 23638 | C10: ABBASSI ABDELLAH | D10: 600
A11: 5 | B11: 21054 | C11: ABBES BOUBKEUR | D11: 600
A12: 6 | B12: 22048 | C12: ABBES DJILLALI | D12: 600
A13: 7 | B13: 24447 | C13: ABBOU YASSINE | D13: 600
A14: 8 | B14: 24597 | C14: ABDELAZIZ MOHAMMED NADIR | D14: 600
A15: 9 | B15: 21752 | C15: ABDELDJOUAD Ismail | D15: 600
A16: 10 | B16: 24255 | C16: ABDELHADI ABDELKADER | D16: 600
A17: 11 | B17: 23886 | C17: ABDELHAK AMINE | D17: 600
A18: 12 | B18: 23201 | C18: ABDELMOUMENE ABDELHALIM | D18: 600
... A1298: 1292 | B1298: 22814 | C1298: bessafi CHAFIK | D1298: 600
A1299: TOTAL | D1299: =SUM(D7:D1298) -> 777600

Sheet OCT
C4: Rubrique : RET.ASSURANCE GROUPE OCTOBRE 2017
A6: NUM | B6: MATRECULE | C6: NOM ET PRENOM | D6: octobre 2017
A7: 1 | B7: 22004 | C7: ABABOU MOHAMMED | D7: 600
A8: 2 | B8: 21352 | C8: ABADA MOKHTAR | D8: 600
A9: 3 | B9: 23486 | C9: ABBADA NOUREDDINE | D9: 600
A10: 4 | B10: 23638 | C10: ABBASSI ABDELLAH | D10: 600
A11: 5 | B11: 21054 | C11: ABBES BOUBKEUR | D11: 600
A12: 6 | B12: 22048 | C12: ABBES DJILLALI | D12: 600
A13: 7 | B13: 24447 | C13: ABBOU YASSINE | D13: 600
A14: 8 | B14: 25078 | C14: ABDELALI DJAMEL ABDENACEUR | D14: 600
A15: 9 | B15: 24597 | C15: ABDELAZIZ MOHAMMED NADIR | D15: 600
A16: 10 | B16: 21752 | C16: ABDELDJOUAD Ismail | D16: 600
A17: 11 | B17: 24255 | C17: ABDELHADI ABDELKADER | D17: 600
A18: 12 | B18: 23886 | C18: ABDELHAK AMINE | D18: 600
... A1290: 1284 | B1290: 22814 | C1290: bessafi CHAFIK | D1290: 600
A1291: TOTAL | D1291: =SUM(D7:D1290) -> 772800

Sheet NOV
C4: Rubrique : RET.ASSURANCE GROUPE NOVEMBRE 2017
A6: NUM | B6: MATRECULE | C6: NOM ET PRENOM | D6: novembre 2017
A7: 1 | B7: 22004 | C7: ABABOU MOHAMMED | D7: 600
A8: 2 | B8: 21352 | C8: ABADA MOKHTAR | D8: 600
A9: 3 | B9: 23486 | C9: ABBADA NOUREDDINE | D9: 600
A10: 4 | B10: 23638 | C10: ABBASSI ABDELLAH | D10: 600
A11: 5 | B11: 21054 | C11: ABBES BOUBKEUR | D11: 600
A12: 6 | B12: 22048 | C12: ABBES DJILLALI | D12: 600
A13: 7 | B13: 24447 | C13: ABBOU YASSINE | D13: 600
A14: 8 | B14: 24597 | C14: ABDELAZIZ MOHAMMED NADIR | D14: 600
A15: 9 | B15: 21752 | C15: ABDELDJOUAD Ismail | D15: 600
A16: 10 | B16: 24255 | C16: ABDELHADI ABDELKADER | D16: 600
A17: 11 | B17: 23886 | C17: ABDELHAK AMINE | D17: 600
A18: 12 | B18: 23201 | C18: ABDELMOUMENE ABDELHALIM | D18: 600
... A1284: 1278 | B1284: 22814 | C1284: bessafi CHAFIK | D1284: 600
A1285: TOTAL | D1285: =SUM(D7:D1284) -> 769200

Sheet unique
L1: AOUT | M1: SEPT | N1: OCT | O1: NOV
D2: 21816 | E2: AAKEL Belmokhtar | H2: 1 | I2: 21816 | J2: AAKEL Belmokhtar | K2: 0 | L2: =IF(ISERROR(VLOOKUP($I2,AOUT!$B$7:$D$1400,3,0)),0,VLOOKUP($I2,AOUT!$B$7:$D$1400,3,0)) -> 0 | M2: =IF(ISERROR(VLOOKUP($I2,SEPT!$B$7:$D$1400,3,0)),0,VLOOKUP($I2,SEPT!$B$7:$D$1400,3,0)) -> 0 | N2: =IF(ISERROR(VLOOKUP($I2,OCT!$B$7:$D$1400,3,0)),0,VLOOKUP($I2,OCT!$B$7:$D$1400,3,0)) -> 0 | O2: =IF(ISERROR(VLOOKUP($I2,NOV!$B$7:$D$1400,3,0)),0,VLOOKUP($I2,NOV!$B$7:$D$1400,3,0)) -> 0
D3: 22004 | E3: ABABOU MOHAMMED | H3: 2 | I3: 22004 | J3: ABABOU MOHAMMED | K3: 600 | L3: =IF(ISERROR(VLOOKUP($I3,AOUT!$B$7:$D$1400,3,0)),0,VLOOKUP($I3,AOUT!$B$7:$D$1400,3,0)) -> 0 | M3: =IF(ISERROR(VLOOKUP($I3,SEPT!$B$7:$D$1400,3,0)),0,VLOOKUP($I3,SEPT!$B$7:$D$1400,3,0)) -> 600 | N3: =IF(ISERROR(VLOOKUP($I3,OCT!$B$7:$D$1400,3,0)),0,VLOOKUP($I3,OCT!$B$7:$D$1400,3,0)) -> 600 | O3: =IF(ISERROR(VLOOKUP($I3,NOV!$B$7:$D$1400,3,0)),0,VLOOKUP($I3,NOV!$B$7:$D$1400,3,0)) -> 600
A4: j'ai utlitsé la mise en forme conditionnelle "UNIQUE" pour cibler les adherants qui cotisent pour la premiere fois pour cela j'ai coller a la fin la liste de cotisation du mois D'Aout qui cotient seulement les adherant qui ont cotiser ce mois ci (Aout) | D4: 21352 | E4: ABADA MOKHTAR | H4: 3 | I4: 21352 | J4: ABADA MOKHTAR | K4: 600 | L4: =IF(ISERROR(VLOOKUP($I4,AOUT!$B$7:$D$1400,3,0)),0,VLOOKUP($I4,AOUT!$B$7:$D$1400,3,0)) -> 0 | M4: =IF(ISERROR(VLOOKUP($I4,SEPT!$B$7:$D$1400,3,0)),0,VLOOKUP($I4,SEPT!$B$7:$D$1400,3,0)) -> 600 | N4: =IF(ISERROR(VLOOKUP($I4,OCT!$B$7:$D$1400,3,0)),0,VLOOKUP($I4,OCT!$B$7:$D$1400,3,0)) -> 600 | O4: =IF(ISERROR(VLOOKUP($I4,NOV!$B$7:$D$1400,3,0)),0,VLOOKUP($I4,NOV!$B$7:$D$1400,3,0)) -> 600
D5: 23486 | E5: ABBADA NOUREDDINE | G5: MA LISTE | H5: 4 | I5: 23486 | J5: ABBADA NOUREDDINE | K5: 600 | L5: =IF(ISERROR(VLOOKUP($I5,AOUT!$B$7:$D$1400,3,0)),0,VLOOKUP($I5,AOUT!$B$7:$D$1400,3,0)) -> 600 | M5: =IF(ISERROR(VLOOKUP($I5,SEPT!$B$7:$D$1400,3,0)),0,VLOOKUP($I5,SEPT!$B$7:$D$1400,3,0)) -> 600 | N5: =IF(ISERROR(VLOOKUP($I5,OCT!$B$7:$D$1400,3,0)),0,VLOOKUP($I5,OCT!$B$7:$D$1400,3,0)) -> 600 | O5: =IF(ISERROR(VLOOKUP($I5,NOV!$B$7:$D$1400,3,0)),0,VLOOKUP($I5,NOV!$B$7:$D$1400,3,0)) -> 600
D6: 23638 | E6: ABBASSI ABDELLAH | H6: 5 | I6: 23638 | J6: ABBASSI ABDELLAH | K6: 600 | L6: =IF(ISERROR(VLOOKUP($I6,AOUT!$B$7:$D$1400,3,0)),0,VLOOKUP($I6,AOUT!$B$7:$D$1400,3,0)) -> 600 | M6: =IF(ISERROR(VLOOKUP($I6,SEPT!$B$7:$D$1400,3,0)),0,VLOOKUP($I6,SEPT!$B$7:$D$1400,3,0)) -> 600 | N6: =IF(ISERROR(VLOOKUP($I6,OCT!$B$7:$D$1400,3,0)),0,VLOOKUP($I6,OCT!$B$7:$D$1400,3,0)) -> 600 | O6: =IF(ISERROR(VLOOKUP($I6,NOV!$B$7:$D$1400,3,0)),0,VLOOKUP($I6,NOV!$B$7:$D$1400,3,0)) -> 600
D7: 21054 | E7: ABBES BOUBKEUR | H7: 6 | I7: 21054 | J7: ABBES BOUBKEUR | K7: 600 | L7: =IF(ISERROR(VLOOKUP($I7,AOUT!$B$7:$D$1400,3,0)),0,VLOOKUP($I7,AOUT!$B$7:$D$1400,3,0)) -> 600 | M7: =IF(ISERROR(VLOOKUP($I7,SEPT!$B$7:$D$1400,3,0)),0,VLOOKUP($I7,SEPT!$B$7:$D$1400,3,0)) -> 600 | N7: =IF(ISERROR(VLOOKUP($I7,OCT!$B$7:$D$1400,3,0)),0,VLOOKUP($I7,OCT!$B$7:$D$1400,3,0)) -> 600 | O7: =IF(ISERROR(VLOOKUP($I7,NOV!$B$7:$D$1400,3,0)),0,VLOOKUP($I7,NOV!$B$7:$D$1400,3,0)) -> 600
D8: 22048 | E8: ABBES DJILLALI | H8: 7 | I8: 22048 | J8: ABBES DJILLALI | K8: 600 | L8: =IF(ISERROR(VLOOKUP($I8,AOUT!$B$7:$D$1400,3,0)),0,VLOOKUP($I8,AOUT!$B$7:$D$1400,3,0)) -> 600 | M8: =IF(ISERROR(VLOOKUP($I8,SEPT!$B$7:$D$1400,3,0)),0,VLOOKUP($I8,SEPT!$B$7:$D$1400,3,0)) -> 600 | N8: =IF(ISERROR(VLOOKUP($I8,OCT!$B$7:$D$1400,3,0)),0,VLOOKUP($I8,OCT!$B$7:$D$1400,3,0)) -> 600 | O8: =IF(ISERROR(VLOOKUP($I8,NOV!$B$7:$D$1400,3,0)),0,VLOOKUP($I8,NOV!$B$7:$D$1400,3,0)) -> 600
D9: 24447 | E9: ABBOU YASSINE | H9: 8 | I9: 24447 | J9: ABBOU YASSINE | K9: 600 | L9: =IF(ISERROR(VLOOKUP($I9,AOUT!$B$7:$D$1400,3,0)),0,VLOOKUP($I9,AOUT!$B$7:$D$1400,3,0)) -> 600 | M9: =IF(ISERROR(VLOOKUP($I9,SEPT!$B$7:$D$1400,3,0)),0,VLOOKUP($I9,SEPT!$B$7:$D$1400,3,0)) -> 600 | N9: =IF(ISERROR(VLOOKUP($I9,OCT!$B$7:$D$1400,3,0)),0,VLOOKUP($I9,OCT!$B$7:$D$1400,3,0)) -> 600 | O9: =IF(ISERROR(VLOOKUP($I9,NOV!$B$7:$D$1400,3,0)),0,VLOOKUP($I9,NOV!$B$7:$D$1400,3,0)) -> 600
D10: 24597 | E10: ABDELAZIZ MOHAMMED NADIR | H10: 9 | I10: 24597 | J10: ABDELAZIZ MOHAMMED NADIR | K10: 600 | L10: =IF(ISERROR(VLOOKUP($I10,AOUT!$B$7:$D$1400,3,0)),0,VLOOKUP($I10,AOUT!$B$7:$D$1400,3,0)) -> 600 | M10: =IF(ISERROR(VLOOKUP($I10,SEPT!$B$7:$D$1400,3,0)),0,VLOOKUP($I10,SEPT!$B$7:$D$1400,3,0)) -> 600 | N10: =IF(ISERROR(VLOOKUP($I10,OCT!$B$7:$D$1400,3,0)),0,VLOOKUP($I10,OCT!$B$7:$D$1400,3,0)) -> 600 | O10: =IF(ISERROR(VLOOKUP($I10,NOV!$B$7:$D$1400,3,0)),0,VLOOKUP($I10,NOV!$B$7:$D$1400,3,0)) -> 600
D11: 21752 | E11: ABDELDJOUAD Ismail | H11: 10 | I11: 21752 | J11: ABDELDJOUAD Ismail | K11: 600 | L11: =IF(ISERROR(VLOOKUP($I11,AOUT!$B$7:$D$1400,3,0)),0,VLOOKUP($I11,AOUT!$B$7:$D$1400,3,0)) -> 600 | M11: =IF(ISERROR(VLOOKUP($I11,SEPT!$B$7:$D$1400,3,0)),0,VLOOKUP($I11,SEPT!$B$7:$D$1400,3,0)) -> 600 | N11: =IF(ISERROR(VLOOKUP($I11,OCT!$B$7:$D$1400,3,0)),0,VLOOKUP($I11,OCT!$B$7:$D$1400,3,0)) -> 600 | O11: =IF(ISERROR(VLOOKUP($I11,NOV!$B$7:$D$1400,3,0)),0,VLOOKUP($I11,NOV!$B$7:$D$1400,3,0)) -> 600
D12: 24255 | E12: ABDELHADI ABDELKADER | H12: 11 | I12: 24255 | J12: ABDELHADI ABDELKADER | K12: 600 | L12: =IF(ISERROR(VLOOKUP($I12,AOUT!$B$7:$D$1400,3,0)),0,VLOOKUP($I12,AOUT!$B$7:$D$1400,3,0)) -> 600 | M12: =IF(ISERROR(VLOOKUP($I12,SEPT!$B$7:$D$1400,3,0)),0,VLOOKUP($I12,SEPT!$B$7:$D$1400,3,0)) -> 600 | N12: =IF(ISERROR(VLOOKUP($I12,OCT!$B$7:$D$1400,3,0)),0,VLOOKUP($I12,OCT!$B$7:$D$1400,3,0)) -> 600 | O12: =IF(ISERROR(VLOOKUP($I12,NOV!$B$7:$D$1400,3,0)),0,VLOOKUP($I12,NOV!$B$7:$D$1400,3,0)) -> 600
D13: 23886 | E13: ABDELHAK AMINE | H13: 12 | I13: 23886 | J13: ABDELHAK AMINE | K13: 600 | L13: =IF(ISERROR(VLOOKUP($I13,AOUT!$B$7:$D$1400,3,0)),0,VLOOKUP($I13,AOUT!$B$7:$D$1400,3,0)) -> 600 | M13: =IF(ISERROR(VLOOKUP($I13,SEPT!$B$7:$D$1400,3,0)),0,VLOOKUP($I13,SEPT!$B$7:$D$1400,3,0)) -> 600 | N13: =IF(ISERROR(VLOOKUP($I13,OCT!$B$7:$D$1400,3,0)),0,VLOOKUP($I13,OCT!$B$7:$D$1400,3,0)) -> 600 | O13: =IF(ISERROR(VLOOKUP($I13,NOV!$B$7:$D$1400,3,0)),0,VLOOKUP($I13,NOV!$B$7:$D$1400,3,0)) -> 600
D14: 25008 | E14: ABDELI ALI | H14: 13 | I14: 25008 | J14: ABDELI ALI | K14: 0 | L14: =IF(ISERROR(VLOOKUP($I14,AOUT!$B$7:$D$1400,3,0)),0,VLOOKUP($I14,AOUT!$B$7:$D$1400,3,0)) -> 0 | M14: =IF(ISERROR(VLOOKUP($I14,SEPT!$B$7:$D$1400,3,0)),0,VLOOKUP($I14,SEPT!$B$7:$D$1400,3,0)) -> 0 | N14: =IF(ISERROR(VLOOKUP($I14,OCT!$B$7:$D$1400,3,0)),0,VLOOKUP($I14,OCT!$B$7:$D$1400,3,0)) -> 0 | O14: =IF(ISERROR(VLOOKUP($I14,NOV!$B$7:$D$1400,3,0)),0,VLOOKUP($I14,NOV!$B$7:$D$1400,3,0)) -> 0
D15: 23201 | E15: ABDELMOUMENE ABDELHALIM | H15: 14 | I15: 23201 | J15: ABDELMOUMENE ABDELHALIM | K15: 600 | L15: =IF(ISERROR(VLOOKUP($I15,AOUT!$B$7:$D$1400,3,0)),0,VLOOKUP($I15,AOUT!$B$7:$D$1400,3,0)) -> 600 | M15: =IF(ISERROR(VLOOKUP($I15,SEPT!$B$7:$D$1400,3,0)),0,VLOOKUP($I15,SEPT!$B$7:$D$1400,3,0)) -> 600 | N15: =IF(ISERROR(VLOOKUP($I15,OCT!$B$7:$D$1400,3,0)),0,VLOOKUP($I15,OCT!$B$7:$D$1400,3,0)) -> 600 | O15: =IF(ISERROR(VLOOKUP($I15,NOV!$B$7:$D$1400,3,0)),0,VLOOKUP($I15,NOV!$B$7:$D$1400,3,0)) -> 600
D16: 22326 | E16: ABDELMOUMENE MOHAMMED | H16: 15 | I16: 22326 | J16: ABDELMOUMENE MOHAMMED | K16: 600 | L16: =IF(ISERROR(VLOOKUP($I16,AOUT!$B$7:$D$1400,3,0)),0,VLOOKUP($I16,AOUT!$B$7:$D$1400,3,0)) -> 600 | M16: =IF(ISERROR(VLOOKUP($I16,SEPT!$B$7:$D$1400,3,0)),0,VLOOKUP($I16,SEPT!$B$7:$D$1400,3,0)) -> 600 | N16: =IF(ISERROR(VLOOKUP($I16,OCT!$B$7:$D$1400,3,0)),0,VLOOKUP($I16,OCT!$B$7:$D$1400,3,0)) -> 600 | O16: =IF(ISERROR(VLOOKUP($I16,NOV!$B$7:$D$1400,3,0)),0,VLOOKUP($I16,NOV!$B$7:$D$1400,3,0)) -> 600
D17: 22854 | E17: ABDENEBI MADJID | H17: 16 | I17: 22854 | J17: ABDENEBI MADJID | K17: 600 | L17: =IF(ISERROR(VLOOKUP($I17,AOUT!$B$7:$D$1400,3,0)),0,VLOOKUP($I17,AOUT!$B$7:$D$1400,3,0)) -> 600 | M17: =IF(ISERROR(VLOOKUP($I17,SEPT!$B$7:$D$1400,3,0)),0,VLOOKUP($I17,SEPT!$B$7:$D$1400,3,0)) -> 600 | N17: =IF(ISERROR(VLOOKUP($I17,OCT!$B$7:$D$1400,3,0)),0,VLOOKUP($I17,OCT!$B$7:$D$1400,3,0)) -> 600 | O17: =IF(ISERROR(VLOOKUP($I17,NOV!$B$7:$D$1400,3,0)),0,VLOOKUP($I17,NOV!$B$7:$D$1400,3,0)) -> 600
... D22: 22241 | E22: ACHOUR Norredine | H22: 21 | I22: 22241 | J22: ACHOUR Norredine | K22: 600 | L22: =IF(ISERROR(VLOOKUP($I22,AOUT!$B$7:$D$1400,3,0)),0,VLOOKUP($I22,AOUT!$B$7:$D$1400,3,0)) -> 600 | M22: =IF(ISERROR(VLOOKUP($I22,SEPT!$B$7:$D$1400,3,0)),0,VLOOKUP($I22,SEPT!$B$7:$D$1400,3,0)) -> 600 | N22: =IF(ISERROR(VLOOKUP($I22,OCT!$B$7:$D$1400,3,0)),0,VLOOKUP($I22,OCT!$B$7:$D$1400,3,0)) -> 600 | O22: =IF(ISERROR(VLOOKUP($I22,NOV!$B$7:$D$1400,3,0)),0,VLOOKUP($I22,NOV!$B$7:$D$1400,3,0)) -> 600
A23: CE QUE JE VOUDRAI FAIRE C'EST DE CLASSER LES LISTE DE AOUT-SEP-OCT- NOV SELON "MA LISTE" ET GARDER LE MEME ORDRE C'EST COMME SI ILE SE RANGENT AUTOMATIQUEMENT | D23: 22299 | E23: ACHOUR RABIE | H23: 22 | I23: 22299 | J23: ACHOUR RABIE | K23: 600 | L23: =IF(ISERROR(VLOOKUP($I23,AOUT!$B$7:$D$1400,3,0)),0,VLOOKUP($I23,AOUT!$B$7:$D$1400,3,0)) -> 600 | M23: =IF(ISERROR(VLOOKUP($I23,SEPT!$B$7:$D$1400,3,0)),0,VLOOKUP($I23,SEPT!$B$7:$D$1400,3,0)) -> 600 | N23: =IF(ISERROR(VLOOKUP($I23,OCT!$B$7:$D$1400,3,0)),0,VLOOKUP($I23,OCT!$B$7:$D$1400,3,0)) -> 600 | O23: =IF(ISERROR(VLOOKUP($I23,NOV!$B$7:$D$1400,3,0)),0,VLOOKUP($I23,NOV!$B$7:$D$1400,3,0)) -> 600
D24: 21329 | E24: ADDA Baghdad | H24: 23 | I24: 21329 | J24: ADDA Baghdad | K24: 600 | L24: =IF(ISERROR(VLOOKUP($I24,AOUT!$B$7:$D$1400,3,0)),0,VLOOKUP($I24,AOUT!$B$7:$D$1400,3,0)) -> 600 | M24: =IF(ISERROR(VLOOKUP($I24,SEPT!$B$7:$D$1400,3,0)),0,VLOOKUP($I24,SEPT!$B$7:$D$1400,3,0)) -> 600 | N24: =IF(ISERROR(VLOOKUP($I24,OCT!$B$7:$D$1400,3,0)),0,VLOOKUP($I24,OCT!$B$7:$D$1400,3,0)) -> 600 | O24: =IF(ISERROR(VLOOKUP($I24,NOV!$B$7:$D$1400,3,0)),0,VLOOKUP($I24,NOV!$B$7:$D$1400,3,0)) -> 600
D25: 21989 | E25: ADDA MOHAMED | H25: 24 | I25: 21989 | J25: ADDA MOHAMED | K25: 600 | L25: =IF(ISERROR(VLOOKUP($I25,AOUT!$B$7:$D$1400,3,0)),0,VLOOKUP($I25,AOUT!$B$7:$D$1400,3,0)) -> 600 | M25: =IF(ISERROR(VLOOKUP($I25,SEPT!$B$7:$D$1400,3,0)),0,VLOOKUP($I25,SEPT!$B$7:$D$1400,3,0)) -> 600 | N25: =IF(ISERROR(VLOOKUP($I25,OCT!$B$7:$D$1400,3,0)),0,VLOOKUP($I25,OCT!$B$7:$D$1400,3,0)) -> 600 | O25: =IF(ISERROR(VLOOKUP($I25,NOV!$B$7:$D$1400,3,0)),0,VLOOKUP($I25,NOV!$B$7:$D$1400,3,0)) -> 600
D26: 21786 | E26: ADLAOUI Seddik | H26: 25 | I26: 21786 | J26: ADLAOUI Seddik | K26: 600 | L26: =IF(ISERROR(VLOOKUP($I26,AOUT!$B$7:$D$1400,3,0)),0,VLOOKUP($I26,AOUT!$B$7:$D$1400,3,0)) -> 600 | M26: =IF(ISERROR(VLOOKUP($I26,SEPT!$B$7:$D$1400,3,0)),0,VLOOKUP($I26,SEPT!$B$7:$D$1400,3,0)) -> 600 | N26: =IF(ISERROR(VLOOKUP($I26,OCT!$B$7:$D$1400,3,0)),0,VLOOKUP($I26,OCT!$B$7:$D$1400,3,0)) -> 600 | O26: =IF(ISERROR(VLOOKUP($I26,NOV!$B$7:$D$1400,3,0)),0,VLOOKUP($I26,NOV!$B$7:$D$1400,3,0)) -> 600
D27: 24532 | E27: AFFANE Abdelwahab | H27: 26 | I27: 24532 | J27: AFFANE Abdelwahab | K27: 600 | L27: =IF(ISERROR(VLOOKUP($I27,AOUT!$B$7:$D$1400,3,0)),0,VLOOKUP($I27,AOUT!$B$7:$D$1400,3,0)) -> 600 | M27: =IF(ISERROR(VLOOKUP($I27,SEPT!$B$7:$D$1400,3,0)),0,VLOOKUP($I27,SEPT!$B$7:$D$1400,3,0)) -> 600 | N27: =IF(ISERROR(VLOOKUP($I27,OCT!$B$7:$D$1400,3,0)),0,VLOOKUP($I27,OCT!$B$7:$D$1400,3,0)) -> 600 | O27: =IF(ISERROR(VLOOKUP($I27,NOV!$B$7:$D$1400,3,0)),0,VLOOKUP($I27,NOV!$B$7:$D$1400,3,0)) -> 600
D28: 21628 | E28: AFFOUN Moulay Safi | H28: 27 | I28: 21628 | J28: AFFOUN Moulay Safi | K28: 600 | L28: =IF(ISERROR(VLOOKUP($I28,AOUT!$B$7:$D$1400,3,0)),0,VLOOKUP($I28,AOUT!$B$7:$D$1400,3,0)) -> 600 | M28: =IF(ISERROR(VLOOKUP($I28,SEPT!$B$7:$D$1400,3,0)),0,VLOOKUP($I28,SEPT!$B$7:$D$1400,3,0)) -> 600 | N28: =IF(ISERROR(VLOOKUP($I28,OCT!$B$7:$D$1400,3,0)),0,VLOOKUP($I28,OCT!$B$7:$D$1400,3,0)) -> 600 | O28: =IF(ISERROR(VLOOKUP($I28,NOV!$B$7:$D$1400,3,0)),0,VLOOKUP($I28,NOV!$B$7:$D$1400,3,0)) -> 600
D29: 22240 | E29: AFIF Fethi | H29: 28 | I29: 22240 | J29: AFIF Fethi | K29: 600 | L29: =IF(ISERROR(VLOOKUP($I29,AOUT!$B$7:$D$1400,3,0)),0,VLOOKUP($I29,AOUT!$B$7:$D$1400,3,0)) -> 600 | M29: =IF(ISERROR(VLOOKUP($I29,SEPT!$B$7:$D$1400,3,0)),0,VLOOKUP($I29,SEPT!$B$7:$D$1400,3,0)) -> 600 | N29: =IF(ISERROR(VLOOKUP($I29,OCT!$B$7:$D$1400,3,0)),0,VLOOKUP($I29,OCT!$B$7:$D$1400,3,0)) -> 600 | O29: =IF(ISERROR(VLOOKUP($I29,NOV!$B$7:$D$1400,3,0)),0,VLOOKUP($I29,NOV!$B$7:$D$1400,3,0)) -> 600
D30: 23874 | E30: AFOUNAS KHELIFA | H30: 29 | I30: 23874 | J30: AFOUNAS KHELIFA | K30: 600 | L30: =IF(ISERROR(VLOOKUP($I30,AOUT!$B$7:$D$1400,3,0)),0,VLOOKUP($I30,AOUT!$B$7:$D$1400,3,0)) -> 600 | M30: =IF(ISERROR(VLOOKUP($I30,SEPT!$B$7:$D$1400,3,0)),0,VLOOKUP($I30,SEPT!$B$7:$D$1400,3,0)) -> 600 | N30: =IF(ISERROR(VLOOKUP($I30,OCT!$B$7:$D$1400,3,0)),0,VLOOKUP($I30,OCT!$B$7:$D$1400,3,0)) -> 600 | O30: =IF(ISERROR(VLOOKUP($I30,NOV!$B$7:$D$1400,3,0)),0,VLOOKUP($I30,NOV!$B$7:$D$1400,3,0)) -> 600
D31: 24162 | E31: AGBOUBI ABDELLAH | H31: 30 | I31: 24162 | J31: AGBOUBI ABDELLAH | K31: 600 | L31: =IF(ISERROR(VLOOKUP($I31,AOUT!$B$7:$D$1400,3,0)),0,VLOOKUP($I31,AOUT!$B$7:$D$1400,3,0)) -> 600 | M31: =IF(ISERROR(VLOOKUP($I31,SEPT!$B$7:$D$1400,3,0)),0,VLOOKUP($I31,SEPT!$B$7:$D$1400,3,0)) -> 600 | N31: =IF(ISERROR(VLOOKUP($I31,OCT!$B$7:$D$1400,3,0)),0,VLOOKUP($I31,OCT!$B$7:$D$1400,3,0)) -> 600 | O31: =IF(ISERROR(VLOOKUP($I31,NOV!$B$7:$D$1400,3,0)),0,VLOOKUP($I31,NOV!$B$7:$D$1400,3,0)) -> 600
D32: 23007 | E32: AGBOUBI ABDELWAHAB | H32: 31 | K32: 600 | L32: =IF(ISERROR(VLOOKUP($I32,AOUT!$B$7:$D$1400,3,0)),0,VLOOKUP($I32,AOUT!$B$7:$D$1400,3,0)) -> 0 | M32: =IF(ISERROR(VLOOKUP($I32,SEPT!$B$7:$D$1400,3,0)),0,VLOOKUP($I32,SEPT!$B$7:$D$1400,3,0)) -> 0 | N32: =IF(ISERROR(VLOOKUP($I32,OCT!$B$7:$D$1400,3,0)),0,VLOOKUP($I32,OCT!$B$7:$D$1400,3,0)) -> 0 | O32: =IF(ISERROR(VLOOKUP($I32,NOV!$B$7:$D$1400,3,0)),0,VLOOKUP($I32,NOV!$B$7:$D$1400,3,0)) -> 0
D33: 23322 | E33: AGHFOUL RACHID | H33: 32 | I33: 23322 | J33: AGHFOUL RACHID | K33: 600 | L33: =IF(ISERROR(VLOOKUP($I33,AOUT!$B$7:$D$1400,3,0)),0,VLOOKUP($I33,AOUT!$B$7:$D$1400,3,0)) -> 600 | M33: =IF(ISERROR(VLOOKUP($I33,SEPT!$B$7:$D$1400,3,0)),0,VLOOKUP($I33,SEPT!$B$7:$D$1400,3,0)) -> 600 | N33: =IF(ISERROR(VLOOKUP($I33,OCT!$B$7:$D$1400,3,0)),0,VLOOKUP($I33,OCT!$B$7:$D$1400,3,0)) -> 600 | O33: =IF(ISERROR(VLOOKUP($I33,NOV!$B$7:$D$1400,3,0)),0,VLOOKUP($I33,NOV!$B$7:$D$1400,3,0)) -> 600
D34: 22192 | E34: AGOUDJIL Mahmoud | H34: 33 | I34: 22192 | J34: AGOUDJIL Mahmoud | K34: 600 | L34: =IF(ISERROR(VLOOKUP($I34,AOUT!$B$7:$D$1400,3,0)),0,VLOOKUP($I34,AOUT!$B$7:$D$1400,3,0)) -> 600 | M34: =IF(ISERROR(VLOOKUP($I34,SEPT!$B$7:$D$1400,3,0)),0,VLOOKUP($I34,SEPT!$B$7:$D$1400,3,0)) -> 600 | N34: =IF(ISERROR(VLOOKUP($I34,OCT!$B$7:$D$1400,3,0)),0,VLOOKUP($I34,OCT!$B$7:$D$1400,3,0)) -> 600 | O34: =IF(ISERROR(VLOOKUP($I34,NOV!$B$7:$D$1400,3,0)),0,VLOOKUP($I34,NOV!$B$7:$D$1400,3,0)) -> 600
D35: 24007 | E35: AGUEB NEDJADI | H35: 34 | I35: 24007 | J35: AGUEB NEDJADI | K35: 600 | L35: =IF(ISERROR(VLOOKUP($I35,AOUT!$B$7:$D$1400,3,0)),0,VLOOKUP($I35,AOUT!$B$7:$D$1400,3,0)) -> 600 | M35: =IF(ISERROR(VLOOKUP($I35,SEPT!$B$7:$D$1400,3,0)),0,VLOOKUP($I35,SEPT!$B$7:$D$1400,3,0)) -> 600 | N35: =IF(ISERROR(VLOOKUP($I35,OCT!$B$7:$D$1400,3,0)),0,VLOOKUP($I35,OCT!$B$7:$D$1400,3,0)) -> 600 | O35: =IF(ISERROR(VLOOKUP($I35,NOV!$B$7:$D$1400,3,0)),0,VLOOKUP($I35,NOV!$B$7:$D$1400,3,0)) -> 600
D36: 24169 | E36: AGUENI RACHIDA | H36: 35 | I36: 24169 | J36: AGUENI RACHIDA | K36: 600 | L36: =IF(ISERROR(VLOOKUP($I36,AOUT!$B$7:$D$1400,3,0)),0,VLOOKUP($I36,AOUT!$B$7:$D$1400,3,0)) -> 0 | M36: =IF(ISERROR(VLOOKUP($I36,SEPT!$B$7:$D$1400,3,0)),0,VLOOKUP($I36,SEPT!$B$7:$D$1400,3,0)) -> 600 | N36: =IF(ISERROR(VLOOKUP($I36,OCT!$B$7:$D$1400,3,0)),0,VLOOKUP($I36,OCT!$B$7:$D$1400,3,0)) -> 600 | O36: =IF(ISERROR(VLOOKUP($I36,NOV!$B$7:$D$1400,3,0)),0,VLOOKUP($I36,NOV!$B$7:$D$1400,3,0)) -> 600
D37: 23457 | E37: AHMED BENYAHIA | H37: 36 | I37: 23457 | J37: AHMED BENYAHIA | K37: 0 | L37: =IF(ISERROR(VLOOKUP($I37,AOUT!$B$7:$D$1400,3,0)),0,VLOOKUP($I37,AOUT!$B$7:$D$1400,3,0)) -> 0 | M37: =IF(ISERROR(VLOOKUP($I37,SEPT!$B$7:$D$1400,3,0)),0,VLOOKUP($I37,SEPT!$B$7:$D$1400,3,0)) -> 0 | N37: =IF(ISERROR(VLOOKUP($I37,OCT!$B$7:$D$1400,3,0)),0,VLOOKUP($I37,OCT!$B$7:$D$1400,3,0)) -> 0 | O37: =IF(ISERROR(VLOOKUP($I37,NOV!$B$7:$D$1400,3,0)),0,VLOOKUP($I37,NOV!$B$7:$D$1400,3,0)) -> 0
D38: 22270 | E38: AHMEDI BOUDJELTHIA | H38: 37 | I38: 22270 | J38: AHMEDI BOUDJELTHIA | K38: 600 | L38: =IF(ISERROR(VLOOKUP($I38,AOUT!$B$7:$D$1400,3,0)),0,VLOOKUP($I38,AOUT!$B$7:$D$1400,3,0)) -> 600 | M38: =IF(ISERROR(VLOOKUP($I38,SEPT!$B$7:$D$1400,3,0)),0,VLOOKUP($I38,SEPT!$B$7:$D$1400,3,0)) -> 600 | N38: =IF(ISERROR(VLOOKUP($I38,OCT!$B$7:$D$1400,3,0)),0,VLOOKUP($I38,OCT!$B$7:$D$1400,3,0)) -> 600 | O38: =IF(ISERROR(VLOOKUP($I38,NOV!$B$7:$D$1400,3,0)),0,VLOOKUP($I38,NOV!$B$7:$D$1400,3,0)) -> 600
D39: 21391 | E39: AHSSEN Houari | H39: 38 | I39: 21391 | J39: AHSSEN Houari | K39: 600 | L39: =IF(ISERROR(VLOOKUP($I39,AOUT!$B$7:$D$1400,3,0)),0,VLOOKUP($I39,AOUT!$B$7:$D$1400,3,0)) -> 600 | M39: =IF(ISERROR(VLOOKUP($I39,SEPT!$B$7:$D$1400,3,0)),0,VLOOKUP($I39,SEPT!$B$7:$D$1400,3,0)) -> 600 | N39: =IF(ISERROR(VLOOKUP($I39,OCT!$B$7:$D$1400,3,0)),0,VLOOKUP($I39,OCT!$B$7:$D$1400,3,0)) -> 600 | O39: =IF(ISERROR(VLOOKUP($I39,NOV!$B$7:$D$1400,3,0)),0,VLOOKUP($I39,NOV!$B$7:$D$1400,3,0)) -> 600
D40: 23953 | E40: AICHOUCHE DJELLOUL | H40: 39 | I40: 23953 | J40: AICHOUCHE DJELLOUL | K40: 600 | L40: =IF(ISERROR(VLOOKUP($I40,AOUT!$B$7:$D$1400,3,0)),0,VLOOKUP($I40,AOUT!$B$7:$D$1400,3,0)) -> 600 | M40: =IF(ISERROR(VLOOKUP($I40,SEPT!$B$7:$D$1400,3,0)),0,VLOOKUP($I40,SEPT!$B$7:$D$1400,3,0)) -> 600 | N40: =IF(ISERROR(VLOOKUP($I40,OCT!$B$7:$D$1400,3,0)),0,VLOOKUP($I40,OCT!$B$7:$D$1400,3,0)) -> 600 | O40: =IF(ISERROR(VLOOKUP($I40,NOV!$B$7:$D$1400,3,0)),0,VLOOKUP($I40,NOV!$B$7:$D$1400,3,0)) -> 600
D41: 23863 | E41: AIS MOHAMED HICHAM | H41: 40 | I41: 23863 | J41: AIS MOHAMED HICHAM | K41: 0 | L41: =IF(ISERROR(VLOOKUP($I41,AOUT!$B$7:$D$1400,3,0)),0,VLOOKUP($I41,AOUT!$B$7:$D$1400,3,0)) -> 0 | M41: =IF(ISERROR(VLOOKUP($I41,SEPT!$B$7:$D$1400,3,0)),0,VLOOKUP($I41,SEPT!$B$7:$D$1400,3,0)) -> 600 | N41: =IF(ISERROR(VLOOKUP($I41,OCT!$B$7:$D$1400,3,0)),0,VLOOKUP($I41,OCT!$B$7:$D$1400,3,0)) -> 600 | O41: =IF(ISERROR(VLOOKUP($I41,NOV!$B$7:$D$1400,3,0)),0,VLOOKUP($I41,NOV!$B$7:$D$1400,3,0)) -> 600
D42: 22552 | E42: AISSAOUI KAMEL | H42: 41 | I42: 22552 | J42: AISSAOUI KAMEL | K42: 600 | L42: =IF(ISERROR(VLOOKUP($I42,AOUT!$B$7:$D$1400,3,0)),0,VLOOKUP($I42,AOUT!$B$7:$D$1400,3,0)) -> 600 | M42: =IF(ISERROR(VLOOKUP($I42,SEPT!$B$7:$D$1400,3,0)),0,VLOOKUP($I42,SEPT!$B$7:$D$1400,3,0)) -> 600 | N42: =IF(ISERROR(VLOOKUP($I42,OCT!$B$7:$D$1400,3,0)),0,VLOOKUP($I42,OCT!$B$7:$D$1400,3,0)) -> 600 | O42: =IF(ISERROR(VLOOKUP($I42,NOV!$B$7:$D$1400,3,0)),0,VLOOKUP($I42,NOV!$B$7:$D$1400,3,0)) -> 600
D43: 24257 | E43: AISSAOUI MOHAMMED | H43: 42 | I43: 24257 | J43: AISSAOUI MOHAMMED | K43: 600 | L43: =IF(ISERROR(VLOOKUP($I43,AOUT!$B$7:$D$1400,3,0)),0,VLOOKUP($I43,AOUT!$B$7:$D$1400,3,0)) -> 600 | M43: =IF(ISERROR(VLOOKUP($I43,SEPT!$B$7:$D$1400,3,0)),0,VLOOKUP($I43,SEPT!$B$7:$D$1400,3,0)) -> 600 | N43: =IF(ISERROR(VLOOKUP($I43,OCT!$B$7:$D$1400,3,0)),0,VLOOKUP($I43,OCT!$B$7:$D$1400,3,0)) -> 600 | O43: =IF(ISERROR(VLOOKUP($I43,NOV!$B$7:$D$1400,3,0)),0,VLOOKUP($I43,NOV!$B$7:$D$1400,3,0)) -> 600
D44: 24564 | E44: AIT YAHIA IBRAHIM | H44: 43 | I44: 24564 | J44: AIT YAHIA IBRAHIM | K44: 600 | L44: =IF(ISERROR(VLOOKUP($I44,AOUT!$B$7:$D$1400,3,0)),0,VLOOKUP($I44,AOUT!$B$7:$D$1400,3,0)) -> 600 | M44: =IF(ISERROR(VLOOKUP($I44,SEPT!$B$7:$D$1400,3,0)),0,VLOOKUP($I44,SEPT!$B$7:$D$1400,3,0)) -> 600 | N44: =IF(ISERROR(VLOOKUP($I44,OCT!$B$7:$D$1400,3,0)),0,VLOOKUP($I44,OCT!$B$7:$D$1400,3,0)) -> 600 | O44: =IF(ISERROR(VLOOKUP($I44,NOV!$B$7:$D$1400,3,0)),0,VLOOKUP($I44,NOV!$B$7:$D$1400,3,0)) -> 600
... D115: 24361 | E115: BACHIR M'HAMED | H115: 114 | I115: 24361 | J115: BACHIR M'HAMED | K115: 600 | L115: =IF(ISERROR(VLOOKUP($I115,AOUT!$B$7:$D$1400,3,0)),0,VLOOKUP($I115,AOUT!$B$7:$D$1400,3,0)) -> 600 | M115: =IF(ISERROR(VLOOKUP($I115,SEPT!$B$7:$D$1400,3,0)),0,VLOOKUP($I115,SEPT!$B$7:$D$1400,3,0)) -> 600 | N115: =IF(ISERROR(VLOOKUP($I115,OCT!$B$7:$D$1400,3,0)),0,VLOOKUP($I115,OCT!$B$7:$D$1400,3,0)) -> 600 | O115: =IF(ISERROR(VLOOKUP($I115,NOV!$B$7:$D$1400,3,0)),0,VLOOKUP($I115,NOV!$B$7:$D$1400,3,0)) -> 600
D116: 21186 | E116: BACHIRI MOHAMED | J116: BACHIR MOHAMED | K116: 600 | L116: =IF(ISERROR(VLOOKUP($I116,AOUT!$B$7:$D$1400,3,0)),0,VLOOKUP($I116,AOUT!$B$7:$D$1400,3,0)) -> 0 | M116: =IF(ISERROR(VLOOKUP($I116,SEPT!$B$7:$D$1400,3,0)),0,VLOOKUP($I116,SEPT!$B$7:$D$1400,3,0)) -> 0 | N116: =IF(ISERROR(VLOOKUP($I116,OCT!$B$7:$D$1400,3,0)),0,VLOOKUP($I116,OCT!$B$7:$D$1400,3,0)) -> 0 | O116: =IF(ISERROR(VLOOKUP($I116,NOV!$B$7:$D$1400,3,0)),0,VLOOKUP($I116,NOV!$B$7:$D$1400,3,0)) -> 0
D117: 24175 | E117: BAGHDAD ALI | H117: 115 | I117: 24175 | J117: BAGHDAD ALI | K117: 600 | L117: =IF(ISERROR(VLOOKUP($I117,AOUT!$B$7:$D$1400,3,0)),0,VLOOKUP($I117,AOUT!$B$7:$D$1400,3,0)) -> 600 | M117: =IF(ISERROR(VLOOKUP($I117,SEPT!$B$7:$D$1400,3,0)),0,VLOOKUP($I117,SEPT!$B$7:$D$1400,3,0)) -> 600 | N117: =IF(ISERROR(VLOOKUP($I117,OCT!$B$7:$D$1400,3,0)),0,VLOOKUP($I117,OCT!$B$7:$D$1400,3,0)) -> 600 | O117: =IF(ISERROR(VLOOKUP($I117,NOV!$B$7:$D$1400,3,0)),0,VLOOKUP($I117,NOV!$B$7:$D$1400,3,0)) -> 600
D118: 22006 | E118: BAGHDAD RACHID | H118: 116 | I118: 22006 | J118: BAGHDAD RACHID | K118: 600 | L118: =IF(ISERROR(VLOOKUP($I118,AOUT!$B$7:$D$1400,3,0)),0,VLOOKUP($I118,AOUT!$B$7:$D$1400,3,0)) -> 600 | M118: =IF(ISERROR(VLOOKUP($I118,SEPT!$B$7:$D$1400,3,0)),0,VLOOKUP($I118,SEPT!$B$7:$D$1400,3,0)) -> 600 | N118: =IF(ISERROR(VLOOKUP($I118,OCT!$B$7:$D$1400,3,0)),0,VLOOKUP($I118,OCT!$B$7:$D$1400,3,0)) -> 600 | O118: =IF(ISERROR(VLOOKUP($I118,NOV!$B$7:$D$1400,3,0)),0,VLOOKUP($I118,NOV!$B$7:$D$1400,3,0)) -> 600
D119: 22822 | E119: BAGHDAD SAID | H119: 117 | I119: 22822 | J119: BAGHDAD SAID | K119: 600 | L119: =IF(ISERROR(VLOOKUP($I119,AOUT!$B$7:$D$1400,3,0)),0,VLOOKUP($I119,AOUT!$B$7:$D$1400,3,0)) -> 0 | M119: =IF(ISERROR(VLOOKUP($I119,SEPT!$B$7:$D$1400,3,0)),0,VLOOKUP($I119,SEPT!$B$7:$D$1400,3,0)) -> 0 | N119: =IF(ISERROR(VLOOKUP($I119,OCT!$B$7:$D$1400,3,0)),0,VLOOKUP($I119,OCT!$B$7:$D$1400,3,0)) -> 0 | O119: =IF(ISERROR(VLOOKUP($I119,NOV!$B$7:$D$1400,3,0)),0,VLOOKUP($I119,NOV!$B$7:$D$1400,3,0)) -> 0
D120: 21773 | E120: BAGLAB AHMED | H120: 118 | I120: 21773 | J120: BAGLAB AHMED | K120: 600 | L120: =IF(ISERROR(VLOOKUP($I120,AOUT!$B$7:$D$1400,3,0)),0,VLOOKUP($I120,AOUT!$B$7:$D$1400,3,0)) -> 0 | M120: =IF(ISERROR(VLOOKUP($I120,SEPT!$B$7:$D$1400,3,0)),0,VLOOKUP($I120,SEPT!$B$7:$D$1400,3,0)) -> 0 | N120: =IF(ISERROR(VLOOKUP($I120,OCT!$B$7:$D$1400,3,0)),0,VLOOKUP($I120,OCT!$B$7:$D$1400,3,0)) -> 0 | O120: =IF(ISERROR(VLOOKUP($I120,NOV!$B$7:$D$1400,3,0)),0,VLOOKUP($I120,NOV!$B$7:$D$1400,3,0)) -> 0
D121: 21358 | E121: BAHET MOHAMMED REDA | H121: 119 | I121: 21358 | J121: BAHET MOHAMMED REDA | K121: 600 | L121: =IF(ISERROR(VLOOKUP($I121,AOUT!$B$7:$D$1400,3,0)),0,VLOOKUP($I121,AOUT!$B$7:$D$1400,3,0)) -> 600 | M121: =IF(ISERROR(VLOOKUP($I121,SEPT!$B$7:$D$1400,3,0)),0,VLOOKUP($I121,SEPT!$B$7:$D$1400,3,0)) -> 600 | N121: =IF(ISERROR(VLOOKUP($I121,OCT!$B$7:$D$1400,3,0)),0,VLOOKUP($I121,OCT!$B$7:$D$1400,3,0)) -> 600 | O121: =IF(ISERROR(VLOOKUP($I121,NOV!$B$7:$D$1400,3,0)),0,VLOOKUP($I121,NOV!$B$7:$D$1400,3,0)) -> 600
D122: 23278 | E122: BAHLOUL KHEIR EDDINE | H122: 120 | I122: 23278 | J122: BAHLOUL KHEIR EDDINE | K122: 600 | L122: =IF(ISERROR(VLOOKUP($I122,AOUT!$B$7:$D$1400,3,0)),0,VLOOKUP($I122,AOUT!$B$7:$D$1400,3,0)) -> 600 | M122: =IF(ISERROR(VLOOKUP($I122,SEPT!$B$7:$D$1400,3,0)),0,VLOOKUP($I122,SEPT!$B$7:$D$1400,3,0)) -> 600 | N122: =IF(ISERROR(VLOOKUP($I122,OCT!$B$7:$D$1400,3,0)),0,VLOOKUP($I122,OCT!$B$7:$D$1400,3,0)) -> 600 | O122: =IF(ISERROR(VLOOKUP($I122,NOV!$B$7:$D$1400,3,0)),0,VLOOKUP($I122,NOV!$B$7:$D$1400,3,0)) -> 600
D123: 20793 | E123: BAHLOULI AHMED | H123: 121 | I123: 20793 | J123: BAHLOULI AHMED | K123: 600 | L123: =IF(ISERROR(VLOOKUP($I123,AOUT!$B$7:$D$1400,3,0)),0,VLOOKUP($I123,AOUT!$B$7:$D$1400,3,0)) -> 600 | M123: =IF(ISERROR(VLOOKUP($I123,SEPT!$B$7:$D$1400,3,0)),0,VLOOKUP($I123,SEPT!$B$7:$D$1400,3,0)) -> 600 | N123: =IF(ISERROR(VLOOKUP($I123,OCT!$B$7:$D$1400,3,0)),0,VLOOKUP($I123,OCT!$B$7:$D$1400,3,0)) -> 600 | O123: =IF(ISERROR(VLOOKUP($I123,NOV!$B$7:$D$1400,3,0)),0,VLOOKUP($I123,NOV!$B$7:$D$1400,3,0)) -> 600
D124: 23624 | E124: BAHLOULI SAADEDDINE | H124: 122 | I124: 23624 | J124: BAHLOULI SAADEDDINE | K124: 600 | L124: =IF(ISERROR(VLOOKUP($I124,AOUT!$B$7:$D$1400,3,0)),0,VLOOKUP($I124,AOUT!$B$7:$D$1400,3,0)) -> 600 | M124: =IF(ISERROR(VLOOKUP($I124,SEPT!$B$7:$D$1400,3,0)),0,VLOOKUP($I124,SEPT!$B$7:$D$1400,3,0)) -> 600 | N124: =IF(ISERROR(VLOOKUP($I124,OCT!$B$7:$D$1400,3,0)),0,VLOOKUP($I124,OCT!$B$7:$D$1400,3,0)) -> 600 | O124: =IF(ISERROR(VLOOKUP($I124,NOV!$B$7:$D$1400,3,0)),0,VLOOKUP($I124,NOV!$B$7:$D$1400,3,0)) -> 600
D125: 20492 | E125: BAHOUS NOREDDINE | H125: 123 | I125: 20492 | J125: BAHOUS NOREDDINE | K125: 600 | L125: =IF(ISERROR(VLOOKUP($I125,AOUT!$B$7:$D$1400,3,0)),0,VLOOKUP($I125,AOUT!$B$7:$D$1400,3,0)) -> 600 | M125: =IF(ISERROR(VLOOKUP($I125,SEPT!$B$7:$D$1400,3,0)),0,VLOOKUP($I125,SEPT!$B$7:$D$1400,3,0)) -> 600 | N125: =IF(ISERROR(VLOOKUP($I125,OCT!$B$7:$D$1400,3,0)),0,VLOOKUP($I125,OCT!$B$7:$D$1400,3,0)) -> 600 | O125: =IF(ISERROR(VLOOKUP($I125,NOV!$B$7:$D$1400,3,0)),0,VLOOKUP($I125,NOV!$B$7:$D$1400,3,0)) -> 600
D126: 22805 | E126: BAHOUS RACHID | H126: 124 | I126: 22805 | J126: BAHOUS RACHID | K126: 600 | L126: =IF(ISERROR(VLOOKUP($I126,AOUT!$B$7:$D$1400,3,0)),0,VLOOKUP($I126,AOUT!$B$7:$D$1400,3,0)) -> 600 | M126: =IF(ISERROR(VLOOKUP($I126,SEPT!$B$7:$D$1400,3,0)),0,VLOOKUP($I126,SEPT!$B$7:$D$1400,3,0)) -> 600 | N126: =IF(ISERROR(VLOOKUP($I126,OCT!$B$7:$D$1400,3,0)),0,VLOOKUP($I126,OCT!$B$7:$D$1400,3,0)) -> 600 | O126: =IF(ISERROR(VLOOKUP($I126,NOV!$B$7:$D$1400,3,0)),0,VLOOKUP($I126,NOV!$B$7:$D$1400,3,0)) -> 600
D127: 22797 | E127: BAHRI MOHAMMED | H127: 125 | I127: 22797 | J127: BAHRI MOHAMMED | K127: 600 | L127: =IF(ISERROR(VLOOKUP($I127,AOUT!$B$7:$D$1400,3,0)),0,VLOOKUP($I127,AOUT!$B$7:$D$1400,3,0)) -> 600 | M127: =IF(ISERROR(VLOOKUP($I127,SEPT!$B$7:$D$1400,3,0)),0,VLOOKUP($I127,SEPT!$B$7:$D$1400,3,0)) -> 600 | N127: =IF(ISERROR(VLOOKUP($I127,OCT!$B$7:$D$1400,3,0)),0,VLOOKUP($I127,OCT!$B$7:$D$1400,3,0)) -> 600 | O127: =IF(ISERROR(VLOOKUP($I127,NOV!$B$7:$D$1400,3,0)),0,VLOOKUP($I127,NOV!$B$7:$D$1400,3,0)) -> 600
D128: 21913 | E128: BAHRIA Ahmed | H128: 126 | I128: 21913 | J128: BAHRIA Ahmed | K128: 600 | L128: =IF(ISERROR(VLOOKUP($I128,AOUT!$B$7:$D$1400,3,0)),0,VLOOKUP($I128,AOUT!$B$7:$D$1400,3,0)) -> 600 | M128: =IF(ISERROR(VLOOKUP($I128,SEPT!$B$7:$D$1400,3,0)),0,VLOOKUP($I128,SEPT!$B$7:$D$1400,3,0)) -> 600 | N128: =IF(ISERROR(VLOOKUP($I128,OCT!$B$7:$D$1400,3,0)),0,VLOOKUP($I128,OCT!$B$7:$D$1400,3,0)) -> 600 | O128: =IF(ISERROR(VLOOKUP($I128,NOV!$B$7:$D$1400,3,0)),0,VLOOKUP($I128,NOV!$B$7:$D$1400,3,0)) -> 600
... D374: 22814 | E374: bessafi CHAFIK | H374: 372 | I374: 22814 | J374: bessafi CHAFIK | K374: 600 | L374: =IF(ISERROR(VLOOKUP($I374,AOUT!$B$7:$D$1400,3,0)),0,VLOOKUP($I374,AOUT!$B$7:$D$1400,3,0)) -> 600 | M374: =IF(ISERROR(VLOOKUP($I374,SEPT!$B$7:$D$1400,3,0)),0,VLOOKUP($I374,SEPT!$B$7:$D$1400,3,0)) -> 600 | N374: =IF(ISERROR(VLOOKUP($I374,OCT!$B$7:$D$1400,3,0)),0,VLOOKUP($I374,OCT!$B$7:$D$1400,3,0)) -> 600 | O374: =IF(ISERROR(VLOOKUP($I374,NOV!$B$7:$D$1400,3,0)),0,VLOOKUP($I374,NOV!$B$7:$D$1400,3,0)) -> 600
D375: 23958 | E375: BESSELMA BACHIR | J375: BESSELMA BACHIR | K375: 600 | L375: =IF(ISERROR(VLOOKUP($I375,AOUT!$B$7:$D$1400,3,0)),0,VLOOKUP($I375,AOUT!$B$7:$D$1400,3,0)) -> 0 | M375: =IF(ISERROR(VLOOKUP($I375,SEPT!$B$7:$D$1400,3,0)),0,VLOOKUP($I375,SEPT!$B$7:$D$1400,3,0)) -> 0 | N375: =IF(ISERROR(VLOOKUP($I375,OCT!$B$7:$D$1400,3,0)),0,VLOOKUP($I375,OCT!$B$7:$D$1400,3,0)) -> 0 | O375: =IF(ISERROR(VLOOKUP($I375,NOV!$B$7:$D$1400,3,0)),0,VLOOKUP($I375,NOV!$B$7:$D$1400,3,0)) -> 0
D376: 25013 | E376: BETOUIL ABDALLAH | H376: 373 | I376: 25013 | J376: BETOUIL ABDALLAH | K376: 0 | L376: =IF(ISERROR(VLOOKUP($I376,AOUT!$B$7:$D$1400,3,0)),0,VLOOKUP($I376,AOUT!$B$7:$D$1400,3,0)) -> 0 | M376: =IF(ISERROR(VLOOKUP($I376,SEPT!$B$7:$D$1400,3,0)),0,VLOOKUP($I376,SEPT!$B$7:$D$1400,3,0)) -> 0 | N376: =IF(ISERROR(VLOOKUP($I376,OCT!$B$7:$D$1400,3,0)),0,VLOOKUP($I376,OCT!$B$7:$D$1400,3,0)) -> 0 | O376: =IF(ISERROR(VLOOKUP($I376,NOV!$B$7:$D$1400,3,0)),0,VLOOKUP($I376,NOV!$B$7:$D$1400,3,0)) -> 0
D377: 21440 | E377: BETTAHAR Houari | H377: 374 | I377: 21440 | J377: BETTAHAR Houari | K377: 600 | L377: =IF(ISERROR(VLOOKUP($I377,AOUT!$B$7:$D$1400,3,0)),0,VLOOKUP($I377,AOUT!$B$7:$D$1400,3,0)) -> 600 | M377: =IF(ISERROR(VLOOKUP($I377,SEPT!$B$7:$D$1400,3,0)),0,VLOOKUP($I377,SEPT!$B$7:$D$1400,3,0)) -> 600 | N377: =IF(ISERROR(VLOOKUP($I377,OCT!$B$7:$D$1400,3,0)),0,VLOOKUP($I377,OCT!$B$7:$D$1400,3,0)) -> 600 | O377: =IF(ISERROR(VLOOKUP($I377,NOV!$B$7:$D$1400,3,0)),0,VLOOKUP($I377,NOV!$B$7:$D$1400,3,0)) -> 600
D378: 24987 | E378: BETTAHER HACHEMI | H378: 375 | I378: 24987 | J378: BETTAHER HACHEMI | K378: 0 | L378: =IF(ISERROR(VLOOKUP($I378,AOUT!$B$7:$D$1400,3,0)),0,VLOOKUP($I378,AOUT!$B$7:$D$1400,3,0)) -> 0 | M378: =IF(ISERROR(VLOOKUP($I378,SEPT!$B$7:$D$1400,3,0)),0,VLOOKUP($I378,SEPT!$B$7:$D$1400,3,0)) -> 0 | N378: =IF(ISERROR(VLOOKUP($I378,OCT!$B$7:$D$1400,3,0)),0,VLOOKUP($I378,OCT!$B$7:$D$1400,3,0)) -> 0 | O378: =IF(ISERROR(VLOOKUP($I378,NOV!$B$7:$D$1400,3,0)),0,VLOOKUP($I378,NOV!$B$7:$D$1400,3,0)) -> 0
D379: 21554 | E379: BETTERKI Rachid | H379: 376 | I379: 21554 | J379: BETTERKI Rachid | K379: 600 | L379: =IF(ISERROR(VLOOKUP($I379,AOUT!$B$7:$D$1400,3,0)),0,VLOOKUP($I379,AOUT!$B$7:$D$1400,3,0)) -> 600 | M379: =IF(ISERROR(VLOOKUP($I379,SEPT!$B$7:$D$1400,3,0)),0,VLOOKUP($I379,SEPT!$B$7:$D$1400,3,0)) -> 600 | N379: =IF(ISERROR(VLOOKUP($I379,OCT!$B$7:$D$1400,3,0)),0,VLOOKUP($I379,OCT!$B$7:$D$1400,3,0)) -> 600 | O379: =IF(ISERROR(VLOOKUP($I379,NOV!$B$7:$D$1400,3,0)),0,VLOOKUP($I379,NOV!$B$7:$D$1400,3,0)) -> 600
D380: 24961 | E380: BEY KARIM | H380: 377 | I380: 24961 | J380: BEY KARIM | K380: 0 | L380: =IF(ISERROR(VLOOKUP($I380,AOUT!$B$7:$D$1400,3,0)),0,VLOOKUP($I380,AOUT!$B$7:$D$1400,3,0)) -> 0 | M380: =IF(ISERROR(VLOOKUP($I380,SEPT!$B$7:$D$1400,3,0)),0,VLOOKUP($I380,SEPT!$B$7:$D$1400,3,0)) -> 0 | N380: =IF(ISERROR(VLOOKUP($I380,OCT!$B$7:$D$1400,3,0)),0,VLOOKUP($I380,OCT!$B$7:$D$1400,3,0)) -> 0 | O380: =IF(ISERROR(VLOOKUP($I380,NOV!$B$7:$D$1400,3,0)),0,VLOOKUP($I380,NOV!$B$7:$D$1400,3,0)) -> 0
D381: 22302 | E381: BEY BACHIR | H381: 378 | I381: 22302 | J381: BEY BACHIR | K381: 600 | L381: =IF(ISERROR(VLOOKUP($I381,AOUT!$B$7:$D$1400,3,0)),0,VLOOKUP($I381,AOUT!$B$7:$D$1400,3,0)) -> 600 | M381: =IF(ISERROR(VLOOKUP($I381,SEPT!$B$7:$D$1400,3,0)),0,VLOOKUP($I381,SEPT!$B$7:$D$1400,3,0)) -> 600 | N381: =IF(ISERROR(VLOOKUP($I381,OCT!$B$7:$D$1400,3,0)),0,VLOOKUP($I381,OCT!$B$7:$D$1400,3,0)) -> 600 | O381: =IF(ISERROR(VLOOKUP($I381,NOV!$B$7:$D$1400,3,0)),0,VLOOKUP($I381,NOV!$B$7:$D$1400,3,0)) -> 600
D382: 23761 | E382: BEY OMAR | H382: 379 | I382: 23761 | J382: BEY OMAR | K382: 600 | L382: =IF(ISERROR(VLOOKUP($I382,AOUT!$B$7:$D$1400,3,0)),0,VLOOKUP($I382,AOUT!$B$7:$D$1400,3,0)) -> 600 | M382: =IF(ISERROR(VLOOKUP($I382,SEPT!$B$7:$D$1400,3,0)),0,VLOOKUP($I382,SEPT!$B$7:$D$1400,3,0)) -> 600 | N382: =IF(ISERROR(VLOOKUP($I382,OCT!$B$7:$D$1400,3,0)),0,VLOOKUP($I382,OCT!$B$7:$D$1400,3,0)) -> 600 | O382: =IF(ISERROR(VLOOKUP($I382,NOV!$B$7:$D$1400,3,0)),0,VLOOKUP($I382,NOV!$B$7:$D$1400,3,0)) -> 600
D383: 21859 | E383: BIDARI Kamel | H383: 380 | I383: 21859 | J383: BIDARI Kamel | K383: 600 | L383: =IF(ISERROR(VLOOKUP($I383,AOUT!$B$7:$D$1400,3,0)),0,VLOOKUP($I383,AOUT!$B$7:$D$1400,3,0)) -> 600 | M383: =IF(ISERROR(VLOOKUP($I383,SEPT!$B$7:$D$1400,3,0)),0,VLOOKUP($I383,SEPT!$B$7:$D$1400,3,0)) -> 600 | N383: =IF(ISERROR(VLOOKUP($I383,OCT!$B$7:$D$1400,3,0)),0,VLOOKUP($I383,OCT!$B$7:$D$1400,3,0)) -> 600 | O383: =IF(ISERROR(VLOOKUP($I383,NOV!$B$7:$D$1400,3,0)),0,VLOOKUP($I383,NOV!$B$7:$D$1400,3,0)) -> 600
D384: 24964 | E384: BLIDI AHMED | H384: 381 | I384: 24964 | J384: BLIDI AHMED | K384: 0 | L384: =IF(ISERROR(VLOOKUP($I384,AOUT!$B$7:$D$1400,3,0)),0,VLOOKUP($I384,AOUT!$B$7:$D$1400,3,0)) -> 0 | M384: =IF(ISERROR(VLOOKUP($I384,SEPT!$B$7:$D$1400,3,0)),0,VLOOKUP($I384,SEPT!$B$7:$D$1400,3,0)) -> 0 | N384: =IF(ISERROR(VLOOKUP($I384,OCT!$B$7:$D$1400,3,0)),0,VLOOKUP($I384,OCT!$B$7:$D$1400,3,0)) -> 0 | O384: =IF(ISERROR(VLOOKUP($I384,NOV!$B$7:$D$1400,3,0)),0,VLOOKUP($I384,NOV!$B$7:$D$1400,3,0)) -> 0
D385: 21639 | E385: BOUAB Ahmed | H385: 382 | I385: 21639 | J385: BOUAB Ahmed | K385: 600 | L385: =IF(ISERROR(VLOOKUP($I385,AOUT!$B$7:$D$1400,3,0)),0,VLOOKUP($I385,AOUT!$B$7:$D$1400,3,0)) -> 600 | M385: =IF(ISERROR(VLOOKUP($I385,SEPT!$B$7:$D$1400,3,0)),0,VLOOKUP($I385,SEPT!$B$7:$D$1400,3,0)) -> 600 | N385: =IF(ISERROR(VLOOKUP($I385,OCT!$B$7:$D$1400,3,0)),0,VLOOKUP($I385,OCT!$B$7:$D$1400,3,0)) -> 600 | O385: =IF(ISERROR(VLOOKUP($I385,NOV!$B$7:$D$1400,3,0)),0,VLOOKUP($I385,NOV!$B$7:$D$1400,3,0)) -> 600
D386: 23774 | E386: BOUABDELLAH TOUFIK | H386: 383 | I386: 23774 | J386: BOUABDELLAH TOUFIK | K386: 0 | L386: =IF(ISERROR(VLOOKUP($I386,AOUT!$B$7:$D$1400,3,0)),0,VLOOKUP($I386,AOUT!$B$7:$D$1400,3,0)) -> 0 | M386: =IF(ISERROR(VLOOKUP($I386,SEPT!$B$7:$D$1400,3,0)),0,VLOOKUP($I386,SEPT!$B$7:$D$1400,3,0)) -> 0 | N386: =IF(ISERROR(VLOOKUP($I386,OCT!$B$7:$D$1400,3,0)),0,VLOOKUP($I386,OCT!$B$7:$D$1400,3,0)) -> 0 | O386: =IF(ISERROR(VLOOKUP($I386,NOV!$B$7:$D$1400,3,0)),0,VLOOKUP($I386,NOV!$B$7:$D$1400,3,0)) -> 0
D387: 21438 | E387: BOUADI Mehdi | H387: 384 | I387: 21438 | J387: BOUADI Mehdi | K387: 600 | L387: =IF(ISERROR(VLOOKUP($I387,AOUT!$B$7:$D$1400,3,0)),0,VLOOKUP($I387,AOUT!$B$7:$D$1400,3,0)) -> 600 | M387: =IF(ISERROR(VLOOKUP($I387,SEPT!$B$7:$D$1400,3,0)),0,VLOOKUP($I387,SEPT!$B$7:$D$1400,3,0)) -> 600 | N387: =IF(ISERROR(VLOOKUP($I387,OCT!$B$7:$D$1400,3,0)),0,VLOOKUP($I387,OCT!$B$7:$D$1400,3,0)) -> 600 | O387: =IF(ISERROR(VLOOKUP($I387,NOV!$B$7:$D$1400,3,0)),0,VLOOKUP($I387,NOV!$B$7:$D$1400,3,0)) -> 600
... D392: 22159 | E392: BOUARFA ABDELKADER | H392: 389 | I392: 22159 | J392: BOUARFA ABDELKADER | K392: 600 | L392: =IF(ISERROR(VLOOKUP($I392,AOUT!$B$7:$D$1400,3,0)),0,VLOOKUP($I392,AOUT!$B$7:$D$1400,3,0)) -> 600 | M392: =IF(ISERROR(VLOOKUP($I392,SEPT!$B$7:$D$1400,3,0)),0,VLOOKUP($I392,SEPT!$B$7:$D$1400,3,0)) -> 600 | N392: =IF(ISERROR(VLOOKUP($I392,OCT!$B$7:$D$1400,3,0)),0,VLOOKUP($I392,OCT!$B$7:$D$1400,3,0)) -> 600 | O392: =IF(ISERROR(VLOOKUP($I392,NOV!$B$7:$D$1400,3,0)),0,VLOOKUP($I392,NOV!$B$7:$D$1400,3,0)) -> 600
D393: 25338 | E393: BOUARICHA BOUABDELLAH | J393: BOUARICHA BOUABDELLAH | K393: 600 | L393: =IF(ISERROR(VLOOKUP($I393,AOUT!$B$7:$D$1400,3,0)),0,VLOOKUP($I393,AOUT!$B$7:$D$1400,3,0)) -> 0 | M393: =IF(ISERROR(VLOOKUP($I393,SEPT!$B$7:$D$1400,3,0)),0,VLOOKUP($I393,SEPT!$B$7:$D$1400,3,0)) -> 0 | N393: =IF(ISERROR(VLOOKUP($I393,OCT!$B$7:$D$1400,3,0)),0,VLOOKUP($I393,OCT!$B$7:$D$1400,3,0)) -> 0 | O393: =IF(ISERROR(VLOOKUP($I393,NOV!$B$7:$D$1400,3,0)),0,VLOOKUP($I393,NOV!$B$7:$D$1400,3,0)) -> 0
D394: 24845 | E394: BOUARICHA FETHI | H394: 390 | I394: 24845 | J394: BOUARICHA FETHI | K394: 600 | L394: =IF(ISERROR(VLOOKUP($I394,AOUT!$B$7:$D$1400,3,0)),0,VLOOKUP($I394,AOUT!$B$7:$D$1400,3,0)) -> 600 | M394: =IF(ISERROR(VLOOKUP($I394,SEPT!$B$7:$D$1400,3,0)),0,VLOOKUP($I394,SEPT!$B$7:$D$1400,3,0)) -> 600 | N394: =IF(ISERROR(VLOOKUP($I394,OCT!$B$7:$D$1400,3,0)),0,VLOOKUP($I394,OCT!$B$7:$D$1400,3,0)) -> 600 | O394: =IF(ISERROR(VLOOKUP($I394,NOV!$B$7:$D$1400,3,0)),0,VLOOKUP($I394,NOV!$B$7:$D$1400,3,0)) -> 600
D395: 23370 | E395: BOUAZZA ABDALLAH | H395: 391 | I395: 23370 | J395: BOUAZZA ABDALLAH | K395: 600 | L395: =IF(ISERROR(VLOOKUP($I395,AOUT!$B$7:$D$1400,3,0)),0,VLOOKUP($I395,AOUT!$B$7:$D$1400,3,0)) -> 600 | M395: =IF(ISERROR(VLOOKUP($I395,SEPT!$B$7:$D$1400,3,0)),0,VLOOKUP($I395,SEPT!$B$7:$D$1400,3,0)) -> 600 | N395: =IF(ISERROR(VLOOKUP($I395,OCT!$B$7:$D$1400,3,0)),0,VLOOKUP($I395,OCT!$B$7:$D$1400,3,0)) -> 600 | O395: =IF(ISERROR(VLOOKUP($I395,NOV!$B$7:$D$1400,3,0)),0,VLOOKUP($I395,NOV!$B$7:$D$1400,3,0)) -> 600
D396: 21753 | E396: BOUAZZA Benmoussa | H396: 392 | I396: 21753 | J396: BOUAZZA Benmoussa | K396: 600 | L396: =IF(ISERROR(VLOOKUP($I396,AOUT!$B$7:$D$1400,3,0)),0,VLOOKUP($I396,AOUT!$B$7:$D$1400,3,0)) -> 600 | M396: =IF(ISERROR(VLOOKUP($I396,SEPT!$B$7:$D$1400,3,0)),0,VLOOKUP($I396,SEPT!$B$7:$D$1400,3,0)) -> 600 | N396: =IF(ISERROR(VLOOKUP($I396,OCT!$B$7:$D$1400,3,0)),0,VLOOKUP($I396,OCT!$B$7:$D$1400,3,0)) -> 600 | O396: =IF(ISERROR(VLOOKUP($I396,NOV!$B$7:$D$1400,3,0)),0,VLOOKUP($I396,NOV!$B$7:$D$1400,3,0)) -> 600
D397: 24400 | E397: BOUAZZA MOHAMED | H397: 393 | I397: 24400 | J397: BOUAZZA MOHAMED | K397: 600 | L397: =IF(ISERROR(VLOOKUP($I397,AOUT!$B$7:$D$1400,3,0)),0,VLOOKUP($I397,AOUT!$B$7:$D$1400,3,0)) -> 600 | M397: =IF(ISERROR(VLOOKUP($I397,SEPT!$B$7:$D$1400,3,0)),0,VLOOKUP($I397,SEPT!$B$7:$D$1400,3,0)) -> 600 | N397: =IF(ISERROR(VLOOKUP($I397,OCT!$B$7:$D$1400,3,0)),0,VLOOKUP($I397,OCT!$B$7:$D$1400,3,0)) -> 600 | O397: =IF(ISERROR(VLOOKUP($I397,NOV!$B$7:$D$1400,3,0)),0,VLOOKUP($I397,NOV!$B$7:$D$1400,3,0)) -> 600
D398: 21087 | E398: BOUAZZA Soufiane | H398: 394 | I398: 21087 | J398: BOUAZZA Soufiane | K398: 600 | L398: =IF(ISERROR(VLOOKUP($I398,AOUT!$B$7:$D$1400,3,0)),0,VLOOKUP($I398,AOUT!$B$7:$D$1400,3,0)) -> 600 | M398: =IF(ISERROR(VLOOKUP($I398,SEPT!$B$7:$D$1400,3,0)),0,VLOOKUP($I398,SEPT!$B$7:$D$1400,3,0)) -> 600 | N398: =IF(ISERROR(VLOOKUP($I398,OCT!$B$7:$D$1400,3,0)),0,VLOOKUP($I398,OCT!$B$7:$D$1400,3,0)) -> 600 | O398: =IF(ISERROR(VLOOKUP($I398,NOV!$B$7:$D$1400,3,0)),0,VLOOKUP($I398,NOV!$B$7:$D$1400,3,0)) -> 600
D399: 21947 | E399: BOUBEKEUR HICHEM | H399: 395 | I399: 21947 | J399: BOUBEKEUR HICHEM | K399: 600 | L399: =IF(ISERROR(VLOOKUP($I399,AOUT!$B$7:$D$1400,3,0)),0,VLOOKUP($I399,AOUT!$B$7:$D$1400,3,0)) -> 600 | M399: =IF(ISERROR(VLOOKUP($I399,SEPT!$B$7:$D$1400,3,0)),0,VLOOKUP($I399,SEPT!$B$7:$D$1400,3,0)) -> 600 | N399: =IF(ISERROR(VLOOKUP($I399,OCT!$B$7:$D$1400,3,0)),0,VLOOKUP($I399,OCT!$B$7:$D$1400,3,0)) -> 600 | O399: =IF(ISERROR(VLOOKUP($I399,NOV!$B$7:$D$1400,3,0)),0,VLOOKUP($I399,NOV!$B$7:$D$1400,3,0)) -> 600
D400: 23614 | E400: BOUBTANA ZAKARIA | H400: 396 | I400: 23614 | J400: BOUBTANA ZAKARIA | K400: 600 | L400: =IF(ISERROR(VLOOKUP($I400,AOUT!$B$7:$D$1400,3,0)),0,VLOOKUP($I400,AOUT!$B$7:$D$1400,3,0)) -> 600 | M400: =IF(ISERROR(VLOOKUP($I400,SEPT!$B$7:$D$1400,3,0)),0,VLOOKUP($I400,SEPT!$B$7:$D$1400,3,0)) -> 600 | N400: =IF(ISERROR(VLOOKUP($I400,OCT!$B$7:$D$1400,3,0)),0,VLOOKUP($I400,OCT!$B$7:$D$1400,3,0)) -> 600 | O400: =IF(ISERROR(VLOOKUP($I400,NOV!$B$7:$D$1400,3,0)),0,VLOOKUP($I400,NOV!$B$7:$D$1400,3,0)) -> 600
D401: 22185 | E401: BOUCETTA Madjid | H401: 397 | I401: 22185 | J401: BOUCETTA Madjid | K401: 600 | L401: =IF(ISERROR(VLOOKUP($I401,AOUT!$B$7:$D$1400,3,0)),0,VLOOKUP($I401,AOUT!$B$7:$D$1400,3,0)) -> 600 | M401: =IF(ISERROR(VLOOKUP($I401,SEPT!$B$7:$D$1400,3,0)),0,VLOOKUP($I401,SEPT!$B$7:$D$1400,3,0)) -> 600 | N401: =IF(ISERROR(VLOOKUP($I401,OCT!$B$7:$D$1400,3,0)),0,VLOOKUP($I401,OCT!$B$7:$D$1400,3,0)) -> 600 | O401: =IF(ISERROR(VLOOKUP($I401,NOV!$B$7:$D$1400,3,0)),0,VLOOKUP($I401,NOV!$B$7:$D$1400,3,0)) -> 600
D402: 22022 | E402: BOUCHEKIMA AMAR | H402: 398 | I402: 22022 | J402: BOUCHEKIMA AMAR | K402: 600 | L402: =IF(ISERROR(VLOOKUP($I402,AOUT!$B$7:$D$1400,3,0)),0,VLOOKUP($I402,AOUT!$B$7:$D$1400,3,0)) -> 600 | M402: =IF(ISERROR(VLOOKUP($I402,SEPT!$B$7:$D$1400,3,0)),0,VLOOKUP($I402,SEPT!$B$7:$D$1400,3,0)) -> 600 | N402: =IF(ISERROR(VLOOKUP($I402,OCT!$B$7:$D$1400,3,0)),0,VLOOKUP($I402,OCT!$B$7:$D$1400,3,0)) -> 600 | O402: =IF(ISERROR(VLOOKUP($I402,NOV!$B$7:$D$1400,3,0)),0,VLOOKUP($I402,NOV!$B$7:$D$1400,3,0)) -> 600
D403: 22685 | E403: BOUCHENA MOHAMMED | H403: 399 | I403: 22685 | J403: BOUCHENA MOHAMMED | K403: 600 | L403: =IF(ISERROR(VLOOKUP($I403,AOUT!$B$7:$D$1400,3,0)),0,VLOOKUP($I403,AOUT!$B$7:$D$1400,3,0)) -> 600 | M403: =IF(ISERROR(VLOOKUP($I403,SEPT!$B$7:$D$1400,3,0)),0,VLOOKUP($I403,SEPT!$B$7:$D$1400,3,0)) -> 600 | N403: =IF(ISERROR(VLOOKUP($I403,OCT!$B$7:$D$1400,3,0)),0,VLOOKUP($I403,OCT!$B$7:$D$1400,3,0)) -> 600 | O403: =IF(ISERROR(VLOOKUP($I403,NOV!$B$7:$D$1400,3,0)),0,VLOOKUP($I403,NOV!$B$7:$D$1400,3,0)) -> 600
D404: 24848 | E404: BOUCHENAFA IBRAHIM | H404: 400 | I404: 24848 | J404: BOUCHENAFA IBRAHIM | K404: 600 | L404: =IF(ISERROR(VLOOKUP($I404,AOUT!$B$7:$D$1400,3,0)),0,VLOOKUP($I404,AOUT!$B$7:$D$1400,3,0)) -> 600 | M404: =IF(ISERROR(VLOOKUP($I404,SEPT!$B$7:$D$1400,3,0)),0,VLOOKUP($I404,SEPT!$B$7:$D$1400,3,0)) -> 600 | N404: =IF(ISERROR(VLOOKUP($I404,OCT!$B$7:$D$1400,3,0)),0,VLOOKUP($I404,OCT!$B$7:$D$1400,3,0)) -> 600 | O404: =IF(ISERROR(VLOOKUP($I404,NOV!$B$7:$D$1400,3,0)),0,VLOOKUP($I404,NOV!$B$7:$D$1400,3,0)) -> 600
D405: 21120 | E405: BOUCHENTOUF BACHIR | H405: 401 | I405: 21120 | J405: BOUCHENTOUF BACHIR | K405: 600 | L405: =IF(ISERROR(VLOOKUP($I405,AOUT!$B$7:$D$1400,3,0)),0,VLOOKUP($I405,AOUT!$B$7:$D$1400,3,0)) -> 600 | M405: =IF(ISERROR(VLOOKUP($I405,SEPT!$B$7:$D$1400,3,0)),0,VLOOKUP($I405,SEPT!$B$7:$D$1400,3,0)) -> 600 | N405: =IF(ISERROR(VLOOKUP($I405,OCT!$B$7:$D$1400,3,0)),0,VLOOKUP($I405,OCT!$B$7:$D$1400,3,0)) -> 600 | O405: =IF(ISERROR(VLOOKUP($I405,NOV!$B$7:$D$1400,3,0)),0,VLOOKUP($I405,NOV!$B$7:$D$1400,3,0)) -> 600
... D659: 24910 | E659: ELALOU MOHAMED | H659: 655 | I659: 24910 | J659: ELALOU MOHAMED | K659: 600 | L659: =IF(ISERROR(VLOOKUP($I659,AOUT!$B$7:$D$1400,3,0)),0,VLOOKUP($I659,AOUT!$B$7:$D$1400,3,0)) -> 600 | M659: =IF(ISERROR(VLOOKUP($I659,SEPT!$B$7:$D$1400,3,0)),0,VLOOKUP($I659,SEPT!$B$7:$D$1400,3,0)) -> 600 | N659: =IF(ISERROR(VLOOKUP($I659,OCT!$B$7:$D$1400,3,0)),0,VLOOKUP($I659,OCT!$B$7:$D$1400,3,0)) -> 600 | O659: =IF(ISERROR(VLOOKUP($I659,NOV!$B$7:$D$1400,3,0)),0,VLOOKUP($I659,NOV!$B$7:$D$1400,3,0)) -> 600
D660: 24449 | E660: ELHIRECHE MOHAMED | J660: ELHIRECHE MOHAMED | K660: 600 | L660: =IF(ISERROR(VLOOKUP($I660,AOUT!$B$7:$D$1400,3,0)),0,VLOOKUP($I660,AOUT!$B$7:$D$1400,3,0)) -> 0 | M660: =IF(ISERROR(VLOOKUP($I660,SEPT!$B$7:$D$1400,3,0)),0,VLOOKUP($I660,SEPT!$B$7:$D$1400,3,0)) -> 0 | N660: =IF(ISERROR(VLOOKUP($I660,OCT!$B$7:$D$1400,3,0)),0,VLOOKUP($I660,OCT!$B$7:$D$1400,3,0)) -> 0 | O660: =IF(ISERROR(VLOOKUP($I660,NOV!$B$7:$D$1400,3,0)),0,VLOOKUP($I660,NOV!$B$7:$D$1400,3,0)) -> 0
D661: 20928 | E661: ELOUEDJ BOUKRALED | H661: 656 | I661: 20928 | J661: ELOUEDJ BOUKRALED | K661: 600 | L661: =IF(ISERROR(VLOOKUP($I661,AOUT!$B$7:$D$1400,3,0)),0,VLOOKUP($I661,AOUT!$B$7:$D$1400,3,0)) -> 600 | M661: =IF(ISERROR(VLOOKUP($I661,SEPT!$B$7:$D$1400,3,0)),0,VLOOKUP($I661,SEPT!$B$7:$D$1400,3,0)) -> 600 | N661: =IF(ISERROR(VLOOKUP($I661,OCT!$B$7:$D$1400,3,0)),0,VLOOKUP($I661,OCT!$B$7:$D$1400,3,0)) -> 600 | O661: =IF(ISERROR(VLOOKUP($I661,NOV!$B$7:$D$1400,3,0)),0,VLOOKUP($I661,NOV!$B$7:$D$1400,3,0)) -> 600
D662: 22043 | E662: EMBAREK KADA | H662: 657 | I662: 22043 | J662: EMBAREK KADA | K662: 600 | L662: =IF(ISERROR(VLOOKUP($I662,AOUT!$B$7:$D$1400,3,0)),0,VLOOKUP($I662,AOUT!$B$7:$D$1400,3,0)) -> 600 | M662: =IF(ISERROR(VLOOKUP($I662,SEPT!$B$7:$D$1400,3,0)),0,VLOOKUP($I662,SEPT!$B$7:$D$1400,3,0)) -> 600 | N662: =IF(ISERROR(VLOOKUP($I662,OCT!$B$7:$D$1400,3,0)),0,VLOOKUP($I662,OCT!$B$7:$D$1400,3,0)) -> 600 | O662: =IF(ISERROR(VLOOKUP($I662,NOV!$B$7:$D$1400,3,0)),0,VLOOKUP($I662,NOV!$B$7:$D$1400,3,0)) -> 600
D663: 23197 | E663: ENNEMICHE MOHAMED | H663: 658 | I663: 23197 | J663: ENNEMICHE MOHAMED | K663: 600 | L663: =IF(ISERROR(VLOOKUP($I663,AOUT!$B$7:$D$1400,3,0)),0,VLOOKUP($I663,AOUT!$B$7:$D$1400,3,0)) -> 600 | M663: =IF(ISERROR(VLOOKUP($I663,SEPT!$B$7:$D$1400,3,0)),0,VLOOKUP($I663,SEPT!$B$7:$D$1400,3,0)) -> 600 | N663: =IF(ISERROR(VLOOKUP($I663,OCT!$B$7:$D$1400,3,0)),0,VLOOKUP($I663,OCT!$B$7:$D$1400,3,0)) -> 600 | O663: =IF(ISERROR(VLOOKUP($I663,NOV!$B$7:$D$1400,3,0)),0,VLOOKUP($I663,NOV!$B$7:$D$1400,3,0)) -> 600
D664: 21667 | E664: ENNEMICHE Tayeb | H664: 659 | I664: 21667 | J664: ENNEMICHE Tayeb | K664: 0 | L664: =IF(ISERROR(VLOOKUP($I664,AOUT!$B$7:$D$1400,3,0)),0,VLOOKUP($I664,AOUT!$B$7:$D$1400,3,0)) -> 0 | M664: =IF(ISERROR(VLOOKUP($I664,SEPT!$B$7:$D$1400,3,0)),0,VLOOKUP($I664,SEPT!$B$7:$D$1400,3,0)) -> 0 | N664: =IF(ISERROR(VLOOKUP($I664,OCT!$B$7:$D$1400,3,0)),0,VLOOKUP($I664,OCT!$B$7:$D$1400,3,0)) -> 0 | O664: =IF(ISERROR(VLOOKUP($I664,NOV!$B$7:$D$1400,3,0)),0,VLOOKUP($I664,NOV!$B$7:$D$1400,3,0)) -> 0
D665: 23258 | E665: FAKROUNI ELHACHEMI | H665: 660 | I665: 23258 | J665: FAKROUNI ELHACHEMI | K665: 600 | L665: =IF(ISERROR(VLOOKUP($I665,AOUT!$B$7:$D$1400,3,0)),0,VLOOKUP($I665,AOUT!$B$7:$D$1400,3,0)) -> 600 | M665: =IF(ISERROR(VLOOKUP($I665,SEPT!$B$7:$D$1400,3,0)),0,VLOOKUP($I665,SEPT!$B$7:$D$1400,3,0)) -> 600 | N665: =IF(ISERROR(VLOOKUP($I665,OCT!$B$7:$D$1400,3,0)),0,VLOOKUP($I665,OCT!$B$7:$D$1400,3,0)) -> 600 | O665: =IF(ISERROR(VLOOKUP($I665,NOV!$B$7:$D$1400,3,0)),0,VLOOKUP($I665,NOV!$B$7:$D$1400,3,0)) -> 600
D666: 22659 | E666: FARADJI ABDELKRIM | H666: 661 | I666: 22659 | J666: FARADJI ABDELKRIM | K666: 600 | L666: =IF(ISERROR(VLOOKUP($I666,AOUT!$B$7:$D$1400,3,0)),0,VLOOKUP($I666,AOUT!$B$7:$D$1400,3,0)) -> 600 | M666: =IF(ISERROR(VLOOKUP($I666,SEPT!$B$7:$D$1400,3,0)),0,VLOOKUP($I666,SEPT!$B$7:$D$1400,3,0)) -> 600 | N666: =IF(ISERROR(VLOOKUP($I666,OCT!$B$7:$D$1400,3,0)),0,VLOOKUP($I666,OCT!$B$7:$D$1400,3,0)) -> 600 | O666: =IF(ISERROR(VLOOKUP($I666,NOV!$B$7:$D$1400,3,0)),0,VLOOKUP($I666,NOV!$B$7:$D$1400,3,0)) -> 600
D667: 25015 | E667: FARAH MOHAMED | H667: 662 | I667: 25015 | J667: FARAH MOHAMED | K667: 0 | L667: =IF(ISERROR(VLOOKUP($I667,AOUT!$B$7:$D$1400,3,0)),0,VLOOKUP($I667,AOUT!$B$7:$D$1400,3,0)) -> 0 | M667: =IF(ISERROR(VLOOKUP($I667,SEPT!$B$7:$D$1400,3,0)),0,VLOOKUP($I667,SEPT!$B$7:$D$1400,3,0)) -> 0 | N667: =IF(ISERROR(VLOOKUP($I667,OCT!$B$7:$D$1400,3,0)),0,VLOOKUP($I667,OCT!$B$7:$D$1400,3,0)) -> 0 | O667: =IF(ISERROR(VLOOKUP($I667,NOV!$B$7:$D$1400,3,0)),0,VLOOKUP($I667,NOV!$B$7:$D$1400,3,0)) -> 0
D668: 21683 | E668: FARAOUN Belabbas | H668: 663 | I668: 21683 | J668: FARAOUN Belabbas | K668: 600 | L668: =IF(ISERROR(VLOOKUP($I668,AOUT!$B$7:$D$1400,3,0)),0,VLOOKUP($I668,AOUT!$B$7:$D$1400,3,0)) -> 600 | M668: =IF(ISERROR(VLOOKUP($I668,SEPT!$B$7:$D$1400,3,0)),0,VLOOKUP($I668,SEPT!$B$7:$D$1400,3,0)) -> 600 | N668: =IF(ISERROR(VLOOKUP($I668,OCT!$B$7:$D$1400,3,0)),0,VLOOKUP($I668,OCT!$B$7:$D$1400,3,0)) -> 600 | O668: =IF(ISERROR(VLOOKUP($I668,NOV!$B$7:$D$1400,3,0)),0,VLOOKUP($I668,NOV!$B$7:$D$1400,3,0)) -> 600
D669: 24593 | E669: FARDEHAB SEYF ISLAM | H669: 664 | I669: 24593 | J669: FARDEHAB SEYF ISLAM | K669: 600 | L669: =IF(ISERROR(VLOOKUP($I669,AOUT!$B$7:$D$1400,3,0)),0,VLOOKUP($I669,AOUT!$B$7:$D$1400,3,0)) -> 600 | M669: =IF(ISERROR(VLOOKUP($I669,SEPT!$B$7:$D$1400,3,0)),0,VLOOKUP($I669,SEPT!$B$7:$D$1400,3,0)) -> 600 | N669: =IF(ISERROR(VLOOKUP($I669,OCT!$B$7:$D$1400,3,0)),0,VLOOKUP($I669,OCT!$B$7:$D$1400,3,0)) -> 600 | O669: =IF(ISERROR(VLOOKUP($I669,NOV!$B$7:$D$1400,3,0)),0,VLOOKUP($I669,NOV!$B$7:$D$1400,3,0)) -> 600
D670: 22732 | E670: FARES MOHAMED | H670: 665 | I670: 22732 | J670: FARES MOHAMED | K670: 600 | L670: =IF(ISERROR(VLOOKUP($I670,AOUT!$B$7:$D$1400,3,0)),0,VLOOKUP($I670,AOUT!$B$7:$D$1400,3,0)) -> 600 | M670: =IF(ISERROR(VLOOKUP($I670,SEPT!$B$7:$D$1400,3,0)),0,VLOOKUP($I670,SEPT!$B$7:$D$1400,3,0)) -> 600 | N670: =IF(ISERROR(VLOOKUP($I670,OCT!$B$7:$D$1400,3,0)),0,VLOOKUP($I670,OCT!$B$7:$D$1400,3,0)) -> 600 | O670: =IF(ISERROR(VLOOKUP($I670,NOV!$B$7:$D$1400,3,0)),0,VLOOKUP($I670,NOV!$B$7:$D$1400,3,0)) -> 600
D671: 23396 | E671: FARFOUR MOHAMED | H671: 666 | I671: 23396 | J671: FARFOUR MOHAMED | K671: 600 | L671: =IF(ISERROR(VLOOKUP($I671,AOUT!$B$7:$D$1400,3,0)),0,VLOOKUP($I671,AOUT!$B$7:$D$1400,3,0)) -> 600 | M671: =IF(ISERROR(VLOOKUP($I671,SEPT!$B$7:$D$1400,3,0)),0,VLOOKUP($I671,SEPT!$B$7:$D$1400,3,0)) -> 600 | N671: =IF(ISERROR(VLOOKUP($I671,OCT!$B$7:$D$1400,3,0)),0,VLOOKUP($I671,OCT!$B$7:$D$1400,3,0)) -> 600 | O671: =IF(ISERROR(VLOOKUP($I671,NOV!$B$7:$D$1400,3,0)),0,VLOOKUP($I671,NOV!$B$7:$D$1400,3,0)) -> 600
D672: 21498 | E672: FARHI KOUIDER | H672: 667 | I672: 21498 | J672: FARHI KOUIDER | K672: 600 | L672: =IF(ISERROR(VLOOKUP($I672,AOUT!$B$7:$D$1400,3,0)),0,VLOOKUP($I672,AOUT!$B$7:$D$1400,3,0)) -> 600 | M672: =IF(ISERROR(VLOOKUP($I672,SEPT!$B$7:$D$1400,3,0)),0,VLOOKUP($I672,SEPT!$B$7:$D$1400,3,0)) -> 600 | N672: =IF(ISERROR(VLOOKUP($I672,OCT!$B$7:$D$1400,3,0)),0,VLOOKUP($I672,OCT!$B$7:$D$1400,3,0)) -> 600 | O672: =IF(ISERROR(VLOOKUP($I672,NOV!$B$7:$D$1400,3,0)),0,VLOOKUP($I672,NOV!$B$7:$D$1400,3,0)) -> 600
... D743: 24352 | E743: GUENNICHE HOUARI | H743: 738 | I743: 24352 | J743: GUENNICHE HOUARI | K743: 600 | L743: =IF(ISERROR(VLOOKUP($I743,AOUT!$B$7:$D$1400,3,0)),0,VLOOKUP($I743,AOUT!$B$7:$D$1400,3,0)) -> 600 | M743: =IF(ISERROR(VLOOKUP($I743,SEPT!$B$7:$D$1400,3,0)),0,VLOOKUP($I743,SEPT!$B$7:$D$1400,3,0)) -> 600 | N743: =IF(ISERROR(VLOOKUP($I743,OCT!$B$7:$D$1400,3,0)),0,VLOOKUP($I743,OCT!$B$7:$D$1400,3,0)) -> 600 | O743: =IF(ISERROR(VLOOKUP($I743,NOV!$B$7:$D$1400,3,0)),0,VLOOKUP($I743,NOV!$B$7:$D$1400,3,0)) -> 600
A744: 0 | D744: 21473 | E744: GUENNOUN AMINE | H744: 739 | I744: 21473 | J744: GUENNOUN AMINE | K744: 0 | L744: =IF(ISERROR(VLOOKUP($I744,AOUT!$B$7:$D$1400,3,0)),0,VLOOKUP($I744,AOUT!$B$7:$D$1400,3,0)) -> 0 | M744: =IF(ISERROR(VLOOKUP($I744,SEPT!$B$7:$D$1400,3,0)),0,VLOOKUP($I744,SEPT!$B$7:$D$1400,3,0)) -> 0 | N744: =IF(ISERROR(VLOOKUP($I744,OCT!$B$7:$D$1400,3,0)),0,VLOOKUP($I744,OCT!$B$7:$D$1400,3,0)) -> 0 | O744: =IF(ISERROR(VLOOKUP($I744,NOV!$B$7:$D$1400,3,0)),0,VLOOKUP($I744,NOV!$B$7:$D$1400,3,0)) -> 0
D745: 24448 | E745: GUERANDI REFFAS | H745: 740 | I745: 24448 | J745: GUERANDI REFFAS | K745: 600 | L745: =IF(ISERROR(VLOOKUP($I745,AOUT!$B$7:$D$1400,3,0)),0,VLOOKUP($I745,AOUT!$B$7:$D$1400,3,0)) -> 600 | M745: =IF(ISERROR(VLOOKUP($I745,SEPT!$B$7:$D$1400,3,0)),0,VLOOKUP($I745,SEPT!$B$7:$D$1400,3,0)) -> 600 | N745: =IF(ISERROR(VLOOKUP($I745,OCT!$B$7:$D$1400,3,0)),0,VLOOKUP($I745,OCT!$B$7:$D$1400,3,0)) -> 600 | O745: =IF(ISERROR(VLOOKUP($I745,NOV!$B$7:$D$1400,3,0)),0,VLOOKUP($I745,NOV!$B$7:$D$1400,3,0)) -> 600
D746: 23176 | E746: GUERRAB ABDELKADER | H746: 741 | I746: 23176 | J746: GUERRAB ABDELKADER | K746: 600 | L746: =IF(ISERROR(VLOOKUP($I746,AOUT!$B$7:$D$1400,3,0)),0,VLOOKUP($I746,AOUT!$B$7:$D$1400,3,0)) -> 600 | M746: =IF(ISERROR(VLOOKUP($I746,SEPT!$B$7:$D$1400,3,0)),0,VLOOKUP($I746,SEPT!$B$7:$D$1400,3,0)) -> 600 | N746: =IF(ISERROR(VLOOKUP($I746,OCT!$B$7:$D$1400,3,0)),0,VLOOKUP($I746,OCT!$B$7:$D$1400,3,0)) -> 600 | O746: =IF(ISERROR(VLOOKUP($I746,NOV!$B$7:$D$1400,3,0)),0,VLOOKUP($I746,NOV!$B$7:$D$1400,3,0)) -> 600
...
