Workbook

Sheet ma liste 
C1: A-M-N | D1: LISTE ANNUELLE DES SALAIRES
C3: CONS
C4: ASSURANCE GROUPE A-M-N 2017 | Q4: JANVIER | R4: FEVRIER | S4: MARS | T4: TOTAL
C6: Année : 2017
E7: NOM ET PRENOM | F7: Janvier | G7: Février | H7: Mars | I7: AVRIL | J7: MAI | K7: JUIN | L7: JUILLET
C8: 1 | D8: 21816 | E8: AAKEL Belmokhtar | F8: 600 | G8: 600 | H8: 600 | I8: 0 | J8: 0 | K8: 0 | L8: 0
C9: 2 | D9: 22004 | E9: ABABOU MOHAMMED | F9: 600 | G9: 600 | H9: 600 | I9: 600 | J9: 600 | K9: 600 | L9: 600
C10: 3 | D10: 21352 | E10: ABADA MOKHTAR | F10: 600 | G10: 600 | H10: 600 | I10: 600 | J10: 600 | K10: 600 | L10: 600
C11: 4 | D11: 23486 | E11: ABBADA NOUREDDINE | F11: 600 | G11: 600 | H11: 600 | I11: 600 | J11: 600 | K11: 600 | L11: 600
C12: 5 | D12: 23638 | E12: ABBASSI ABDELLAH | F12: 600 | G12: 600 | H12: 600 | I12: 600 | J12: 600 | K12: 600 | L12: 600
C13: 6 | D13: 21054 | E13: ABBES BOUBKEUR | F13: 600 | G13: 600 | H13: 600 | I13: 600 | J13: 600 | K13: 600 | L13: 600
C14: 7 | D14: 22048 | E14: ABBES DJILLALI | F14: 600 | G14: 600 | H14: 600 | I14: 600 | J14: 600 | K14: 600 | L14: 600
C15: 8 | D15: 24447 | E15: ABBOU YASSINE | F15: 600 | G15: 600 | H15: 600 | I15: 600 | J15: 600 | K15: 600 | L15: 600
C16: 9 | D16: 24597 | E16: ABDELAZIZ MOHAMMED NADIR | F16: 600 | G16: 600 | H16: 600 | I16: 600 | J16: 600 | K16: 600 | L16: 600
C17: 10 | D17: 21752 | E17: ABDELDJOUAD Ismail | F17: 600 | G17: 600 | H17: 600 | I17: 600 | J17: 600 | K17: 600 | L17: 600 | N17: EX: | P17: DG COTISE 1000 DA / MOIS
C18: 11 | D18: 24255 | E18: ABDELHADI ABDELKADER | F18: 600 | G18: 600 | H18: 600 | I18: 600 | J18: 600 | K18: 600 | L18: 600 | N18: 865 | O18: 23891 | P18: KARA DJELLOUL | Q18: 600 | R18: 600 | S18: 1800 | T18: 3000
C19: 12 | D19: 23886 | E19: ABDELHAK AMINE | F19: 600 | G19: 600 | H19: 600 | I19: 600 | J19: 600 | K19: 600 | L19: 600
C20: 13 | D20: 25008 | E20: ABDELI ALI | F20: 0 | G20: 0 | H20: 600 | I20: 600 | J20: 0 | K20: 0 | L20: 0
A21: 30546 | B21: 831549007042 | C21: 14 | D21: 23201 | E21: ABDELMOUMENE ABDELHALIM | F21: 600 | G21: 600 | H21: 600 | I21: 600 | J21: 600 | K21: 600 | L21: 600
A22: 26013 | B22: 710292018243 | C22: 15 | D22: 22326 | E22: ABDELMOUMENE MOHAMMED | F22: 600 | G22: 600 | H22: 600 | I22: 600 | J22: 600 | K22: 600 | L22: 600
C23: 16 | D23: 22854 | E23: ABDENEBI MADJID | F23: 600 | G23: 600 | H23: 600 | I23: 600 | J23: 600 | K23: 600 | L23: 600
C24: 17 | D24: 20711 | E24: ABED BOUALEM | F24: 600 | G24: 600 | H24: 600 | I24: 600 | J24: 600 | K24: 600 | L24: 600
C25: 18 | D25: 20580 | E25: ABED SAHRAOUI | F25: 600 | G25: 600 | H25: 600 | I25: 600 | J25: 600 | K25: 600 | L25: 600
C26: 19 | D26: 24246 | E26: ABID DAOUD | F26: 600 | G26: 600 | H26: 600 | I26: 600 | J26: 600 | K26: 600 | L26: 600
C27: 20 | D27: 23094 | E27: ABID HAOUARI | F27: 600 | G27: 600 | H27: 600 | I27: 600 | J27: 600 | K27: 600 | L27: 600
C28: 21 | D28: 22241 | E28: ACHOUR Norredine | F28: 600 | G28: 600 | H28: 600 | I28: 600 | J28: 600 | K28: 600 | L28: 600
C29: 22 | D29: 22299 | E29: ACHOUR RABIE | F29: 600 | G29: 600 | H29: 600 | I29: 600 | J29: 600 | K29: 600 | L29: 600
C30: 23 | D30: 21329 | E30: ADDA Baghdad | F30: 600 | G30: 600 | H30: 600 | I30: 600 | J30: 600 | K30: 600 | L30: 600
C31: 24 | D31: 21989 | E31: ADDA MOHAMED | F31: 600 | G31: 600 | H31: 600 | I31: 600 | J31: 600 | K31: 600 | L31: 600
C32: 25 | D32: 21786 | E32: ADLAOUI Seddik | F32: 600 | G32: 600 | H32: 600 | I32: 600 | J32: 600 | K32: 600 | L32: 600
C33: 26 | D33: 24532 | E33: AFFANE Abdelwahab | F33: 600 | G33: 0 | H33: 0 | I33: 0 | J33: 600 | K33: 600 | L33: 600
C34: 27 | D34: 21628 | E34: AFFOUN Moulay Safi | F34: 600 | G34: 600 | H34: 600 | I34: 600 | J34: 600 | K34: 600 | L34: 600
... C37: 30 | D37: 24162 | E37: AGBOUBI ABDELLAH | F37: 600 | G37: 600 | H37: 600 | I37: 600 | J37: 600 | K37: 600 | L37: 600
A38: rappel | C38: 31 | E38: AGBOUBI ABDELWAHAB | F38: 0 | G38: 600 | H38: 600 | I38: 600 | J38: 600 | K38: 600 | L38: 600
C39: 32 | D39: 23322 | E39: AGHFOUL RACHID | F39: 600 | G39: 600 | H39: 600 | I39: 600 | J39: 600 | K39: 600 | L39: 600
C40: 33 | D40: 22192 | E40: AGOUDJIL Mahmoud | F40: 600 | G40: 600 | H40: 600 | I40: 600 | J40: 600 | K40: 600 | L40: 600
C41: 34 | D41: 24007 | E41: AGUEB NEDJADI | F41: 600 | G41: 600 | H41: 600 | I41: 600 | J41: 600 | K41: 600 | L41: 600
C42: 35 | D42: 24169 | E42: AGUENI RACHIDA | F42: 600 | G42: 600 | H42: 600 | I42: 600 | J42: 600 | K42: 600 | L42: 600
C43: 36 | D43: 23457 | E43: AHMED BENYAHIA | F43: 0 | G43: 0 | H43: 600 | I43: 0 | J43: 0 | K43: 0 | L43: 0
C44: 37 | D44: 22270 | E44: AHMEDI BOUDJELTHIA BENALI | F44: 600 | G44: 600 | H44: 600 | I44: 600 | J44: 600 | K44: 600 | L44: 600
...

Sheet AOUT
C2: Rubrique : RET.ASSURANCE GROUPE AOUT 2017
A4: NUM | B4: MATRECULE | C4: NOM PRENOM | D4: MONTANT
A5: 1 | B5: 22004 | C5: ABABOU MOHAMMED | D5: 600
A6: 2 | B6: 21352 | C6: ABADA MOKHTAR | D6: 600
A7: 3 | B7: 23486 | C7: ABBADA NOUREDDINE | D7: 600
A8: 4 | B8: 23638 | C8: ABBASSI ABDELLAH | D8: 600
A9: 5 | B9: 21054 | C9: ABBES BOUBKEUR | D9: 600
A10: 6 | B10: 22048 | C10: ABBES DJILLALI | D10: 600
A11: 7 | B11: 24447 | C11: ABBOU YASSINE | D11: 600
A12: 8 | B12: 24597 | C12: ABDELAZIZ MOHAMMED NADIR | D12: 600
A13: 9 | B13: 21752 | C13: ABDELDJOUAD Ismail | D13: 600
A14: 10 | B14: 24255 | C14: ABDELHADI ABDELKADER | D14: 600
A15: 11 | B15: 23886 | C15: ABDELHAK AMINE | D15: 600
A16: 12 | B16: 23201 | C16: ABDELMOUMENE ABDELHALIM | D16: 600
... A1306: 1302 | B1306: 22814 | C1306: bessafi CHAFIK | D1306: 600
A1307: TOTAL | D1307: =SUM(D5:D1306) -> 783600

Sheet SEPT
B4: Rubrique : RET.ASSURANCE GROUPE SEPTEMBRE
A6: NUM | B6: MATRECULE | C6: NOM ET PRENOM | D6: septembre 2017
A7: 1 | B7: 22004 | C7: ABABOU MOHAMMED | D7: 600
A8: 2 | B8: 21352 | C8: ABADA MOKHTAR | D8: 600
A9: 3 | B9: 23486 | C9: ABBADA NOUREDDINE | D9: 600
A10: 4 | B10: 23638 | C10: ABBASSI ABDELLAH | D10: 600
A11: 5 | B11: 21054 | C11: ABBES BOUBKEUR | D11: 600
A12: 6 | B12: 22048 | C12: ABBES DJILLALI | D12: 600
A13: 7 | B13: 24447 | C13: ABBOU YASSINE | D13: 600
A14: 8 | B14: 24597 | C14: ABDELAZIZ MOHAMMED NADIR | D14: 600
A15: 9 | B15: 21752 | C15: ABDELDJOUAD Ismail | D15: 600
A16: 10 | B16: 24255 | C16: ABDELHADI ABDELKADER | D16: 600
A17: 11 | B17: 23886 | C17: ABDELHAK AMINE | D17: 600
A18: 12 | B18: 23201 | C18: ABDELMOUMENE ABDELHALIM | D18: 600
... A1298: 1292 | B1298: 22814 | C1298: bessafi CHAFIK | D1298: 600
A1299: TOTAL | D1299: =SUM(D7:D1298) -> 777600

Sheet OCT
C4: Rubrique : RET.ASSURANCE GROUPE OCTOBRE 2017
A6: NUM | B6: MATRECULE | C6: NOM ET PRENOM | D6: octobre 2017
A7: 1 | B7: 22004 | C7: ABABOU MOHAMMED | D7: 600
A8: 2 | B8: 21352 | C8: ABADA MOKHTAR | D8: 600
A9: 3 | B9: 23486 | C9: ABBADA NOUREDDINE | D9: 600
A10: 4 | B10: 23638 | C10: ABBASSI ABDELLAH | D10: 600
A11: 5 | B11: 21054 | C11: ABBES BOUBKEUR | D11: 600
A12: 6 | B12: 22048 | C12: ABBES DJILLALI | D12: 600
A13: 7 | B13: 24447 | C13: ABBOU YASSINE | D13: 600
A14: 8 | B14: 25078 | C14: ABDELALI DJAMEL ABDENACEUR | D14: 600
A15: 9 | B15: 24597 | C15: ABDELAZIZ MOHAMMED NADIR | D15: 600
A16: 10 | B16: 21752 | C16: ABDELDJOUAD Ismail | D16: 600
A17: 11 | B17: 24255 | C17: ABDELHADI ABDELKADER | D17: 600
A18: 12 | B18: 23886 | C18: ABDELHAK AMINE | D18: 600
... A1290: 1284 | B1290: 22814 | C1290: bessafi CHAFIK | D1290: 600
A1291: TOTAL | D1291: =SUM(D7:D1290) -> 772800

Sheet NOV
C4: Rubrique : RET.ASSURANCE GROUPE NOVEMBRE 2017
A6: NUM | B6: MATRECULE | C6: NOM ET PRENOM | D6: novembre 2017
A7: 1 | B7: 22004 | C7: ABABOU MOHAMMED | D7: 600
A8: 2 | B8: 21352 | C8: ABADA MOKHTAR | D8: 600
A9: 3 | B9: 23486 | C9: ABBADA NOUREDDINE | D9: 600
A10: 4 | B10: 23638 | C10: ABBASSI ABDELLAH | D10: 600
A11: 5 | B11: 21054 | C11: ABBES BOUBKEUR | D11: 600
A12: 6 | B12: 22048 | C12: ABBES DJILLALI | D12: 600
A13: 7 | B13: 24447 | C13: ABBOU YASSINE | D13: 600
A14: 8 | B14: 24597 | C14: ABDELAZIZ MOHAMMED NADIR | D14: 600
A15: 9 | B15: 21752 | C15: ABDELDJOUAD Ismail | D15: 600
A16: 10 | B16: 24255 | C16: ABDELHADI ABDELKADER | D16: 600
A17: 11 | B17: 23886 | C17: ABDELHAK AMINE | D17: 600
A18: 12 | B18: 23201 | C18: ABDELMOUMENE ABDELHALIM | D18: 600
... A1284: 1278 | B1284: 22814 | C1284: bessafi CHAFIK | D1284: 600
A1285: TOTAL | D1285: =SUM(D7:D1284) -> 769200

Sheet unique
L1: AOUT | M1: SEPT | N1: OCT | O1: NOV
D2: 21816 | E2: AAKEL Belmokhtar | H2: 1 | I2: 21816 | J2: AAKEL Belmokhtar | K2: 0 | L2: =IF(ISERROR(VLOOKUP($I2,AOUT!$B$7:$D$1400,3,0)),0,VLOOKUP($I2,AOUT!$B$7:$D$1400,3,0)) -> 0 | M2: =IF(ISERROR(VLOOKUP($I2,SEPT!$B$7:$D$1400,3,0)),0,VLOOKUP($I2,SEPT!$B$7:$D$1400,3,0)) -> 0 | N2: =IF(ISERROR(VLOOKUP($I2,OCT!$B$7:$D$1400,3,0)),0,VLOOKUP($I2,OCT!$B$7:$D$1400,3,0)) -> 0 | O2: =IF(ISERROR(VLOOKUP($I2,NOV!$B$7:$D$1400,3,0)),0,VLOOKUP($I2,NOV!$B$7:$D$1400,3,0)) -> 0
D3: 22004 | E3: ABABOU MOHAMMED | H3: 2 | I3: 22004 | J3: ABABOU MOHAMMED | K3: 600 | L3: =IF(ISERROR(VLOOKUP($I3,AOUT!$B$7:$D$1400,3,0)),0,VLOOKUP($I3,AOUT!$B$7:$D$1400,3,0)) -> 0 | M3: =IF(ISERROR(VLOOKUP($I3,SEPT!$B$7:$D$1400,3,0)),0,VLOOKUP($I3,SEPT!$B$7:$D$1400,3,0)) -> 600 | N3: =IF(ISERROR(VLOOKUP($I3,OCT!$B$7:$D$1400,3,0)),0,VLOOKUP($I3,OCT!$B$7:$D$1400,3,0)) -> 600 | O3: =IF(ISERROR(VLOOKUP($I3,NOV!$B$7:$D$1400,3,0)),0,VLOOKUP($I3,NOV!$B$7:$D$1400,3,0)) -> 600
A4: j'ai utlitsé la mise en forme conditionnelle "UNIQUE" pour cibler les adherants qui cotisent pour la premiere fois pour cela j'ai coller a la fin la liste de cotisation du mois D'Aout qui cotient seulement les adherant qui ont cotiser ce mois ci (Aout) | D4: 21352 | E4: ABADA MOKHTAR | H4: 3 | I4: 21352 | J4: ABADA MOKHTAR | K4: 600 | L4: =IF(ISERROR(VLOOKUP($I4,AOUT!$B$7:$D$1400,3,0)),0,VLOOKUP($I4,AOUT!$B$7:$D$1400,3,0)) -> 0 | M4: =IF(ISERROR(VLOOKUP($I4,SEPT!$B$7:$D$1400,3,0)),0,VLOOKUP($I4,SEPT!$B$7:$D$1400,3,0)) -> 600 | N4: =IF(ISERROR(VLOOKUP($I4,OCT!$B$7:$D$1400,3,0)),0,VLOOKUP($I4,OCT!$B$7:$D$1400,3,0)) -> 600 | O4: =IF(ISERROR(VLOOKUP($I4,NOV!$B$7:$D$1400,3,0)),0,VLOOKUP($I4,NOV!$B$7:$D$1400,3,0)) -> 600
D5: 23486 | E5: ABBADA NOUREDDINE | G5: MA LISTE | H5: 4 | I5: 23486 | J5: ABBADA NOUREDDINE | K5: 600 | L5: =IF(ISERROR(VLOOKUP($I5,AOUT!$B$7:$D$1400,3,0)),0,VLOOKUP($I5,AOUT!$B$7:$D$1400,3,0)) -> 600 | M5: =IF(ISERROR(VLOOKUP($I5,SEPT!$B$7:$D$1400,3,0)),0,VLOOKUP($I5,SEPT!$B$7:$D$1400,3,0)) -> 600 | N5: =IF(ISERROR(VLOOKUP($I5,OCT!$B$7:$D$1400,3,0)),0,VLOOKUP($I5,OCT!$B$7:$D$1400,3,0)) -> 600 | O5: =IF(ISERROR(VLOOKUP($I5,NOV!$B$7:$D$1400,3,0)),0,VLOOKUP($I5,NOV!$B$7:$D$1400,3,0)) -> 600
D6: 23638 | E6: ABBASSI ABDELLAH | H6: 5 | I6: 23638 | J6: ABBASSI ABDELLAH | K6: 600 | L6: =IF(ISERROR(VLOOKUP($I6,AOUT!$B$7:$D$1400,3,0)),0,VLOOKUP($I6,AOUT!$B$7:$D$1400,3,0)) -> 600 | M6: =IF(ISERROR(VLOOKUP($I6,SEPT!$B$7:$D$1400,3,0)),0,VLOOKUP($I6,SEPT!$B$7:$D$1400,3,0)) -> 600 | N6: =IF(ISERROR(VLOOKUP($I6,OCT!$B$7:$D$1400,3,0)),0,VLOOKUP($I6,OCT!$B$7:$D$1400,3,0)) -> 600 | O6: =IF(ISERROR(VLOOKUP($I6,NOV!$B$7:$D$1400,3,0)),0,VLOOKUP($I6,NOV!$B$7:$D$1400,3,0)) -> 600
D7: 21054 | E7: ABBES BOUBKEUR | H7: 6 | I7: 21054 | J7: ABBES BOUBKEUR | K7: 600 | L7: =IF(ISERROR(VLOOKUP($I7,AOUT!$B$7:$D$1400,3,0)),0,VLOOKUP($I7,AOUT!$B$7:$D$1400,3,0)) -> 600 | M7: =IF(ISERROR(VLOOKUP($I7,SEPT!$B$7:$D$1400,3,0)),0,VLOOKUP($I7,SEPT!$B$7:$D$1400,3,0)) -> 600 | N7: =IF(ISERROR(VLOOKUP($I7,OCT!$B$7:$D$1400,3,0)),0,VLOOKUP($I7,OCT!$B$7:$D$1400,3,0)) -> 600 | O7: =IF(ISERROR(VLOOKUP($I7,NOV!$B$7:$D$1400,3,0)),0,VLOOKUP($I7,NOV!$B$7:$D$1400,3,0)) -> 600
D8: 22048 | E8: ABBES DJILLALI | H8: 7 | I8: 22048 | J8: ABBES DJILLALI | K8: 600 | L8: =IF(ISERROR(VLOOKUP($I8,AOUT!$B$7:$D$1400,3,0)),0,VLOOKUP($I8,AOUT!$B$7:$D$1400,3,0)) -> 600 | M8: =IF(ISERROR(VLOOKUP($I8,SEPT!$B$7:$D$1400,3,0)),0,VLOOKUP($I8,SEPT!$B$7:$D$1400,3,0)) -> 600 | N8: =IF(ISERROR(VLOOKUP($I8,OCT!$B$7:$D$1400,3,0)),0,VLOOKUP($I8,OCT!$B$7:$D$1400,3,0)) -> 600 | O8: =IF(ISERROR(VLOOKUP($I8,NOV!$B$7:$D$1400,3,0)),0,VLOOKUP($I8,NOV!$B$7:$D$1400,3,0)) -> 600
D9: 24447 | E9: ABBOU YASSINE | H9: 8 | I9: 24447 | J9: ABBOU YASSINE | K9: 600 | L9: =IF(ISERROR(VLOOKUP($I9,AOUT!$B$7:$D$1400,3,0)),0,VLOOKUP($I9,AOUT!$B$7:$D$1400,3,0)) -> 600 | M9: =IF(ISERROR(VLOOKUP($I9,SEPT!$B$7:$D$1400,3,0)),0,VLOOKUP($I9,SEPT!$B$7:$D$1400,3,0)) -> 600 | N9: =IF(ISERROR(VLOOKUP($I9,OCT!$B$7:$D$1400,3,0)),0,VLOOKUP($I9,OCT!$B$7:$D$1400,3,0)) -> 600 | O9: =IF(ISERROR(VLOOKUP($I9,NOV!$B$7:$D$1400,3,0)),0,VLOOKUP($I9,NOV!$B$7:$D$1400,3,0)) -> 600
D10: 24597 | E10: ABDELAZIZ MOHAMMED NADIR | H10: 9 | I10: 24597 | J10: ABDELAZIZ MOHAMMED NADIR | K10: 600 | L10: =IF(ISERROR(VLOOKUP($I10,AOUT!$B$7:$D$1400,3,0)),0,VLOOKUP($I10,AOUT!$B$7:$D$1400,3,0)) -> 600 | M10: =IF(ISERROR(VLOOKUP($I10,SEPT!$B$7:$D$1400,3,0)),0,VLOOKUP($I10,SEPT!$B$7:$D$1400,3,0)) -> 600 | N10: =IF(ISERROR(VLOOKUP($I10,OCT!$B$7:$D$1400,3,0)),0,VLOOKUP($I10,OCT!$B$7:$D$1400,3,0)) -> 600 | O10: =IF(ISERROR(VLOOKUP($I10,NOV!$B$7:$D$1400,3,0)),0,VLOOKUP($I10,NOV!$B$7:$D$1400,3,0)) -> 600
D11: 21752 | E11: ABDELDJOUAD Ismail | H11: 10 | I11: 21752 | J11: ABDELDJOUAD Ismail | K11: 600 | L11: =IF(ISERROR(VLOOKUP($I11,AOUT!$B$7:$D$1400,3,0)),0,VLOOKUP($I11,AOUT!$B$7:$D$1400,3,0)) -> 600 | M11: =IF(ISERROR(VLOOKUP($I11,SEPT!$B$7:$D$1400,3,0)),0,VLOOKUP($I11,SEPT!$B$7:$D$1400,3,0)) -> 600 | N11: =IF(ISERROR(VLOOKUP($I11,OCT!$B$7:$D$1400,3,0)),0,VLOOKUP($I11,OCT!$B$7:$D$1400,3,0)) -> 600 | O11: =IF(ISERROR(VLOOKUP($I11,NOV!$B$7:$D$1400,3,0)),0,VLOOKUP($I11,NOV!$B$7:$D$1400,3,0)) -> 600
D12: 24255 | E12: ABDELHADI ABDELKADER | H12: 11 | I12: 24255 | J12: ABDELHADI ABDELKADER | K12: 600 | L12: =IF(ISERROR(VLOOKUP($I12,AOUT!$B$7:$D$1400,3,0)),0,VLOOKUP($I12,AOUT!$B$7:$D$1400,3,0)) -> 600 | M12: =IF(ISERROR(VLOOKUP($I12,SEPT!$B$7:$D$1400,3,0)),0,VLOOKUP($I12,SEPT!$B$7:$D$1400,3,0)) -> 600 | N12: =IF(ISERROR(VLOOKUP($I12,OCT!$B$7:$D$1400,3,0)),0,VLOOKUP($I12,OCT!$B$7:$D$1400,3,0)) -> 600 | O12: =IF(ISERROR(VLOOKUP($I12,NOV!$B$7:$D$1400,3,0)),0,VLOOKUP($I12,NOV!$B$7:$D$1400,3,0)) -> 600
D13: 23886 | E13: ABDELHAK AMINE | H13: 12 | I13: 23886 | J13: ABDELHAK AMINE | K13: 600 | L13: =IF(ISERROR(VLOOKUP($I13,AOUT!$B$7:$D$1400,3,0)),0,VLOOKUP($I13,AOUT!$B$7:$D$1400,3,0)) -> 600 | M13: =IF(ISERROR(VLOOKUP($I13,SEPT!$B$7:$D$1400,3,0)),0,VLOOKUP($I13,SEPT!$B$7:$D$1400,3,0)) -> 600 | N13: =IF(ISERROR(VLOOKUP($I13,OCT!$B$7:$D$1400,3,0)),0,VLOOKUP($I13,OCT!$B$7:$D$1400,3,0)) -> 600 | O13: =IF(ISERROR(VLOOKUP($I13,NOV!$B$7:$D$1400,3,0)),0,VLOOKUP($I13,NOV!$B$7:$D$1400,3,0)) -> 600
D14: 25008 | E14: ABDELI ALI | H14: 13 | I14: 25008 | J14: ABDELI ALI | K14: 0 | L14: =IF(ISERROR(VLOOKUP($I14,AOUT!$B$7:$D$1400,3,0)),0,VLOOKUP($I14,AOUT!$B$7:$D$1400,3,0)) -> 0 | M14: =IF(ISERROR(VLOOKUP($I14,SEPT!$B$7:$D$1400,3,0)),0,VLOOKUP($I14,SEPT!$B$7:$D$1400,3,0)) -> 0 | N14: =IF(ISERROR(VLOOKUP($I14,OCT!$B$7:$D$1400,3,0)),0,VLOOKUP($I14,OCT!$B$7:$D$1400,3,0)) -> 0 | O14: =IF(ISERROR(VLOOKUP($I14,NOV!$B$7:$D$1400,3,0)),0,VLOOKUP($I14,NOV!$B$7:$D$1400,3,0)) -> 0
D15: 23201 | E15: ABDELMOUMENE ABDELHALIM | H15: 14 | I15: 23201 | J15: ABDELMOUMENE ABDELHALIM | K15: 600 | L15: =IF(ISERROR(VLOOKUP($I15,AOUT!$B$7:$D$1400,3,0)),0,VLOOKUP($I15,AOUT!$B$7:$D$1400,3,0)) -> 600 | M15: =IF(ISERROR(VLOOKUP($I15,SEPT!$B$7:$D$1400,3,0)),0,VLOOKUP($I15,SEPT!$B$7:$D$1400,3,0)) -> 600 | N15: =IF(ISERROR(VLOOKUP($I15,OCT!$B$7:$D$1400,3,0)),0,VLOOKUP($I15,OCT!$B$7:$D$1400,3,0)) -> 600 | O15: =IF(ISERROR(VLOOKUP($I15,NOV!$B$7:$D$1400,3,0)),0,VLOOKUP($I15,NOV!$B$7:$D$1400,3,0)) -> 600
D16: 22326 | E16: ABDELMOUMENE MOHAMMED | H16: 15 | I16: 22326 | J16: ABDELMOUMENE MOHAMMED | K16: 600 | L16: =IF(ISERROR(VLOOKUP($I16,AOUT!$B$7:$D$1400,3,0)),0,VLOOKUP($I16,AOUT!$B$7:$D$1400,3,0)) -> 600 | M16: =IF(ISERROR(VLOOKUP($I16,SEPT!$B$7:$D$1400,3,0)),0,VLOOKUP($I16,SEPT!$B$7:$D$1400,3,0)) -> 600 | N16: =IF(ISERROR(VLOOKUP($I16,OCT!$B$7:$D$1400,3,0)),0,VLOOKUP($I16,OCT!$B$7:$D$1400,3,0)) -> 600 | O16: =IF(ISERROR(VLOOKUP($I16,NOV!$B$7:$D$1400,3,0)),0,VLOOKUP($I16,NOV!$B$7:$D$1400,3,0)) -> 600
D17: 22854 | E17: ABDENEBI MADJID | H17: 16 | I17: 22854 | J17: ABDENEBI MADJID | K17: 600 | L17: =IF(ISERROR(VLOOKUP($I17,AOUT!$B$7:$D$1400,3,0)),0,VLOOKUP($I17,AOUT!$B$7:$D$1400,3,0)) -> 600 | M17: =IF(ISERROR(VLOOKUP($I17,SEPT!$B$7:$D$1400,3,0)),0,VLOOKUP($I17,SEPT!$B$7:$D$1400,3,0)) -> 600 | N17: =IF(ISERROR(VLOOKUP($I17,OCT!$B$7:$D$1400,3,0)),0,VLOOKUP($I17,OCT!$B$7:$D$1400,3,0)) -> 600 | O17: =IF(ISERROR(VLOOKUP($I17,NOV!$B$7:$D$1400,3,0)),0,VLOOKUP($I17,NOV!$B$7:$D$1400,3,0)) -> 600
... D22: 22241 | E22: ACHOUR Norredine | H22: 21 | I22: 22241 | J22: ACHOUR Norredine | K22: 600 | L22: =IF(ISERROR(VLOOKUP($I22,AOUT!$B$7:$D$1400,3,0)),0,VLOOKUP($I22,AOUT!$B$7:$D$1400,3,0)) -> 600 | M22: =IF(ISERROR(VLOOKUP($I22,SEPT!$B$7:$D$1400,3,0)),0,VLOOKUP($I22,SEPT!$B$7:$D$1400,3,0)) -> 600 | N22: =IF(ISERROR(VLOOKUP($I22,OCT!$B$7:$D$1400,3,0)),0,VLOOKUP($I22,OCT!$B$7:$D$1400,3,0)) -> 600 | O22: =IF(ISERROR(VLOOKUP($I22,NOV!$B$7:$D$1400,3,0)),0,VLOOKUP($I22,NOV!$B$7:$D$1400,3,0)) -> 600
A23: CE QUE JE VOUDRAI FAIRE C'EST DE CLASSER LES LISTE DE AOUT-SEP-OCT- NOV SELON "MA LISTE" ET GARDER LE MEME ORDRE C'EST COMME SI ILE SE RANGENT AUTOMATIQUEMENT | D23: 22299 | E23: ACHOUR RABIE | H23: 22 | I23: 22299 | J23: ACHOUR RABIE | K23: 600 | L23: =IF(ISERROR(VLOOKUP($I23,AOUT!$B$7:$D$1400,3,0)),0,VLOOKUP($I23,AOUT!$B$7:$D$1400,3,0)) -> 600 | M23: =IF(ISERROR(VLOOKUP($I23,SEPT!$B$7:$D$1400,3,0)),0,VLOOKUP($I23,SEPT!$B$7:$D$1400,3,0)) -> 600 | N23: =IF(ISERROR(VLOOKUP($I23,OCT!$B$7:$D$1400,3,0)),0,VLOOKUP($I23,OCT!$B$7:$D$1400,3,0)) -> 600 | O23: =IF(ISERROR(VLOOKUP($I23,NOV!$B$7:$D$1400,3,0)),0,VLOOKUP($I23,NOV!$B$7:$D$1400,3,0)) -> 600
D24: 21329 | E24: ADDA Baghdad | H24: 23 | I24: 21329 | J24: ADDA Baghdad | K24: 600 | L24: =IF(ISERROR(VLOOKUP($I24,AOUT!$B$7:$D$1400,3,0)),0,VLOOKUP($I24,AOUT!$B$7:$D$1400,3,0)) -> 600 | M24: =IF(ISERROR(VLOOKUP($I24,SEPT!$B$7:$D$1400,3,0)),0,VLOOKUP($I24,SEPT!$B$7:$D$1400,3,0)) -> 600 | N24: =IF(ISERROR(VLOOKUP($I24,OCT!$B$7:$D$1400,3,0)),0,VLOOKUP($I24,OCT!$B$7:$D$1400,3,0)) -> 600 | O24: =IF(ISERROR(VLOOKUP($I24,NOV!$B$7:$D$1400,3,0)),0,VLOOKUP($I24,NOV!$B$7:$D$1400,3,0)) -> 600
D25: 21989 | E25: ADDA MOHAMED | H25: 24 | I25: 21989 | J25: ADDA MOHAMED | K25: 600 | L25: =IF(ISERROR(VLOOKUP($I25,AOUT!$B$7:$D$1400,3,0)),0,VLOOKUP($I25,AOUT!$B$7:$D$1400,3,0)) -> 600 | M25: =IF(ISERROR(VLOOKUP($I25,SEPT!$B$7:$D$1400,3,0)),0,VLOOKUP($I25,SEPT!$B$7:$D$1400,3,0)) -> 600 | N25: =IF(ISERROR(VLOOKUP($I25,OCT!$B$7:$D$1400,3,0)),0,VLOOKUP($I25,OCT!$B$7:$D$1400,3,0)) -> 600 | O25: =IF(ISERROR(VLOOKUP($I25,NOV!$B$7:$D$1400,3,0)),0,VLOOKUP($I25,NOV!$B$7:$D$1400,3,0)) -> 600
D26: 21786 | E26: ADLAOUI Seddik | H26: 25 | I26: 21786 | J26: ADLAOUI Seddik | K26: 600 | L26: =IF(ISERROR(VLOOKUP($I26,AOUT!$B$7:$D$1400,3,0)),0,VLOOKUP($I26,AOUT!$B$7:$D$1400,3,0)) -> 600 | M26: =IF(ISERROR(VLOOKUP($I26,SEPT!$B$7:$D$1400,3,0)),0,VLOOKUP($I26,SEPT!$B$7:$D$1400,3,0)) -> 600 | N26: =IF(ISERROR(VLOOKUP($I26,OCT!$B$7:$D$1400,3,0)),0,VLOOKUP($I26,OCT!$B$7:$D$1400,3,0)) -> 600 | O26: =IF(ISERROR(VLOOKUP($I26,NOV!$B$7:$D$1400,3,0)),0,VLOOKUP($I26,NOV!$B$7:$D$1400,3,0)) -> 600
D27: 24532 | E27: AFFANE Abdelwahab | H27: 26 | I27: 24532 | J27: AFFANE Abdelwahab | K27: 600 | L27: =IF(ISERROR(VLOOKUP($I27,AOUT!$B$7:$D$1400,3,0)),0,VLOOKUP($I27,AOUT!$B$7:$D$1400,3,0)) -> 600 | M27: =IF(ISERROR(VLOOKUP($I27,SEPT!$B$7:$D$1400,3,0)),0,VLOOKUP($I27,SEPT!$B$7:$D$1400,3,0)) -> 600 | N27: =IF(ISERROR(VLOOKUP($I27,OCT!$B$7:$D$1400,3,0)),0,VLOOKUP($I27,OCT!$B$7:$D$1400,3,0)) -> 600 | O27: =IF(ISERROR(VLOOKUP($I27,NOV!$B$7:$D$1400,3,0)),0,VLOOKUP($I27,NOV!$B$7:$D$1400,3,0)) -> 600
D28: 21628 | E28: AFFOUN Moulay Safi | H28: 27 | I28: 21628 | J28: AFFOUN Moulay Safi | K28: 600 | L28: =IF(ISERROR(VLOOKUP($I28,AOUT!$B$7:$D$1400,3,0)),0,VLOOKUP($I28,AOUT!$B$7:$D$1400,3,0)) -> 600 | M28: =IF(ISERROR(VLOOKUP($I28,SEPT!$B$7:$D$1400,3,0)),0,VLOOKUP($I28,SEPT!$B$7:$D$1400,3,0)) -> 600 | N28: =IF(ISERROR(VLOOKUP($I28,OCT!$B$7:$D$1400,3,0)),0,VLOOKUP($I28,OCT!$B$7:$D$1400,3,0)) -> 600 | O28: =IF(ISERROR(VLOOKUP($I28,NOV!$B$7:$D$1400,3,0)),0,VLOOKUP($I28,NOV!$B$7:$D$1400,3,0)) -> 600
D29: 22240 | E29: AFIF Fethi | H29: 28 | I29: 22240 | J29: AFIF Fethi | K29: 600 | L29: =IF(ISERROR(VLOOKUP($I29,AOUT!$B$7:$D$1400,3,0)),0,VLOOKUP($I29,AOUT!$B$7:$D$1400,3,0)) -> 600 | M29: =IF(ISERROR(VLOOKUP($I29,SEPT!$B$7:$D$1400,3,0)),0,VLOOKUP($I29,SEPT!$B$7:$D$1400,3,0)) -> 600 | N29: =IF(ISERROR(VLOOKUP($I29,OCT!$B$7:$D$1400,3,0)),0,VLOOKUP($I29,OCT!$B$7:$D$1400,3,0)) -> 600 | O29: =IF(ISERROR(VLOOKUP($I29,NOV!$B$7:$D$1400,3,0)),0,VLOOKUP($I29,NOV!$B$7:$D$1400,3,0)) -> 600
D30: 23874 | E30: AFOUNAS KHELIFA | H30: 29 | I30: 23874 | J30: AFOUNAS KHELIFA | K30: 600 | L30: =IF(ISERROR(VLOOKUP($I30,AOUT!$B$7:$D$1400,3,0)),0,VLOOKUP($I30,AOUT!$B$7:$D$1400,3,0)) -> 600 | M30: =IF(ISERROR(VLOOKUP($I30,SEPT!$B$7:$D$1400,3,0)),0,VLOOKUP($I30,SEPT!$B$7:$D$1400,3,0)) -> 600 | N30: =IF(ISERROR(VLOOKUP($I30,OCT!$B$7:$D$1400,3,0)),0,VLOOKUP($I30,OCT!$B$7:$D$1400,3,0)) -> 600 | O30: =IF(ISERROR(VLOOKUP($I30,NOV!$B$7:$D$1400,3,0)),0,VLOOKUP($I30,NOV!$B$7:$D$1400,3,0)) -> 600
D31: 24162 | E31: AGBOUBI ABDELLAH | H31: 30 | I31: 24162 | J31: AGBOUBI ABDELLAH | K31: 600 | L31: =IF(ISERROR(VLOOKUP($I31,AOUT!$B$7:$D$1400,3,0)),0,VLOOKUP($I31,AOUT!$B$7:$D$1400,3,0)) -> 600 | M31: =IF(ISERROR(VLOOKUP($I31,SEPT!$B$7:$D$1400,3,0)),0,VLOOKUP($I31,SEPT!$B$7:$D$1400,3,0)) -> 600 | N31: =IF(ISERROR(VLOOKUP($I31,OCT!$B$7:$D$1400,3,0)),0,VLOOKUP($I31,OCT!$B$7:$D$1400,3,0)) -> 600 | O31: =IF(ISERROR(VLOOKUP($I31,NOV!$B$7:$D$1400,3,0)),0,VLOOKUP($I31,NOV!$B$7:$D$1400,3,0)) -> 600
D32: 23007 | E32: AGBOUBI ABDELWAHAB | H32: 31 | K32: 600 | L32: =IF(ISERROR(VLOOKUP($I32,AOUT!$B$7:$D$1400,3,0)),0,VLOOKUP($I32,AOUT!$B$7:$D$1400,3,0)) -> 0 | M32: =IF(ISERROR(VLOOKUP($I32,SEPT!$B$7:$D$1400,3,0)),0,VLOOKUP($I32,SEPT!$B$7:$D$1400,3,0)) -> 0 | N32: =IF(ISERROR(VLOOKUP($I32,OCT!$B$7:$D$1400,3,0)),0,VLOOKUP($I32,OCT!$B$7:$D$1400,3,0)) -> 0 | O32: =IF(ISERROR(VLOOKUP($I32,NOV!$B$7:$D$1400,3,0)),0,VLOOKUP($I32,NOV!$B$7:$D$1400,3,0)) -> 0
D33: 23322 | E33: AGHFOUL RACHID | H33: 32 | I33: 23322 | J33: AGHFOUL RACHID | K33: 600 | L33: =IF(ISERROR(VLOOKUP($I33,AOUT!$B$7:$D$1400,3,0)),0,VLOOKUP($I33,AOUT!$B$7:$D$1400,3,0)) -> 600 | M33: =IF(ISERROR(VLOOKUP($I33,SEPT!$B$7:$D$1400,3,0)),0,VLOOKUP($I33,SEPT!$B$7:$D$1400,3,0)) -> 600 | N33: =IF(ISERROR(VLOOKUP($I33,OCT!$B$7:$D$1400,3,0)),0,VLOOKUP($I33,OCT!$B$7:$D$1400,3,0)) -> 600 | O33: =IF(ISERROR(VLOOKUP($I33,NOV!$B$7:$D$1400,3,0)),0,VLOOKUP($I33,NOV!$B$7:$D$1400,3,0)) -> 600
D34: 22192 | E34: AGOUDJIL Mahmoud | H34: 33 | I34: 22192 | J34: AGOUDJIL Mahmoud | K34: 600 | L34: =IF(ISERROR(VLOOKUP($I34,AOUT!$B$7:$D$1400,3,0)),0,VLOOKUP($I34,AOUT!$B$7:$D$1400,3,0)) -> 600 | M34: =IF(ISERROR(VLOOKUP($I34,SEPT!$B$7:$D$1400,3,0)),0,VLOOKUP($I34,SEPT!$B$7:$D$1400,3,0)) -> 600 | N34: =IF(ISERROR(VLOOKUP($I34,OCT!$B$7:$D$1400,3,0)),0,VLOOKUP($I34,OCT!$B$7:$D$1400,3,0)) -> 600 | O34: =IF(ISERROR(VLOOKUP($I34,NOV!$B$7:$D$1400,3,0)),0,VLOOKUP($I34,NOV!$B$7:$D$1400,3,0)) -> 600
D35: 24007 | E35: AGUEB NEDJADI | H35: 34 | I35: 24007 | J35: AGUEB NEDJADI | K35: 600 | L35: =IF(ISERROR(VLOOKUP($I35,AOUT!$B$7:$D$1400,3,0)),0,VLOOKUP($I35,AOUT!$B$7:$D$1400,3,0)) -> 600 | M35: =IF(ISERROR(VLOOKUP($I35,SEPT!$B$7:$D$1400,3,0)),0,VLOOKUP($I35,SEPT!$B$7:$D$1400,3,0)) -> 600 | N35: =IF(ISERROR(VLOOKUP($I35,OCT!$B$7:$D$1400,3,0)),0,VLOOKUP($I35,OCT!$B$7:$D$1400,3,0)) -> 600 | O35: =IF(ISERROR(VLOOKUP($I35,NOV!$B$7:$D$1400,3,0)),0,VLOOKUP($I35,NOV!$B$7:$D$1400,3,0)) -> 600
D36: 24169 | E36: AGUENI RACHIDA | H36: 35 | I36: 24169 | J36: AGUENI RACHIDA | K36: 600 | L36: =IF(ISERROR(VLOOKUP($I36,AOUT!$B$7:$D$1400,3,0)),0,VLOOKUP($I36,AOUT!$B$7:$D$1400,3,0)) -> 0 | M36: =IF(ISERROR(VLOOKUP($I36,SEPT!$B$7:$D$1400,3,0)),0,VLOOKUP($I36,SEPT!$B$7:$D$1400,3,0)) -> 600 | N36: =IF(ISERROR(VLOOKUP($I36,OCT!$B$7:$D$1400,3,0)),0,VLOOKUP($I36,OCT!$B$7:$D$1400,3,0)) -> 600 | O36: =IF(ISERROR(VLOOKUP($I36,NOV!$B$7:$D$1400,3,0)),0,VLOOKUP($I36,NOV!$B$7:$D$1400,3,0)) -> 600
D37: 23457 | E37: AHMED BENYAHIA | H37: 36 | I37: 23457 | J37: AHMED BENYAHIA | K37: 0 | L37: =IF(ISERROR(VLOOKUP($I37,AOUT!$B$7:$D$1400,3,0)),0,VLOOKUP($I37,AOUT!$B$7:$D$1400,3,0)) -> 0 | M37: =IF(ISERROR(VLOOKUP($I37,SEPT!$B$7:$D$1400,3,0)),0,VLOOKUP($I37,SEPT!$B$7:$D$1400,3,0)) -> 0 | N37: =IF(ISERROR(VLOOKUP($I37,OCT!$B$7:$D$1400,3,0)),0,VLOOKUP($I37,OCT!$B$7:$D$1400,3,0)) -> 0 | O37: =IF(ISERROR(VLOOKUP($I37,NOV!$B$7:$D$1400,3,0)),0,VLOOKUP($I37,NOV!$B$7:$D$1400,3,0)) -> 0
D38: 22270 | E38: AHMEDI BOUDJELTHIA | H38: 37 | I38: 22270 | J38: AHMEDI BOUDJELTHIA | K38: 600 | L38: =IF(ISERROR(VLOOKUP($I38,AOUT!$B$7:$D$1400,3,0)),0,VLOOKUP($I38,AOUT!$B$7:$D$1400,3,0)) -> 600 | M38: =IF(ISERROR(VLOOKUP($I38,SEPT!$B$7:$D$1400,3,0)),0,VLOOKUP($I38,SEPT!$B$7:$D$1400,3,0)) -> 600 | N38: =IF(ISERROR(VLOOKUP($I38,OCT!$B$7:$D$1400,3,0)),0,VLOOKUP($I38,OCT!$B$7:$D$1400,3,0)) -> 600 | O38: =IF(ISERROR(VLOOKUP($I38,NOV!$B$7:$D$1400,3,0)),0,VLOOKUP($I38,NOV!$B$7:$D$1400,3,0)) -> 600
D39: 21391 | E39: AHSSEN Houari | H39: 38 | I39: 21391 | J39: AHSSEN Houari | K39: 600 | L39: =IF(ISERROR(VLOOKUP($I39,AOUT!$B$7:$D$1400,3,0)),0,VLOOKUP($I39,AOUT!$B$7:$D$1400,3,0)) -> 600 | M39: =IF(ISERROR(VLOOKUP($I39,SEPT!$B$7:$D$1400,3,0)),0,VLOOKUP($I39,SEPT!$B$7:$D$1400,3,0)) -> 600 | N39: =IF(ISERROR(VLOOKUP($I39,OCT!$B$7:$D$1400,3,0)),0,VLOOKUP($I39,OCT!$B$7:$D$1400,3,0)) -> 600 | O39: =IF(ISERROR(VLOOKUP($I39,NOV!$B$7:$D$1400,3,0)),0,VLOOKUP($I39,NOV!$B$7:$D$1400,3,0)) -> 600
D40: 23953 | E40: AICHOUCHE DJELLOUL | H40: 39 | I40: 23953 | J40: AICHOUCHE DJELLOUL | K40: 600 | L40: =IF(ISERROR(VLOOKUP($I40,AOUT!$B$7:$D$1400,3,0)),0,VLOOKUP($I40,AOUT!$B$7:$D$1400,3,0)) -> 600 | M40: =IF(ISERROR(VLOOKUP($I40,SEPT!$B$7:$D$1400,3,0)),0,VLOOKUP($I40,SEPT!$B$7:$D$1400,3,0)) -> 600 | N40: =IF(ISERROR(VLOOKUP($I40,OCT!$B$7:$D$1400,3,0)),0,VLOOKUP($I40,OCT!$B$7:$D$1400,3,0)) -> 600 | O40: =IF(ISERROR(VLOOKUP($I40,NOV!$B$7:$D$1400,3,0)),0,VLOOKUP($I40,NOV!$B$7:$D$1400,3,0)) -> 600
D41: 23863 | E41: AIS MOHAMED HICHAM | H41: 40 | I41: 23863 | J41: AIS MOHAMED HICHAM | K41: 0 | L41: =IF(ISERROR(VLOOKUP($I41,AOUT!$B$7:$D$1400,3,0)),0,VLOOKUP($I41,AOUT!$B$7:$D$1400,3,0)) -> 0 | M41: =IF(ISERROR(VLOOKUP($I41,SEPT!$B$7:$D$1400,3,0)),0,VLOOKUP($I41,SEPT!$B$7:$D$1400,3,0)) -> 600 | N41: =IF(ISERROR(VLOOKUP($I41,OCT!$B$7:$D$1400,3,0)),0,VLOOKUP($I41,OCT!$B$7:$D$1400,3,0)) -> 600 | O41: =IF(ISERROR(VLOOKUP($I41,NOV!$B$7:$D$1400,3,0)),0,VLOOKUP($I41,NOV!$B$7:$D$1400,3,0)) -> 600
D42: 22552 | E42: AISSAOUI KAMEL | H42: 41 | I42: 22552 | J42: AISSAOUI KAMEL | K42: 600 | L42: =IF(ISERROR(VLOOKUP($I42,AOUT!$B$7:$D$1400,3,0)),0,VLOOKUP($I42,AOUT!$B$7:$D$1400,3,0)) -> 600 | M42: =IF(ISERROR(VLOOKUP($I42,SEPT!$B$7:$D$1400,3,0)),0,VLOOKUP($I42,SEPT!$B$7:$D$1400,3,0)) -> 600 | N42: =IF(ISERROR(VLOOKUP($I42,OCT!$B$7:$D$1400,3,0)),0,VLOOKUP($I42,OCT!$B$7:$D$1400,3,0)) -> 600 | O42: =IF(ISERROR(VLOOKUP($I42,NOV!$B$7:$D$1400,3,0)),0,VLOOKUP($I42,NOV!$B$7:$D$1400,3,0)) -> 600
D43: 24257 | E43: AISSAOUI MOHAMMED | H43: 42 | I43: 24257 | J43: AISSAOUI MOHAMMED | K43: 600 | L43: =IF(ISERROR(VLOOKUP($I43,AOUT!$B$7:$D$1400,3,0)),0,VLOOKUP($I43,AOUT!$B$7:$D$1400,3,0)) -> 600 | M43: =IF(ISERROR(VLOOKUP($I43,SEPT!$B$7:$D$1400,3,0)),0,VLOOKUP($I43,SEPT!$B$7:$D$1400,3,0)) -> 600 | N43: =IF(ISERROR(VLOOKUP($I43,OCT!$B$7:$D$1400,3,0)),0,VLOOKUP($I43,OCT!$B$7:$D$1400,3,0)) -> 600 | O43: =IF(ISERROR(VLOOKUP($I43,NOV!$B$7:$D$1400,3,0)),0,VLOOKUP($I43,NOV!$B$7:$D$1400,3,0)) -> 600
D44: 24564 | E44: AIT YAHIA IBRAHIM | H44: 43 | I44: 24564 | J44: AIT YAHIA IBRAHIM | K44: 600 | L44: =IF(ISERROR(VLOOKUP($I44,AOUT!$B$7:$D$1400,3,0)),0,VLOOKUP($I44,AOUT!$B$7:$D$1400,3,0)) -> 600 | M44: =IF(ISERROR(VLOOKUP($I44,SEPT!$B$7:$D$1400,3,0)),0,VLOOKUP($I44,SEPT!$B$7:$D$1400,3,0)) -> 600 | N44: =IF(ISERROR(VLOOKUP($I44,OCT!$B$7:$D$1400,3,0)),0,VLOOKUP($I44,OCT!$B$7:$D$1400,3,0)) -> 600 | O44: =IF(ISERROR(VLOOKUP($I44,NOV!$B$7:$D$1400,3,0)),0,VLOOKUP($I44,NOV!$B$7:$D$1400,3,0)) -> 600
...
