Workbook

Sheet CP
A1: Nom | B1: Date embauche | C1: Droit | G1: 1ère période | K1: 2ème période | O1: 3ème période | S1: 4ème période | W1: 5ème période | AA1: Ancienneté | AD1: Recap
C2: Principaux | D2: 5ème sem. | E2: ancienneté | F2: Total | G2: Premier jour de CP | H2: Dernier jour de CP | I2: Total | J2: Samedi | K2: Premier jour de CP | L2: Dernier jour de CP | M2: Total | N2: Samedi | O2: Premier jour de CP | P2: Dernier jour de CP | Q2: Total | R2: Samedi | S2: Premier jour de CP | T2: Dernier jour de CP | U2: Total | V2: Samedi | W2: Premier jour de CP | X2: Dernier jour de CP | Y2: Total | Z2: Samedi | AA2: Premier jour de CP | AB2: Dernier jour de CP | AC2: Total | AD2: SOLDE | AE2: Samedi pris
A3: SALARIE 1 | C3: 24 | D3: 6 | E3: 3 | F3: =SUM(C3,D3,E3) -> 33 | G3: 42583 | H3: 42601 | I3: =NETWORKDAYS(G3,H3)+J3 -> 18 | J3: 3 | M3: =NETWORKDAYS(K3,L3)+N3 -> #VALUE! | N3: 0 | Q3: =NETWORKDAYS(O3,P3)+R3 -> #VALUE! | R3: 0 | U3: =NETWORKDAYS(S3,T3)+V3 -> #VALUE! | Y3: =NETWORKDAYS(W3,X3)+Z3 -> 0 | AC3: =NETWORKDAYS(AA3,AB3) -> 0 | AD3: =F3-I3-M3-Q3-U3-Y3-AC3 -> #VALUE! | AE3: =SUM(J3+N3+R3+V3+Z3) -> 3
A4: SALARIE 2 | C4: 24 | D4: 6 | E4: 3 | F4: =SUM(C4,D4,E4) -> 33 | G4: 42590 | H4: 42609 | I4: =NETWORKDAYS(G4,H4)+J4 -> 18 | J4: 3 | M4: =NETWORKDAYS(K4,L4)+N4 -> #VALUE! | N4: 0 | Q4: =NETWORKDAYS(O4,P4)+R4 -> #VALUE! | R4: 0 | U4: =NETWORKDAYS(S4,T4)+V4 -> #VALUE! | Y4: =NETWORKDAYS(W4,X4)+Z4 -> 0 | AC4: =NETWORKDAYS(AA4,AB4) -> 0 | AD4: =F4-I4-M4-Q4-U4-Y4-AC4 -> #VALUE! | AE4: =SUM(J4+N4+R4+V4+Z4) -> 3
A5: SALARIE 3 | C5: 24 | D5: 6 | E5: 6 | F5: =SUM(C5,D5,E5) -> 36 | G5: 42590 | H5: 42609 | I5: =NETWORKDAYS(G5,H5)+J5 -> 18 | J5: 3 | M5: =NETWORKDAYS(K5,L5)+N5 -> #VALUE! | N5: 0 | Q5: =NETWORKDAYS(O5,P5)+R5 -> #VALUE! | R5: 0 | U5: =NETWORKDAYS(S5,T5)+V5 -> #VALUE! | Y5: =NETWORKDAYS(W5,X5)+Z5 -> 0 | AC5: =NETWORKDAYS(AA5,AB5) -> 0 | AD5: =F5-I5-M5-Q5-U5-Y5-AC5 -> #VALUE! | AE5: =SUM(J5+N5+R5+V5+Z5) -> 3
A6: SALARIE 4 | C6: 24 | D6: 6 | E6: 0 | F6: =SUM(C6,D6,E6) -> 30 | G6: 42598 | H6: 42599 | I6: =NETWORKDAYS(G6,H6)+J6 -> 2 | J6: 0 | K6: 42604 | L6: 42616 | M6: =NETWORKDAYS(K6,L6)+N6 -> 12 | N6: 2 | Q6: =NETWORKDAYS(O6,P6)+R6 -> #VALUE! | R6: 0 | U6: =NETWORKDAYS(S6,T6)+V6 -> #VALUE! | Y6: =NETWORKDAYS(W6,X6)+Z6 -> 0 | AC6: =NETWORKDAYS(AA6,AB6) -> 0 | AD6: =F6-I6-M6-Q6-U6-Y6-AC6 -> #VALUE! | AE6: =SUM(J6+N6+R6+V6+Z6) -> 2
A7: SALARIE 5 | C7: 24 | D7: 6 | E7: 3 | F7: =SUM(C7,D7,E7) -> 33 | G7: 42569 | H7: 42595 | I7: =NETWORKDAYS(G7,H7)+J7 -> 24 | J7: 4 | M7: =NETWORKDAYS(K7,L7)+N7 -> #VALUE! | N7: 0 | Q7: =NETWORKDAYS(O7,P7)+R7 -> #VALUE! | R7: 0 | U7: =NETWORKDAYS(S7,T7)+V7 -> #VALUE! | Y7: =NETWORKDAYS(W7,X7)+Z7 -> 0 | AC7: =NETWORKDAYS(AA7,AB7) -> 0 | AD7: =F7-I7-M7-Q7-U7-Y7-AC7 -> #VALUE! | AE7: =SUM(J7+N7+R7+V7+Z7) -> 4
A8: SALARIE 6 | C8: 24 | D8: 6 | E8: 3 | F8: =SUM(C8,D8,E8) -> 33 | G8: 42590 | H8: 42619 | I8: =NETWORKDAYS(G8,H8)+J8 -> 26 | J8: 4 | M8: =NETWORKDAYS(K8,L8)+N8 -> #VALUE! | N8: 0 | Q8: =NETWORKDAYS(O8,P8)+R8 -> #VALUE! | R8: 0 | U8: =NETWORKDAYS(S8,T8)+V8 -> #VALUE! | Y8: =NETWORKDAYS(W8,X8)+Z8 -> 0 | AC8: =NETWORKDAYS(AA8,AB8) -> 0 | AD8: =F8-I8-M8-Q8-U8-Y8-AC8 -> #VALUE! | AE8: =SUM(J8+N8+R8+V8+Z8) -> 4
A9: SALARIE 7 | C9: 24 | D9: 6 | E9: 3 | F9: =SUM(C9,D9,E9) -> 33 | G9: 42583 | H9: 42604 | I9: =NETWORKDAYS(G9,H9)+J9 -> 19 | J9: 3 | M9: =NETWORKDAYS(K9,L9)+N9 -> #VALUE! | N9: 0 | Q9: =NETWORKDAYS(O9,P9)+R9 -> #VALUE! | R9: 0 | U9: =NETWORKDAYS(S9,T9)+V9 -> #VALUE! | Y9: =NETWORKDAYS(W9,X9)+Z9 -> 0 | AC9: =NETWORKDAYS(AA9,AB9) -> 0 | AD9: =F9-I9-M9-Q9-U9-Y9-AC9 -> #VALUE! | AE9: =SUM(J9+N9+R9+V9+Z9) -> 3
A10: SALARIE 8 | C10: 24 | D10: 6 | E10: 4 | F10: =SUM(C10,D10,E10) -> 34 | G10: 42496 | H10: 42496 | I10: =NETWORKDAYS(G10,H10)+J10 -> 1 | J10: 0 | K10: 42507 | L10: 42511 | M10: =NETWORKDAYS(K10,L10)+N10 -> 5 | N10: 1 | O10: 42537 | P10: 42566 | Q10: =NETWORKDAYS(O10,P10)+R10 -> 22 | R10: 0 | S10: 42590 | T10: 42609 | U10: =NETWORKDAYS(S10,T10)+V10 -> 15 | Y10: =NETWORKDAYS(W10,X10)+Z10 -> 0 | AC10: =NETWORKDAYS(AA10,AB10) -> 0 | AD10: =F10-I10-M10-Q10-U10-Y10-AC10 -> -9 | AE10: =SUM(J10+N10+R10+V10+Z10) -> 1
A11: SALARIE 9 | C11: 24 | D11: 6 | E11: 2 | F11: =SUM(C11,D11,E11) -> 32 | G11: 42607 | H11: 42609 | I11: =NETWORKDAYS(G11,H11)+J11 -> 3 | J11: 1 | M11: =NETWORKDAYS(K11,L11)+N11 -> #VALUE! | N11: 0 | Q11: =NETWORKDAYS(O11,P11)+R11 -> #VALUE! | R11: 0 | U11: =NETWORKDAYS(S11,T11)+V11 -> #VALUE! | Y11: =NETWORKDAYS(W11,X11)+Z11 -> 0 | AC11: =NETWORKDAYS(AA11,AB11) -> 0 | AD11: =F11-I11-M11-Q11-U11-Y11-AC11 -> #VALUE! | AE11: =SUM(J11+N11+R11+V11+Z11) -> 1
A12: SALARIE 10 | C12: 24 | D12: 6 | E12: 3 | F12: =SUM(C12,D12,E12) -> 33 | G12: 42583 | H12: 42595 | I12: =NETWORKDAYS(G12,H12)+J12 -> 12 | J12: 2 | M12: =NETWORKDAYS(K12,L12)+N12 -> #VALUE! | N12: 0 | Q12: =NETWORKDAYS(O12,P12)+R12 -> #VALUE! | R12: 0 | U12: =NETWORKDAYS(S12,T12)+V12 -> #VALUE! | Y12: =NETWORKDAYS(W12,X12)+Z12 -> 0 | AC12: =NETWORKDAYS(AA12,AB12) -> 0 | AD12: =F12-I12-M12-Q12-U12-Y12-AC12 -> #VALUE! | AE12: =SUM(J12+N12+R12+V12+Z12) -> 2
A13: SALARIE 11 | C13: 24 | D13: 6 | E13: 3 | F13: =SUM(C13,D13,E13) -> 33 | G13: 42562 | H13: 42581 | I13: =NETWORKDAYS(G13,H13)+J13 -> 18 | J13: 3 | M13: =NETWORKDAYS(K13,L13)+N13 -> #VALUE! | N13: 0 | Q13: =NETWORKDAYS(O13,P13)+R13 -> #VALUE! | R13: 0 | U13: =NETWORKDAYS(S13,T13)+V13 -> #VALUE! | Y13: =NETWORKDAYS(W13,X13)+Z13 -> 0 | AC13: =NETWORKDAYS(AA13,AB13) -> 0 | AD13: =F13-I13-M13-Q13-U13-Y13-AC13 -> #VALUE! | AE13: =SUM(J13+N13+R13+V13+Z13) -> 3
A14: SALARIE 12 | C14: 18 | D14: 5 | E14: 0 | F14: =SUM(C14,D14,E14) -> 23 | G14: 42598 | H14: 42616 | I14: =NETWORKDAYS(G14,H14)+J14 -> 17 | J14: 3 | M14: =NETWORKDAYS(K14,L14)+N14 -> #VALUE! | N14: 0 | Q14: =NETWORKDAYS(O14,P14)+R14 -> #VALUE! | R14: 0 | U14: =NETWORKDAYS(S14,T14)+V14 -> #VALUE! | Y14: =NETWORKDAYS(W14,X14)+Z14 -> 0 | AC14: =NETWORKDAYS(AA14,AB14) -> 0 | AD14: =F14-I14-M14-Q14-U14-Y14-AC14 -> #VALUE! | AE14: =SUM(J14+N14+R14+V14+Z14) -> 3
A15: SALARIE 13 | C15: 24 | D15: 6 | E15: 0 | F15: =SUM(C15,D15,E15) -> 30 | G15: 42576 | H15: 42588 | I15: =NETWORKDAYS(G15,H15)+J15 -> 12 | J15: 2 | M15: =NETWORKDAYS(K15,L15)+N15 -> #VALUE! | N15: 0 | Q15: =NETWORKDAYS(O15,P15)+R15 -> #VALUE! | R15: 0 | U15: =NETWORKDAYS(S15,T15)+V15 -> #VALUE! | Y15: =NETWORKDAYS(W15,X15)+Z15 -> 0 | AC15: =NETWORKDAYS(AA15,AB15) -> 0 | AD15: =F15-I15-M15-Q15-U15-Y15-AC15 -> #VALUE! | AE15: =SUM(J15+N15+R15+V15+Z15) -> 2
A16: SALARIE 14 | C16: 22 | D16: 6 | E16: 0 | F16: =SUM(C16,D16,E16) -> 28 | G16: 42611 | H16: 42616 | I16: =NETWORKDAYS(G16,H16)+J16 -> 6 | J16: 1 | M16: =NETWORKDAYS(K16,L16)+N16 -> #VALUE! | N16: 0 | Q16: =NETWORKDAYS(O16,P16)+R16 -> #VALUE! | R16: 0 | U16: =NETWORKDAYS(S16,T16)+V16 -> #VALUE! | Y16: =NETWORKDAYS(W16,X16)+Z16 -> 0 | AC16: =NETWORKDAYS(AA16,AB16) -> 0 | AD16: =F16-I16-M16-Q16-U16-Y16-AC16 -> #VALUE! | AE16: =SUM(J16+N16+R16+V16+Z16) -> 1
A17: SALARIE 15 | C17: 24 | D17: 6 | E17: 2 | F17: =SUM(C17,D17,E17) -> 32 | G17: 42548 | H17: 42564 | I17: =NETWORKDAYS(G17,H17)+J17 -> 15 | J17: 2 | M17: =NETWORKDAYS(K17,L17)+N17 -> #VALUE! | N17: 0 | Q17: =NETWORKDAYS(O17,P17)+R17 -> #VALUE! | R17: 0 | U17: =NETWORKDAYS(S17,T17)+V17 -> #VALUE! | Y17: =NETWORKDAYS(W17,X17)+Z17 -> 0 | AC17: =NETWORKDAYS(AA17,AB17) -> 0 | AD17: =F17-I17-M17-Q17-U17-Y17-AC17 -> #VALUE! | AE17: =SUM(J17+N17+R17+V17+Z17) -> 2
A18: SALARIE 16 | C18: 24 | D18: 6 | E18: 0 | F18: =SUM(C18,D18,E18) -> 30 | G18: 42569 | H18: 42583 | I18: =NETWORKDAYS(G18,H18)+J18 -> 13 | J18: 2 | K18: 42611 | L18: 42616 | M18: =NETWORKDAYS(K18,L18)+N18 -> 6 | N18: 1 | Q18: =NETWORKDAYS(O18,P18)+R18 -> #VALUE! | R18: 0 | U18: =NETWORKDAYS(S18,T18)+V18 -> #VALUE! | Y18: =NETWORKDAYS(W18,X18)+Z18 -> 0 | AC18: =NETWORKDAYS(AA18,AB18) -> 0 | AD18: =F18-I18-M18-Q18-U18-Y18-AC18 -> #VALUE! | AE18: =SUM(J18+N18+R18+V18+Z18) -> 3
A19: SALARIE 17 | C19: 24 | D19: 6 | E19: 4 | F19: =SUM(C19,D19,E19) -> 34 | G19: 42569 | H19: 42588 | I19: =NETWORKDAYS(G19,H19)+J19 -> 18 | J19: 3 | K19: 42663 | L19: 42674 | M19: =NETWORKDAYS(K19,L19)+N19 -> 10 | N19: 2 | Q19: =NETWORKDAYS(O19,P19)+R19 -> #VALUE! | R19: 0 | U19: =NETWORKDAYS(S19,T19)+V19 -> #VALUE! | Y19: =NETWORKDAYS(W19,X19)+Z19 -> 0 | AC19: =NETWORKDAYS(AA19,AB19) -> 0 | AD19: =F19-I19-M19-Q19-U19-Y19-AC19 -> #VALUE! | AE19: =SUM(J19+N19+R19+V19+Z19) -> 5
A20: SALARIE 18 | C20: 24 | D20: 6 | E20: 0 | F20: =SUM(C20,D20,E20) -> 30 | G20: 42583 | H20: 42595 | I20: =NETWORKDAYS(G20,H20)+J20 -> 12 | J20: 2 | L20: 0 | M20: =NETWORKDAYS(K20,L20)+N20 -> #VALUE! | N20: 0 | Q20: =NETWORKDAYS(O20,P20)+R20 -> #VALUE! | R20: 0 | U20: =NETWORKDAYS(S20,T20)+V20 -> #VALUE! | Y20: =NETWORKDAYS(W20,X20)+Z20 -> 0 | AC20: =NETWORKDAYS(AA20,AB20) -> 0 | AD20: =F20-I20-M20-Q20-U20-Y20-AC20 -> #VALUE! | AE20: =SUM(J20+N20+R20+V20+Z20) -> 2
A21: SALARIE 19 | C21: 24 | D21: 6 | E21: 0 | F21: =SUM(C21,D21,E21) -> 30 | G21: 42576 | H21: 42595 | I21: =NETWORKDAYS(G21,H21)+J21 -> 18 | J21: 3 | M21: =NETWORKDAYS(K21,L21)+N21 -> #VALUE! | N21: 0 | Q21: =NETWORKDAYS(O21,P21)+R21 -> #VALUE! | R21: 0 | U21: =NETWORKDAYS(S21,T21)+V21 -> #VALUE! | Y21: =NETWORKDAYS(W21,X21)+Z21 -> 0 | AC21: =NETWORKDAYS(AA21,AB21) -> 0 | AD21: =F21-I21-M21-Q21-U21-Y21-AC21 -> #VALUE! | AE21: =SUM(J21+N21+R21+V21+Z21) -> 3
A22: SALARIE 20 | C22: 24 | D22: 6 | E22: 0 | F22: =SUM(C22,D22,E22) -> 30 | G22: 42583 | H22: 42602 | I22: =NETWORKDAYS(G22,H22)+J22 -> 18 | J22: 3 | M22: =NETWORKDAYS(K22,L22)+N22 -> #VALUE! | N22: 0 | Q22: =NETWORKDAYS(O22,P22)+R22 -> #VALUE! | R22: 0 | U22: =NETWORKDAYS(S22,T22)+V22 -> #VALUE! | Y22: =NETWORKDAYS(W22,X22)+Z22 -> 0 | AC22: =NETWORKDAYS(AA22,AB22) -> 0 | AD22: =F22-I22-M22-Q22-U22-Y22-AC22 -> #VALUE! | AE22: =SUM(J22+N22+R22+V22+Z22) -> 3
A23: SALARIE 21 | C23: 24 | D23: 6 | E23: 0 | F23: =SUM(C23,D23,E23) -> 30 | I23: =NETWORKDAYS(G23,H23)+J23 -> #VALUE! | J23: 0 | M23: =NETWORKDAYS(K23,L23)+N23 -> #VALUE! | N23: 0 | Q23: =NETWORKDAYS(O23,P23)+R23 -> #VALUE! | R23: 0 | U23: =NETWORKDAYS(S23,T23)+V23 -> #VALUE! | Y23: =NETWORKDAYS(W23,X23)+Z23 -> 0 | AC23: =NETWORKDAYS(AA23,AB23) -> 0 | AD23: =F23-I23-M23-Q23-U23-Y23-AC23 -> #VALUE! | AE23: =SUM(J23+N23+R23+V23+Z23) -> 0
A24: SALARIE 22 | C24: 24 | D24: 6 | E24: 6 | F24: =SUM(C24,D24,E24) -> 36 | G24: 42576 | H24: 42595 | I24: =NETWORKDAYS(G24,H24)+J24 -> 18 | J24: 3 | M24: =NETWORKDAYS(K24,L24)+N24 -> #VALUE! | N24: 0 | Q24: =NETWORKDAYS(O24,P24)+R24 -> #VALUE! | R24: 0 | U24: =NETWORKDAYS(S24,T24)+V24 -> #VALUE! | Y24: =NETWORKDAYS(W24,X24)+Z24 -> 0 | AC24: =NETWORKDAYS(AA24,AB24) -> 0 | AD24: =F24-I24-M24-Q24-U24-Y24-AC24 -> #VALUE! | AE24: =SUM(J24+N24+R24+V24+Z24) -> 3
A25: SALARIE 23 | C25: 24 | D25: 6 | E25: 3 | F25: =SUM(C25,D25,E25) -> 33 | G25: 42625 | H25: 42637 | I25: =NETWORKDAYS(G25,H25)+J25 -> 12 | J25: 2 | M25: =NETWORKDAYS(K25,L25)+N25 -> #VALUE! | N25: 0 | Q25: =NETWORKDAYS(O25,P25)+R25 -> #VALUE! | R25: 0 | U25: =NETWORKDAYS(S25,T25)+V25 -> #VALUE! | Y25: =NETWORKDAYS(W25,X25)+Z25 -> 0 | AC25: =NETWORKDAYS(AA25,AB25) -> 0 | AD25: =F25-I25-M25-Q25-U25-Y25-AC25 -> #VALUE! | AE25: =SUM(J25+N25+R25+V25+Z25) -> 2
A26: SALARIE 24 | C26: 24 | D26: 6 | E26: 3 | F26: =SUM(C26,D26,E26) -> 33 | G26: 42569 | H26: 42574 | I26: =NETWORKDAYS(G26,H26)+J26 -> 6 | J26: 1 | K26: 42598 | L26: 42609 | M26: =NETWORKDAYS(K26,L26)+N26 -> 11 | N26: 2 | Q26: =NETWORKDAYS(O26,P26)+R26 -> #VALUE! | R26: 0 | U26: =NETWORKDAYS(S26,T26)+V26 -> #VALUE! | Y26: =NETWORKDAYS(W26,X26)+Z26 -> 0 | AC26: =NETWORKDAYS(AA26,AB26) -> 0 | AD26: =F26-I26-M26-Q26-U26-Y26-AC26 -> #VALUE! | AE26: =SUM(J26+N26+R26+V26+Z26) -> 3
A27: SALARIE 25 | C27: 24 | D27: 6 | E27: 6 | F27: =SUM(C27,D27,E27) -> 36 | I27: =NETWORKDAYS(G27,H27)+J27 -> #VALUE! | J27: 0 | M27: =NETWORKDAYS(K27,L27)+N27 -> #VALUE! | N27: 0 | Q27: =NETWORKDAYS(O27,P27)+R27 -> #VALUE! | R27: 0 | U27: =NETWORKDAYS(S27,T27)+V27 -> #VALUE! | Y27: =NETWORKDAYS(W27,X27)+Z27 -> 0 | AC27: =NETWORKDAYS(AA27,AB27) -> 0 | AD27: =F27-I27-M27-Q27-U27-Y27-AC27 -> #VALUE! | AE27: =SUM(J27+N27+R27+V27+Z27) -> 0
A28: SALARIE 26 | C28: 24 | D28: 6 | E28: 0 | F28: =SUM(C28,D28,E28) -> 30 | G28: 42583 | H28: 42602 | I28: =NETWORKDAYS(G28,H28)+J28 -> 18 | J28: 3 | M28: =NETWORKDAYS(K28,L28)+N28 -> #VALUE! | N28: 0 | Q28: =NETWORKDAYS(O28,P28)+R28 -> #VALUE! | R28: 0 | U28: =NETWORKDAYS(S28,T28)+V28 -> #VALUE! | Y28: =NETWORKDAYS(W28,X28)+Z28 -> 0 | AC28: =NETWORKDAYS(AA28,AB28) -> 0 | AD28: =F28-I28-M28-Q28-U28-Y28-AC28 -> #VALUE! | AE28: =SUM(J28+N28+R28+V28+Z28) -> 3
A29: SALARIE 27 | C29: 24 | D29: 6 | E29: 0 | F29: =SUM(C29,D29,E29) -> 30 | G29: 42598 | H29: 42618 | I29: =NETWORKDAYS(G29,H29)+J29 -> 18 | J29: 3 | M29: =NETWORKDAYS(K29,L29)+N29 -> #VALUE! | N29: 0 | Q29: =NETWORKDAYS(O29,P29)+R29 -> #VALUE! | R29: 0 | U29: =NETWORKDAYS(S29,T29)+V29 -> #VALUE! | Y29: =NETWORKDAYS(W29,X29)+Z29 -> 0 | AC29: =NETWORKDAYS(AA29,AB29) -> 0 | AD29: =F29-I29-M29-Q29-U29-Y29-AC29 -> #VALUE! | AE29: =SUM(J29+N29+R29+V29+Z29) -> 3
A30: SALARIE 28 | C30: 24 | D30: 6 | E30: 2 | F30: =SUM(C30,D30,E30) -> 32 | G30: 42569 | H30: 42588 | I30: =NETWORKDAYS(G30,H30)+J30 -> 18 | J30: 3 | M30: =NETWORKDAYS(K30,L30)+N30 -> #VALUE! | N30: 0 | Q30: =NETWORKDAYS(O30,P30)+R30 -> #VALUE! | R30: 0 | U30: =NETWORKDAYS(S30,T30)+V30 -> #VALUE! | Y30: =NETWORKDAYS(W30,X30)+Z30 -> 0 | AC30: =NETWORKDAYS(AA30,AB30) -> 0 | AD30: =F30-I30-M30-Q30-U30-Y30-AC30 -> #VALUE! | AE30: =SUM(J30+N30+R30+V30+Z30) -> 3
A31: SALARIE 29 | C31: 12 | D31: 3 | E31: 0 | F31: =SUM(C31,D31,E31) -> 15 | G31: 42598 | H31: 42609 | I31: =NETWORKDAYS(G31,H31)+J31 -> 11 | J31: 2 | M31: =NETWORKDAYS(K31,L31)+N31 -> #VALUE! | N31: 0 | Q31: =NETWORKDAYS(O31,P31)+R31 -> #VALUE! | R31: 0 | U31: =NETWORKDAYS(S31,T31)+V31 -> #VALUE! | Y31: =NETWORKDAYS(W31,X31)+Z31 -> 0 | AC31: =NETWORKDAYS(AA31,AB31) -> 0 | AD31: =F31-I31-M31-Q31-U31-Y31-AC31 -> #VALUE! | AE31: =SUM(J31+N31+R31+V31+Z31) -> 2
A32: SALARIE 30 | C32: 14 | D32: 4 | E32: 0 | F32: =SUM(C32,D32,E32) -> 18 | G32: 42592 | H32: 42608 | I32: =NETWORKDAYS(G32,H32)+J32 -> 15 | J32: 2 | M32: =NETWORKDAYS(K32,L32)+N32 -> #VALUE! | N32: 0 | Q32: =NETWORKDAYS(O32,P32)+R32 -> #VALUE! | R32: 0 | U32: =NETWORKDAYS(S32,T32)+V32 -> #VALUE! | Y32: =NETWORKDAYS(W32,X32)+Z32 -> 0 | AC32: =NETWORKDAYS(AA32,AB32) -> 0 | AD32: =F32-I32-M32-Q32-U32-Y32-AC32 -> #VALUE! | AE32: =SUM(J32+N32+R32+V32+Z32) -> 2
A33: SALARIE 31 | C33: 16 | D33: 4 | E33: 0 | F33: =SUM(C33,D33,E33) -> 20 | G33: 42593 | H33: 42609 | I33: =NETWORKDAYS(G33,H33)+J33 -> 15 | J33: 3 | K33: 42590 | L33: 42592 | M33: =NETWORKDAYS(K33,L33)+N33 -> 3 | N33: 0 | O33: 42730 | P33: 42733 | Q33: =NETWORKDAYS(O33,P33)+R33 -> 4 | R33: 0 | U33: =NETWORKDAYS(S33,T33)+V33 -> #VALUE! | Y33: =NETWORKDAYS(W33,X33)+Z33 -> 0 | AC33: =NETWORKDAYS(AA33,AB33) -> 0 | AD33: =F33-I33-M33-Q33-U33-Y33-AC33 -> #VALUE! | AE33: =SUM(J33+N33+R33+V33+Z33) -> 3
A34: SALARIE 32 | C34: 24 | D34: 6 | E34: 3 | F34: =SUM(C34,D34,E34) -> 33 | G34: 42562 | H34: 42583 | I34: =NETWORKDAYS(G34,H34)+J34 -> 19 | J34: 3 | M34: =NETWORKDAYS(K34,L34)+N34 -> #VALUE! | N34: 0 | Q34: =NETWORKDAYS(O34,P34)+R34 -> #VALUE! | R34: 0 | U34: =NETWORKDAYS(S34,T34)+V34 -> #VALUE! | Y34: =NETWORKDAYS(W34,X34)+Z34 -> 0 | AC34: =NETWORKDAYS(AA34,AB34) -> 0 | AD34: =F34-I34-M34-Q34-U34-Y34-AC34 -> #VALUE! | AE34: =SUM(J34+N34+R34+V34+Z34) -> 3
A35: SALARIE 33 | C35: 24 | D35: 6 | E35: 4 | F35: =SUM(C35,D35,E35) -> 34 | G35: 42562 | H35: 42581 | I35: =NETWORKDAYS(G35,H35)+J35 -> 18 | J35: 3 | M35: =NETWORKDAYS(K35,L35)+N35 -> #VALUE! | N35: 0 | Q35: =NETWORKDAYS(O35,P35)+R35 -> #VALUE! | R35: 0 | U35: =NETWORKDAYS(S35,T35)+V35 -> #VALUE! | Y35: =NETWORKDAYS(W35,X35)+Z35 -> 0 | AC35: =NETWORKDAYS(AA35,AB35) -> 0 | AD35: =F35-I35-M35-Q35-U35-Y35-AC35 -> #VALUE! | AE35: =SUM(J35+N35+R35+V35+Z35) -> 3
A36: SALARIE 34 | C36: 22 | D36: 6 | E36: 6 | F36: =SUM(C36,D36,E36) -> 34 | G36: 42583 | H36: 42604 | I36: =NETWORKDAYS(G36,H36)+J36 -> 19 | J36: 3 | M36: =NETWORKDAYS(K36,L36)+N36 -> #VALUE! | N36: 0 | Q36: =NETWORKDAYS(O36,P36)+R36 -> #VALUE! | R36: 0 | U36: =NETWORKDAYS(S36,T36)+V36 -> #VALUE! | Y36: =NETWORKDAYS(W36,X36)+Z36 -> 0 | AC36: =NETWORKDAYS(AA36,AB36) -> 0 | AD36: =F36-I36-M36-Q36-U36-Y36-AC36 -> #VALUE! | AE36: =SUM(J36+N36+R36+V36+Z36) -> 3
A37: SALARIE 35 | C37: 24 | D37: 6 | E37: 0 | F37: =SUM(C37,D37,E37) -> 30 | G37: 42598 | H37: 42616 | I37: =NETWORKDAYS(G37,H37)+J37 -> 17 | J37: 3 | M37: =NETWORKDAYS(K37,L37)+N37 -> #VALUE! | N37: 0 | Q37: =NETWORKDAYS(O37,P37)+R37 -> #VALUE! | R37: 0 | U37: =NETWORKDAYS(S37,T37)+V37 -> #VALUE! | Y37: =NETWORKDAYS(W37,X37)+Z37 -> 0 | AC37: =NETWORKDAYS(AA37,AB37) -> 0 | AD37: =F37-I37-M37-Q37-U37-Y37-AC37 -> #VALUE! | AE37: =SUM(J37+N37+R37+V37+Z37) -> 3
A38: SALARIE 36 | C38: 24 | D38: 6 | E38: 3 | F38: =SUM(C38,D38,E38) -> 33 | G38: 42562 | H38: 42583 | I38: =NETWORKDAYS(G38,H38)+J38 -> 19 | J38: 3 | M38: =NETWORKDAYS(K38,L38)+N38 -> #VALUE! | N38: 0 | Q38: =NETWORKDAYS(O38,P38)+R38 -> #VALUE! | R38: 0 | U38: =NETWORKDAYS(S38,T38)+V38 -> #VALUE! | Y38: =NETWORKDAYS(W38,X38)+Z38 -> 0 | AC38: =NETWORKDAYS(AA38,AB38) -> 0 | AD38: =F38-I38-M38-Q38-U38-Y38-AC38 -> #VALUE! | AE38: =SUM(J38+N38+R38+V38+Z38) -> 3
A39: SALARIE 37 | C39: 24 | D39: 6 | E39: 2 | F39: =SUM(C39,D39,E39) -> 32 | G39: 42569 | H39: 42588 | I39: =NETWORKDAYS(G39,H39)+J39 -> 18 | J39: 3 | K39: 42709 | L39: 42709 | M39: =NETWORKDAYS(K39,L39)+N39 -> 1 | N39: 0 | Q39: =NETWORKDAYS(O39,P39)+R39 -> #VALUE! | R39: 0 | U39: =NETWORKDAYS(S39,T39)+V39 -> #VALUE! | Y39: =NETWORKDAYS(W39,X39)+Z39 -> 0 | AC39: =NETWORKDAYS(AA39,AB39) -> 0 | AD39: =F39-I39-M39-Q39-U39-Y39-AC39 -> #VALUE! | AE39: =SUM(J39+N39+R39+V39+Z39) -> 3
A40: SALARIE 38 | C40: 24 | D40: 6 | E40: 0 | F40: =SUM(C40,D40,E40) -> 30 | G40: 42576 | H40: 42595 | I40: =NETWORKDAYS(G40,H40)+J40 -> 18 | J40: 3 | M40: =NETWORKDAYS(K40,L40)+N40 -> #VALUE! | N40: 0 | Q40: =NETWORKDAYS(O40,P40)+R40 -> #VALUE! | R40: 0 | U40: =NETWORKDAYS(S40,T40)+V40 -> #VALUE! | Y40: =NETWORKDAYS(W40,X40)+Z40 -> 0 | AC40: =NETWORKDAYS(AA40,AB40) -> 0 | AD40: =F40-I40-M40-Q40-U40-Y40-AC40 -> #VALUE! | AE40: =SUM(J40+N40+R40+V40+Z40) -> 3
...

Sheet RTT
A1: Nom | B1: 1er | C1: 2e | D1: 3e | E1: 4e | F1: 5e | G1: 6e | H1: 7e | I1: 8e | J1: 9e | K1: 10e | L1: 11e | M1: 12e | N1: Solde
A2: SALARIE 1 | N2: =COUNTBLANK(B2:M2) -> 12
A3: SALARIE 2 | N3: =COUNTBLANK(B3:M3) -> 12
A4: SALARIE 3 | N4: =COUNTBLANK(B4:M4) -> 12
A5: SALARIE 4 | N5: =COUNTBLANK(B5:M5) -> 12
A6: SALARIE 5 | N6: =COUNTBLANK(B6:M6) -> 12
A7: SALARIE 6 | N7: =COUNTBLANK(B7:M7) -> 12
A8: SALARIE 7 | N8: =COUNTBLANK(B8:M8) -> 12
A9: SALARIE 8 | N9: =COUNTBLANK(B9:M9) -> 12
A10: SALARIE 9 | N10: =COUNTBLANK(B10:M10) -> 12
A11: SALARIE 10 | N11: =COUNTBLANK(B11:M11) -> 12
A12: SALARIE 11 | N12: =COUNTBLANK(B12:M12) -> 12
A13: SALARIE 12 | N13: =COUNTBLANK(B13:M13) -> 12
... A49: SALARIE 48 | N49: =COUNTBLANK(B49:M49) -> 12
A50: SALARIE 49 | B50: 42432 | N50: =COUNTBLANK(B50:M50) -> 11
A51: SALARIE 50 | N51: =COUNTBLANK(B51:M51) -> 12
A52: SALARIE 51 | B52: 42416 | C52: 42461 | N52: =COUNTBLANK(B52:M52) -> 10
A53: SALARIE 52 | N53: =COUNTBLANK(B53:M53) -> 12
A54: SALARIE 53 | N54: =COUNTBLANK(B54:M54) -> 12
A55: SALARIE 54 | N55: =COUNTBLANK(B55:M55) -> 12
A56: SALARIE 55 | N56: =COUNTBLANK(B56:M56) -> 12
A57: SALARIE 56 | N57: =COUNTBLANK(B57:M57) -> 12
A58: SALARIE 57 | N58: =COUNTBLANK(B58:M58) -> 12
A59: SALARIE 58 | N59: =COUNTBLANK(B59:M59) -> 12
A60: SALARIE 59 | N60: =COUNTBLANK(B60:M60) -> 12
A61: SALARIE 60 | B61: 42405 | C61: 42419 | D61: 42447 | N61: =COUNTBLANK(B61:M61) -> 9
A62: SALARIE 61 | N62: =COUNTBLANK(B62:M62) -> 12
A63: SALARIE 62 | N63: =COUNTBLANK(B63:M63) -> 12
A64: SALARIE 63 | N64: =COUNTBLANK(B64:M64) -> 12
A65: SALARIE 64 | B65: 42411 | C65: 42412 | D65: 42415 | E65: 42416 | F65: 42439 | G65: 42445 | N65: =COUNTBLANK(B65:M65) -> 6
A66: SALARIE 65 | N66: =COUNTBLANK(B66:M66) -> 12
A67: SALARIE 66 | N67: =COUNTBLANK(B67:M67) -> 12
A68: SALARIE 67 | N68: =COUNTBLANK(B68:M68) -> 12
A69: SALARIE 68
A70: SALARIE 69
A71: SALARIE 70
A72: SALARIE 71
A73: SALARIE 72
A74: SALARIE 73
A75: SALARIE 74
...

Sheet Planning
A1: Choisissez le mois de debut : | B1: 7
A2: Choisissez l'année de debut : | B2: 2016
A4: Nom | B4: Entité | C4: =C6 -> 42552 | D4: =D6 -> 42553 | E4: =E6 -> 42554 | F4: =F6 -> 42555 | G4: =G6 -> 42556 | H4: =H6 -> 42557 | I4: =I6 -> 42558 | J4: =J6 -> 42559 | ... CP4: =CP6 -> 42643
C5: ="S"&WEEKNUM(C6,1) -> S27 | D5: ="S"&WEEKNUM(D6,1) -> S27 | E5: ="S"&WEEKNUM(E6,1) -> S28 | F5: ="S"&WEEKNUM(F6,1) -> S28 | G5: ="S"&WEEKNUM(G6,1) -> S28 | H5: ="S"&WEEKNUM(H6,1) -> S28 | I5: ="S"&WEEKNUM(I6,1) -> S28 | J5: ="S"&WEEKNUM(J6,1) -> S28 | ... CP5: ="S"&WEEKNUM(CP6,1) -> S40
C6: =DATE($B$2,$B$1,1) -> 42552 | D6: =C6+1 -> 42553 | E6: =D6+1 -> 42554 | F6: =E6+1 -> 42555 | G6: =F6+1 -> 42556 | H6: =G6+1 -> 42557 | I6: =H6+1 -> 42558 | J6: =I6+1 -> 42559 | K6: =J6+1 -> 42560 | ... CP6: =CO6+1 -> 42643
A7: AUMAND Frédéric | B7: BE | C7: =IF(OR(AND(C$6>=CP!$G3,C$6<=CP!$H3),AND(C$6>=CP!$K3,C$6<=CP!$L3),AND(C$6>=CP!$O3,C$6<=CP!$P3),AND(C$6>=CP!$S3,C$6<=CP!$T3),AND(C$6>=CP!$W3,C$6<=CP!$X3),AND(C$6>=CP!$AA3,C$6<=CP!$AB3)),"CP",IF(ISNA(HLOOKUP(C$6,RTT!$B2:$M2,1,0)),"","RTT")) | D7: =IF(OR(AND(D$6>=CP!$G3,D$6<=CP!$H3),AND(D$6>=CP!$K3,D$6<=CP!$L3),AND(D$6>=CP!$O3,D$6<=CP!$P3),AND(D$6>=CP!$S3,D$6<=CP!$T3),AND(D$6>=CP!$W3,D$6<=CP!$X3),AND(D$6>=CP!$AA3,D$6<=CP!$AB3)),"CP",IF(ISNA(HLOOKUP(D$6,RTT!$B2:$M2,1,0)),"","RTT")) | E7: =IF(OR(AND(E$6>=CP!$G3,E$6<=CP!$H3),AND(E$6>=CP!$K3,E$6<=CP!$L3),AND(E$6>=CP!$O3,E$6<=CP!$P3),AND(E$6>=CP!$S3,E$6<=CP!$T3),AND(E$6>=CP!$W3,E$6<=CP!$X3),AND(E$6>=CP!$AA3,E$6<=CP!$AB3)),"CP",IF(ISNA(HLOOKUP(E$6,RTT!$B2:$M2,1,0)),"","RTT")) | F7: =IF(OR(AND(F$6>=CP!$G3,F$6<=CP!$H3),AND(F$6>=CP!$K3,F$6<=CP!$L3),AND(F$6>=CP!$O3,F$6<=CP!$P3),AND(F$6>=CP!$S3,F$6<=CP!$T3),AND(F$6>=CP!$W3,F$6<=CP!$X3),AND(F$6>=CP!$AA3,F$6<=CP!$AB3)),"CP",IF(ISNA(HLOOKUP(F$6,RTT!$B2:$M2,1,0)),"","RTT")) | G7: =IF(OR(AND(G$6>=CP!$G3,G$6<=CP!$H3),AND(G$6>=CP!$K3,G$6<=CP!$L3),AND(G$6>=CP!$O3,G$6<=CP!$P3),AND(G$6>=CP!$S3,G$6<=CP!$T3),AND(G$6>=CP!$W3,G$6<=CP!$X3),AND(G$6>=CP!$AA3,G$6<=CP!$AB3)),"CP",IF(ISNA(HLOOKUP(G$6,RTT!$B2:$M2,1,0)),"","RTT")) | H7: =IF(OR(AND(H$6>=CP!$G3,H$6<=CP!$H3),AND(H$6>=CP!$K3,H$6<=CP!$L3),AND(H$6>=CP!$O3,H$6<=CP!$P3),AND(H$6>=CP!$S3,H$6<=CP!$T3),AND(H$6>=CP!$W3,H$6<=CP!$X3),AND(H$6>=CP!$AA3,H$6<=CP!$AB3)),"CP",IF(ISNA(HLOOKUP(H$6,RTT!$B2:$M2,1,0)),"","RTT")) | I7: =IF(OR(AND(I$6>=CP!$G3,I$6<=CP!$H3),AND(I$6>=CP!$K3,I$6<=CP!$L3),AND(I$6>=CP!$O3,I$6<=CP!$P3),AND(I$6>=CP!$S3,I$6<=CP!$T3),AND(I$6>=CP!$W3,I$6<=CP!$X3),AND(I$6>=CP!$AA3,I$6<=CP!$AB3)),"CP",IF(ISNA(HLOOKUP(I$6,RTT!$B2:$M2,1,0)),"","RTT")) | J7: =IF(OR(AND(J$6>=CP!$G3,J$6<=CP!$H3),AND(J$6>=CP!$K3,J$6<=CP!$L3),AND(J$6>=CP!$O3,J$6<=CP!$P3),AND(J$6>=CP!$S3,J$6<=CP!$T3),AND(J$6>=CP!$W3,J$6<=CP!$X3),AND(J$6>=CP!$AA3,J$6<=CP!$AB3)),"CP",IF(ISNA(HLOOKUP(J$6,RTT!$B2:$M2,1,0)),"","RTT")) | ... CP7: =IF(OR(AND(CP$6>=CP!$G3,CP$6<=CP!$H3),AND(CP$6>=CP!$K3,CP$6<=CP!$L3),AND(CP$6>=CP!$O3,CP$6<=CP!$P3),AND(CP$6>=CP!$S3,CP$6<=CP!$T3),AND(CP$6>=CP!$W3,CP$6<=CP!$X3),AND(CP$6>=CP!$AA3,CP$6<=CP!$AB3)),"CP",IF(ISNA(HLOOKUP(CP$6,RTT!$B2:$M2,1,0)),"","RTT"))
A8: BAZILE LoÏc | B8: EC | C8: =IF(OR(AND(C$6>=CP!$G4,C$6<=CP!$H4),AND(C$6>=CP!$K4,C$6<=CP!$L4),AND(C$6>=CP!$O4,C$6<=CP!$P4),AND(C$6>=CP!$S4,C$6<=CP!$T4),AND(C$6>=CP!$W4,C$6<=CP!$X4),AND(C$6>=CP!$AA4,C$6<=CP!$AB4)),"CP",IF(ISNA(HLOOKUP(C$6,RTT!$B3:$M3,1,0)),"","RTT")) | D8: =IF(OR(AND(D$6>=CP!$G4,D$6<=CP!$H4),AND(D$6>=CP!$K4,D$6<=CP!$L4),AND(D$6>=CP!$O4,D$6<=CP!$P4),AND(D$6>=CP!$S4,D$6<=CP!$T4),AND(D$6>=CP!$W4,D$6<=CP!$X4),AND(D$6>=CP!$AA4,D$6<=CP!$AB4)),"CP",IF(ISNA(HLOOKUP(D$6,RTT!$B3:$M3,1,0)),"","RTT")) | E8: =IF(OR(AND(E$6>=CP!$G4,E$6<=CP!$H4),AND(E$6>=CP!$K4,E$6<=CP!$L4),AND(E$6>=CP!$O4,E$6<=CP!$P4),AND(E$6>=CP!$S4,E$6<=CP!$T4),AND(E$6>=CP!$W4,E$6<=CP!$X4),AND(E$6>=CP!$AA4,E$6<=CP!$AB4)),"CP",IF(ISNA(HLOOKUP(E$6,RTT!$B3:$M3,1,0)),"","RTT")) | F8: =IF(OR(AND(F$6>=CP!$G4,F$6<=CP!$H4),AND(F$6>=CP!$K4,F$6<=CP!$L4),AND(F$6>=CP!$O4,F$6<=CP!$P4),AND(F$6>=CP!$S4,F$6<=CP!$T4),AND(F$6>=CP!$W4,F$6<=CP!$X4),AND(F$6>=CP!$AA4,F$6<=CP!$AB4)),"CP",IF(ISNA(HLOOKUP(F$6,RTT!$B3:$M3,1,0)),"","RTT")) | G8: =IF(OR(AND(G$6>=CP!$G4,G$6<=CP!$H4),AND(G$6>=CP!$K4,G$6<=CP!$L4),AND(G$6>=CP!$O4,G$6<=CP!$P4),AND(G$6>=CP!$S4,G$6<=CP!$T4),AND(G$6>=CP!$W4,G$6<=CP!$X4),AND(G$6>=CP!$AA4,G$6<=CP!$AB4)),"CP",IF(ISNA(HLOOKUP(G$6,RTT!$B3:$M3,1,0)),"","RTT")) | H8: =IF(OR(AND(H$6>=CP!$G4,H$6<=CP!$H4),AND(H$6>=CP!$K4,H$6<=CP!$L4),AND(H$6>=CP!$O4,H$6<=CP!$P4),AND(H$6>=CP!$S4,H$6<=CP!$T4),AND(H$6>=CP!$W4,H$6<=CP!$X4),AND(H$6>=CP!$AA4,H$6<=CP!$AB4)),"CP",IF(ISNA(HLOOKUP(H$6,RTT!$B3:$M3,1,0)),"","RTT")) | I8: =IF(OR(AND(I$6>=CP!$G4,I$6<=CP!$H4),AND(I$6>=CP!$K4,I$6<=CP!$L4),AND(I$6>=CP!$O4,I$6<=CP!$P4),AND(I$6>=CP!$S4,I$6<=CP!$T4),AND(I$6>=CP!$W4,I$6<=CP!$X4),AND(I$6>=CP!$AA4,I$6<=CP!$AB4)),"CP",IF(ISNA(HLOOKUP(I$6,RTT!$B3:$M3,1,0)),"","RTT")) | J8: =IF(OR(AND(J$6>=CP!$G4,J$6<=CP!$H4),AND(J$6>=CP!$K4,J$6<=CP!$L4),AND(J$6>=CP!$O4,J$6<=CP!$P4),AND(J$6>=CP!$S4,J$6<=CP!$T4),AND(J$6>=CP!$W4,J$6<=CP!$X4),AND(J$6>=CP!$AA4,J$6<=CP!$AB4)),"CP",IF(ISNA(HLOOKUP(J$6,RTT!$B3:$M3,1,0)),"","RTT")) | ... CP8: =IF(OR(AND(CP$6>=CP!$G4,CP$6<=CP!$H4),AND(CP$6>=CP!$K4,CP$6<=CP!$L4),AND(CP$6>=CP!$O4,CP$6<=CP!$P4),AND(CP$6>=CP!$S4,CP$6<=CP!$T4),AND(CP$6>=CP!$W4,CP$6<=CP!$X4),AND(CP$6>=CP!$AA4,CP$6<=CP!$AB4)),"CP",IF(ISNA(HLOOKUP(CP$6,RTT!$B3:$M3,1,0)),"","RTT"))
A9: BELNA Dominique | B9: C | C9: =IF(OR(AND(C$6>=CP!$G5,C$6<=CP!$H5),AND(C$6>=CP!$K5,C$6<=CP!$L5),AND(C$6>=CP!$O5,C$6<=CP!$P5),AND(C$6>=CP!$S5,C$6<=CP!$T5),AND(C$6>=CP!$W5,C$6<=CP!$X5),AND(C$6>=CP!$AA5,C$6<=CP!$AB5)),"CP",IF(ISNA(HLOOKUP(C$6,RTT!$B4:$M4,1,0)),"","RTT")) | D9: =IF(OR(AND(D$6>=CP!$G5,D$6<=CP!$H5),AND(D$6>=CP!$K5,D$6<=CP!$L5),AND(D$6>=CP!$O5,D$6<=CP!$P5),AND(D$6>=CP!$S5,D$6<=CP!$T5),AND(D$6>=CP!$W5,D$6<=CP!$X5),AND(D$6>=CP!$AA5,D$6<=CP!$AB5)),"CP",IF(ISNA(HLOOKUP(D$6,RTT!$B4:$M4,1,0)),"","RTT")) | E9: =IF(OR(AND(E$6>=CP!$G5,E$6<=CP!$H5),AND(E$6>=CP!$K5,E$6<=CP!$L5),AND(E$6>=CP!$O5,E$6<=CP!$P5),AND(E$6>=CP!$S5,E$6<=CP!$T5),AND(E$6>=CP!$W5,E$6<=CP!$X5),AND(E$6>=CP!$AA5,E$6<=CP!$AB5)),"CP",IF(ISNA(HLOOKUP(E$6,RTT!$B4:$M4,1,0)),"","RTT")) | F9: =IF(OR(AND(F$6>=CP!$G5,F$6<=CP!$H5),AND(F$6>=CP!$K5,F$6<=CP!$L5),AND(F$6>=CP!$O5,F$6<=CP!$P5),AND(F$6>=CP!$S5,F$6<=CP!$T5),AND(F$6>=CP!$W5,F$6<=CP!$X5),AND(F$6>=CP!$AA5,F$6<=CP!$AB5)),"CP",IF(ISNA(HLOOKUP(F$6,RTT!$B4:$M4,1,0)),"","RTT")) | G9: =IF(OR(AND(G$6>=CP!$G5,G$6<=CP!$H5),AND(G$6>=CP!$K5,G$6<=CP!$L5),AND(G$6>=CP!$O5,G$6<=CP!$P5),AND(G$6>=CP!$S5,G$6<=CP!$T5),AND(G$6>=CP!$W5,G$6<=CP!$X5),AND(G$6>=CP!$AA5,G$6<=CP!$AB5)),"CP",IF(ISNA(HLOOKUP(G$6,RTT!$B4:$M4,1,0)),"","RTT")) | H9: =IF(OR(AND(H$6>=CP!$G5,H$6<=CP!$H5),AND(H$6>=CP!$K5,H$6<=CP!$L5),AND(H$6>=CP!$O5,H$6<=CP!$P5),AND(H$6>=CP!$S5,H$6<=CP!$T5),AND(H$6>=CP!$W5,H$6<=CP!$X5),AND(H$6>=CP!$AA5,H$6<=CP!$AB5)),"CP",IF(ISNA(HLOOKUP(H$6,RTT!$B4:$M4,1,0)),"","RTT")) | I9: =IF(OR(AND(I$6>=CP!$G5,I$6<=CP!$H5),AND(I$6>=CP!$K5,I$6<=CP!$L5),AND(I$6>=CP!$O5,I$6<=CP!$P5),AND(I$6>=CP!$S5,I$6<=CP!$T5),AND(I$6>=CP!$W5,I$6<=CP!$X5),AND(I$6>=CP!$AA5,I$6<=CP!$AB5)),"CP",IF(ISNA(HLOOKUP(I$6,RTT!$B4:$M4,1,0)),"","RTT")) | J9: =IF(OR(AND(J$6>=CP!$G5,J$6<=CP!$H5),AND(J$6>=CP!$K5,J$6<=CP!$L5),AND(J$6>=CP!$O5,J$6<=CP!$P5),AND(J$6>=CP!$S5,J$6<=CP!$T5),AND(J$6>=CP!$W5,J$6<=CP!$X5),AND(J$6>=CP!$AA5,J$6<=CP!$AB5)),"CP",IF(ISNA(HLOOKUP(J$6,RTT!$B4:$M4,1,0)),"","RTT")) | ... CP9: =IF(OR(AND(CP$6>=CP!$G5,CP$6<=CP!$H5),AND(CP$6>=CP!$K5,CP$6<=CP!$L5),AND(CP$6>=CP!$O5,CP$6<=CP!$P5),AND(CP$6>=CP!$S5,CP$6<=CP!$T5),AND(CP$6>=CP!$W5,CP$6<=CP!$X5),AND(CP$6>=CP!$AA5,CP$6<=CP!$AB5)),"CP",IF(ISNA(HLOOKUP(CP$6,RTT!$B4:$M4,1,0)),"","RTT"))
A10: BERNARD Frédéric | B10: EC | C10: =IF(OR(AND(C$6>=CP!$G6,C$6<=CP!$H6),AND(C$6>=CP!$K6,C$6<=CP!$L6),AND(C$6>=CP!$O6,C$6<=CP!$P6),AND(C$6>=CP!$S6,C$6<=CP!$T6),AND(C$6>=CP!$W6,C$6<=CP!$X6),AND(C$6>=CP!$AA6,C$6<=CP!$AB6)),"CP",IF(ISNA(HLOOKUP(C$6,RTT!$B37:$M37,1,0)),"","RTT")) | D10: =IF(OR(AND(D$6>=CP!$G6,D$6<=CP!$H6),AND(D$6>=CP!$K6,D$6<=CP!$L6),AND(D$6>=CP!$O6,D$6<=CP!$P6),AND(D$6>=CP!$S6,D$6<=CP!$T6),AND(D$6>=CP!$W6,D$6<=CP!$X6),AND(D$6>=CP!$AA6,D$6<=CP!$AB6)),"CP",IF(ISNA(HLOOKUP(D$6,RTT!$B37:$M37,1,0)),"","RTT")) | E10: =IF(OR(AND(E$6>=CP!$G6,E$6<=CP!$H6),AND(E$6>=CP!$K6,E$6<=CP!$L6),AND(E$6>=CP!$O6,E$6<=CP!$P6),AND(E$6>=CP!$S6,E$6<=CP!$T6),AND(E$6>=CP!$W6,E$6<=CP!$X6),AND(E$6>=CP!$AA6,E$6<=CP!$AB6)),"CP",IF(ISNA(HLOOKUP(E$6,RTT!$B37:$M37,1,0)),"","RTT")) | F10: =IF(OR(AND(F$6>=CP!$G6,F$6<=CP!$H6),AND(F$6>=CP!$K6,F$6<=CP!$L6),AND(F$6>=CP!$O6,F$6<=CP!$P6),AND(F$6>=CP!$S6,F$6<=CP!$T6),AND(F$6>=CP!$W6,F$6<=CP!$X6),AND(F$6>=CP!$AA6,F$6<=CP!$AB6)),"CP",IF(ISNA(HLOOKUP(F$6,RTT!$B37:$M37,1,0)),"","RTT")) | G10: =IF(OR(AND(G$6>=CP!$G6,G$6<=CP!$H6),AND(G$6>=CP!$K6,G$6<=CP!$L6),AND(G$6>=CP!$O6,G$6<=CP!$P6),AND(G$6>=CP!$S6,G$6<=CP!$T6),AND(G$6>=CP!$W6,G$6<=CP!$X6),AND(G$6>=CP!$AA6,G$6<=CP!$AB6)),"CP",IF(ISNA(HLOOKUP(G$6,RTT!$B37:$M37,1,0)),"","RTT")) | H10: =IF(OR(AND(H$6>=CP!$G6,H$6<=CP!$H6),AND(H$6>=CP!$K6,H$6<=CP!$L6),AND(H$6>=CP!$O6,H$6<=CP!$P6),AND(H$6>=CP!$S6,H$6<=CP!$T6),AND(H$6>=CP!$W6,H$6<=CP!$X6),AND(H$6>=CP!$AA6,H$6<=CP!$AB6)),"CP",IF(ISNA(HLOOKUP(H$6,RTT!$B37:$M37,1,0)),"","RTT")) | I10: =IF(OR(AND(I$6>=CP!$G6,I$6<=CP!$H6),AND(I$6>=CP!$K6,I$6<=CP!$L6),AND(I$6>=CP!$O6,I$6<=CP!$P6),AND(I$6>=CP!$S6,I$6<=CP!$T6),AND(I$6>=CP!$W6,I$6<=CP!$X6),AND(I$6>=CP!$AA6,I$6<=CP!$AB6)),"CP",IF(ISNA(HLOOKUP(I$6,RTT!$B37:$M37,1,0)),"","RTT")) | J10: =IF(OR(AND(J$6>=CP!$G6,J$6<=CP!$H6),AND(J$6>=CP!$K6,J$6<=CP!$L6),AND(J$6>=CP!$O6,J$6<=CP!$P6),AND(J$6>=CP!$S6,J$6<=CP!$T6),AND(J$6>=CP!$W6,J$6<=CP!$X6),AND(J$6>=CP!$AA6,J$6<=CP!$AB6)),"CP",IF(ISNA(HLOOKUP(J$6,RTT!$B37:$M37,1,0)),"","RTT")) | ... CP10: =IF(OR(AND(CP$6>=CP!$G6,CP$6<=CP!$H6),AND(CP$6>=CP!$K6,CP$6<=CP!$L6),AND(CP$6>=CP!$O6,CP$6<=CP!$P6),AND(CP$6>=CP!$S6,CP$6<=CP!$T6),AND(CP$6>=CP!$W6,CP$6<=CP!$X6),AND(CP$6>=CP!$AA6,CP$6<=CP!$AB6)),"CP",IF(ISNA(HLOOKUP(CP$6,RTT!$B37:$M37,1,0)),"","RTT"))
A11: BIENVENU Guénaël | B11: EC | C11: =IF(OR(AND(C$6>=CP!$G7,C$6<=CP!$H7),AND(C$6>=CP!$K7,C$6<=CP!$L7),AND(C$6>=CP!$O7,C$6<=CP!$P7),AND(C$6>=CP!$S7,C$6<=CP!$T7),AND(C$6>=CP!$W7,C$6<=CP!$X7),AND(C$6>=CP!$AA7,C$6<=CP!$AB7)),"CP",IF(ISNA(HLOOKUP(C$6,RTT!$B38:$M38,1,0)),"","RTT")) | D11: =IF(OR(AND(D$6>=CP!$G7,D$6<=CP!$H7),AND(D$6>=CP!$K7,D$6<=CP!$L7),AND(D$6>=CP!$O7,D$6<=CP!$P7),AND(D$6>=CP!$S7,D$6<=CP!$T7),AND(D$6>=CP!$W7,D$6<=CP!$X7),AND(D$6>=CP!$AA7,D$6<=CP!$AB7)),"CP",IF(ISNA(HLOOKUP(D$6,RTT!$B38:$M38,1,0)),"","RTT")) | E11: =IF(OR(AND(E$6>=CP!$G7,E$6<=CP!$H7),AND(E$6>=CP!$K7,E$6<=CP!$L7),AND(E$6>=CP!$O7,E$6<=CP!$P7),AND(E$6>=CP!$S7,E$6<=CP!$T7),AND(E$6>=CP!$W7,E$6<=CP!$X7),AND(E$6>=CP!$AA7,E$6<=CP!$AB7)),"CP",IF(ISNA(HLOOKUP(E$6,RTT!$B38:$M38,1,0)),"","RTT")) | F11: =IF(OR(AND(F$6>=CP!$G7,F$6<=CP!$H7),AND(F$6>=CP!$K7,F$6<=CP!$L7),AND(F$6>=CP!$O7,F$6<=CP!$P7),AND(F$6>=CP!$S7,F$6<=CP!$T7),AND(F$6>=CP!$W7,F$6<=CP!$X7),AND(F$6>=CP!$AA7,F$6<=CP!$AB7)),"CP",IF(ISNA(HLOOKUP(F$6,RTT!$B38:$M38,1,0)),"","RTT")) | G11: =IF(OR(AND(G$6>=CP!$G7,G$6<=CP!$H7),AND(G$6>=CP!$K7,G$6<=CP!$L7),AND(G$6>=CP!$O7,G$6<=CP!$P7),AND(G$6>=CP!$S7,G$6<=CP!$T7),AND(G$6>=CP!$W7,G$6<=CP!$X7),AND(G$6>=CP!$AA7,G$6<=CP!$AB7)),"CP",IF(ISNA(HLOOKUP(G$6,RTT!$B38:$M38,1,0)),"","RTT")) | H11: =IF(OR(AND(H$6>=CP!$G7,H$6<=CP!$H7),AND(H$6>=CP!$K7,H$6<=CP!$L7),AND(H$6>=CP!$O7,H$6<=CP!$P7),AND(H$6>=CP!$S7,H$6<=CP!$T7),AND(H$6>=CP!$W7,H$6<=CP!$X7),AND(H$6>=CP!$AA7,H$6<=CP!$AB7)),"CP",IF(ISNA(HLOOKUP(H$6,RTT!$B38:$M38,1,0)),"","RTT")) | I11: =IF(OR(AND(I$6>=CP!$G7,I$6<=CP!$H7),AND(I$6>=CP!$K7,I$6<=CP!$L7),AND(I$6>=CP!$O7,I$6<=CP!$P7),AND(I$6>=CP!$S7,I$6<=CP!$T7),AND(I$6>=CP!$W7,I$6<=CP!$X7),AND(I$6>=CP!$AA7,I$6<=CP!$AB7)),"CP",IF(ISNA(HLOOKUP(I$6,RTT!$B38:$M38,1,0)),"","RTT")) | J11: =IF(OR(AND(J$6>=CP!$G7,J$6<=CP!$H7),AND(J$6>=CP!$K7,J$6<=CP!$L7),AND(J$6>=CP!$O7,J$6<=CP!$P7),AND(J$6>=CP!$S7,J$6<=CP!$T7),AND(J$6>=CP!$W7,J$6<=CP!$X7),AND(J$6>=CP!$AA7,J$6<=CP!$AB7)),"CP",IF(ISNA(HLOOKUP(J$6,RTT!$B38:$M38,1,0)),"","RTT")) | ... CP11: =IF(OR(AND(CP$6>=CP!$G7,CP$6<=CP!$H7),AND(CP$6>=CP!$K7,CP$6<=CP!$L7),AND(CP$6>=CP!$O7,CP$6<=CP!$P7),AND(CP$6>=CP!$S7,CP$6<=CP!$T7),AND(CP$6>=CP!$W7,CP$6<=CP!$X7),AND(CP$6>=CP!$AA7,CP$6<=CP!$AB7)),"CP",IF(ISNA(HLOOKUP(CP$6,RTT!$B38:$M38,1,0)),"","RTT"))
A12: BLANCHET Jean-Claude | B12: EC | C12: =IF(OR(AND(C$6>=CP!$G8,C$6<=CP!$H8),AND(C$6>=CP!$K8,C$6<=CP!$L8),AND(C$6>=CP!$O8,C$6<=CP!$P8),AND(C$6>=CP!$S8,C$6<=CP!$T8),AND(C$6>=CP!$W8,C$6<=CP!$X8),AND(C$6>=CP!$AA8,C$6<=CP!$AB8)),"CP",IF(ISNA(HLOOKUP(C$6,RTT!$B39:$M39,1,0)),"","RTT")) | D12: =IF(OR(AND(D$6>=CP!$G8,D$6<=CP!$H8),AND(D$6>=CP!$K8,D$6<=CP!$L8),AND(D$6>=CP!$O8,D$6<=CP!$P8),AND(D$6>=CP!$S8,D$6<=CP!$T8),AND(D$6>=CP!$W8,D$6<=CP!$X8),AND(D$6>=CP!$AA8,D$6<=CP!$AB8)),"CP",IF(ISNA(HLOOKUP(D$6,RTT!$B39:$M39,1,0)),"","RTT")) | E12: =IF(OR(AND(E$6>=CP!$G8,E$6<=CP!$H8),AND(E$6>=CP!$K8,E$6<=CP!$L8),AND(E$6>=CP!$O8,E$6<=CP!$P8),AND(E$6>=CP!$S8,E$6<=CP!$T8),AND(E$6>=CP!$W8,E$6<=CP!$X8),AND(E$6>=CP!$AA8,E$6<=CP!$AB8)),"CP",IF(ISNA(HLOOKUP(E$6,RTT!$B39:$M39,1,0)),"","RTT")) | F12: =IF(OR(AND(F$6>=CP!$G8,F$6<=CP!$H8),AND(F$6>=CP!$K8,F$6<=CP!$L8),AND(F$6>=CP!$O8,F$6<=CP!$P8),AND(F$6>=CP!$S8,F$6<=CP!$T8),AND(F$6>=CP!$W8,F$6<=CP!$X8),AND(F$6>=CP!$AA8,F$6<=CP!$AB8)),"CP",IF(ISNA(HLOOKUP(F$6,RTT!$B39:$M39,1,0)),"","RTT")) | G12: =IF(OR(AND(G$6>=CP!$G8,G$6<=CP!$H8),AND(G$6>=CP!$K8,G$6<=CP!$L8),AND(G$6>=CP!$O8,G$6<=CP!$P8),AND(G$6>=CP!$S8,G$6<=CP!$T8),AND(G$6>=CP!$W8,G$6<=CP!$X8),AND(G$6>=CP!$AA8,G$6<=CP!$AB8)),"CP",IF(ISNA(HLOOKUP(G$6,RTT!$B39:$M39,1,0)),"","RTT")) | H12: =IF(OR(AND(H$6>=CP!$G8,H$6<=CP!$H8),AND(H$6>=CP!$K8,H$6<=CP!$L8),AND(H$6>=CP!$O8,H$6<=CP!$P8),AND(H$6>=CP!$S8,H$6<=CP!$T8),AND(H$6>=CP!$W8,H$6<=CP!$X8),AND(H$6>=CP!$AA8,H$6<=CP!$AB8)),"CP",IF(ISNA(HLOOKUP(H$6,RTT!$B39:$M39,1,0)),"","RTT")) | I12: =IF(OR(AND(I$6>=CP!$G8,I$6<=CP!$H8),AND(I$6>=CP!$K8,I$6<=CP!$L8),AND(I$6>=CP!$O8,I$6<=CP!$P8),AND(I$6>=CP!$S8,I$6<=CP!$T8),AND(I$6>=CP!$W8,I$6<=CP!$X8),AND(I$6>=CP!$AA8,I$6<=CP!$AB8)),"CP",IF(ISNA(HLOOKUP(I$6,RTT!$B39:$M39,1,0)),"","RTT")) | J12: =IF(OR(AND(J$6>=CP!$G8,J$6<=CP!$H8),AND(J$6>=CP!$K8,J$6<=CP!$L8),AND(J$6>=CP!$O8,J$6<=CP!$P8),AND(J$6>=CP!$S8,J$6<=CP!$T8),AND(J$6>=CP!$W8,J$6<=CP!$X8),AND(J$6>=CP!$AA8,J$6<=CP!$AB8)),"CP",IF(ISNA(HLOOKUP(J$6,RTT!$B39:$M39,1,0)),"","RTT")) | ... CP12: =IF(OR(AND(CP$6>=CP!$G8,CP$6<=CP!$H8),AND(CP$6>=CP!$K8,CP$6<=CP!$L8),AND(CP$6>=CP!$O8,CP$6<=CP!$P8),AND(CP$6>=CP!$S8,CP$6<=CP!$T8),AND(CP$6>=CP!$W8,CP$6<=CP!$X8),AND(CP$6>=CP!$AA8,CP$6<=CP!$AB8)),"CP",IF(ISNA(HLOOKUP(CP$6,RTT!$B39:$M39,1,0)),"","RTT"))
A13: BLANDIN Sébastien | B13: BE | C13: =IF(OR(AND(C$6>=CP!$G9,C$6<=CP!$H9),AND(C$6>=CP!$K9,C$6<=CP!$L9),AND(C$6>=CP!$O9,C$6<=CP!$P9),AND(C$6>=CP!$S9,C$6<=CP!$T9),AND(C$6>=CP!$W9,C$6<=CP!$X9),AND(C$6>=CP!$AA9,C$6<=CP!$AB9)),"CP",IF(ISNA(HLOOKUP(C$6,RTT!$B53:$M53,1,0)),"","RTT")) | D13: =IF(OR(AND(D$6>=CP!$G9,D$6<=CP!$H9),AND(D$6>=CP!$K9,D$6<=CP!$L9),AND(D$6>=CP!$O9,D$6<=CP!$P9),AND(D$6>=CP!$S9,D$6<=CP!$T9),AND(D$6>=CP!$W9,D$6<=CP!$X9),AND(D$6>=CP!$AA9,D$6<=CP!$AB9)),"CP",IF(ISNA(HLOOKUP(D$6,RTT!$B53:$M53,1,0)),"","RTT")) | E13: =IF(OR(AND(E$6>=CP!$G9,E$6<=CP!$H9),AND(E$6>=CP!$K9,E$6<=CP!$L9),AND(E$6>=CP!$O9,E$6<=CP!$P9),AND(E$6>=CP!$S9,E$6<=CP!$T9),AND(E$6>=CP!$W9,E$6<=CP!$X9),AND(E$6>=CP!$AA9,E$6<=CP!$AB9)),"CP",IF(ISNA(HLOOKUP(E$6,RTT!$B53:$M53,1,0)),"","RTT")) | F13: =IF(OR(AND(F$6>=CP!$G9,F$6<=CP!$H9),AND(F$6>=CP!$K9,F$6<=CP!$L9),AND(F$6>=CP!$O9,F$6<=CP!$P9),AND(F$6>=CP!$S9,F$6<=CP!$T9),AND(F$6>=CP!$W9,F$6<=CP!$X9),AND(F$6>=CP!$AA9,F$6<=CP!$AB9)),"CP",IF(ISNA(HLOOKUP(F$6,RTT!$B53:$M53,1,0)),"","RTT")) | G13: =IF(OR(AND(G$6>=CP!$G9,G$6<=CP!$H9),AND(G$6>=CP!$K9,G$6<=CP!$L9),AND(G$6>=CP!$O9,G$6<=CP!$P9),AND(G$6>=CP!$S9,G$6<=CP!$T9),AND(G$6>=CP!$W9,G$6<=CP!$X9),AND(G$6>=CP!$AA9,G$6<=CP!$AB9)),"CP",IF(ISNA(HLOOKUP(G$6,RTT!$B53:$M53,1,0)),"","RTT")) | H13: =IF(OR(AND(H$6>=CP!$G9,H$6<=CP!$H9),AND(H$6>=CP!$K9,H$6<=CP!$L9),AND(H$6>=CP!$O9,H$6<=CP!$P9),AND(H$6>=CP!$S9,H$6<=CP!$T9),AND(H$6>=CP!$W9,H$6<=CP!$X9),AND(H$6>=CP!$AA9,H$6<=CP!$AB9)),"CP",IF(ISNA(HLOOKUP(H$6,RTT!$B53:$M53,1,0)),"","RTT")) | I13: =IF(OR(AND(I$6>=CP!$G9,I$6<=CP!$H9),AND(I$6>=CP!$K9,I$6<=CP!$L9),AND(I$6>=CP!$O9,I$6<=CP!$P9),AND(I$6>=CP!$S9,I$6<=CP!$T9),AND(I$6>=CP!$W9,I$6<=CP!$X9),AND(I$6>=CP!$AA9,I$6<=CP!$AB9)),"CP",IF(ISNA(HLOOKUP(I$6,RTT!$B53:$M53,1,0)),"","RTT")) | J13: =IF(OR(AND(J$6>=CP!$G9,J$6<=CP!$H9),AND(J$6>=CP!$K9,J$6<=CP!$L9),AND(J$6>=CP!$O9,J$6<=CP!$P9),AND(J$6>=CP!$S9,J$6<=CP!$T9),AND(J$6>=CP!$W9,J$6<=CP!$X9),AND(J$6>=CP!$AA9,J$6<=CP!$AB9)),"CP",IF(ISNA(HLOOKUP(J$6,RTT!$B53:$M53,1,0)),"","RTT")) | ... CP13: =IF(OR(AND(CP$6>=CP!$G9,CP$6<=CP!$H9),AND(CP$6>=CP!$K9,CP$6<=CP!$L9),AND(CP$6>=CP!$O9,CP$6<=CP!$P9),AND(CP$6>=CP!$S9,CP$6<=CP!$T9),AND(CP$6>=CP!$W9,CP$6<=CP!$X9),AND(CP$6>=CP!$AA9,CP$6<=CP!$AB9)),"CP",IF(ISNA(HLOOKUP(CP$6,RTT!$B53:$M53,1,0)),"","RTT"))
A14: BODIN Christophe | B14: C | C14: =IF(OR(AND(C$6>=CP!$G10,C$6<=CP!$H10),AND(C$6>=CP!$K10,C$6<=CP!$L10),AND(C$6>=CP!$O10,C$6<=CP!$P10),AND(C$6>=CP!$S10,C$6<=CP!$T10),AND(C$6>=CP!$W10,C$6<=CP!$X10),AND(C$6>=CP!$AA10,C$6<=CP!$AB10)),"CP",IF(ISNA(HLOOKUP(C$6,RTT!$B54:$M54,1,0)),"","RTT")) -> CP | D14: =IF(OR(AND(D$6>=CP!$G10,D$6<=CP!$H10),AND(D$6>=CP!$K10,D$6<=CP!$L10),AND(D$6>=CP!$O10,D$6<=CP!$P10),AND(D$6>=CP!$S10,D$6<=CP!$T10),AND(D$6>=CP!$W10,D$6<=CP!$X10),AND(D$6>=CP!$AA10,D$6<=CP!$AB10)),"CP",IF(ISNA(HLOOKUP(D$6,RTT!$B54:$M54,1,0)),"","RTT")) -> CP | E14: =IF(OR(AND(E$6>=CP!$G10,E$6<=CP!$H10),AND(E$6>=CP!$K10,E$6<=CP!$L10),AND(E$6>=CP!$O10,E$6<=CP!$P10),AND(E$6>=CP!$S10,E$6<=CP!$T10),AND(E$6>=CP!$W10,E$6<=CP!$X10),AND(E$6>=CP!$AA10,E$6<=CP!$AB10)),"CP",IF(ISNA(HLOOKUP(E$6,RTT!$B54:$M54,1,0)),"","RTT")) -> CP | F14: =IF(OR(AND(F$6>=CP!$G10,F$6<=CP!$H10),AND(F$6>=CP!$K10,F$6<=CP!$L10),AND(F$6>=CP!$O10,F$6<=CP!$P10),AND(F$6>=CP!$S10,F$6<=CP!$T10),AND(F$6>=CP!$W10,F$6<=CP!$X10),AND(F$6>=CP!$AA10,F$6<=CP!$AB10)),"CP",IF(ISNA(HLOOKUP(F$6,RTT!$B54:$M54,1,0)),"","RTT")) -> CP | G14: =IF(OR(AND(G$6>=CP!$G10,G$6<=CP!$H10),AND(G$6>=CP!$K10,G$6<=CP!$L10),AND(G$6>=CP!$O10,G$6<=CP!$P10),AND(G$6>=CP!$S10,G$6<=CP!$T10),AND(G$6>=CP!$W10,G$6<=CP!$X10),AND(G$6>=CP!$AA10,G$6<=CP!$AB10)),"CP",IF(ISNA(HLOOKUP(G$6,RTT!$B54:$M54,1,0)),"","RTT")) -> CP | H14: =IF(OR(AND(H$6>=CP!$G10,H$6<=CP!$H10),AND(H$6>=CP!$K10,H$6<=CP!$L10),AND(H$6>=CP!$O10,H$6<=CP!$P10),AND(H$6>=CP!$S10,H$6<=CP!$T10),AND(H$6>=CP!$W10,H$6<=CP!$X10),AND(H$6>=CP!$AA10,H$6<=CP!$AB10)),"CP",IF(ISNA(HLOOKUP(H$6,RTT!$B54:$M54,1,0)),"","RTT")) -> CP | I14: =IF(OR(AND(I$6>=CP!$G10,I$6<=CP!$H10),AND(I$6>=CP!$K10,I$6<=CP!$L10),AND(I$6>=CP!$O10,I$6<=CP!$P10),AND(I$6>=CP!$S10,I$6<=CP!$T10),AND(I$6>=CP!$W10,I$6<=CP!$X10),AND(I$6>=CP!$AA10,I$6<=CP!$AB10)),"CP",IF(ISNA(HLOOKUP(I$6,RTT!$B54:$M54,1,0)),"","RTT")) -> CP | J14: =IF(OR(AND(J$6>=CP!$G10,J$6<=CP!$H10),AND(J$6>=CP!$K10,J$6<=CP!$L10),AND(J$6>=CP!$O10,J$6<=CP!$P10),AND(J$6>=CP!$S10,J$6<=CP!$T10),AND(J$6>=CP!$W10,J$6<=CP!$X10),AND(J$6>=CP!$AA10,J$6<=CP!$AB10)),"CP",IF(ISNA(HLOOKUP(J$6,RTT!$B54:$M54,1,0)),"","RTT")) -> CP | ... CP14: =IF(OR(AND(CP$6>=CP!$G10,CP$6<=CP!$H10),AND(CP$6>=CP!$K10,CP$6<=CP!$L10),AND(CP$6>=CP!$O10,CP$6<=CP!$P10),AND(CP$6>=CP!$S10,CP$6<=CP!$T10),AND(CP$6>=CP!$W10,CP$6<=CP!$X10),AND(CP$6>=CP!$AA10,CP$6<=CP!$AB10)),"CP",IF(ISNA(HLOOKUP(CP$6,RTT!$B54:$M54,1,0)),"","RTT"))
A15: BRARD Stéphane | B15: ENC | C15: =IF(OR(AND(C$6>=CP!$G11,C$6<=CP!$H11),AND(C$6>=CP!$K11,C$6<=CP!$L11),AND(C$6>=CP!$O11,C$6<=CP!$P11),AND(C$6>=CP!$S11,C$6<=CP!$T11),AND(C$6>=CP!$W11,C$6<=CP!$X11),AND(C$6>=CP!$AA11,C$6<=CP!$AB11)),"CP",IF(ISNA(HLOOKUP(C$6,RTT!$B55:$M55,1,0)),"","RTT")) | D15: =IF(OR(AND(D$6>=CP!$G11,D$6<=CP!$H11),AND(D$6>=CP!$K11,D$6<=CP!$L11),AND(D$6>=CP!$O11,D$6<=CP!$P11),AND(D$6>=CP!$S11,D$6<=CP!$T11),AND(D$6>=CP!$W11,D$6<=CP!$X11),AND(D$6>=CP!$AA11,D$6<=CP!$AB11)),"CP",IF(ISNA(HLOOKUP(D$6,RTT!$B55:$M55,1,0)),"","RTT")) | E15: =IF(OR(AND(E$6>=CP!$G11,E$6<=CP!$H11),AND(E$6>=CP!$K11,E$6<=CP!$L11),AND(E$6>=CP!$O11,E$6<=CP!$P11),AND(E$6>=CP!$S11,E$6<=CP!$T11),AND(E$6>=CP!$W11,E$6<=CP!$X11),AND(E$6>=CP!$AA11,E$6<=CP!$AB11)),"CP",IF(ISNA(HLOOKUP(E$6,RTT!$B55:$M55,1,0)),"","RTT")) | F15: =IF(OR(AND(F$6>=CP!$G11,F$6<=CP!$H11),AND(F$6>=CP!$K11,F$6<=CP!$L11),AND(F$6>=CP!$O11,F$6<=CP!$P11),AND(F$6>=CP!$S11,F$6<=CP!$T11),AND(F$6>=CP!$W11,F$6<=CP!$X11),AND(F$6>=CP!$AA11,F$6<=CP!$AB11)),"CP",IF(ISNA(HLOOKUP(F$6,RTT!$B55:$M55,1,0)),"","RTT")) | G15: =IF(OR(AND(G$6>=CP!$G11,G$6<=CP!$H11),AND(G$6>=CP!$K11,G$6<=CP!$L11),AND(G$6>=CP!$O11,G$6<=CP!$P11),AND(G$6>=CP!$S11,G$6<=CP!$T11),AND(G$6>=CP!$W11,G$6<=CP!$X11),AND(G$6>=CP!$AA11,G$6<=CP!$AB11)),"CP",IF(ISNA(HLOOKUP(G$6,RTT!$B55:$M55,1,0)),"","RTT")) | H15: =IF(OR(AND(H$6>=CP!$G11,H$6<=CP!$H11),AND(H$6>=CP!$K11,H$6<=CP!$L11),AND(H$6>=CP!$O11,H$6<=CP!$P11),AND(H$6>=CP!$S11,H$6<=CP!$T11),AND(H$6>=CP!$W11,H$6<=CP!$X11),AND(H$6>=CP!$AA11,H$6<=CP!$AB11)),"CP",IF(ISNA(HLOOKUP(H$6,RTT!$B55:$M55,1,0)),"","RTT")) | I15: =IF(OR(AND(I$6>=CP!$G11,I$6<=CP!$H11),AND(I$6>=CP!$K11,I$6<=CP!$L11),AND(I$6>=CP!$O11,I$6<=CP!$P11),AND(I$6>=CP!$S11,I$6<=CP!$T11),AND(I$6>=CP!$W11,I$6<=CP!$X11),AND(I$6>=CP!$AA11,I$6<=CP!$AB11)),"CP",IF(ISNA(HLOOKUP(I$6,RTT!$B55:$M55,1,0)),"","RTT")) | J15: =IF(OR(AND(J$6>=CP!$G11,J$6<=CP!$H11),AND(J$6>=CP!$K11,J$6<=CP!$L11),AND(J$6>=CP!$O11,J$6<=CP!$P11),AND(J$6>=CP!$S11,J$6<=CP!$T11),AND(J$6>=CP!$W11,J$6<=CP!$X11),AND(J$6>=CP!$AA11,J$6<=CP!$AB11)),"CP",IF(ISNA(HLOOKUP(J$6,RTT!$B55:$M55,1,0)),"","RTT")) | ... CP15: =IF(OR(AND(CP$6>=CP!$G11,CP$6<=CP!$H11),AND(CP$6>=CP!$K11,CP$6<=CP!$L11),AND(CP$6>=CP!$O11,CP$6<=CP!$P11),AND(CP$6>=CP!$S11,CP$6<=CP!$T11),AND(CP$6>=CP!$W11,CP$6<=CP!$X11),AND(CP$6>=CP!$AA11,CP$6<=CP!$AB11)),"CP",IF(ISNA(HLOOKUP(CP$6,RTT!$B55:$M55,1,0)),"","RTT"))
A16: CHALLANDES Gladys | B16: ADMIN | C16: =IF(OR(AND(C$6>=CP!$G12,C$6<=CP!$H12),AND(C$6>=CP!$K12,C$6<=CP!$L12),AND(C$6>=CP!$O12,C$6<=CP!$P12),AND(C$6>=CP!$S12,C$6<=CP!$T12),AND(C$6>=CP!$W12,C$6<=CP!$X12),AND(C$6>=CP!$AA12,C$6<=CP!$AB12)),"CP",IF(ISNA(HLOOKUP(C$6,RTT!$B56:$M56,1,0)),"","RTT")) | D16: =IF(OR(AND(D$6>=CP!$G12,D$6<=CP!$H12),AND(D$6>=CP!$K12,D$6<=CP!$L12),AND(D$6>=CP!$O12,D$6<=CP!$P12),AND(D$6>=CP!$S12,D$6<=CP!$T12),AND(D$6>=CP!$W12,D$6<=CP!$X12),AND(D$6>=CP!$AA12,D$6<=CP!$AB12)),"CP",IF(ISNA(HLOOKUP(D$6,RTT!$B56:$M56,1,0)),"","RTT")) | E16: =IF(OR(AND(E$6>=CP!$G12,E$6<=CP!$H12),AND(E$6>=CP!$K12,E$6<=CP!$L12),AND(E$6>=CP!$O12,E$6<=CP!$P12),AND(E$6>=CP!$S12,E$6<=CP!$T12),AND(E$6>=CP!$W12,E$6<=CP!$X12),AND(E$6>=CP!$AA12,E$6<=CP!$AB12)),"CP",IF(ISNA(HLOOKUP(E$6,RTT!$B56:$M56,1,0)),"","RTT")) | F16: =IF(OR(AND(F$6>=CP!$G12,F$6<=CP!$H12),AND(F$6>=CP!$K12,F$6<=CP!$L12),AND(F$6>=CP!$O12,F$6<=CP!$P12),AND(F$6>=CP!$S12,F$6<=CP!$T12),AND(F$6>=CP!$W12,F$6<=CP!$X12),AND(F$6>=CP!$AA12,F$6<=CP!$AB12)),"CP",IF(ISNA(HLOOKUP(F$6,RTT!$B56:$M56,1,0)),"","RTT")) | G16: =IF(OR(AND(G$6>=CP!$G12,G$6<=CP!$H12),AND(G$6>=CP!$K12,G$6<=CP!$L12),AND(G$6>=CP!$O12,G$6<=CP!$P12),AND(G$6>=CP!$S12,G$6<=CP!$T12),AND(G$6>=CP!$W12,G$6<=CP!$X12),AND(G$6>=CP!$AA12,G$6<=CP!$AB12)),"CP",IF(ISNA(HLOOKUP(G$6,RTT!$B56:$M56,1,0)),"","RTT")) | H16: =IF(OR(AND(H$6>=CP!$G12,H$6<=CP!$H12),AND(H$6>=CP!$K12,H$6<=CP!$L12),AND(H$6>=CP!$O12,H$6<=CP!$P12),AND(H$6>=CP!$S12,H$6<=CP!$T12),AND(H$6>=CP!$W12,H$6<=CP!$X12),AND(H$6>=CP!$AA12,H$6<=CP!$AB12)),"CP",IF(ISNA(HLOOKUP(H$6,RTT!$B56:$M56,1,0)),"","RTT")) | I16: =IF(OR(AND(I$6>=CP!$G12,I$6<=CP!$H12),AND(I$6>=CP!$K12,I$6<=CP!$L12),AND(I$6>=CP!$O12,I$6<=CP!$P12),AND(I$6>=CP!$S12,I$6<=CP!$T12),AND(I$6>=CP!$W12,I$6<=CP!$X12),AND(I$6>=CP!$AA12,I$6<=CP!$AB12)),"CP",IF(ISNA(HLOOKUP(I$6,RTT!$B56:$M56,1,0)),"","RTT")) | J16: =IF(OR(AND(J$6>=CP!$G12,J$6<=CP!$H12),AND(J$6>=CP!$K12,J$6<=CP!$L12),AND(J$6>=CP!$O12,J$6<=CP!$P12),AND(J$6>=CP!$S12,J$6<=CP!$T12),AND(J$6>=CP!$W12,J$6<=CP!$X12),AND(J$6>=CP!$AA12,J$6<=CP!$AB12)),"CP",IF(ISNA(HLOOKUP(J$6,RTT!$B56:$M56,1,0)),"","RTT")) | ... CP16: =IF(OR(AND(CP$6>=CP!$G12,CP$6<=CP!$H12),AND(CP$6>=CP!$K12,CP$6<=CP!$L12),AND(CP$6>=CP!$O12,CP$6<=CP!$P12),AND(CP$6>=CP!$S12,CP$6<=CP!$T12),AND(CP$6>=CP!$W12,CP$6<=CP!$X12),AND(CP$6>=CP!$AA12,CP$6<=CP!$AB12)),"CP",IF(ISNA(HLOOKUP(CP$6,RTT!$B56:$M56,1,0)),"","RTT"))
A17: CHRETIEN Eric | B17: ADMIN | C17: =IF(OR(AND(C$6>=CP!$G13,C$6<=CP!$H13),AND(C$6>=CP!$K13,C$6<=CP!$L13),AND(C$6>=CP!$O13,C$6<=CP!$P13),AND(C$6>=CP!$S13,C$6<=CP!$T13),AND(C$6>=CP!$W13,C$6<=CP!$X13),AND(C$6>=CP!$AA13,C$6<=CP!$AB13)),"CP",IF(ISNA(HLOOKUP(C$6,RTT!$B57:$M57,1,0)),"","RTT")) | D17: =IF(OR(AND(D$6>=CP!$G13,D$6<=CP!$H13),AND(D$6>=CP!$K13,D$6<=CP!$L13),AND(D$6>=CP!$O13,D$6<=CP!$P13),AND(D$6>=CP!$S13,D$6<=CP!$T13),AND(D$6>=CP!$W13,D$6<=CP!$X13),AND(D$6>=CP!$AA13,D$6<=CP!$AB13)),"CP",IF(ISNA(HLOOKUP(D$6,RTT!$B57:$M57,1,0)),"","RTT")) | E17: =IF(OR(AND(E$6>=CP!$G13,E$6<=CP!$H13),AND(E$6>=CP!$K13,E$6<=CP!$L13),AND(E$6>=CP!$O13,E$6<=CP!$P13),AND(E$6>=CP!$S13,E$6<=CP!$T13),AND(E$6>=CP!$W13,E$6<=CP!$X13),AND(E$6>=CP!$AA13,E$6<=CP!$AB13)),"CP",IF(ISNA(HLOOKUP(E$6,RTT!$B57:$M57,1,0)),"","RTT")) | F17: =IF(OR(AND(F$6>=CP!$G13,F$6<=CP!$H13),AND(F$6>=CP!$K13,F$6<=CP!$L13),AND(F$6>=CP!$O13,F$6<=CP!$P13),AND(F$6>=CP!$S13,F$6<=CP!$T13),AND(F$6>=CP!$W13,F$6<=CP!$X13),AND(F$6>=CP!$AA13,F$6<=CP!$AB13)),"CP",IF(ISNA(HLOOKUP(F$6,RTT!$B57:$M57,1,0)),"","RTT")) | G17: =IF(OR(AND(G$6>=CP!$G13,G$6<=CP!$H13),AND(G$6>=CP!$K13,G$6<=CP!$L13),AND(G$6>=CP!$O13,G$6<=CP!$P13),AND(G$6>=CP!$S13,G$6<=CP!$T13),AND(G$6>=CP!$W13,G$6<=CP!$X13),AND(G$6>=CP!$AA13,G$6<=CP!$AB13)),"CP",IF(ISNA(HLOOKUP(G$6,RTT!$B57:$M57,1,0)),"","RTT")) | H17: =IF(OR(AND(H$6>=CP!$G13,H$6<=CP!$H13),AND(H$6>=CP!$K13,H$6<=CP!$L13),AND(H$6>=CP!$O13,H$6<=CP!$P13),AND(H$6>=CP!$S13,H$6<=CP!$T13),AND(H$6>=CP!$W13,H$6<=CP!$X13),AND(H$6>=CP!$AA13,H$6<=CP!$AB13)),"CP",IF(ISNA(HLOOKUP(H$6,RTT!$B57:$M57,1,0)),"","RTT")) | I17: =IF(OR(AND(I$6>=CP!$G13,I$6<=CP!$H13),AND(I$6>=CP!$K13,I$6<=CP!$L13),AND(I$6>=CP!$O13,I$6<=CP!$P13),AND(I$6>=CP!$S13,I$6<=CP!$T13),AND(I$6>=CP!$W13,I$6<=CP!$X13),AND(I$6>=CP!$AA13,I$6<=CP!$AB13)),"CP",IF(ISNA(HLOOKUP(I$6,RTT!$B57:$M57,1,0)),"","RTT")) | J17: =IF(OR(AND(J$6>=CP!$G13,J$6<=CP!$H13),AND(J$6>=CP!$K13,J$6<=CP!$L13),AND(J$6>=CP!$O13,J$6<=CP!$P13),AND(J$6>=CP!$S13,J$6<=CP!$T13),AND(J$6>=CP!$W13,J$6<=CP!$X13),AND(J$6>=CP!$AA13,J$6<=CP!$AB13)),"CP",IF(ISNA(HLOOKUP(J$6,RTT!$B57:$M57,1,0)),"","RTT")) | ... CP17: =IF(OR(AND(CP$6>=CP!$G13,CP$6<=CP!$H13),AND(CP$6>=CP!$K13,CP$6<=CP!$L13),AND(CP$6>=CP!$O13,CP$6<=CP!$P13),AND(CP$6>=CP!$S13,CP$6<=CP!$T13),AND(CP$6>=CP!$W13,CP$6<=CP!$X13),AND(CP$6>=CP!$AA13,CP$6<=CP!$AB13)),"CP",IF(ISNA(HLOOKUP(CP$6,RTT!$B57:$M57,1,0)),"","RTT"))
A18: CLERO Raphaël | B18: ENC | C18: =IF(OR(AND(C$6>=CP!$G14,C$6<=CP!$H14),AND(C$6>=CP!$K14,C$6<=CP!$L14),AND(C$6>=CP!$O14,C$6<=CP!$P14),AND(C$6>=CP!$S14,C$6<=CP!$T14),AND(C$6>=CP!$W14,C$6<=CP!$X14),AND(C$6>=CP!$AA14,C$6<=CP!$AB14)),"CP",IF(ISNA(HLOOKUP(C$6,RTT!$B58:$M58,1,0)),"","RTT")) | D18: =IF(OR(AND(D$6>=CP!$G14,D$6<=CP!$H14),AND(D$6>=CP!$K14,D$6<=CP!$L14),AND(D$6>=CP!$O14,D$6<=CP!$P14),AND(D$6>=CP!$S14,D$6<=CP!$T14),AND(D$6>=CP!$W14,D$6<=CP!$X14),AND(D$6>=CP!$AA14,D$6<=CP!$AB14)),"CP",IF(ISNA(HLOOKUP(D$6,RTT!$B58:$M58,1,0)),"","RTT")) | E18: =IF(OR(AND(E$6>=CP!$G14,E$6<=CP!$H14),AND(E$6>=CP!$K14,E$6<=CP!$L14),AND(E$6>=CP!$O14,E$6<=CP!$P14),AND(E$6>=CP!$S14,E$6<=CP!$T14),AND(E$6>=CP!$W14,E$6<=CP!$X14),AND(E$6>=CP!$AA14,E$6<=CP!$AB14)),"CP",IF(ISNA(HLOOKUP(E$6,RTT!$B58:$M58,1,0)),"","RTT")) | F18: =IF(OR(AND(F$6>=CP!$G14,F$6<=CP!$H14),AND(F$6>=CP!$K14,F$6<=CP!$L14),AND(F$6>=CP!$O14,F$6<=CP!$P14),AND(F$6>=CP!$S14,F$6<=CP!$T14),AND(F$6>=CP!$W14,F$6<=CP!$X14),AND(F$6>=CP!$AA14,F$6<=CP!$AB14)),"CP",IF(ISNA(HLOOKUP(F$6,RTT!$B58:$M58,1,0)),"","RTT")) | G18: =IF(OR(AND(G$6>=CP!$G14,G$6<=CP!$H14),AND(G$6>=CP!$K14,G$6<=CP!$L14),AND(G$6>=CP!$O14,G$6<=CP!$P14),AND(G$6>=CP!$S14,G$6<=CP!$T14),AND(G$6>=CP!$W14,G$6<=CP!$X14),AND(G$6>=CP!$AA14,G$6<=CP!$AB14)),"CP",IF(ISNA(HLOOKUP(G$6,RTT!$B58:$M58,1,0)),"","RTT")) | H18: =IF(OR(AND(H$6>=CP!$G14,H$6<=CP!$H14),AND(H$6>=CP!$K14,H$6<=CP!$L14),AND(H$6>=CP!$O14,H$6<=CP!$P14),AND(H$6>=CP!$S14,H$6<=CP!$T14),AND(H$6>=CP!$W14,H$6<=CP!$X14),AND(H$6>=CP!$AA14,H$6<=CP!$AB14)),"CP",IF(ISNA(HLOOKUP(H$6,RTT!$B58:$M58,1,0)),"","RTT")) | I18: =IF(OR(AND(I$6>=CP!$G14,I$6<=CP!$H14),AND(I$6>=CP!$K14,I$6<=CP!$L14),AND(I$6>=CP!$O14,I$6<=CP!$P14),AND(I$6>=CP!$S14,I$6<=CP!$T14),AND(I$6>=CP!$W14,I$6<=CP!$X14),AND(I$6>=CP!$AA14,I$6<=CP!$AB14)),"CP",IF(ISNA(HLOOKUP(I$6,RTT!$B58:$M58,1,0)),"","RTT")) | J18: =IF(OR(AND(J$6>=CP!$G14,J$6<=CP!$H14),AND(J$6>=CP!$K14,J$6<=CP!$L14),AND(J$6>=CP!$O14,J$6<=CP!$P14),AND(J$6>=CP!$S14,J$6<=CP!$T14),AND(J$6>=CP!$W14,J$6<=CP!$X14),AND(J$6>=CP!$AA14,J$6<=CP!$AB14)),"CP",IF(ISNA(HLOOKUP(J$6,RTT!$B58:$M58,1,0)),"","RTT")) | ... CP18: =IF(OR(AND(CP$6>=CP!$G14,CP$6<=CP!$H14),AND(CP$6>=CP!$K14,CP$6<=CP!$L14),AND(CP$6>=CP!$O14,CP$6<=CP!$P14),AND(CP$6>=CP!$S14,CP$6<=CP!$T14),AND(CP$6>=CP!$W14,CP$6<=CP!$X14),AND(CP$6>=CP!$AA14,CP$6<=CP!$AB14)),"CP",IF(ISNA(HLOOKUP(CP$6,RTT!$B58:$M58,1,0)),"","RTT"))
A19: COFRADES Oliver | B19: C | C19: =IF(OR(AND(C$6>=CP!$G15,C$6<=CP!$H15),AND(C$6>=CP!$K15,C$6<=CP!$L15),AND(C$6>=CP!$O15,C$6<=CP!$P15),AND(C$6>=CP!$S15,C$6<=CP!$T15),AND(C$6>=CP!$W15,C$6<=CP!$X15),AND(C$6>=CP!$AA15,C$6<=CP!$AB15)),"CP",IF(ISNA(HLOOKUP(C$6,RTT!$B59:$M59,1,0)),"","RTT")) | D19: =IF(OR(AND(D$6>=CP!$G15,D$6<=CP!$H15),AND(D$6>=CP!$K15,D$6<=CP!$L15),AND(D$6>=CP!$O15,D$6<=CP!$P15),AND(D$6>=CP!$S15,D$6<=CP!$T15),AND(D$6>=CP!$W15,D$6<=CP!$X15),AND(D$6>=CP!$AA15,D$6<=CP!$AB15)),"CP",IF(ISNA(HLOOKUP(D$6,RTT!$B59:$M59,1,0)),"","RTT")) | E19: =IF(OR(AND(E$6>=CP!$G15,E$6<=CP!$H15),AND(E$6>=CP!$K15,E$6<=CP!$L15),AND(E$6>=CP!$O15,E$6<=CP!$P15),AND(E$6>=CP!$S15,E$6<=CP!$T15),AND(E$6>=CP!$W15,E$6<=CP!$X15),AND(E$6>=CP!$AA15,E$6<=CP!$AB15)),"CP",IF(ISNA(HLOOKUP(E$6,RTT!$B59:$M59,1,0)),"","RTT")) | F19: =IF(OR(AND(F$6>=CP!$G15,F$6<=CP!$H15),AND(F$6>=CP!$K15,F$6<=CP!$L15),AND(F$6>=CP!$O15,F$6<=CP!$P15),AND(F$6>=CP!$S15,F$6<=CP!$T15),AND(F$6>=CP!$W15,F$6<=CP!$X15),AND(F$6>=CP!$AA15,F$6<=CP!$AB15)),"CP",IF(ISNA(HLOOKUP(F$6,RTT!$B59:$M59,1,0)),"","RTT")) | G19: =IF(OR(AND(G$6>=CP!$G15,G$6<=CP!$H15),AND(G$6>=CP!$K15,G$6<=CP!$L15),AND(G$6>=CP!$O15,G$6<=CP!$P15),AND(G$6>=CP!$S15,G$6<=CP!$T15),AND(G$6>=CP!$W15,G$6<=CP!$X15),AND(G$6>=CP!$AA15,G$6<=CP!$AB15)),"CP",IF(ISNA(HLOOKUP(G$6,RTT!$B59:$M59,1,0)),"","RTT")) | H19: =IF(OR(AND(H$6>=CP!$G15,H$6<=CP!$H15),AND(H$6>=CP!$K15,H$6<=CP!$L15),AND(H$6>=CP!$O15,H$6<=CP!$P15),AND(H$6>=CP!$S15,H$6<=CP!$T15),AND(H$6>=CP!$W15,H$6<=CP!$X15),AND(H$6>=CP!$AA15,H$6<=CP!$AB15)),"CP",IF(ISNA(HLOOKUP(H$6,RTT!$B59:$M59,1,0)),"","RTT")) | I19: =IF(OR(AND(I$6>=CP!$G15,I$6<=CP!$H15),AND(I$6>=CP!$K15,I$6<=CP!$L15),AND(I$6>=CP!$O15,I$6<=CP!$P15),AND(I$6>=CP!$S15,I$6<=CP!$T15),AND(I$6>=CP!$W15,I$6<=CP!$X15),AND(I$6>=CP!$AA15,I$6<=CP!$AB15)),"CP",IF(ISNA(HLOOKUP(I$6,RTT!$B59:$M59,1,0)),"","RTT")) | J19: =IF(OR(AND(J$6>=CP!$G15,J$6<=CP!$H15),AND(J$6>=CP!$K15,J$6<=CP!$L15),AND(J$6>=CP!$O15,J$6<=CP!$P15),AND(J$6>=CP!$S15,J$6<=CP!$T15),AND(J$6>=CP!$W15,J$6<=CP!$X15),AND(J$6>=CP!$AA15,J$6<=CP!$AB15)),"CP",IF(ISNA(HLOOKUP(J$6,RTT!$B59:$M59,1,0)),"","RTT")) | ... CP19: =IF(OR(AND(CP$6>=CP!$G15,CP$6<=CP!$H15),AND(CP$6>=CP!$K15,CP$6<=CP!$L15),AND(CP$6>=CP!$O15,CP$6<=CP!$P15),AND(CP$6>=CP!$S15,CP$6<=CP!$T15),AND(CP$6>=CP!$W15,CP$6<=CP!$X15),AND(CP$6>=CP!$AA15,CP$6<=CP!$AB15)),"CP",IF(ISNA(HLOOKUP(CP$6,RTT!$B59:$M59,1,0)),"","RTT"))
A20: DAMON Nicolas | B20: C | C20: =IF(OR(AND(C$6>=CP!$G16,C$6<=CP!$H16),AND(C$6>=CP!$K16,C$6<=CP!$L16),AND(C$6>=CP!$O16,C$6<=CP!$P16),AND(C$6>=CP!$S16,C$6<=CP!$T16),AND(C$6>=CP!$W16,C$6<=CP!$X16),AND(C$6>=CP!$AA16,C$6<=CP!$AB16)),"CP",IF(ISNA(HLOOKUP(C$6,RTT!$B60:$M60,1,0)),"","RTT")) | D20: =IF(OR(AND(D$6>=CP!$G16,D$6<=CP!$H16),AND(D$6>=CP!$K16,D$6<=CP!$L16),AND(D$6>=CP!$O16,D$6<=CP!$P16),AND(D$6>=CP!$S16,D$6<=CP!$T16),AND(D$6>=CP!$W16,D$6<=CP!$X16),AND(D$6>=CP!$AA16,D$6<=CP!$AB16)),"CP",IF(ISNA(HLOOKUP(D$6,RTT!$B60:$M60,1,0)),"","RTT")) | E20: =IF(OR(AND(E$6>=CP!$G16,E$6<=CP!$H16),AND(E$6>=CP!$K16,E$6<=CP!$L16),AND(E$6>=CP!$O16,E$6<=CP!$P16),AND(E$6>=CP!$S16,E$6<=CP!$T16),AND(E$6>=CP!$W16,E$6<=CP!$X16),AND(E$6>=CP!$AA16,E$6<=CP!$AB16)),"CP",IF(ISNA(HLOOKUP(E$6,RTT!$B60:$M60,1,0)),"","RTT")) | F20: =IF(OR(AND(F$6>=CP!$G16,F$6<=CP!$H16),AND(F$6>=CP!$K16,F$6<=CP!$L16),AND(F$6>=CP!$O16,F$6<=CP!$P16),AND(F$6>=CP!$S16,F$6<=CP!$T16),AND(F$6>=CP!$W16,F$6<=CP!$X16),AND(F$6>=CP!$AA16,F$6<=CP!$AB16)),"CP",IF(ISNA(HLOOKUP(F$6,RTT!$B60:$M60,1,0)),"","RTT")) | G20: =IF(OR(AND(G$6>=CP!$G16,G$6<=CP!$H16),AND(G$6>=CP!$K16,G$6<=CP!$L16),AND(G$6>=CP!$O16,G$6<=CP!$P16),AND(G$6>=CP!$S16,G$6<=CP!$T16),AND(G$6>=CP!$W16,G$6<=CP!$X16),AND(G$6>=CP!$AA16,G$6<=CP!$AB16)),"CP",IF(ISNA(HLOOKUP(G$6,RTT!$B60:$M60,1,0)),"","RTT")) | H20: =IF(OR(AND(H$6>=CP!$G16,H$6<=CP!$H16),AND(H$6>=CP!$K16,H$6<=CP!$L16),AND(H$6>=CP!$O16,H$6<=CP!$P16),AND(H$6>=CP!$S16,H$6<=CP!$T16),AND(H$6>=CP!$W16,H$6<=CP!$X16),AND(H$6>=CP!$AA16,H$6<=CP!$AB16)),"CP",IF(ISNA(HLOOKUP(H$6,RTT!$B60:$M60,1,0)),"","RTT")) | I20: =IF(OR(AND(I$6>=CP!$G16,I$6<=CP!$H16),AND(I$6>=CP!$K16,I$6<=CP!$L16),AND(I$6>=CP!$O16,I$6<=CP!$P16),AND(I$6>=CP!$S16,I$6<=CP!$T16),AND(I$6>=CP!$W16,I$6<=CP!$X16),AND(I$6>=CP!$AA16,I$6<=CP!$AB16)),"CP",IF(ISNA(HLOOKUP(I$6,RTT!$B60:$M60,1,0)),"","RTT")) | J20: =IF(OR(AND(J$6>=CP!$G16,J$6<=CP!$H16),AND(J$6>=CP!$K16,J$6<=CP!$L16),AND(J$6>=CP!$O16,J$6<=CP!$P16),AND(J$6>=CP!$S16,J$6<=CP!$T16),AND(J$6>=CP!$W16,J$6<=CP!$X16),AND(J$6>=CP!$AA16,J$6<=CP!$AB16)),"CP",IF(ISNA(HLOOKUP(J$6,RTT!$B60:$M60,1,0)),"","RTT")) | ... CP20: =IF(OR(AND(CP$6>=CP!$G16,CP$6<=CP!$H16),AND(CP$6>=CP!$K16,CP$6<=CP!$L16),AND(CP$6>=CP!$O16,CP$6<=CP!$P16),AND(CP$6>=CP!$S16,CP$6<=CP!$T16),AND(CP$6>=CP!$W16,CP$6<=CP!$X16),AND(CP$6>=CP!$AA16,CP$6<=CP!$AB16)),"CP",IF(ISNA(HLOOKUP(CP$6,RTT!$B60:$M60,1,0)),"","RTT"))
A21: DANIEL Hervé | B21: BE | C21: =IF(OR(AND(C$6>=CP!$G17,C$6<=CP!$H17),AND(C$6>=CP!$K17,C$6<=CP!$L17),AND(C$6>=CP!$O17,C$6<=CP!$P17),AND(C$6>=CP!$S17,C$6<=CP!$T17),AND(C$6>=CP!$W17,C$6<=CP!$X17),AND(C$6>=CP!$AA17,C$6<=CP!$AB17)),"CP",IF(ISNA(HLOOKUP(C$6,RTT!$B61:$M61,1,0)),"","RTT")) -> CP | D21: =IF(OR(AND(D$6>=CP!$G17,D$6<=CP!$H17),AND(D$6>=CP!$K17,D$6<=CP!$L17),AND(D$6>=CP!$O17,D$6<=CP!$P17),AND(D$6>=CP!$S17,D$6<=CP!$T17),AND(D$6>=CP!$W17,D$6<=CP!$X17),AND(D$6>=CP!$AA17,D$6<=CP!$AB17)),"CP",IF(ISNA(HLOOKUP(D$6,RTT!$B61:$M61,1,0)),"","RTT")) -> CP | E21: =IF(OR(AND(E$6>=CP!$G17,E$6<=CP!$H17),AND(E$6>=CP!$K17,E$6<=CP!$L17),AND(E$6>=CP!$O17,E$6<=CP!$P17),AND(E$6>=CP!$S17,E$6<=CP!$T17),AND(E$6>=CP!$W17,E$6<=CP!$X17),AND(E$6>=CP!$AA17,E$6<=CP!$AB17)),"CP",IF(ISNA(HLOOKUP(E$6,RTT!$B61:$M61,1,0)),"","RTT")) -> CP | F21: =IF(OR(AND(F$6>=CP!$G17,F$6<=CP!$H17),AND(F$6>=CP!$K17,F$6<=CP!$L17),AND(F$6>=CP!$O17,F$6<=CP!$P17),AND(F$6>=CP!$S17,F$6<=CP!$T17),AND(F$6>=CP!$W17,F$6<=CP!$X17),AND(F$6>=CP!$AA17,F$6<=CP!$AB17)),"CP",IF(ISNA(HLOOKUP(F$6,RTT!$B61:$M61,1,0)),"","RTT")) -> CP | G21: =IF(OR(AND(G$6>=CP!$G17,G$6<=CP!$H17),AND(G$6>=CP!$K17,G$6<=CP!$L17),AND(G$6>=CP!$O17,G$6<=CP!$P17),AND(G$6>=CP!$S17,G$6<=CP!$T17),AND(G$6>=CP!$W17,G$6<=CP!$X17),AND(G$6>=CP!$AA17,G$6<=CP!$AB17)),"CP",IF(ISNA(HLOOKUP(G$6,RTT!$B61:$M61,1,0)),"","RTT")) -> CP | H21: =IF(OR(AND(H$6>=CP!$G17,H$6<=CP!$H17),AND(H$6>=CP!$K17,H$6<=CP!$L17),AND(H$6>=CP!$O17,H$6<=CP!$P17),AND(H$6>=CP!$S17,H$6<=CP!$T17),AND(H$6>=CP!$W17,H$6<=CP!$X17),AND(H$6>=CP!$AA17,H$6<=CP!$AB17)),"CP",IF(ISNA(HLOOKUP(H$6,RTT!$B61:$M61,1,0)),"","RTT")) -> CP | I21: =IF(OR(AND(I$6>=CP!$G17,I$6<=CP!$H17),AND(I$6>=CP!$K17,I$6<=CP!$L17),AND(I$6>=CP!$O17,I$6<=CP!$P17),AND(I$6>=CP!$S17,I$6<=CP!$T17),AND(I$6>=CP!$W17,I$6<=CP!$X17),AND(I$6>=CP!$AA17,I$6<=CP!$AB17)),"CP",IF(ISNA(HLOOKUP(I$6,RTT!$B61:$M61,1,0)),"","RTT")) -> CP | J21: =IF(OR(AND(J$6>=CP!$G17,J$6<=CP!$H17),AND(J$6>=CP!$K17,J$6<=CP!$L17),AND(J$6>=CP!$O17,J$6<=CP!$P17),AND(J$6>=CP!$S17,J$6<=CP!$T17),AND(J$6>=CP!$W17,J$6<=CP!$X17),AND(J$6>=CP!$AA17,J$6<=CP!$AB17)),"CP",IF(ISNA(HLOOKUP(J$6,RTT!$B61:$M61,1,0)),"","RTT")) -> CP | ... CP21: =IF(OR(AND(CP$6>=CP!$G17,CP$6<=CP!$H17),AND(CP$6>=CP!$K17,CP$6<=CP!$L17),AND(CP$6>=CP!$O17,CP$6<=CP!$P17),AND(CP$6>=CP!$S17,CP$6<=CP!$T17),AND(CP$6>=CP!$W17,CP$6<=CP!$X17),AND(CP$6>=CP!$AA17,CP$6<=CP!$AB17)),"CP",IF(ISNA(HLOOKUP(CP$6,RTT!$B61:$M61,1,0)),"","RTT"))
A22: DAVAUD Julien | B22: BE | C22: =IF(OR(AND(C$6>=CP!$G18,C$6<=CP!$H18),AND(C$6>=CP!$K18,C$6<=CP!$L18),AND(C$6>=CP!$O18,C$6<=CP!$P18),AND(C$6>=CP!$S18,C$6<=CP!$T18),AND(C$6>=CP!$W18,C$6<=CP!$X18),AND(C$6>=CP!$AA18,C$6<=CP!$AB18)),"CP",IF(ISNA(HLOOKUP(C$6,RTT!$B62:$M62,1,0)),"","RTT")) | D22: =IF(OR(AND(D$6>=CP!$G18,D$6<=CP!$H18),AND(D$6>=CP!$K18,D$6<=CP!$L18),AND(D$6>=CP!$O18,D$6<=CP!$P18),AND(D$6>=CP!$S18,D$6<=CP!$T18),AND(D$6>=CP!$W18,D$6<=CP!$X18),AND(D$6>=CP!$AA18,D$6<=CP!$AB18)),"CP",IF(ISNA(HLOOKUP(D$6,RTT!$B62:$M62,1,0)),"","RTT")) | E22: =IF(OR(AND(E$6>=CP!$G18,E$6<=CP!$H18),AND(E$6>=CP!$K18,E$6<=CP!$L18),AND(E$6>=CP!$O18,E$6<=CP!$P18),AND(E$6>=CP!$S18,E$6<=CP!$T18),AND(E$6>=CP!$W18,E$6<=CP!$X18),AND(E$6>=CP!$AA18,E$6<=CP!$AB18)),"CP",IF(ISNA(HLOOKUP(E$6,RTT!$B62:$M62,1,0)),"","RTT")) | F22: =IF(OR(AND(F$6>=CP!$G18,F$6<=CP!$H18),AND(F$6>=CP!$K18,F$6<=CP!$L18),AND(F$6>=CP!$O18,F$6<=CP!$P18),AND(F$6>=CP!$S18,F$6<=CP!$T18),AND(F$6>=CP!$W18,F$6<=CP!$X18),AND(F$6>=CP!$AA18,F$6<=CP!$AB18)),"CP",IF(ISNA(HLOOKUP(F$6,RTT!$B62:$M62,1,0)),"","RTT")) | G22: =IF(OR(AND(G$6>=CP!$G18,G$6<=CP!$H18),AND(G$6>=CP!$K18,G$6<=CP!$L18),AND(G$6>=CP!$O18,G$6<=CP!$P18),AND(G$6>=CP!$S18,G$6<=CP!$T18),AND(G$6>=CP!$W18,G$6<=CP!$X18),AND(G$6>=CP!$AA18,G$6<=CP!$AB18)),"CP",IF(ISNA(HLOOKUP(G$6,RTT!$B62:$M62,1,0)),"","RTT")) | H22: =IF(OR(AND(H$6>=CP!$G18,H$6<=CP!$H18),AND(H$6>=CP!$K18,H$6<=CP!$L18),AND(H$6>=CP!$O18,H$6<=CP!$P18),AND(H$6>=CP!$S18,H$6<=CP!$T18),AND(H$6>=CP!$W18,H$6<=CP!$X18),AND(H$6>=CP!$AA18,H$6<=CP!$AB18)),"CP",IF(ISNA(HLOOKUP(H$6,RTT!$B62:$M62,1,0)),"","RTT")) | I22: =IF(OR(AND(I$6>=CP!$G18,I$6<=CP!$H18),AND(I$6>=CP!$K18,I$6<=CP!$L18),AND(I$6>=CP!$O18,I$6<=CP!$P18),AND(I$6>=CP!$S18,I$6<=CP!$T18),AND(I$6>=CP!$W18,I$6<=CP!$X18),AND(I$6>=CP!$AA18,I$6<=CP!$AB18)),"CP",IF(ISNA(HLOOKUP(I$6,RTT!$B62:$M62,1,0)),"","RTT")) | J22: =IF(OR(AND(J$6>=CP!$G18,J$6<=CP!$H18),AND(J$6>=CP!$K18,J$6<=CP!$L18),AND(J$6>=CP!$O18,J$6<=CP!$P18),AND(J$6>=CP!$S18,J$6<=CP!$T18),AND(J$6>=CP!$W18,J$6<=CP!$X18),AND(J$6>=CP!$AA18,J$6<=CP!$AB18)),"CP",IF(ISNA(HLOOKUP(J$6,RTT!$B62:$M62,1,0)),"","RTT")) | ... CP22: =IF(OR(AND(CP$6>=CP!$G18,CP$6<=CP!$H18),AND(CP$6>=CP!$K18,CP$6<=CP!$L18),AND(CP$6>=CP!$O18,CP$6<=CP!$P18),AND(CP$6>=CP!$S18,CP$6<=CP!$T18),AND(CP$6>=CP!$W18,CP$6<=CP!$X18),AND(CP$6>=CP!$AA18,CP$6<=CP!$AB18)),"CP",IF(ISNA(HLOOKUP(CP$6,RTT!$B62:$M62,1,0)),"","RTT"))
