Workbook

Sheet CP
A1: Nom | B1: Date embauche | C1: Droit | G1: 1ère période | K1: 2ème période | O1: 3ème période | S1: 4ème période | W1: 5ème période | AA1: Ancienneté | AD1: Recap
C2: Principaux | D2: 5ème sem. | E2: ancienneté | F2: Total | G2: Premier jour de CP | H2: Dernier jour de CP | I2: Total | J2: Samedi | K2: Premier jour de CP | L2: Dernier jour de CP | M2: Total | N2: Samedi | O2: Premier jour de CP | P2: Dernier jour de CP | Q2: Total | R2: Samedi | S2: Premier jour de CP | T2: Dernier jour de CP | U2: Total | V2: Samedi | W2: Premier jour de CP | X2: Dernier jour de CP | Y2: Total | Z2: Samedi | AA2: Premier jour de CP | AB2: Dernier jour de CP | AC2: Total | AD2: SOLDE | AE2: Samedi pris
A3: SALARIE 1 | C3: 24 | D3: 6 | E3: 3 | F3: =SUM(C3,D3,E3) -> 33 | G3: 42583 | H3: 42601 | I3: =NETWORKDAYS(G3,H3)+J3 -> 18 | J3: 3 | M3: =NETWORKDAYS(K3,L3)+N3 -> #VALUE! | N3: 0 | Q3: =NETWORKDAYS(O3,P3)+R3 -> #VALUE! | R3: 0 | U3: =NETWORKDAYS(S3,T3)+V3 -> #VALUE! | Y3: =NETWORKDAYS(W3,X3)+Z3 -> 0 | AC3: =NETWORKDAYS(AA3,AB3) -> 0 | AD3: =F3-I3-M3-Q3-U3-Y3-AC3 -> #VALUE! | AE3: =SUM(J3+N3+R3+V3+Z3) -> 3
A4: SALARIE 2 | C4: 24 | D4: 6 | E4: 3 | F4: =SUM(C4,D4,E4) -> 33 | G4: 42590 | H4: 42609 | I4: =NETWORKDAYS(G4,H4)+J4 -> 18 | J4: 3 | M4: =NETWORKDAYS(K4,L4)+N4 -> #VALUE! | N4: 0 | Q4: =NETWORKDAYS(O4,P4)+R4 -> #VALUE! | R4: 0 | U4: =NETWORKDAYS(S4,T4)+V4 -> #VALUE! | Y4: =NETWORKDAYS(W4,X4)+Z4 -> 0 | AC4: =NETWORKDAYS(AA4,AB4) -> 0 | AD4: =F4-I4-M4-Q4-U4-Y4-AC4 -> #VALUE! | AE4: =SUM(J4+N4+R4+V4+Z4) -> 3
A5: SALARIE 3 | C5: 24 | D5: 6 | E5: 6 | F5: =SUM(C5,D5,E5) -> 36 | G5: 42590 | H5: 42609 | I5: =NETWORKDAYS(G5,H5)+J5 -> 18 | J5: 3 | M5: =NETWORKDAYS(K5,L5)+N5 -> #VALUE! | N5: 0 | Q5: =NETWORKDAYS(O5,P5)+R5 -> #VALUE! | R5: 0 | U5: =NETWORKDAYS(S5,T5)+V5 -> #VALUE! | Y5: =NETWORKDAYS(W5,X5)+Z5 -> 0 | AC5: =NETWORKDAYS(AA5,AB5) -> 0 | AD5: =F5-I5-M5-Q5-U5-Y5-AC5 -> #VALUE! | AE5: =SUM(J5+N5+R5+V5+Z5) -> 3
A6: SALARIE 4 | C6: 24 | D6: 6 | E6: 0 | F6: =SUM(C6,D6,E6) -> 30 | G6: 42598 | H6: 42599 | I6: =NETWORKDAYS(G6,H6)+J6 -> 2 | J6: 0 | K6: 42604 | L6: 42616 | M6: =NETWORKDAYS(K6,L6)+N6 -> 12 | N6: 2 | Q6: =NETWORKDAYS(O6,P6)+R6 -> #VALUE! | R6: 0 | U6: =NETWORKDAYS(S6,T6)+V6 -> #VALUE! | Y6: =NETWORKDAYS(W6,X6)+Z6 -> 0 | AC6: =NETWORKDAYS(AA6,AB6) -> 0 | AD6: =F6-I6-M6-Q6-U6-Y6-AC6 -> #VALUE! | AE6: =SUM(J6+N6+R6+V6+Z6) -> 2
A7: SALARIE 5 | C7: 24 | D7: 6 | E7: 3 | F7: =SUM(C7,D7,E7) -> 33 | G7: 42569 | H7: 42595 | I7: =NETWORKDAYS(G7,H7)+J7 -> 24 | J7: 4 | M7: =NETWORKDAYS(K7,L7)+N7 -> #VALUE! | N7: 0 | Q7: =NETWORKDAYS(O7,P7)+R7 -> #VALUE! | R7: 0 | U7: =NETWORKDAYS(S7,T7)+V7 -> #VALUE! | Y7: =NETWORKDAYS(W7,X7)+Z7 -> 0 | AC7: =NETWORKDAYS(AA7,AB7) -> 0 | AD7: =F7-I7-M7-Q7-U7-Y7-AC7 -> #VALUE! | AE7: =SUM(J7+N7+R7+V7+Z7) -> 4
A8: SALARIE 6 | C8: 24 | D8: 6 | E8: 3 | F8: =SUM(C8,D8,E8) -> 33 | G8: 42590 | H8: 42619 | I8: =NETWORKDAYS(G8,H8)+J8 -> 26 | J8: 4 | M8: =NETWORKDAYS(K8,L8)+N8 -> #VALUE! | N8: 0 | Q8: =NETWORKDAYS(O8,P8)+R8 -> #VALUE! | R8: 0 | U8: =NETWORKDAYS(S8,T8)+V8 -> #VALUE! | Y8: =NETWORKDAYS(W8,X8)+Z8 -> 0 | AC8: =NETWORKDAYS(AA8,AB8) -> 0 | AD8: =F8-I8-M8-Q8-U8-Y8-AC8 -> #VALUE! | AE8: =SUM(J8+N8+R8+V8+Z8) -> 4
A9: SALARIE 7 | C9: 24 | D9: 6 | E9: 3 | F9: =SUM(C9,D9,E9) -> 33 | G9: 42583 | H9: 42604 | I9: =NETWORKDAYS(G9,H9)+J9 -> 19 | J9: 3 | M9: =NETWORKDAYS(K9,L9)+N9 -> #VALUE! | N9: 0 | Q9: =NETWORKDAYS(O9,P9)+R9 -> #VALUE! | R9: 0 | U9: =NETWORKDAYS(S9,T9)+V9 -> #VALUE! | Y9: =NETWORKDAYS(W9,X9)+Z9 -> 0 | AC9: =NETWORKDAYS(AA9,AB9) -> 0 | AD9: =F9-I9-M9-Q9-U9-Y9-AC9 -> #VALUE! | AE9: =SUM(J9+N9+R9+V9+Z9) -> 3
A10: SALARIE 8 | C10: 24 | D10: 6 | E10: 4 | F10: =SUM(C10,D10,E10) -> 34 | G10: 42496 | H10: 42496 | I10: =NETWORKDAYS(G10,H10)+J10 -> 1 | J10: 0 | K10: 42507 | L10: 42511 | M10: =NETWORKDAYS(K10,L10)+N10 -> 5 | N10: 1 | O10: 42537 | P10: 42566 | Q10: =NETWORKDAYS(O10,P10)+R10 -> 22 | R10: 0 | S10: 42590 | T10: 42609 | U10: =NETWORKDAYS(S10,T10)+V10 -> 15 | Y10: =NETWORKDAYS(W10,X10)+Z10 -> 0 | AC10: =NETWORKDAYS(AA10,AB10) -> 0 | AD10: =F10-I10-M10-Q10-U10-Y10-AC10 -> -9 | AE10: =SUM(J10+N10+R10+V10+Z10) -> 1
A11: SALARIE 9 | C11: 24 | D11: 6 | E11: 2 | F11: =SUM(C11,D11,E11) -> 32 | G11: 42607 | H11: 42609 | I11: =NETWORKDAYS(G11,H11)+J11 -> 3 | J11: 1 | M11: =NETWORKDAYS(K11,L11)+N11 -> #VALUE! | N11: 0 | Q11: =NETWORKDAYS(O11,P11)+R11 -> #VALUE! | R11: 0 | U11: =NETWORKDAYS(S11,T11)+V11 -> #VALUE! | Y11: =NETWORKDAYS(W11,X11)+Z11 -> 0 | AC11: =NETWORKDAYS(AA11,AB11) -> 0 | AD11: =F11-I11-M11-Q11-U11-Y11-AC11 -> #VALUE! | AE11: =SUM(J11+N11+R11+V11+Z11) -> 1
A12: SALARIE 10 | C12: 24 | D12: 6 | E12: 3 | F12: =SUM(C12,D12,E12) -> 33 | G12: 42583 | H12: 42595 | I12: =NETWORKDAYS(G12,H12)+J12 -> 12 | J12: 2 | M12: =NETWORKDAYS(K12,L12)+N12 -> #VALUE! | N12: 0 | Q12: =NETWORKDAYS(O12,P12)+R12 -> #VALUE! | R12: 0 | U12: =NETWORKDAYS(S12,T12)+V12 -> #VALUE! | Y12: =NETWORKDAYS(W12,X12)+Z12 -> 0 | AC12: =NETWORKDAYS(AA12,AB12) -> 0 | AD12: =F12-I12-M12-Q12-U12-Y12-AC12 -> #VALUE! | AE12: =SUM(J12+N12+R12+V12+Z12) -> 2
A13: SALARIE 11 | C13: 24 | D13: 6 | E13: 3 | F13: =SUM(C13,D13,E13) -> 33 | G13: 42562 | H13: 42581 | I13: =NETWORKDAYS(G13,H13)+J13 -> 18 | J13: 3 | M13: =NETWORKDAYS(K13,L13)+N13 -> #VALUE! | N13: 0 | Q13: =NETWORKDAYS(O13,P13)+R13 -> #VALUE! | R13: 0 | U13: =NETWORKDAYS(S13,T13)+V13 -> #VALUE! | Y13: =NETWORKDAYS(W13,X13)+Z13 -> 0 | AC13: =NETWORKDAYS(AA13,AB13) -> 0 | AD13: =F13-I13-M13-Q13-U13-Y13-AC13 -> #VALUE! | AE13: =SUM(J13+N13+R13+V13+Z13) -> 3
A14: SALARIE 12 | C14: 18 | D14: 5 | E14: 0 | F14: =SUM(C14,D14,E14) -> 23 | G14: 42598 | H14: 42616 | I14: =NETWORKDAYS(G14,H14)+J14 -> 17 | J14: 3 | M14: =NETWORKDAYS(K14,L14)+N14 -> #VALUE! | N14: 0 | Q14: =NETWORKDAYS(O14,P14)+R14 -> #VALUE! | R14: 0 | U14: =NETWORKDAYS(S14,T14)+V14 -> #VALUE! | Y14: =NETWORKDAYS(W14,X14)+Z14 -> 0 | AC14: =NETWORKDAYS(AA14,AB14) -> 0 | AD14: =F14-I14-M14-Q14-U14-Y14-AC14 -> #VALUE! | AE14: =SUM(J14+N14+R14+V14+Z14) -> 3
A15: SALARIE 13 | C15: 24 | D15: 6 | E15: 0 | F15: =SUM(C15,D15,E15) -> 30 | G15: 42576 | H15: 42588 | I15: =NETWORKDAYS(G15,H15)+J15 -> 12 | J15: 2 | M15: =NETWORKDAYS(K15,L15)+N15 -> #VALUE! | N15: 0 | Q15: =NETWORKDAYS(O15,P15)+R15 -> #VALUE! | R15: 0 | U15: =NETWORKDAYS(S15,T15)+V15 -> #VALUE! | Y15: =NETWORKDAYS(W15,X15)+Z15 -> 0 | AC15: =NETWORKDAYS(AA15,AB15) -> 0 | AD15: =F15-I15-M15-Q15-U15-Y15-AC15 -> #VALUE! | AE15: =SUM(J15+N15+R15+V15+Z15) -> 2
A16: SALARIE 14 | C16: 22 | D16: 6 | E16: 0 | F16: =SUM(C16,D16,E16) -> 28 | G16: 42611 | H16: 42616 | I16: =NETWORKDAYS(G16,H16)+J16 -> 6 | J16: 1 | M16: =NETWORKDAYS(K16,L16)+N16 -> #VALUE! | N16: 0 | Q16: =NETWORKDAYS(O16,P16)+R16 -> #VALUE! | R16: 0 | U16: =NETWORKDAYS(S16,T16)+V16 -> #VALUE! | Y16: =NETWORKDAYS(W16,X16)+Z16 -> 0 | AC16: =NETWORKDAYS(AA16,AB16) -> 0 | AD16: =F16-I16-M16-Q16-U16-Y16-AC16 -> #VALUE! | AE16: =SUM(J16+N16+R16+V16+Z16) -> 1
A17: SALARIE 15 | C17: 24 | D17: 6 | E17: 2 | F17: =SUM(C17,D17,E17) -> 32 | G17: 42548 | H17: 42564 | I17: =NETWORKDAYS(G17,H17)+J17 -> 15 | J17: 2 | M17: =NETWORKDAYS(K17,L17)+N17 -> #VALUE! | N17: 0 | Q17: =NETWORKDAYS(O17,P17)+R17 -> #VALUE! | R17: 0 | U17: =NETWORKDAYS(S17,T17)+V17 -> #VALUE! | Y17: =NETWORKDAYS(W17,X17)+Z17 -> 0 | AC17: =NETWORKDAYS(AA17,AB17) -> 0 | AD17: =F17-I17-M17-Q17-U17-Y17-AC17 -> #VALUE! | AE17: =SUM(J17+N17+R17+V17+Z17) -> 2
A18: SALARIE 16 | C18: 24 | D18: 6 | E18: 0 | F18: =SUM(C18,D18,E18) -> 30 | G18: 42569 | H18: 42583 | I18: =NETWORKDAYS(G18,H18)+J18 -> 13 | J18: 2 | K18: 42611 | L18: 42616 | M18: =NETWORKDAYS(K18,L18)+N18 -> 6 | N18: 1 | Q18: =NETWORKDAYS(O18,P18)+R18 -> #VALUE! | R18: 0 | U18: =NETWORKDAYS(S18,T18)+V18 -> #VALUE! | Y18: =NETWORKDAYS(W18,X18)+Z18 -> 0 | AC18: =NETWORKDAYS(AA18,AB18) -> 0 | AD18: =F18-I18-M18-Q18-U18-Y18-AC18 -> #VALUE! | AE18: =SUM(J18+N18+R18+V18+Z18) -> 3
A19: SALARIE 17 | C19: 24 | D19: 6 | E19: 4 | F19: =SUM(C19,D19,E19) -> 34 | G19: 42569 | H19: 42588 | I19: =NETWORKDAYS(G19,H19)+J19 -> 18 | J19: 3 | K19: 42663 | L19: 42674 | M19: =NETWORKDAYS(K19,L19)+N19 -> 10 | N19: 2 | Q19: =NETWORKDAYS(O19,P19)+R19 -> #VALUE! | R19: 0 | U19: =NETWORKDAYS(S19,T19)+V19 -> #VALUE! | Y19: =NETWORKDAYS(W19,X19)+Z19 -> 0 | AC19: =NETWORKDAYS(AA19,AB19) -> 0 | AD19: =F19-I19-M19-Q19-U19-Y19-AC19 -> #VALUE! | AE19: =SUM(J19+N19+R19+V19+Z19) -> 5
A20: SALARIE 18 | C20: 24 | D20: 6 | E20: 0 | F20: =SUM(C20,D20,E20) -> 30 | G20: 42583 | H20: 42595 | I20: =NETWORKDAYS(G20,H20)+J20 -> 12 | J20: 2 | L20: 0 | M20: =NETWORKDAYS(K20,L20)+N20 -> #VALUE! | N20: 0 | Q20: =NETWORKDAYS(O20,P20)+R20 -> #VALUE! | R20: 0 | U20: =NETWORKDAYS(S20,T20)+V20 -> #VALUE! | Y20: =NETWORKDAYS(W20,X20)+Z20 -> 0 | AC20: =NETWORKDAYS(AA20,AB20) -> 0 | AD20: =F20-I20-M20-Q20-U20-Y20-AC20 -> #VALUE! | AE20: =SUM(J20+N20+R20+V20+Z20) -> 2
A21: SALARIE 19 | C21: 24 | D21: 6 | E21: 0 | F21: =SUM(C21,D21,E21) -> 30 | G21: 42576 | H21: 42595 | I21: =NETWORKDAYS(G21,H21)+J21 -> 18 | J21: 3 | M21: =NETWORKDAYS(K21,L21)+N21 -> #VALUE! | N21: 0 | Q21: =NETWORKDAYS(O21,P21)+R21 -> #VALUE! | R21: 0 | U21: =NETWORKDAYS(S21,T21)+V21 -> #VALUE! | Y21: =NETWORKDAYS(W21,X21)+Z21 -> 0 | AC21: =NETWORKDAYS(AA21,AB21) -> 0 | AD21: =F21-I21-M21-Q21-U21-Y21-AC21 -> #VALUE! | AE21: =SUM(J21+N21+R21+V21+Z21) -> 3
A22: SALARIE 20 | C22: 24 | D22: 6 | E22: 0 | F22: =SUM(C22,D22,E22) -> 30 | G22: 42583 | H22: 42602 | I22: =NETWORKDAYS(G22,H22)+J22 -> 18 | J22: 3 | M22: =NETWORKDAYS(K22,L22)+N22 -> #VALUE! | N22: 0 | Q22: =NETWORKDAYS(O22,P22)+R22 -> #VALUE! | R22: 0 | U22: =NETWORKDAYS(S22,T22)+V22 -> #VALUE! | Y22: =NETWORKDAYS(W22,X22)+Z22 -> 0 | AC22: =NETWORKDAYS(AA22,AB22) -> 0 | AD22: =F22-I22-M22-Q22-U22-Y22-AC22 -> #VALUE! | AE22: =SUM(J22+N22+R22+V22+Z22) -> 3
A23: SALARIE 21 | C23: 24 | D23: 6 | E23: 0 | F23: =SUM(C23,D23,E23) -> 30 | I23: =NETWORKDAYS(G23,H23)+J23 -> #VALUE! | J23: 0 | M23: =NETWORKDAYS(K23,L23)+N23 -> #VALUE! | N23: 0 | Q23: =NETWORKDAYS(O23,P23)+R23 -> #VALUE! | R23: 0 | U23: =NETWORKDAYS(S23,T23)+V23 -> #VALUE! | Y23: =NETWORKDAYS(W23,X23)+Z23 -> 0 | AC23: =NETWORKDAYS(AA23,AB23) -> 0 | AD23: =F23-I23-M23-Q23-U23-Y23-AC23 -> #VALUE! | AE23: =SUM(J23+N23+R23+V23+Z23) -> 0
A24: SALARIE 22 | C24: 24 | D24: 6 | E24: 6 | F24: =SUM(C24,D24,E24) -> 36 | G24: 42576 | H24: 42595 | I24: =NETWORKDAYS(G24,H24)+J24 -> 18 | J24: 3 | M24: =NETWORKDAYS(K24,L24)+N24 -> #VALUE! | N24: 0 | Q24: =NETWORKDAYS(O24,P24)+R24 -> #VALUE! | R24: 0 | U24: =NETWORKDAYS(S24,T24)+V24 -> #VALUE! | Y24: =NETWORKDAYS(W24,X24)+Z24 -> 0 | AC24: =NETWORKDAYS(AA24,AB24) -> 0 | AD24: =F24-I24-M24-Q24-U24-Y24-AC24 -> #VALUE! | AE24: =SUM(J24+N24+R24+V24+Z24) -> 3
A25: SALARIE 23 | C25: 24 | D25: 6 | E25: 3 | F25: =SUM(C25,D25,E25) -> 33 | G25: 42625 | H25: 42637 | I25: =NETWORKDAYS(G25,H25)+J25 -> 12 | J25: 2 | M25: =NETWORKDAYS(K25,L25)+N25 -> #VALUE! | N25: 0 | Q25: =NETWORKDAYS(O25,P25)+R25 -> #VALUE! | R25: 0 | U25: =NETWORKDAYS(S25,T25)+V25 -> #VALUE! | Y25: =NETWORKDAYS(W25,X25)+Z25 -> 0 | AC25: =NETWORKDAYS(AA25,AB25) -> 0 | AD25: =F25-I25-M25-Q25-U25-Y25-AC25 -> #VALUE! | AE25: =SUM(J25+N25+R25+V25+Z25) -> 2
A26: SALARIE 24 | C26: 24 | D26: 6 | E26: 3 | F26: =SUM(C26,D26,E26) -> 33 | G26: 42569 | H26: 42574 | I26: =NETWORKDAYS(G26,H26)+J26 -> 6 | J26: 1 | K26: 42598 | L26: 42609 | M26: =NETWORKDAYS(K26,L26)+N26 -> 11 | N26: 2 | Q26: =NETWORKDAYS(O26,P26)+R26 -> #VALUE! | R26: 0 | U26: =NETWORKDAYS(S26,T26)+V26 -> #VALUE! | Y26: =NETWORKDAYS(W26,X26)+Z26 -> 0 | AC26: =NETWORKDAYS(AA26,AB26) -> 0 | AD26: =F26-I26-M26-Q26-U26-Y26-AC26 -> #VALUE! | AE26: =SUM(J26+N26+R26+V26+Z26) -> 3
A27: SALARIE 25 | C27: 24 | D27: 6 | E27: 6 | F27: =SUM(C27,D27,E27) -> 36 | I27: =NETWORKDAYS(G27,H27)+J27 -> #VALUE! | J27: 0 | M27: =NETWORKDAYS(K27,L27)+N27 -> #VALUE! | N27: 0 | Q27: =NETWORKDAYS(O27,P27)+R27 -> #VALUE! | R27: 0 | U27: =NETWORKDAYS(S27,T27)+V27 -> #VALUE! | Y27: =NETWORKDAYS(W27,X27)+Z27 -> 0 | AC27: =NETWORKDAYS(AA27,AB27) -> 0 | AD27: =F27-I27-M27-Q27-U27-Y27-AC27 -> #VALUE! | AE27: =SUM(J27+N27+R27+V27+Z27) -> 0
A28: SALARIE 26 | C28: 24 | D28: 6 | E28: 0 | F28: =SUM(C28,D28,E28) -> 30 | G28: 42583 | H28: 42602 | I28: =NETWORKDAYS(G28,H28)+J28 -> 18 | J28: 3 | M28: =NETWORKDAYS(K28,L28)+N28 -> #VALUE! | N28: 0 | Q28: =NETWORKDAYS(O28,P28)+R28 -> #VALUE! | R28: 0 | U28: =NETWORKDAYS(S28,T28)+V28 -> #VALUE! | Y28: =NETWORKDAYS(W28,X28)+Z28 -> 0 | AC28: =NETWORKDAYS(AA28,AB28) -> 0 | AD28: =F28-I28-M28-Q28-U28-Y28-AC28 -> #VALUE! | AE28: =SUM(J28+N28+R28+V28+Z28) -> 3
A29: SALARIE 27 | C29: 24 | D29: 6 | E29: 0 | F29: =SUM(C29,D29,E29) -> 30 | G29: 42598 | H29: 42618 | I29: =NETWORKDAYS(G29,H29)+J29 -> 18 | J29: 3 | M29: =NETWORKDAYS(K29,L29)+N29 -> #VALUE! | N29: 0 | Q29: =NETWORKDAYS(O29,P29)+R29 -> #VALUE! | R29: 0 | U29: =NETWORKDAYS(S29,T29)+V29 -> #VALUE! | Y29: =NETWORKDAYS(W29,X29)+Z29 -> 0 | AC29: =NETWORKDAYS(AA29,AB29) -> 0 | AD29: =F29-I29-M29-Q29-U29-Y29-AC29 -> #VALUE! | AE29: =SUM(J29+N29+R29+V29+Z29) -> 3
A30: SALARIE 28 | C30: 24 | D30: 6 | E30: 2 | F30: =SUM(C30,D30,E30) -> 32 | G30: 42569 | H30: 42588 | I30: =NETWORKDAYS(G30,H30)+J30 -> 18 | J30: 3 | M30: =NETWORKDAYS(K30,L30)+N30 -> #VALUE! | N30: 0 | Q30: =NETWORKDAYS(O30,P30)+R30 -> #VALUE! | R30: 0 | U30: =NETWORKDAYS(S30,T30)+V30 -> #VALUE! | Y30: =NETWORKDAYS(W30,X30)+Z30 -> 0 | AC30: =NETWORKDAYS(AA30,AB30) -> 0 | AD30: =F30-I30-M30-Q30-U30-Y30-AC30 -> #VALUE! | AE30: =SUM(J30+N30+R30+V30+Z30) -> 3
A31: SALARIE 29 | C31: 12 | D31: 3 | E31: 0 | F31: =SUM(C31,D31,E31) -> 15 | G31: 42598 | H31: 42609 | I31: =NETWORKDAYS(G31,H31)+J31 -> 11 | J31: 2 | M31: =NETWORKDAYS(K31,L31)+N31 -> #VALUE! | N31: 0 | Q31: =NETWORKDAYS(O31,P31)+R31 -> #VALUE! | R31: 0 | U31: =NETWORKDAYS(S31,T31)+V31 -> #VALUE! | Y31: =NETWORKDAYS(W31,X31)+Z31 -> 0 | AC31: =NETWORKDAYS(AA31,AB31) -> 0 | AD31: =F31-I31-M31-Q31-U31-Y31-AC31 -> #VALUE! | AE31: =SUM(J31+N31+R31+V31+Z31) -> 2
A32: SALARIE 30 | C32: 14 | D32: 4 | E32: 0 | F32: =SUM(C32,D32,E32) -> 18 | G32: 42592 | H32: 42608 | I32: =NETWORKDAYS(G32,H32)+J32 -> 15 | J32: 2 | M32: =NETWORKDAYS(K32,L32)+N32 -> #VALUE! | N32: 0 | Q32: =NETWORKDAYS(O32,P32)+R32 -> #VALUE! | R32: 0 | U32: =NETWORKDAYS(S32,T32)+V32 -> #VALUE! | Y32: =NETWORKDAYS(W32,X32)+Z32 -> 0 | AC32: =NETWORKDAYS(AA32,AB32) -> 0 | AD32: =F32-I32-M32-Q32-U32-Y32-AC32 -> #VALUE! | AE32: =SUM(J32+N32+R32+V32+Z32) -> 2
A33: SALARIE 31 | C33: 16 | D33: 4 | E33: 0 | F33: =SUM(C33,D33,E33) -> 20 | G33: 42593 | H33: 42609 | I33: =NETWORKDAYS(G33,H33)+J33 -> 15 | J33: 3 | K33: 42590 | L33: 42592 | M33: =NETWORKDAYS(K33,L33)+N33 -> 3 | N33: 0 | O33: 42730 | P33: 42733 | Q33: =NETWORKDAYS(O33,P33)+R33 -> 4 | R33: 0 | U33: =NETWORKDAYS(S33,T33)+V33 -> #VALUE! | Y33: =NETWORKDAYS(W33,X33)+Z33 -> 0 | AC33: =NETWORKDAYS(AA33,AB33) -> 0 | AD33: =F33-I33-M33-Q33-U33-Y33-AC33 -> #VALUE! | AE33: =SUM(J33+N33+R33+V33+Z33) -> 3
A34: SALARIE 32 | C34: 24 | D34: 6 | E34: 3 | F34: =SUM(C34,D34,E34) -> 33 | G34: 42562 | H34: 42583 | I34: =NETWORKDAYS(G34,H34)+J34 -> 19 | J34: 3 | M34: =NETWORKDAYS(K34,L34)+N34 -> #VALUE! | N34: 0 | Q34: =NETWORKDAYS(O34,P34)+R34 -> #VALUE! | R34: 0 | U34: =NETWORKDAYS(S34,T34)+V34 -> #VALUE! | Y34: =NETWORKDAYS(W34,X34)+Z34 -> 0 | AC34: =NETWORKDAYS(AA34,AB34) -> 0 | AD34: =F34-I34-M34-Q34-U34-Y34-AC34 -> #VALUE! | AE34: =SUM(J34+N34+R34+V34+Z34) -> 3
A35: SALARIE 33 | C35: 24 | D35: 6 | E35: 4 | F35: =SUM(C35,D35,E35) -> 34 | G35: 42562 | H35: 42581 | I35: =NETWORKDAYS(G35,H35)+J35 -> 18 | J35: 3 | M35: =NETWORKDAYS(K35,L35)+N35 -> #VALUE! | N35: 0 | Q35: =NETWORKDAYS(O35,P35)+R35 -> #VALUE! | R35: 0 | U35: =NETWORKDAYS(S35,T35)+V35 -> #VALUE! | Y35: =NETWORKDAYS(W35,X35)+Z35 -> 0 | AC35: =NETWORKDAYS(AA35,AB35) -> 0 | AD35: =F35-I35-M35-Q35-U35-Y35-AC35 -> #VALUE! | AE35: =SUM(J35+N35+R35+V35+Z35) -> 3
A36: SALARIE 34 | C36: 22 | D36: 6 | E36: 6 | F36: =SUM(C36,D36,E36) -> 34 | G36: 42583 | H36: 42604 | I36: =NETWORKDAYS(G36,H36)+J36 -> 19 | J36: 3 | M36: =NETWORKDAYS(K36,L36)+N36 -> #VALUE! | N36: 0 | Q36: =NETWORKDAYS(O36,P36)+R36 -> #VALUE! | R36: 0 | U36: =NETWORKDAYS(S36,T36)+V36 -> #VALUE! | Y36: =NETWORKDAYS(W36,X36)+Z36 -> 0 | AC36: =NETWORKDAYS(AA36,AB36) -> 0 | AD36: =F36-I36-M36-Q36-U36-Y36-AC36 -> #VALUE! | AE36: =SUM(J36+N36+R36+V36+Z36) -> 3
A37: SALARIE 35 | C37: 24 | D37: 6 | E37: 0 | F37: =SUM(C37,D37,E37) -> 30 | G37: 42598 | H37: 42616 | I37: =NETWORKDAYS(G37,H37)+J37 -> 17 | J37: 3 | M37: =NETWORKDAYS(K37,L37)+N37 -> #VALUE! | N37: 0 | Q37: =NETWORKDAYS(O37,P37)+R37 -> #VALUE! | R37: 0 | U37: =NETWORKDAYS(S37,T37)+V37 -> #VALUE! | Y37: =NETWORKDAYS(W37,X37)+Z37 -> 0 | AC37: =NETWORKDAYS(AA37,AB37) -> 0 | AD37: =F37-I37-M37-Q37-U37-Y37-AC37 -> #VALUE! | AE37: =SUM(J37+N37+R37+V37+Z37) -> 3
A38: SALARIE 36 | C38: 24 | D38: 6 | E38: 3 | F38: =SUM(C38,D38,E38) -> 33 | G38: 42562 | H38: 42583 | I38: =NETWORKDAYS(G38,H38)+J38 -> 19 | J38: 3 | M38: =NETWORKDAYS(K38,L38)+N38 -> #VALUE! | N38: 0 | Q38: =NETWORKDAYS(O38,P38)+R38 -> #VALUE! | R38: 0 | U38: =NETWORKDAYS(S38,T38)+V38 -> #VALUE! | Y38: =NETWORKDAYS(W38,X38)+Z38 -> 0 | AC38: =NETWORKDAYS(AA38,AB38) -> 0 | AD38: =F38-I38-M38-Q38-U38-Y38-AC38 -> #VALUE! | AE38: =SUM(J38+N38+R38+V38+Z38) -> 3
A39: SALARIE 37 | C39: 24 | D39: 6 | E39: 2 | F39: =SUM(C39,D39,E39) -> 32 | G39: 42569 | H39: 42588 | I39: =NETWORKDAYS(G39,H39)+J39 -> 18 | J39: 3 | K39: 42709 | L39: 42709 | M39: =NETWORKDAYS(K39,L39)+N39 -> 1 | N39: 0 | Q39: =NETWORKDAYS(O39,P39)+R39 -> #VALUE! | R39: 0 | U39: =NETWORKDAYS(S39,T39)+V39 -> #VALUE! | Y39: =NETWORKDAYS(W39,X39)+Z39 -> 0 | AC39: =NETWORKDAYS(AA39,AB39) -> 0 | AD39: =F39-I39-M39-Q39-U39-Y39-AC39 -> #VALUE! | AE39: =SUM(J39+N39+R39+V39+Z39) -> 3
A40: SALARIE 38 | C40: 24 | D40: 6 | E40: 0 | F40: =SUM(C40,D40,E40) -> 30 | G40: 42576 | H40: 42595 | I40: =NETWORKDAYS(G40,H40)+J40 -> 18 | J40: 3 | M40: =NETWORKDAYS(K40,L40)+N40 -> #VALUE! | N40: 0 | Q40: =NETWORKDAYS(O40,P40)+R40 -> #VALUE! | R40: 0 | U40: =NETWORKDAYS(S40,T40)+V40 -> #VALUE! | Y40: =NETWORKDAYS(W40,X40)+Z40 -> 0 | AC40: =NETWORKDAYS(AA40,AB40) -> 0 | AD40: =F40-I40-M40-Q40-U40-Y40-AC40 -> #VALUE! | AE40: =SUM(J40+N40+R40+V40+Z40) -> 3
A41: SALARIE 39 | C41: 14 | D41: 4 | E41: 0 | F41: =SUM(C41,D41,E41) -> 18 | G41: 42572 | H41: 42574 | I41: =NETWORKDAYS(G41,H41)+J41 -> 2 | J41: 0 | K41: 42598 | L41: 42609 | M41: =NETWORKDAYS(K41,L41)+N41 -> 11 | N41: 2 | Q41: =NETWORKDAYS(O41,P41)+R41 -> #VALUE! | R41: 0 | U41: =NETWORKDAYS(S41,T41)+V41 -> #VALUE! | Y41: =NETWORKDAYS(W41,X41)+Z41 -> 0 | AC41: =NETWORKDAYS(AA41,AB41) -> 0 | AD41: =F41-I41-M41-Q41-U41-Y41-AC41 -> #VALUE! | AE41: =SUM(J41+N41+R41+V41+Z41) -> 2
A42: SALARIE 40 | C42: 8 | D42: 2 | E42: 0 | F42: =SUM(C42,D42,E42) -> 10 | G42: 42590 | H42: 42595 | I42: =NETWORKDAYS(G42,H42)+J42 -> 6 | J42: 1 | M42: =NETWORKDAYS(K42,L42)+N42 -> #VALUE! | N42: 0 | Q42: =NETWORKDAYS(O42,P42)+R42 -> #VALUE! | R42: 0 | U42: =NETWORKDAYS(S42,T42)+V42 -> #VALUE! | Y42: =NETWORKDAYS(W42,X42)+Z42 -> 0 | AC42: =NETWORKDAYS(AA42,AB42) -> 0 | AD42: =F42-I42-M42-Q42-U42-Y42-AC42 -> #VALUE! | AE42: =SUM(J42+N42+R42+V42+Z42) -> 1
A43: SALARIE 41 | C43: 12 | D43: 3 | E43: 0 | F43: =SUM(C43,D43,E43) -> 15 | G43: 42569 | H43: 42581 | I43: =NETWORKDAYS(G43,H43)+J43 -> 12 | J43: 2 | M43: =NETWORKDAYS(K43,L43)+N43 -> #VALUE! | N43: 0 | Q43: =NETWORKDAYS(O43,P43)+R43 -> #VALUE! | R43: 0 | U43: =NETWORKDAYS(S43,T43)+V43 -> #VALUE! | Y43: =NETWORKDAYS(W43,X43)+Z43 -> 0 | AC43: =NETWORKDAYS(AA43,AB43) -> 0 | AD43: =F43-I43-M43-Q43-U43-Y43-AC43 -> #VALUE! | AE43: =SUM(J43+N43+R43+V43+Z43) -> 2
A44: SALARIE 42 | C44: 24 | D44: 6 | E44: 3 | F44: =SUM(C44,D44,E44) -> 33 | G44: 42583 | H44: 42602 | I44: =NETWORKDAYS(G44,H44)+J44 -> 18 | J44: 3 | M44: =NETWORKDAYS(K44,L44)+N44 -> #VALUE! | N44: 0 | Q44: =NETWORKDAYS(O44,P44)+R44 -> #VALUE! | R44: 0 | U44: =NETWORKDAYS(S44,T44)+V44 -> #VALUE! | Y44: =NETWORKDAYS(W44,X44)+Z44 -> 0 | AC44: =NETWORKDAYS(AA44,AB44) -> 0 | AD44: =F44-I44-M44-Q44-U44-Y44-AC44 -> #VALUE! | AE44: =SUM(J44+N44+R44+V44+Z44) -> 3
A45: SALARIE 43 | C45: 24 | D45: 6 | E45: 3 | F45: =SUM(C45,D45,E45) -> 33 | G45: 42583 | H45: 42604 | I45: =NETWORKDAYS(G45,H45)+J45 -> 19 | J45: 3 | M45: =NETWORKDAYS(K45,L45)+N45 -> #VALUE! | N45: 0 | Q45: =NETWORKDAYS(O45,P45)+R45 -> #VALUE! | R45: 0 | U45: =NETWORKDAYS(S45,T45)+V45 -> #VALUE! | Y45: =NETWORKDAYS(W45,X45)+Z45 -> 0 | AC45: =NETWORKDAYS(AA45,AB45) -> 0 | AD45: =F45-I45-M45-Q45-U45-Y45-AC45 -> #VALUE! | AE45: =SUM(J45+N45+R45+V45+Z45) -> 3
A46: SALARIE 44 | C46: 24 | D46: 6 | E46: 3 | F46: =SUM(C46,D46,E46) -> 33 | G46: 42548 | H46: 42559 | I46: =NETWORKDAYS(G46,H46)+J46 -> 12 | J46: 2 | M46: =NETWORKDAYS(K46,L46)+N46 -> #VALUE! | N46: 0 | Q46: =NETWORKDAYS(O46,P46)+R46 -> #VALUE! | R46: 0 | U46: =NETWORKDAYS(S46,T46)+V46 -> #VALUE! | Y46: =NETWORKDAYS(W46,X46)+Z46 -> 0 | AC46: =NETWORKDAYS(AA46,AB46) -> 0 | AD46: =F46-I46-M46-Q46-U46-Y46-AC46 -> #VALUE! | AE46: =SUM(J46+N46+R46+V46+Z46) -> 2
A47: SALARIE 45 | C47: 14 | D47: 4 | E47: 0 | F47: =SUM(C47,D47,E47) -> 18 | G47: 42555 | H47: 42574 | I47: =NETWORKDAYS(G47,H47)+J47 -> 18 | J47: 3 | M47: =NETWORKDAYS(K47,L47)+N47 -> #VALUE! | N47: 0 | Q47: =NETWORKDAYS(O47,P47)+R47 -> #VALUE! | R47: 0 | U47: =NETWORKDAYS(S47,T47)+V47 -> #VALUE! | Y47: =NETWORKDAYS(W47,X47)+Z47 -> 0 | AC47: =NETWORKDAYS(AA47,AB47) -> 0 | AD47: =F47-I47-M47-Q47-U47-Y47-AC47 -> #VALUE! | AE47: =SUM(J47+N47+R47+V47+Z47) -> 3
A48: SALARIE 46 | C48: 24 | D48: 6 | E48: 6 | F48: =SUM(C48,D48,E48) -> 36 | I48: =NETWORKDAYS(G48,H48)+J48 -> #VALUE! | J48: 0 | M48: =NETWORKDAYS(K48,L48)+N48 -> #VALUE! | N48: 0 | Q48: =NETWORKDAYS(O48,P48)+R48 -> #VALUE! | R48: 0 | U48: =NETWORKDAYS(S48,T48)+V48 -> #VALUE! | Y48: =NETWORKDAYS(W48,X48)+Z48 -> 0 | AC48: =NETWORKDAYS(AA48,AB48) -> 0 | AD48: =F48-I48-M48-Q48-U48-Y48-AC48 -> #VALUE! | AE48: =SUM(J48+N48+R48+V48+Z48) -> 0
A49: SALARIE 47 | C49: 24 | D49: 6 | E49: 0 | F49: =SUM(C49,D49,E49) -> 30 | G49: 42585 | H49: 42588 | I49: =NETWORKDAYS(G49,H49)+J49 -> 4 | J49: 1 | M49: =NETWORKDAYS(K49,L49)+N49 -> #VALUE! | N49: 0 | Q49: =NETWORKDAYS(O49,P49)+R49 -> #VALUE! | R49: 0 | U49: =NETWORKDAYS(S49,T49)+V49 -> #VALUE! | Y49: =NETWORKDAYS(W49,X49)+Z49 -> 0 | AC49: =NETWORKDAYS(AA49,AB49) -> 0 | AD49: =F49-I49-M49-Q49-U49-Y49-AC49 -> #VALUE! | AE49: =SUM(J49+N49+R49+V49+Z49) -> 1
A50: SALARIE 48 | C50: 24 | D50: 6 | E50: 4 | F50: =SUM(C50,D50,E50) -> 34 | G50: 42569 | H50: 42595 | I50: =NETWORKDAYS(G50,H50)+J50 -> 24 | J50: 4 | M50: =NETWORKDAYS(K50,L50)+N50 -> #VALUE! | N50: 0 | Q50: =NETWORKDAYS(O50,P50)+R50 -> #VALUE! | R50: 0 | U50: =NETWORKDAYS(S50,T50)+V50 -> #VALUE! | Y50: =NETWORKDAYS(W50,X50)+Z50 -> 0 | AC50: =NETWORKDAYS(AA50,AB50) -> 0 | AD50: =F50-I50-M50-Q50-U50-Y50-AC50 -> #VALUE! | AE50: =SUM(J50+N50+R50+V50+Z50) -> 4
A51: SALARIE 49 | C51: 24 | D51: 6 | E51: 3 | F51: =SUM(C51,D51,E51) -> 33 | G51: 42576 | H51: 42595 | I51: =NETWORKDAYS(G51,H51)+J51 -> 18 | J51: 3 | M51: =NETWORKDAYS(K51,L51)+N51 -> #VALUE! | N51: 0 | Q51: =NETWORKDAYS(O51,P51)+R51 -> #VALUE! | R51: 0 | U51: =NETWORKDAYS(S51,T51)+V51 -> #VALUE! | Y51: =NETWORKDAYS(W51,X51)+Z51 -> 0 | AC51: =NETWORKDAYS(AA51,AB51) -> 0 | AD51: =F51-I51-M51-Q51-U51-Y51-AC51 -> #VALUE! | AE51: =SUM(J51+N51+R51+V51+Z51) -> 3
A52: SALARIE 50 | C52: 24 | D52: 6 | E52: 3 | F52: =SUM(C52,D52,E52) -> 33 | G52: 42555 | H52: 42560 | I52: =NETWORKDAYS(G52,H52)+J52 -> 6 | J52: 1 | K52: 42569 | L52: 42581 | M52: =NETWORKDAYS(K52,L52)+N52 -> 10 | N52: 0 | Q52: =NETWORKDAYS(O52,P52)+R52 -> #VALUE! | R52: 0 | U52: =NETWORKDAYS(S52,T52)+V52 -> #VALUE! | Y52: =NETWORKDAYS(W52,X52)+Z52 -> 0 | AC52: =NETWORKDAYS(AA52,AB52) -> 0 | AD52: =F52-I52-M52-Q52-U52-Y52-AC52 -> #VALUE! | AE52: =SUM(J52+N52+R52+V52+Z52) -> 1
A53: SALARIE 51 | C53: 24 | D53: 6 | E53: 4 | F53: =SUM(C53,D53,E53) -> 34 | G53: 42541 | H53: 42546 | I53: =NETWORKDAYS(G53,H53)+J53 -> 6 | J53: 1 | K53: 42569 | L53: 42574 | M53: =NETWORKDAYS(K53,L53)+N53 -> 6 | N53: 1 | Q53: =NETWORKDAYS(O53,P53)+R53 -> #VALUE! | R53: 0 | U53: =NETWORKDAYS(S53,T53)+V53 -> #VALUE! | Y53: =NETWORKDAYS(W53,X53)+Z53 -> 0 | AC53: =NETWORKDAYS(AA53,AB53) -> 0 | AD53: =F53-I53-M53-Q53-U53-Y53-AC53 -> #VALUE! | AE53: =SUM(J53+N53+R53+V53+Z53) -> 2
A54: SALARIE 52 | C54: 24 | D54: 6 | E54: 3 | F54: =SUM(C54,D54,E54) -> 33 | G54: 42583 | H54: 42604 | I54: =NETWORKDAYS(G54,H54)+J54 -> 19 | J54: 3 | K54: 42667 | L54: 42672 | M54: =NETWORKDAYS(K54,L54)+N54 -> 6 | N54: 1 | Q54: =NETWORKDAYS(O54,P54)+R54 -> #VALUE! | R54: 0 | U54: =NETWORKDAYS(S54,T54)+V54 -> #VALUE! | Y54: =NETWORKDAYS(W54,X54)+Z54 -> 0 | AC54: =NETWORKDAYS(AA54,AB54) -> 0 | AD54: =F54-I54-M54-Q54-U54-Y54-AC54 -> #VALUE! | AE54: =SUM(J54+N54+R54+V54+Z54) -> 4
A55: SALARIE 53 | C55: 16 | D55: 4 | E55: 0 | F55: =SUM(C55,D55,E55) -> 20 | G55: 42590 | H55: 42602 | I55: =NETWORKDAYS(G55,H55)+J55 -> 12 | J55: 2 | M55: =NETWORKDAYS(K55,L55)+N55 -> #VALUE! | N55: 0 | Q55: =NETWORKDAYS(O55,P55)+R55 -> #VALUE! | R55: 0 | U55: =NETWORKDAYS(S55,T55)+V55 -> #VALUE! | Y55: =NETWORKDAYS(W55,X55)+Z55 -> 0 | AC55: =NETWORKDAYS(AA55,AB55) -> 0 | AD55: =F55-I55-M55-Q55-U55-Y55-AC55 -> #VALUE! | AE55: =SUM(J55+N55+R55+V55+Z55) -> 2
A56: SALARIE 54 | C56: 22 | D56: 6 | E56: 0 | F56: =SUM(C56,D56,E56) -> 28 | G56: 42576 | H56: 42595 | I56: =NETWORKDAYS(G56,H56)+J56 -> 18 | J56: 3 | M56: =NETWORKDAYS(K56,L56)+N56 -> #VALUE! | N56: 0 | Q56: =NETWORKDAYS(O56,P56)+R56 -> #VALUE! | R56: 0 | U56: =NETWORKDAYS(S56,T56)+V56 -> #VALUE! | Y56: =NETWORKDAYS(W56,X56)+Z56 -> 0 | AC56: =NETWORKDAYS(AA56,AB56) -> 0 | AD56: =F56-I56-M56-Q56-U56-Y56-AC56 -> #VALUE! | AE56: =SUM(J56+N56+R56+V56+Z56) -> 3
A57: SALARIE 55 | C57: 24 | D57: 6 | E57: 3 | F57: =SUM(C57,D57,E57) -> 33 | G57: 42566 | H57: 42574 | I57: =NETWORKDAYS(G57,H57)+J57 -> 8 | J57: 2 | M57: =NETWORKDAYS(K57,L57)+N57 -> #VALUE! | N57: 0 | Q57: =NETWORKDAYS(O57,P57)+R57 -> #VALUE! | R57: 0 | U57: =NETWORKDAYS(S57,T57)+V57 -> #VALUE! | Y57: =NETWORKDAYS(W57,X57)+Z57 -> 0 | AC57: =NETWORKDAYS(AA57,AB57) -> 0 | AD57: =F57-I57-M57-Q57-U57-Y57-AC57 -> #VALUE! | AE57: =SUM(J57+N57+R57+V57+Z57) -> 2
A58: SALARIE 56 | C58: 22 | D58: 6 | E58: 0 | F58: =SUM(C58,D58,E58) -> 28 | G58: 42598 | H58: 42609 | I58: =NETWORKDAYS(G58,H58)+J58 -> 11 | J58: 2 | M58: =NETWORKDAYS(K58,L58)+N58 -> #VALUE! | N58: 0 | Q58: =NETWORKDAYS(O58,P58)+R58 -> #VALUE! | R58: 0 | U58: =NETWORKDAYS(S58,T58)+V58 -> #VALUE! | Y58: =NETWORKDAYS(W58,X58)+Z58 -> 0 | AC58: =NETWORKDAYS(AA58,AB58) -> 0 | AD58: =F58-I58-M58-Q58-U58-Y58-AC58 -> #VALUE! | AE58: =SUM(J58+N58+R58+V58+Z58) -> 2
A59: SALARIE 57 | C59: 14 | D59: 4 | E59: 0 | F59: =SUM(C59,D59,E59) -> 18 | G59: 42548 | H59: 42548 | I59: =NETWORKDAYS(G59,H59)+J59 -> 1 | J59: 0 | K59: 42583 | L59: 42595 | M59: =NETWORKDAYS(K59,L59)+N59 -> 12 | N59: 2 | Q59: =NETWORKDAYS(O59,P59)+R59 -> #VALUE! | R59: 0 | U59: =NETWORKDAYS(S59,T59)+V59 -> #VALUE! | Y59: =NETWORKDAYS(W59,X59)+Z59 -> 0 | AC59: =NETWORKDAYS(AA59,AB59) -> 0 | AD59: =F59-I59-M59-Q59-U59-Y59-AC59 -> #VALUE! | AE59: =SUM(J59+N59+R59+V59+Z59) -> 2
A60: SALARIE 58 | C60: 24 | D60: 6 | E60: 4 | F60: =SUM(C60,D60,E60) -> 34 | G60: 42598 | H60: 42616 | I60: =NETWORKDAYS(G60,H60)+J60 -> 17 | J60: 3 | M60: =NETWORKDAYS(K60,L60)+N60 -> #VALUE! | N60: 0 | Q60: =NETWORKDAYS(O60,P60)+R60 -> #VALUE! | R60: 0 | U60: =NETWORKDAYS(S60,T60)+V60 -> #VALUE! | Y60: =NETWORKDAYS(W60,X60)+Z60 -> 0 | AC60: =NETWORKDAYS(AA60,AB60) -> 0 | AD60: =F60-I60-M60-Q60-U60-Y60-AC60 -> #VALUE! | AE60: =SUM(J60+N60+R60+V60+Z60) -> 3
A61: SALARIE 59 | C61: 24 | D61: 6 | E61: 0 | F61: =SUM(C61,D61,E61) -> 30 | G61: 42637 | H61: 42658 | I61: =NETWORKDAYS(G61,H61)+J61 -> 19 | J61: 4 | M61: =NETWORKDAYS(K61,L61)+N61 -> #VALUE! | N61: 0 | Q61: =NETWORKDAYS(O61,P61)+R61 -> #VALUE! | R61: 0 | U61: =NETWORKDAYS(S61,T61)+V61 -> #VALUE! | Y61: =NETWORKDAYS(W61,X61)+Z61 -> 0 | AC61: =NETWORKDAYS(AA61,AB61) -> 0 | AD61: =F61-I61-M61-Q61-U61-Y61-AC61 -> #VALUE! | AE61: =SUM(J61+N61+R61+V61+Z61) -> 4
A62: SALARIE 60 | C62: 24 | D62: 6 | E62: 3 | F62: =SUM(C62,D62,E62) -> 33 | G62: 42604 | H62: 42591 | I62: =NETWORKDAYS(G62,H62)+J62 -> -7 | J62: 3 | M62: =NETWORKDAYS(K62,L62)+N62 -> #VALUE! | N62: 0 | Q62: =NETWORKDAYS(O62,P62)+R62 -> #VALUE! | R62: 0 | U62: =NETWORKDAYS(S62,T62)+V62 -> #VALUE! | Y62: =NETWORKDAYS(W62,X62)+Z62 -> 0 | AC62: =NETWORKDAYS(AA62,AB62) -> 0 | AD62: =F62-I62-M62-Q62-U62-Y62-AC62 -> #VALUE! | AE62: =SUM(J62+N62+R62+V62+Z62) -> 3
A63: SALARIE 61 | C63: 24 | D63: 6 | E63: 3 | F63: =SUM(C63,D63,E63) -> 33 | G63: 42618 | H63: 42630 | I63: =NETWORKDAYS(G63,H63)+J63 -> 12 | J63: 2 | M63: =NETWORKDAYS(K63,L63)+N63 -> #VALUE! | N63: 0 | Q63: =NETWORKDAYS(O63,P63)+R63 -> #VALUE! | R63: 0 | U63: =NETWORKDAYS(S63,T63)+V63 -> #VALUE! | Y63: =NETWORKDAYS(W63,X63)+Z63 -> 0 | AC63: =NETWORKDAYS(AA63,AB63) -> 0 | AD63: =F63-I63-M63-Q63-U63-Y63-AC63 -> #VALUE! | AE63: =SUM(J63+N63+R63+V63+Z63) -> 2
A64: SALARIE 62 | C64: 24 | D64: 6 | E64: 2 | F64: =SUM(C64,D64,E64) -> 32 | G64: 42583 | H64: 42595 | I64: =NETWORKDAYS(G64,H64)+J64 -> 12 | J64: 2 | M64: =NETWORKDAYS(K64,L64)+N64 -> #VALUE! | N64: 0 | Q64: =NETWORKDAYS(O64,P64)+R64 -> #VALUE! | R64: 0 | U64: =NETWORKDAYS(S64,T64)+V64 -> #VALUE! | Y64: =NETWORKDAYS(W64,X64)+Z64 -> 0 | AC64: =NETWORKDAYS(AA64,AB64) -> 0 | AD64: =F64-I64-M64-Q64-U64-Y64-AC64 -> #VALUE! | AE64: =SUM(J64+N64+R64+V64+Z64) -> 2
A65: SALARIE 63 | C65: 24 | D65: 6 | E65: 0 | F65: =SUM(C65,D65,E65) -> 30 | G65: 42583 | H65: 42602 | I65: =NETWORKDAYS(G65,H65)+J65 -> 18 | J65: 3 | M65: =NETWORKDAYS(K65,L65)+N65 -> #VALUE! | N65: 0 | Q65: =NETWORKDAYS(O65,P65)+R65 -> #VALUE! | R65: 0 | U65: =NETWORKDAYS(S65,T65)+V65 -> #VALUE! | Y65: =NETWORKDAYS(W65,X65)+Z65 -> 0 | AC65: =NETWORKDAYS(AA65,AB65) -> 0 | AD65: =F65-I65-M65-Q65-U65-Y65-AC65 -> #VALUE! | AE65: =SUM(J65+N65+R65+V65+Z65) -> 3
A66: SALARIE 64 | C66: 24 | D66: 6 | E66: 3 | F66: =SUM(C66,D66,E66) -> 33 | G66: 42583 | H66: 42602 | I66: =NETWORKDAYS(G66,H66)+J66 -> 18 | J66: 3 | M66: =NETWORKDAYS(K66,L66)+N66 -> #VALUE! | N66: 0 | Q66: =NETWORKDAYS(O66,P66)+R66 -> #VALUE! | R66: 0 | U66: =NETWORKDAYS(S66,T66)+V66 -> #VALUE! | Y66: =NETWORKDAYS(W66,X66)+Z66 -> 0 | AC66: =NETWORKDAYS(AA66,AB66) -> 0 | AD66: =F66-I66-M66-Q66-U66-Y66-AC66 -> #VALUE! | AE66: =SUM(J66+N66+R66+V66+Z66) -> 3
A67: SALARIE 65 | C67: 24 | D67: 6 | E67: 3 | F67: =SUM(C67,D67,E67) -> 33 | G67: 42555 | H67: 42564 | I67: =NETWORKDAYS(G67,H67)+J67 -> 9 | J67: 1 | K67: 42618 | L67: 42630 | M67: =NETWORKDAYS(K67,L67)+N67 -> 12 | N67: 2 | Q67: =NETWORKDAYS(O67,P67)+R67 -> #VALUE! | R67: 0 | U67: =NETWORKDAYS(S67,T67)+V67 -> #VALUE! | Y67: =NETWORKDAYS(W67,X67)+Z67 -> 0 | AC67: =NETWORKDAYS(AA67,AB67) -> 0 | AD67: =F67-I67-M67-Q67-U67-Y67-AC67 -> #VALUE! | AE67: =SUM(J67+N67+R67+V67+Z67) -> 3
A68: SALARIE 66 | C68: 2 | D68: 1 | E68: 0 | F68: =SUM(C68,D68,E68) -> 3 | G68: 42594 | H68: 42594 | I68: =NETWORKDAYS(G68,H68)+J68 -> 1 | J68: 0 | K68: 42627 | L68: 42627 | M68: =NETWORKDAYS(K68,L68)+N68 -> 1 | N68: 0 | Q68: =NETWORKDAYS(O68,P68)+R68 -> #VALUE! | R68: 0 | U68: =NETWORKDAYS(S68,T68)+V68 -> #VALUE! | Y68: =NETWORKDAYS(W68,X68)+Z68 -> 0 | AC68: =NETWORKDAYS(AA68,AB68) -> 0 | AD68: =F68-I68-M68-Q68-U68-Y68-AC68 -> #VALUE! | AE68: =SUM(J68+N68+R68+V68+Z68) -> 0
A69: SALARIE 67 | C69: 24 | D69: 6 | E69: 0 | F69: =SUM(C69,D69,E69) -> 30 | G69: 42563 | H69: 42581 | I69: =NETWORKDAYS(G69,H69)+J69 -> 17 | J69: 3 | M69: =NETWORKDAYS(K69,L69)+N69 -> #VALUE! | N69: 0 | Q69: =NETWORKDAYS(O69,P69)+R69 -> #VALUE! | R69: 0 | U69: =NETWORKDAYS(S69,T69)+V69 -> #VALUE! | Y69: =NETWORKDAYS(W69,X69)+Z69 -> 0 | AC69: =NETWORKDAYS(AA69,AB69) -> 0 | AD69: =F69-I69-M69-Q69-U69-Y69-AC69 -> #VALUE! | AE69: =SUM(J69+N69+R69+V69+Z69) -> 3
A70: SALARIE 68 | C70: 0 | D70: 0 | E70: 0 | F70: =SUM(C70,D70,E70) -> 0 | I70: =NETWORKDAYS(G70,H70)+J70 -> 0 | J70: 0 | M70: =NETWORKDAYS(K70,L70)+N70 -> 0 | N70: 0 | Q70: =NETWORKDAYS(O70,P70)+R70 -> 0 | R70: 0 | U70: =NETWORKDAYS(S70,T70)+V70 -> 0 | Y70: =NETWORKDAYS(W70,X70)+Z70 -> 0 | AC70: =NETWORKDAYS(AA70,AB70) -> 0 | AD70: =F70-I70-M70-Q70-U70-Y70-AC70 -> 0 | AE70: =SUM(J70+N70+R70+V70+Z70) -> 0
A71: SALARIE 69 | F71: =SUM(C71,D71,E71) -> 0 | I71: =NETWORKDAYS(G71,H71)+J71 -> 0 | M71: =NETWORKDAYS(K71,L71)+N71 -> 0 | Q71: =NETWORKDAYS(O71,P71)+R71 -> 0 | U71: =NETWORKDAYS(S71,T71)+V71 -> 0 | Y71: =NETWORKDAYS(W71,X71)+Z71 -> 0 | AC71: =NETWORKDAYS(AA71,AB71) -> 0 | AD71: =F71-I71-M71-Q71-U71-Y71-AC71 -> 0 | AE71: =SUM(J71+N71+R71+V71+Z71) -> 0
A72: SALARIE 70 | F72: =SUM(C72,D72,E72) -> 0 | I72: =NETWORKDAYS(G72,H72)+J72 -> 0 | M72: =NETWORKDAYS(K72,L72)+N72 -> 0 | Q72: =NETWORKDAYS(O72,P72)+R72 -> 0 | U72: =NETWORKDAYS(S72,T72)+V72 -> 0 | Y72: =NETWORKDAYS(W72,X72)+Z72 -> 0 | AC72: =NETWORKDAYS(AA72,AB72) -> 0 | AD72: =F72-I72-M72-Q72-U72-Y72-AC72 -> 0 | AE72: =SUM(J72+N72+R72+V72+Z72) -> 0
A73: SALARIE 71 | F73: =SUM(C73,D73,E73) -> 0 | I73: =NETWORKDAYS(G73,H73)+J73 -> 0 | M73: =NETWORKDAYS(K73,L73)+N73 -> 0 | Q73: =NETWORKDAYS(O73,P73)+R73 -> 0 | U73: =NETWORKDAYS(S73,T73)+V73 -> 0 | Y73: =NETWORKDAYS(W73,X73)+Z73 -> 0 | AC73: =NETWORKDAYS(AA73,AB73) -> 0 | AD73: =F73-I73-M73-Q73-U73-Y73-AC73 -> 0 | AE73: =SUM(J73+N73+R73+V73+Z73) -> 0
A74: SALARIE 72 | F74: =SUM(C74,D74,E74) -> 0 | I74: =NETWORKDAYS(G74,H74)+J74 -> 0 | M74: =NETWORKDAYS(K74,L74)+N74 -> 0 | Q74: =NETWORKDAYS(O74,P74)+R74 -> 0 | U74: =NETWORKDAYS(S74,T74)+V74 -> 0 | Y74: =NETWORKDAYS(W74,X74)+Z74 -> 0 | AC74: =NETWORKDAYS(AA74,AB74) -> 0 | AD74: =F74-I74-M74-Q74-U74-Y74-AC74 -> 0 | AE74: =SUM(J74+N74+R74+V74+Z74) -> 0
A75: SALARIE 73 | F75: =SUM(C75,D75,E75) -> 0 | I75: =NETWORKDAYS(G75,H75)+J75 -> 0 | M75: =NETWORKDAYS(K75,L75)+N75 -> 0 | Q75: =NETWORKDAYS(O75,P75)+R75 -> 0 | U75: =NETWORKDAYS(S75,T75)+V75 -> 0 | Y75: =NETWORKDAYS(W75,X75)+Z75 -> 0 | AC75: =NETWORKDAYS(AA75,AB75) -> 0 | AD75: =F75-I75-M75-Q75-U75-Y75-AC75 -> 0 | AE75: =SUM(J75+N75+R75+V75+Z75) -> 0
A76: SALARIE 74 | F76: =SUM(C76,D76,E76) -> 0 | I76: =NETWORKDAYS(G76,H76)+J76 -> 0 | M76: =NETWORKDAYS(K76,L76)+N76 -> 0 | Q76: =NETWORKDAYS(O76,P76)+R76 -> 0 | U76: =NETWORKDAYS(S76,T76)+V76 -> 0 | Y76: =NETWORKDAYS(W76,X76)+Z76 -> 0 | AC76: =NETWORKDAYS(AA76,AB76) -> 0 | AD76: =F76-I76-M76-Q76-U76-Y76-AC76 -> 0 | AE76: =SUM(J76+N76+R76+V76+Z76) -> 0
A77: SALARIE 75 | F77: =SUM(C77,D77,E77) -> 0 | I77: =NETWORKDAYS(G77,H77)+J77 -> 0 | M77: =NETWORKDAYS(K77,L77)+N77 -> 0 | Q77: =NETWORKDAYS(O77,P77)+R77 -> 0 | U77: =NETWORKDAYS(S77,T77)+V77 -> 0 | Y77: =NETWORKDAYS(W77,X77)+Z77 -> 0 | AC77: =NETWORKDAYS(AA77,AB77) -> 0 | AD77: =F77-I77-M77-Q77-U77-Y77-AC77 -> 0 | AE77: =SUM(J77+N77+R77+V77+Z77) -> 0
A78: SALARIE 76 | F78: =SUM(C78,D78,E78) -> 0 | I78: =NETWORKDAYS(G78,H78)+J78 -> 0 | M78: =NETWORKDAYS(K78,L78)+N78 -> 0 | Q78: =NETWORKDAYS(O78,P78)+R78 -> 0 | U78: =NETWORKDAYS(S78,T78)+V78 -> 0 | Y78: =NETWORKDAYS(W78,X78)+Z78 -> 0 | AC78: =NETWORKDAYS(AA78,AB78) -> 0 | AD78: =F78-I78-M78-Q78-U78-Y78-AC78 -> 0 | AE78: =SUM(J78+N78+R78+V78+Z78) -> 0
A79: SALARIE 77 | F79: =SUM(C79,D79,E79) -> 0 | I79: =NETWORKDAYS(G79,H79)+J79 -> 0 | M79: =NETWORKDAYS(K79,L79)+N79 -> 0 | Q79: =NETWORKDAYS(O79,P79)+R79 -> 0 | U79: =NETWORKDAYS(S79,T79)+V79 -> 0 | Y79: =NETWORKDAYS(W79,X79)+Z79 -> 0 | AC79: =NETWORKDAYS(AA79,AB79) -> 0 | AD79: =F79-I79-M79-Q79-U79-Y79-AC79 -> 0 | AE79: =SUM(J79+N79+R79+V79+Z79) -> 0

Sheet RTT
A1: Nom | B1: 1er | C1: 2e | D1: 3e | E1: 4e | F1: 5e | G1: 6e | H1: 7e | I1: 8e | J1: 9e | K1: 10e | L1: 11e | M1: 12e | N1: Solde
A2: SALARIE 1 | N2: =COUNTBLANK(B2:M2) -> 12
A3: SALARIE 2 | N3: =COUNTBLANK(B3:M3) -> 12
A4: SALARIE 3 | N4: =COUNTBLANK(B4:M4) -> 12
A5: SALARIE 4 | N5: =COUNTBLANK(B5:M5) -> 12
A6: SALARIE 5 | N6: =COUNTBLANK(B6:M6) -> 12
A7: SALARIE 6 | N7: =COUNTBLANK(B7:M7) -> 12
A8: SALARIE 7 | N8: =COUNTBLANK(B8:M8) -> 12
A9: SALARIE 8 | N9: =COUNTBLANK(B9:M9) -> 12
A10: SALARIE 9 | N10: =COUNTBLANK(B10:M10) -> 12
A11: SALARIE 10 | N11: =COUNTBLANK(B11:M11) -> 12
A12: SALARIE 11 | N12: =COUNTBLANK(B12:M12) -> 12
A13: SALARIE 12 | N13: =COUNTBLANK(B13:M13) -> 12
... A49: SALARIE 48 | N49: =COUNTBLANK(B49:M49) -> 12
A50: SALARIE 49 | B50: 42432 | N50: =COUNTBLANK(B50:M50) -> 11
A51: SALARIE 50 | N51: =COUNTBLANK(B51:M51) -> 12
A52: SALARIE 51 | B52: 42416 | C52: 42461 | N52: =COUNTBLANK(B52:M52) -> 10
A53: SALARIE 52 | N53: =COUNTBLANK(B53:M53) -> 12
A54: SALARIE 53 | N54: =COUNTBLANK(B54:M54) -> 12
A55: SALARIE 54 | N55: =COUNTBLANK(B55:M55) -> 12
A56: SALARIE 55 | N56: =COUNTBLANK(B56:M56) -> 12
A57: SALARIE 56 | N57: =COUNTBLANK(B57:M57) -> 12
A58: SALARIE 57 | N58: =COUNTBLANK(B58:M58) -> 12
A59: SALARIE 58 | N59: =COUNTBLANK(B59:M59) -> 12
A60: SALARIE 59 | N60: =COUNTBLANK(B60:M60) -> 12
A61: SALARIE 60 | B61: 42405 | C61: 42419 | D61: 42447 | N61: =COUNTBLANK(B61:M61) -> 9
A62: SALARIE 61 | N62: =COUNTBLANK(B62:M62) -> 12
A63: SALARIE 62 | N63: =COUNTBLANK(B63:M63) -> 12
A64: SALARIE 63 | N64: =COUNTBLANK(B64:M64) -> 12
A65: SALARIE 64 | B65: 42411 | C65: 42412 | D65: 42415 | E65: 42416 | F65: 42439 | G65: 42445 | N65: =COUNTBLANK(B65:M65) -> 6
A66: SALARIE 65 | N66: =COUNTBLANK(B66:M66) -> 12
A67: SALARIE 66 | N67: =COUNTBLANK(B67:M67) -> 12
A68: SALARIE 67 | N68: =COUNTBLANK(B68:M68) -> 12
A69: SALARIE 68
A70: SALARIE 69
A71: SALARIE 70
A72: SALARIE 71
A73: SALARIE 72
A74: SALARIE 73
A75: SALARIE 74
A76: SALARIE 75
A77: SALARIE 76
A78: SALARIE 77
A79: SALARIE 78
A80: SALARIE 79

Sheet Planning
A1: Choisissez le mois de debut : | B1: 7
A2: Choisissez l'année de debut : | B2: 2016
A4: Nom | B4: Entité | C4: =C6 -> 42552 | D4: =D6 -> 42553 | E4: =E6 -> 42554 | F4: =F6 -> 42555 | G4: =G6 -> 42556 | H4: =H6 -> 42557 | I4: =I6 -> 42558 | J4: =J6 -> 42559 | ... CP4: =CP6 -> 42643
C5: ="S"&WEEKNUM(C6,1) -> S27 | D5: ="S"&WEEKNUM(D6,1) -> S27 | E5: ="S"&WEEKNUM(E6,1) -> S28 | F5: ="S"&WEEKNUM(F6,1) -> S28 | G5: ="S"&WEEKNUM(G6,1) -> S28 | H5: ="S"&WEEKNUM(H6,1) -> S28 | I5: ="S"&WEEKNUM(I6,1) -> S28 | J5: ="S"&WEEKNUM(J6,1) -> S28 | ... CP5: ="S"&WEEKNUM(CP6,1) -> S40
C6: =DATE($B$2,$B$1,1) -> 42552 | D6: =C6+1 -> 42553 | E6: =D6+1 -> 42554 | F6: =E6+1 -> 42555 | G6: =F6+1 -> 42556 | H6: =G6+1 -> 42557 | I6: =H6+1 -> 42558 | J6: =I6+1 -> 42559 | K6: =J6+1 -> 42560 | ... CP6: =CO6+1 -> 42643
A7: AUMAND Frédéric | B7: BE | C7: =IF(OR(AND(C$6>=CP!$G3,C$6<=CP!$H3),AND(C$6>=CP!$K3,C$6<=CP!$L3),AND(C$6>=CP!$O3,C$6<=CP!$P3),AND(C$6>=CP!$S3,C$6<=CP!$T3),AND(C$6>=CP!$W3,C$6<=CP!$X3),AND(C$6>=CP!$AA3,C$6<=CP!$AB3)),"CP",IF(ISNA(HLOOKUP(C$6,RTT!$B2:$M2,1,0)),"","RTT")) | D7: =IF(OR(AND(D$6>=CP!$G3,D$6<=CP!$H3),AND(D$6>=CP!$K3,D$6<=CP!$L3),AND(D$6>=CP!$O3,D$6<=CP!$P3),AND(D$6>=CP!$S3,D$6<=CP!$T3),AND(D$6>=CP!$W3,D$6<=CP!$X3),AND(D$6>=CP!$AA3,D$6<=CP!$AB3)),"CP",IF(ISNA(HLOOKUP(D$6,RTT!$B2:$M2,1,0)),"","RTT")) | E7: =IF(OR(AND(E$6>=CP!$G3,E$6<=CP!$H3),AND(E$6>=CP!$K3,E$6<=CP!$L3),AND(E$6>=CP!$O3,E$6<=CP!$P3),AND(E$6>=CP!$S3,E$6<=CP!$T3),AND(E$6>=CP!$W3,E$6<=CP!$X3),AND(E$6>=CP!$AA3,E$6<=CP!$AB3)),"CP",IF(ISNA(HLOOKUP(E$6,RTT!$B2:$M2,1,0)),"","RTT")) | F7: =IF(OR(AND(F$6>=CP!$G3,F$6<=CP!$H3),AND(F$6>=CP!$K3,F$6<=CP!$L3),AND(F$6>=CP!$O3,F$6<=CP!$P3),AND(F$6>=CP!$S3,F$6<=CP!$T3),AND(F$6>=CP!$W3,F$6<=CP!$X3),AND(F$6>=CP!$AA3,F$6<=CP!$AB3)),"CP",IF(ISNA(HLOOKUP(F$6,RTT!$B2:$M2,1,0)),"","RTT")) | G7: =IF(OR(AND(G$6>=CP!$G3,G$6<=CP!$H3),AND(G$6>=CP!$K3,G$6<=CP!$L3),AND(G$6>=CP!$O3,G$6<=CP!$P3),AND(G$6>=CP!$S3,G$6<=CP!$T3),AND(G$6>=CP!$W3,G$6<=CP!$X3),AND(G$6>=CP!$AA3,G$6<=CP!$AB3)),"CP",IF(ISNA(HLOOKUP(G$6,RTT!$B2:$M2,1,0)),"","RTT")) | H7: =IF(OR(AND(H$6>=CP!$G3,H$6<=CP!$H3),AND(H$6>=CP!$K3,H$6<=CP!$L3),AND(H$6>=CP!$O3,H$6<=CP!$P3),AND(H$6>=CP!$S3,H$6<=CP!$T3),AND(H$6>=CP!$W3,H$6<=CP!$X3),AND(H$6>=CP!$AA3,H$6<=CP!$AB3)),"CP",IF(ISNA(HLOOKUP(H$6,RTT!$B2:$M2,1,0)),"","RTT")) | I7: =IF(OR(AND(I$6>=CP!$G3,I$6<=CP!$H3),AND(I$6>=CP!$K3,I$6<=CP!$L3),AND(I$6>=CP!$O3,I$6<=CP!$P3),AND(I$6>=CP!$S3,I$6<=CP!$T3),AND(I$6>=CP!$W3,I$6<=CP!$X3),AND(I$6>=CP!$AA3,I$6<=CP!$AB3)),"CP",IF(ISNA(HLOOKUP(I$6,RTT!$B2:$M2,1,0)),"","RTT")) | J7: =IF(OR(AND(J$6>=CP!$G3,J$6<=CP!$H3),AND(J$6>=CP!$K3,J$6<=CP!$L3),AND(J$6>=CP!$O3,J$6<=CP!$P3),AND(J$6>=CP!$S3,J$6<=CP!$T3),AND(J$6>=CP!$W3,J$6<=CP!$X3),AND(J$6>=CP!$AA3,J$6<=CP!$AB3)),"CP",IF(ISNA(HLOOKUP(J$6,RTT!$B2:$M2,1,0)),"","RTT")) | ... CP7: =IF(OR(AND(CP$6>=CP!$G3,CP$6<=CP!$H3),AND(CP$6>=CP!$K3,CP$6<=CP!$L3),AND(CP$6>=CP!$O3,CP$6<=CP!$P3),AND(CP$6>=CP!$S3,CP$6<=CP!$T3),AND(CP$6>=CP!$W3,CP$6<=CP!$X3),AND(CP$6>=CP!$AA3,CP$6<=CP!$AB3)),"CP",IF(ISNA(HLOOKUP(CP$6,RTT!$B2:$M2,1,0)),"","RTT"))
A8: BAZILE LoÏc | B8: EC | C8: =IF(OR(AND(C$6>=CP!$G4,C$6<=CP!$H4),AND(C$6>=CP!$K4,C$6<=CP!$L4),AND(C$6>=CP!$O4,C$6<=CP!$P4),AND(C$6>=CP!$S4,C$6<=CP!$T4),AND(C$6>=CP!$W4,C$6<=CP!$X4),AND(C$6>=CP!$AA4,C$6<=CP!$AB4)),"CP",IF(ISNA(HLOOKUP(C$6,RTT!$B3:$M3,1,0)),"","RTT")) | D8: =IF(OR(AND(D$6>=CP!$G4,D$6<=CP!$H4),AND(D$6>=CP!$K4,D$6<=CP!$L4),AND(D$6>=CP!$O4,D$6<=CP!$P4),AND(D$6>=CP!$S4,D$6<=CP!$T4),AND(D$6>=CP!$W4,D$6<=CP!$X4),AND(D$6>=CP!$AA4,D$6<=CP!$AB4)),"CP",IF(ISNA(HLOOKUP(D$6,RTT!$B3:$M3,1,0)),"","RTT")) | E8: =IF(OR(AND(E$6>=CP!$G4,E$6<=CP!$H4),AND(E$6>=CP!$K4,E$6<=CP!$L4),AND(E$6>=CP!$O4,E$6<=CP!$P4),AND(E$6>=CP!$S4,E$6<=CP!$T4),AND(E$6>=CP!$W4,E$6<=CP!$X4),AND(E$6>=CP!$AA4,E$6<=CP!$AB4)),"CP",IF(ISNA(HLOOKUP(E$6,RTT!$B3:$M3,1,0)),"","RTT")) | F8: =IF(OR(AND(F$6>=CP!$G4,F$6<=CP!$H4),AND(F$6>=CP!$K4,F$6<=CP!$L4),AND(F$6>=CP!$O4,F$6<=CP!$P4),AND(F$6>=CP!$S4,F$6<=CP!$T4),AND(F$6>=CP!$W4,F$6<=CP!$X4),AND(F$6>=CP!$AA4,F$6<=CP!$AB4)),"CP",IF(ISNA(HLOOKUP(F$6,RTT!$B3:$M3,1,0)),"","RTT")) | G8: =IF(OR(AND(G$6>=CP!$G4,G$6<=CP!$H4),AND(G$6>=CP!$K4,G$6<=CP!$L4),AND(G$6>=CP!$O4,G$6<=CP!$P4),AND(G$6>=CP!$S4,G$6<=CP!$T4),AND(G$6>=CP!$W4,G$6<=CP!$X4),AND(G$6>=CP!$AA4,G$6<=CP!$AB4)),"CP",IF(ISNA(HLOOKUP(G$6,RTT!$B3:$M3,1,0)),"","RTT")) | H8: =IF(OR(AND(H$6>=CP!$G4,H$6<=CP!$H4),AND(H$6>=CP!$K4,H$6<=CP!$L4),AND(H$6>=CP!$O4,H$6<=CP!$P4),AND(H$6>=CP!$S4,H$6<=CP!$T4),AND(H$6>=CP!$W4,H$6<=CP!$X4),AND(H$6>=CP!$AA4,H$6<=CP!$AB4)),"CP",IF(ISNA(HLOOKUP(H$6,RTT!$B3:$M3,1,0)),"","RTT")) | I8: =IF(OR(AND(I$6>=CP!$G4,I$6<=CP!$H4),AND(I$6>=CP!$K4,I$6<=CP!$L4),AND(I$6>=CP!$O4,I$6<=CP!$P4),AND(I$6>=CP!$S4,I$6<=CP!$T4),AND(I$6>=CP!$W4,I$6<=CP!$X4),AND(I$6>=CP!$AA4,I$6<=CP!$AB4)),"CP",IF(ISNA(HLOOKUP(I$6,RTT!$B3:$M3,1,0)),"","RTT")) | J8: =IF(OR(AND(J$6>=CP!$G4,J$6<=CP!$H4),AND(J$6>=CP!$K4,J$6<=CP!$L4),AND(J$6>=CP!$O4,J$6<=CP!$P4),AND(J$6>=CP!$S4,J$6<=CP!$T4),AND(J$6>=CP!$W4,J$6<=CP!$X4),AND(J$6>=CP!$AA4,J$6<=CP!$AB4)),"CP",IF(ISNA(HLOOKUP(J$6,RTT!$B3:$M3,1,0)),"","RTT")) | ... CP8: =IF(OR(AND(CP$6>=CP!$G4,CP$6<=CP!$H4),AND(CP$6>=CP!$K4,CP$6<=CP!$L4),AND(CP$6>=CP!$O4,CP$6<=CP!$P4),AND(CP$6>=CP!$S4,CP$6<=CP!$T4),AND(CP$6>=CP!$W4,CP$6<=CP!$X4),AND(CP$6>=CP!$AA4,CP$6<=CP!$AB4)),"CP",IF(ISNA(HLOOKUP(CP$6,RTT!$B3:$M3,1,0)),"","RTT"))
A9: BELNA Dominique | B9: C | C9: =IF(OR(AND(C$6>=CP!$G5,C$6<=CP!$H5),AND(C$6>=CP!$K5,C$6<=CP!$L5),AND(C$6>=CP!$O5,C$6<=CP!$P5),AND(C$6>=CP!$S5,C$6<=CP!$T5),AND(C$6>=CP!$W5,C$6<=CP!$X5),AND(C$6>=CP!$AA5,C$6<=CP!$AB5)),"CP",IF(ISNA(HLOOKUP(C$6,RTT!$B4:$M4,1,0)),"","RTT")) | D9: =IF(OR(AND(D$6>=CP!$G5,D$6<=CP!$H5),AND(D$6>=CP!$K5,D$6<=CP!$L5),AND(D$6>=CP!$O5,D$6<=CP!$P5),AND(D$6>=CP!$S5,D$6<=CP!$T5),AND(D$6>=CP!$W5,D$6<=CP!$X5),AND(D$6>=CP!$AA5,D$6<=CP!$AB5)),"CP",IF(ISNA(HLOOKUP(D$6,RTT!$B4:$M4,1,0)),"","RTT")) | E9: =IF(OR(AND(E$6>=CP!$G5,E$6<=CP!$H5),AND(E$6>=CP!$K5,E$6<=CP!$L5),AND(E$6>=CP!$O5,E$6<=CP!$P5),AND(E$6>=CP!$S5,E$6<=CP!$T5),AND(E$6>=CP!$W5,E$6<=CP!$X5),AND(E$6>=CP!$AA5,E$6<=CP!$AB5)),"CP",IF(ISNA(HLOOKUP(E$6,RTT!$B4:$M4,1,0)),"","RTT")) | F9: =IF(OR(AND(F$6>=CP!$G5,F$6<=CP!$H5),AND(F$6>=CP!$K5,F$6<=CP!$L5),AND(F$6>=CP!$O5,F$6<=CP!$P5),AND(F$6>=CP!$S5,F$6<=CP!$T5),AND(F$6>=CP!$W5,F$6<=CP!$X5),AND(F$6>=CP!$AA5,F$6<=CP!$AB5)),"CP",IF(ISNA(HLOOKUP(F$6,RTT!$B4:$M4,1,0)),"","RTT")) | G9: =IF(OR(AND(G$6>=CP!$G5,G$6<=CP!$H5),AND(G$6>=CP!$K5,G$6<=CP!$L5),AND(G$6>=CP!$O5,G$6<=CP!$P5),AND(G$6>=CP!$S5,G$6<=CP!$T5),AND(G$6>=CP!$W5,G$6<=CP!$X5),AND(G$6>=CP!$AA5,G$6<=CP!$AB5)),"CP",IF(ISNA(HLOOKUP(G$6,RTT!$B4:$M4,1,0)),"","RTT")) | H9: =IF(OR(AND(H$6>=CP!$G5,H$6<=CP!$H5),AND(H$6>=CP!$K5,H$6<=CP!$L5),AND(H$6>=CP!$O5,H$6<=CP!$P5),AND(H$6>=CP!$S5,H$6<=CP!$T5),AND(H$6>=CP!$W5,H$6<=CP!$X5),AND(H$6>=CP!$AA5,H$6<=CP!$AB5)),"CP",IF(ISNA(HLOOKUP(H$6,RTT!$B4:$M4,1,0)),"","RTT")) | I9: =IF(OR(AND(I$6>=CP!$G5,I$6<=CP!$H5),AND(I$6>=CP!$K5,I$6<=CP!$L5),AND(I$6>=CP!$O5,I$6<=CP!$P5),AND(I$6>=CP!$S5,I$6<=CP!$T5),AND(I$6>=CP!$W5,I$6<=CP!$X5),AND(I$6>=CP!$AA5,I$6<=CP!$AB5)),"CP",IF(ISNA(HLOOKUP(I$6,RTT!$B4:$M4,1,0)),"","RTT")) | J9: =IF(OR(AND(J$6>=CP!$G5,J$6<=CP!$H5),AND(J$6>=CP!$K5,J$6<=CP!$L5),AND(J$6>=CP!$O5,J$6<=CP!$P5),AND(J$6>=CP!$S5,J$6<=CP!$T5),AND(J$6>=CP!$W5,J$6<=CP!$X5),AND(J$6>=CP!$AA5,J$6<=CP!$AB5)),"CP",IF(ISNA(HLOOKUP(J$6,RTT!$B4:$M4,1,0)),"","RTT")) | ... CP9: =IF(OR(AND(CP$6>=CP!$G5,CP$6<=CP!$H5),AND(CP$6>=CP!$K5,CP$6<=CP!$L5),AND(CP$6>=CP!$O5,CP$6<=CP!$P5),AND(CP$6>=CP!$S5,CP$6<=CP!$T5),AND(CP$6>=CP!$W5,CP$6<=CP!$X5),AND(CP$6>=CP!$AA5,CP$6<=CP!$AB5)),"CP",IF(ISNA(HLOOKUP(CP$6,RTT!$B4:$M4,1,0)),"","RTT"))
A10: BERNARD Frédéric | B10: EC | C10: =IF(OR(AND(C$6>=CP!$G6,C$6<=CP!$H6),AND(C$6>=CP!$K6,C$6<=CP!$L6),AND(C$6>=CP!$O6,C$6<=CP!$P6),AND(C$6>=CP!$S6,C$6<=CP!$T6),AND(C$6>=CP!$W6,C$6<=CP!$X6),AND(C$6>=CP!$AA6,C$6<=CP!$AB6)),"CP",IF(ISNA(HLOOKUP(C$6,RTT!$B37:$M37,1,0)),"","RTT")) | D10: =IF(OR(AND(D$6>=CP!$G6,D$6<=CP!$H6),AND(D$6>=CP!$K6,D$6<=CP!$L6),AND(D$6>=CP!$O6,D$6<=CP!$P6),AND(D$6>=CP!$S6,D$6<=CP!$T6),AND(D$6>=CP!$W6,D$6<=CP!$X6),AND(D$6>=CP!$AA6,D$6<=CP!$AB6)),"CP",IF(ISNA(HLOOKUP(D$6,RTT!$B37:$M37,1,0)),"","RTT")) | E10: =IF(OR(AND(E$6>=CP!$G6,E$6<=CP!$H6),AND(E$6>=CP!$K6,E$6<=CP!$L6),AND(E$6>=CP!$O6,E$6<=CP!$P6),AND(E$6>=CP!$S6,E$6<=CP!$T6),AND(E$6>=CP!$W6,E$6<=CP!$X6),AND(E$6>=CP!$AA6,E$6<=CP!$AB6)),"CP",IF(ISNA(HLOOKUP(E$6,RTT!$B37:$M37,1,0)),"","RTT")) | F10: =IF(OR(AND(F$6>=CP!$G6,F$6<=CP!$H6),AND(F$6>=CP!$K6,F$6<=CP!$L6),AND(F$6>=CP!$O6,F$6<=CP!$P6),AND(F$6>=CP!$S6,F$6<=CP!$T6),AND(F$6>=CP!$W6,F$6<=CP!$X6),AND(F$6>=CP!$AA6,F$6<=CP!$AB6)),"CP",IF(ISNA(HLOOKUP(F$6,RTT!$B37:$M37,1,0)),"","RTT")) | G10: =IF(OR(AND(G$6>=CP!$G6,G$6<=CP!$H6),AND(G$6>=CP!$K6,G$6<=CP!$L6),AND(G$6>=CP!$O6,G$6<=CP!$P6),AND(G$6>=CP!$S6,G$6<=CP!$T6),AND(G$6>=CP!$W6,G$6<=CP!$X6),AND(G$6>=CP!$AA6,G$6<=CP!$AB6)),"CP",IF(ISNA(HLOOKUP(G$6,RTT!$B37:$M37,1,0)),"","RTT")) | H10: =IF(OR(AND(H$6>=CP!$G6,H$6<=CP!$H6),AND(H$6>=CP!$K6,H$6<=CP!$L6),AND(H$6>=CP!$O6,H$6<=CP!$P6),AND(H$6>=CP!$S6,H$6<=CP!$T6),AND(H$6>=CP!$W6,H$6<=CP!$X6),AND(H$6>=CP!$AA6,H$6<=CP!$AB6)),"CP",IF(ISNA(HLOOKUP(H$6,RTT!$B37:$M37,1,0)),"","RTT")) | I10: =IF(OR(AND(I$6>=CP!$G6,I$6<=CP!$H6),AND(I$6>=CP!$K6,I$6<=CP!$L6),AND(I$6>=CP!$O6,I$6<=CP!$P6),AND(I$6>=CP!$S6,I$6<=CP!$T6),AND(I$6>=CP!$W6,I$6<=CP!$X6),AND(I$6>=CP!$AA6,I$6<=CP!$AB6)),"CP",IF(ISNA(HLOOKUP(I$6,RTT!$B37:$M37,1,0)),"","RTT")) | J10: =IF(OR(AND(J$6>=CP!$G6,J$6<=CP!$H6),AND(J$6>=CP!$K6,J$6<=CP!$L6),AND(J$6>=CP!$O6,J$6<=CP!$P6),AND(J$6>=CP!$S6,J$6<=CP!$T6),AND(J$6>=CP!$W6,J$6<=CP!$X6),AND(J$6>=CP!$AA6,J$6<=CP!$AB6)),"CP",IF(ISNA(HLOOKUP(J$6,RTT!$B37:$M37,1,0)),"","RTT")) | ... CP10: =IF(OR(AND(CP$6>=CP!$G6,CP$6<=CP!$H6),AND(CP$6>=CP!$K6,CP$6<=CP!$L6),AND(CP$6>=CP!$O6,CP$6<=CP!$P6),AND(CP$6>=CP!$S6,CP$6<=CP!$T6),AND(CP$6>=CP!$W6,CP$6<=CP!$X6),AND(CP$6>=CP!$AA6,CP$6<=CP!$AB6)),"CP",IF(ISNA(HLOOKUP(CP$6,RTT!$B37:$M37,1,0)),"","RTT"))
A11: BIENVENU Guénaël | B11: EC | C11: =IF(OR(AND(C$6>=CP!$G7,C$6<=CP!$H7),AND(C$6>=CP!$K7,C$6<=CP!$L7),AND(C$6>=CP!$O7,C$6<=CP!$P7),AND(C$6>=CP!$S7,C$6<=CP!$T7),AND(C$6>=CP!$W7,C$6<=CP!$X7),AND(C$6>=CP!$AA7,C$6<=CP!$AB7)),"CP",IF(ISNA(HLOOKUP(C$6,RTT!$B38:$M38,1,0)),"","RTT")) | D11: =IF(OR(AND(D$6>=CP!$G7,D$6<=CP!$H7),AND(D$6>=CP!$K7,D$6<=CP!$L7),AND(D$6>=CP!$O7,D$6<=CP!$P7),AND(D$6>=CP!$S7,D$6<=CP!$T7),AND(D$6>=CP!$W7,D$6<=CP!$X7),AND(D$6>=CP!$AA7,D$6<=CP!$AB7)),"CP",IF(ISNA(HLOOKUP(D$6,RTT!$B38:$M38,1,0)),"","RTT")) | E11: =IF(OR(AND(E$6>=CP!$G7,E$6<=CP!$H7),AND(E$6>=CP!$K7,E$6<=CP!$L7),AND(E$6>=CP!$O7,E$6<=CP!$P7),AND(E$6>=CP!$S7,E$6<=CP!$T7),AND(E$6>=CP!$W7,E$6<=CP!$X7),AND(E$6>=CP!$AA7,E$6<=CP!$AB7)),"CP",IF(ISNA(HLOOKUP(E$6,RTT!$B38:$M38,1,0)),"","RTT")) | F11: =IF(OR(AND(F$6>=CP!$G7,F$6<=CP!$H7),AND(F$6>=CP!$K7,F$6<=CP!$L7),AND(F$6>=CP!$O7,F$6<=CP!$P7),AND(F$6>=CP!$S7,F$6<=CP!$T7),AND(F$6>=CP!$W7,F$6<=CP!$X7),AND(F$6>=CP!$AA7,F$6<=CP!$AB7)),"CP",IF(ISNA(HLOOKUP(F$6,RTT!$B38:$M38,1,0)),"","RTT")) | G11: =IF(OR(AND(G$6>=CP!$G7,G$6<=CP!$H7),AND(G$6>=CP!$K7,G$6<=CP!$L7),AND(G$6>=CP!$O7,G$6<=CP!$P7),AND(G$6>=CP!$S7,G$6<=CP!$T7),AND(G$6>=CP!$W7,G$6<=CP!$X7),AND(G$6>=CP!$AA7,G$6<=CP!$AB7)),"CP",IF(ISNA(HLOOKUP(G$6,RTT!$B38:$M38,1,0)),"","RTT")) | H11: =IF(OR(AND(H$6>=CP!$G7,H$6<=CP!$H7),AND(H$6>=CP!$K7,H$6<=CP!$L7),AND(H$6>=CP!$O7,H$6<=CP!$P7),AND(H$6>=CP!$S7,H$6<=CP!$T7),AND(H$6>=CP!$W7,H$6<=CP!$X7),AND(H$6>=CP!$AA7,H$6<=CP!$AB7)),"CP",IF(ISNA(HLOOKUP(H$6,RTT!$B38:$M38,1,0)),"","RTT")) | I11: =IF(OR(AND(I$6>=CP!$G7,I$6<=CP!$H7),AND(I$6>=CP!$K7,I$6<=CP!$L7),AND(I$6>=CP!$O7,I$6<=CP!$P7),AND(I$6>=CP!$S7,I$6<=CP!$T7),AND(I$6>=CP!$W7,I$6<=CP!$X7),AND(I$6>=CP!$AA7,I$6<=CP!$AB7)),"CP",IF(ISNA(HLOOKUP(I$6,RTT!$B38:$M38,1,0)),"","RTT")) | J11: =IF(OR(AND(J$6>=CP!$G7,J$6<=CP!$H7),AND(J$6>=CP!$K7,J$6<=CP!$L7),AND(J$6>=CP!$O7,J$6<=CP!$P7),AND(J$6>=CP!$S7,J$6<=CP!$T7),AND(J$6>=CP!$W7,J$6<=CP!$X7),AND(J$6>=CP!$AA7,J$6<=CP!$AB7)),"CP",IF(ISNA(HLOOKUP(J$6,RTT!$B38:$M38,1,0)),"","RTT")) | ... CP11: =IF(OR(AND(CP$6>=CP!$G7,CP$6<=CP!$H7),AND(CP$6>=CP!$K7,CP$6<=CP!$L7),AND(CP$6>=CP!$O7,CP$6<=CP!$P7),AND(CP$6>=CP!$S7,CP$6<=CP!$T7),AND(CP$6>=CP!$W7,CP$6<=CP!$X7),AND(CP$6>=CP!$AA7,CP$6<=CP!$AB7)),"CP",IF(ISNA(HLOOKUP(CP$6,RTT!$B38:$M38,1,0)),"","RTT"))
A12: BLANCHET Jean-Claude | B12: EC | C12: =IF(OR(AND(C$6>=CP!$G8,C$6<=CP!$H8),AND(C$6>=CP!$K8,C$6<=CP!$L8),AND(C$6>=CP!$O8,C$6<=CP!$P8),AND(C$6>=CP!$S8,C$6<=CP!$T8),AND(C$6>=CP!$W8,C$6<=CP!$X8),AND(C$6>=CP!$AA8,C$6<=CP!$AB8)),"CP",IF(ISNA(HLOOKUP(C$6,RTT!$B39:$M39,1,0)),"","RTT")) | D12: =IF(OR(AND(D$6>=CP!$G8,D$6<=CP!$H8),AND(D$6>=CP!$K8,D$6<=CP!$L8),AND(D$6>=CP!$O8,D$6<=CP!$P8),AND(D$6>=CP!$S8,D$6<=CP!$T8),AND(D$6>=CP!$W8,D$6<=CP!$X8),AND(D$6>=CP!$AA8,D$6<=CP!$AB8)),"CP",IF(ISNA(HLOOKUP(D$6,RTT!$B39:$M39,1,0)),"","RTT")) | E12: =IF(OR(AND(E$6>=CP!$G8,E$6<=CP!$H8),AND(E$6>=CP!$K8,E$6<=CP!$L8),AND(E$6>=CP!$O8,E$6<=CP!$P8),AND(E$6>=CP!$S8,E$6<=CP!$T8),AND(E$6>=CP!$W8,E$6<=CP!$X8),AND(E$6>=CP!$AA8,E$6<=CP!$AB8)),"CP",IF(ISNA(HLOOKUP(E$6,RTT!$B39:$M39,1,0)),"","RTT")) | F12: =IF(OR(AND(F$6>=CP!$G8,F$6<=CP!$H8),AND(F$6>=CP!$K8,F$6<=CP!$L8),AND(F$6>=CP!$O8,F$6<=CP!$P8),AND(F$6>=CP!$S8,F$6<=CP!$T8),AND(F$6>=CP!$W8,F$6<=CP!$X8),AND(F$6>=CP!$AA8,F$6<=CP!$AB8)),"CP",IF(ISNA(HLOOKUP(F$6,RTT!$B39:$M39,1,0)),"","RTT")) | G12: =IF(OR(AND(G$6>=CP!$G8,G$6<=CP!$H8),AND(G$6>=CP!$K8,G$6<=CP!$L8),AND(G$6>=CP!$O8,G$6<=CP!$P8),AND(G$6>=CP!$S8,G$6<=CP!$T8),AND(G$6>=CP!$W8,G$6<=CP!$X8),AND(G$6>=CP!$AA8,G$6<=CP!$AB8)),"CP",IF(ISNA(HLOOKUP(G$6,RTT!$B39:$M39,1,0)),"","RTT")) | H12: =IF(OR(AND(H$6>=CP!$G8,H$6<=CP!$H8),AND(H$6>=CP!$K8,H$6<=CP!$L8),AND(H$6>=CP!$O8,H$6<=CP!$P8),AND(H$6>=CP!$S8,H$6<=CP!$T8),AND(H$6>=CP!$W8,H$6<=CP!$X8),AND(H$6>=CP!$AA8,H$6<=CP!$AB8)),"CP",IF(ISNA(HLOOKUP(H$6,RTT!$B39:$M39,1,0)),"","RTT")) | I12: =IF(OR(AND(I$6>=CP!$G8,I$6<=CP!$H8),AND(I$6>=CP!$K8,I$6<=CP!$L8),AND(I$6>=CP!$O8,I$6<=CP!$P8),AND(I$6>=CP!$S8,I$6<=CP!$T8),AND(I$6>=CP!$W8,I$6<=CP!$X8),AND(I$6>=CP!$AA8,I$6<=CP!$AB8)),"CP",IF(ISNA(HLOOKUP(I$6,RTT!$B39:$M39,1,0)),"","RTT")) | J12: =IF(OR(AND(J$6>=CP!$G8,J$6<=CP!$H8),AND(J$6>=CP!$K8,J$6<=CP!$L8),AND(J$6>=CP!$O8,J$6<=CP!$P8),AND(J$6>=CP!$S8,J$6<=CP!$T8),AND(J$6>=CP!$W8,J$6<=CP!$X8),AND(J$6>=CP!$AA8,J$6<=CP!$AB8)),"CP",IF(ISNA(HLOOKUP(J$6,RTT!$B39:$M39,1,0)),"","RTT")) | ... CP12: =IF(OR(AND(CP$6>=CP!$G8,CP$6<=CP!$H8),AND(CP$6>=CP!$K8,CP$6<=CP!$L8),AND(CP$6>=CP!$O8,CP$6<=CP!$P8),AND(CP$6>=CP!$S8,CP$6<=CP!$T8),AND(CP$6>=CP!$W8,CP$6<=CP!$X8),AND(CP$6>=CP!$AA8,CP$6<=CP!$AB8)),"CP",IF(ISNA(HLOOKUP(CP$6,RTT!$B39:$M39,1,0)),"","RTT"))
A13: BLANDIN Sébastien | B13: BE | C13: =IF(OR(AND(C$6>=CP!$G9,C$6<=CP!$H9),AND(C$6>=CP!$K9,C$6<=CP!$L9),AND(C$6>=CP!$O9,C$6<=CP!$P9),AND(C$6>=CP!$S9,C$6<=CP!$T9),AND(C$6>=CP!$W9,C$6<=CP!$X9),AND(C$6>=CP!$AA9,C$6<=CP!$AB9)),"CP",IF(ISNA(HLOOKUP(C$6,RTT!$B53:$M53,1,0)),"","RTT")) | D13: =IF(OR(AND(D$6>=CP!$G9,D$6<=CP!$H9),AND(D$6>=CP!$K9,D$6<=CP!$L9),AND(D$6>=CP!$O9,D$6<=CP!$P9),AND(D$6>=CP!$S9,D$6<=CP!$T9),AND(D$6>=CP!$W9,D$6<=CP!$X9),AND(D$6>=CP!$AA9,D$6<=CP!$AB9)),"CP",IF(ISNA(HLOOKUP(D$6,RTT!$B53:$M53,1,0)),"","RTT")) | E13: =IF(OR(AND(E$6>=CP!$G9,E$6<=CP!$H9),AND(E$6>=CP!$K9,E$6<=CP!$L9),AND(E$6>=CP!$O9,E$6<=CP!$P9),AND(E$6>=CP!$S9,E$6<=CP!$T9),AND(E$6>=CP!$W9,E$6<=CP!$X9),AND(E$6>=CP!$AA9,E$6<=CP!$AB9)),"CP",IF(ISNA(HLOOKUP(E$6,RTT!$B53:$M53,1,0)),"","RTT")) | F13: =IF(OR(AND(F$6>=CP!$G9,F$6<=CP!$H9),AND(F$6>=CP!$K9,F$6<=CP!$L9),AND(F$6>=CP!$O9,F$6<=CP!$P9),AND(F$6>=CP!$S9,F$6<=CP!$T9),AND(F$6>=CP!$W9,F$6<=CP!$X9),AND(F$6>=CP!$AA9,F$6<=CP!$AB9)),"CP",IF(ISNA(HLOOKUP(F$6,RTT!$B53:$M53,1,0)),"","RTT")) | G13: =IF(OR(AND(G$6>=CP!$G9,G$6<=CP!$H9),AND(G$6>=CP!$K9,G$6<=CP!$L9),AND(G$6>=CP!$O9,G$6<=CP!$P9),AND(G$6>=CP!$S9,G$6<=CP!$T9),AND(G$6>=CP!$W9,G$6<=CP!$X9),AND(G$6>=CP!$AA9,G$6<=CP!$AB9)),"CP",IF(ISNA(HLOOKUP(G$6,RTT!$B53:$M53,1,0)),"","RTT")) | H13: =IF(OR(AND(H$6>=CP!$G9,H$6<=CP!$H9),AND(H$6>=CP!$K9,H$6<=CP!$L9),AND(H$6>=CP!$O9,H$6<=CP!$P9),AND(H$6>=CP!$S9,H$6<=CP!$T9),AND(H$6>=CP!$W9,H$6<=CP!$X9),AND(H$6>=CP!$AA9,H$6<=CP!$AB9)),"CP",IF(ISNA(HLOOKUP(H$6,RTT!$B53:$M53,1,0)),"","RTT")) | I13: =IF(OR(AND(I$6>=CP!$G9,I$6<=CP!$H9),AND(I$6>=CP!$K9,I$6<=CP!$L9),AND(I$6>=CP!$O9,I$6<=CP!$P9),AND(I$6>=CP!$S9,I$6<=CP!$T9),AND(I$6>=CP!$W9,I$6<=CP!$X9),AND(I$6>=CP!$AA9,I$6<=CP!$AB9)),"CP",IF(ISNA(HLOOKUP(I$6,RTT!$B53:$M53,1,0)),"","RTT")) | J13: =IF(OR(AND(J$6>=CP!$G9,J$6<=CP!$H9),AND(J$6>=CP!$K9,J$6<=CP!$L9),AND(J$6>=CP!$O9,J$6<=CP!$P9),AND(J$6>=CP!$S9,J$6<=CP!$T9),AND(J$6>=CP!$W9,J$6<=CP!$X9),AND(J$6>=CP!$AA9,J$6<=CP!$AB9)),"CP",IF(ISNA(HLOOKUP(J$6,RTT!$B53:$M53,1,0)),"","RTT")) | ... CP13: =IF(OR(AND(CP$6>=CP!$G9,CP$6<=CP!$H9),AND(CP$6>=CP!$K9,CP$6<=CP!$L9),AND(CP$6>=CP!$O9,CP$6<=CP!$P9),AND(CP$6>=CP!$S9,CP$6<=CP!$T9),AND(CP$6>=CP!$W9,CP$6<=CP!$X9),AND(CP$6>=CP!$AA9,CP$6<=CP!$AB9)),"CP",IF(ISNA(HLOOKUP(CP$6,RTT!$B53:$M53,1,0)),"","RTT"))
A14: BODIN Christophe | B14: C | C14: =IF(OR(AND(C$6>=CP!$G10,C$6<=CP!$H10),AND(C$6>=CP!$K10,C$6<=CP!$L10),AND(C$6>=CP!$O10,C$6<=CP!$P10),AND(C$6>=CP!$S10,C$6<=CP!$T10),AND(C$6>=CP!$W10,C$6<=CP!$X10),AND(C$6>=CP!$AA10,C$6<=CP!$AB10)),"CP",IF(ISNA(HLOOKUP(C$6,RTT!$B54:$M54,1,0)),"","RTT")) -> CP | D14: =IF(OR(AND(D$6>=CP!$G10,D$6<=CP!$H10),AND(D$6>=CP!$K10,D$6<=CP!$L10),AND(D$6>=CP!$O10,D$6<=CP!$P10),AND(D$6>=CP!$S10,D$6<=CP!$T10),AND(D$6>=CP!$W10,D$6<=CP!$X10),AND(D$6>=CP!$AA10,D$6<=CP!$AB10)),"CP",IF(ISNA(HLOOKUP(D$6,RTT!$B54:$M54,1,0)),"","RTT")) -> CP | E14: =IF(OR(AND(E$6>=CP!$G10,E$6<=CP!$H10),AND(E$6>=CP!$K10,E$6<=CP!$L10),AND(E$6>=CP!$O10,E$6<=CP!$P10),AND(E$6>=CP!$S10,E$6<=CP!$T10),AND(E$6>=CP!$W10,E$6<=CP!$X10),AND(E$6>=CP!$AA10,E$6<=CP!$AB10)),"CP",IF(ISNA(HLOOKUP(E$6,RTT!$B54:$M54,1,0)),"","RTT")) -> CP | F14: =IF(OR(AND(F$6>=CP!$G10,F$6<=CP!$H10),AND(F$6>=CP!$K10,F$6<=CP!$L10),AND(F$6>=CP!$O10,F$6<=CP!$P10),AND(F$6>=CP!$S10,F$6<=CP!$T10),AND(F$6>=CP!$W10,F$6<=CP!$X10),AND(F$6>=CP!$AA10,F$6<=CP!$AB10)),"CP",IF(ISNA(HLOOKUP(F$6,RTT!$B54:$M54,1,0)),"","RTT")) -> CP | G14: =IF(OR(AND(G$6>=CP!$G10,G$6<=CP!$H10),AND(G$6>=CP!$K10,G$6<=CP!$L10),AND(G$6>=CP!$O10,G$6<=CP!$P10),AND(G$6>=CP!$S10,G$6<=CP!$T10),AND(G$6>=CP!$W10,G$6<=CP!$X10),AND(G$6>=CP!$AA10,G$6<=CP!$AB10)),"CP",IF(ISNA(HLOOKUP(G$6,RTT!$B54:$M54,1,0)),"","RTT")) -> CP | H14: =IF(OR(AND(H$6>=CP!$G10,H$6<=CP!$H10),AND(H$6>=CP!$K10,H$6<=CP!$L10),AND(H$6>=CP!$O10,H$6<=CP!$P10),AND(H$6>=CP!$S10,H$6<=CP!$T10),AND(H$6>=CP!$W10,H$6<=CP!$X10),AND(H$6>=CP!$AA10,H$6<=CP!$AB10)),"CP",IF(ISNA(HLOOKUP(H$6,RTT!$B54:$M54,1,0)),"","RTT")) -> CP | I14: =IF(OR(AND(I$6>=CP!$G10,I$6<=CP!$H10),AND(I$6>=CP!$K10,I$6<=CP!$L10),AND(I$6>=CP!$O10,I$6<=CP!$P10),AND(I$6>=CP!$S10,I$6<=CP!$T10),AND(I$6>=CP!$W10,I$6<=CP!$X10),AND(I$6>=CP!$AA10,I$6<=CP!$AB10)),"CP",IF(ISNA(HLOOKUP(I$6,RTT!$B54:$M54,1,0)),"","RTT")) -> CP | J14: =IF(OR(AND(J$6>=CP!$G10,J$6<=CP!$H10),AND(J$6>=CP!$K10,J$6<=CP!$L10),AND(J$6>=CP!$O10,J$6<=CP!$P10),AND(J$6>=CP!$S10,J$6<=CP!$T10),AND(J$6>=CP!$W10,J$6<=CP!$X10),AND(J$6>=CP!$AA10,J$6<=CP!$AB10)),"CP",IF(ISNA(HLOOKUP(J$6,RTT!$B54:$M54,1,0)),"","RTT")) -> CP | ... CP14: =IF(OR(AND(CP$6>=CP!$G10,CP$6<=CP!$H10),AND(CP$6>=CP!$K10,CP$6<=CP!$L10),AND(CP$6>=CP!$O10,CP$6<=CP!$P10),AND(CP$6>=CP!$S10,CP$6<=CP!$T10),AND(CP$6>=CP!$W10,CP$6<=CP!$X10),AND(CP$6>=CP!$AA10,CP$6<=CP!$AB10)),"CP",IF(ISNA(HLOOKUP(CP$6,RTT!$B54:$M54,1,0)),"","RTT"))
A15: BRARD Stéphane | B15: ENC | C15: =IF(OR(AND(C$6>=CP!$G11,C$6<=CP!$H11),AND(C$6>=CP!$K11,C$6<=CP!$L11),AND(C$6>=CP!$O11,C$6<=CP!$P11),AND(C$6>=CP!$S11,C$6<=CP!$T11),AND(C$6>=CP!$W11,C$6<=CP!$X11),AND(C$6>=CP!$AA11,C$6<=CP!$AB11)),"CP",IF(ISNA(HLOOKUP(C$6,RTT!$B55:$M55,1,0)),"","RTT")) | D15: =IF(OR(AND(D$6>=CP!$G11,D$6<=CP!$H11),AND(D$6>=CP!$K11,D$6<=CP!$L11),AND(D$6>=CP!$O11,D$6<=CP!$P11),AND(D$6>=CP!$S11,D$6<=CP!$T11),AND(D$6>=CP!$W11,D$6<=CP!$X11),AND(D$6>=CP!$AA11,D$6<=CP!$AB11)),"CP",IF(ISNA(HLOOKUP(D$6,RTT!$B55:$M55,1,0)),"","RTT")) | E15: =IF(OR(AND(E$6>=CP!$G11,E$6<=CP!$H11),AND(E$6>=CP!$K11,E$6<=CP!$L11),AND(E$6>=CP!$O11,E$6<=CP!$P11),AND(E$6>=CP!$S11,E$6<=CP!$T11),AND(E$6>=CP!$W11,E$6<=CP!$X11),AND(E$6>=CP!$AA11,E$6<=CP!$AB11)),"CP",IF(ISNA(HLOOKUP(E$6,RTT!$B55:$M55,1,0)),"","RTT")) | F15: =IF(OR(AND(F$6>=CP!$G11,F$6<=CP!$H11),AND(F$6>=CP!$K11,F$6<=CP!$L11),AND(F$6>=CP!$O11,F$6<=CP!$P11),AND(F$6>=CP!$S11,F$6<=CP!$T11),AND(F$6>=CP!$W11,F$6<=CP!$X11),AND(F$6>=CP!$AA11,F$6<=CP!$AB11)),"CP",IF(ISNA(HLOOKUP(F$6,RTT!$B55:$M55,1,0)),"","RTT")) | G15: =IF(OR(AND(G$6>=CP!$G11,G$6<=CP!$H11),AND(G$6>=CP!$K11,G$6<=CP!$L11),AND(G$6>=CP!$O11,G$6<=CP!$P11),AND(G$6>=CP!$S11,G$6<=CP!$T11),AND(G$6>=CP!$W11,G$6<=CP!$X11),AND(G$6>=CP!$AA11,G$6<=CP!$AB11)),"CP",IF(ISNA(HLOOKUP(G$6,RTT!$B55:$M55,1,0)),"","RTT")) | H15: =IF(OR(AND(H$6>=CP!$G11,H$6<=CP!$H11),AND(H$6>=CP!$K11,H$6<=CP!$L11),AND(H$6>=CP!$O11,H$6<=CP!$P11),AND(H$6>=CP!$S11,H$6<=CP!$T11),AND(H$6>=CP!$W11,H$6<=CP!$X11),AND(H$6>=CP!$AA11,H$6<=CP!$AB11)),"CP",IF(ISNA(HLOOKUP(H$6,RTT!$B55:$M55,1,0)),"","RTT")) | I15: =IF(OR(AND(I$6>=CP!$G11,I$6<=CP!$H11),AND(I$6>=CP!$K11,I$6<=CP!$L11),AND(I$6>=CP!$O11,I$6<=CP!$P11),AND(I$6>=CP!$S11,I$6<=CP!$T11),AND(I$6>=CP!$W11,I$6<=CP!$X11),AND(I$6>=CP!$AA11,I$6<=CP!$AB11)),"CP",IF(ISNA(HLOOKUP(I$6,RTT!$B55:$M55,1,0)),"","RTT")) | J15: =IF(OR(AND(J$6>=CP!$G11,J$6<=CP!$H11),AND(J$6>=CP!$K11,J$6<=CP!$L11),AND(J$6>=CP!$O11,J$6<=CP!$P11),AND(J$6>=CP!$S11,J$6<=CP!$T11),AND(J$6>=CP!$W11,J$6<=CP!$X11),AND(J$6>=CP!$AA11,J$6<=CP!$AB11)),"CP",IF(ISNA(HLOOKUP(J$6,RTT!$B55:$M55,1,0)),"","RTT")) | ... CP15: =IF(OR(AND(CP$6>=CP!$G11,CP$6<=CP!$H11),AND(CP$6>=CP!$K11,CP$6<=CP!$L11),AND(CP$6>=CP!$O11,CP$6<=CP!$P11),AND(CP$6>=CP!$S11,CP$6<=CP!$T11),AND(CP$6>=CP!$W11,CP$6<=CP!$X11),AND(CP$6>=CP!$AA11,CP$6<=CP!$AB11)),"CP",IF(ISNA(HLOOKUP(CP$6,RTT!$B55:$M55,1,0)),"","RTT"))
A16: CHALLANDES Gladys | B16: ADMIN | C16: =IF(OR(AND(C$6>=CP!$G12,C$6<=CP!$H12),AND(C$6>=CP!$K12,C$6<=CP!$L12),AND(C$6>=CP!$O12,C$6<=CP!$P12),AND(C$6>=CP!$S12,C$6<=CP!$T12),AND(C$6>=CP!$W12,C$6<=CP!$X12),AND(C$6>=CP!$AA12,C$6<=CP!$AB12)),"CP",IF(ISNA(HLOOKUP(C$6,RTT!$B56:$M56,1,0)),"","RTT")) | D16: =IF(OR(AND(D$6>=CP!$G12,D$6<=CP!$H12),AND(D$6>=CP!$K12,D$6<=CP!$L12),AND(D$6>=CP!$O12,D$6<=CP!$P12),AND(D$6>=CP!$S12,D$6<=CP!$T12),AND(D$6>=CP!$W12,D$6<=CP!$X12),AND(D$6>=CP!$AA12,D$6<=CP!$AB12)),"CP",IF(ISNA(HLOOKUP(D$6,RTT!$B56:$M56,1,0)),"","RTT")) | E16: =IF(OR(AND(E$6>=CP!$G12,E$6<=CP!$H12),AND(E$6>=CP!$K12,E$6<=CP!$L12),AND(E$6>=CP!$O12,E$6<=CP!$P12),AND(E$6>=CP!$S12,E$6<=CP!$T12),AND(E$6>=CP!$W12,E$6<=CP!$X12),AND(E$6>=CP!$AA12,E$6<=CP!$AB12)),"CP",IF(ISNA(HLOOKUP(E$6,RTT!$B56:$M56,1,0)),"","RTT")) | F16: =IF(OR(AND(F$6>=CP!$G12,F$6<=CP!$H12),AND(F$6>=CP!$K12,F$6<=CP!$L12),AND(F$6>=CP!$O12,F$6<=CP!$P12),AND(F$6>=CP!$S12,F$6<=CP!$T12),AND(F$6>=CP!$W12,F$6<=CP!$X12),AND(F$6>=CP!$AA12,F$6<=CP!$AB12)),"CP",IF(ISNA(HLOOKUP(F$6,RTT!$B56:$M56,1,0)),"","RTT")) | G16: =IF(OR(AND(G$6>=CP!$G12,G$6<=CP!$H12),AND(G$6>=CP!$K12,G$6<=CP!$L12),AND(G$6>=CP!$O12,G$6<=CP!$P12),AND(G$6>=CP!$S12,G$6<=CP!$T12),AND(G$6>=CP!$W12,G$6<=CP!$X12),AND(G$6>=CP!$AA12,G$6<=CP!$AB12)),"CP",IF(ISNA(HLOOKUP(G$6,RTT!$B56:$M56,1,0)),"","RTT")) | H16: =IF(OR(AND(H$6>=CP!$G12,H$6<=CP!$H12),AND(H$6>=CP!$K12,H$6<=CP!$L12),AND(H$6>=CP!$O12,H$6<=CP!$P12),AND(H$6>=CP!$S12,H$6<=CP!$T12),AND(H$6>=CP!$W12,H$6<=CP!$X12),AND(H$6>=CP!$AA12,H$6<=CP!$AB12)),"CP",IF(ISNA(HLOOKUP(H$6,RTT!$B56:$M56,1,0)),"","RTT")) | I16: =IF(OR(AND(I$6>=CP!$G12,I$6<=CP!$H12),AND(I$6>=CP!$K12,I$6<=CP!$L12),AND(I$6>=CP!$O12,I$6<=CP!$P12),AND(I$6>=CP!$S12,I$6<=CP!$T12),AND(I$6>=CP!$W12,I$6<=CP!$X12),AND(I$6>=CP!$AA12,I$6<=CP!$AB12)),"CP",IF(ISNA(HLOOKUP(I$6,RTT!$B56:$M56,1,0)),"","RTT")) | J16: =IF(OR(AND(J$6>=CP!$G12,J$6<=CP!$H12),AND(J$6>=CP!$K12,J$6<=CP!$L12),AND(J$6>=CP!$O12,J$6<=CP!$P12),AND(J$6>=CP!$S12,J$6<=CP!$T12),AND(J$6>=CP!$W12,J$6<=CP!$X12),AND(J$6>=CP!$AA12,J$6<=CP!$AB12)),"CP",IF(ISNA(HLOOKUP(J$6,RTT!$B56:$M56,1,0)),"","RTT")) | ... CP16: =IF(OR(AND(CP$6>=CP!$G12,CP$6<=CP!$H12),AND(CP$6>=CP!$K12,CP$6<=CP!$L12),AND(CP$6>=CP!$O12,CP$6<=CP!$P12),AND(CP$6>=CP!$S12,CP$6<=CP!$T12),AND(CP$6>=CP!$W12,CP$6<=CP!$X12),AND(CP$6>=CP!$AA12,CP$6<=CP!$AB12)),"CP",IF(ISNA(HLOOKUP(CP$6,RTT!$B56:$M56,1,0)),"","RTT"))
A17: CHRETIEN Eric | B17: ADMIN | C17: =IF(OR(AND(C$6>=CP!$G13,C$6<=CP!$H13),AND(C$6>=CP!$K13,C$6<=CP!$L13),AND(C$6>=CP!$O13,C$6<=CP!$P13),AND(C$6>=CP!$S13,C$6<=CP!$T13),AND(C$6>=CP!$W13,C$6<=CP!$X13),AND(C$6>=CP!$AA13,C$6<=CP!$AB13)),"CP",IF(ISNA(HLOOKUP(C$6,RTT!$B57:$M57,1,0)),"","RTT")) | D17: =IF(OR(AND(D$6>=CP!$G13,D$6<=CP!$H13),AND(D$6>=CP!$K13,D$6<=CP!$L13),AND(D$6>=CP!$O13,D$6<=CP!$P13),AND(D$6>=CP!$S13,D$6<=CP!$T13),AND(D$6>=CP!$W13,D$6<=CP!$X13),AND(D$6>=CP!$AA13,D$6<=CP!$AB13)),"CP",IF(ISNA(HLOOKUP(D$6,RTT!$B57:$M57,1,0)),"","RTT")) | E17: =IF(OR(AND(E$6>=CP!$G13,E$6<=CP!$H13),AND(E$6>=CP!$K13,E$6<=CP!$L13),AND(E$6>=CP!$O13,E$6<=CP!$P13),AND(E$6>=CP!$S13,E$6<=CP!$T13),AND(E$6>=CP!$W13,E$6<=CP!$X13),AND(E$6>=CP!$AA13,E$6<=CP!$AB13)),"CP",IF(ISNA(HLOOKUP(E$6,RTT!$B57:$M57,1,0)),"","RTT")) | F17: =IF(OR(AND(F$6>=CP!$G13,F$6<=CP!$H13),AND(F$6>=CP!$K13,F$6<=CP!$L13),AND(F$6>=CP!$O13,F$6<=CP!$P13),AND(F$6>=CP!$S13,F$6<=CP!$T13),AND(F$6>=CP!$W13,F$6<=CP!$X13),AND(F$6>=CP!$AA13,F$6<=CP!$AB13)),"CP",IF(ISNA(HLOOKUP(F$6,RTT!$B57:$M57,1,0)),"","RTT")) | G17: =IF(OR(AND(G$6>=CP!$G13,G$6<=CP!$H13),AND(G$6>=CP!$K13,G$6<=CP!$L13),AND(G$6>=CP!$O13,G$6<=CP!$P13),AND(G$6>=CP!$S13,G$6<=CP!$T13),AND(G$6>=CP!$W13,G$6<=CP!$X13),AND(G$6>=CP!$AA13,G$6<=CP!$AB13)),"CP",IF(ISNA(HLOOKUP(G$6,RTT!$B57:$M57,1,0)),"","RTT")) | H17: =IF(OR(AND(H$6>=CP!$G13,H$6<=CP!$H13),AND(H$6>=CP!$K13,H$6<=CP!$L13),AND(H$6>=CP!$O13,H$6<=CP!$P13),AND(H$6>=CP!$S13,H$6<=CP!$T13),AND(H$6>=CP!$W13,H$6<=CP!$X13),AND(H$6>=CP!$AA13,H$6<=CP!$AB13)),"CP",IF(ISNA(HLOOKUP(H$6,RTT!$B57:$M57,1,0)),"","RTT")) | I17: =IF(OR(AND(I$6>=CP!$G13,I$6<=CP!$H13),AND(I$6>=CP!$K13,I$6<=CP!$L13),AND(I$6>=CP!$O13,I$6<=CP!$P13),AND(I$6>=CP!$S13,I$6<=CP!$T13),AND(I$6>=CP!$W13,I$6<=CP!$X13),AND(I$6>=CP!$AA13,I$6<=CP!$AB13)),"CP",IF(ISNA(HLOOKUP(I$6,RTT!$B57:$M57,1,0)),"","RTT")) | J17: =IF(OR(AND(J$6>=CP!$G13,J$6<=CP!$H13),AND(J$6>=CP!$K13,J$6<=CP!$L13),AND(J$6>=CP!$O13,J$6<=CP!$P13),AND(J$6>=CP!$S13,J$6<=CP!$T13),AND(J$6>=CP!$W13,J$6<=CP!$X13),AND(J$6>=CP!$AA13,J$6<=CP!$AB13)),"CP",IF(ISNA(HLOOKUP(J$6,RTT!$B57:$M57,1,0)),"","RTT")) | ... CP17: =IF(OR(AND(CP$6>=CP!$G13,CP$6<=CP!$H13),AND(CP$6>=CP!$K13,CP$6<=CP!$L13),AND(CP$6>=CP!$O13,CP$6<=CP!$P13),AND(CP$6>=CP!$S13,CP$6<=CP!$T13),AND(CP$6>=CP!$W13,CP$6<=CP!$X13),AND(CP$6>=CP!$AA13,CP$6<=CP!$AB13)),"CP",IF(ISNA(HLOOKUP(CP$6,RTT!$B57:$M57,1,0)),"","RTT"))
A18: CLERO Raphaël | B18: ENC | C18: =IF(OR(AND(C$6>=CP!$G14,C$6<=CP!$H14),AND(C$6>=CP!$K14,C$6<=CP!$L14),AND(C$6>=CP!$O14,C$6<=CP!$P14),AND(C$6>=CP!$S14,C$6<=CP!$T14),AND(C$6>=CP!$W14,C$6<=CP!$X14),AND(C$6>=CP!$AA14,C$6<=CP!$AB14)),"CP",IF(ISNA(HLOOKUP(C$6,RTT!$B58:$M58,1,0)),"","RTT")) | D18: =IF(OR(AND(D$6>=CP!$G14,D$6<=CP!$H14),AND(D$6>=CP!$K14,D$6<=CP!$L14),AND(D$6>=CP!$O14,D$6<=CP!$P14),AND(D$6>=CP!$S14,D$6<=CP!$T14),AND(D$6>=CP!$W14,D$6<=CP!$X14),AND(D$6>=CP!$AA14,D$6<=CP!$AB14)),"CP",IF(ISNA(HLOOKUP(D$6,RTT!$B58:$M58,1,0)),"","RTT")) | E18: =IF(OR(AND(E$6>=CP!$G14,E$6<=CP!$H14),AND(E$6>=CP!$K14,E$6<=CP!$L14),AND(E$6>=CP!$O14,E$6<=CP!$P14),AND(E$6>=CP!$S14,E$6<=CP!$T14),AND(E$6>=CP!$W14,E$6<=CP!$X14),AND(E$6>=CP!$AA14,E$6<=CP!$AB14)),"CP",IF(ISNA(HLOOKUP(E$6,RTT!$B58:$M58,1,0)),"","RTT")) | F18: =IF(OR(AND(F$6>=CP!$G14,F$6<=CP!$H14),AND(F$6>=CP!$K14,F$6<=CP!$L14),AND(F$6>=CP!$O14,F$6<=CP!$P14),AND(F$6>=CP!$S14,F$6<=CP!$T14),AND(F$6>=CP!$W14,F$6<=CP!$X14),AND(F$6>=CP!$AA14,F$6<=CP!$AB14)),"CP",IF(ISNA(HLOOKUP(F$6,RTT!$B58:$M58,1,0)),"","RTT")) | G18: =IF(OR(AND(G$6>=CP!$G14,G$6<=CP!$H14),AND(G$6>=CP!$K14,G$6<=CP!$L14),AND(G$6>=CP!$O14,G$6<=CP!$P14),AND(G$6>=CP!$S14,G$6<=CP!$T14),AND(G$6>=CP!$W14,G$6<=CP!$X14),AND(G$6>=CP!$AA14,G$6<=CP!$AB14)),"CP",IF(ISNA(HLOOKUP(G$6,RTT!$B58:$M58,1,0)),"","RTT")) | H18: =IF(OR(AND(H$6>=CP!$G14,H$6<=CP!$H14),AND(H$6>=CP!$K14,H$6<=CP!$L14),AND(H$6>=CP!$O14,H$6<=CP!$P14),AND(H$6>=CP!$S14,H$6<=CP!$T14),AND(H$6>=CP!$W14,H$6<=CP!$X14),AND(H$6>=CP!$AA14,H$6<=CP!$AB14)),"CP",IF(ISNA(HLOOKUP(H$6,RTT!$B58:$M58,1,0)),"","RTT")) | I18: =IF(OR(AND(I$6>=CP!$G14,I$6<=CP!$H14),AND(I$6>=CP!$K14,I$6<=CP!$L14),AND(I$6>=CP!$O14,I$6<=CP!$P14),AND(I$6>=CP!$S14,I$6<=CP!$T14),AND(I$6>=CP!$W14,I$6<=CP!$X14),AND(I$6>=CP!$AA14,I$6<=CP!$AB14)),"CP",IF(ISNA(HLOOKUP(I$6,RTT!$B58:$M58,1,0)),"","RTT")) | J18: =IF(OR(AND(J$6>=CP!$G14,J$6<=CP!$H14),AND(J$6>=CP!$K14,J$6<=CP!$L14),AND(J$6>=CP!$O14,J$6<=CP!$P14),AND(J$6>=CP!$S14,J$6<=CP!$T14),AND(J$6>=CP!$W14,J$6<=CP!$X14),AND(J$6>=CP!$AA14,J$6<=CP!$AB14)),"CP",IF(ISNA(HLOOKUP(J$6,RTT!$B58:$M58,1,0)),"","RTT")) | ... CP18: =IF(OR(AND(CP$6>=CP!$G14,CP$6<=CP!$H14),AND(CP$6>=CP!$K14,CP$6<=CP!$L14),AND(CP$6>=CP!$O14,CP$6<=CP!$P14),AND(CP$6>=CP!$S14,CP$6<=CP!$T14),AND(CP$6>=CP!$W14,CP$6<=CP!$X14),AND(CP$6>=CP!$AA14,CP$6<=CP!$AB14)),"CP",IF(ISNA(HLOOKUP(CP$6,RTT!$B58:$M58,1,0)),"","RTT"))
A19: COFRADES Oliver | B19: C | C19: =IF(OR(AND(C$6>=CP!$G15,C$6<=CP!$H15),AND(C$6>=CP!$K15,C$6<=CP!$L15),AND(C$6>=CP!$O15,C$6<=CP!$P15),AND(C$6>=CP!$S15,C$6<=CP!$T15),AND(C$6>=CP!$W15,C$6<=CP!$X15),AND(C$6>=CP!$AA15,C$6<=CP!$AB15)),"CP",IF(ISNA(HLOOKUP(C$6,RTT!$B59:$M59,1,0)),"","RTT")) | D19: =IF(OR(AND(D$6>=CP!$G15,D$6<=CP!$H15),AND(D$6>=CP!$K15,D$6<=CP!$L15),AND(D$6>=CP!$O15,D$6<=CP!$P15),AND(D$6>=CP!$S15,D$6<=CP!$T15),AND(D$6>=CP!$W15,D$6<=CP!$X15),AND(D$6>=CP!$AA15,D$6<=CP!$AB15)),"CP",IF(ISNA(HLOOKUP(D$6,RTT!$B59:$M59,1,0)),"","RTT")) | E19: =IF(OR(AND(E$6>=CP!$G15,E$6<=CP!$H15),AND(E$6>=CP!$K15,E$6<=CP!$L15),AND(E$6>=CP!$O15,E$6<=CP!$P15),AND(E$6>=CP!$S15,E$6<=CP!$T15),AND(E$6>=CP!$W15,E$6<=CP!$X15),AND(E$6>=CP!$AA15,E$6<=CP!$AB15)),"CP",IF(ISNA(HLOOKUP(E$6,RTT!$B59:$M59,1,0)),"","RTT")) | F19: =IF(OR(AND(F$6>=CP!$G15,F$6<=CP!$H15),AND(F$6>=CP!$K15,F$6<=CP!$L15),AND(F$6>=CP!$O15,F$6<=CP!$P15),AND(F$6>=CP!$S15,F$6<=CP!$T15),AND(F$6>=CP!$W15,F$6<=CP!$X15),AND(F$6>=CP!$AA15,F$6<=CP!$AB15)),"CP",IF(ISNA(HLOOKUP(F$6,RTT!$B59:$M59,1,0)),"","RTT")) | G19: =IF(OR(AND(G$6>=CP!$G15,G$6<=CP!$H15),AND(G$6>=CP!$K15,G$6<=CP!$L15),AND(G$6>=CP!$O15,G$6<=CP!$P15),AND(G$6>=CP!$S15,G$6<=CP!$T15),AND(G$6>=CP!$W15,G$6<=CP!$X15),AND(G$6>=CP!$AA15,G$6<=CP!$AB15)),"CP",IF(ISNA(HLOOKUP(G$6,RTT!$B59:$M59,1,0)),"","RTT")) | H19: =IF(OR(AND(H$6>=CP!$G15,H$6<=CP!$H15),AND(H$6>=CP!$K15,H$6<=CP!$L15),AND(H$6>=CP!$O15,H$6<=CP!$P15),AND(H$6>=CP!$S15,H$6<=CP!$T15),AND(H$6>=CP!$W15,H$6<=CP!$X15),AND(H$6>=CP!$AA15,H$6<=CP!$AB15)),"CP",IF(ISNA(HLOOKUP(H$6,RTT!$B59:$M59,1,0)),"","RTT")) | I19: =IF(OR(AND(I$6>=CP!$G15,I$6<=CP!$H15),AND(I$6>=CP!$K15,I$6<=CP!$L15),AND(I$6>=CP!$O15,I$6<=CP!$P15),AND(I$6>=CP!$S15,I$6<=CP!$T15),AND(I$6>=CP!$W15,I$6<=CP!$X15),AND(I$6>=CP!$AA15,I$6<=CP!$AB15)),"CP",IF(ISNA(HLOOKUP(I$6,RTT!$B59:$M59,1,0)),"","RTT")) | J19: =IF(OR(AND(J$6>=CP!$G15,J$6<=CP!$H15),AND(J$6>=CP!$K15,J$6<=CP!$L15),AND(J$6>=CP!$O15,J$6<=CP!$P15),AND(J$6>=CP!$S15,J$6<=CP!$T15),AND(J$6>=CP!$W15,J$6<=CP!$X15),AND(J$6>=CP!$AA15,J$6<=CP!$AB15)),"CP",IF(ISNA(HLOOKUP(J$6,RTT!$B59:$M59,1,0)),"","RTT")) | ... CP19: =IF(OR(AND(CP$6>=CP!$G15,CP$6<=CP!$H15),AND(CP$6>=CP!$K15,CP$6<=CP!$L15),AND(CP$6>=CP!$O15,CP$6<=CP!$P15),AND(CP$6>=CP!$S15,CP$6<=CP!$T15),AND(CP$6>=CP!$W15,CP$6<=CP!$X15),AND(CP$6>=CP!$AA15,CP$6<=CP!$AB15)),"CP",IF(ISNA(HLOOKUP(CP$6,RTT!$B59:$M59,1,0)),"","RTT"))
A20: DAMON Nicolas | B20: C | C20: =IF(OR(AND(C$6>=CP!$G16,C$6<=CP!$H16),AND(C$6>=CP!$K16,C$6<=CP!$L16),AND(C$6>=CP!$O16,C$6<=CP!$P16),AND(C$6>=CP!$S16,C$6<=CP!$T16),AND(C$6>=CP!$W16,C$6<=CP!$X16),AND(C$6>=CP!$AA16,C$6<=CP!$AB16)),"CP",IF(ISNA(HLOOKUP(C$6,RTT!$B60:$M60,1,0)),"","RTT")) | D20: =IF(OR(AND(D$6>=CP!$G16,D$6<=CP!$H16),AND(D$6>=CP!$K16,D$6<=CP!$L16),AND(D$6>=CP!$O16,D$6<=CP!$P16),AND(D$6>=CP!$S16,D$6<=CP!$T16),AND(D$6>=CP!$W16,D$6<=CP!$X16),AND(D$6>=CP!$AA16,D$6<=CP!$AB16)),"CP",IF(ISNA(HLOOKUP(D$6,RTT!$B60:$M60,1,0)),"","RTT")) | E20: =IF(OR(AND(E$6>=CP!$G16,E$6<=CP!$H16),AND(E$6>=CP!$K16,E$6<=CP!$L16),AND(E$6>=CP!$O16,E$6<=CP!$P16),AND(E$6>=CP!$S16,E$6<=CP!$T16),AND(E$6>=CP!$W16,E$6<=CP!$X16),AND(E$6>=CP!$AA16,E$6<=CP!$AB16)),"CP",IF(ISNA(HLOOKUP(E$6,RTT!$B60:$M60,1,0)),"","RTT")) | F20: =IF(OR(AND(F$6>=CP!$G16,F$6<=CP!$H16),AND(F$6>=CP!$K16,F$6<=CP!$L16),AND(F$6>=CP!$O16,F$6<=CP!$P16),AND(F$6>=CP!$S16,F$6<=CP!$T16),AND(F$6>=CP!$W16,F$6<=CP!$X16),AND(F$6>=CP!$AA16,F$6<=CP!$AB16)),"CP",IF(ISNA(HLOOKUP(F$6,RTT!$B60:$M60,1,0)),"","RTT")) | G20: =IF(OR(AND(G$6>=CP!$G16,G$6<=CP!$H16),AND(G$6>=CP!$K16,G$6<=CP!$L16),AND(G$6>=CP!$O16,G$6<=CP!$P16),AND(G$6>=CP!$S16,G$6<=CP!$T16),AND(G$6>=CP!$W16,G$6<=CP!$X16),AND(G$6>=CP!$AA16,G$6<=CP!$AB16)),"CP",IF(ISNA(HLOOKUP(G$6,RTT!$B60:$M60,1,0)),"","RTT")) | H20: =IF(OR(AND(H$6>=CP!$G16,H$6<=CP!$H16),AND(H$6>=CP!$K16,H$6<=CP!$L16),AND(H$6>=CP!$O16,H$6<=CP!$P16),AND(H$6>=CP!$S16,H$6<=CP!$T16),AND(H$6>=CP!$W16,H$6<=CP!$X16),AND(H$6>=CP!$AA16,H$6<=CP!$AB16)),"CP",IF(ISNA(HLOOKUP(H$6,RTT!$B60:$M60,1,0)),"","RTT")) | I20: =IF(OR(AND(I$6>=CP!$G16,I$6<=CP!$H16),AND(I$6>=CP!$K16,I$6<=CP!$L16),AND(I$6>=CP!$O16,I$6<=CP!$P16),AND(I$6>=CP!$S16,I$6<=CP!$T16),AND(I$6>=CP!$W16,I$6<=CP!$X16),AND(I$6>=CP!$AA16,I$6<=CP!$AB16)),"CP",IF(ISNA(HLOOKUP(I$6,RTT!$B60:$M60,1,0)),"","RTT")) | J20: =IF(OR(AND(J$6>=CP!$G16,J$6<=CP!$H16),AND(J$6>=CP!$K16,J$6<=CP!$L16),AND(J$6>=CP!$O16,J$6<=CP!$P16),AND(J$6>=CP!$S16,J$6<=CP!$T16),AND(J$6>=CP!$W16,J$6<=CP!$X16),AND(J$6>=CP!$AA16,J$6<=CP!$AB16)),"CP",IF(ISNA(HLOOKUP(J$6,RTT!$B60:$M60,1,0)),"","RTT")) | ... CP20: =IF(OR(AND(CP$6>=CP!$G16,CP$6<=CP!$H16),AND(CP$6>=CP!$K16,CP$6<=CP!$L16),AND(CP$6>=CP!$O16,CP$6<=CP!$P16),AND(CP$6>=CP!$S16,CP$6<=CP!$T16),AND(CP$6>=CP!$W16,CP$6<=CP!$X16),AND(CP$6>=CP!$AA16,CP$6<=CP!$AB16)),"CP",IF(ISNA(HLOOKUP(CP$6,RTT!$B60:$M60,1,0)),"","RTT"))
A21: DANIEL Hervé | B21: BE | C21: =IF(OR(AND(C$6>=CP!$G17,C$6<=CP!$H17),AND(C$6>=CP!$K17,C$6<=CP!$L17),AND(C$6>=CP!$O17,C$6<=CP!$P17),AND(C$6>=CP!$S17,C$6<=CP!$T17),AND(C$6>=CP!$W17,C$6<=CP!$X17),AND(C$6>=CP!$AA17,C$6<=CP!$AB17)),"CP",IF(ISNA(HLOOKUP(C$6,RTT!$B61:$M61,1,0)),"","RTT")) -> CP | D21: =IF(OR(AND(D$6>=CP!$G17,D$6<=CP!$H17),AND(D$6>=CP!$K17,D$6<=CP!$L17),AND(D$6>=CP!$O17,D$6<=CP!$P17),AND(D$6>=CP!$S17,D$6<=CP!$T17),AND(D$6>=CP!$W17,D$6<=CP!$X17),AND(D$6>=CP!$AA17,D$6<=CP!$AB17)),"CP",IF(ISNA(HLOOKUP(D$6,RTT!$B61:$M61,1,0)),"","RTT")) -> CP | E21: =IF(OR(AND(E$6>=CP!$G17,E$6<=CP!$H17),AND(E$6>=CP!$K17,E$6<=CP!$L17),AND(E$6>=CP!$O17,E$6<=CP!$P17),AND(E$6>=CP!$S17,E$6<=CP!$T17),AND(E$6>=CP!$W17,E$6<=CP!$X17),AND(E$6>=CP!$AA17,E$6<=CP!$AB17)),"CP",IF(ISNA(HLOOKUP(E$6,RTT!$B61:$M61,1,0)),"","RTT")) -> CP | F21: =IF(OR(AND(F$6>=CP!$G17,F$6<=CP!$H17),AND(F$6>=CP!$K17,F$6<=CP!$L17),AND(F$6>=CP!$O17,F$6<=CP!$P17),AND(F$6>=CP!$S17,F$6<=CP!$T17),AND(F$6>=CP!$W17,F$6<=CP!$X17),AND(F$6>=CP!$AA17,F$6<=CP!$AB17)),"CP",IF(ISNA(HLOOKUP(F$6,RTT!$B61:$M61,1,0)),"","RTT")) -> CP | G21: =IF(OR(AND(G$6>=CP!$G17,G$6<=CP!$H17),AND(G$6>=CP!$K17,G$6<=CP!$L17),AND(G$6>=CP!$O17,G$6<=CP!$P17),AND(G$6>=CP!$S17,G$6<=CP!$T17),AND(G$6>=CP!$W17,G$6<=CP!$X17),AND(G$6>=CP!$AA17,G$6<=CP!$AB17)),"CP",IF(ISNA(HLOOKUP(G$6,RTT!$B61:$M61,1,0)),"","RTT")) -> CP | H21: =IF(OR(AND(H$6>=CP!$G17,H$6<=CP!$H17),AND(H$6>=CP!$K17,H$6<=CP!$L17),AND(H$6>=CP!$O17,H$6<=CP!$P17),AND(H$6>=CP!$S17,H$6<=CP!$T17),AND(H$6>=CP!$W17,H$6<=CP!$X17),AND(H$6>=CP!$AA17,H$6<=CP!$AB17)),"CP",IF(ISNA(HLOOKUP(H$6,RTT!$B61:$M61,1,0)),"","RTT")) -> CP | I21: =IF(OR(AND(I$6>=CP!$G17,I$6<=CP!$H17),AND(I$6>=CP!$K17,I$6<=CP!$L17),AND(I$6>=CP!$O17,I$6<=CP!$P17),AND(I$6>=CP!$S17,I$6<=CP!$T17),AND(I$6>=CP!$W17,I$6<=CP!$X17),AND(I$6>=CP!$AA17,I$6<=CP!$AB17)),"CP",IF(ISNA(HLOOKUP(I$6,RTT!$B61:$M61,1,0)),"","RTT")) -> CP | J21: =IF(OR(AND(J$6>=CP!$G17,J$6<=CP!$H17),AND(J$6>=CP!$K17,J$6<=CP!$L17),AND(J$6>=CP!$O17,J$6<=CP!$P17),AND(J$6>=CP!$S17,J$6<=CP!$T17),AND(J$6>=CP!$W17,J$6<=CP!$X17),AND(J$6>=CP!$AA17,J$6<=CP!$AB17)),"CP",IF(ISNA(HLOOKUP(J$6,RTT!$B61:$M61,1,0)),"","RTT")) -> CP | ... CP21: =IF(OR(AND(CP$6>=CP!$G17,CP$6<=CP!$H17),AND(CP$6>=CP!$K17,CP$6<=CP!$L17),AND(CP$6>=CP!$O17,CP$6<=CP!$P17),AND(CP$6>=CP!$S17,CP$6<=CP!$T17),AND(CP$6>=CP!$W17,CP$6<=CP!$X17),AND(CP$6>=CP!$AA17,CP$6<=CP!$AB17)),"CP",IF(ISNA(HLOOKUP(CP$6,RTT!$B61:$M61,1,0)),"","RTT"))
A22: DAVAUD Julien | B22: BE | C22: =IF(OR(AND(C$6>=CP!$G18,C$6<=CP!$H18),AND(C$6>=CP!$K18,C$6<=CP!$L18),AND(C$6>=CP!$O18,C$6<=CP!$P18),AND(C$6>=CP!$S18,C$6<=CP!$T18),AND(C$6>=CP!$W18,C$6<=CP!$X18),AND(C$6>=CP!$AA18,C$6<=CP!$AB18)),"CP",IF(ISNA(HLOOKUP(C$6,RTT!$B62:$M62,1,0)),"","RTT")) | D22: =IF(OR(AND(D$6>=CP!$G18,D$6<=CP!$H18),AND(D$6>=CP!$K18,D$6<=CP!$L18),AND(D$6>=CP!$O18,D$6<=CP!$P18),AND(D$6>=CP!$S18,D$6<=CP!$T18),AND(D$6>=CP!$W18,D$6<=CP!$X18),AND(D$6>=CP!$AA18,D$6<=CP!$AB18)),"CP",IF(ISNA(HLOOKUP(D$6,RTT!$B62:$M62,1,0)),"","RTT")) | E22: =IF(OR(AND(E$6>=CP!$G18,E$6<=CP!$H18),AND(E$6>=CP!$K18,E$6<=CP!$L18),AND(E$6>=CP!$O18,E$6<=CP!$P18),AND(E$6>=CP!$S18,E$6<=CP!$T18),AND(E$6>=CP!$W18,E$6<=CP!$X18),AND(E$6>=CP!$AA18,E$6<=CP!$AB18)),"CP",IF(ISNA(HLOOKUP(E$6,RTT!$B62:$M62,1,0)),"","RTT")) | F22: =IF(OR(AND(F$6>=CP!$G18,F$6<=CP!$H18),AND(F$6>=CP!$K18,F$6<=CP!$L18),AND(F$6>=CP!$O18,F$6<=CP!$P18),AND(F$6>=CP!$S18,F$6<=CP!$T18),AND(F$6>=CP!$W18,F$6<=CP!$X18),AND(F$6>=CP!$AA18,F$6<=CP!$AB18)),"CP",IF(ISNA(HLOOKUP(F$6,RTT!$B62:$M62,1,0)),"","RTT")) | G22: =IF(OR(AND(G$6>=CP!$G18,G$6<=CP!$H18),AND(G$6>=CP!$K18,G$6<=CP!$L18),AND(G$6>=CP!$O18,G$6<=CP!$P18),AND(G$6>=CP!$S18,G$6<=CP!$T18),AND(G$6>=CP!$W18,G$6<=CP!$X18),AND(G$6>=CP!$AA18,G$6<=CP!$AB18)),"CP",IF(ISNA(HLOOKUP(G$6,RTT!$B62:$M62,1,0)),"","RTT")) | H22: =IF(OR(AND(H$6>=CP!$G18,H$6<=CP!$H18),AND(H$6>=CP!$K18,H$6<=CP!$L18),AND(H$6>=CP!$O18,H$6<=CP!$P18),AND(H$6>=CP!$S18,H$6<=CP!$T18),AND(H$6>=CP!$W18,H$6<=CP!$X18),AND(H$6>=CP!$AA18,H$6<=CP!$AB18)),"CP",IF(ISNA(HLOOKUP(H$6,RTT!$B62:$M62,1,0)),"","RTT")) | I22: =IF(OR(AND(I$6>=CP!$G18,I$6<=CP!$H18),AND(I$6>=CP!$K18,I$6<=CP!$L18),AND(I$6>=CP!$O18,I$6<=CP!$P18),AND(I$6>=CP!$S18,I$6<=CP!$T18),AND(I$6>=CP!$W18,I$6<=CP!$X18),AND(I$6>=CP!$AA18,I$6<=CP!$AB18)),"CP",IF(ISNA(HLOOKUP(I$6,RTT!$B62:$M62,1,0)),"","RTT")) | J22: =IF(OR(AND(J$6>=CP!$G18,J$6<=CP!$H18),AND(J$6>=CP!$K18,J$6<=CP!$L18),AND(J$6>=CP!$O18,J$6<=CP!$P18),AND(J$6>=CP!$S18,J$6<=CP!$T18),AND(J$6>=CP!$W18,J$6<=CP!$X18),AND(J$6>=CP!$AA18,J$6<=CP!$AB18)),"CP",IF(ISNA(HLOOKUP(J$6,RTT!$B62:$M62,1,0)),"","RTT")) | ... CP22: =IF(OR(AND(CP$6>=CP!$G18,CP$6<=CP!$H18),AND(CP$6>=CP!$K18,CP$6<=CP!$L18),AND(CP$6>=CP!$O18,CP$6<=CP!$P18),AND(CP$6>=CP!$S18,CP$6<=CP!$T18),AND(CP$6>=CP!$W18,CP$6<=CP!$X18),AND(CP$6>=CP!$AA18,CP$6<=CP!$AB18)),"CP",IF(ISNA(HLOOKUP(CP$6,RTT!$B62:$M62,1,0)),"","RTT"))
A23: DAVID Yvonnick | B23: C | C23: =IF(OR(AND(C$6>=CP!$G19,C$6<=CP!$H19),AND(C$6>=CP!$K19,C$6<=CP!$L19),AND(C$6>=CP!$O19,C$6<=CP!$P19),AND(C$6>=CP!$S19,C$6<=CP!$T19),AND(C$6>=CP!$W19,C$6<=CP!$X19),AND(C$6>=CP!$AA19,C$6<=CP!$AB19)),"CP",IF(ISNA(HLOOKUP(C$6,RTT!$B63:$M63,1,0)),"","RTT")) | D23: =IF(OR(AND(D$6>=CP!$G19,D$6<=CP!$H19),AND(D$6>=CP!$K19,D$6<=CP!$L19),AND(D$6>=CP!$O19,D$6<=CP!$P19),AND(D$6>=CP!$S19,D$6<=CP!$T19),AND(D$6>=CP!$W19,D$6<=CP!$X19),AND(D$6>=CP!$AA19,D$6<=CP!$AB19)),"CP",IF(ISNA(HLOOKUP(D$6,RTT!$B63:$M63,1,0)),"","RTT")) | E23: =IF(OR(AND(E$6>=CP!$G19,E$6<=CP!$H19),AND(E$6>=CP!$K19,E$6<=CP!$L19),AND(E$6>=CP!$O19,E$6<=CP!$P19),AND(E$6>=CP!$S19,E$6<=CP!$T19),AND(E$6>=CP!$W19,E$6<=CP!$X19),AND(E$6>=CP!$AA19,E$6<=CP!$AB19)),"CP",IF(ISNA(HLOOKUP(E$6,RTT!$B63:$M63,1,0)),"","RTT")) | F23: =IF(OR(AND(F$6>=CP!$G19,F$6<=CP!$H19),AND(F$6>=CP!$K19,F$6<=CP!$L19),AND(F$6>=CP!$O19,F$6<=CP!$P19),AND(F$6>=CP!$S19,F$6<=CP!$T19),AND(F$6>=CP!$W19,F$6<=CP!$X19),AND(F$6>=CP!$AA19,F$6<=CP!$AB19)),"CP",IF(ISNA(HLOOKUP(F$6,RTT!$B63:$M63,1,0)),"","RTT")) | G23: =IF(OR(AND(G$6>=CP!$G19,G$6<=CP!$H19),AND(G$6>=CP!$K19,G$6<=CP!$L19),AND(G$6>=CP!$O19,G$6<=CP!$P19),AND(G$6>=CP!$S19,G$6<=CP!$T19),AND(G$6>=CP!$W19,G$6<=CP!$X19),AND(G$6>=CP!$AA19,G$6<=CP!$AB19)),"CP",IF(ISNA(HLOOKUP(G$6,RTT!$B63:$M63,1,0)),"","RTT")) | H23: =IF(OR(AND(H$6>=CP!$G19,H$6<=CP!$H19),AND(H$6>=CP!$K19,H$6<=CP!$L19),AND(H$6>=CP!$O19,H$6<=CP!$P19),AND(H$6>=CP!$S19,H$6<=CP!$T19),AND(H$6>=CP!$W19,H$6<=CP!$X19),AND(H$6>=CP!$AA19,H$6<=CP!$AB19)),"CP",IF(ISNA(HLOOKUP(H$6,RTT!$B63:$M63,1,0)),"","RTT")) | I23: =IF(OR(AND(I$6>=CP!$G19,I$6<=CP!$H19),AND(I$6>=CP!$K19,I$6<=CP!$L19),AND(I$6>=CP!$O19,I$6<=CP!$P19),AND(I$6>=CP!$S19,I$6<=CP!$T19),AND(I$6>=CP!$W19,I$6<=CP!$X19),AND(I$6>=CP!$AA19,I$6<=CP!$AB19)),"CP",IF(ISNA(HLOOKUP(I$6,RTT!$B63:$M63,1,0)),"","RTT")) | J23: =IF(OR(AND(J$6>=CP!$G19,J$6<=CP!$H19),AND(J$6>=CP!$K19,J$6<=CP!$L19),AND(J$6>=CP!$O19,J$6<=CP!$P19),AND(J$6>=CP!$S19,J$6<=CP!$T19),AND(J$6>=CP!$W19,J$6<=CP!$X19),AND(J$6>=CP!$AA19,J$6<=CP!$AB19)),"CP",IF(ISNA(HLOOKUP(J$6,RTT!$B63:$M63,1,0)),"","RTT")) | ... CP23: =IF(OR(AND(CP$6>=CP!$G19,CP$6<=CP!$H19),AND(CP$6>=CP!$K19,CP$6<=CP!$L19),AND(CP$6>=CP!$O19,CP$6<=CP!$P19),AND(CP$6>=CP!$S19,CP$6<=CP!$T19),AND(CP$6>=CP!$W19,CP$6<=CP!$X19),AND(CP$6>=CP!$AA19,CP$6<=CP!$AB19)),"CP",IF(ISNA(HLOOKUP(CP$6,RTT!$B63:$M63,1,0)),"","RTT"))
A24: DE CARVALHO Emmanuel | B24: AP | C24: =IF(OR(AND(C$6>=CP!$G20,C$6<=CP!$H20),AND(C$6>=CP!$K20,C$6<=CP!$L20),AND(C$6>=CP!$O20,C$6<=CP!$P20),AND(C$6>=CP!$S20,C$6<=CP!$T20),AND(C$6>=CP!$W20,C$6<=CP!$X20),AND(C$6>=CP!$AA20,C$6<=CP!$AB20)),"CP",IF(ISNA(HLOOKUP(C$6,RTT!$B64:$M64,1,0)),"","RTT")) | D24: =IF(OR(AND(D$6>=CP!$G20,D$6<=CP!$H20),AND(D$6>=CP!$K20,D$6<=CP!$L20),AND(D$6>=CP!$O20,D$6<=CP!$P20),AND(D$6>=CP!$S20,D$6<=CP!$T20),AND(D$6>=CP!$W20,D$6<=CP!$X20),AND(D$6>=CP!$AA20,D$6<=CP!$AB20)),"CP",IF(ISNA(HLOOKUP(D$6,RTT!$B64:$M64,1,0)),"","RTT")) | E24: =IF(OR(AND(E$6>=CP!$G20,E$6<=CP!$H20),AND(E$6>=CP!$K20,E$6<=CP!$L20),AND(E$6>=CP!$O20,E$6<=CP!$P20),AND(E$6>=CP!$S20,E$6<=CP!$T20),AND(E$6>=CP!$W20,E$6<=CP!$X20),AND(E$6>=CP!$AA20,E$6<=CP!$AB20)),"CP",IF(ISNA(HLOOKUP(E$6,RTT!$B64:$M64,1,0)),"","RTT")) | F24: =IF(OR(AND(F$6>=CP!$G20,F$6<=CP!$H20),AND(F$6>=CP!$K20,F$6<=CP!$L20),AND(F$6>=CP!$O20,F$6<=CP!$P20),AND(F$6>=CP!$S20,F$6<=CP!$T20),AND(F$6>=CP!$W20,F$6<=CP!$X20),AND(F$6>=CP!$AA20,F$6<=CP!$AB20)),"CP",IF(ISNA(HLOOKUP(F$6,RTT!$B64:$M64,1,0)),"","RTT")) | G24: =IF(OR(AND(G$6>=CP!$G20,G$6<=CP!$H20),AND(G$6>=CP!$K20,G$6<=CP!$L20),AND(G$6>=CP!$O20,G$6<=CP!$P20),AND(G$6>=CP!$S20,G$6<=CP!$T20),AND(G$6>=CP!$W20,G$6<=CP!$X20),AND(G$6>=CP!$AA20,G$6<=CP!$AB20)),"CP",IF(ISNA(HLOOKUP(G$6,RTT!$B64:$M64,1,0)),"","RTT")) | H24: =IF(OR(AND(H$6>=CP!$G20,H$6<=CP!$H20),AND(H$6>=CP!$K20,H$6<=CP!$L20),AND(H$6>=CP!$O20,H$6<=CP!$P20),AND(H$6>=CP!$S20,H$6<=CP!$T20),AND(H$6>=CP!$W20,H$6<=CP!$X20),AND(H$6>=CP!$AA20,H$6<=CP!$AB20)),"CP",IF(ISNA(HLOOKUP(H$6,RTT!$B64:$M64,1,0)),"","RTT")) | I24: =IF(OR(AND(I$6>=CP!$G20,I$6<=CP!$H20),AND(I$6>=CP!$K20,I$6<=CP!$L20),AND(I$6>=CP!$O20,I$6<=CP!$P20),AND(I$6>=CP!$S20,I$6<=CP!$T20),AND(I$6>=CP!$W20,I$6<=CP!$X20),AND(I$6>=CP!$AA20,I$6<=CP!$AB20)),"CP",IF(ISNA(HLOOKUP(I$6,RTT!$B64:$M64,1,0)),"","RTT")) | J24: =IF(OR(AND(J$6>=CP!$G20,J$6<=CP!$H20),AND(J$6>=CP!$K20,J$6<=CP!$L20),AND(J$6>=CP!$O20,J$6<=CP!$P20),AND(J$6>=CP!$S20,J$6<=CP!$T20),AND(J$6>=CP!$W20,J$6<=CP!$X20),AND(J$6>=CP!$AA20,J$6<=CP!$AB20)),"CP",IF(ISNA(HLOOKUP(J$6,RTT!$B64:$M64,1,0)),"","RTT")) | ... CP24: =IF(OR(AND(CP$6>=CP!$G20,CP$6<=CP!$H20),AND(CP$6>=CP!$K20,CP$6<=CP!$L20),AND(CP$6>=CP!$O20,CP$6<=CP!$P20),AND(CP$6>=CP!$S20,CP$6<=CP!$T20),AND(CP$6>=CP!$W20,CP$6<=CP!$X20),AND(CP$6>=CP!$AA20,CP$6<=CP!$AB20)),"CP",IF(ISNA(HLOOKUP(CP$6,RTT!$B64:$M64,1,0)),"","RTT"))
... A73: VERRIER ViVian | B73: C | C73: =IF(OR(AND(C$6>=CP!$G69,C$6<=CP!$H69),AND(C$6>=CP!$K69,C$6<=CP!$L69),AND(C$6>=CP!$O69,C$6<=CP!$P69),AND(C$6>=CP!$S69,C$6<=CP!$T69),AND(C$6>=CP!$W69,C$6<=CP!$X69),AND(C$6>=CP!$AA69,C$6<=CP!$AB69)),"CP",IF(ISNA(HLOOKUP(C$6,RTT!$B113:$M113,1,0)),"","RTT")) | D73: =IF(OR(AND(D$6>=CP!$G69,D$6<=CP!$H69),AND(D$6>=CP!$K69,D$6<=CP!$L69),AND(D$6>=CP!$O69,D$6<=CP!$P69),AND(D$6>=CP!$S69,D$6<=CP!$T69),AND(D$6>=CP!$W69,D$6<=CP!$X69),AND(D$6>=CP!$AA69,D$6<=CP!$AB69)),"CP",IF(ISNA(HLOOKUP(D$6,RTT!$B113:$M113,1,0)),"","RTT")) | E73: =IF(OR(AND(E$6>=CP!$G69,E$6<=CP!$H69),AND(E$6>=CP!$K69,E$6<=CP!$L69),AND(E$6>=CP!$O69,E$6<=CP!$P69),AND(E$6>=CP!$S69,E$6<=CP!$T69),AND(E$6>=CP!$W69,E$6<=CP!$X69),AND(E$6>=CP!$AA69,E$6<=CP!$AB69)),"CP",IF(ISNA(HLOOKUP(E$6,RTT!$B113:$M113,1,0)),"","RTT")) | F73: =IF(OR(AND(F$6>=CP!$G69,F$6<=CP!$H69),AND(F$6>=CP!$K69,F$6<=CP!$L69),AND(F$6>=CP!$O69,F$6<=CP!$P69),AND(F$6>=CP!$S69,F$6<=CP!$T69),AND(F$6>=CP!$W69,F$6<=CP!$X69),AND(F$6>=CP!$AA69,F$6<=CP!$AB69)),"CP",IF(ISNA(HLOOKUP(F$6,RTT!$B113:$M113,1,0)),"","RTT")) | G73: =IF(OR(AND(G$6>=CP!$G69,G$6<=CP!$H69),AND(G$6>=CP!$K69,G$6<=CP!$L69),AND(G$6>=CP!$O69,G$6<=CP!$P69),AND(G$6>=CP!$S69,G$6<=CP!$T69),AND(G$6>=CP!$W69,G$6<=CP!$X69),AND(G$6>=CP!$AA69,G$6<=CP!$AB69)),"CP",IF(ISNA(HLOOKUP(G$6,RTT!$B113:$M113,1,0)),"","RTT")) | H73: =IF(OR(AND(H$6>=CP!$G69,H$6<=CP!$H69),AND(H$6>=CP!$K69,H$6<=CP!$L69),AND(H$6>=CP!$O69,H$6<=CP!$P69),AND(H$6>=CP!$S69,H$6<=CP!$T69),AND(H$6>=CP!$W69,H$6<=CP!$X69),AND(H$6>=CP!$AA69,H$6<=CP!$AB69)),"CP",IF(ISNA(HLOOKUP(H$6,RTT!$B113:$M113,1,0)),"","RTT")) | I73: =IF(OR(AND(I$6>=CP!$G69,I$6<=CP!$H69),AND(I$6>=CP!$K69,I$6<=CP!$L69),AND(I$6>=CP!$O69,I$6<=CP!$P69),AND(I$6>=CP!$S69,I$6<=CP!$T69),AND(I$6>=CP!$W69,I$6<=CP!$X69),AND(I$6>=CP!$AA69,I$6<=CP!$AB69)),"CP",IF(ISNA(HLOOKUP(I$6,RTT!$B113:$M113,1,0)),"","RTT")) | J73: =IF(OR(AND(J$6>=CP!$G69,J$6<=CP!$H69),AND(J$6>=CP!$K69,J$6<=CP!$L69),AND(J$6>=CP!$O69,J$6<=CP!$P69),AND(J$6>=CP!$S69,J$6<=CP!$T69),AND(J$6>=CP!$W69,J$6<=CP!$X69),AND(J$6>=CP!$AA69,J$6<=CP!$AB69)),"CP",IF(ISNA(HLOOKUP(J$6,RTT!$B113:$M113,1,0)),"","RTT")) | ... CP73: =IF(OR(AND(CP$6>=CP!$G69,CP$6<=CP!$H69),AND(CP$6>=CP!$K69,CP$6<=CP!$L69),AND(CP$6>=CP!$O69,CP$6<=CP!$P69),AND(CP$6>=CP!$S69,CP$6<=CP!$T69),AND(CP$6>=CP!$W69,CP$6<=CP!$X69),AND(CP$6>=CP!$AA69,CP$6<=CP!$AB69)),"CP",IF(ISNA(HLOOKUP(CP$6,RTT!$B113:$M113,1,0)),"","RTT"))
C74: =IF(OR(AND(C$6>=CP!$G80,C$6<=CP!$H80),AND(C$6>=CP!$K80,C$6<=CP!$L80),AND(C$6>=CP!$O80,C$6<=CP!$P80),AND(C$6>=CP!$S80,C$6<=CP!$T80),AND(C$6>=CP!$W80,C$6<=CP!$X80),AND(C$6>=CP!$AA80,C$6<=CP!$AB80)),"CP",IF(ISNA(HLOOKUP(C$6,RTT!$B83:$M83,1,0)),"","RTT")) | D74: =IF(OR(AND(D$6>=CP!$G80,D$6<=CP!$H80),AND(D$6>=CP!$K80,D$6<=CP!$L80),AND(D$6>=CP!$O80,D$6<=CP!$P80),AND(D$6>=CP!$S80,D$6<=CP!$T80),AND(D$6>=CP!$W80,D$6<=CP!$X80),AND(D$6>=CP!$AA80,D$6<=CP!$AB80)),"CP",IF(ISNA(HLOOKUP(D$6,RTT!$B83:$M83,1,0)),"","RTT")) | E74: =IF(OR(AND(E$6>=CP!$G80,E$6<=CP!$H80),AND(E$6>=CP!$K80,E$6<=CP!$L80),AND(E$6>=CP!$O80,E$6<=CP!$P80),AND(E$6>=CP!$S80,E$6<=CP!$T80),AND(E$6>=CP!$W80,E$6<=CP!$X80),AND(E$6>=CP!$AA80,E$6<=CP!$AB80)),"CP",IF(ISNA(HLOOKUP(E$6,RTT!$B83:$M83,1,0)),"","RTT")) | F74: =IF(OR(AND(F$6>=CP!$G80,F$6<=CP!$H80),AND(F$6>=CP!$K80,F$6<=CP!$L80),AND(F$6>=CP!$O80,F$6<=CP!$P80),AND(F$6>=CP!$S80,F$6<=CP!$T80),AND(F$6>=CP!$W80,F$6<=CP!$X80),AND(F$6>=CP!$AA80,F$6<=CP!$AB80)),"CP",IF(ISNA(HLOOKUP(F$6,RTT!$B83:$M83,1,0)),"","RTT")) | G74: =IF(OR(AND(G$6>=CP!$G80,G$6<=CP!$H80),AND(G$6>=CP!$K80,G$6<=CP!$L80),AND(G$6>=CP!$O80,G$6<=CP!$P80),AND(G$6>=CP!$S80,G$6<=CP!$T80),AND(G$6>=CP!$W80,G$6<=CP!$X80),AND(G$6>=CP!$AA80,G$6<=CP!$AB80)),"CP",IF(ISNA(HLOOKUP(G$6,RTT!$B83:$M83,1,0)),"","RTT")) | H74: =IF(OR(AND(H$6>=CP!$G80,H$6<=CP!$H80),AND(H$6>=CP!$K80,H$6<=CP!$L80),AND(H$6>=CP!$O80,H$6<=CP!$P80),AND(H$6>=CP!$S80,H$6<=CP!$T80),AND(H$6>=CP!$W80,H$6<=CP!$X80),AND(H$6>=CP!$AA80,H$6<=CP!$AB80)),"CP",IF(ISNA(HLOOKUP(H$6,RTT!$B83:$M83,1,0)),"","RTT")) | I74: =IF(OR(AND(I$6>=CP!$G80,I$6<=CP!$H80),AND(I$6>=CP!$K80,I$6<=CP!$L80),AND(I$6>=CP!$O80,I$6<=CP!$P80),AND(I$6>=CP!$S80,I$6<=CP!$T80),AND(I$6>=CP!$W80,I$6<=CP!$X80),AND(I$6>=CP!$AA80,I$6<=CP!$AB80)),"CP",IF(ISNA(HLOOKUP(I$6,RTT!$B83:$M83,1,0)),"","RTT")) | J74: =IF(OR(AND(J$6>=CP!$G80,J$6<=CP!$H80),AND(J$6>=CP!$K80,J$6<=CP!$L80),AND(J$6>=CP!$O80,J$6<=CP!$P80),AND(J$6>=CP!$S80,J$6<=CP!$T80),AND(J$6>=CP!$W80,J$6<=CP!$X80),AND(J$6>=CP!$AA80,J$6<=CP!$AB80)),"CP",IF(ISNA(HLOOKUP(J$6,RTT!$B83:$M83,1,0)),"","RTT")) | ... CP74: =IF(OR(AND(CP$6>=CP!$G80,CP$6<=CP!$H80),AND(CP$6>=CP!$K80,CP$6<=CP!$L80),AND(CP$6>=CP!$O80,CP$6<=CP!$P80),AND(CP$6>=CP!$S80,CP$6<=CP!$T80),AND(CP$6>=CP!$W80,CP$6<=CP!$X80),AND(CP$6>=CP!$AA80,CP$6<=CP!$AB80)),"CP",IF(ISNA(HLOOKUP(CP$6,RTT!$B83:$M83,1,0)),"","RTT"))
C75: =IF(OR(AND(C$6>=CP!$G81,C$6<=CP!$H81),AND(C$6>=CP!$K81,C$6<=CP!$L81),AND(C$6>=CP!$O81,C$6<=CP!$P81),AND(C$6>=CP!$S81,C$6<=CP!$T81),AND(C$6>=CP!$W81,C$6<=CP!$X81),AND(C$6>=CP!$AA81,C$6<=CP!$AB81)),"CP",IF(ISNA(HLOOKUP(C$6,RTT!$B84:$M84,1,0)),"","RTT")) | D75: =IF(OR(AND(D$6>=CP!$G81,D$6<=CP!$H81),AND(D$6>=CP!$K81,D$6<=CP!$L81),AND(D$6>=CP!$O81,D$6<=CP!$P81),AND(D$6>=CP!$S81,D$6<=CP!$T81),AND(D$6>=CP!$W81,D$6<=CP!$X81),AND(D$6>=CP!$AA81,D$6<=CP!$AB81)),"CP",IF(ISNA(HLOOKUP(D$6,RTT!$B84:$M84,1,0)),"","RTT")) | E75: =IF(OR(AND(E$6>=CP!$G81,E$6<=CP!$H81),AND(E$6>=CP!$K81,E$6<=CP!$L81),AND(E$6>=CP!$O81,E$6<=CP!$P81),AND(E$6>=CP!$S81,E$6<=CP!$T81),AND(E$6>=CP!$W81,E$6<=CP!$X81),AND(E$6>=CP!$AA81,E$6<=CP!$AB81)),"CP",IF(ISNA(HLOOKUP(E$6,RTT!$B84:$M84,1,0)),"","RTT")) | F75: =IF(OR(AND(F$6>=CP!$G81,F$6<=CP!$H81),AND(F$6>=CP!$K81,F$6<=CP!$L81),AND(F$6>=CP!$O81,F$6<=CP!$P81),AND(F$6>=CP!$S81,F$6<=CP!$T81),AND(F$6>=CP!$W81,F$6<=CP!$X81),AND(F$6>=CP!$AA81,F$6<=CP!$AB81)),"CP",IF(ISNA(HLOOKUP(F$6,RTT!$B84:$M84,1,0)),"","RTT")) | G75: =IF(OR(AND(G$6>=CP!$G81,G$6<=CP!$H81),AND(G$6>=CP!$K81,G$6<=CP!$L81),AND(G$6>=CP!$O81,G$6<=CP!$P81),AND(G$6>=CP!$S81,G$6<=CP!$T81),AND(G$6>=CP!$W81,G$6<=CP!$X81),AND(G$6>=CP!$AA81,G$6<=CP!$AB81)),"CP",IF(ISNA(HLOOKUP(G$6,RTT!$B84:$M84,1,0)),"","RTT")) | H75: =IF(OR(AND(H$6>=CP!$G81,H$6<=CP!$H81),AND(H$6>=CP!$K81,H$6<=CP!$L81),AND(H$6>=CP!$O81,H$6<=CP!$P81),AND(H$6>=CP!$S81,H$6<=CP!$T81),AND(H$6>=CP!$W81,H$6<=CP!$X81),AND(H$6>=CP!$AA81,H$6<=CP!$AB81)),"CP",IF(ISNA(HLOOKUP(H$6,RTT!$B84:$M84,1,0)),"","RTT")) | I75: =IF(OR(AND(I$6>=CP!$G81,I$6<=CP!$H81),AND(I$6>=CP!$K81,I$6<=CP!$L81),AND(I$6>=CP!$O81,I$6<=CP!$P81),AND(I$6>=CP!$S81,I$6<=CP!$T81),AND(I$6>=CP!$W81,I$6<=CP!$X81),AND(I$6>=CP!$AA81,I$6<=CP!$AB81)),"CP",IF(ISNA(HLOOKUP(I$6,RTT!$B84:$M84,1,0)),"","RTT")) | J75: =IF(OR(AND(J$6>=CP!$G81,J$6<=CP!$H81),AND(J$6>=CP!$K81,J$6<=CP!$L81),AND(J$6>=CP!$O81,J$6<=CP!$P81),AND(J$6>=CP!$S81,J$6<=CP!$T81),AND(J$6>=CP!$W81,J$6<=CP!$X81),AND(J$6>=CP!$AA81,J$6<=CP!$AB81)),"CP",IF(ISNA(HLOOKUP(J$6,RTT!$B84:$M84,1,0)),"","RTT")) | ... CP75: =IF(OR(AND(CP$6>=CP!$G81,CP$6<=CP!$H81),AND(CP$6>=CP!$K81,CP$6<=CP!$L81),AND(CP$6>=CP!$O81,CP$6<=CP!$P81),AND(CP$6>=CP!$S81,CP$6<=CP!$T81),AND(CP$6>=CP!$W81,CP$6<=CP!$X81),AND(CP$6>=CP!$AA81,CP$6<=CP!$AB81)),"CP",IF(ISNA(HLOOKUP(CP$6,RTT!$B84:$M84,1,0)),"","RTT"))
C76: =IF(OR(AND(C$6>=CP!$G82,C$6<=CP!$H82),AND(C$6>=CP!$K82,C$6<=CP!$L82),AND(C$6>=CP!$O82,C$6<=CP!$P82),AND(C$6>=CP!$S82,C$6<=CP!$T82),AND(C$6>=CP!$W82,C$6<=CP!$X82),AND(C$6>=CP!$AA82,C$6<=CP!$AB82)),"CP",IF(ISNA(HLOOKUP(C$6,RTT!$B85:$M85,1,0)),"","RTT")) | D76: =IF(OR(AND(D$6>=CP!$G82,D$6<=CP!$H82),AND(D$6>=CP!$K82,D$6<=CP!$L82),AND(D$6>=CP!$O82,D$6<=CP!$P82),AND(D$6>=CP!$S82,D$6<=CP!$T82),AND(D$6>=CP!$W82,D$6<=CP!$X82),AND(D$6>=CP!$AA82,D$6<=CP!$AB82)),"CP",IF(ISNA(HLOOKUP(D$6,RTT!$B85:$M85,1,0)),"","RTT")) | E76: =IF(OR(AND(E$6>=CP!$G82,E$6<=CP!$H82),AND(E$6>=CP!$K82,E$6<=CP!$L82),AND(E$6>=CP!$O82,E$6<=CP!$P82),AND(E$6>=CP!$S82,E$6<=CP!$T82),AND(E$6>=CP!$W82,E$6<=CP!$X82),AND(E$6>=CP!$AA82,E$6<=CP!$AB82)),"CP",IF(ISNA(HLOOKUP(E$6,RTT!$B85:$M85,1,0)),"","RTT")) | F76: =IF(OR(AND(F$6>=CP!$G82,F$6<=CP!$H82),AND(F$6>=CP!$K82,F$6<=CP!$L82),AND(F$6>=CP!$O82,F$6<=CP!$P82),AND(F$6>=CP!$S82,F$6<=CP!$T82),AND(F$6>=CP!$W82,F$6<=CP!$X82),AND(F$6>=CP!$AA82,F$6<=CP!$AB82)),"CP",IF(ISNA(HLOOKUP(F$6,RTT!$B85:$M85,1,0)),"","RTT")) | G76: =IF(OR(AND(G$6>=CP!$G82,G$6<=CP!$H82),AND(G$6>=CP!$K82,G$6<=CP!$L82),AND(G$6>=CP!$O82,G$6<=CP!$P82),AND(G$6>=CP!$S82,G$6<=CP!$T82),AND(G$6>=CP!$W82,G$6<=CP!$X82),AND(G$6>=CP!$AA82,G$6<=CP!$AB82)),"CP",IF(ISNA(HLOOKUP(G$6,RTT!$B85:$M85,1,0)),"","RTT")) | H76: =IF(OR(AND(H$6>=CP!$G82,H$6<=CP!$H82),AND(H$6>=CP!$K82,H$6<=CP!$L82),AND(H$6>=CP!$O82,H$6<=CP!$P82),AND(H$6>=CP!$S82,H$6<=CP!$T82),AND(H$6>=CP!$W82,H$6<=CP!$X82),AND(H$6>=CP!$AA82,H$6<=CP!$AB82)),"CP",IF(ISNA(HLOOKUP(H$6,RTT!$B85:$M85,1,0)),"","RTT")) | I76: =IF(OR(AND(I$6>=CP!$G82,I$6<=CP!$H82),AND(I$6>=CP!$K82,I$6<=CP!$L82),AND(I$6>=CP!$O82,I$6<=CP!$P82),AND(I$6>=CP!$S82,I$6<=CP!$T82),AND(I$6>=CP!$W82,I$6<=CP!$X82),AND(I$6>=CP!$AA82,I$6<=CP!$AB82)),"CP",IF(ISNA(HLOOKUP(I$6,RTT!$B85:$M85,1,0)),"","RTT")) | J76: =IF(OR(AND(J$6>=CP!$G82,J$6<=CP!$H82),AND(J$6>=CP!$K82,J$6<=CP!$L82),AND(J$6>=CP!$O82,J$6<=CP!$P82),AND(J$6>=CP!$S82,J$6<=CP!$T82),AND(J$6>=CP!$W82,J$6<=CP!$X82),AND(J$6>=CP!$AA82,J$6<=CP!$AB82)),"CP",IF(ISNA(HLOOKUP(J$6,RTT!$B85:$M85,1,0)),"","RTT")) | ... CP76: =IF(OR(AND(CP$6>=CP!$G82,CP$6<=CP!$H82),AND(CP$6>=CP!$K82,CP$6<=CP!$L82),AND(CP$6>=CP!$O82,CP$6<=CP!$P82),AND(CP$6>=CP!$S82,CP$6<=CP!$T82),AND(CP$6>=CP!$W82,CP$6<=CP!$X82),AND(CP$6>=CP!$AA82,CP$6<=CP!$AB82)),"CP",IF(ISNA(HLOOKUP(CP$6,RTT!$B85:$M85,1,0)),"","RTT"))
C77: =IF(OR(AND(C$6>=CP!$G83,C$6<=CP!$H83),AND(C$6>=CP!$K83,C$6<=CP!$L83),AND(C$6>=CP!$O83,C$6<=CP!$P83),AND(C$6>=CP!$S83,C$6<=CP!$T83),AND(C$6>=CP!$W83,C$6<=CP!$X83),AND(C$6>=CP!$AA83,C$6<=CP!$AB83)),"CP",IF(ISNA(HLOOKUP(C$6,RTT!$B86:$M86,1,0)),"","RTT")) | D77: =IF(OR(AND(D$6>=CP!$G83,D$6<=CP!$H83),AND(D$6>=CP!$K83,D$6<=CP!$L83),AND(D$6>=CP!$O83,D$6<=CP!$P83),AND(D$6>=CP!$S83,D$6<=CP!$T83),AND(D$6>=CP!$W83,D$6<=CP!$X83),AND(D$6>=CP!$AA83,D$6<=CP!$AB83)),"CP",IF(ISNA(HLOOKUP(D$6,RTT!$B86:$M86,1,0)),"","RTT")) | E77: =IF(OR(AND(E$6>=CP!$G83,E$6<=CP!$H83),AND(E$6>=CP!$K83,E$6<=CP!$L83),AND(E$6>=CP!$O83,E$6<=CP!$P83),AND(E$6>=CP!$S83,E$6<=CP!$T83),AND(E$6>=CP!$W83,E$6<=CP!$X83),AND(E$6>=CP!$AA83,E$6<=CP!$AB83)),"CP",IF(ISNA(HLOOKUP(E$6,RTT!$B86:$M86,1,0)),"","RTT")) | F77: =IF(OR(AND(F$6>=CP!$G83,F$6<=CP!$H83),AND(F$6>=CP!$K83,F$6<=CP!$L83),AND(F$6>=CP!$O83,F$6<=CP!$P83),AND(F$6>=CP!$S83,F$6<=CP!$T83),AND(F$6>=CP!$W83,F$6<=CP!$X83),AND(F$6>=CP!$AA83,F$6<=CP!$AB83)),"CP",IF(ISNA(HLOOKUP(F$6,RTT!$B86:$M86,1,0)),"","RTT")) | G77: =IF(OR(AND(G$6>=CP!$G83,G$6<=CP!$H83),AND(G$6>=CP!$K83,G$6<=CP!$L83),AND(G$6>=CP!$O83,G$6<=CP!$P83),AND(G$6>=CP!$S83,G$6<=CP!$T83),AND(G$6>=CP!$W83,G$6<=CP!$X83),AND(G$6>=CP!$AA83,G$6<=CP!$AB83)),"CP",IF(ISNA(HLOOKUP(G$6,RTT!$B86:$M86,1,0)),"","RTT")) | H77: =IF(OR(AND(H$6>=CP!$G83,H$6<=CP!$H83),AND(H$6>=CP!$K83,H$6<=CP!$L83),AND(H$6>=CP!$O83,H$6<=CP!$P83),AND(H$6>=CP!$S83,H$6<=CP!$T83),AND(H$6>=CP!$W83,H$6<=CP!$X83),AND(H$6>=CP!$AA83,H$6<=CP!$AB83)),"CP",IF(ISNA(HLOOKUP(H$6,RTT!$B86:$M86,1,0)),"","RTT")) | I77: =IF(OR(AND(I$6>=CP!$G83,I$6<=CP!$H83),AND(I$6>=CP!$K83,I$6<=CP!$L83),AND(I$6>=CP!$O83,I$6<=CP!$P83),AND(I$6>=CP!$S83,I$6<=CP!$T83),AND(I$6>=CP!$W83,I$6<=CP!$X83),AND(I$6>=CP!$AA83,I$6<=CP!$AB83)),"CP",IF(ISNA(HLOOKUP(I$6,RTT!$B86:$M86,1,0)),"","RTT")) | J77: =IF(OR(AND(J$6>=CP!$G83,J$6<=CP!$H83),AND(J$6>=CP!$K83,J$6<=CP!$L83),AND(J$6>=CP!$O83,J$6<=CP!$P83),AND(J$6>=CP!$S83,J$6<=CP!$T83),AND(J$6>=CP!$W83,J$6<=CP!$X83),AND(J$6>=CP!$AA83,J$6<=CP!$AB83)),"CP",IF(ISNA(HLOOKUP(J$6,RTT!$B86:$M86,1,0)),"","RTT")) | ... CP77: =IF(OR(AND(CP$6>=CP!$G83,CP$6<=CP!$H83),AND(CP$6>=CP!$K83,CP$6<=CP!$L83),AND(CP$6>=CP!$O83,CP$6<=CP!$P83),AND(CP$6>=CP!$S83,CP$6<=CP!$T83),AND(CP$6>=CP!$W83,CP$6<=CP!$X83),AND(CP$6>=CP!$AA83,CP$6<=CP!$AB83)),"CP",IF(ISNA(HLOOKUP(CP$6,RTT!$B86:$M86,1,0)),"","RTT"))
C78: =IF(OR(AND(C$6>=CP!$G84,C$6<=CP!$H84),AND(C$6>=CP!$K84,C$6<=CP!$L84),AND(C$6>=CP!$O84,C$6<=CP!$P84),AND(C$6>=CP!$S84,C$6<=CP!$T84),AND(C$6>=CP!$W84,C$6<=CP!$X84),AND(C$6>=CP!$AA84,C$6<=CP!$AB84)),"CP",IF(ISNA(HLOOKUP(C$6,RTT!$B87:$M87,1,0)),"","RTT")) | D78: =IF(OR(AND(D$6>=CP!$G84,D$6<=CP!$H84),AND(D$6>=CP!$K84,D$6<=CP!$L84),AND(D$6>=CP!$O84,D$6<=CP!$P84),AND(D$6>=CP!$S84,D$6<=CP!$T84),AND(D$6>=CP!$W84,D$6<=CP!$X84),AND(D$6>=CP!$AA84,D$6<=CP!$AB84)),"CP",IF(ISNA(HLOOKUP(D$6,RTT!$B87:$M87,1,0)),"","RTT")) | E78: =IF(OR(AND(E$6>=CP!$G84,E$6<=CP!$H84),AND(E$6>=CP!$K84,E$6<=CP!$L84),AND(E$6>=CP!$O84,E$6<=CP!$P84),AND(E$6>=CP!$S84,E$6<=CP!$T84),AND(E$6>=CP!$W84,E$6<=CP!$X84),AND(E$6>=CP!$AA84,E$6<=CP!$AB84)),"CP",IF(ISNA(HLOOKUP(E$6,RTT!$B87:$M87,1,0)),"","RTT")) | F78: =IF(OR(AND(F$6>=CP!$G84,F$6<=CP!$H84),AND(F$6>=CP!$K84,F$6<=CP!$L84),AND(F$6>=CP!$O84,F$6<=CP!$P84),AND(F$6>=CP!$S84,F$6<=CP!$T84),AND(F$6>=CP!$W84,F$6<=CP!$X84),AND(F$6>=CP!$AA84,F$6<=CP!$AB84)),"CP",IF(ISNA(HLOOKUP(F$6,RTT!$B87:$M87,1,0)),"","RTT")) | G78: =IF(OR(AND(G$6>=CP!$G84,G$6<=CP!$H84),AND(G$6>=CP!$K84,G$6<=CP!$L84),AND(G$6>=CP!$O84,G$6<=CP!$P84),AND(G$6>=CP!$S84,G$6<=CP!$T84),AND(G$6>=CP!$W84,G$6<=CP!$X84),AND(G$6>=CP!$AA84,G$6<=CP!$AB84)),"CP",IF(ISNA(HLOOKUP(G$6,RTT!$B87:$M87,1,0)),"","RTT")) | H78: =IF(OR(AND(H$6>=CP!$G84,H$6<=CP!$H84),AND(H$6>=CP!$K84,H$6<=CP!$L84),AND(H$6>=CP!$O84,H$6<=CP!$P84),AND(H$6>=CP!$S84,H$6<=CP!$T84),AND(H$6>=CP!$W84,H$6<=CP!$X84),AND(H$6>=CP!$AA84,H$6<=CP!$AB84)),"CP",IF(ISNA(HLOOKUP(H$6,RTT!$B87:$M87,1,0)),"","RTT")) | I78: =IF(OR(AND(I$6>=CP!$G84,I$6<=CP!$H84),AND(I$6>=CP!$K84,I$6<=CP!$L84),AND(I$6>=CP!$O84,I$6<=CP!$P84),AND(I$6>=CP!$S84,I$6<=CP!$T84),AND(I$6>=CP!$W84,I$6<=CP!$X84),AND(I$6>=CP!$AA84,I$6<=CP!$AB84)),"CP",IF(ISNA(HLOOKUP(I$6,RTT!$B87:$M87,1,0)),"","RTT")) | J78: =IF(OR(AND(J$6>=CP!$G84,J$6<=CP!$H84),AND(J$6>=CP!$K84,J$6<=CP!$L84),AND(J$6>=CP!$O84,J$6<=CP!$P84),AND(J$6>=CP!$S84,J$6<=CP!$T84),AND(J$6>=CP!$W84,J$6<=CP!$X84),AND(J$6>=CP!$AA84,J$6<=CP!$AB84)),"CP",IF(ISNA(HLOOKUP(J$6,RTT!$B87:$M87,1,0)),"","RTT")) | ... CP78: =IF(OR(AND(CP$6>=CP!$G84,CP$6<=CP!$H84),AND(CP$6>=CP!$K84,CP$6<=CP!$L84),AND(CP$6>=CP!$O84,CP$6<=CP!$P84),AND(CP$6>=CP!$S84,CP$6<=CP!$T84),AND(CP$6>=CP!$W84,CP$6<=CP!$X84),AND(CP$6>=CP!$AA84,CP$6<=CP!$AB84)),"CP",IF(ISNA(HLOOKUP(CP$6,RTT!$B87:$M87,1,0)),"","RTT"))
