Workbook

Sheet Solution njhub
C1: 1 | D1: =C1+1 -> 2 | E1: =D1+1 -> 3 | F1: =E1+1 -> 4 | G1: =F1+1 -> 5 | H1: =G1+1 -> 6 | I1: =H1+1 -> 7 | J1: =I1+1 -> 8
C2: T | D2: 0.005 | E2: T | F2: 0.01 | G2: T | H2: 0.015 | I2: T | J2: 0.02
C3: D | D3: C | E3: D | F3: C | G3: D | H3: C | I3: D | J3: C
C4: 19.979115 | D4: 0.95099305 | E4: 21.019004 | F4: 0.90394388 | G4: 22.123667 | H4: 0.8588088 | I4: 23.29737 | J4: 0.81554271
C5: 18.879717 | D5: 0.95340413 | E5: 19.810895 | F5: 0.90859095 | G5: 20.796716 | H5: 0.86552125 | I5: 21.840559 | J5: 0.82415474
C6: 17.785788 | D6: 0.95581934 | E6: 18.614748 | F6: 0.91325439 | G6: 19.489376 | H6: 0.87227011 | I6: 20.412312 | J6: 0.83283068
C7: 16.697301 | D7: 0.95823868 | E7: 17.430443 | F7: 0.91793421 | G7: 18.201355 | H7: 0.87905541 | I7: 19.012071 | J7: 0.8415706
C8: 15.61423 | D8: 0.96066215 | E8: 16.257864 | F8: 0.9226304 | G8: 16.93237 | H8: 0.88587718 | I8: 17.639285 | J8: 0.85037459
C9: 14.536548 | D9: 0.96308976 | E9: 15.096896 | F9: 0.92734297 | G9: 15.682138 | H9: 0.89273543 | I9: 16.293417 | J9: 0.85924273
C10: 13.464226 | D10: 0.9655215 | E10: 13.947421 | F10: 0.93207194 | G10: 14.450382 | H10: 0.89963019 | I10: 14.973938 | J10: 0.86817508
C11: 12.39724 | D11: 0.96795737 | E11: 12.809328 | F11: 0.93681729 | G11: 13.23683 | H11: 0.90656149 | I11: 13.680332 | J11: 0.87717172
C12: 11.335562 | D12: 0.97039738 | E12: 11.682503 | F12: 0.94157904 | G12: 12.041211 | H12: 0.91352935 | I12: 12.41209 | J12: 0.88623272
C13: 10.279167 | D13: 0.97284152 | E13: 10.566835 | F13: 0.94635719 | G13: 10.863262 | H13: 0.92053377 | I13: 11.168715 | J13: 0.89535812
C14: 9.2280264 | D14: 0.9752898 | E14: 9.4622125 | F14: 0.95115175 | G14: 9.7027217 | H14: 0.92757479 | I14: 9.949721 | J14: 0.90454798
C15: 8.1821158 | D15: 0.97774221 | E15: 8.3685273 | F15: 0.95596271 | G15: 8.5593317 | H15: 0.93465241 | I15: 8.7546284 | J15: 0.91380235
... C22: 1.005 | D22: 0.99502488 | E22: 1.01 | F22: 0.99009901 | G22: 1.015 | H22: 0.98522167 | I22: 1.02 | J22: 0.98039216
E24: Valeur de T : | F24: 0.005
E25: Valeur de D : | F25: 15
E26: Valeur de C : | F26: =INDIRECT(ADDRESS(MATCH(F25,INDIRECT(CONCATENATE(ADDRESS(4,MATCH(F24,A2:J2,0)-1),":",ADDRESS(22,MATCH(F24,A2:J2,0)-1)),1),-1)+3,MATCH(F24,A2:J2,0)),1) -> 0.96066215 | G26: = | H26: INDIRECT(ADRESSE(EQUIV(F25;INDIRECT(CONCATENER(ADRESSE(4;EQUIV(F24;A2:J2;0)-1);":";ADRESSE(22;EQUIV(F24;A2:J2;0)-1));1);-1)+3;EQUIV(F24;A2:J2;0));1)
H27: Solution du 3/05/2020 - 23 h 12 de njhub du https://forum.excel-pratique.com/

Sheet Fichier réel
H2: CTRL à 0 | M2: ESTIMATIONS | Y2: CTRL à 0 | AB2: CTRL à 0 Solde Emprunt
J3: A N N U I T E P A Y E E | M3: Taux d'intérêt | P3: Coef d'ajust | Q3: Durée résiduelle | R3: Durée résiduelle | U3: F L U X E M P R U N T S
J4: Total | K4: Ch Finan. | L4: Capital | M4: calculés | N4: arrondis | U4: au 1/01 | V4: Souscrit | W4: Remb. | X4: Solde
A5: 2018 | B5: 01 | C5: 1001 | D5: AAAA | E5: 785 | F5: 117 | G5: 68 | H5: =F5-G5-L5 -> 0 | I5: =L5/F5 -> 0.41880342 | J5: 55 | K5: 6 | L5: =J5-K5 -> 49 | M5: =IF(U5=0,"",K5/U5) -> 0.019313097 | N5: =IF(M5="",0,ROUND(M5*100/5,1)*5/100) -> 0.02 | O5: =IF(N5=0.03,12,IFERROR(VLOOKUP(N5,S$5:T$22,2,0),"")) | P5: =IF(L5=0,"",INDIRECT(ADDRESS(MATCH($Q5,INDIRECT(CONCATENATE(ADDRESS(226,MATCH($N5,'Durées résiduelles'!$A$224:$AL$224,0)-1,4,1,"Durées résiduelles"),":",ADDRESS(244,MATCH($N5,'Durées résiduelles'!$A$224:$AL$224,0)-1,4,1)),1),-1)+225,MATCH($N5,'Durées résiduelles'!$A$224:$AL$224,0),4,1,"Durées résiduelles"),1)) -> 0.93250478 | Q5: =IF(L5=0,"",U5/L5) -> 6.3402041 | R5: =IF(L5=0,"",Q5*P5) -> 5.9122706 | U5: 310.67 | V5: 0 | W5: 49 | X5: =U5+V5-W5 -> 261.67 | Y5: =W5-L5 -> 0 | Z5: 263 | AA5: 262 | AB5: =X5-AA5 -> -0.33
A6: 2018 | B6: 01 | C6: 1002 | D6: BBBB | E6: 242 | F6: 39 | G6: 39 | H6: =F6-G6-L6 -> 0 | I6: =L6/F6 -> 0 | J6: 0 | K6: 0 | L6: =J6-K6 -> 0 | M6: =IF(U6=0,"",K6/U6) | N6: =IF(M6="",0,ROUND(M6*100/5,1)*5/100) -> 0 | O6: =IF(N6=0.03,12,IFERROR(VLOOKUP(N6,S$5:T$22,2,0),"")) | P6: =IF(L6=0,"",INDIRECT(ADDRESS(MATCH($Q6,INDIRECT(CONCATENATE(ADDRESS(226,MATCH($N6,'Durées résiduelles'!$A$224:$AL$224,0)-1,4,1,"Durées résiduelles"),":",ADDRESS(244,MATCH($N6,'Durées résiduelles'!$A$224:$AL$224,0)-1,4,1)),1),-1)+225,MATCH($N6,'Durées résiduelles'!$A$224:$AL$224,0),4,1,"Durées résiduelles"),1)) | Q6: =IF(L6=0,"",U6/L6) | R6: =IF(L6=0,"",Q6*P6) | U6: 0 | V6: 0 | W6: 0 | X6: =U6+V6-W6 -> 0 | Y6: =W6-L6 -> 0 | Z6: 0 | AA6: 0 | AB6: =X6-AA6 -> 0
A7: 2018 | B7: 01 | C7: 1004 | D7: CCCCC | E7: 14631 | F7: 1905 | G7: 215 | H7: =F7-G7-L7 -> 0 | I7: =L7/F7 -> 0.88713911 | J7: 2137 | K7: 447 | L7: =J7-K7 -> 1690 | M7: =IF(U7=0,"",K7/U7) -> 0.030813773 | N7: =IF(M7="",0,ROUND(M7*100/5,1)*5/100) -> 0.03 | P7: =IF(L7=0,"",INDIRECT(ADDRESS(MATCH($Q7,INDIRECT(CONCATENATE(ADDRESS(226,MATCH($N7,'Durées résiduelles'!$A$224:$AL$224,0)-1,4,1,"Durées résiduelles"),":",ADDRESS(244,MATCH($N7,'Durées résiduelles'!$A$224:$AL$224,0)-1,4,1)),1),-1)+225,MATCH($N7,'Durées résiduelles'!$A$224:$AL$224,0),4,1,"Durées résiduelles"),1)) -> 0.87344768 | Q7: =IF(L7=0,"",U7/L7) -> 8.5837278 | R7: =IF(L7=0,"",Q7*P7) -> 7.4974371 | U7: 14506.5 | V7: 0 | W7: 1690 | X7: =U7+V7-W7 -> 12816.5 | Y7: =W7-L7 -> 0 | Z7: 12818 | AA7: 12816 | AB7: =X7-AA7 -> 0.5
A8: 2018 | B8: 01 | C8: 1005 | D8: DDDD | E8: 1652 | F8: 230 | G8: 77 | H8: =F8-G8-L8 -> 0 | I8: =L8/F8 -> 0.66521739 | J8: 205 | K8: 52 | L8: =J8-K8 -> 153 | M8: =IF(U8=0,"",K8/U8) -> 0.023047909 | N8: =IF(M8="",0,ROUND(M8*100/5,1)*5/100) -> 0.025 | O8: =IF(N8=0.03,12,IFERROR(VLOOKUP(N8,S$5:T$22,2,0),"")) | P8: =IF(L8=0,"",INDIRECT(ADDRESS(MATCH($Q8,INDIRECT(CONCATENATE(ADDRESS(226,MATCH($N8,'Durées résiduelles'!$A$224:$AL$224,0)-1,4,1,"Durées résiduelles"),":",ADDRESS(244,MATCH($N8,'Durées résiduelles'!$A$224:$AL$224,0)-1,4,1)),1),-1)+225,MATCH($N8,'Durées résiduelles'!$A$224:$AL$224,0),4,1,"Durées résiduelles"),1)) -> 0.83768539 | Q8: =IF(L8=0,"",U8/L8) -> 14.746209 | R8: =IF(L8=0,"",Q8*P8) -> 12.352684 | U8: 2256.17 | V8: 0 | W8: 153 | X8: =U8+V8-W8 -> 2103.17 | Y8: =W8-L8 -> 0 | Z8: 2104 | AA8: 2104 | AB8: =X8-AA8 -> -0.83
A9: 2018 | B9: 01 | C9: 1006 | D9: EEEEE | E9: 115 | F9: 39 | G9: 39 | H9: =F9-G9-L9 -> 0 | I9: =L9/F9 -> 0 | J9: 0 | K9: 0 | L9: =J9-K9 -> 0 | M9: =IF(U9=0,"",K9/U9) | N9: =IF(M9="",0,ROUND(M9*100/5,1)*5/100) -> 0 | O9: =IF(N9=0.03,12,IFERROR(VLOOKUP(N9,S$5:T$22,2,0),"")) | P9: =IF(L9=0,"",INDIRECT(ADDRESS(MATCH($Q9,INDIRECT(CONCATENATE(ADDRESS(226,MATCH($N9,'Durées résiduelles'!$A$224:$AL$224,0)-1,4,1,"Durées résiduelles"),":",ADDRESS(244,MATCH($N9,'Durées résiduelles'!$A$224:$AL$224,0)-1,4,1)),1),-1)+225,MATCH($N9,'Durées résiduelles'!$A$224:$AL$224,0),4,1,"Durées résiduelles"),1)) | Q9: =IF(L9=0,"",U9/L9) | R9: =IF(L9=0,"",Q9*P9) | U9: 0 | V9: 0 | W9: 0 | X9: =U9+V9-W9 -> 0 | Y9: =W9-L9 -> 0 | Z9: 0 | AA9: 0 | AB9: =X9-AA9 -> 0
A10: 2018 | B10: 01 | C10: 1007 | D10: FFFFF | E10: 2722 | F10: 590 | G10: 441 | H10: =F10-G10-L10 -> 0 | I10: =L10/F10 -> 0.25254237 | J10: 239 | K10: 90 | L10: =J10-K10 -> 149 | M10: =IF(U10=0,"",K10/U10) -> 0.045282563 | N10: =IF(M10="",0,ROUND(M10*100/5,1)*5/100) -> 0.045 | O10: =IF(N10=0.03,12,IFERROR(VLOOKUP(N10,S$5:T$22,2,0),"")) | P10: =IF(L10=0,"",INDIRECT(ADDRESS(MATCH($Q10,INDIRECT(CONCATENATE(ADDRESS(226,MATCH($N10,'Durées résiduelles'!$A$224:$AL$224,0)-1,4,1,"Durées résiduelles"),":",ADDRESS(244,MATCH($N10,'Durées résiduelles'!$A$224:$AL$224,0)-1,4,1)),1),-1)+225,MATCH($N10,'Durées résiduelles'!$A$224:$AL$224,0),4,1,"Durées résiduelles"),1)) -> 0.76050718 | Q10: =IF(L10=0,"",U10/L10) -> 13.33906 | R10: =IF(L10=0,"",Q10*P10) -> 10.144451 | U10: 1987.52 | V10: 0 | W10: 149 | X10: =U10+V10-W10 -> 1838.52 | Y10: =W10-L10 -> 0 | Z10: 1841 | AA10: 1839 | AB10: =X10-AA10 -> -0.48

Sheet Durées résiduelles
A1: Durée résiduelle de l'emprunt fin de période = (Capital restant à rembourser début de période / dernière fraction de capital remboursé au cours de la période) -1 | V1: Coefficient d'ajusyement de la durée résiduelle | AD1: https://www.youtube.com/watch?v=tdj8_HsZ9jU
D2: Durée | E2: 10 | I2: Durée | J2: 11 | N2: Durée | O2: 12 | S2: Durée | T2: 13 | X2: Durée | Y2: 14 | AC2: Durée | AD2: 15 | AH2: Durée | AI2: 16 | AM2: Durée | AN2: 17 | AR2: Durée | AS2: 18 | AW2: Durée | AX2: 19 | BB2: Durée | BC2: 20
C3: Intérêts | D3: K | E3: Annuité | H3: Intérêts | I3: K | J3: Annuité | M3: Intérêts | N3: K | O3: Annuité | R3: Intérêts | S3: K | T3: Annuité | W3: Intérêts | X3: K | Y3: Annuité | AB3: Intérêts | AC3: K | AD3: Annuité | AG3: Intérêts | AH3: K | AI3: Annuité | AL3: Intérêts | AM3: K | AN3: Annuité | AQ3: Intérêts | AR3: K | AS3: Annuité | AV3: Intérêts | AW3: K | AX3: Annuité | BA3: Intérêts | BB3: K | BC3: Annuité
C4: =$B9*B13 -> 100 | D4: =E4-C4 -> 955.82077 | E4: =$B9*$B13/(1-(1+$B13)^-$E$2) -> 1055.8208 | F4: =$B9/D4-1 -> 9.4622125 | G4: =(E$2-COUNTA(C4:C4))/F4 -> 0.95115175 | H4: =$B9*B13 -> 100 | I4: =J4-H4 -> 864.54076 | J4: =$B9*$B13/(1-(1+$B13)^-$J$2) -> 964.54076 | K4: =$B9/I4-1 -> 10.566835 | L4: =(J$2-COUNTA(H4:H4))/K4 -> 0.94635719 | M4: =$B9*B13 -> 100 | N4: =O4-M4 -> 788.48789 | O4: =$B9*$B13/(1-(1+$B13)^-$O$2) -> 888.48789 | P4: =$B9/N4-1 -> 11.682503 | Q4: =(O$2-COUNTA(M4:M4))/P4 -> 0.94157904 | R4: =$B9*B13 -> 100 | S4: =T4-R4 -> 724.1482 | T4: =$B9*$B13/(1-(1+$B13)^-$T$2) -> 824.1482 | U4: =$B9/S4-1 -> 12.809328 | V4: =(T$2-COUNTA(R4:R4))/U4 -> 0.93681729 | W4: =$B9*B13 -> 100 | X4: =Y4-W4 -> 669.01172 | Y4: =$B9*$B13/(1-(1+$B13)^-$Y$2) -> 769.01172 | Z4: =$B9/X4-1 -> 13.947421 | AA4: =(Y$2-COUNTA(W4:W4))/Z4 -> 0.93207194 | AB4: =$B9*B13 -> 100 | AC4: =AD4-AB4 -> 621.2378 | AD4: =$B9*$B13/(1-(1+$B13)^-$AD$2) -> 721.2378 | AE4: =$B9/AC4-1 -> 15.096896 | AF4: =(AD$2-COUNTA(AB4:AB4))/AE4 -> 0.92734297 | AG4: =$B9*B13 -> 100 | AH4: =AI4-AG4 -> 579.44597 | AI4: =$B9*$B13/(1-(1+$B13)^-$AI$2) -> 679.44597 | AJ4: =$B9/AH4-1 -> 16.257864 | AK4: =(AI$2-COUNTA(AG4:AG4))/AJ4 -> 0.9226304 | AL4: =$B9*B13 -> 100 | AM4: =AN4-AL4 -> 542.58055 | AN4: =$B9*$B13/(1-(1+$B13)^-$AN$2) -> 642.58055 | AO4: =$B9/AM4-1 -> 17.430443 | AP4: =(AN$2-COUNTA(AL4:AL4))/AO4 -> 0.91793421 | AQ4: =$B9*B13 -> 100 | AR4: =AS4-AQ4 -> 509.82048 | AS4: =$B9*$B13/(1-(1+$B13)^-$AS$2) -> 609.82048 | AT4: =$B9/AR4-1 -> 18.614748 | AU4: =(AS$2-COUNTA(AQ4:AQ4))/AT4 -> 0.91325439 | AV4: =$B9*B13 -> 100 | AW4: =AX4-AV4 -> 480.51754 | AX4: =$B9*$B13/(1-(1+$B13)^-$AX$2) -> 580.51754 | AY4: =$B9/AW4-1 -> 19.810895 | AZ4: =(AX$2-COUNTA(AV4:AV4))/AY4 -> 0.90859095 | BA4: =$B9*B13 -> 100 | BB4: =BC4-BA4 -> 454.15315 | BC4: =$B9*$B13/(1-(1+$B13)^-$BC$2) -> 554.15315 | BD4: =$B9/BB4-1 -> 21.019004 | BE4: =(BC$2-COUNTA(BA4:BA4))/BD4 -> 0.90394388
C5: =($B$31-SUM(D4:D4))*B13 -> 90.441792 | D5: =E5-C5 -> 965.37897 | E5: =E4 -> 1055.8208 | F5: =($B9-SUM(D4:D4))/D5-1 -> 8.3685273 | G5: =(E$2-COUNTA(C4:C5))/F5 -> 0.95596271 | H5: =($B$31-SUM(I4:I4))*B13 -> 91.354592 | I5: =J5-H5 -> 873.18616 | J5: =J4 -> 964.54076 | K5: =($B9-SUM(I4:I4))/I5-1 -> 9.4622125 | L5: =(J$2-COUNTA(H4:H5))/K5 -> 0.95115175 | M5: =($B$31-SUM(N4:N4))*B13 -> 92.115121 | N5: =O5-M5 -> 796.37277 | O5: =O4 -> 888.48789 | P5: =($B9-SUM(N4:N4))/N5-1 -> 10.566835 | Q5: =(O$2-COUNTA(M4:M5))/P5 -> 0.94635719 | R5: =($B$31-SUM(S4:S4))*B13 -> 92.758518 | S5: =T5-R5 -> 731.38968 | T5: =T4 -> 824.1482 | U5: =($B9-SUM(S4:S4))/S5-1 -> 11.682503 | V5: =(T$2-COUNTA(R4:R5))/U5 -> 0.94157904 | W5: =($B$31-SUM(X4:X4))*B13 -> 93.309883 | X5: =Y5-W5 -> 675.70183 | Y5: =Y4 -> 769.01172 | Z5: =($B9-SUM(X4:X4))/X5-1 -> 12.809328 | AA5: =(Y$2-COUNTA(W4:W5))/Z5 -> 0.93681729 | AB5: =($B$31-SUM(AC4:AC4))*B13 -> 93.787622 | AC5: =AD5-AB5 -> 627.45018 | AD5: =AD4 -> 721.2378 | AE5: =($B9-SUM(AC4:AC4))/AC5-1 -> 13.947421 | AF5: =(AD$2-COUNTA(AB4:AB5))/AE5 -> 0.93207194 | AG5: =($B$31-SUM(AH4:AH4))*B13 -> 94.20554 | AH5: =AI5-AG5 -> 585.24043 | AI5: =AI4 -> 679.44597 | AJ5: =($B9-SUM(AH4:AH4))/AH5-1 -> 15.096896 | AK5: =(AI$2-COUNTA(AG4:AG5))/AJ5 -> 0.92734297 | AL5: =($B$31-SUM(AM4:AM4))*B13 -> 94.574194 | AM5: =AN5-AL5 -> 548.00636 | AN5: =AN4 -> 642.58055 | AO5: =($B9-SUM(AM4:AM4))/AM5-1 -> 16.257864 | AP5: =(AN$2-COUNTA(AL4:AL5))/AO5 -> 0.9226304 | AQ5: =($B$31-SUM(AR4:AR4))*B13 -> 94.901795 | AR5: =AS5-AQ5 -> 514.91868 | AS5: =AS4 -> 609.82048 | AT5: =($B9-SUM(AR4:AR4))/AR5-1 -> 17.430443 | AU5: =(AS$2-COUNTA(AQ4:AQ5))/AT5 -> 0.91793421 | AV5: =($B$31-SUM(AW4:AW4))*B13 -> 95.194825 | AW5: =AX5-AV5 -> 485.32271 | AX5: =AX4 -> 580.51754 | AY5: =($B9-SUM(AW4:AW4))/AW5-1 -> 18.614748 | AZ5: =(AX$2-COUNTA(AV4:AV5))/AY5 -> 0.91325439 | BA5: =($B$31-SUM(BB4:BB4))*B13 -> 95.458469 | BB5: =BC5-BA5 -> 458.69468 | BC5: =BC4 -> 554.15315 | BD5: =($B9-SUM(BB4:BB4))/BB5-1 -> 19.810895 | BE5: =(BC$2-COUNTA(BA4:BA5))/BD5 -> 0.90859095
C6: =($B$31-SUM(D4:D5))*B13 -> 80.788003 | D6: =E6-C6 -> 975.03276 | E6: =E5 -> 1055.8208 | F6: =($B9-SUM(D4:D5))/D6-1 -> 7.2856706 | G6: =(E$2-COUNTA(C4:C6))/F6 -> 0.96079008 | H6: =($B$31-SUM(I4:I5))*B13 -> 82.622731 | I6: =J6-H6 -> 881.91803 | J6: =J5 -> 964.54076 | K6: =($B9-SUM(I4:I5))/I6-1 -> 8.3685273 | L6: =(J$2-COUNTA(H4:H6))/K6 -> 0.95596271 | M6: =($B$31-SUM(N4:N5))*B13 -> 84.151393 | N6: =O6-M6 -> 804.33649 | O6: =O5 -> 888.48789 | P6: =($B9-SUM(N4:N5))/N6-1 -> 9.4622125 | Q6: =(O$2-COUNTA(M4:M6))/P6 -> 0.95115175 | R6: =($B$31-SUM(S4:S5))*B13 -> 85.444621 | S6: =T6-R6 -> 738.70358 | T6: =T5 -> 824.1482 | U6: =($B9-SUM(S4:S5))/S6-1 -> 10.566835 | V6: =(T$2-COUNTA(R4:R6))/U6 -> 0.94635719 | W6: =($B$31-SUM(X4:X5))*B13 -> 86.552864 | X6: =Y6-W6 -> 682.45885 | Y6: =Y5 -> 769.01172 | Z6: =($B9-SUM(X4:X5))/X6-1 -> 11.682503 | AA6: =(Y$2-COUNTA(W4:W6))/Z6 -> 0.94157904 | AB6: =($B$31-SUM(AC4:AC5))*B13 -> 87.51312 | AC6: =AD6-AB6 -> 633.72468 | AD6: =AD5 -> 721.2378 | AE6: =($B9-SUM(AC4:AC5))/AC6-1 -> 12.809328 | AF6: =(AD$2-COUNTA(AB4:AB6))/AE6 -> 0.93681729 | AG6: =($B$31-SUM(AH4:AH5))*B13 -> 88.353136 | AH6: =AI6-AG6 -> 591.09283 | AI6: =AI5 -> 679.44597 | AJ6: =($B9-SUM(AH4:AH5))/AH6-1 -> 13.947421 | AK6: =(AI$2-COUNTA(AG4:AG6))/AJ6 -> 0.93207194 | AL6: =($B$31-SUM(AM4:AM5))*B13 -> 89.094131 | AM6: =AN6-AL6 -> 553.48642 | AN6: =AN5 -> 642.58055 | AO6: =($B9-SUM(AM4:AM5))/AM6-1 -> 15.096896 | AP6: =(AN$2-COUNTA(AL4:AL6))/AO6 -> 0.92734297 | AQ6: =($B$31-SUM(AR4:AR5))*B13 -> 89.752608 | AR6: =AS6-AQ6 -> 520.06787 | AS6: =AS5 -> 609.82048 | AT6: =($B9-SUM(AR4:AR5))/AR6-1 -> 16.257864 | AU6: =(AS$2-COUNTA(AQ4:AQ6))/AT6 -> 0.9226304 | AV6: =($B$31-SUM(AW4:AW5))*B13 -> 90.341598 | AW6: =AX6-AV6 -> 490.17594 | AX6: =AX5 -> 580.51754 | AY6: =($B9-SUM(AW4:AW5))/AW6-1 -> 17.430443 | AZ6: =(AX$2-COUNTA(AV4:AV6))/AY6 -> 0.91793421 | BA6: =($B$31-SUM(BB4:BB5))*B13 -> 90.871522 | BB6: =BC6-BA6 -> 463.28163 | BC6: =BC5 -> 554.15315 | BD6: =($B9-SUM(BB4:BB5))/BB6-1 -> 18.614748 | BE6: =(BC$2-COUNTA(BA4:BA6))/BD6 -> 0.91325439
C7: =($B$31-SUM(D4:D6))*B13 -> 71.037675 | D7: =E7-C7 -> 984.78309 | E7: =E6 -> 1055.8208 | F7: =($B9-SUM(D4:D6))/D7-1 -> 6.2135352 | G7: =(E$2-COUNTA(C4:C7))/F7 -> 0.96563386 | H7: =($B$31-SUM(I4:I6))*B13 -> 73.803551 | I7: =J7-H7 -> 890.73721 | J7: =J6 -> 964.54076 | K7: =($B9-SUM(I4:I6))/I7-1 -> 7.2856706 | L7: =(J$2-COUNTA(H4:H7))/K7 -> 0.96079008 | M7: =($B$31-SUM(N4:N6))*B13 -> 76.108029 | N7: =O7-M7 -> 812.37986 | O7: =O6 -> 888.48789 | P7: =($B9-SUM(N4:N6))/N7-1 -> 8.3685273 | Q7: =(O$2-COUNTA(M4:M7))/P7 -> 0.95596271 | R7: =($B$31-SUM(S4:S6))*B13 -> 78.057585 | S7: =T7-R7 -> 746.09061 | T7: =T6 -> 824.1482 | U7: =($B9-SUM(S4:S6))/S7-1 -> 9.4622125 | V7: =(T$2-COUNTA(R4:R7))/U7 -> 0.95115175 | W7: =($B$31-SUM(X4:X6))*B13 -> 79.728276 | X7: =Y7-W7 -> 689.28344 | Y7: =Y6 -> 769.01172 | Z7: =($B9-SUM(X4:X6))/X7-1 -> 10.566835 | AA7: =(Y$2-COUNTA(W4:W7))/Z7 -> 0.94635719 | AB7: =($B$31-SUM(AC4:AC6))*B13 -> 81.175873 | AC7: =AD7-AB7 -> 640.06193 | AD7: =AD6 -> 721.2378 | AE7: =($B9-SUM(AC4:AC6))/AC7-1 -> 11.682503 | AF7: =(AD$2-COUNTA(AB4:AB7))/AE7 -> 0.94157904 | AG7: =($B$31-SUM(AH4:AH6))*B13 -> 82.442208 | AH7: =AI7-AG7 -> 597.00376 | AI7: =AI6 -> 679.44597 | AJ7: =($B9-SUM(AH4:AH6))/AH7-1 -> 12.809328 | AK7: =(AI$2-COUNTA(AG4:AG7))/AJ7 -> 0.93681729 | AL7: =($B$31-SUM(AM4:AM6))*B13 -> 83.559267 | AM7: =AN7-AL7 -> 559.02128 | AN7: =AN6 -> 642.58055 | AO7: =($B9-SUM(AM4:AM6))/AM7-1 -> 13.947421 | AP7: =(AN$2-COUNTA(AL4:AL7))/AO7 -> 0.93207194 | AQ7: =($B$31-SUM(AR4:AR6))*B13 -> 84.55193 | AR7: =AS7-AQ7 -> 525.26855 | AS7: =AS6 -> 609.82048 | AT7: =($B9-SUM(AR4:AR6))/AR7-1 -> 15.096896 | AU7: =(AS$2-COUNTA(AQ4:AQ7))/AT7 -> 0.92734297 | AV7: =($B$31-SUM(AW4:AW6))*B13 -> 85.439838 | AW7: =AX7-AV7 -> 495.0777 | AX7: =AX6 -> 580.51754 | AY7: =($B9-SUM(AW4:AW6))/AW7-1 -> 16.257864 | AZ7: =(AX$2-COUNTA(AV4:AV7))/AY7 -> 0.9226304 | BA7: =($B$31-SUM(BB4:BB6))*B13 -> 86.238705 | BB7: =BC7-BA7 -> 467.91444 | BC7: =BC6 -> 554.15315 | BD7: =($B9-SUM(BB4:BB6))/BB7-1 -> 17.430443 | BE7: =(BC$2-COUNTA(BA4:BA7))/BD7 -> 0.91793421
C8: =($B$31-SUM(D4:D7))*B13 -> 61.189844 | D8: =E8-C8 -> 994.63092 | E8: =E7 -> 1055.8208 | F8: =($B9-SUM(D4:D7))/D8-1 -> 5.1520151 | G8: =(E$2-COUNTA(C4:C8))/F8 -> 0.97049406 | H8: =($B$31-SUM(I4:I7))*B13 -> 64.896178 | I8: =J8-H8 -> 899.64458 | J8: =J7 -> 964.54076 | K8: =($B9-SUM(I4:I7))/I8-1 -> 6.2135352 | L8: =(J$2-COUNTA(H4:H8))/K8 -> 0.96563386 | M8: =($B$31-SUM(N4:N7))*B13 -> 67.98423 | N8: =O8-M8 -> 820.50366 | O8: =O7 -> 888.48789 | P8: =($B9-SUM(N4:N7))/N8-1 -> 7.2856706 | Q8: =(O$2-COUNTA(M4:M8))/P8 -> 0.96079008 | R8: =($B$31-SUM(S4:S7))*B13 -> 70.596679 | S8: =T8-R8 -> 753.55152 | T8: =T7 -> 824.1482 | U8: =($B9-SUM(S4:S7))/S8-1 -> 8.3685273 | V8: =(T$2-COUNTA(R4:R8))/U8 -> 0.95596271 | W8: =($B$31-SUM(X4:X7))*B13 -> 72.835442 | X8: =Y8-W8 -> 696.17628 | Y8: =Y7 -> 769.01172 | Z8: =($B9-SUM(X4:X7))/X8-1 -> 9.4622125 | AA8: =(Y$2-COUNTA(W4:W8))/Z8 -> 0.95115175 | AB8: =($B$31-SUM(AC4:AC7))*B13 -> 74.775254 | AC8: =AD8-AB8 -> 646.46255 | AD8: =AD7 -> 721.2378 | AE8: =($B9-SUM(AC4:AC7))/AC8-1 -> 10.566835 | AF8: =(AD$2-COUNTA(AB4:AB8))/AE8 -> 0.94635719 | AG8: =($B$31-SUM(AH4:AH7))*B13 -> 76.47217 | AH8: =AI8-AG8 -> 602.9738 | AI8: =AI7 -> 679.44597 | AJ8: =($B9-SUM(AH4:AH7))/AH8-1 -> 11.682503 | AK8: =(AI$2-COUNTA(AG4:AG8))/AJ8 -> 0.94157904 | AL8: =($B$31-SUM(AM4:AM7))*B13 -> 77.969054 | AM8: =AN8-AL8 -> 564.6115 | AN8: =AN7 -> 642.58055 | AO8: =($B9-SUM(AM4:AM7))/AM8-1 -> 12.809328 | AP8: =(AN$2-COUNTA(AL4:AL8))/AO8 -> 0.93681729 | AQ8: =($B$31-SUM(AR4:AR7))*B13 -> 79.299244 | AR8: =AS8-AQ8 -> 530.52123 | AS8: =AS7 -> 609.82048 | AT8: =($B9-SUM(AR4:AR7))/AR8-1 -> 13.947421 | AU8: =(AS$2-COUNTA(AQ4:AQ8))/AT8 -> 0.93207194 | AV8: =($B$31-SUM(AW4:AW7))*B13 -> 80.489061 | AW8: =AX8-AV8 -> 500.02847 | AX8: =AX7 -> 580.51754 | AY8: =($B9-SUM(AW4:AW7))/AW8-1 -> 15.096896 | AZ8: =(AX$2-COUNTA(AV4:AV8))/AY8 -> 0.92734297 | BA8: =($B$31-SUM(BB4:BB7))*B13 -> 81.559561 | BB8: =BC8-BA8 -> 472.59359 | BC8: =BC7 -> 554.15315 | BD8: =($B9-SUM(BB4:BB7))/BB8-1 -> 16.257864 | BE8: =(BC$2-COUNTA(BA4:BA8))/BD8 -> 0.9226304
A9: K | B9: 10000 | C9: =($B$31-SUM(D4:D8))*B13 -> 51.243535 | D9: =E9-C9 -> 1004.5772 | E9: =E8 -> 1055.8208 | F9: =($B9-SUM(D4:D8))/D9-1 -> 4.101005 | G9: =(E$2-COUNTA(C4:C9))/F9 -> 0.97537067 | H9: =($B$31-SUM(I4:I8))*B13 -> 55.899733 | I9: =J9-H9 -> 908.64102 | J9: =J8 -> 964.54076 | K9: =($B9-SUM(I4:I8))/I9-1 -> 5.1520151 | L9: =(J$2-COUNTA(H4:H9))/K9 -> 0.97049406 | M9: =($B$31-SUM(N4:N8))*B13 -> 59.779193 | N9: =O9-M9 -> 828.70869 | O9: =O8 -> 888.48789 | P9: =($B9-SUM(N4:N8))/N9-1 -> 6.2135352 | Q9: =(O$2-COUNTA(M4:M9))/P9 -> 0.96563386 | R9: =($B$31-SUM(S4:S8))*B13 -> 63.061164 | S9: =T9-R9 -> 761.08703 | T9: =T8 -> 824.1482 | U9: =($B9-SUM(S4:S8))/S9-1 -> 7.2856706 | V9: =(T$2-COUNTA(R4:R9))/U9 -> 0.96079008 | W9: =($B$31-SUM(X4:X8))*B13 -> 65.873679 | X9: =Y9-W9 -> 703.13804 | Y9: =Y8 -> 769.01172 | Z9: =($B9-SUM(X4:X8))/X9-1 -> 8.3685273 | AA9: =(Y$2-COUNTA(W4:W9))/Z9 -> 0.95596271 | AB9: =($B$31-SUM(AC4:AC8))*B13 -> 68.310629 | AC9: =AD9-AB9 -> 652.92717 | AD9: =AD8 -> 721.2378 | AE9: =($B9-SUM(AC4:AC8))/AC9-1 -> 9.4622125 | AF9: =(AD$2-COUNTA(AB4:AB9))/AE9 -> 0.95115175 | AG9: =($B$31-SUM(AH4:AH8))*B13 -> 70.442432 | AH9: =AI9-AG9 -> 609.00354 | AI9: =AI8 -> 679.44597 | AJ9: =($B9-SUM(AH4:AH8))/AH9-1 -> 10.566835 | AK9: =(AI$2-COUNTA(AG4:AG9))/AJ9 -> 0.94635719 | AL9: =($B$31-SUM(AM4:AM8))*B13 -> 72.322939 | AM9: =AN9-AL9 -> 570.25761 | AN9: =AN8 -> 642.58055 | AO9: =($B9-SUM(AM4:AM8))/AM9-1 -> 11.682503 | AP9: =(AN$2-COUNTA(AL4:AL9))/AO9 -> 0.94157904 | AQ9: =($B$31-SUM(AR4:AR8))*B13 -> 73.994032 | AR9: =AS9-AQ9 -> 535.82645 | AS9: =AS8 -> 609.82048 | AT9: =($B9-SUM(AR4:AR8))/AR9-1 -> 12.809328 | AU9: =(AS$2-COUNTA(AQ4:AQ9))/AT9 -> 0.93681729 | AV9: =($B$31-SUM(AW4:AW8))*B13 -> 75.488776 | AW9: =AX9-AV9 -> 505.02876 | AX9: =AX8 -> 580.51754 | AY9: =($B9-SUM(AW4:AW8))/AW9-1 -> 13.947421 | AZ9: =(AX$2-COUNTA(AV4:AV9))/AY9 -> 0.93207194 | BA9: =($B$31-SUM(BB4:BB8))*B13 -> 76.833625 | BB9: =BC9-BA9 -> 477.31952 | BC9: =BC8 -> 554.15315 | BD9: =($B9-SUM(BB4:BB8))/BB9-1 -> 15.096896 | BE9: =(BC$2-COUNTA(BA4:BA9))/BD9 -> 0.92734297
C10: =($B$31-SUM(D4:D9))*B13 -> 41.197763 | D10: =E10-C10 -> 1014.623 | E10: =E9 -> 1055.8208 | F10: =($B9-SUM(D4:D9))/D10-1 -> 3.060401 | G10: =(E$2-COUNTA(C4:C10))/F10 -> 0.9802637 | H10: =($B$31-SUM(I4:I9))*B13 -> 46.813322 | I10: =J10-H10 -> 917.72743 | J10: =J9 -> 964.54076 | K10: =($B9-SUM(I4:I9))/I10-1 -> 4.101005 | L10: =(J$2-COUNTA(H4:H10))/K10 -> 0.97537067 | M10: =($B$31-SUM(N4:N9))*B13 -> 51.492106 | N10: =O10-M10 -> 836.99578 | O10: =O9 -> 888.48789 | P10: =($B9-SUM(N4:N9))/N10-1 -> 5.1520151 | Q10: =(O$2-COUNTA(M4:M10))/P10 -> 0.97049406 | R10: =($B$31-SUM(S4:S9))*B13 -> 55.450294 | S10: =T10-R10 -> 768.6979 | T10: =T9 -> 824.1482 | U10: =($B9-SUM(S4:S9))/S10-1 -> 6.2135352 | V10: =(T$2-COUNTA(R4:R10))/U10 -> 0.96563386 | W10: =($B$31-SUM(X4:X9))*B13 -> 58.842298 | X10: =Y10-W10 -> 710.16942 | Y10: =Y9 -> 769.01172 | Z10: =($B9-SUM(X4:X9))/X10-1 -> 7.2856706 | AA10: =(Y$2-COUNTA(W4:W10))/Z10 -> 0.96079008 | AB10: =($B$31-SUM(AC4:AC9))*B13 -> 61.781357 | AC10: =AD10-AB10 -> 659.45644 | AD10: =AD9 -> 721.2378 | AE10: =($B9-SUM(AC4:AC9))/AC10-1 -> 8.3685273 | AF10: =(AD$2-COUNTA(AB4:AB10))/AE10 -> 0.95596271 | AG10: =($B$31-SUM(AH4:AH9))*B13 -> 64.352397 | AH10: =AI10-AG10 -> 615.09357 | AI10: =AI9 -> 679.44597 | AJ10: =($B9-SUM(AH4:AH9))/AH10-1 -> 9.4622125 | AK10: =(AI$2-COUNTA(AG4:AG10))/AJ10 -> 0.95115175 | AL10: =($B$31-SUM(AM4:AM9))*B13 -> 66.620363 | AM10: =AN10-AL10 -> 575.96019 | AN10: =AN9 -> 642.58055 | AO10: =($B9-SUM(AM4:AM9))/AM10-1 -> 10.566835 | AP10: =(AN$2-COUNTA(AL4:AL10))/AO10 -> 0.94635719 | AQ10: =($B$31-SUM(AR4:AR9))*B13 -> 68.635767 | AR10: =AS10-AQ10 -> 541.18471 | AS10: =AS9 -> 609.82048 | AT10: =($B9-SUM(AR4:AR9))/AR10-1 -> 11.682503 | AU10: =(AS$2-COUNTA(AQ4:AQ10))/AT10 -> 0.94157904 | AV10: =($B$31-SUM(AW4:AW9))*B13 -> 70.438489 | AW10: =AX10-AV10 -> 510.07905 | AX10: =AX9 -> 580.51754 | AY10: =($B9-SUM(AW4:AW9))/AW10-1 -> 12.809328 | AZ10: =(AX$2-COUNTA(AV4:AV10))/AY10 -> 0.93681729 | BA10: =($B$31-SUM(BB4:BB9))*B13 -> 72.06043 | BB10: =BC10-BA10 -> 482.09272 | BC10: =BC9 -> 554.15315 | BD10: =($B9-SUM(BB4:BB9))/BB10-1 -> 13.947421 | BE10: =(BC$2-COUNTA(BA4:BA10))/BD10 -> 0.93207194
C11: =($B$31-SUM(D4:D10))*B13 -> 31.051533 | D11: =E11-C11 -> 1024.7692 | E11: =E10 -> 1055.8208 | F11: =($B9-SUM(D4:D10))/D11-1 -> 2.0301 | G11: =(E$2-COUNTA(C4:C11))/F11 -> 0.98517314 | H11: =($B$31-SUM(I4:I10))*B13 -> 37.636048 | I11: =J11-H11 -> 926.90471 | J11: =J10 -> 964.54076 | K11: =($B9-SUM(I4:I10))/I11-1 -> 3.060401 | L11: =(J$2-COUNTA(H4:H11))/K11 -> 0.9802637 | M11: =($B$31-SUM(N4:N10))*B13 -> 43.122149 | N11: =O11-M11 -> 845.36574 | O11: =O10 -> 888.48789 | P11: =($B9-SUM(N4:N10))/N11-1 -> 4.101005 | Q11: =(O$2-COUNTA(M4:M11))/P11 -> 0.97537067 | R11: =($B$31-SUM(S4:S10))*B13 -> 47.763315 | S11: =T11-R11 -> 776.38488 | T11: =T10 -> 824.1482 | U11: =($B9-SUM(S4:S10))/S11-1 -> 5.1520151 | V11: =(T$2-COUNTA(R4:R11))/U11 -> 0.97049406 | W11: =($B$31-SUM(X4:X10))*B13 -> 51.740604 | X11: =Y11-W11 -> 717.27111 | Y11: =Y10 -> 769.01172 | Z11: =($B9-SUM(X4:X10))/X11-1 -> 6.2135352 | AA11: =(Y$2-COUNTA(W4:W11))/Z11 -> 0.96563386 | AB11: =($B$31-SUM(AC4:AC10))*B13 -> 55.186792 | AC11: =AD11-AB11 -> 666.05101 | AD11: =AD10 -> 721.2378 | AE11: =($B9-SUM(AC4:AC10))/AC11-1 -> 7.2856706 | AF11: =(AD$2-COUNTA(AB4:AB11))/AE11 -> 0.96079008 | AG11: =($B$31-SUM(AH4:AH10))*B13 -> 58.201461 | AH11: =AI11-AG11 -> 621.24451 | AI11: =AI10 -> 679.44597 | AJ11: =($B9-SUM(AH4:AH10))/AH11-1 -> 8.3685273 | AK11: =(AI$2-COUNTA(AG4:AG11))/AJ11 -> 0.95596271 | AL11: =($B$31-SUM(AM4:AM10))*B13 -> 60.860761 | AM11: =AN11-AL11 -> 581.71979 | AN11: =AN10 -> 642.58055 | AO11: =($B9-SUM(AM4:AM10))/AM11-1 -> 9.4622125 | AP11: =(AN$2-COUNTA(AL4:AL11))/AO11 -> 0.95115175 | AQ11: =($B$31-SUM(AR4:AR10))*B13 -> 63.22392 | AR11: =AS11-AQ11 -> 546.59656 | AS11: =AS10 -> 609.82048 | AT11: =($B9-SUM(AR4:AR10))/AR11-1 -> 10.566835 | AU11: =(AS$2-COUNTA(AQ4:AQ11))/AT11 -> 0.94635719 | AV11: =($B$31-SUM(AW4:AW10))*B13 -> 65.337698 | AW11: =AX11-AV11 -> 515.17984 | AX11: =AX10 -> 580.51754 | AY11: =($B9-SUM(AW4:AW10))/AW11-1 -> 11.682503 | AZ11: =(AX$2-COUNTA(AV4:AV11))/AY11 -> 0.94157904 | BA11: =($B$31-SUM(BB4:BB10))*B13 -> 67.239503 | BB11: =BC11-BA11 -> 486.91365 | BC11: =BC10 -> 554.15315 | BD11: =($B9-SUM(BB4:BB10))/BB11-1 -> 12.809328 | BE11: =(BC$2-COUNTA(BA4:BA11))/BD11 -> 0.93681729
C12: =($B$31-SUM(D4:D11))*B13 -> 20.80384 | D12: =E12-C12 -> 1035.0169 | E12: =E11 -> 1055.8208 | F12: =($B9-SUM(D4:D11))/D12-1 -> 1.01 | G12: =(E$2-COUNTA(C4:C12))/F12 -> 0.99009901 | H12: =($B$31-SUM(I4:I11))*B13 -> 28.367001 | I12: =J12-H12 -> 936.17376 | J12: =J11 -> 964.54076 | K12: =($B9-SUM(I4:I11))/I12-1 -> 2.0301 | L12: =(J$2-COUNTA(H4:H12))/K12 -> 0.98517314 | M12: =($B$31-SUM(N4:N11))*B13 -> 34.668491 | N12: =O12-M12 -> 853.8194 | O12: =O11 -> 888.48789 | P12: =($B9-SUM(N4:N11))/N12-1 -> 3.060401 | Q12: =(O$2-COUNTA(M4:M12))/P12 -> 0.9802637 | R12: =($B$31-SUM(S4:S11))*B13 -> 39.999466 | S12: =T12-R12 -> 784.14873 | T12: =T11 -> 824.1482 | U12: =($B9-SUM(S4:S11))/S12-1 -> 4.101005 | V12: =(T$2-COUNTA(R4:R12))/U12 -> 0.97537067 | W12: =($B$31-SUM(X4:X11))*B13 -> 44.567893 | X12: =Y12-W12 -> 724.44382 | Y12: =Y11 -> 769.01172 | Z12: =($B9-SUM(X4:X11))/X12-1 -> 5.1520151 | AA12: =(Y$2-COUNTA(W4:W12))/Z12 -> 0.97049406 | AB12: =($B$31-SUM(AC4:AC11))*B13 -> 48.526282 | AC12: =AD12-AB12 -> 672.71152 | AD12: =AD11 -> 721.2378 | AE12: =($B9-SUM(AC4:AC11))/AC12-1 -> 6.2135352 | AF12: =(AD$2-COUNTA(AB4:AB12))/AE12 -> 0.96563386 | AG12: =($B$31-SUM(AH4:AH11))*B13 -> 51.989016 | AH12: =AI12-AG12 -> 627.45695 | AI12: =AI11 -> 679.44597 | AJ12: =($B9-SUM(AH4:AH11))/AH12-1 -> 7.2856706 | AK12: =(AI$2-COUNTA(AG4:AG12))/AJ12 -> 0.96079008 | AL12: =($B$31-SUM(AM4:AM11))*B13 -> 55.043563 | AM12: =AN12-AL12 -> 587.53699 | AN12: =AN11 -> 642.58055 | AO12: =($B9-SUM(AM4:AM11))/AM12-1 -> 8.3685273 | AP12: =(AN$2-COUNTA(AL4:AL12))/AO12 -> 0.95596271 | AQ12: =($B$31-SUM(AR4:AR11))*B13 -> 57.757955 | AR12: =AS12-AQ12 -> 552.06252 | AS12: =AS11 -> 609.82048 | AT12: =($B9-SUM(AR4:AR11))/AR12-1 -> 9.4622125 | AU12: =(AS$2-COUNTA(AQ4:AQ12))/AT12 -> 0.95115175 | AV12: =($B$31-SUM(AW4:AW11))*B13 -> 60.1859 | AW12: =AX12-AV12 -> 520.33164 | AX12: =AX11 -> 580.51754 | AY12: =($B9-SUM(AW4:AW11))/AW12-1 -> 10.566835 | AZ12: =(AX$2-COUNTA(AV4:AV12))/AY12 -> 0.94635719 | BA12: =($B$31-SUM(BB4:BB11))*B13 -> 62.370366 | BB12: =BC12-BA12 -> 491.78278 | BC12: =BC11 -> 554.15315 | BD12: =($B9-SUM(BB4:BB11))/BB12-1 -> 11.682503 | BE12: =(BC$2-COUNTA(BA4:BA12))/BD12 -> 0.94157904
A13: Taux | B13: 0.01 | C13: =($B$31-SUM(D4:D12))*B13 -> 10.453671 | D13: =E13-C13 -> 1045.3671 | E13: =E12 -> 1055.8208 | F13: =($B9-SUM(D4:D12))/D13-1 -> 1.4876989e-14 | G13: =(E$2-COUNTA(C4:C13))/F13 -> 0 | H13: =($B$31-SUM(I4:I12))*B13 -> 19.005263 | I13: =J13-H13 -> 945.53549 | J13: =J12 -> 964.54076 | K13: =($B9-SUM(I4:I12))/I13-1 -> 1.01 | L13: =(J$2-COUNTA(H4:H13))/K13 -> 0.99009901 | M13: =($B$31-SUM(N4:N12))*B13 -> 26.130297 | N13: =O13-M13 -> 862.35759 | O13: =O12 -> 888.48789 | P13: =($B9-SUM(N4:N12))/N13-1 -> 2.0301 | Q13: =(O$2-COUNTA(M4:M13))/P13 -> 0.98517314 | R13: =($B$31-SUM(S4:S12))*B13 -> 32.157979 | S13: =T13-R13 -> 791.99022 | T13: =T12 -> 824.1482 | U13: =($B9-SUM(S4:S12))/S13-1 -> 3.060401 | V13: =(T$2-COUNTA(R4:R13))/U13 -> 0.9802637 | W13: =($B$31-SUM(X4:X12))*B13 -> 37.323455 | X13: =Y13-W13 -> 731.68826 | Y13: =Y12 -> 769.01172 | Z13: =($B9-SUM(X4:X12))/X13-1 -> 4.101005 | AA13: =(Y$2-COUNTA(W4:W13))/Z13 -> 0.97537067 | AB13: =($B$31-SUM(AC4:AC12))*B13 -> 41.799167 | AC13: =AD13-AB13 -> 679.43863 | AD13: =AD12 -> 721.2378 | AE13: =($B9-SUM(AC4:AC12))/AC13-1 -> 5.1520151 | AF13: =(AD$2-COUNTA(AB4:AB13))/AE13 -> 0.97049406 | AG13: =($B$31-SUM(AH4:AH12))*B13 -> 45.714446 | AH13: =AI13-AG13 -> 633.73152 | AI13: =AI12 -> 679.44597 | AJ13: =($B9-SUM(AH4:AH12))/AH13-1 -> 6.2135352 | AK13: =(AI$2-COUNTA(AG4:AG13))/AJ13 -> 0.96563386 | AL13: =($B$31-SUM(AM4:AM12))*B13 -> 49.168193 | AM13: =AN13-AL13 -> 593.41236 | AN13: =AN12 -> 642.58055 | AO13: =($B9-SUM(AM4:AM12))/AM13-1 -> 7.2856706 | AP13: =(AN$2-COUNTA(AL4:AL13))/AO13 -> 0.96079008 | AQ13: =($B$31-SUM(AR4:AR12))*B13 -> 52.237329 | AR13: =AS13-AQ13 -> 557.58315 | AS13: =AS12 -> 609.82048 | AT13: =($B9-SUM(AR4:AR12))/AR13-1 -> 8.3685273 | AU13: =(AS$2-COUNTA(AQ4:AQ13))/AT13 -> 0.95596271 | AV13: =($B$31-SUM(AW4:AW12))*B13 -> 54.982584 | AW13: =AX13-AV13 -> 525.53495 | AX13: =AX12 -> 580.51754 | AY13: =($B9-SUM(AW4:AW12))/AW13-1 -> 9.4622125 | AZ13: =(AX$2-COUNTA(AV4:AV13))/AY13 -> 0.95115175 | BA13: =($B$31-SUM(BB4:BB12))*B13 -> 57.452538 | BB13: =BC13-BA13 -> 496.70061 | BC13: =BC12 -> 554.15315 | BD13: =($B9-SUM(BB4:BB12))/BB13-1 -> 10.566835 | BE13: =(BC$2-COUNTA(BA4:BA13))/BD13 -> 0.94635719
D14: =SUM($D4:D13)-$B9 -> -1.4551915e-11 | H14: =($B$31-SUM(I4:I13))*B13 -> 9.5499085 | I14: =J14-H14 -> 954.99085 | J14: =J13 -> 964.54076 | K14: =($B9-SUM(I4:I13))/I14-1 -> -1.9984014e-15 | L14: =(J$2-COUNTA(H4:H14))/K14 -> 0 | M14: =($B$31-SUM(N4:N13))*B13 -> 17.506721 | N14: =O14-M14 -> 870.98117 | O14: =O13 -> 888.48789 | P14: =($B9-SUM(N4:N13))/N14-1 -> 1.01 | Q14: =(O$2-COUNTA(M4:M14))/P14 -> 0.99009901 | R14: =($B$31-SUM(S4:S13))*B13 -> 24.238077 | S14: =T14-R14 -> 799.91012 | T14: =T13 -> 824.1482 | U14: =($B9-SUM(S4:S13))/S14-1 -> 2.0301 | V14: =(T$2-COUNTA(R4:R14))/U14 -> 0.98517314 | W14: =($B$31-SUM(X4:X13))*B13 -> 30.006572 | X14: =Y14-W14 -> 739.00514 | Y14: =Y13 -> 769.01172 | Z14: =($B9-SUM(X4:X13))/X14-1 -> 3.060401 | AA14: =(Y$2-COUNTA(W4:W14))/Z14 -> 0.9802637 | AB14: =($B$31-SUM(AC4:AC13))*B13 -> 35.004781 | AC14: =AD14-AB14 -> 686.23302 | AD14: =AD13 -> 721.2378 | AE14: =($B9-SUM(AC4:AC13))/AC14-1 -> 4.101005 | AF14: =(AD$2-COUNTA(AB4:AB14))/AE14 -> 0.97537067 | AG14: =($B$31-SUM(AH4:AH13))*B13 -> 39.377131 | AH14: =AI14-AG14 -> 640.06884 | AI14: =AI13 -> 679.44597 | AJ14: =($B9-SUM(AH4:AH13))/AH14-1 -> 5.1520151 | AK14: =(AI$2-COUNTA(AG4:AG14))/AJ14 -> 0.97049406 | AL14: =($B$31-SUM(AM4:AM13))*B13 -> 43.23407 | AM14: =AN14-AL14 -> 599.34648 | AN14: =AN13 -> 642.58055 | AO14: =($B9-SUM(AM4:AM13))/AM14-1 -> 6.2135352 | AP14: =(AN$2-COUNTA(AL4:AL14))/AO14 -> 0.96563386 | AQ14: =($B$31-SUM(AR4:AR13))*B13 -> 46.661498 | AR14: =AS14-AQ14 -> 563.15898 | AS14: =AS13 -> 609.82048 | AT14: =($B9-SUM(AR4:AR13))/AR14-1 -> 7.2856706 | AU14: =(AS$2-COUNTA(AQ4:AQ14))/AT14 -> 0.96079008 | AV14: =($B$31-SUM(AW4:AW13))*B13 -> 49.727234 | AW14: =AX14-AV14 -> 530.7903 | AX14: =AX13 -> 580.51754 | AY14: =($B9-SUM(AW4:AW13))/AW14-1 -> 8.3685273 | AZ14: =(AX$2-COUNTA(AV4:AV14))/AY14 -> 0.95596271 | BA14: =($B$31-SUM(BB4:BB13))*B13 -> 52.485532 | BB14: =BC14-BA14 -> 501.66762 | BC14: =BC13 -> 554.15315 | BD14: =($B9-SUM(BB4:BB13))/BB14-1 -> 9.4622125 | BE14: =(BC$2-COUNTA(BA4:BA14))/BD14 -> 0.95115175
I15: =SUM($I4:I14)-$B9 -> 0 | M15: =($B$31-SUM(N4:N14))*B13 -> 8.7969098 | N15: =O15-M15 -> 879.69098 | O15: =O14 -> 888.48789 | P15: =($B9-SUM(N4:N14))/N15-1 -> -1.8873791e-15 | Q15: =(O$2-COUNTA(M4:M15))/P15 -> 0 | R15: =($B$31-SUM(S4:S14))*B13 -> 16.238975 | S15: =T15-R15 -> 807.90922 | T15: =T14 -> 824.1482 | U15: =($B9-SUM(S4:S14))/S15-1 -> 1.01 | V15: =(T$2-COUNTA(R4:R15))/U15 -> 0.99009901 | W15: =($B$31-SUM(X4:X14))*B13 -> 22.616521 | X15: =Y15-W15 -> 746.3952 | Y15: =Y14 -> 769.01172 | Z15: =($B9-SUM(X4:X14))/X15-1 -> 2.0301 | AA15: =(Y$2-COUNTA(W4:W15))/Z15 -> 0.98517314 | AB15: =($B$31-SUM(AC4:AC14))*B13 -> 28.142451 | AC15: =AD15-AB15 -> 693.09535 | AD15: =AD14 -> 721.2378 | AE15: =($B9-SUM(AC4:AC14))/AC15-1 -> 3.060401 | AF15: =(AD$2-COUNTA(AB4:AB15))/AE15 -> 0.9802637 | AG15: =($B$31-SUM(AH4:AH14))*B13 -> 32.976443 | AH15: =AI15-AG15 -> 646.46953 | AI15: =AI14 -> 679.44597 | AJ15: =($B9-SUM(AH4:AH14))/AH15-1 -> 4.101005 | AK15: =(AI$2-COUNTA(AG4:AG15))/AJ15 -> 0.97537067 | AL15: =($B$31-SUM(AM4:AM14))*B13 -> 37.240605 | AM15: =AN15-AL15 -> 605.33995 | AN15: =AN14 -> 642.58055 | AO15: =($B9-SUM(AM4:AM14))/AM15-1 -> 5.1520151 | AP15: =(AN$2-COUNTA(AL4:AL15))/AO15 -> 0.97049406 | AQ15: =($B$31-SUM(AR4:AR14))*B13 -> 41.029908 | AR15: =AS15-AQ15 -> 568.79057 | AS15: =AS14 -> 609.82048 | AT15: =($B9-SUM(AR4:AR14))/AR15-1 -> 6.2135352 | AU15: =(AS$2-COUNTA(AQ4:AQ15))/AT15 -> 0.96563386 | AV15: =($B$31-SUM(AW4:AW14))*B13 -> 44.419331 | AW15: =AX15-AV15 -> 536.0982 | AX15: =AX14 -> 580.51754 | AY15: =($B9-SUM(AW4:AW14))/AW15-1 -> 7.2856706 | AZ15: =(AX$2-COUNTA(AV4:AV15))/AY15 -> 0.96079008 | BA15: =($B$31-SUM(BB4:BB14))*B13 -> 47.468856 | BB15: =BC15-BA15 -> 506.68429 | BC15: =BC14 -> 554.15315 | BD15: =($B9-SUM(BB4:BB14))/BB15-1 -> 8.3685273 | BE15: =(BC$2-COUNTA(BA4:BA15))/BD15 -> 0.95596271
N16: =SUM($N4:N15)-$B9 -> 0 | R16: =($B$31-SUM(S4:S15))*B13 -> 8.1598831 | S16: =T16-R16 -> 815.98831 | T16: =T15 -> 824.1482 | U16: =($B9-SUM(S4:S15))/S16-1 -> 1.3766766e-14 | V16: =(T$2-COUNTA(R4:R16))/U16 -> 0 | W16: =($B$31-SUM(X4:X15))*B13 -> 15.152569 | X16: =Y16-W16 -> 753.85915 | Y16: =Y15 -> 769.01172 | Z16: =($B9-SUM(X4:X15))/X16-1 -> 1.01 | AA16: =(Y$2-COUNTA(W4:W16))/Z16 -> 0.99009901 | AB16: =($B$31-SUM(AC4:AC15))*B13 -> 21.211497 | AC16: =AD16-AB16 -> 700.0263 | AD16: =AD15 -> 721.2378 | AE16: =($B9-SUM(AC4:AC15))/AC16-1 -> 2.0301 | AF16: =(AD$2-COUNTA(AB4:AB16))/AE16 -> 0.98517314 | AG16: =($B$31-SUM(AH4:AH15))*B13 -> 26.511748 | AH16: =AI16-AG16 -> 652.93422 | AI16: =AI15 -> 679.44597 | AJ16: =($B9-SUM(AH4:AH15))/AH16-1 -> 3.060401 | AK16: =(AI$2-COUNTA(AG4:AG16))/AJ16 -> 0.9802637 | AL16: =($B$31-SUM(AM4:AM15))*B13 -> 31.187205 | AM16: =AN16-AL16 -> 611.39335 | AN16: =AN15 -> 642.58055 | AO16: =($B9-SUM(AM4:AM15))/AM16-1 -> 4.101005 | AP16: =(AN$2-COUNTA(AL4:AL16))/AO16 -> 0.97537067 | AQ16: =($B$31-SUM(AR4:AR15))*B13 -> 35.342002 | AR16: =AS16-AQ16 -> 574.47848 | AS16: =AS15 -> 609.82048 | AT16: =($B9-SUM(AR4:AR15))/AR16-1 -> 5.1520151 | AU16: =(AS$2-COUNTA(AQ4:AQ16))/AT16 -> 0.97049406 | AV16: =($B$31-SUM(AW4:AW15))*B13 -> 39.058349 | AW16: =AX16-AV16 -> 541.45919 | AX16: =AX15 -> 580.51754 | AY16: =($B9-SUM(AW4:AW15))/AW16-1 -> 6.2135352 | AZ16: =(AX$2-COUNTA(AV4:AV16))/AY16 -> 0.96563386 | BA16: =($B$31-SUM(BB4:BB15))*B13 -> 42.402013 | BB16: =BC16-BA16 -> 511.75114 | BC16: =BC15 -> 554.15315 | BD16: =($B9-SUM(BB4:BB15))/BB16-1 -> 7.2856706 | BE16: =(BC$2-COUNTA(BA4:BA16))/BD16 -> 0.96079008
S17: =SUM($S4:S16)-$B9 -> 0 | W17: =($B$31-SUM(X4:X16))*B13 -> 7.6139774 | X17: =Y17-W17 -> 761.39774 | Y17: =Y16 -> 769.01172 | Z17: =($B9-SUM(X4:X16))/X17-1 -> 1.5543122e-14 | AA17: 0 | AB17: =($B$31-SUM(AC4:AC16))*B13 -> 14.211234 | AC17: =AD17-AB17 -> 707.02657 | AD17: =AD16 -> 721.2378 | AE17: =($B9-SUM(AC4:AC16))/AC17-1 -> 1.01 | AF17: =(AD$2-COUNTA(AB4:AB17))/AE17 -> 0.99009901 | AG17: =($B$31-SUM(AH4:AH16))*B13 -> 19.982405 | AH17: =AI17-AG17 -> 659.46356 | AI17: =AI16 -> 679.44597 | AJ17: =($B9-SUM(AH4:AH16))/AH17-1 -> 2.0301 | AK17: =(AI$2-COUNTA(AG4:AG17))/AJ17 -> 0.98517314 | AL17: =($B$31-SUM(AM4:AM16))*B13 -> 25.073272 | AM17: =AN17-AL17 -> 617.50728 | AN17: =AN16 -> 642.58055 | AO17: =($B9-SUM(AM4:AM16))/AM17-1 -> 3.060401 | AP17: =(AN$2-COUNTA(AL4:AL17))/AO17 -> 0.9802637 | AQ17: =($B$31-SUM(AR4:AR16))*B13 -> 29.597218 | AR17: =AS17-AQ17 -> 580.22326 | AS17: =AS16 -> 609.82048 | AT17: =($B9-SUM(AR4:AR16))/AR17-1 -> 4.101005 | AU17: =(AS$2-COUNTA(AQ4:AQ17))/AT17 -> 0.97537067 | AV17: =($B$31-SUM(AW4:AW16))*B13 -> 33.643757 | AW17: =AX17-AV17 -> 546.87378 | AX17: =AX16 -> 580.51754 | AY17: =($B9-SUM(AW4:AW16))/AW17-1 -> 5.1520151 | AZ17: =(AX$2-COUNTA(AV4:AV17))/AY17 -> 0.97049406 | BA17: =($B$31-SUM(BB4:BB16))*B13 -> 37.284502 | BB17: =BC17-BA17 -> 516.86865 | BC17: =BC16 -> 554.15315 | BD17: =($B9-SUM(BB4:BB16))/BB17-1 -> 6.2135352 | BE17: =(BC$2-COUNTA(BA4:BA17))/BD17 -> 0.96563386
X18: =SUM($X4:X17)-$B9 -> 0 | AB18: =($B$31-SUM(AC4:AC17))*B13 -> 7.1409683 | AC18: =AD18-AB18 -> 714.09683 | AD18: =AD17 -> 721.2378 | AE18: =($B9-SUM(AC4:AC17))/AC18-1 -> -1.1435297e-14 | AF18: =(AD$2-COUNTA(AB4:AB18))/AE18 -> 0 | AG18: =($B$31-SUM(AH4:AH17))*B13 -> 13.38777 | AH18: =AI18-AG18 -> 666.0582 | AI18: =AI17 -> 679.44597 | AJ18: =($B9-SUM(AH4:AH17))/AH18-1 -> 1.01 | AK18: =(AI$2-COUNTA(AG4:AG18))/AJ18 -> 0.99009901 | AL18: =($B$31-SUM(AM4:AM17))*B13 -> 18.898199 | AM18: =AN18-AL18 -> 623.68235 | AN18: =AN17 -> 642.58055 | AO18: =($B9-SUM(AM4:AM17))/AM18-1 -> 2.0301 | AP18: =(AN$2-COUNTA(AL4:AL18))/AO18 -> 0.98517314 | AQ18: =($B$31-SUM(AR4:AR17))*B13 -> 23.794985 | AR18: =AS18-AQ18 -> 586.02549 | AS18: =AS17 -> 609.82048 | AT18: =($B9-SUM(AR4:AR17))/AR18-1 -> 3.060401 | AU18: =(AS$2-COUNTA(AQ4:AQ18))/AT18 -> 0.9802637 | AV18: =($B$31-SUM(AW4:AW17))*B13 -> 28.175019 | AW18: =AX18-AV18 -> 552.34252 | AX18: =AX17 -> 580.51754 | AY18: =($B9-SUM(AW4:AW17))/AW18-1 -> 4.101005 | AZ18: =(AX$2-COUNTA(AV4:AV18))/AY18 -> 0.97537067 | BA18: =($B$31-SUM(BB4:BB17))*B13 -> 32.115815 | BB18: =BC18-BA18 -> 522.03733 | BC18: =BC17 -> 554.15315 | BD18: =($B9-SUM(BB4:BB17))/BB18-1 -> 5.1520151 | BE18: =(BC$2-COUNTA(BA4:BA18))/BD18 -> 0.97049406
AC19: =SUM($AC4:AC18)-$B9 -> 0 | AG19: =($B$31-SUM(AH4:AH18))*B13 -> 6.7271878 | AH19: =AI19-AG19 -> 672.71878 | AI19: =AI18 -> 679.44597 | AJ19: =($B9-SUM(AH4:AH18))/AH19-1 -> 2.7089442e-14 | AK19: =(AI$2-COUNTA(AG4:AG19))/AJ19 -> 0 | AL19: =($B$31-SUM(AM4:AM18))*B13 -> 12.661375 | AM19: =AN19-AL19 -> 629.91918 | AN19: =AN18 -> 642.58055 | AO19: =($B9-SUM(AM4:AM18))/AM19-1 -> 1.01 | AP19: =(AN$2-COUNTA(AL4:AL19))/AO19 -> 0.99009901 | AQ19: =($B$31-SUM(AR4:AR18))*B13 -> 17.93473 | AR19: =AS19-AQ19 -> 591.88575 | AS19: =AS18 -> 609.82048 | AT19: =($B9-SUM(AR4:AR18))/AR19-1 -> 2.0301 | AU19: =(AS$2-COUNTA(AQ4:AQ19))/AT19 -> 0.98517314 | AV19: =($B$31-SUM(AW4:AW18))*B13 -> 22.651594 | AW19: =AX19-AV19 -> 557.86594 | AX19: =AX18 -> 580.51754 | AY19: =($B9-SUM(AW4:AW18))/AW19-1 -> 3.060401 | AZ19: =(AX$2-COUNTA(AV4:AV19))/AY19 -> 0.9802637 | BA19: =($B$31-SUM(BB4:BB18))*B13 -> 26.895442 | BB19: =BC19-BA19 -> 527.25771 | BC19: =BC18 -> 554.15315 | BD19: =($B9-SUM(BB4:BB18))/BB19-1 -> 4.101005 | BE19: =(BC$2-COUNTA(BA4:BA19))/BD19 -> 0.97537067
AH20: =SUM($AH4:AH19)-$B9 -> -1.8189894e-11 | AL20: =($B$31-SUM(AM4:AM19))*B13 -> 6.3621837 | AM20: =AN20-AL20 -> 636.21837 | AN20: =AN19 -> 642.58055 | AO20: =($B9-SUM(AM4:AM19))/AM20-1 -> 3.2640557e-14 | AP20: =(AN$2-COUNTA(AL5:AL20))/AO20 -> 30636732158983 | AQ20: =($B$31-SUM(AR4:AR19))*B13 -> 12.015873 | AR20: =AS20-AQ20 -> 597.80461 | AS20: =AS19 -> 609.82048 | AT20: =($B9-SUM(AR4:AR19))/AR20-1 -> 1.01 | AU20: =(AS$2-COUNTA(AQ4:AQ20))/AT20 -> 0.99009901 | AV20: =($B$31-SUM(AW4:AW19))*B13 -> 17.072935 | AW20: =AX20-AV20 -> 563.4446 | AX20: =AX19 -> 580.51754 | AY20: =($B9-SUM(AW4:AW19))/AW20-1 -> 2.0301 | AZ20: =(AX$2-COUNTA(AV4:AV20))/AY20 -> 0.98517314 | BA20: =($B$31-SUM(BB4:BB19))*B13 -> 21.622865 | BB20: =BC20-BA20 -> 532.53028 | BC20: =BC19 -> 554.15315 | BD20: =($B9-SUM(BB4:BB19))/BB20-1 -> 3.060401 | BE20: =(BC$2-COUNTA(BA4:BA20))/BD20 -> 0.9802637
AM21: =SUM($AM4:AM20)-$B9 -> -2.0008883e-11 | AQ21: =($B$31-SUM(AR4:AR20))*B13 -> 6.0378265 | AR21: =AS21-AQ21 -> 603.78265 | AS21: =AS20 -> 609.82048 | AT21: =($B9-SUM(AR4:AR20))/AR21-1 -> 3.0198066e-14 | AU21: =(AS$2-COUNTA(AQ4:AQ21))/AT21 -> 0 | AV21: =($B$31-SUM(AW4:AW20))*B13 -> 11.438489 | AW21: =AX21-AV21 -> 569.07905 | AX21: =AX20 -> 580.51754 | AY21: =($B9-SUM(AW4:AW20))/AW21-1 -> 1.01 | AZ21: =(AX$2-COUNTA(AV4:AV21))/AY21 -> 0.99009901 | BA21: =($B$31-SUM(BB4:BB20))*B13 -> 16.297562 | BB21: =BC21-BA21 -> 537.85559 | BC21: =BC20 -> 554.15315 | BD21: =($B9-SUM(BB4:BB20))/BB21-1 -> 2.0301 | BE21: =(BC$2-COUNTA(BA4:BA21))/BD21 -> 0.98517314
AR22: =SUM($AR4:AR21)-$B9 -> -1.8189894e-11 | AV22: =($B$31-SUM(AW4:AW21))*B13 -> 5.7476984 | AW22: =AX22-AV22 -> 574.76984 | AX22: =AX21 -> 580.51754 | AY22: =($B9-SUM(AW4:AW21))/AW22-1 -> 9.1038288e-15 | AZ22: =(AX$2-COUNTA(AV4:AV22))/AY22 -> 0 | BA22: =($B$31-SUM(BB4:BB21))*B13 -> 10.919006 | BB22: =BC22-BA22 -> 543.23414 | BC22: =BC21 -> 554.15315 | BD22: =($B9-SUM(BB4:BB21))/BB22-1 -> 1.01 | BE22: =(BC$2-COUNTA(BA4:BA22))/BD22 -> 0.99009901
AW23: =SUM($AW4:AW22)-$B9 -> 0 | BA23: =($B$31-SUM(BB4:BB22))*B13 -> 5.4866648 | BB23: =BC23-BA23 -> 548.66648 | BC23: =BC22 -> 554.15315 | BD23: =($B9-SUM(BB4:BB22))/BB23-1 -> 2.6867397e-14 | BE23: =(BC$2-COUNTA(BA4:BA23))/BD23 -> 0
BB24: =SUM($BB4:BB23)-$B9 -> -1.4551915e-11
C26: =$B31*B35 -> 200 | D26: =E26-C26 -> 913.26528 | E26: =$B31*$B35/(1-(1+$B35)^-$E$2) -> 1113.2653 | F26: =$B31/D26-1 -> 9.949721 | G26: =(E$2-COUNTA(C26:C26))/F26 -> 0.90454798 | H26: =$B31*B35 -> 200 | I26: =J26-H26 -> 821.77943 | J26: =$B31*$B35/(1-(1+$B35)^-$J$2) -> 1021.7794 | K26: =$B31/I26-1 -> 11.168715 | L26: =(J$2-COUNTA(H26:H26))/K26 -> 0.89535812 | M26: =$B31*B35 -> 200 | N26: =O26-M26 -> 745.59597 | O26: =$B31*$B35/(1-(1+$B35)^-$O$2) -> 945.59597 | P26: =$B31/N26-1 -> 12.41209 | Q26: =(O$2-COUNTA(M26:M26))/P26 -> 0.88623272 | R26: =$B31*B35 -> 200 | S26: =T26-R26 -> 681.18353 | T26: =$B31*$B35/(1-(1+$B35)^-$T$2) -> 881.18353 | U26: =$B31/S26-1 -> 13.680332 | V26: =(T$2-COUNTA(R26:R26))/U26 -> 0.87717172 | W26: =$B31*B35 -> 200 | X26: =Y26-W26 -> 626.0197 | Y26: =$B31*$B35/(1-(1+$B35)^-$Y$2) -> 826.0197 | Z26: =$B31/X26-1 -> 14.973938 | AA26: =(Y$2-COUNTA(W26:W26))/Z26 -> 0.86817508 | AB26: =$B31*B35 -> 200 | AC26: =AD26-AB26 -> 578.25472 | AD26: =$B31*$B35/(1-(1+$B35)^-$AD$2) -> 778.25472 | AE26: =$B31/AC26-1 -> 16.293417 | AF26: =(AD$2-COUNTA(AB26:AB26))/AE26 -> 0.85924273 | AG26: =$B31*B35 -> 200 | AH26: =AI26-AG26 -> 536.50126 | AI26: =$B31*$B35/(1-(1+$B35)^-$AI$2) -> 736.50126 | AJ26: =$B31/AH26-1 -> 17.639285 | AK26: =(AI$2-COUNTA(AG26:AG26))/AJ26 -> 0.85037459 | AL26: =$B31*B35 -> 200 | AM26: =AN26-AL26 -> 499.69841 | AN26: =$B31*$B35/(1-(1+$B35)^-$AN$2) -> 699.69841 | AO26: =$B31/AM26-1 -> 19.012071 | AP26: =(AN$2-COUNTA(AL26:AL26))/AO26 -> 0.8415706 | AQ26: =$B31*B35 -> 200 | AR26: =AS26-AQ26 -> 467.02102 | AS26: =$B31*$B35/(1-(1+$B35)^-$AS$2) -> 667.02102 | AT26: =$B31/AR26-1 -> 20.412312 | AU26: =(AS$2-COUNTA(AQ26:AQ26))/AT26 -> 0.83283068 | AV26: =$B31*B35 -> 200 | AW26: =AX26-AV26 -> 437.81766 | AX26: =$B31*$B35/(1-(1+$B35)^-$AX$2) -> 637.81766 | AY26: =$B31/AW26-1 -> 21.840559 | AZ26: =(AX$2-COUNTA(AV26:AV26))/AY26 -> 0.82415474 | BA26: =$B31*B35 -> 200 | BB26: =BC26-BA26 -> 411.56718 | BC26: =$B31*$B35/(1-(1+$B35)^-$BC$2) -> 611.56718 | BD26: =$B31/BB26-1 -> 23.29737 | BE26: =(BC$2-COUNTA(BA26:BA26))/BD26 -> 0.81554271
C27: =($B$31-SUM(D26:D26))*B35 -> 181.73469 | D27: =E27-C27 -> 931.53058 | E27: =E26 -> 1113.2653 | F27: =($B31-SUM(D26:D26))/D27-1 -> 8.7546284 | G27: =(E$2-COUNTA(C26:C27))/F27 -> 0.91380235 | H27: =($B$31-SUM(I26:I26))*B35 -> 183.56441 | I27: =J27-H27 -> 838.21502 | J27: =J26 -> 1021.7794 | K27: =($B31-SUM(I26:I26))/I27-1 -> 9.949721 | L27: =(J$2-COUNTA(H26:H27))/K27 -> 0.90454798 | M27: =($B$31-SUM(N26:N26))*B35 -> 185.08808 | N27: =O27-M27 -> 760.50789 | O27: =O26 -> 945.59597 | P27: =($B31-SUM(N26:N26))/N27-1 -> 11.168715 | Q27: =(O$2-COUNTA(M26:M27))/P27 -> 0.89535812 | R27: =($B$31-SUM(S26:S26))*B35 -> 186.37633 | S27: =T27-R27 -> 694.8072 | T27: =T26 -> 881.18353 | U27: =($B31-SUM(S26:S26))/S27-1 -> 12.41209 | V27: =(T$2-COUNTA(R26:R27))/U27 -> 0.88623272 | W27: =($B$31-SUM(X26:X26))*B35 -> 187.47961 | X27: =Y27-W27 -> 638.5401 | Y27: =Y26 -> 826.0197 | Z27: =($B31-SUM(X26:X26))/X27-1 -> 13.680332 | AA27: =(Y$2-COUNTA(W26:W27))/Z27 -> 0.87717172 | AB27: =($B$31-SUM(AC26:AC26))*B35 -> 188.43491 | AC27: =AD27-AB27 -> 589.81982 | AD27: =AD26 -> 778.25472 | AE27: =($B31-SUM(AC26:AC26))/AC27-1 -> 14.973938 | AF27: =(AD$2-COUNTA(AB26:AB27))/AE27 -> 0.86817508 | AG27: =($B$31-SUM(AH26:AH26))*B35 -> 189.26997 | AH27: =AI27-AG27 -> 547.23128 | AI27: =AI26 -> 736.50126 | AJ27: =($B31-SUM(AH26:AH26))/AH27-1 -> 16.293417 | AK27: =(AI$2-COUNTA(AG26:AG27))/AJ27 -> 0.85924273 | AL27: =($B$31-SUM(AM26:AM26))*B35 -> 190.00603 | AM27: =AN27-AL27 -> 509.69238 | AN27: =AN26 -> 699.69841 | AO27: =($B31-SUM(AM26:AM26))/AM27-1 -> 17.639285 | AP27: =(AN$2-COUNTA(AL26:AL27))/AO27 -> 0.85037459 | AQ27: =($B$31-SUM(AR26:AR26))*B35 -> 190.65958 | AR27: =AS27-AQ27 -> 476.36144 | AS27: =AS26 -> 667.02102 | AT27: =($B31-SUM(AR26:AR26))/AR27-1 -> 19.012071 | AU27: =(AS$2-COUNTA(AQ26:AQ27))/AT27 -> 0.8415706 | AV27: =($B$31-SUM(AW26:AW26))*B35 -> 191.24365 | AW27: =AX27-AV27 -> 446.57402 | AX27: =AX26 -> 637.81766 | AY27: =($B31-SUM(AW26:AW26))/AW27-1 -> 20.412312 | AZ27: =(AX$2-COUNTA(AV26:AV27))/AY27 -> 0.83283068 | BA27: =($B$31-SUM(BB26:BB26))*B35 -> 191.76866 | BB27: =BC27-BA27 -> 419.79852 | BC27: =BC26 -> 611.56718 | BD27: =($B31-SUM(BB26:BB26))/BB27-1 -> 21.840559 | BE27: =(BC$2-COUNTA(BA26:BA27))/BD27 -> 0.82415474
C28: =($B$31-SUM(D26:D27))*B35 -> 163.10408 | D28: =E28-C28 -> 950.1612 | E28: =E27 -> 1113.2653 | F28: =($B31-SUM(D26:D27))/D28-1 -> 7.5829691 | G28: =(E$2-COUNTA(C26:C28))/F28 -> 0.92312127 | H28: =($B$31-SUM(I26:I27))*B35 -> 166.80011 | I28: =J28-H28 -> 854.97932 | J28: =J27 -> 1021.7794 | K28: =($B31-SUM(I26:I27))/I28-1 -> 8.7546284 | L28: =(J$2-COUNTA(H26:H28))/K28 -> 0.91380235 | M28: =($B$31-SUM(N26:N27))*B35 -> 169.87792 | N28: =O28-M28 -> 775.71804 | O28: =O27 -> 945.59597 | P28: =($B31-SUM(N26:N27))/N28-1 -> 9.949721 | Q28: =(O$2-COUNTA(M26:M28))/P28 -> 0.90454798 | R28: =($B$31-SUM(S26:S27))*B35 -> 172.48019 | S28: =T28-R28 -> 708.70334 | T28: =T27 -> 881.18353 | U28: =($B31-SUM(S26:S27))/S28-1 -> 11.168715 | V28: =(T$2-COUNTA(R26:R28))/U28 -> 0.89535812 | W28: =($B$31-SUM(X26:X27))*B35 -> 174.7088 | X28: =Y28-W28 -> 651.3109 | Y28: =Y27 -> 826.0197 | Z28: =($B31-SUM(X26:X27))/X28-1 -> 12.41209 | AA28: =(Y$2-COUNTA(W26:W28))/Z28 -> 0.88623272 | AB28: =($B$31-SUM(AC26:AC27))*B35 -> 176.63851 | AC28: =AD28-AB28 -> 601.61621 | AD28: =AD27 -> 778.25472 | AE28: =($B31-SUM(AC26:AC27))/AC28-1 -> 13.680332 | AF28: =(AD$2-COUNTA(AB26:AB28))/AE28 -> 0.87717172 | AG28: =($B$31-SUM(AH26:AH27))*B35 -> 178.32535 | AH28: =AI28-AG28 -> 558.17591 | AI28: =AI27 -> 736.50126 | AJ28: =($B31-SUM(AH26:AH27))/AH28-1 -> 14.973938 | AK28: =(AI$2-COUNTA(AG26:AG28))/AJ28 -> 0.86817508 | AL28: =($B$31-SUM(AM26:AM27))*B35 -> 179.81218 | AM28: =AN28-AL28 -> 519.88622 | AN28: =AN27 -> 699.69841 | AO28: =($B31-SUM(AM26:AM27))/AM28-1 -> 16.293417 | AP28: =(AN$2-COUNTA(AL26:AL28))/AO28 -> 0.85924273 | AQ28: =($B$31-SUM(AR26:AR27))*B35 -> 181.13235 | AR28: =AS28-AQ28 -> 485.88867 | AS28: =AS27 -> 667.02102 | AT28: =($B31-SUM(AR26:AR27))/AR28-1 -> 17.639285 | AU28: =(AS$2-COUNTA(AQ26:AQ28))/AT28 -> 0.85037459 | AV28: =($B$31-SUM(AW26:AW27))*B35 -> 182.31217 | AW28: =AX28-AV28 -> 455.5055 | AX28: =AX27 -> 637.81766 | AY28: =($B31-SUM(AW26:AW27))/AW28-1 -> 19.012071 | AZ28: =(AX$2-COUNTA(AV26:AV28))/AY28 -> 0.8415706 | BA28: =($B$31-SUM(BB26:BB27))*B35 -> 183.37269 | BB28: =BC28-BA28 -> 428.1945 | BC28: =BC27 -> 611.56718 | BD28: =($B31-SUM(BB26:BB27))/BB28-1 -> 20.412312 | BE28: =(BC$2-COUNTA(BA26:BA28))/BD28 -> 0.83283068
C29: =($B$31-SUM(D26:D28))*B35 -> 144.10086 | D29: =E29-C29 -> 969.16442 | E29: =E28 -> 1113.2653 | F29: =($B31-SUM(D26:D28))/D29-1 -> 6.4342834 | G29: =(E$2-COUNTA(C26:C29))/F29 -> 0.93250478 | H29: =($B$31-SUM(I26:I28))*B35 -> 149.70052 | I29: =J29-H29 -> 872.0789 | J29: =J28 -> 1021.7794 | K29: =($B31-SUM(I26:I28))/I29-1 -> 7.5829691 | L29: =(J$2-COUNTA(H26:H29))/K29 -> 0.92312127 | M29: =($B$31-SUM(N26:N28))*B35 -> 154.36356 | N29: =O29-M29 -> 791.2324 | O29: =O28 -> 945.59597 | P29: =($B31-SUM(N26:N28))/N29-1 -> 8.7546284 | Q29: =(O$2-COUNTA(M26:M29))/P29 -> 0.91380235 | R29: =($B$31-SUM(S26:S28))*B35 -> 158.30612 | S29: =T29-R29 -> 722.87741 | T29: =T28 -> 881.18353 | U29: =($B31-SUM(S26:S28))/S29-1 -> 9.949721 | V29: =(T$2-COUNTA(R26:R29))/U29 -> 0.90454798 | W29: =($B$31-SUM(X26:X28))*B35 -> 161.68259 | X29: =Y29-W29 -> 664.33712 | Y29: =Y28 -> 826.0197 | Z29: =($B31-SUM(X26:X28))/X29-1 -> 11.168715 | AA29: =(Y$2-COUNTA(W26:W29))/Z29 -> 0.89535812 | AB29: =($B$31-SUM(AC26:AC28))*B35 -> 164.60618 | AC29: =AD29-AB29 -> 613.64854 | AD29: =AD28 -> 778.25472 | AE29: =($B31-SUM(AC26:AC28))/AC29-1 -> 12.41209 | AF29: =(AD$2-COUNTA(AB26:AB29))/AE29 -> 0.88623272 | AG29: =($B$31-SUM(AH26:AH28))*B35 -> 167.16183 | AH29: =AI29-AG29 -> 569.33943 | AI29: =AI28 -> 736.50126 | AJ29: =($B31-SUM(AH26:AH28))/AH29-1 -> 13.680332 | AK29: =(AI$2-COUNTA(AG26:AG29))/AJ29 -> 0.87717172 | AL29: =($B$31-SUM(AM26:AM28))*B35 -> 169.41446 | AM29: =AN29-AL29 -> 530.28395 | AN29: =AN28 -> 699.69841 | AO29: =($B31-SUM(AM26:AM28))/AM29-1 -> 14.973938 | AP29: =(AN$2-COUNTA(AL26:AL29))/AO29 -> 0.86817508 | AQ29: =($B$31-SUM(AR26:AR28))*B35 -> 171.41458 | AR29: =AS29-AQ29 -> 495.60644 | AS29: =AS28 -> 667.02102 | AT29: =($B31-SUM(AR26:AR28))/AR29-1 -> 16.293417 | AU29: =(AS$2-COUNTA(AQ26:AQ29))/AT29 -> 0.85924273 | AV29: =($B$31-SUM(AW26:AW28))*B35 -> 173.20206 | AW29: =AX29-AV29 -> 464.61561 | AX29: =AX28 -> 637.81766 | AY29: =($B31-SUM(AW26:AW28))/AW29-1 -> 17.639285 | AZ29: =(AX$2-COUNTA(AV26:AV29))/AY29 -> 0.85037459 | BA29: =($B$31-SUM(BB26:BB28))*B35 -> 174.8088 | BB29: =BC29-BA29 -> 436.75839 | BC29: =BC28 -> 611.56718 | BD29: =($B31-SUM(BB26:BB28))/BB29-1 -> 19.012071 | BE29: =(BC$2-COUNTA(BA26:BA29))/BD29 -> 0.8415706
C30: =($B$31-SUM(D26:D29))*B35 -> 124.71757 | D30: =E30-C30 -> 988.54771 | E30: =E29 -> 1113.2653 | F30: =($B31-SUM(D26:D29))/D30-1 -> 5.308121 | G30: =(E$2-COUNTA(C26:C30))/F30 -> 0.94195291 | H30: =($B$31-SUM(I26:I29))*B35 -> 132.25895 | I30: =J30-H30 -> 889.52048 | J30: =J29 -> 1021.7794 | K30: =($B31-SUM(I26:I29))/I30-1 -> 6.4342834 | L30: =(J$2-COUNTA(H26:H30))/K30 -> 0.93250478 | M30: =($B$31-SUM(N26:N29))*B35 -> 138.53891 | N30: =O30-M30 -> 807.05705 | O30: =O29 -> 945.59597 | P30: =($B31-SUM(N26:N29))/N30-1 -> 7.5829691 | Q30: =(O$2-COUNTA(M26:M30))/P30 -> 0.92312127 | R30: =($B$31-SUM(S26:S29))*B35 -> 143.84857 | S30: =T30-R30 -> 737.33496 | T30: =T29 -> 881.18353 | U30: =($B31-SUM(S26:S29))/S30-1 -> 8.7546284 | V30: =(T$2-COUNTA(R26:R30))/U30 -> 0.91380235 | W30: =($B$31-SUM(X26:X29))*B35 -> 148.39584 | X30: =Y30-W30 -> 677.62386 | Y30: =Y29 -> 826.0197 | Z30: =($B31-SUM(X26:X29))/X30-1 -> 9.949721 | AA30: =(Y$2-COUNTA(W26:W30))/Z30 -> 0.90454798 | AB30: =($B$31-SUM(AC26:AC29))*B35 -> 152.33321 | AC30: =AD30-AB30 -> 625.92151 | AD30: =AD29 -> 778.25472 | AE30: =($B31-SUM(AC26:AC29))/AC30-1 -> 11.168715 | AF30: =(AD$2-COUNTA(AB26:AB30))/AE30 -> 0.89535812 | AG30: =($B$31-SUM(AH26:AH29))*B35 -> 155.77504 | AH30: =AI30-AG30 -> 580.72622 | AI30: =AI29 -> 736.50126 | AJ30: =($B31-SUM(AH26:AH29))/AH30-1 -> 12.41209 | AK30: =(AI$2-COUNTA(AG26:AG30))/AJ30 -> 0.88623272 | AL30: =($B$31-SUM(AM26:AM29))*B35 -> 158.80878 | AM30: =AN30-AL30 -> 540.88963 | AN30: =AN29 -> 699.69841 | AO30: =($B31-SUM(AM26:AM29))/AM30-1 -> 13.680332 | AP30: =(AN$2-COUNTA(AL26:AL30))/AO30 -> 0.87717172 | AQ30: =($B$31-SUM(AR26:AR29))*B35 -> 161.50245 | AR30: =AS30-AQ30 -> 505.51857 | AS30: =AS29 -> 667.02102 | AT30: =($B31-SUM(AR26:AR29))/AR30-1 -> 14.973938 | AU30: =(AS$2-COUNTA(AQ26:AQ30))/AT30 -> 0.86817508 | AV30: =($B$31-SUM(AW26:AW29))*B35 -> 163.90974 | AW30: =AX30-AV30 -> 473.90792 | AX30: =AX29 -> 637.81766 | AY30: =($B31-SUM(AW26:AW29))/AW30-1 -> 16.293417 | AZ30: =(AX$2-COUNTA(AV26:AV30))/AY30 -> 0.85924273 | BA30: =($B$31-SUM(BB26:BB29))*B35 -> 166.07363 | BB30: =BC30-BA30 -> 445.49355 | BC30: =BC29 -> 611.56718 | BD30: =($B31-SUM(BB26:BB29))/BB30-1 -> 17.639285 | BE30: =(BC$2-COUNTA(BA26:BA30))/BD30 -> 0.85037459
A31: K | B31: 10000 | C31: =($B$31-SUM(D26:D30))*B35 -> 104.94662 | D31: =E31-C31 -> 1008.3187 | E31: =E30 -> 1113.2653 | F31: =($B31-SUM(D26:D30))/D31-1 -> 4.2040402 | G31: =(E$2-COUNTA(C26:C31))/F31 -> 0.9514657 | H31: =($B$31-SUM(I26:I30))*B35 -> 114.46854 | I31: =J31-H31 -> 907.31089 | J31: =J30 -> 1021.7794 | K31: =($B31-SUM(I26:I30))/I31-1 -> 5.308121 | L31: =(J$2-COUNTA(H26:H31))/K31 -> 0.94195291 | M31: =($B$31-SUM(N26:N30))*B35 -> 122.39777 | N31: =O31-M31 -> 823.19819 | O31: =O30 -> 945.59597 | P31: =($B31-SUM(N26:N30))/N31-1 -> 6.4342834 | Q31: =(O$2-COUNTA(M26:M31))/P31 -> 0.93250478 | R31: =($B$31-SUM(S26:S30))*B35 -> 129.10187 | S31: =T31-R31 -> 752.08166 | T31: =T30 -> 881.18353 | U31: =($B31-SUM(S26:S30))/S31-1 -> 7.5829691 | V31: =(T$2-COUNTA(R26:R31))/U31 -> 0.92312127 | W31: =($B$31-SUM(X26:X30))*B35 -> 134.84337 | X31: =Y31-W31 -> 691.17634 | Y31: =Y30 -> 826.0197 | Z31: =($B31-SUM(X26:X30))/X31-1 -> 8.7546284 | AA31: =(Y$2-COUNTA(W26:W31))/Z31 -> 0.91380235 | AB31: =($B$31-SUM(AC26:AC30))*B35 -> 139.81478 | AC31: =AD31-AB31 -> 638.43994 | AD31: =AD30 -> 778.25472 | AE31: =($B31-SUM(AC26:AC30))/AC31-1 -> 9.949721 | AF31: =(AD$2-COUNTA(AB26:AB31))/AE31 -> 0.90454798 | AG31: =($B$31-SUM(AH26:AH30))*B35 -> 144.16052 | AH31: =AI31-AG31 -> 592.34074 | AI31: =AI30 -> 736.50126 | AJ31: =($B31-SUM(AH26:AH30))/AH31-1 -> 11.168715 | AK31: =(AI$2-COUNTA(AG26:AG31))/AJ31 -> 0.89535812 | AL31: =($B$31-SUM(AM26:AM30))*B35 -> 147.99099 | AM31: =AN31-AL31 -> 551.70742 | AN31: =AN30 -> 699.69841 | AO31: =($B31-SUM(AM26:AM30))/AM31-1 -> 12.41209 | AP31: =(AN$2-COUNTA(AL26:AL31))/AO31 -> 0.88623272 | AQ31: =($B$31-SUM(AR26:AR30))*B35 -> 151.39208 | AR31: =AS31-AQ31 -> 515.62894 | AS31: =AS30 -> 667.02102 | AT31: =($B31-SUM(AR26:AR30))/AR31-1 -> 13.680332 | AU31: =(AS$2-COUNTA(AQ26:AQ31))/AT31 -> 0.87717172 | AV31: =($B$31-SUM(AW26:AW30))*B35 -> 154.43159 | AW31: =AX31-AV31 -> 483.38608 | AX31: =AX30 -> 637.81766 | AY31: =($B31-SUM(AW26:AW30))/AW31-1 -> 14.973938 | AZ31: =(AX$2-COUNTA(AV26:AV31))/AY31 -> 0.86817508 | BA31: =($B$31-SUM(BB26:BB30))*B35 -> 157.16376 | BB31: =BC31-BA31 -> 454.40342 | BC31: =BC30 -> 611.56718 | BD31: =($B31-SUM(BB26:BB30))/BB31-1 -> 16.293417 | BE31: =(BC$2-COUNTA(BA26:BA31))/BD31 -> 0.85924273
C32: =($B$31-SUM(D26:D31))*B35 -> 84.780243 | D32: =E32-C32 -> 1028.485 | E32: =E31 -> 1113.2653 | F32: =($B31-SUM(D26:D31))/D32-1 -> 3.121608 | G32: =(E$2-COUNTA(C26:C32))/F32 -> 0.96104315 | H32: =($B$31-SUM(I26:I31))*B35 -> 96.322319 | I32: =J32-H32 -> 925.45711 | J32: =J31 -> 1021.7794 | K32: =($B31-SUM(I26:I31))/I32-1 -> 4.2040402 | L32: =(J$2-COUNTA(H26:H32))/K32 -> 0.9514657 | M32: =($B$31-SUM(N26:N31))*B35 -> 105.93381 | N32: =O32-M32 -> 839.66216 | O32: =O31 -> 945.59597 | P32: =($B31-SUM(N26:N31))/N32-1 -> 5.308121 | Q32: =(O$2-COUNTA(M26:M32))/P32 -> 0.94195291 | R32: =($B$31-SUM(S26:S31))*B35 -> 114.06024 | S32: =T32-R32 -> 767.12329 | T32: =T31 -> 881.18353 | U32: =($B31-SUM(S26:S31))/S32-1 -> 6.4342834 | V32: =(T$2-COUNTA(R26:R32))/U32 -> 0.93250478 | W32: =($B$31-SUM(X26:X31))*B35 -> 121.01984 | X32: =Y32-W32 -> 704.99986 | Y32: =Y31 -> 826.0197 | Z32: =($B31-SUM(X26:X31))/X32-1 -> 7.5829691 | AA32: =(Y$2-COUNTA(W26:W32))/Z32 -> 0.92312127 | AB32: =($B$31-SUM(AC26:AC31))*B35 -> 127.04599 | AC32: =AD32-AB32 -> 651.20874 | AD32: =AD31 -> 778.25472 | AE32: =($B31-SUM(AC26:AC31))/AC32-1 -> 8.7546284 | AF32: =(AD$2-COUNTA(AB26:AB32))/AE32 -> 0.91380235 | AG32: =($B$31-SUM(AH26:AH31))*B35 -> 132.3137 | AH32: =AI32-AG32 -> 604.18756 | AI32: =AI31 -> 736.50126 | AJ32: =($B31-SUM(AH26:AH31))/AH32-1 -> 9.949721 | AK32: =(AI$2-COUNTA(AG26:AG32))/AJ32 -> 0.90454798 | AL32: =($B$31-SUM(AM26:AM31))*B35 -> 136.95684 | AM32: =AN32-AL32 -> 562.74157 | AN32: =AN31 -> 699.69841 | AO32: =($B31-SUM(AM26:AM31))/AM32-1 -> 11.168715 | AP32: =(AN$2-COUNTA(AL26:AL32))/AO32 -> 0.89535812 | AQ32: =($B$31-SUM(AR26:AR31))*B35 -> 141.0795 | AR32: =AS32-AQ32 -> 525.94152 | AS32: =AS31 -> 667.02102 | AT32: =($B31-SUM(AR26:AR31))/AR32-1 -> 12.41209 | AU32: =(AS$2-COUNTA(AQ26:AQ32))/AT32 -> 0.88623272 | AV32: =($B$31-SUM(AW26:AW31))*B35 -> 144.76386 | AW32: =AX32-AV32 -> 493.0538 | AX32: =AX31 -> 637.81766 | AY32: =($B31-SUM(AW26:AW31))/AW32-1 -> 13.680332 | AZ32: =(AX$2-COUNTA(AV26:AV32))/AY32 -> 0.87717172 | BA32: =($B$31-SUM(BB26:BB31))*B35 -> 148.07569 | BB32: =BC32-BA32 -> 463.49149 | BC32: =BC31 -> 611.56718 | BD32: =($B31-SUM(BB26:BB31))/BB32-1 -> 14.973938 | BE32: =(BC$2-COUNTA(BA26:BA32))/BD32 -> 0.86817508
C33: =($B$31-SUM(D26:D32))*B35 -> 64.210542 | D33: =E33-C33 -> 1049.0547 | E33: =E32 -> 1113.2653 | F33: =($B31-SUM(D26:D32))/D33-1 -> 2.0604 | G33: =(E$2-COUNTA(C26:C33))/F33 -> 0.9706853 | H33: =($B$31-SUM(I26:I32))*B35 -> 77.813177 | I33: =J33-H33 -> 943.96625 | J33: =J32 -> 1021.7794 | K33: =($B31-SUM(I26:I32))/I33-1 -> 3.121608 | L33: =(J$2-COUNTA(H26:H33))/K33 -> 0.96104315 | M33: =($B$31-SUM(N26:N32))*B35 -> 89.140566 | N33: =O33-M33 -> 856.4554 | O33: =O32 -> 945.59597 | P33: =($B31-SUM(N26:N32))/N33-1 -> 4.2040402 | Q33: =(O$2-COUNTA(M26:M33))/P33 -> 0.9514657 | R33: =($B$31-SUM(S26:S32))*B35 -> 98.717773 | S33: =T33-R33 -> 782.46575 | T33: =T32 -> 881.18353 | U33: =($B31-SUM(S26:S32))/S33-1 -> 5.308121 | V33: =(T$2-COUNTA(R26:R33))/U33 -> 0.94195291 | W33: =($B$31-SUM(X26:X32))*B35 -> 106.91984 | X33: =Y33-W33 -> 719.09986 | Y33: =Y32 -> 826.0197 | Z33: =($B31-SUM(X26:X32))/X33-1 -> 6.4342834 | AA33: =(Y$2-COUNTA(W26:W33))/Z33 -> 0.93250478 | AB33: =($B$31-SUM(AC26:AC32))*B35 -> 114.02181 | AC33: =AD33-AB33 -> 664.23291 | AD33: =AD32 -> 778.25472 | AE33: =($B31-SUM(AC26:AC32))/AC33-1 -> 7.5829691 | AF33: =(AD$2-COUNTA(AB26:AB33))/AE33 -> 0.92312127 | AG33: =($B$31-SUM(AH26:AH32))*B35 -> 120.22995 | AH33: =AI33-AG33 -> 616.27131 | AI33: =AI32 -> 736.50126 | AJ33: =($B31-SUM(AH26:AH32))/AH33-1 -> 8.7546284 | AK33: =(AI$2-COUNTA(AG26:AG33))/AJ33 -> 0.91380235 | AL33: =($B$31-SUM(AM26:AM32))*B35 -> 125.70201 | AM33: =AN33-AL33 -> 573.9964 | AN33: =AN32 -> 699.69841 | AO33: =($B31-SUM(AM26:AM32))/AM33-1 -> 9.949721 | AP33: =(AN$2-COUNTA(AL26:AL33))/AO33 -> 0.90454798 | AQ33: =($B$31-SUM(AR26:AR32))*B35 -> 130.56067 | AR33: =AS33-AQ33 -> 536.46035 | AS33: =AS32 -> 667.02102 | AT33: =($B31-SUM(AR26:AR32))/AR33-1 -> 11.168715 | AU33: =(AS$2-COUNTA(AQ26:AQ33))/AT33 -> 0.89535812 | AV33: =($B$31-SUM(AW26:AW32))*B35 -> 134.90279 | AW33: =AX33-AV33 -> 502.91487 | AX33: =AX32 -> 637.81766 | AY33: =($B31-SUM(AW26:AW32))/AW33-1 -> 12.41209 | AZ33: =(AX$2-COUNTA(AV26:AV33))/AY33 -> 0.88623272 | BA33: =($B$31-SUM(BB26:BB32))*B35 -> 138.80586 | BB33: =BC33-BA33 -> 472.76132 | BC33: =BC32 -> 611.56718 | BD33: =($B31-SUM(BB26:BB32))/BB33-1 -> 13.680332 | BE33: =(BC$2-COUNTA(BA26:BA33))/BD33 -> 0.87717172
