Workbook

Sheet Suivi des engagements
A1: Listes des opérations sous convention
C2: EN COURS 2017
B3: Engagements | C3: Réalisés
A4: Allez Les Filles Mdp | B4: =VLOOKUP(A4,Evnmt!$A$1:$E$50,2,0) -> 15 | C4: =COUNTIF(RetransCalend!$A$3:$CF$35,A4) -> 16 | D4: =IF(AND(B4>0,C4>0),"Réalisé à "&TEXT(C4/B4,"%"),"") -> Réalisé à 107%
A5: Tournoi Filles Cdy | B5: =VLOOKUP(A5,Evnmt!$A$1:$E$50,2,0) -> 1 | C5: =COUNTIF(RetransCalend!$A$3:$CF$35,A5) -> 1 | D5: =IF(AND(B5>0,C5>0),"Réalisé à "&TEXT(C5/B5,"%"),"") -> Réalisé à 100%
A6: Tournoi Hand Cdy | B6: =VLOOKUP(A6,Evnmt!$A$1:$E$50,2,0) -> 1 | C6: =COUNTIF(RetransCalend!$A$3:$CF$35,A6) -> 1 | D6: =IF(AND(B6>0,C6>0),"Réalisé à "&TEXT(C6/B6,"%"),"") -> Réalisé à 100%
A7: Vacances Alf Mdp | B7: =VLOOKUP(A7,Evnmt!$A$1:$E$50,2,0) -> 1 | C7: =COUNTIF(RetransCalend!$A$3:$CF$35,A7) -> 1 | D7: =IF(AND(B7>0,C7>0),"Réalisé à "&TEXT(C7/B7,"%"),"") -> Réalisé à 100%
A8: Ope Caritative Mdp | B8: =VLOOKUP(A8,Evnmt!$A$1:$E$50,2,0) -> 2 | C8: =COUNTIF(RetransCalend!$A$3:$CF$35,A8) -> 1 | D8: =IF(AND(B8>0,C8>0),"Réalisé à "&TEXT(C8/B8,"%"),"") -> Réalisé à 50%
A9: Journée F Mdp | B9: =VLOOKUP(A9,Evnmt!$A$1:$E$50,2,0) -> 10 | C9: =COUNTIF(RetransCalend!$A$3:$CF$35,A9) -> 4 | D9: =IF(AND(B9>0,C9>0),"Réalisé à "&TEXT(C9/B9,"%"),"") -> Réalisé à 40%
A10: Am F Mdp | B10: =VLOOKUP(A10,Evnmt!$A$1:$E$50,2,0) -> 8 | C10: =COUNTIF(RetransCalend!$A$3:$CF$35,A10) -> 3 | D10: =IF(AND(B10>0,C10>0),"Réalisé à "&TEXT(C10/B10,"%"),"") -> Réalisé à 38%
A11: Vacances F Cdy | B11: =VLOOKUP(A11,Evnmt!$A$1:$E$50,2,0) -> 4 | C11: =COUNTIF(RetransCalend!$A$3:$CF$35,A11) -> 1 | D11: =IF(AND(B11>0,C11>0),"Réalisé à "&TEXT(C11/B11,"%"),"") -> Réalisé à 25%
A12: Contrat Apprentissage | B12: =VLOOKUP(A12,Evnmt!$A$1:$E$50,2,0) -> 5 | C12: =COUNTIF(RetransCalend!$A$3:$CF$35,A12) -> 0 | D12: =IF(AND(B12>0,C12>0),"Réalisé à "&TEXT(C12/B12,"%"),"")
A13: Soirée Rêve | B13: =VLOOKUP(A13,Evnmt!$A$1:$E$50,2,0) -> 0 | C13: =COUNTIF(RetransCalend!$A$3:$CF$35,A13) -> 0 | D13: =IF(AND(B13>0,C13>0),"Réalisé à "&TEXT(C13/B13,"%"),"")
A14: Billets Matchs Filles Et Hand | B14: =VLOOKUP(A14,Evnmt!$A$1:$E$50,2,0) -> 0 | C14: =COUNTIF(RetransCalend!$A$3:$CF$35,A14) -> 0 | D14: =IF(AND(B14>0,C14>0),"Réalisé à "&TEXT(C14/B14,"%"),"")
A15: Dotation Clubs Filleuls | B15: =VLOOKUP(A15,Evnmt!$A$1:$E$50,2,0) -> 17 | C15: =COUNTIF(RetransCalend!$A$3:$CF$35,A15) -> 0 | D15: =IF(AND(B15>0,C15>0),"Réalisé à "&TEXT(C15/B15,"%"),"")
... A24: Journée F Cdy | B24: =VLOOKUP(A24,Evnmt!$A$1:$E$50,2,0) -> 8 | C24: =COUNTIF(RetransCalend!$A$3:$CF$35,A24) -> 0 | D24: =IF(AND(B24>0,C24>0),"Réalisé à "&TEXT(C24/B24,"%"),"")

Sheet 2017 calendrier opérations
A1: 2017
A2: Janvier | F2: Février | J2: Mars | N2: Avril | R2: Mai | V2: Juin | Z2: Juillet | AD2: Août | AH2: Septembre | AL2: Octobre | AP2: Novembre | AT2: Décembre
A3: =(DATE($A$1,COLUMN(),1)) -> 42736 | F3: =A33+1 -> 42767 | G3: Opération Remise de Cadeaux | J3: =F30+1 -> 42795 | K3: Tournoi reverdy | L3: AM F MDP | M3: Mission locale | N3: =J33+1 -> 42826 | R3: =N32+1 -> 42856 | V3: =R33+1 -> 42887 | Z3: =V32+1 -> 42917 | AD3: =Z33+1 -> 42948 | AH3: =AD33+1 -> 42979 | AL3: =AH32+1 -> 43009 | AP3: =AL33+1 -> 43040 | AT3: =AP32+1 -> 43070
A4: =A3+1 -> 42737 | F4: =F3+1 -> 42768 | J4: =J3+1 -> 42796 | K4: Séjour Darna | N4: =N3+1 -> 42827 | R4: =R3+1 -> 42857 | V4: =V3+1 -> 42888 | Z4: =Z3+1 -> 42918 | AD4: =AD3+1 -> 42949 | AH4: =AH3+1 -> 42980 | AL4: =AL3+1 -> 43010 | AP4: =AP3+1 -> 43041 | AT4: =AT3+1 -> 43071
A5: =A4+1 -> 42738 | F5: =F4+1 -> 42769 | J5: =J4+1 -> 42797 | K5: Séjour Darna | N5: =N4+1 -> 42828 | R5: =R4+1 -> 42858 | S5: ALLEZ LES FILLES MDP | U5: mission locale | V5: =V4+1 -> 42889 | Z5: =Z4+1 -> 42919 | AD5: =AD4+1 -> 42950 | AH5: =AH4+1 -> 42981 | AL5: =AL4+1 -> 43011 | AP5: =AP4+1 -> 43042 | AT5: =AT4+1 -> 43072
A6: =A5+1 -> 42739 | B6: ALLEZ LES FILLES MDP | C6: Tournoi reverdy | E6: =25+50 -> 75 | F6: =F5+1 -> 42770 | J6: =J5+1 -> 42798 | K6: Séjour Darna | N6: =N5+1 -> 42829 | O6: JOURNEE F MDP | R6: =R5+1 -> 42859 | V6: =V5+1 -> 42890 | Z6: =Z5+1 -> 42920 | AD6: =AD5+1 -> 42951 | AH6: =AH5+1 -> 42982 | AL6: =AL5+1 -> 43012 | AP6: =AP5+1 -> 43043 | AT6: =AT5+1 -> 43073
A7: =A6+1 -> 42740 | B7: Winter Tour Tunisie | E7: =50 -> 50 | F7: =F6+1 -> 42771 | J7: =J6+1 -> 42799 | K7: Séjour Darna | N7: =N6+1 -> 42830 | O7: JOURNEE F MDP | R7: =R6+1 -> 42860 | V7: =V6+1 -> 42891 | Z7: =Z6+1 -> 42921 | AD7: =AD6+1 -> 42952 | AH7: =AH6+1 -> 42983 | AL7: =AL6+1 -> 43013 | AP7: =AP6+1 -> 43044 | AT7: =AT6+1 -> 43074
A8: =A7+1 -> 42741 | F8: =F7+1 -> 42772 | J8: =J7+1 -> 42800 | N8: =N7+1 -> 42831 | O8: JOURNEE F MDP | R8: =R7+1 -> 42861 | V8: =V7+1 -> 42892 | Z8: =Z7+1 -> 42922 | AD8: =AD7+1 -> 42953 | AH8: =AH7+1 -> 42984 | AL8: =AL7+1 -> 43014 | AP8: =AP7+1 -> 43045 | AT8: =AT7+1 -> 43075
A9: =A8+1 -> 42742 | F9: =F8+1 -> 42773 | J9: =J8+1 -> 42801 | N9: =N8+1 -> 42832 | O9: Pauleta | R9: =R8+1 -> 42862 | V9: =V8+1 -> 42893 | W9: ALLEZ LES FILLES MDP | Z9: =Z8+1 -> 42923 | AD9: =AD8+1 -> 42954 | AH9: =AH8+1 -> 42985 | AL9: =AL8+1 -> 43015 | AP9: =AP8+1 -> 43046 | AT9: =AT8+1 -> 43076
A10: =A9+1 -> 42743 | F10: =F9+1 -> 42774 | G10: Tournoi reverdy | H10: Opé bougival Groupe | J10: =J9+1 -> 42802 | K10: ALLEZ LES FILLES MDP | N10: =N9+1 -> 42833 | R10: =R9+1 -> 42863 | V10: =V9+1 -> 42894 | Z10: =Z9+1 -> 42924 | AD10: =AD9+1 -> 42955 | AH10: =AH9+1 -> 42986 | AL10: =AL9+1 -> 43016 | AP10: =AP9+1 -> 43047 | AT10: =AT9+1 -> 43077
A11: =A10+1 -> 42744 | F11: =F10+1 -> 42775 | J11: =J10+1 -> 42803 | N11: =N10+1 -> 42834 | R11: =R10+1 -> 42864 | V11: =V10+1 -> 42895 | Z11: =Z10+1 -> 42925 | AD11: =AD10+1 -> 42956 | AH11: =AH10+1 -> 42987 | AL11: =AL10+1 -> 43017 | AP11: =AP10+1 -> 43048 | AT11: =AT10+1 -> 43078
A12: =A11+1 -> 42745 | F12: =F11+1 -> 42776 | J12: =J11+1 -> 42804 | N12: =N11+1 -> 42835 | P12: VACANCES ALF MDP | Q12: VACANCES F OCIRP | R12: =R11+1 -> 42865 | S12: ALLEZ LES FILLES MDP | U12: Tournoi reverdy | V12: =V11+1 -> 42896 | Z12: =Z11+1 -> 42926 | AD12: =AD11+1 -> 42957 | AH12: =AH11+1 -> 42988 | AL12: =AL11+1 -> 43018 | AP12: =AP11+1 -> 43049 | AT12: =AT11+1 -> 43079
A13: =A12+1 -> 42746 | B13: ALLEZ LES FILLES MDP | E13: =25 -> 25 | F13: =F12+1 -> 42777 | J13: =J12+1 -> 42805 | N13: =N12+1 -> 42836 | R13: =R12+1 -> 42866 | V13: =V12+1 -> 42897 | Z13: =Z12+1 -> 42927 | AD13: =AD12+1 -> 42958 | AH13: =AH12+1 -> 42989 | AL13: =AL12+1 -> 43019 | AP13: =AP12+1 -> 43050 | AT13: =AT12+1 -> 43080
A14: =A13+1 -> 42747 | F14: =F13+1 -> 42778 | J14: =J13+1 -> 42806 | N14: =N13+1 -> 42837 | R14: =R13+1 -> 42867 | V14: =V13+1 -> 42898 | Z14: =Z13+1 -> 42928 | AD14: =AD13+1 -> 42959 | AH14: =AH13+1 -> 42990 | AL14: =AL13+1 -> 43020 | AP14: =AP13+1 -> 43051 | AT14: =AT13+1 -> 43081
A15: =A14+1 -> 42748 | F15: =F14+1 -> 42779 | G15: VACANCES F CDY | J15: =J14+1 -> 42807 | N15: =N14+1 -> 42838 | R15: =R14+1 -> 42868 | S15: JOURNEE F MDP | V15: =V14+1 -> 42899 | Z15: =Z14+1 -> 42929 | AD15: =AD14+1 -> 42960 | AH15: =AH14+1 -> 42991 | AL15: =AL14+1 -> 43021 | AP15: =AP14+1 -> 43052 | AT15: =AT14+1 -> 43082
A16: =A15+1 -> 42749 | F16: =F15+1 -> 42780 | J16: =J15+1 -> 42808 | N16: =N15+1 -> 42839 | R16: =R15+1 -> 42869 | V16: =V15+1 -> 42900 | W16: Tournoi reverdy | Z16: =Z15+1 -> 42930 | AD16: =AD15+1 -> 42961 | AH16: =AH15+1 -> 42992 | AL16: =AL15+1 -> 43022 | AP16: =AP15+1 -> 43053 | AT16: =AT15+1 -> 43083
A17: =A16+1 -> 42750 | F17: =F16+1 -> 42781 | H17: Tournoi reverdy | J17: =J16+1 -> 42809 | K17: OPE CARITATIVE MDP | N17: =N16+1 -> 42840 | R17: =R16+1 -> 42870 | V17: =V16+1 -> 42901 | Z17: =Z16+1 -> 42931 | AD17: =AD16+1 -> 42962 | AH17: =AH16+1 -> 42993 | AL17: =AL16+1 -> 43023 | AP17: =AP16+1 -> 43054 | AT17: =AT16+1 -> 43084
A18: =A17+1 -> 42751 | F18: =F17+1 -> 42782 | J18: =J17+1 -> 42810 | N18: =N17+1 -> 42841 | R18: =R17+1 -> 42871 | S18: DINER DE GALA | V18: =V17+1 -> 42902 | Z18: =Z17+1 -> 42932 | AD18: =AD17+1 -> 42963 | AH18: =AH17+1 -> 42994 | AL18: =AL17+1 -> 43024 | AP18: =AP17+1 -> 43055 | AT18: =AT17+1 -> 43085
A19: =A18+1 -> 42752 | F19: =F18+1 -> 42783 | J19: =J18+1 -> 42811 | N19: =N18+1 -> 42842 | R19: =R18+1 -> 42872 | S19: ALLEZ LES FILLES MDP | T19: Tournoi reverdy | V19: =V18+1 -> 42903 | W19: TOURNOI FILLES CDY | Z19: =Z18+1 -> 42933 | AD19: =AD18+1 -> 42964 | AH19: =AH18+1 -> 42995 | AL19: =AL18+1 -> 43025 | AP19: =AP18+1 -> 43056 | AT19: =AT18+1 -> 43086
A20: =A19+1 -> 42753 | B20: ALLEZ LES FILLES MDP | C20: Tournoi reverdy | E20: =50+25 -> 75 | F20: =F19+1 -> 42784 | J20: =J19+1 -> 42812 | N20: =N19+1 -> 42843 | R20: =R19+1 -> 42873 | V20: =V19+1 -> 42904 | W20: TOURNOI HAND CDY | Z20: =Z19+1 -> 42934 | AD20: =AD19+1 -> 42965 | AH20: =AH19+1 -> 42996 | AL20: =AL19+1 -> 43026 | AP20: =AP19+1 -> 43057 | AT20: =AT19+1 -> 43087
A21: =A20+1 -> 42754 | F21: =F20+1 -> 42785 | J21: =J20+1 -> 42813 | N21: =N20+1 -> 42844 | O21: ALLEZ LES FILLES MDP | R21: =R20+1 -> 42874 | U21: OP. SECOURS POUPULAIRE | V21: =V20+1 -> 42905 | Z21: =Z20+1 -> 42935 | AD21: =AD20+1 -> 42966 | AH21: =AH20+1 -> 42997 | AL21: =AL20+1 -> 43027 | AP21: =AP20+1 -> 43058 | AT21: =AT20+1 -> 43088
A22: =A21+1 -> 42755 | F22: =F21+1 -> 42786 | J22: =J21+1 -> 42814 | N22: =N21+1 -> 42845 | R22: =R21+1 -> 42875 | S22: J. DISTRICT | V22: =V21+1 -> 42906 | Z22: =Z21+1 -> 42936 | AD22: =AD21+1 -> 42967 | AH22: =AH21+1 -> 42998 | AL22: =AL21+1 -> 43028 | AP22: =AP21+1 -> 43059 | AT22: =AT21+1 -> 43089
A23: =A22+1 -> 42756 | F23: =F22+1 -> 42787 | J23: =J22+1 -> 42815 | N23: =N22+1 -> 42846 | R23: =R22+1 -> 42876 | V23: =V22+1 -> 42907 | W23: Tournoi reverdy | Z23: =Z22+1 -> 42937 | AD23: =AD22+1 -> 42968 | AH23: =AH22+1 -> 42999 | AL23: =AL22+1 -> 43029 | AP23: =AP22+1 -> 43060 | AT23: =AT22+1 -> 43090
A24: =A23+1 -> 42757 | F24: =F23+1 -> 42788 | G24: ALLEZ LES FILLES MDP | H24: Tournoi reverdy | J24: =J23+1 -> 42816 | K24: ALLEZ LES FILLES MDP | N24: =N23+1 -> 42847 | R24: =R23+1 -> 42877 | V24: =V23+1 -> 42908 | Z24: =Z23+1 -> 42938 | AD24: =AD23+1 -> 42969 | AH24: =AH23+1 -> 43000 | AL24: =AL23+1 -> 43030 | AP24: =AP23+1 -> 43061 | AT24: =AT23+1 -> 43091
A25: =A24+1 -> 42758 | F25: =F24+1 -> 42789 | J25: =J24+1 -> 42817 | N25: =N24+1 -> 42848 | R25: =R24+1 -> 42878 | V25: =V24+1 -> 42909 | Z25: =Z24+1 -> 42939 | AD25: =AD24+1 -> 42970 | AH25: =AH24+1 -> 43001 | AL25: =AL24+1 -> 43031 | AP25: =AP24+1 -> 43062 | AT25: =AT24+1 -> 43092
A26: =A25+1 -> 42759 | F26: =F25+1 -> 42790 | J26: =J25+1 -> 42818 | N26: =N25+1 -> 42849 | R26: =R25+1 -> 42879 | S26: AM F MDP | T26: ALLEZ LES FILLES MDP | V26: =V25+1 -> 42910 | Z26: =Z25+1 -> 42940 | AD26: =AD25+1 -> 42971 | AH26: =AH25+1 -> 43002 | AL26: =AL25+1 -> 43032 | AP26: =AP25+1 -> 43063 | AT26: =AT25+1 -> 43093
A27: =A26+1 -> 42760 | B27: ALLEZ LES FILLES MDP | C27: Tournoi reverdy | E27: =50+25 -> 75 | F27: =F26+1 -> 42791 | J27: =J26+1 -> 42819 | N27: =N26+1 -> 42850 | R27: =R26+1 -> 42880 | V27: =V26+1 -> 42911 | Z27: =Z26+1 -> 42941 | AD27: =AD26+1 -> 42972 | AH27: =AH26+1 -> 43003 | AL27: =AL26+1 -> 43033 | AP27: =AP26+1 -> 43064 | AT27: =AT26+1 -> 43094
A28: =A27+1 -> 42761 | F28: =F27+1 -> 42792 | J28: =J27+1 -> 42820 | N28: =N27+1 -> 42851 | O28: ALLEZ LES FILLES MDP | R28: =R27+1 -> 42881 | V28: =V27+1 -> 42912 | Z28: =Z27+1 -> 42942 | AD28: =AD27+1 -> 42973 | AH28: =AH27+1 -> 43004 | AL28: =AL27+1 -> 43034 | AP28: =AP27+1 -> 43065 | AT28: =AT27+1 -> 43095
A29: =A28+1 -> 42762 | F29: =F28+1 -> 42793 | J29: =J28+1 -> 42821 | N29: =N28+1 -> 42852 | R29: =R28+1 -> 42882 | V29: =V28+1 -> 42913 | Z29: =Z28+1 -> 42943 | AD29: =AD28+1 -> 42974 | AH29: =AH28+1 -> 43005 | AL29: =AL28+1 -> 43035 | AP29: =AP28+1 -> 43066 | AT29: =AT28+1 -> 43096
A30: =A29+1 -> 42763 | F30: =F29+1 -> 42794 | G30: Séjour Darna | J30: =J29+1 -> 42822 | N30: =N29+1 -> 42853 | R30: =R29+1 -> 42883 | V30: =V29+1 -> 42914 | W30: AM F MDP | Z30: =Z29+1 -> 42944 | AD30: =AD29+1 -> 42975 | AH30: =AH29+1 -> 43006 | AL30: =AL29+1 -> 43036 | AP30: =AP29+1 -> 43067 | AT30: =AT29+1 -> 43097
A31: =A30+1 -> 42764 | J31: =J30+1 -> 42823 | K31: ALLEZ LES FILLES MDP | N31: =N30+1 -> 42854 | O31: ALLEZ LES FILLES MDP | R31: =R30+1 -> 42884 | V31: =V30+1 -> 42915 | Z31: =Z30+1 -> 42945 | AD31: =AD30+1 -> 42976 | AH31: =AH30+1 -> 43007 | AL31: =AL30+1 -> 43037 | AP31: =AP30+1 -> 43068 | AT31: =AT30+1 -> 43098
A32: =A31+1 -> 42765 | J32: =J31+1 -> 42824 | N32: =N31+1 -> 42855 | R32: =R31+1 -> 42885 | V32: =V31+1 -> 42916 | Z32: =Z31+1 -> 42946 | AD32: =AD31+1 -> 42977 | AH32: =AH31+1 -> 43008 | AL32: =AL31+1 -> 43038 | AP32: =AP31+1 -> 43069 | AT32: =AT31+1 -> 43099
A33: =A32+1 -> 42766 | J33: =J32+1 -> 42825 | R33: =R32+1 -> 42886 | S33: Tournoi reverdy | Z33: =Z32+1 -> 42947 | AD33: =AD32+1 -> 42978 | AL33: =AL32+1 -> 43039 | AT33: =AT32+1 -> 43100

Sheet CHIFFRES CLES
C4: =SUMIF('2017 calendrier opérations'!B6:D7,"Tournoi reverdy",'2017 calendrier opérations'!B6:E7) -> 0
C5: =SUMIF('2017 calendrier opérations'!B3:D33,"Tournoi reverdy",'2017 calendrier opérations'!E3:E33) -> 128345
C6: =COUNTIF('2017 calendrier opérations'!B3:D33,"Tournoi reverdy") -> 3

Sheet RetransCalend
A1: 2017 | BZ1: =IF('2017 calendrier opérations'!AT1="","",'2017 calendrier opérations'!AT1) | CA1: =IF('2017 calendrier opérations'!AU1="","",'2017 calendrier opérations'!AU1) | CB1: =IF('2017 calendrier opérations'!AV1="","",'2017 calendrier opérations'!AV1) | CC1: =IF('2017 calendrier opérations'!AW1="","",'2017 calendrier opérations'!AW1)
A2: Janvier | B2: Evenmt1 | C2: P1 | D2: Evenmt2 | E2: P2 | F2: Evenmt3 | G2: P3 | H2: Février | I2: Evenmt1 | J2: P1 | K2: Evenmt2 | L2: P2 | M2: Evenmt3 | N2: P3 | O2: Mars | P2: Evenmt1 | Q2: P1 | R2: Evenmt2 | S2: P2 | T2: Evenmt3 | U2: P3 | V2: Avril | W2: Evenmt1 | X2: P1 | Y2: Evenmt2 | Z2: P2 | AA2: Evenmt3 | AB2: P3 | AC2: Mai | AD2: Evenmt1 | AE2: P1 | AF2: Evenmt2 | AG2: P2 | AH2: Evenmt3 | AI2: P3 | AJ2: Juin | AK2: Evenmt1 | AL2: P1 | AM2: Evenmt2 | AN2: P2 | AO2: Evenmt3 | AP2: P3 | AQ2: Juillet | AR2: Evenmt1 | AS2: P1 | AT2: Evenmt2 | AU2: P2 | AV2: Evenmt3 | AW2: P3 | AX2: Août | AY2: Evenmt1 | AZ2: P1 | BA2: Evenmt2 | BB2: P2 | BC2: Evenmt3 | BD2: P3 | BE2: Septembre | BF2: Evenmt1 | BG2: P1 | BH2: Evenmt2 | BI2: P2 | BJ2: Evenmt3 | BK2: P3 | BL2: Octobre | BM2: Evenmt1 | BN2: P1 | BO2: Evenmt2 | BP2: P2 | BQ2: Evenmt3 | BR2: P3 | BS2: Novembre | BT2: Evenmt1 | BU2: P1 | BV2: Evenmt2 | BW2: P2 | BX2: Evenmt3 | BY2: P3 | BZ2: Décembre | CA2: Evenmt1 | CB2: P1 | CC2: Evenmt2 | CD2: P2 | CE2: Evenmt3 | CF2: P3
A3: 42736 | H3: 42767 | I3: Opération Remise De Cadeaux | O3: 42795 | P3: Tournoi Reverdy | R3: AM F MDP | T3: Mission locale | V3: 42826 | AC3: 42856 | AJ3: 42887 | AQ3: 42917 | AX3: 42948 | BE3: 42979 | BL3: 43009 | BS3: 43040 | BZ3: 43070 | CA3: =IF('2017 calendrier opérations'!AU3="","",'2017 calendrier opérations'!AU3) | CB3: =IF('2017 calendrier opérations'!AV3="","",'2017 calendrier opérations'!AV3) | CC3: =IF('2017 calendrier opérations'!AW3="","",'2017 calendrier opérations'!AW3)
A4: 42737 | H4: 42768 | O4: 42796 | P4: Séjour Darna | V4: 42827 | AC4: 42857 | AJ4: 42888 | AQ4: 42918 | AX4: 42949 | BE4: 42980 | BL4: 43010 | BS4: 43041 | BZ4: 43071 | CA4: =IF('2017 calendrier opérations'!AU4="","",'2017 calendrier opérations'!AU4) | CB4: =IF('2017 calendrier opérations'!AV4="","",'2017 calendrier opérations'!AV4) | CC4: =IF('2017 calendrier opérations'!AW4="","",'2017 calendrier opérations'!AW4)
A5: 42738 | H5: 42769 | O5: 42797 | P5: Séjour Darna | V5: 42828 | AC5: 42858 | AD5: Allez Les Filles Mdp | AH5: Mission Locale | AJ5: 42889 | AQ5: 42919 | AX5: 42950 | BE5: 42981 | BL5: 43011 | BS5: 43042 | BZ5: 43072 | CA5: =IF('2017 calendrier opérations'!AU5="","",'2017 calendrier opérations'!AU5) | CB5: =IF('2017 calendrier opérations'!AV5="","",'2017 calendrier opérations'!AV5) | CC5: =IF('2017 calendrier opérations'!AW5="","",'2017 calendrier opérations'!AW5)
A6: 42739 | B6: Allez Les Filles Mdp | D6: Tournoi Reverdy | H6: 42770 | O6: 42798 | P6: Séjour Darna | V6: 42829 | W6: Journée F Mdp | AC6: 42859 | AJ6: 42890 | AQ6: 42920 | AX6: 42951 | BE6: 42982 | BL6: 43012 | BS6: 43043 | BZ6: 43073 | CA6: =IF('2017 calendrier opérations'!AU6="","",'2017 calendrier opérations'!AU6) | CB6: =IF('2017 calendrier opérations'!AV6="","",'2017 calendrier opérations'!AV6) | CC6: =IF('2017 calendrier opérations'!AW6="","",'2017 calendrier opérations'!AW6)
A7: 42740 | B7: Winter Tour Tunisie | H7: 42771 | O7: 42799 | P7: Séjour Darna | V7: 42830 | W7: Journée F Mdp | AC7: 42860 | AJ7: 42891 | AQ7: 42921 | AX7: 42952 | BE7: 42983 | BL7: 43013 | BS7: 43044 | BZ7: 43074 | CA7: =IF('2017 calendrier opérations'!AU7="","",'2017 calendrier opérations'!AU7) | CB7: =IF('2017 calendrier opérations'!AV7="","",'2017 calendrier opérations'!AV7) | CC7: =IF('2017 calendrier opérations'!AW7="","",'2017 calendrier opérations'!AW7)
A8: 42741 | H8: 42772 | O8: 42800 | V8: 42831 | W8: Journée F Mdp | AC8: 42861 | AJ8: 42892 | AQ8: 42922 | AX8: 42953 | BE8: 42984 | BL8: 43014 | BS8: 43045 | BZ8: 43075 | CA8: =IF('2017 calendrier opérations'!AU8="","",'2017 calendrier opérations'!AU8) | CB8: =IF('2017 calendrier opérations'!AV8="","",'2017 calendrier opérations'!AV8) | CC8: =IF('2017 calendrier opérations'!AW8="","",'2017 calendrier opérations'!AW8)
A9: 42742 | H9: 42773 | O9: 42801 | V9: 42832 | W9: Pauleta | AC9: 42862 | AJ9: 42893 | AK9: Allez Les Filles Mdp | AQ9: 42923 | AX9: 42954 | BE9: 42985 | BL9: 43015 | BS9: 43046 | BZ9: 43076 | CA9: =IF('2017 calendrier opérations'!AU9="","",'2017 calendrier opérations'!AU9) | CB9: =IF('2017 calendrier opérations'!AV9="","",'2017 calendrier opérations'!AV9) | CC9: =IF('2017 calendrier opérations'!AW9="","",'2017 calendrier opérations'!AW9)
A10: 42743 | H10: 42774 | I10: Tournoi Reverdy | K10: Opé Bougival Groupe | O10: 42802 | P10: Allez Les Filles Mdp | V10: 42833 | AC10: 42863 | AJ10: 42894 | AQ10: 42924 | AX10: 42955 | BE10: 42986 | BL10: 43016 | BS10: 43047 | BZ10: 43077 | CA10: =IF('2017 calendrier opérations'!AU10="","",'2017 calendrier opérations'!AU10) | CB10: =IF('2017 calendrier opérations'!AV10="","",'2017 calendrier opérations'!AV10) | CC10: =IF('2017 calendrier opérations'!AW10="","",'2017 calendrier opérations'!AW10)
A11: 42744 | H11: 42775 | O11: 42803 | V11: 42834 | AC11: 42864 | AJ11: 42895 | AQ11: 42925 | AX11: 42956 | BE11: 42987 | BL11: 43017 | BS11: 43048 | BZ11: 43078 | CA11: =IF('2017 calendrier opérations'!AU11="","",'2017 calendrier opérations'!AU11) | CB11: =IF('2017 calendrier opérations'!AV11="","",'2017 calendrier opérations'!AV11) | CC11: =IF('2017 calendrier opérations'!AW11="","",'2017 calendrier opérations'!AW11)
A12: 42745 | H12: 42776 | O12: 42804 | V12: 42835 | Y12: Vacances Alf Mdp | AA12: Vacances F Ocirp | AC12: 42865 | AD12: Allez Les Filles Mdp | AH12: Tournoi Reverdy | AJ12: 42896 | AQ12: 42926 | AX12: 42957 | BE12: 42988 | BL12: 43018 | BS12: 43049 | BZ12: 43079 | CA12: =IF('2017 calendrier opérations'!AU12="","",'2017 calendrier opérations'!AU12) | CB12: =IF('2017 calendrier opérations'!AV12="","",'2017 calendrier opérations'!AV12) | CC12: =IF('2017 calendrier opérations'!AW12="","",'2017 calendrier opérations'!AW12)
A13: 42746 | B13: Allez Les Filles Mdp | H13: 42777 | O13: 42805 | V13: 42836 | AC13: 42866 | AJ13: 42897 | AQ13: 42927 | AX13: 42958 | BE13: 42989 | BL13: 43019 | BS13: 43050 | BZ13: 43080 | CA13: =IF('2017 calendrier opérations'!AU13="","",'2017 calendrier opérations'!AU13) | CB13: =IF('2017 calendrier opérations'!AV13="","",'2017 calendrier opérations'!AV13) | CC13: =IF('2017 calendrier opérations'!AW13="","",'2017 calendrier opérations'!AW13)
A14: 42747 | H14: 42778 | O14: 42806 | V14: 42837 | AC14: 42867 | AJ14: 42898 | AQ14: 42928 | AX14: 42959 | BE14: 42990 | BL14: 43020 | BS14: 43051 | BZ14: 43081 | CA14: =IF('2017 calendrier opérations'!AU14="","",'2017 calendrier opérations'!AU14) | CB14: =IF('2017 calendrier opérations'!AV14="","",'2017 calendrier opérations'!AV14) | CC14: =IF('2017 calendrier opérations'!AW14="","",'2017 calendrier opérations'!AW14)
A15: 42748 | H15: 42779 | I15: Vacances F Cdy | O15: 42807 | V15: 42838 | AC15: 42868 | AD15: Journée F Mdp | AJ15: 42899 | AQ15: 42929 | AX15: 42960 | BE15: 42991 | BL15: 43021 | BS15: 43052 | BZ15: 43082 | CA15: =IF('2017 calendrier opérations'!AU15="","",'2017 calendrier opérations'!AU15) | CB15: =IF('2017 calendrier opérations'!AV15="","",'2017 calendrier opérations'!AV15) | CC15: =IF('2017 calendrier opérations'!AW15="","",'2017 calendrier opérations'!AW15)
A16: 42749 | H16: 42780 | O16: 42808 | V16: 42839 | AC16: 42869 | AJ16: 42900 | AK16: Tournoi Reverdy | AQ16: 42930 | AX16: 42961 | BE16: 42992 | BL16: 43022 | BS16: 43053 | BZ16: 43083 | CA16: =IF('2017 calendrier opérations'!AU16="","",'2017 calendrier opérations'!AU16) | CB16: =IF('2017 calendrier opérations'!AV16="","",'2017 calendrier opérations'!AV16) | CC16: =IF('2017 calendrier opérations'!AW16="","",'2017 calendrier opérations'!AW16)
A17: 42750 | H17: 42781 | K17: Tournoi Reverdy | O17: 42809 | P17: Ope Caritative Mdp | V17: 42840 | AC17: 42870 | AJ17: 42901 | AQ17: 42931 | AX17: 42962 | BE17: 42993 | BL17: 43023 | BS17: 43054 | BZ17: 43084 | CA17: =IF('2017 calendrier opérations'!AU17="","",'2017 calendrier opérations'!AU17) | CB17: =IF('2017 calendrier opérations'!AV17="","",'2017 calendrier opérations'!AV17) | CC17: =IF('2017 calendrier opérations'!AW17="","",'2017 calendrier opérations'!AW17)
A18: 42751 | H18: 42782 | O18: 42810 | V18: 42841 | AC18: 42871 | AD18: Diner De Gala | AJ18: 42902 | AQ18: 42932 | AX18: 42963 | BE18: 42994 | BL18: 43024 | BS18: 43055 | BZ18: 43085 | CA18: =IF('2017 calendrier opérations'!AU18="","",'2017 calendrier opérations'!AU18) | CB18: =IF('2017 calendrier opérations'!AV18="","",'2017 calendrier opérations'!AV18) | CC18: =IF('2017 calendrier opérations'!AW18="","",'2017 calendrier opérations'!AW18)
A19: 42752 | H19: 42783 | O19: 42811 | V19: 42842 | AC19: 42872 | AD19: Allez Les Filles Mdp | AF19: Tournoi Reverdy | AJ19: 42903 | AK19: Tournoi Filles Cdy | AQ19: 42933 | AX19: 42964 | BE19: 42995 | BL19: 43025 | BS19: 43056 | BZ19: 43086 | CA19: =IF('2017 calendrier opérations'!AU19="","",'2017 calendrier opérations'!AU19) | CB19: =IF('2017 calendrier opérations'!AV19="","",'2017 calendrier opérations'!AV19) | CC19: =IF('2017 calendrier opérations'!AW19="","",'2017 calendrier opérations'!AW19)
A20: 42753 | B20: Allez Les Filles Mdp | D20: Tournoi Reverdy | H20: 42784 | O20: 42812 | V20: 42843 | AC20: 42873 | AJ20: 42904 | AK20: Tournoi Hand Cdy | AQ20: 42934 | AX20: 42965 | BE20: 42996 | BL20: 43026 | BS20: 43057 | BZ20: 43087 | CA20: =IF('2017 calendrier opérations'!AU20="","",'2017 calendrier opérations'!AU20) | CB20: =IF('2017 calendrier opérations'!AV20="","",'2017 calendrier opérations'!AV20) | CC20: =IF('2017 calendrier opérations'!AW20="","",'2017 calendrier opérations'!AW20)
A21: 42754 | H21: 42785 | O21: 42813 | V21: 42844 | W21: Allez Les Filles Mdp | AC21: 42874 | AH21: Op. Secours Populaire | AJ21: 42905 | AQ21: 42935 | AX21: 42966 | BE21: 42997 | BL21: 43027 | BS21: 43058 | BZ21: 43088 | CA21: =IF('2017 calendrier opérations'!AU21="","",'2017 calendrier opérations'!AU21) | CB21: =IF('2017 calendrier opérations'!AV21="","",'2017 calendrier opérations'!AV21) | CC21: =IF('2017 calendrier opérations'!AW21="","",'2017 calendrier opérations'!AW21)
A22: 42755 | H22: 42786 | O22: 42814 | V22: 42845 | AC22: 42875 | AD22: J. District | AJ22: 42906 | AQ22: 42936 | AX22: 42967 | BE22: 42998 | BL22: 43028 | BS22: 43059 | BZ22: 43089 | CA22: =IF('2017 calendrier opérations'!AU22="","",'2017 calendrier opérations'!AU22) | CB22: =IF('2017 calendrier opérations'!AV22="","",'2017 calendrier opérations'!AV22) | CC22: =IF('2017 calendrier opérations'!AW22="","",'2017 calendrier opérations'!AW22)
A23: 42756 | H23: 42787 | O23: 42815 | V23: 42846 | AC23: 42876 | AJ23: 42907 | AK23: Tournoi Reverdy | AQ23: 42937 | AX23: 42968 | BE23: 42999 | BL23: 43029 | BS23: 43060 | BZ23: 43090 | CA23: =IF('2017 calendrier opérations'!AU23="","",'2017 calendrier opérations'!AU23) | CB23: =IF('2017 calendrier opérations'!AV23="","",'2017 calendrier opérations'!AV23) | CC23: =IF('2017 calendrier opérations'!AW23="","",'2017 calendrier opérations'!AW23)
A24: 42757 | H24: 42788 | I24: Allez Les Filles Mdp | K24: Tournoi Reverdy | O24: 42816 | P24: Allez Les Filles Mdp | V24: 42847 | AC24: 42877 | AJ24: 42908 | AQ24: 42938 | AX24: 42969 | BE24: 43000 | BL24: 43030 | BS24: 43061 | BZ24: 43091 | CA24: =IF('2017 calendrier opérations'!AU24="","",'2017 calendrier opérations'!AU24) | CB24: =IF('2017 calendrier opérations'!AV24="","",'2017 calendrier opérations'!AV24) | CC24: =IF('2017 calendrier opérations'!AW24="","",'2017 calendrier opérations'!AW24)
A25: 42758 | H25: 42789 | O25: 42817 | V25: 42848 | AC25: 42878 | AJ25: 42909 | AQ25: 42939 | AX25: 42970 | BE25: 43001 | BL25: 43031 | BS25: 43062 | BZ25: 43092 | CA25: =IF('2017 calendrier opérations'!AU25="","",'2017 calendrier opérations'!AU25) | CB25: =IF('2017 calendrier opérations'!AV25="","",'2017 calendrier opérations'!AV25) | CC25: =IF('2017 calendrier opérations'!AW25="","",'2017 calendrier opérations'!AW25)
A26: 42759 | H26: 42790 | O26: 42818 | V26: 42849 | AC26: 42879 | AD26: Am F Mdp | AF26: Allez Les Filles Mdp | AJ26: 42910 | AQ26: 42940 | AX26: 42971 | BE26: 43002 | BL26: 43032 | BS26: 43063 | BZ26: 43093 | CA26: =IF('2017 calendrier opérations'!AU26="","",'2017 calendrier opérations'!AU26) | CB26: =IF('2017 calendrier opérations'!AV26="","",'2017 calendrier opérations'!AV26) | CC26: =IF('2017 calendrier opérations'!AW26="","",'2017 calendrier opérations'!AW26)
A27: 42760 | B27: Allez Les Filles Mdp | D27: Tournoi Reverdy | H27: 42791 | O27: 42819 | V27: 42850 | AC27: 42880 | AJ27: 42911 | AQ27: 42941 | AX27: 42972 | BE27: 43003 | BL27: 43033 | BS27: 43064 | BZ27: 43094 | CA27: =IF('2017 calendrier opérations'!AU27="","",'2017 calendrier opérations'!AU27) | CB27: =IF('2017 calendrier opérations'!AV27="","",'2017 calendrier opérations'!AV27) | CC27: =IF('2017 calendrier opérations'!AW27="","",'2017 calendrier opérations'!AW27)
A28: 42761 | H28: 42792 | O28: 42820 | V28: 42851 | W28: Allez Les Filles Mdp | AC28: 42881 | AJ28: 42912 | AQ28: 42942 | AX28: 42973 | BE28: 43004 | BL28: 43034 | BS28: 43065 | BZ28: 43095 | CA28: =IF('2017 calendrier opérations'!AU28="","",'2017 calendrier opérations'!AU28) | CB28: =IF('2017 calendrier opérations'!AV28="","",'2017 calendrier opérations'!AV28) | CC28: =IF('2017 calendrier opérations'!AW28="","",'2017 calendrier opérations'!AW28)
A29: 42762 | H29: 42793 | O29: 42821 | V29: 42852 | AC29: 42882 | AJ29: 42913 | AQ29: 42943 | AX29: 42974 | BE29: 43005 | BL29: 43035 | BS29: 43066 | BZ29: 43096 | CA29: =IF('2017 calendrier opérations'!AU29="","",'2017 calendrier opérations'!AU29) | CB29: =IF('2017 calendrier opérations'!AV29="","",'2017 calendrier opérations'!AV29) | CC29: =IF('2017 calendrier opérations'!AW29="","",'2017 calendrier opérations'!AW29)
A30: 42763 | H30: 42794 | I30: Séjour Darna | O30: 42822 | V30: 42853 | AC30: 42883 | AJ30: 42914 | AK30: Am F Mdp | AQ30: 42944 | AX30: 42975 | BE30: 43006 | BL30: 43036 | BS30: 43067 | BZ30: 43097 | CA30: =IF('2017 calendrier opérations'!AU30="","",'2017 calendrier opérations'!AU30) | CB30: =IF('2017 calendrier opérations'!AV30="","",'2017 calendrier opérations'!AV30) | CC30: =IF('2017 calendrier opérations'!AW30="","",'2017 calendrier opérations'!AW30)
A31: 42764 | O31: 42823 | P31: Allez Les Filles Mdp | V31: 42854 | W31: Allez Les Filles Mdp | AC31: 42884 | AJ31: 42915 | AQ31: 42945 | AX31: 42976 | BE31: 43007 | BL31: 43037 | BS31: 43068 | BZ31: 43098 | CA31: =IF('2017 calendrier opérations'!AU31="","",'2017 calendrier opérations'!AU31) | CB31: =IF('2017 calendrier opérations'!AV31="","",'2017 calendrier opérations'!AV31) | CC31: =IF('2017 calendrier opérations'!AW31="","",'2017 calendrier opérations'!AW31)
A32: 42765 | O32: 42824 | V32: 42855 | AC32: 42885 | AJ32: 42916 | AQ32: 42946 | AX32: 42977 | BE32: 43008 | BL32: 43038 | BS32: 43069 | BZ32: 43099 | CA32: =IF('2017 calendrier opérations'!AU32="","",'2017 calendrier opérations'!AU32) | CB32: =IF('2017 calendrier opérations'!AV32="","",'2017 calendrier opérations'!AV32) | CC32: =IF('2017 calendrier opérations'!AW32="","",'2017 calendrier opérations'!AW32)
A33: 42766 | O33: 42825 | AC33: 42886 | AD33: Tournoi Reverdy | AQ33: 42947 | AX33: 42978 | BL33: 43039 | BZ33: 43100 | CA33: =IF('2017 calendrier opérations'!AU33="","",'2017 calendrier opérations'!AU33) | CB33: =IF('2017 calendrier opérations'!AV33="","",'2017 calendrier opérations'!AV33) | CC33: =IF('2017 calendrier opérations'!AW33="","",'2017 calendrier opérations'!AW33)
BZ34: =IF('2017 calendrier opérations'!AT34="","",'2017 calendrier opérations'!AT34) | CA34: =IF('2017 calendrier opérations'!AU34="","",'2017 calendrier opérations'!AU34) | CB34: =IF('2017 calendrier opérations'!AV34="","",'2017 calendrier opérations'!AV34) | CC34: =IF('2017 calendrier opérations'!AW34="","",'2017 calendrier opérations'!AW34)
BZ35: =IF('2017 calendrier opérations'!AT35="","",'2017 calendrier opérations'!AT35) | CA35: =IF('2017 calendrier opérations'!AU35="","",'2017 calendrier opérations'!AU35) | CB35: =IF('2017 calendrier opérations'!AV35="","",'2017 calendrier opérations'!AV35) | CC35: =IF('2017 calendrier opérations'!AW35="","",'2017 calendrier opérations'!AW35)

Sheet Evnmt
A1: Journée F Cdy | B1: 8 | C1: =IF(ISERROR(VLOOKUP(A1,'Suivi des engagements'!$A$4:$B$24,2,0)),"pas d'engagement",B1) -> 8 | D1: =IF(AND(A2<>"",A1=A2),"EFFACER","") | E1: =RIGHT(A1,4) -> Cdy | F1: en colonne A les événements (dispo jusqu’à la ligne 50)
A2: Ope Caritative Cdy | B2: 2 | C2: =IF(ISERROR(VLOOKUP(A2,'Suivi des engagements'!$A$4:$B$24,2,0)),"pas d'engagement",B2) -> 2 | D2: =IF(AND(A3<>"",A2=A3),"EFFACER","") | E2: =RIGHT(A2,4) -> Cdy | F2: en colonne B les engagements souscrits
A3: Tournoi Filles Cdy | B3: 1 | C3: =IF(ISERROR(VLOOKUP(A3,'Suivi des engagements'!$A$4:$B$24,2,0)),"pas d'engagement",B3) -> 1 | D3: =IF(AND(A4<>"",A3=A4),"EFFACER","") | E3: =RIGHT(A3,4) -> Cdy | F3: en colonne C les engagements souscrits et événements sans engagement
A4: Tournoi Hand Cdy | B4: 1 | C4: =IF(ISERROR(VLOOKUP(A4,'Suivi des engagements'!$A$4:$B$24,2,0)),"pas d'engagement",B4) -> 1 | D4: =IF(AND(A5<>"",A4=A5),"EFFACER","") | E4: =RIGHT(A4,4) -> Cdy
A5: Vacances F Cdy | B5: 4 | C5: =IF(ISERROR(VLOOKUP(A5,'Suivi des engagements'!$A$4:$B$24,2,0)),"pas d'engagement",B5) -> 4 | D5: =IF(AND(A6<>"",A5=A6),"EFFACER","") | E5: =RIGHT(A5,4) -> Cdy
A6: Allez Les Filles Mdp | B6: 15 | C6: =IF(ISERROR(VLOOKUP(A6,'Suivi des engagements'!$A$4:$B$24,2,0)),"pas d'engagement",B6) -> 15 | D6: =IF(AND(A7<>"",A6=A7),"EFFACER","") | E6: =RIGHT(A6,4) -> Mdp
A7: Am F Mdp | B7: 8 | C7: =IF(ISERROR(VLOOKUP(A7,'Suivi des engagements'!$A$4:$B$24,2,0)),"pas d'engagement",B7) -> 8 | D7: =IF(AND(A8<>"",A7=A8),"EFFACER","") | E7: =RIGHT(A7,4) -> Mdp
A8: Journée F Mdp | B8: 10 | C8: =IF(ISERROR(VLOOKUP(A8,'Suivi des engagements'!$A$4:$B$24,2,0)),"pas d'engagement",B8) -> 10 | D8: =IF(AND(A9<>"",A8=A9),"EFFACER","") | E8: =RIGHT(A8,4) -> Mdp
A9: Ope Caritative Mdp | B9: 2 | C9: =IF(ISERROR(VLOOKUP(A9,'Suivi des engagements'!$A$4:$B$24,2,0)),"pas d'engagement",B9) -> 2 | D9: =IF(AND(A10<>"",A9=A10),"EFFACER","") | E9: =RIGHT(A9,4) -> Mdp
A10: Vacances Alf Mdp | B10: 1 | C10: =IF(ISERROR(VLOOKUP(A10,'Suivi des engagements'!$A$4:$B$24,2,0)),"pas d'engagement",B10) -> 1 | D10: =IF(AND(A11<>"",A10=A11),"EFFACER","") | E10: =RIGHT(A10,4) -> Mdp
A11: Vacances F Mdp | B11: 3 | C11: =IF(ISERROR(VLOOKUP(A11,'Suivi des engagements'!$A$4:$B$24,2,0)),"pas d'engagement",B11) -> 3 | D11: =IF(AND(A12<>"",A11=A12),"EFFACER","") | E11: =RIGHT(A11,4) -> Mdp
A12: Op. Secours Populaire | B12: 0 | C12: =IF(ISERROR(VLOOKUP(A12,'Suivi des engagements'!$A$4:$B$24,2,0)),"pas d'engagement",B12) -> pas d'engagement | D12: =IF(AND(A13<>"",A12=A13),"EFFACER","") | E12: =RIGHT(A12,4) -> aire
A13: Mission Locale | B13: 0 | C13: =IF(ISERROR(VLOOKUP(A13,'Suivi des engagements'!$A$4:$B$24,2,0)),"pas d'engagement",B13) -> pas d'engagement | D13: =IF(AND(A14<>"",A13=A14),"EFFACER","") | E13: =RIGHT(A13,4) -> ale
A14: Journée Des Enfants | B14: 1 | C14: =IF(ISERROR(VLOOKUP(A14,'Suivi des engagements'!$A$4:$B$24,2,0)),"pas d'engagement",B14) -> 1 | D14: =IF(AND(A15<>"",A14=A15),"EFFACER","") | E14: =RIGHT(A14,4) -> ants
A15: Séjour Darna | B15: 0 | C15: =IF(ISERROR(VLOOKUP(A15,'Suivi des engagements'!$A$4:$B$24,2,0)),"pas d'engagement",B15) -> pas d'engagement | D15: =IF(AND(A16<>"",A15=A16),"EFFACER","") | E15: =RIGHT(A15,4) -> arna
... A30: Contrat Apprentissage | B30: 5 | C30: =IF(ISERROR(VLOOKUP(A30,'Suivi des engagements'!$A$4:$B$24,2,0)),"pas d'engagement",B30) -> 5 | D30: =IF(AND(A31<>"",A30=A31),"EFFACER","") | E30: =RIGHT(A30,4) -> sage
D31: =IF(AND(A32<>"",A31=A32),"EFFACER","") | E31: =RIGHT(A31,4)
D32: =IF(AND(A33<>"",A32=A33),"EFFACER","") | E32: =RIGHT(A32,4)
D33: =IF(AND(A34<>"",A33=A34),"EFFACER","") | E33: =RIGHT(A33,4)
D34: =IF(AND(A35<>"",A34=A35),"EFFACER","") | E34: =RIGHT(A34,4)
D35: =IF(AND(A36<>"",A35=A36),"EFFACER","") | E35: =RIGHT(A35,4)
D36: =IF(AND(A37<>"",A36=A37),"EFFACER","") | E36: =RIGHT(A36,4)
D37: =IF(AND(A38<>"",A37=A38),"EFFACER","") | E37: =RIGHT(A37,4)
D38: =IF(AND(A39<>"",A38=A39),"EFFACER","") | E38: =RIGHT(A38,4)
D39: =IF(AND(A40<>"",A39=A40),"EFFACER","") | E39: =RIGHT(A39,4)
D40: =IF(AND(A41<>"",A40=A41),"EFFACER","") | E40: =RIGHT(A40,4)
D41: =IF(AND(A42<>"",A41=A42),"EFFACER","") | E41: =RIGHT(A41,4)
D42: =IF(AND(A43<>"",A42=A43),"EFFACER","") | E42: =RIGHT(A42,4)
... D50: =IF(AND(A51<>"",A50=A51),"EFFACER","") | E50: =RIGHT(A50,4)
