Workbook

Sheet EXPORT LMxt Acces au Manquants
A1: N° colis | B1: N° OP | C1: N° ligne OP | D1: Etat | E1: Article | F1: Secteur | G1: Adresse | H1: Manquant saisi le | I1: Société | J1: Unité logistique | K1: Motif manquant | L1: Traitement particulier | M1: Nb relevés | N1: Traçabilité | O1: Manquant saisi par | P1: Préparé le | Q1: Préparé par | R1: Modifié le | S1: Modifié dans | T1: Modifié par | U1: N° colis automate | V1: N° kit | W1: Unité des quantités | X1: Quantité colisée | Y1: Quantité par paquet | Z1: Quantité préparée | AA1: Quantité déjà préparée | AB1: Quantité par kit | AC1: Relevés à faire | AD1: Relevés gérés | AE1: Manquant à vérifier | AF1: Colisage | AG1: Ligne | AH1: N° contrôle | AI1: manquants | AO1: A01 | AR1: =SUM(AO:AO) -> 2 | AS1: A02 | AV1: =SUM(AS:AS) -> 1 | AW1: A03 | AZ1: =SUM(AW:AW) -> 2 | BA1: A04 | BD1: =SUM(BA:BA) -> 0 | BE1: A05 | BH1: =SUM(BE:BE) -> 0 | BI1: A06 | BL1: =SUM(BI:BI) -> 1 | BM1: F01 | BP1: =SUM(BM:BM) -> 5 | BQ1: F02 | BT1: =SUM(BQ:BQ) -> 0 | BU1: F03 | BX1: =SUM(BU:BU) -> 7 | BY1: F04 | CB1: =SUM(BY:BY) -> 1 | CC1: F05 | CF1: =SUM(CC:CC) -> 52 | CG1: SURG | CJ1: =SUM(CG:CG) -> 103 | CK1: G2P_A | CN1: =SUM(CK:CK) -> 95 | CO1: G2P_F | CR1: =SUM(CO:CO) -> 83
A2: 039999900121162845 | B2: 5703975 | C2: 00015 | D2: Préparé | E2: 1457 | F2: G2P_A | G2: PAA.01.01.01.A | H2: 27/06/2018 18:00:31 | I2: ad001 | J2: UVC | K2: Mvt manquant WCS | L2: Non | M2: 0 | N2: 0 | O2: Tâche | P2: 27/06/2018 18:00:31 | Q2: Tâche | R2: 27/06/2018 18:00:31 | S2: 39 | T2: -1 | U2: 12116284 | X2: 1 | Y2: 1 | Z2: 0 | AA2: 0 | AB2: 0 | AE2: Non | AG2: 4 | AH2: 2 | AI2: =SUM(X:X-Z:Z) -> 1 | AK2: =SUM(AI:AI) -> 352 | AO2: =IF(AND($AI2>0,$F2=AO$1),$AI2,"") | AP2: =IFERROR(LARGE(AO:AO,ROW()-1),"") -> 1 | AQ2: =IF(AP2="","",IF(AP2=AP1,MATCH(AP2,INDIRECT("CO"&CONCATENATE(AQ1+1,":CO300"),1),0)+AQ1,MATCH(AP2,AO:AO,0))) -> 91 | AS2: =IF(AND($AI2>0,$F2=AS$1),$AI2,"") | AT2: =IFERROR(LARGE(AS:AS,ROW()-1),"") -> 1 | AU2: =IF(AT2="","",IF(AT2=AT1,MATCH(AT2,INDIRECT("CO"&CONCATENATE(AU1+1,":CO300"),1),0)+AU1,MATCH(AT2,AS:AS,0))) -> 168 | AW2: =IF(AND($AI2>0,$F2=AW$1),$AI2,"") | AX2: =IFERROR(LARGE(AW:AW,ROW()-1),"") -> 1 | AY2: =IF(AX2="","",IF(AX2=AX1,MATCH(AX2,INDIRECT("CO"&CONCATENATE(AY1+1,":CO300"),1),0)+AY1,MATCH(AX2,AW:AW,0))) -> 94 | BA2: =IF(AND($AI2>0,$F2=BA$1),$AI2,"") | BB2: =IFERROR(LARGE(BA:BA,ROW()-1),"") | BC2: =IF(BB2="","",IF(BB2=BB1,MATCH(BB2,INDIRECT("CO"&CONCATENATE(BC1+1,":CO300"),1),0)+BC1,MATCH(BB2,BA:BA,0))) | BE2: =IF(AND($AI2>0,$F2=BE$1),$AI2,"") | BF2: =IFERROR(LARGE(BE:BE,ROW()-1),"") | BG2: =IF(BF2="","",IF(BF2=BF1,MATCH(BF2,INDIRECT("CO"&CONCATENATE(BG1+1,":CO300"),1),0)+BG1,MATCH(BF2,BE:BE,0))) | BI2: =IF(AND($AI2>0,$F2=BI$1),$AI2,"") | BJ2: =IFERROR(LARGE(BI:BI,ROW()-1),"") -> 1 | BK2: =IF(BJ2="","",IF(BJ2=BJ1,MATCH(BJ2,INDIRECT("CO"&CONCATENATE(BK1+1,":CO300"),1),0)+BK1,MATCH(BJ2,BI:BI,0))) -> 42 | BM2: =IF(AND($AI2>0,$F2=BM$1),$AI2,"") | BN2: =IFERROR(LARGE(BM:BM,ROW()-1),"") -> 2 | BO2: =IF(BN2="","",IF(BN2=BN1,MATCH(BN2,INDIRECT("CO"&CONCATENATE(BO1+1,":CO300"),1),0)+BO1,MATCH(BN2,BM:BM,0))) -> 286 | BQ2: =IF(AND($AI2>0,$F2=BQ$1),$AI2,"") | BR2: =IFERROR(LARGE(BQ:BQ,ROW()-1),"") | BS2: =IF(BR2="","",IF(BR2=BR1,MATCH(BR2,INDIRECT("CO"&CONCATENATE(BS1+1,":CO300"),1),0)+BS1,MATCH(BR2,BQ:BQ,0))) | BU2: =IF(AND($AI2>0,$F2=BU$1),$AI2,"") | BV2: =IFERROR(LARGE(BU:BU,ROW()-1),"") -> 1 | BW2: =IF(BV2="","",IF(BV2=BV1,MATCH(BV2,INDIRECT("CO"&CONCATENATE(BW1+1,":CO300"),1),0)+BW1,MATCH(BV2,BU:BU,0))) -> 21 | BY2: =IF(AND($AI2>0,$F2=BY$1),$AI2,"") | BZ2: =IFERROR(LARGE(BY:BY,ROW()-1),"") -> 1 | CA2: =IF(BZ2="","",IF(BZ2=BZ1,MATCH(BZ2,INDIRECT("CO"&CONCATENATE(CA1+1,":CO300"),1),0)+CA1,MATCH(BZ2,BY:BY,0))) -> 35 | CC2: =IF(AND($AI2>0,$F2=CC$1),$AI2,"") | CD2: =IFERROR(LARGE(CC:CC,ROW()-1),"") -> 3 | CE2: =IF(CD2="","",IF(CD2=CD1,MATCH(CD2,INDIRECT("CO"&CONCATENATE(CE1+1,":CO300"),1),0)+CE1,MATCH(CD2,CC:CC,0))) -> 138 | CG2: =IF(AND($AI2>0,$F2=CG$1),$AI2,"") | CH2: =IFERROR(LARGE(CG:CG,ROW()-1),"") -> 3 | CI2: =IF(CH2="","",IF(CH2=CH1,MATCH(CH2,INDIRECT("CO"&CONCATENATE(CI1+1,":CO300"),1),0)+CI1,MATCH(CH2,CG:CG,0))) -> 231 | CK2: =IF(AND($AI2>0,$F2=CK$1),$AI2,"") -> 1 | CL2: =IFERROR(LARGE(CK:CK,ROW()-1),"") -> 8 | CM2: =IF(CL2="","",IF(CL2=CL1,MATCH(CL2,INDIRECT("CO"&CONCATENATE(CM1+1,":CO300"),1),0)+CM1,MATCH(CL2,CK:CK,0))) -> 247 | CO2: =IF(AND($AI2>0,$F2=CO$1),$AI2,"") | CP2: =IFERROR(LARGE(CO:CO,ROW()-1),"") -> 3 | CQ2: =IF(CP2="","",IF(CP2=CP1,MATCH(CP2,INDIRECT("CO"&CONCATENATE(CQ1+1,":CO300"),1),0)+CQ1,MATCH(CP2,CO:CO,0))) -> 64
A3: 039999900121092319 | B3: 5702590 | C3: 00017 | D3: Préparé | E3: 55577 | F3: SURG | G3: PCS.04.46.04.A | H3: 27/06/2018 17:33:31 | I3: ad001 | J3: UVC | L3: Non | M3: 0 | N3: 0 | O3: ANAMIGAN | P3: 01/01/1990 12:00:00 | Q3: 0 | R3: 27/06/2018 17:33:31 | S3: 109 | T3: 7224 | U3: 12109231 | X3: 1 | Y3: 1 | Z3: 0 | AA3: 0 | AB3: 0 | AE3: Non | AG3: 3 | AI3: =SUM(X:X-Z:Z) -> 1 | AO3: =IF(AND($AI3>0,$F3=AO$1),$AI3,"") | AP3: =IFERROR(LARGE(AO:AO,ROW()-1),"") -> 1 | AQ3: =IF(AP3="","",IF(AP3=AP2,MATCH(AP3,INDIRECT("CO"&CONCATENATE(AQ2+1,":CO300"),1),0)+AQ2,MATCH(AP3,AO:AO,0))) -> 97 | AS3: =IF(AND($AI3>0,$F3=AS$1),$AI3,"") | AT3: =IFERROR(LARGE(AS:AS,ROW()-1),"") | AU3: =IF(AT3="","",IF(AT3=AT2,MATCH(AT3,INDIRECT("CO"&CONCATENATE(AU2+1,":CO300"),1),0)+AU2,MATCH(AT3,AS:AS,0))) | AW3: =IF(AND($AI3>0,$F3=AW$1),$AI3,"") | AX3: =IFERROR(LARGE(AW:AW,ROW()-1),"") -> 1 | AY3: =IF(AX3="","",IF(AX3=AX2,MATCH(AX3,INDIRECT("CO"&CONCATENATE(AY2+1,":CO300"),1),0)+AY2,MATCH(AX3,AW:AW,0))) -> 97 | BA3: =IF(AND($AI3>0,$F3=BA$1),$AI3,"") | BB3: =IFERROR(LARGE(BA:BA,ROW()-1),"") | BC3: =IF(BB3="","",IF(BB3=BB2,MATCH(BB3,INDIRECT("CO"&CONCATENATE(BC2+1,":CO300"),1),0)+BC2,MATCH(BB3,BA:BA,0))) | BE3: =IF(AND($AI3>0,$F3=BE$1),$AI3,"") | BF3: =IFERROR(LARGE(BE:BE,ROW()-1),"") | BG3: =IF(BF3="","",IF(BF3=BF2,MATCH(BF3,INDIRECT("CO"&CONCATENATE(BG2+1,":CO300"),1),0)+BG2,MATCH(BF3,BE:BE,0))) | BI3: =IF(AND($AI3>0,$F3=BI$1),$AI3,"") | BJ3: =IFERROR(LARGE(BI:BI,ROW()-1),"") | BK3: =IF(BJ3="","",IF(BJ3=BJ2,MATCH(BJ3,INDIRECT("CO"&CONCATENATE(BK2+1,":CO300"),1),0)+BK2,MATCH(BJ3,BI:BI,0))) | BM3: =IF(AND($AI3>0,$F3=BM$1),$AI3,"") | BN3: =IFERROR(LARGE(BM:BM,ROW()-1),"") -> 1 | BO3: =IF(BN3="","",IF(BN3=BN2,MATCH(BN3,INDIRECT("CO"&CONCATENATE(BO2+1,":CO300"),1),0)+BO2,MATCH(BN3,BM:BM,0))) -> 283 | BQ3: =IF(AND($AI3>0,$F3=BQ$1),$AI3,"") | BR3: =IFERROR(LARGE(BQ:BQ,ROW()-1),"") | BS3: =IF(BR3="","",IF(BR3=BR2,MATCH(BR3,INDIRECT("CO"&CONCATENATE(BS2+1,":CO300"),1),0)+BS2,MATCH(BR3,BQ:BQ,0))) | BU3: =IF(AND($AI3>0,$F3=BU$1),$AI3,"") | BV3: =IFERROR(LARGE(BU:BU,ROW()-1),"") -> 1 | BW3: =IF(BV3="","",IF(BV3=BV2,MATCH(BV3,INDIRECT("CO"&CONCATENATE(BW2+1,":CO300"),1),0)+BW2,MATCH(BV3,BU:BU,0))) -> 39 | BY3: =IF(AND($AI3>0,$F3=BY$1),$AI3,"") | BZ3: =IFERROR(LARGE(BY:BY,ROW()-1),"") | CA3: =IF(BZ3="","",IF(BZ3=BZ2,MATCH(BZ3,INDIRECT("CO"&CONCATENATE(CA2+1,":CO300"),1),0)+CA2,MATCH(BZ3,BY:BY,0))) | CC3: =IF(AND($AI3>0,$F3=CC$1),$AI3,"") | CD3: =IFERROR(LARGE(CC:CC,ROW()-1),"") -> 2 | CE3: =IF(CD3="","",IF(CD3=CD2,MATCH(CD3,INDIRECT("CO"&CONCATENATE(CE2+1,":CO300"),1),0)+CE2,MATCH(CD3,CC:CC,0))) -> 106 | CG3: =IF(AND($AI3>0,$F3=CG$1),$AI3,"") -> 1 | CH3: =IFERROR(LARGE(CG:CG,ROW()-1),"") -> 2 | CI3: =IF(CH3="","",IF(CH3=CH2,MATCH(CH3,INDIRECT("CO"&CONCATENATE(CI2+1,":CO300"),1),0)+CI2,MATCH(CH3,CG:CG,0))) -> 25 | CK3: =IF(AND($AI3>0,$F3=CK$1),$AI3,"") | CL3: =IFERROR(LARGE(CK:CK,ROW()-1),"") -> 3 | CM3: =IF(CL3="","",IF(CL3=CL2,MATCH(CL3,INDIRECT("CO"&CONCATENATE(CM2+1,":CO300"),1),0)+CM2,MATCH(CL3,CK:CK,0))) -> 59 | CO3: =IF(AND($AI3>0,$F3=CO$1),$AI3,"") | CP3: =IFERROR(LARGE(CO:CO,ROW()-1),"") -> 3 | CQ3: =IF(CP3="","",IF(CP3=CP2,MATCH(CP3,INDIRECT("CO"&CONCATENATE(CQ2+1,":CO300"),1),0)+CQ2,MATCH(CP3,CO:CO,0))) -> 83
A4: 039999900121056762 | B4: 5698269 | C4: 00014 | D4: Préparé | E4: 142643 | F4: SURG | G4: PCS.04.36.00.B | H4: 27/06/2018 17:33:10 | I4: ad001 | J4: UVC | L4: Non | M4: 0 | N4: 0 | O4: ANAMIGAN | P4: 01/01/1990 12:00:00 | Q4: 0 | R4: 27/06/2018 17:33:10 | S4: 109 | T4: 7224 | U4: 12105676 | X4: 1 | Y4: 1 | Z4: 0 | AA4: 0 | AB4: 0 | AE4: Non | AG4: 4 | AI4: =SUM(X:X-Z:Z) -> 1 | AO4: =IF(AND($AI4>0,$F4=AO$1),$AI4,"") | AP4: =IFERROR(LARGE(AO:AO,ROW()-1),"") | AQ4: =IF(AP4="","",IF(AP4=AP3,MATCH(AP4,INDIRECT("CO"&CONCATENATE(AQ3+1,":CO300"),1),0)+AQ3,MATCH(AP4,AO:AO,0))) | AS4: =IF(AND($AI4>0,$F4=AS$1),$AI4,"") | AT4: =IFERROR(LARGE(AS:AS,ROW()-1),"") | AU4: =IF(AT4="","",IF(AT4=AT3,MATCH(AT4,INDIRECT("CO"&CONCATENATE(AU3+1,":CO300"),1),0)+AU3,MATCH(AT4,AS:AS,0))) | AW4: =IF(AND($AI4>0,$F4=AW$1),$AI4,"") | AX4: =IFERROR(LARGE(AW:AW,ROW()-1),"") | AY4: =IF(AX4="","",IF(AX4=AX3,MATCH(AX4,INDIRECT("CO"&CONCATENATE(AY3+1,":CO300"),1),0)+AY3,MATCH(AX4,AW:AW,0))) | BA4: =IF(AND($AI4>0,$F4=BA$1),$AI4,"") | BB4: =IFERROR(LARGE(BA:BA,ROW()-1),"") | BC4: =IF(BB4="","",IF(BB4=BB3,MATCH(BB4,INDIRECT("CO"&CONCATENATE(BC3+1,":CO300"),1),0)+BC3,MATCH(BB4,BA:BA,0))) | BE4: =IF(AND($AI4>0,$F4=BE$1),$AI4,"") | BF4: =IFERROR(LARGE(BE:BE,ROW()-1),"") | BG4: =IF(BF4="","",IF(BF4=BF3,MATCH(BF4,INDIRECT("CO"&CONCATENATE(BG3+1,":CO300"),1),0)+BG3,MATCH(BF4,BE:BE,0))) | BI4: =IF(AND($AI4>0,$F4=BI$1),$AI4,"") | BJ4: =IFERROR(LARGE(BI:BI,ROW()-1),"") | BK4: =IF(BJ4="","",IF(BJ4=BJ3,MATCH(BJ4,INDIRECT("CO"&CONCATENATE(BK3+1,":CO300"),1),0)+BK3,MATCH(BJ4,BI:BI,0))) | BM4: =IF(AND($AI4>0,$F4=BM$1),$AI4,"") | BN4: =IFERROR(LARGE(BM:BM,ROW()-1),"") -> 1 | BO4: =IF(BN4="","",IF(BN4=BN3,MATCH(BN4,INDIRECT("CO"&CONCATENATE(BO3+1,":CO300"),1),0)+BO3,MATCH(BN4,BM:BM,0))) -> 293 | BQ4: =IF(AND($AI4>0,$F4=BQ$1),$AI4,"") | BR4: =IFERROR(LARGE(BQ:BQ,ROW()-1),"") | BS4: =IF(BR4="","",IF(BR4=BR3,MATCH(BR4,INDIRECT("CO"&CONCATENATE(BS3+1,":CO300"),1),0)+BS3,MATCH(BR4,BQ:BQ,0))) | BU4: =IF(AND($AI4>0,$F4=BU$1),$AI4,"") | BV4: =IFERROR(LARGE(BU:BU,ROW()-1),"") -> 1 | BW4: =IF(BV4="","",IF(BV4=BV3,MATCH(BV4,INDIRECT("CO"&CONCATENATE(BW3+1,":CO300"),1),0)+BW3,MATCH(BV4,BU:BU,0))) -> 43 | BY4: =IF(AND($AI4>0,$F4=BY$1),$AI4,"") | BZ4: =IFERROR(LARGE(BY:BY,ROW()-1),"") | CA4: =IF(BZ4="","",IF(BZ4=BZ3,MATCH(BZ4,INDIRECT("CO"&CONCATENATE(CA3+1,":CO300"),1),0)+CA3,MATCH(BZ4,BY:BY,0))) | CC4: =IF(AND($AI4>0,$F4=CC$1),$AI4,"") | CD4: =IFERROR(LARGE(CC:CC,ROW()-1),"") -> 2 | CE4: =IF(CD4="","",IF(CD4=CD3,MATCH(CD4,INDIRECT("CO"&CONCATENATE(CE3+1,":CO300"),1),0)+CE3,MATCH(CD4,CC:CC,0))) -> 150 | CG4: =IF(AND($AI4>0,$F4=CG$1),$AI4,"") -> 1 | CH4: =IFERROR(LARGE(CG:CG,ROW()-1),"") -> 2 | CI4: =IF(CH4="","",IF(CH4=CH3,MATCH(CH4,INDIRECT("CO"&CONCATENATE(CI3+1,":CO300"),1),0)+CI3,MATCH(CH4,CG:CG,0))) -> 44 | CK4: =IF(AND($AI4>0,$F4=CK$1),$AI4,"") | CL4: =IFERROR(LARGE(CK:CK,ROW()-1),"") -> 3 | CM4: =IF(CL4="","",IF(CL4=CL3,MATCH(CL4,INDIRECT("CO"&CONCATENATE(CM3+1,":CO300"),1),0)+CM3,MATCH(CL4,CK:CK,0))) -> 64 | CO4: =IF(AND($AI4>0,$F4=CO$1),$AI4,"") | CP4: =IFERROR(LARGE(CO:CO,ROW()-1),"") -> 3 | CQ4: =IF(CP4="","",IF(CP4=CP3,MATCH(CP4,INDIRECT("CO"&CONCATENATE(CQ3+1,":CO300"),1),0)+CQ3,MATCH(CP4,CO:CO,0))) -> 256
A5: 039999900121059220 | B5: 5700270 | C5: 00017 | D5: Préparé | E5: 135543 | F5: SURG | G5: PCS.03.14.01.A | H5: 27/06/2018 17:32:49 | I5: ad001 | J5: UVC | L5: Non | M5: 0 | N5: 0 | O5: ANAMIGAN | P5: 01/01/1990 12:00:00 | Q5: 0 | R5: 27/06/2018 17:32:49 | S5: 109 | T5: 7224 | U5: 12105922 | X5: 1 | Y5: 1 | Z5: 0 | AA5: 0 | AB5: 0 | AE5: Non | AG5: 2 | AI5: =SUM(X:X-Z:Z) -> 1 | AO5: =IF(AND($AI5>0,$F5=AO$1),$AI5,"") | AP5: =IFERROR(LARGE(AO:AO,ROW()-1),"") | AQ5: =IF(AP5="","",IF(AP5=AP4,MATCH(AP5,INDIRECT("CO"&CONCATENATE(AQ4+1,":CO300"),1),0)+AQ4,MATCH(AP5,AO:AO,0))) | AS5: =IF(AND($AI5>0,$F5=AS$1),$AI5,"") | AT5: =IFERROR(LARGE(AS:AS,ROW()-1),"") | AU5: =IF(AT5="","",IF(AT5=AT4,MATCH(AT5,INDIRECT("CO"&CONCATENATE(AU4+1,":CO300"),1),0)+AU4,MATCH(AT5,AS:AS,0))) | AW5: =IF(AND($AI5>0,$F5=AW$1),$AI5,"") | AX5: =IFERROR(LARGE(AW:AW,ROW()-1),"") | AY5: =IF(AX5="","",IF(AX5=AX4,MATCH(AX5,INDIRECT("CO"&CONCATENATE(AY4+1,":CO300"),1),0)+AY4,MATCH(AX5,AW:AW,0))) | BA5: =IF(AND($AI5>0,$F5=BA$1),$AI5,"") | BB5: =IFERROR(LARGE(BA:BA,ROW()-1),"") | BC5: =IF(BB5="","",IF(BB5=BB4,MATCH(BB5,INDIRECT("CO"&CONCATENATE(BC4+1,":CO300"),1),0)+BC4,MATCH(BB5,BA:BA,0))) | BE5: =IF(AND($AI5>0,$F5=BE$1),$AI5,"") | BF5: =IFERROR(LARGE(BE:BE,ROW()-1),"") | BG5: =IF(BF5="","",IF(BF5=BF4,MATCH(BF5,INDIRECT("CO"&CONCATENATE(BG4+1,":CO300"),1),0)+BG4,MATCH(BF5,BE:BE,0))) | BI5: =IF(AND($AI5>0,$F5=BI$1),$AI5,"") | BJ5: =IFERROR(LARGE(BI:BI,ROW()-1),"") | BK5: =IF(BJ5="","",IF(BJ5=BJ4,MATCH(BJ5,INDIRECT("CO"&CONCATENATE(BK4+1,":CO300"),1),0)+BK4,MATCH(BJ5,BI:BI,0))) | BM5: =IF(AND($AI5>0,$F5=BM$1),$AI5,"") | BN5: =IFERROR(LARGE(BM:BM,ROW()-1),"") -> 1 | BO5: =IF(BN5="","",IF(BN5=BN4,MATCH(BN5,INDIRECT("CO"&CONCATENATE(BO4+1,":CO300"),1),0)+BO4,MATCH(BN5,BM:BM,0))) -> 295 | BQ5: =IF(AND($AI5>0,$F5=BQ$1),$AI5,"") | BR5: =IFERROR(LARGE(BQ:BQ,ROW()-1),"") | BS5: =IF(BR5="","",IF(BR5=BR4,MATCH(BR5,INDIRECT("CO"&CONCATENATE(BS4+1,":CO300"),1),0)+BS4,MATCH(BR5,BQ:BQ,0))) | BU5: =IF(AND($AI5>0,$F5=BU$1),$AI5,"") | BV5: =IFERROR(LARGE(BU:BU,ROW()-1),"") -> 1 | BW5: =IF(BV5="","",IF(BV5=BV4,MATCH(BV5,INDIRECT("CO"&CONCATENATE(BW4+1,":CO300"),1),0)+BW4,MATCH(BV5,BU:BU,0))) -> 46 | BY5: =IF(AND($AI5>0,$F5=BY$1),$AI5,"") | BZ5: =IFERROR(LARGE(BY:BY,ROW()-1),"") | CA5: =IF(BZ5="","",IF(BZ5=BZ4,MATCH(BZ5,INDIRECT("CO"&CONCATENATE(CA4+1,":CO300"),1),0)+CA4,MATCH(BZ5,BY:BY,0))) | CC5: =IF(AND($AI5>0,$F5=CC$1),$AI5,"") | CD5: =IFERROR(LARGE(CC:CC,ROW()-1),"") -> 2 | CE5: =IF(CD5="","",IF(CD5=CD4,MATCH(CD5,INDIRECT("CO"&CONCATENATE(CE4+1,":CO300"),1),0)+CE4,MATCH(CD5,CC:CC,0))) -> 184 | CG5: =IF(AND($AI5>0,$F5=CG$1),$AI5,"") -> 1 | CH5: =IFERROR(LARGE(CG:CG,ROW()-1),"") -> 2 | CI5: =IF(CH5="","",IF(CH5=CH4,MATCH(CH5,INDIRECT("CO"&CONCATENATE(CI4+1,":CO300"),1),0)+CI4,MATCH(CH5,CG:CG,0))) -> 45 | CK5: =IF(AND($AI5>0,$F5=CK$1),$AI5,"") | CL5: =IFERROR(LARGE(CK:CK,ROW()-1),"") -> 3 | CM5: =IF(CL5="","",IF(CL5=CL4,MATCH(CL5,INDIRECT("CO"&CONCATENATE(CM4+1,":CO300"),1),0)+CM4,MATCH(CL5,CK:CK,0))) -> 83 | CO5: =IF(AND($AI5>0,$F5=CO$1),$AI5,"") | CP5: =IFERROR(LARGE(CO:CO,ROW()-1),"") -> 3 | CQ5: =IF(CP5="","",IF(CP5=CP4,MATCH(CP5,INDIRECT("CO"&CONCATENATE(CQ4+1,":CO300"),1),0)+CQ4,MATCH(CP5,CO:CO,0))) -> 289
A6: 039999900121056793 | B6: 5698275 | C6: 00013 | D6: Préparé | E6: 142643 | F6: SURG | G6: PCS.04.36.00.B | H6: 27/06/2018 17:31:23 | I6: ad001 | J6: UVC | L6: Non | M6: 0 | N6: 0 | O6: ANAMIGAN | P6: 01/01/1990 12:00:00 | Q6: 0 | R6: 27/06/2018 17:31:23 | S6: 85 | T6: 7224 | U6: 12105679 | X6: 1 | Y6: 1 | Z6: 0 | AA6: 0 | AB6: 0 | AE6: Non | AG6: 4 | AI6: =SUM(X:X-Z:Z) -> 1 | AO6: =IF(AND($AI6>0,$F6=AO$1),$AI6,"") | AP6: =IFERROR(LARGE(AO:AO,ROW()-1),"") | AQ6: =IF(AP6="","",IF(AP6=AP5,MATCH(AP6,INDIRECT("CO"&CONCATENATE(AQ5+1,":CO300"),1),0)+AQ5,MATCH(AP6,AO:AO,0))) | AS6: =IF(AND($AI6>0,$F6=AS$1),$AI6,"") | AT6: =IFERROR(LARGE(AS:AS,ROW()-1),"") | AU6: =IF(AT6="","",IF(AT6=AT5,MATCH(AT6,INDIRECT("CO"&CONCATENATE(AU5+1,":CO300"),1),0)+AU5,MATCH(AT6,AS:AS,0))) | AW6: =IF(AND($AI6>0,$F6=AW$1),$AI6,"") | AX6: =IFERROR(LARGE(AW:AW,ROW()-1),"") | AY6: =IF(AX6="","",IF(AX6=AX5,MATCH(AX6,INDIRECT("CO"&CONCATENATE(AY5+1,":CO300"),1),0)+AY5,MATCH(AX6,AW:AW,0))) | BA6: =IF(AND($AI6>0,$F6=BA$1),$AI6,"") | BB6: =IFERROR(LARGE(BA:BA,ROW()-1),"") | BC6: =IF(BB6="","",IF(BB6=BB5,MATCH(BB6,INDIRECT("CO"&CONCATENATE(BC5+1,":CO300"),1),0)+BC5,MATCH(BB6,BA:BA,0))) | BE6: =IF(AND($AI6>0,$F6=BE$1),$AI6,"") | BF6: =IFERROR(LARGE(BE:BE,ROW()-1),"") | BG6: =IF(BF6="","",IF(BF6=BF5,MATCH(BF6,INDIRECT("CO"&CONCATENATE(BG5+1,":CO300"),1),0)+BG5,MATCH(BF6,BE:BE,0))) | BI6: =IF(AND($AI6>0,$F6=BI$1),$AI6,"") | BJ6: =IFERROR(LARGE(BI:BI,ROW()-1),"") | BK6: =IF(BJ6="","",IF(BJ6=BJ5,MATCH(BJ6,INDIRECT("CO"&CONCATENATE(BK5+1,":CO300"),1),0)+BK5,MATCH(BJ6,BI:BI,0))) | BM6: =IF(AND($AI6>0,$F6=BM$1),$AI6,"") | BN6: =IFERROR(LARGE(BM:BM,ROW()-1),"") | BO6: =IF(BN6="","",IF(BN6=BN5,MATCH(BN6,INDIRECT("CO"&CONCATENATE(BO5+1,":CO300"),1),0)+BO5,MATCH(BN6,BM:BM,0))) | BQ6: =IF(AND($AI6>0,$F6=BQ$1),$AI6,"") | BR6: =IFERROR(LARGE(BQ:BQ,ROW()-1),"") | BS6: =IF(BR6="","",IF(BR6=BR5,MATCH(BR6,INDIRECT("CO"&CONCATENATE(BS5+1,":CO300"),1),0)+BS5,MATCH(BR6,BQ:BQ,0))) | BU6: =IF(AND($AI6>0,$F6=BU$1),$AI6,"") | BV6: =IFERROR(LARGE(BU:BU,ROW()-1),"") -> 1 | BW6: =IF(BV6="","",IF(BV6=BV5,MATCH(BV6,INDIRECT("CO"&CONCATENATE(BW5+1,":CO300"),1),0)+BW5,MATCH(BV6,BU:BU,0))) -> 47 | BY6: =IF(AND($AI6>0,$F6=BY$1),$AI6,"") | BZ6: =IFERROR(LARGE(BY:BY,ROW()-1),"") | CA6: =IF(BZ6="","",IF(BZ6=BZ5,MATCH(BZ6,INDIRECT("CO"&CONCATENATE(CA5+1,":CO300"),1),0)+CA5,MATCH(BZ6,BY:BY,0))) | CC6: =IF(AND($AI6>0,$F6=CC$1),$AI6,"") | CD6: =IFERROR(LARGE(CC:CC,ROW()-1),"") -> 1 | CE6: =IF(CD6="","",IF(CD6=CD5,MATCH(CD6,INDIRECT("CO"&CONCATENATE(CE5+1,":CO300"),1),0)+CE5,MATCH(CD6,CC:CC,0))) -> 36 | CG6: =IF(AND($AI6>0,$F6=CG$1),$AI6,"") -> 1 | CH6: =IFERROR(LARGE(CG:CG,ROW()-1),"") -> 2 | CI6: =IF(CH6="","",IF(CH6=CH5,MATCH(CH6,INDIRECT("CO"&CONCATENATE(CI5+1,":CO300"),1),0)+CI5,MATCH(CH6,CG:CG,0))) -> 72 | CK6: =IF(AND($AI6>0,$F6=CK$1),$AI6,"") | CL6: =IFERROR(LARGE(CK:CK,ROW()-1),"") -> 3 | CM6: =IF(CL6="","",IF(CL6=CL5,MATCH(CL6,INDIRECT("CO"&CONCATENATE(CM5+1,":CO300"),1),0)+CM5,MATCH(CL6,CK:CK,0))) -> 256 | CO6: =IF(AND($AI6>0,$F6=CO$1),$AI6,"") | CP6: =IFERROR(LARGE(CO:CO,ROW()-1),"") -> 2 | CQ6: =IF(CP6="","",IF(CP6=CP5,MATCH(CP6,INDIRECT("CO"&CONCATENATE(CQ5+1,":CO300"),1),0)+CQ5,MATCH(CP6,CO:CO,0))) -> 44
A7: 039999900121140904 | B7: 5695210 | C7: 00031 | D7: Préparé | E7: 86010 | F7: G2P_F | G7: PAF.01.01.01.A | H7: 27/06/2018 17:30:28 | I7: ad001 | J7: UVC | K7: Mvt manquant WCS | L7: Non | M7: 0 | N7: 0 | O7: Tâche | P7: 27/06/2018 17:30:28 | Q7: Tâche | R7: 27/06/2018 17:30:28 | S7: 39 | T7: -1 | U7: 12114090 | X7: 1 | Y7: 1 | Z7: 0 | AA7: 0 | AB7: 0 | AD7: Date LC : Traçabilité totale | AE7: Non | AG7: 20 | AH7: 2 | AI7: =SUM(X:X-Z:Z) -> 1 | AO7: =IF(AND($AI7>0,$F7=AO$1),$AI7,"") | AS7: =IF(AND($AI7>0,$F7=AS$1),$AI7,"") | AW7: =IF(AND($AI7>0,$F7=AW$1),$AI7,"") | BA7: =IF(AND($AI7>0,$F7=BA$1),$AI7,"") | BE7: =IF(AND($AI7>0,$F7=BE$1),$AI7,"") | BI7: =IF(AND($AI7>0,$F7=BI$1),$AI7,"") | BM7: =IF(AND($AI7>0,$F7=BM$1),$AI7,"") | BQ7: =IF(AND($AI7>0,$F7=BQ$1),$AI7,"") | BU7: =IF(AND($AI7>0,$F7=BU$1),$AI7,"") | BY7: =IF(AND($AI7>0,$F7=BY$1),$AI7,"") | CC7: =IF(AND($AI7>0,$F7=CC$1),$AI7,"") | CG7: =IF(AND($AI7>0,$F7=CG$1),$AI7,"") | CK7: =IF(AND($AI7>0,$F7=CK$1),$AI7,"") | CO7: =IF(AND($AI7>0,$F7=CO$1),$AI7,"") -> 1
A8: 039999900121199926 | B8: 5706064 | C8: 00009 | D8: Préparé | E8: 1457 | F8: G2P_A | G8: PAA.01.01.01.A | H8: 27/06/2018 17:25:22 | I8: ad001 | J8: UVC | K8: Mvt manquant WCS | L8: Non | M8: 0 | N8: 0 | O8: Tâche | P8: 27/06/2018 17:25:22 | Q8: MBEN | R8: 27/06/2018 17:25:22 | S8: 39 | T8: -1 | U8: 12119992 | X8: 1 | Y8: 1 | Z8: 0 | AA8: 0 | AB8: 0 | AE8: Non | AG8: 7 | AH8: 2 | AI8: =SUM(X:X-Z:Z) -> 1 | AO8: =IF(AND($AI8>0,$F8=AO$1),$AI8,"") | AS8: =IF(AND($AI8>0,$F8=AS$1),$AI8,"") | AW8: =IF(AND($AI8>0,$F8=AW$1),$AI8,"") | BA8: =IF(AND($AI8>0,$F8=BA$1),$AI8,"") | BE8: =IF(AND($AI8>0,$F8=BE$1),$AI8,"") | BI8: =IF(AND($AI8>0,$F8=BI$1),$AI8,"") | BM8: =IF(AND($AI8>0,$F8=BM$1),$AI8,"") | BQ8: =IF(AND($AI8>0,$F8=BQ$1),$AI8,"") | BU8: =IF(AND($AI8>0,$F8=BU$1),$AI8,"") | BY8: =IF(AND($AI8>0,$F8=BY$1),$AI8,"") | CC8: =IF(AND($AI8>0,$F8=CC$1),$AI8,"") | CG8: =IF(AND($AI8>0,$F8=CG$1),$AI8,"") | CK8: =IF(AND($AI8>0,$F8=CK$1),$AI8,"") -> 1 | CO8: =IF(AND($AI8>0,$F8=CO$1),$AI8,"")
A9: 039999900121071208 | B9: 5701377 | C9: 00019 | D9: Préparé | E9: 217122 | F9: SURG | G9: PCS.03.21.03.B | H9: 27/06/2018 17:22:58 | I9: ad001 | J9: UVC | L9: Non | M9: 0 | N9: 0 | O9: ANAMIGAN | P9: 01/01/1990 12:00:00 | Q9: 0 | R9: 27/06/2018 17:22:58 | S9: 177 | T9: 7224 | U9: 12107120 | X9: 1 | Y9: 1 | Z9: 0 | AA9: 0 | AB9: 0 | AE9: Non | AG9: 2 | AI9: =SUM(X:X-Z:Z) -> 1 | AO9: =IF(AND($AI9>0,$F9=AO$1),$AI9,"") | AS9: =IF(AND($AI9>0,$F9=AS$1),$AI9,"") | AW9: =IF(AND($AI9>0,$F9=AW$1),$AI9,"") | BA9: =IF(AND($AI9>0,$F9=BA$1),$AI9,"") | BE9: =IF(AND($AI9>0,$F9=BE$1),$AI9,"") | BI9: =IF(AND($AI9>0,$F9=BI$1),$AI9,"") | BM9: =IF(AND($AI9>0,$F9=BM$1),$AI9,"") | BQ9: =IF(AND($AI9>0,$F9=BQ$1),$AI9,"") | BU9: =IF(AND($AI9>0,$F9=BU$1),$AI9,"") | BY9: =IF(AND($AI9>0,$F9=BY$1),$AI9,"") | CC9: =IF(AND($AI9>0,$F9=CC$1),$AI9,"") | CG9: =IF(AND($AI9>0,$F9=CG$1),$AI9,"") -> 1 | CK9: =IF(AND($AI9>0,$F9=CK$1),$AI9,"") | CO9: =IF(AND($AI9>0,$F9=CO$1),$AI9,"")
A10: 039999900121051316 | B10: 5701330 | C10: 00015 | D10: Préparé | E10: 217941 | F10: SURG | G10: PCS.03.22.01.A | H10: 27/06/2018 17:14:28 | I10: ad001 | J10: UVC | L10: Non | M10: 0 | N10: 0 | O10: ANAMIGAN | P10: 01/01/1990 12:00:00 | Q10: 0 | R10: 27/06/2018 17:14:28 | S10: 109 | T10: 7224 | U10: 12105131 | X10: 1 | Y10: 1 | Z10: 0 | AA10: 0 | AB10: 0 | AE10: Non | AG10: 4 | AI10: =SUM(X:X-Z:Z) -> 1 | AO10: =IF(AND($AI10>0,$F10=AO$1),$AI10,"") | AS10: =IF(AND($AI10>0,$F10=AS$1),$AI10,"") | AW10: =IF(AND($AI10>0,$F10=AW$1),$AI10,"") | BA10: =IF(AND($AI10>0,$F10=BA$1),$AI10,"") | BE10: =IF(AND($AI10>0,$F10=BE$1),$AI10,"") | BI10: =IF(AND($AI10>0,$F10=BI$1),$AI10,"") | BM10: =IF(AND($AI10>0,$F10=BM$1),$AI10,"") | BQ10: =IF(AND($AI10>0,$F10=BQ$1),$AI10,"") | BU10: =IF(AND($AI10>0,$F10=BU$1),$AI10,"") | BY10: =IF(AND($AI10>0,$F10=BY$1),$AI10,"") | CC10: =IF(AND($AI10>0,$F10=CC$1),$AI10,"") | CG10: =IF(AND($AI10>0,$F10=CG$1),$AI10,"") -> 1 | CK10: =IF(AND($AI10>0,$F10=CK$1),$AI10,"") | CO10: =IF(AND($AI10>0,$F10=CO$1),$AI10,"")
A11: 039999900121051309 | B11: 5701330 | C11: 00018 | D11: Préparé | E11: 233407 | F11: SURG | G11: PCS.02.37.03.B | H11: 27/06/2018 17:14:05 | I11: ad001 | J11: UVC | L11: Non | M11: 0 | N11: 0 | O11: ANAMIGAN | P11: 01/01/1990 12:00:00 | Q11: 0 | R11: 27/06/2018 17:14:05 | S11: 109 | T11: 7224 | U11: 12105130 | X11: 1 | Y11: 1 | Z11: 0 | AA11: 0 | AB11: 0 | AE11: Non | AG11: 2 | AI11: =SUM(X:X-Z:Z) -> 1 | AO11: =IF(AND($AI11>0,$F11=AO$1),$AI11,"") | AS11: =IF(AND($AI11>0,$F11=AS$1),$AI11,"") | AW11: =IF(AND($AI11>0,$F11=AW$1),$AI11,"") | BA11: =IF(AND($AI11>0,$F11=BA$1),$AI11,"") | BE11: =IF(AND($AI11>0,$F11=BE$1),$AI11,"") | BI11: =IF(AND($AI11>0,$F11=BI$1),$AI11,"") | BM11: =IF(AND($AI11>0,$F11=BM$1),$AI11,"") | BQ11: =IF(AND($AI11>0,$F11=BQ$1),$AI11,"") | BU11: =IF(AND($AI11>0,$F11=BU$1),$AI11,"") | BY11: =IF(AND($AI11>0,$F11=BY$1),$AI11,"") | CC11: =IF(AND($AI11>0,$F11=CC$1),$AI11,"") | CG11: =IF(AND($AI11>0,$F11=CG$1),$AI11,"") -> 1 | CK11: =IF(AND($AI11>0,$F11=CK$1),$AI11,"") | CO11: =IF(AND($AI11>0,$F11=CO$1),$AI11,"")
A12: 039999900121046909 | B12: 5692482 | C12: 00048 | D12: Préparé | E12: 233407 | F12: SURG | G12: PCS.02.37.03.B | H12: 27/06/2018 17:13:24 | I12: ad001 | J12: UVC | L12: Non | M12: 0 | N12: 0 | O12: ANAMIGAN | P12: 01/01/1990 12:00:00 | Q12: 0 | R12: 27/06/2018 17:13:24 | S12: 177 | T12: 7224 | U12: 12104690 | X12: 1 | Y12: 1 | Z12: 0 | AA12: 0 | AB12: 0 | AE12: Non | AG12: 3 | AI12: =SUM(X:X-Z:Z) -> 1 | AO12: =IF(AND($AI12>0,$F12=AO$1),$AI12,"") | AS12: =IF(AND($AI12>0,$F12=AS$1),$AI12,"") | AW12: =IF(AND($AI12>0,$F12=AW$1),$AI12,"") | BA12: =IF(AND($AI12>0,$F12=BA$1),$AI12,"") | BE12: =IF(AND($AI12>0,$F12=BE$1),$AI12,"") | BI12: =IF(AND($AI12>0,$F12=BI$1),$AI12,"") | BM12: =IF(AND($AI12>0,$F12=BM$1),$AI12,"") | BQ12: =IF(AND($AI12>0,$F12=BQ$1),$AI12,"") | BU12: =IF(AND($AI12>0,$F12=BU$1),$AI12,"") | BY12: =IF(AND($AI12>0,$F12=BY$1),$AI12,"") | CC12: =IF(AND($AI12>0,$F12=CC$1),$AI12,"") | CG12: =IF(AND($AI12>0,$F12=CG$1),$AI12,"") -> 1 | CK12: =IF(AND($AI12>0,$F12=CK$1),$AI12,"") | CO12: =IF(AND($AI12>0,$F12=CO$1),$AI12,"")
A13: 039999900121047913 | B13: 5698164 | C13: 00008 | D13: Préparé | E13: 131424 | F13: SURG | G13: PCS.03.19.02.C | H13: 27/06/2018 17:09:37 | I13: ad001 | J13: UVC | L13: Non | M13: 0 | N13: 0 | O13: ANAMIGAN | P13: 01/01/1990 12:00:00 | Q13: 0 | R13: 27/06/2018 17:09:37 | S13: 85 | T13: 7224 | U13: 12104791 | X13: 1 | Y13: 1 | Z13: 0 | AA13: 0 | AB13: 0 | AE13: Non | AG13: 3 | AI13: =SUM(X:X-Z:Z) -> 1 | AO13: =IF(AND($AI13>0,$F13=AO$1),$AI13,"") | AS13: =IF(AND($AI13>0,$F13=AS$1),$AI13,"") | AW13: =IF(AND($AI13>0,$F13=AW$1),$AI13,"") | BA13: =IF(AND($AI13>0,$F13=BA$1),$AI13,"") | BE13: =IF(AND($AI13>0,$F13=BE$1),$AI13,"") | BI13: =IF(AND($AI13>0,$F13=BI$1),$AI13,"") | BM13: =IF(AND($AI13>0,$F13=BM$1),$AI13,"") | BQ13: =IF(AND($AI13>0,$F13=BQ$1),$AI13,"") | BU13: =IF(AND($AI13>0,$F13=BU$1),$AI13,"") | BY13: =IF(AND($AI13>0,$F13=BY$1),$AI13,"") | CC13: =IF(AND($AI13>0,$F13=CC$1),$AI13,"") | CG13: =IF(AND($AI13>0,$F13=CG$1),$AI13,"") -> 1 | CK13: =IF(AND($AI13>0,$F13=CK$1),$AI13,"") | CO13: =IF(AND($AI13>0,$F13=CO$1),$AI13,"")
A14: 039999900121057295 | B14: 5698557 | C14: 00022 | D14: Préparé | E14: 217122 | F14: SURG | G14: PCS.03.21.03.B | H14: 27/06/2018 17:03:29 | I14: ad001 | J14: UVC | L14: Non | M14: 0 | N14: 0 | O14: ANAMIGAN | P14: 01/01/1990 12:00:00 | Q14: 0 | R14: 27/06/2018 17:03:29 | S14: 177 | T14: 7224 | U14: 12105729 | X14: 1 | Y14: 1 | Z14: 0 | AA14: 0 | AB14: 0 | AE14: Non | AG14: 1 | AI14: =SUM(X:X-Z:Z) -> 1 | AO14: =IF(AND($AI14>0,$F14=AO$1),$AI14,"") | AS14: =IF(AND($AI14>0,$F14=AS$1),$AI14,"") | AW14: =IF(AND($AI14>0,$F14=AW$1),$AI14,"") | BA14: =IF(AND($AI14>0,$F14=BA$1),$AI14,"") | BE14: =IF(AND($AI14>0,$F14=BE$1),$AI14,"") | BI14: =IF(AND($AI14>0,$F14=BI$1),$AI14,"") | BM14: =IF(AND($AI14>0,$F14=BM$1),$AI14,"") | BQ14: =IF(AND($AI14>0,$F14=BQ$1),$AI14,"") | BU14: =IF(AND($AI14>0,$F14=BU$1),$AI14,"") | BY14: =IF(AND($AI14>0,$F14=BY$1),$AI14,"") | CC14: =IF(AND($AI14>0,$F14=CC$1),$AI14,"") | CG14: =IF(AND($AI14>0,$F14=CG$1),$AI14,"") -> 1 | CK14: =IF(AND($AI14>0,$F14=CK$1),$AI14,"") | CO14: =IF(AND($AI14>0,$F14=CO$1),$AI14,"")
A15: 039999900121093293 | B15: 5702163 | C15: 00022 | D15: Préparé | E15: 217879 | F15: SURG | G15: PCS.04.23.01.C | H15: 27/06/2018 16:58:40 | I15: ad001 | J15: UVC | L15: Non | M15: 0 | N15: 0 | O15: ANAMIGAN | P15: 01/01/1990 12:00:00 | Q15: 0 | R15: 27/06/2018 16:58:40 | S15: 85 | T15: 7224 | U15: 12109329 | X15: 1 | Y15: 1 | Z15: 0 | AA15: 0 | AB15: 0 | AE15: Non | AG15: 4 | AI15: =SUM(X:X-Z:Z) -> 1 | AO15: =IF(AND($AI15>0,$F15=AO$1),$AI15,"") | AS15: =IF(AND($AI15>0,$F15=AS$1),$AI15,"") | AW15: =IF(AND($AI15>0,$F15=AW$1),$AI15,"") | BA15: =IF(AND($AI15>0,$F15=BA$1),$AI15,"") | BE15: =IF(AND($AI15>0,$F15=BE$1),$AI15,"") | BI15: =IF(AND($AI15>0,$F15=BI$1),$AI15,"") | BM15: =IF(AND($AI15>0,$F15=BM$1),$AI15,"") | BQ15: =IF(AND($AI15>0,$F15=BQ$1),$AI15,"") | BU15: =IF(AND($AI15>0,$F15=BU$1),$AI15,"") | BY15: =IF(AND($AI15>0,$F15=BY$1),$AI15,"") | CC15: =IF(AND($AI15>0,$F15=CC$1),$AI15,"") | CG15: =IF(AND($AI15>0,$F15=CG$1),$AI15,"") -> 1 | CK15: =IF(AND($AI15>0,$F15=CK$1),$AI15,"") | CO15: =IF(AND($AI15>0,$F15=CO$1),$AI15,"")
A16: 039999900121080217 | B16: 5702140 | C16: 00026 | D16: Préparé | E16: 242703 | F16: SURG | G16: PCS.03.35.02.A | H16: 27/06/2018 16:54:15 | I16: ad001 | J16: UVC | L16: Non | M16: 0 | N16: 0 | O16: ANAMIGAN | P16: 01/01/1990 12:00:00 | Q16: 0 | R16: 27/06/2018 16:54:15 | S16: 177 | T16: 7224 | U16: 12108021 | X16: 1 | Y16: 1 | Z16: 0 | AA16: 0 | AB16: 0 | AE16: Non | AG16: 2 | AI16: =SUM(X:X-Z:Z) -> 1 | AO16: =IF(AND($AI16>0,$F16=AO$1),$AI16,"") | AS16: =IF(AND($AI16>0,$F16=AS$1),$AI16,"") | AW16: =IF(AND($AI16>0,$F16=AW$1),$AI16,"") | BA16: =IF(AND($AI16>0,$F16=BA$1),$AI16,"") | BE16: =IF(AND($AI16>0,$F16=BE$1),$AI16,"") | BI16: =IF(AND($AI16>0,$F16=BI$1),$AI16,"") | BM16: =IF(AND($AI16>0,$F16=BM$1),$AI16,"") | BQ16: =IF(AND($AI16>0,$F16=BQ$1),$AI16,"") | BU16: =IF(AND($AI16>0,$F16=BU$1),$AI16,"") | BY16: =IF(AND($AI16>0,$F16=BY$1),$AI16,"") | CC16: =IF(AND($AI16>0,$F16=CC$1),$AI16,"") | CG16: =IF(AND($AI16>0,$F16=CG$1),$AI16,"") -> 1 | CK16: =IF(AND($AI16>0,$F16=CK$1),$AI16,"") | CO16: =IF(AND($AI16>0,$F16=CO$1),$AI16,"")
A17: 039999900121055345 | B17: 5696741 | C17: 00036 | D17: Préparé | E17: 209355 | F17: SURG | G17: PCS.04.18.01.A | H17: 27/06/2018 16:49:25 | I17: ad001 | J17: UVC | L17: Non | M17: 0 | N17: 0 | O17: ANAMIGAN | P17: 01/01/1990 12:00:00 | Q17: 0 | R17: 27/06/2018 16:49:25 | S17: 145 | T17: 7224 | U17: 12105534 | X17: 1 | Y17: 1 | Z17: 0 | AA17: 0 | AB17: 0 | AE17: Non | AG17: 4 | AI17: =SUM(X:X-Z:Z) -> 1 | AO17: =IF(AND($AI17>0,$F17=AO$1),$AI17,"") | AS17: =IF(AND($AI17>0,$F17=AS$1),$AI17,"") | AW17: =IF(AND($AI17>0,$F17=AW$1),$AI17,"") | BA17: =IF(AND($AI17>0,$F17=BA$1),$AI17,"") | BE17: =IF(AND($AI17>0,$F17=BE$1),$AI17,"") | BI17: =IF(AND($AI17>0,$F17=BI$1),$AI17,"") | BM17: =IF(AND($AI17>0,$F17=BM$1),$AI17,"") | BQ17: =IF(AND($AI17>0,$F17=BQ$1),$AI17,"") | BU17: =IF(AND($AI17>0,$F17=BU$1),$AI17,"") | BY17: =IF(AND($AI17>0,$F17=BY$1),$AI17,"") | CC17: =IF(AND($AI17>0,$F17=CC$1),$AI17,"") | CG17: =IF(AND($AI17>0,$F17=CG$1),$AI17,"") -> 1 | CK17: =IF(AND($AI17>0,$F17=CK$1),$AI17,"") | CO17: =IF(AND($AI17>0,$F17=CO$1),$AI17,"")
A18: 039999900121060264 | B18: 5701009 | C18: 00036 | D18: Préparé | E18: 85017 | F18: SURG | G18: PCS.04.26.04.A | H18: 27/06/2018 16:42:48 | I18: ad001 | J18: UVC | L18: Non | M18: 0 | N18: 0 | O18: ANAMIGAN | P18: 01/01/1990 12:00:00 | Q18: 0 | R18: 27/06/2018 16:42:48 | S18: 177 | T18: 7224 | U18: 12106026 | X18: 1 | Y18: 1 | Z18: 0 | AA18: 0 | AB18: 0 | AE18: Non | AG18: 5 | AI18: =SUM(X:X-Z:Z) -> 1 | AO18: =IF(AND($AI18>0,$F18=AO$1),$AI18,"") | AS18: =IF(AND($AI18>0,$F18=AS$1),$AI18,"") | AW18: =IF(AND($AI18>0,$F18=AW$1),$AI18,"") | BA18: =IF(AND($AI18>0,$F18=BA$1),$AI18,"") | BE18: =IF(AND($AI18>0,$F18=BE$1),$AI18,"") | BI18: =IF(AND($AI18>0,$F18=BI$1),$AI18,"") | BM18: =IF(AND($AI18>0,$F18=BM$1),$AI18,"") | BQ18: =IF(AND($AI18>0,$F18=BQ$1),$AI18,"") | BU18: =IF(AND($AI18>0,$F18=BU$1),$AI18,"") | BY18: =IF(AND($AI18>0,$F18=BY$1),$AI18,"") | CC18: =IF(AND($AI18>0,$F18=CC$1),$AI18,"") | CG18: =IF(AND($AI18>0,$F18=CG$1),$AI18,"") -> 1 | CK18: =IF(AND($AI18>0,$F18=CK$1),$AI18,"") | CO18: =IF(AND($AI18>0,$F18=CO$1),$AI18,"")
A19: 039999900121077859 | B19: 5701660 | C19: 00008 | D19: Préparé | E19: 3477 | F19: SURG | G19: PCS.01.21.00.H | H19: 27/06/2018 16:40:57 | I19: ad001 | J19: UVC | L19: Non | M19: 0 | N19: 0 | O19: ANAMIGAN | P19: 01/01/1990 12:00:00 | Q19: 0 | R19: 27/06/2018 16:40:57 | S19: 1 | T19: -1 | U19: 12107785 | X19: 1 | Y19: 1 | Z19: 0 | AA19: 0 | AB19: 0 | AE19: Non | AG19: 1 | AI19: =SUM(X:X-Z:Z) -> 1 | AO19: =IF(AND($AI19>0,$F19=AO$1),$AI19,"") | AS19: =IF(AND($AI19>0,$F19=AS$1),$AI19,"") | AW19: =IF(AND($AI19>0,$F19=AW$1),$AI19,"") | BA19: =IF(AND($AI19>0,$F19=BA$1),$AI19,"") | BE19: =IF(AND($AI19>0,$F19=BE$1),$AI19,"") | BI19: =IF(AND($AI19>0,$F19=BI$1),$AI19,"") | BM19: =IF(AND($AI19>0,$F19=BM$1),$AI19,"") | BQ19: =IF(AND($AI19>0,$F19=BQ$1),$AI19,"") | BU19: =IF(AND($AI19>0,$F19=BU$1),$AI19,"") | BY19: =IF(AND($AI19>0,$F19=BY$1),$AI19,"") | CC19: =IF(AND($AI19>0,$F19=CC$1),$AI19,"") | CG19: =IF(AND($AI19>0,$F19=CG$1),$AI19,"") -> 1 | CK19: =IF(AND($AI19>0,$F19=CK$1),$AI19,"") | CO19: =IF(AND($AI19>0,$F19=CO$1),$AI19,"")
A20: 039999900121173568 | B20: 5704725 | C20: 00011 | D20: Préparé | E20: 14570 | F20: G2P_A | G20: PAA.01.01.01.A | H20: 27/06/2018 16:28:16 | I20: ad001 | J20: UVC | K20: Mvt manquant WCS | L20: Non | M20: 0 | N20: 0 | O20: Tâche | P20: 27/06/2018 16:28:16 | Q20: BMPOLO | R20: 27/06/2018 16:28:16 | S20: 39 | T20: -1 | U20: 12117356 | X20: 1 | Y20: 1 | Z20: 0 | AA20: 0 | AB20: 0 | AE20: Non | AG20: 6 | AH20: 2 | AI20: =SUM(X:X-Z:Z) -> 1 | AO20: =IF(AND($AI20>0,$F20=AO$1),$AI20,"") | AS20: =IF(AND($AI20>0,$F20=AS$1),$AI20,"") | AW20: =IF(AND($AI20>0,$F20=AW$1),$AI20,"") | BA20: =IF(AND($AI20>0,$F20=BA$1),$AI20,"") | BE20: =IF(AND($AI20>0,$F20=BE$1),$AI20,"") | BI20: =IF(AND($AI20>0,$F20=BI$1),$AI20,"") | BM20: =IF(AND($AI20>0,$F20=BM$1),$AI20,"") | BQ20: =IF(AND($AI20>0,$F20=BQ$1),$AI20,"") | BU20: =IF(AND($AI20>0,$F20=BU$1),$AI20,"") | BY20: =IF(AND($AI20>0,$F20=BY$1),$AI20,"") | CC20: =IF(AND($AI20>0,$F20=CC$1),$AI20,"") | CG20: =IF(AND($AI20>0,$F20=CG$1),$AI20,"") | CK20: =IF(AND($AI20>0,$F20=CK$1),$AI20,"") -> 1 | CO20: =IF(AND($AI20>0,$F20=CO$1),$AI20,"")
A21: 039999900121141604 | B21: 5700559 | C21: 00027 | D21: Préparé | E21: 35190 | F21: F03 | G21: PMF.01.20.00.B | H21: 27/06/2018 16:16:10 | I21: ad001 | J21: UVC | K21: Stock vide | L21: Non | M21: 0 | N21: 0 | O21: ANAMIGAN | P21: 01/01/1990 12:00:00 | Q21: 0 | R21: 27/06/2018 16:16:10 | S21: 96 | T21: 7372 | U21: 12114160 | X21: 1 | Y21: 1 | Z21: 0 | AA21: 0 | AB21: 0 | AE21: Oui | AG21: 1 | AH21: 2 | AI21: =SUM(X:X-Z:Z) -> 1 | AO21: =IF(AND($AI21>0,$F21=AO$1),$AI21,"") | AS21: =IF(AND($AI21>0,$F21=AS$1),$AI21,"") | AW21: =IF(AND($AI21>0,$F21=AW$1),$AI21,"") | BA21: =IF(AND($AI21>0,$F21=BA$1),$AI21,"") | BE21: =IF(AND($AI21>0,$F21=BE$1),$AI21,"") | BI21: =IF(AND($AI21>0,$F21=BI$1),$AI21,"") | BM21: =IF(AND($AI21>0,$F21=BM$1),$AI21,"") | BQ21: =IF(AND($AI21>0,$F21=BQ$1),$AI21,"") | BU21: =IF(AND($AI21>0,$F21=BU$1),$AI21,"") -> 1 | BY21: =IF(AND($AI21>0,$F21=BY$1),$AI21,"") | CC21: =IF(AND($AI21>0,$F21=CC$1),$AI21,"") | CG21: =IF(AND($AI21>0,$F21=CG$1),$AI21,"") | CK21: =IF(AND($AI21>0,$F21=CK$1),$AI21,"") | CO21: =IF(AND($AI21>0,$F21=CO$1),$AI21,"")
A22: 039999900121080293 | B22: 5702144 | C22: 00053 | D22: Préparé | E22: 97642 | F22: SURG | G22: PCS.02.23.03.B | H22: 27/06/2018 15:44:42 | I22: ad001 | J22: UVC | L22: Non | M22: 0 | N22: 0 | O22: ANAMIGAN | P22: 01/01/1990 12:00:00 | Q22: 0 | R22: 27/06/2018 15:44:42 | S22: 177 | T22: 7224 | U22: 12108029 | X22: 1 | Y22: 1 | Z22: 0 | AA22: 0 | AB22: 0 | AE22: Non | AG22: 2 | AI22: =SUM(X:X-Z:Z) -> 1 | AO22: =IF(AND($AI22>0,$F22=AO$1),$AI22,"") | AS22: =IF(AND($AI22>0,$F22=AS$1),$AI22,"") | AW22: =IF(AND($AI22>0,$F22=AW$1),$AI22,"") | BA22: =IF(AND($AI22>0,$F22=BA$1),$AI22,"") | BE22: =IF(AND($AI22>0,$F22=BE$1),$AI22,"") | BI22: =IF(AND($AI22>0,$F22=BI$1),$AI22,"") | BM22: =IF(AND($AI22>0,$F22=BM$1),$AI22,"") | BQ22: =IF(AND($AI22>0,$F22=BQ$1),$AI22,"") | BU22: =IF(AND($AI22>0,$F22=BU$1),$AI22,"") | BY22: =IF(AND($AI22>0,$F22=BY$1),$AI22,"") | CC22: =IF(AND($AI22>0,$F22=CC$1),$AI22,"") | CG22: =IF(AND($AI22>0,$F22=CG$1),$AI22,"") -> 1 | CK22: =IF(AND($AI22>0,$F22=CK$1),$AI22,"") | CO22: =IF(AND($AI22>0,$F22=CO$1),$AI22,"")
A23: 039999900121070737 | B23: 5701471 | C23: 00010 | D23: Préparé | E23: 135543 | F23: SURG | G23: PCS.03.14.01.A | H23: 27/06/2018 15:38:58 | I23: ad001 | J23: UVC | L23: Non | M23: 0 | N23: 0 | O23: ANAMIGAN | P23: 01/01/1990 12:00:00 | Q23: 0 | R23: 27/06/2018 15:38:58 | S23: 109 | T23: 7224 | U23: 12107073 | X23: 1 | Y23: 1 | Z23: 0 | AA23: 0 | AB23: 0 | AE23: Non | AG23: 3 | AI23: =SUM(X:X-Z:Z) -> 1 | AO23: =IF(AND($AI23>0,$F23=AO$1),$AI23,"") | AS23: =IF(AND($AI23>0,$F23=AS$1),$AI23,"") | AW23: =IF(AND($AI23>0,$F23=AW$1),$AI23,"") | BA23: =IF(AND($AI23>0,$F23=BA$1),$AI23,"") | BE23: =IF(AND($AI23>0,$F23=BE$1),$AI23,"") | BI23: =IF(AND($AI23>0,$F23=BI$1),$AI23,"") | BM23: =IF(AND($AI23>0,$F23=BM$1),$AI23,"") | BQ23: =IF(AND($AI23>0,$F23=BQ$1),$AI23,"") | BU23: =IF(AND($AI23>0,$F23=BU$1),$AI23,"") | BY23: =IF(AND($AI23>0,$F23=BY$1),$AI23,"") | CC23: =IF(AND($AI23>0,$F23=CC$1),$AI23,"") | CG23: =IF(AND($AI23>0,$F23=CG$1),$AI23,"") -> 1 | CK23: =IF(AND($AI23>0,$F23=CK$1),$AI23,"") | CO23: =IF(AND($AI23>0,$F23=CO$1),$AI23,"")
A24: 039999900121047678 | B24: 5696772 | C24: 00058 | D24: Préparé | E24: 97642 | F24: SURG | G24: PCS.02.23.03.B | H24: 27/06/2018 15:35:04 | I24: ad001 | J24: UVC | L24: Non | M24: 0 | N24: 0 | O24: ANAMIGAN | P24: 01/01/1990 12:00:00 | Q24: 0 | R24: 27/06/2018 15:35:04 | S24: 177 | T24: 7224 | U24: 12104767 | X24: 1 | Y24: 1 | Z24: 0 | AA24: 0 | AB24: 0 | AE24: Non | AG24: 2 | AI24: =SUM(X:X-Z:Z) -> 1 | AO24: =IF(AND($AI24>0,$F24=AO$1),$AI24,"") | AS24: =IF(AND($AI24>0,$F24=AS$1),$AI24,"") | AW24: =IF(AND($AI24>0,$F24=AW$1),$AI24,"") | BA24: =IF(AND($AI24>0,$F24=BA$1),$AI24,"") | BE24: =IF(AND($AI24>0,$F24=BE$1),$AI24,"") | BI24: =IF(AND($AI24>0,$F24=BI$1),$AI24,"") | BM24: =IF(AND($AI24>0,$F24=BM$1),$AI24,"") | BQ24: =IF(AND($AI24>0,$F24=BQ$1),$AI24,"") | BU24: =IF(AND($AI24>0,$F24=BU$1),$AI24,"") | BY24: =IF(AND($AI24>0,$F24=BY$1),$AI24,"") | CC24: =IF(AND($AI24>0,$F24=CC$1),$AI24,"") | CG24: =IF(AND($AI24>0,$F24=CG$1),$AI24,"") -> 1 | CK24: =IF(AND($AI24>0,$F24=CK$1),$AI24,"") | CO24: =IF(AND($AI24>0,$F24=CO$1),$AI24,"")
A25: 039999900121062138 | B25: 5701306 | C25: 00010 | D25: Préparé | E25: 141494 | F25: SURG | G25: PCS.03.10.03.C | H25: 27/06/2018 15:33:32 | I25: ad001 | J25: UVC | L25: Non | M25: 0 | N25: 0 | O25: ANAMIGAN | P25: 27/06/2018 15:30:32 | Q25: ABENZEMITH | R25: 27/06/2018 15:33:32 | S25: 145 | T25: 7224 | U25: 12106213 | X25: 4 | Y25: 1 | Z25: 2 | AA25: 2 | AB25: 0 | AE25: Non | AG25: 2 | AI25: =SUM(X:X-Z:Z) -> 2 | AO25: =IF(AND($AI25>0,$F25=AO$1),$AI25,"") | AS25: =IF(AND($AI25>0,$F25=AS$1),$AI25,"") | AW25: =IF(AND($AI25>0,$F25=AW$1),$AI25,"") | BA25: =IF(AND($AI25>0,$F25=BA$1),$AI25,"") | BE25: =IF(AND($AI25>0,$F25=BE$1),$AI25,"") | BI25: =IF(AND($AI25>0,$F25=BI$1),$AI25,"") | BM25: =IF(AND($AI25>0,$F25=BM$1),$AI25,"") | BQ25: =IF(AND($AI25>0,$F25=BQ$1),$AI25,"") | BU25: =IF(AND($AI25>0,$F25=BU$1),$AI25,"") | BY25: =IF(AND($AI25>0,$F25=BY$1),$AI25,"") | CC25: =IF(AND($AI25>0,$F25=CC$1),$AI25,"") | CG25: =IF(AND($AI25>0,$F25=CG$1),$AI25,"") -> 2 | CK25: =IF(AND($AI25>0,$F25=CK$1),$AI25,"") | CO25: =IF(AND($AI25>0,$F25=CO$1),$AI25,"")
A26: 039999900121071154 | B26: 5701357 | C26: 00016 | D26: Préparé | E26: 85017 | F26: SURG | G26: PCS.04.26.04.A | H26: 27/06/2018 15:22:15 | I26: ad001 | J26: UVC | L26: Non | M26: 0 | N26: 0 | O26: ANAMIGAN | P26: 01/01/1990 12:00:00 | Q26: 0 | R26: 27/06/2018 15:22:15 | S26: 150 | T26: 7224 | U26: 12107115 | X26: 1 | Y26: 1 | Z26: 0 | AA26: 0 | AB26: 0 | AE26: Non | AG26: 3 | AI26: =SUM(X:X-Z:Z) -> 1 | AO26: =IF(AND($AI26>0,$F26=AO$1),$AI26,"") | AS26: =IF(AND($AI26>0,$F26=AS$1),$AI26,"") | AW26: =IF(AND($AI26>0,$F26=AW$1),$AI26,"") | BA26: =IF(AND($AI26>0,$F26=BA$1),$AI26,"") | BE26: =IF(AND($AI26>0,$F26=BE$1),$AI26,"") | BI26: =IF(AND($AI26>0,$F26=BI$1),$AI26,"") | BM26: =IF(AND($AI26>0,$F26=BM$1),$AI26,"") | BQ26: =IF(AND($AI26>0,$F26=BQ$1),$AI26,"") | BU26: =IF(AND($AI26>0,$F26=BU$1),$AI26,"") | BY26: =IF(AND($AI26>0,$F26=BY$1),$AI26,"") | CC26: =IF(AND($AI26>0,$F26=CC$1),$AI26,"") | CG26: =IF(AND($AI26>0,$F26=CG$1),$AI26,"") -> 1 | CK26: =IF(AND($AI26>0,$F26=CK$1),$AI26,"") | CO26: =IF(AND($AI26>0,$F26=CO$1),$AI26,"")
A27: 039999900121061759 | B27: 5701241 | C27: 00019 | D27: Préparé | E27: 3776 | F27: SURG | G27: PCS.03.35.02.C | H27: 27/06/2018 15:21:40 | I27: ad001 | J27: UVC | L27: Non | M27: 0 | N27: 0 | O27: ANAMIGAN | P27: 01/01/1990 12:00:00 | Q27: 0 | R27: 27/06/2018 15:21:41 | S27: 1 | T27: -1 | U27: 12106175 | X27: 1 | Y27: 1 | Z27: 0 | AA27: 0 | AB27: 0 | AE27: Non | AG27: 2 | AI27: =SUM(X:X-Z:Z) -> 1 | AO27: =IF(AND($AI27>0,$F27=AO$1),$AI27,"") | AS27: =IF(AND($AI27>0,$F27=AS$1),$AI27,"") | AW27: =IF(AND($AI27>0,$F27=AW$1),$AI27,"") | BA27: =IF(AND($AI27>0,$F27=BA$1),$AI27,"") | BE27: =IF(AND($AI27>0,$F27=BE$1),$AI27,"") | BI27: =IF(AND($AI27>0,$F27=BI$1),$AI27,"") | BM27: =IF(AND($AI27>0,$F27=BM$1),$AI27,"") | BQ27: =IF(AND($AI27>0,$F27=BQ$1),$AI27,"") | BU27: =IF(AND($AI27>0,$F27=BU$1),$AI27,"") | BY27: =IF(AND($AI27>0,$F27=BY$1),$AI27,"") | CC27: =IF(AND($AI27>0,$F27=CC$1),$AI27,"") | CG27: =IF(AND($AI27>0,$F27=CG$1),$AI27,"") -> 1 | CK27: =IF(AND($AI27>0,$F27=CK$1),$AI27,"") | CO27: =IF(AND($AI27>0,$F27=CO$1),$AI27,"")
A28: 039999900121061759 | B28: 5701241 | C28: 00020 | D28: Préparé | E28: 4862 | F28: SURG | G28: PCS.03.26.03.A | H28: 27/06/2018 15:21:28 | I28: ad001 | J28: UVC | L28: Non | M28: 0 | N28: 0 | O28: ANAMIGAN | P28: 01/01/1990 12:00:00 | Q28: 0 | R28: 27/06/2018 15:21:41 | S28: 1 | T28: -1 | U28: 12106175 | X28: 1 | Y28: 1 | Z28: 0 | AA28: 0 | AB28: 0 | AE28: Non | AG28: 1 | AI28: =SUM(X:X-Z:Z) -> 1 | AO28: =IF(AND($AI28>0,$F28=AO$1),$AI28,"") | AS28: =IF(AND($AI28>0,$F28=AS$1),$AI28,"") | AW28: =IF(AND($AI28>0,$F28=AW$1),$AI28,"") | BA28: =IF(AND($AI28>0,$F28=BA$1),$AI28,"") | BE28: =IF(AND($AI28>0,$F28=BE$1),$AI28,"") | BI28: =IF(AND($AI28>0,$F28=BI$1),$AI28,"") | BM28: =IF(AND($AI28>0,$F28=BM$1),$AI28,"") | BQ28: =IF(AND($AI28>0,$F28=BQ$1),$AI28,"") | BU28: =IF(AND($AI28>0,$F28=BU$1),$AI28,"") | BY28: =IF(AND($AI28>0,$F28=BY$1),$AI28,"") | CC28: =IF(AND($AI28>0,$F28=CC$1),$AI28,"") | CG28: =IF(AND($AI28>0,$F28=CG$1),$AI28,"") -> 1 | CK28: =IF(AND($AI28>0,$F28=CK$1),$AI28,"") | CO28: =IF(AND($AI28>0,$F28=CO$1),$AI28,"")
A29: 039999900121071154 | B29: 5701357 | C29: 00010 | D29: Préparé | E29: 218654 | F29: SURG | G29: PCS.02.41.00.B | H29: 27/06/2018 15:21:14 | I29: ad001 | J29: UVC | L29: Non | M29: 0 | N29: 0 | O29: ANAMIGAN | P29: 01/01/1990 12:00:00 | Q29: 0 | R29: 27/06/2018 15:21:14 | S29: 150 | T29: 7224 | U29: 12107115 | X29: 1 | Y29: 1 | Z29: 0 | AA29: 0 | AB29: 0 | AE29: Non | AG29: 1 | AI29: =SUM(X:X-Z:Z) -> 1 | AO29: =IF(AND($AI29>0,$F29=AO$1),$AI29,"") | AS29: =IF(AND($AI29>0,$F29=AS$1),$AI29,"") | AW29: =IF(AND($AI29>0,$F29=AW$1),$AI29,"") | BA29: =IF(AND($AI29>0,$F29=BA$1),$AI29,"") | BE29: =IF(AND($AI29>0,$F29=BE$1),$AI29,"") | BI29: =IF(AND($AI29>0,$F29=BI$1),$AI29,"") | BM29: =IF(AND($AI29>0,$F29=BM$1),$AI29,"") | BQ29: =IF(AND($AI29>0,$F29=BQ$1),$AI29,"") | BU29: =IF(AND($AI29>0,$F29=BU$1),$AI29,"") | BY29: =IF(AND($AI29>0,$F29=BY$1),$AI29,"") | CC29: =IF(AND($AI29>0,$F29=CC$1),$AI29,"") | CG29: =IF(AND($AI29>0,$F29=CG$1),$AI29,"") -> 1 | CK29: =IF(AND($AI29>0,$F29=CK$1),$AI29,"") | CO29: =IF(AND($AI29>0,$F29=CO$1),$AI29,"")
A30: 039999900121047296 | B30: 5695557 | C30: 00103 | D30: Préparé | E30: 88190 | F30: SURG | G30: PCS.01.25.00.E | H30: 27/06/2018 15:21:02 | I30: ad001 | J30: UVC | L30: Non | M30: 0 | N30: 0 | O30: ANAMIGAN | P30: 01/01/1990 12:00:00 | Q30: 0 | R30: 27/06/2018 15:21:02 | S30: 150 | T30: 7224 | U30: 12104729 | X30: 1 | Y30: 1 | Z30: 0 | AA30: 0 | AB30: 0 | AE30: Non | AG30: 1 | AI30: =SUM(X:X-Z:Z) -> 1 | AO30: =IF(AND($AI30>0,$F30=AO$1),$AI30,"") | AS30: =IF(AND($AI30>0,$F30=AS$1),$AI30,"") | AW30: =IF(AND($AI30>0,$F30=AW$1),$AI30,"") | BA30: =IF(AND($AI30>0,$F30=BA$1),$AI30,"") | BE30: =IF(AND($AI30>0,$F30=BE$1),$AI30,"") | BI30: =IF(AND($AI30>0,$F30=BI$1),$AI30,"") | BM30: =IF(AND($AI30>0,$F30=BM$1),$AI30,"") | BQ30: =IF(AND($AI30>0,$F30=BQ$1),$AI30,"") | BU30: =IF(AND($AI30>0,$F30=BU$1),$AI30,"") | BY30: =IF(AND($AI30>0,$F30=BY$1),$AI30,"") | CC30: =IF(AND($AI30>0,$F30=CC$1),$AI30,"") | CG30: =IF(AND($AI30>0,$F30=CG$1),$AI30,"") -> 1 | CK30: =IF(AND($AI30>0,$F30=CK$1),$AI30,"") | CO30: =IF(AND($AI30>0,$F30=CO$1),$AI30,"")
A31: 039999900121058421 | B31: 5699543 | C31: 00008 | D31: Préparé | E31: 128148 | F31: SURG | G31: PCS.03.11.02.C | H31: 27/06/2018 15:15:09 | I31: ad001 | J31: UVC | L31: Non | M31: 0 | N31: 0 | O31: ANAMIGAN | P31: 27/06/2018 15:07:48 | Q31: CNEVEUX | R31: 27/06/2018 15:15:09 | S31: 150 | T31: 7224 | U31: 12105842 | X31: 3 | Y31: 1 | Z31: 2 | AA31: 2 | AB31: 0 | AE31: Non | AG31: 3 | AI31: =SUM(X:X-Z:Z) -> 1 | AO31: =IF(AND($AI31>0,$F31=AO$1),$AI31,"") | AS31: =IF(AND($AI31>0,$F31=AS$1),$AI31,"") | AW31: =IF(AND($AI31>0,$F31=AW$1),$AI31,"") | BA31: =IF(AND($AI31>0,$F31=BA$1),$AI31,"") | BE31: =IF(AND($AI31>0,$F31=BE$1),$AI31,"") | BI31: =IF(AND($AI31>0,$F31=BI$1),$AI31,"") | BM31: =IF(AND($AI31>0,$F31=BM$1),$AI31,"") | BQ31: =IF(AND($AI31>0,$F31=BQ$1),$AI31,"") | BU31: =IF(AND($AI31>0,$F31=BU$1),$AI31,"") | BY31: =IF(AND($AI31>0,$F31=BY$1),$AI31,"") | CC31: =IF(AND($AI31>0,$F31=CC$1),$AI31,"") | CG31: =IF(AND($AI31>0,$F31=CG$1),$AI31,"") -> 1 | CK31: =IF(AND($AI31>0,$F31=CK$1),$AI31,"") | CO31: =IF(AND($AI31>0,$F31=CO$1),$AI31,"")
A32: 039999900121056502 | B32: 5698114 | C32: 00011 | D32: Préparé | E32: 233407 | F32: SURG | G32: PCS.02.37.03.B | H32: 27/06/2018 15:13:04 | I32: ad001 | J32: UVC | L32: Non | M32: 0 | N32: 0 | O32: ANAMIGAN | P32: 01/01/1990 12:00:00 | Q32: 0 | R32: 27/06/2018 15:13:04 | S32: 150 | T32: 7224 | U32: 12105650 | X32: 2 | Y32: 1 | Z32: 0 | AA32: 0 | AB32: 0 | AE32: Non | AG32: 2 | AI32: =SUM(X:X-Z:Z) -> 2 | AO32: =IF(AND($AI32>0,$F32=AO$1),$AI32,"") | AS32: =IF(AND($AI32>0,$F32=AS$1),$AI32,"") | AW32: =IF(AND($AI32>0,$F32=AW$1),$AI32,"") | BA32: =IF(AND($AI32>0,$F32=BA$1),$AI32,"") | BE32: =IF(AND($AI32>0,$F32=BE$1),$AI32,"") | BI32: =IF(AND($AI32>0,$F32=BI$1),$AI32,"") | BM32: =IF(AND($AI32>0,$F32=BM$1),$AI32,"") | BQ32: =IF(AND($AI32>0,$F32=BQ$1),$AI32,"") | BU32: =IF(AND($AI32>0,$F32=BU$1),$AI32,"") | BY32: =IF(AND($AI32>0,$F32=BY$1),$AI32,"") | CC32: =IF(AND($AI32>0,$F32=CC$1),$AI32,"") | CG32: =IF(AND($AI32>0,$F32=CG$1),$AI32,"") -> 2 | CK32: =IF(AND($AI32>0,$F32=CK$1),$AI32,"") | CO32: =IF(AND($AI32>0,$F32=CO$1),$AI32,"")
A33: 039999900121054720 | B33: 5694630 | C33: 00002 | D33: Préparé | E33: 114714 | F33: SURG | G33: PCS.01.17.01.C | H33: 27/06/2018 15:05:51 | I33: ad001 | J33: UVC | L33: Non | M33: 0 | N33: 0 | O33: ANAMIGAN | P33: 01/01/1990 12:00:00 | Q33: 0 | R33: 27/06/2018 15:05:51 | S33: 145 | T33: 7224 | U33: 12105472 | X33: 1 | Y33: 1 | Z33: 0 | AA33: 0 | AB33: 0 | AE33: Non | AG33: 1 | AI33: =SUM(X:X-Z:Z) -> 1 | AO33: =IF(AND($AI33>0,$F33=AO$1),$AI33,"") | AS33: =IF(AND($AI33>0,$F33=AS$1),$AI33,"") | AW33: =IF(AND($AI33>0,$F33=AW$1),$AI33,"") | BA33: =IF(AND($AI33>0,$F33=BA$1),$AI33,"") | BE33: =IF(AND($AI33>0,$F33=BE$1),$AI33,"") | BI33: =IF(AND($AI33>0,$F33=BI$1),$AI33,"") | BM33: =IF(AND($AI33>0,$F33=BM$1),$AI33,"") | BQ33: =IF(AND($AI33>0,$F33=BQ$1),$AI33,"") | BU33: =IF(AND($AI33>0,$F33=BU$1),$AI33,"") | BY33: =IF(AND($AI33>0,$F33=BY$1),$AI33,"") | CC33: =IF(AND($AI33>0,$F33=CC$1),$AI33,"") | CG33: =IF(AND($AI33>0,$F33=CG$1),$AI33,"") -> 1 | CK33: =IF(AND($AI33>0,$F33=CK$1),$AI33,"") | CO33: =IF(AND($AI33>0,$F33=CO$1),$AI33,"")
A34: 039999900121062749 | B34: 5681279 | C34: 00025 | D34: Préparé | E34: 24731 | F34: F03 | G34: PMF.01.20.00.D | H34: 27/06/2018 14:38:09 | I34: ad001 | J34: UVC | K34: Stock vide | L34: Non | M34: 0 | N34: 0 | O34: ANAMIGAN | P34: 01/01/1990 12:00:00 | Q34: 0 | R34: 27/06/2018 14:38:09 | S34: 81 | T34: 8316 | U34: 12106274 | X34: 1 | Y34: 1 | Z34: 0 | AA34: 0 | AB34: 0 | AD34: Date LC : Traçabilité totale | AE34: Non | AG34: 2 | AH34: 2 | AI34: =SUM(X:X-Z:Z) -> 1 | AO34: =IF(AND($AI34>0,$F34=AO$1),$AI34,"") | AS34: =IF(AND($AI34>0,$F34=AS$1),$AI34,"") | AW34: =IF(AND($AI34>0,$F34=AW$1),$AI34,"") | BA34: =IF(AND($AI34>0,$F34=BA$1),$AI34,"") | BE34: =IF(AND($AI34>0,$F34=BE$1),$AI34,"") | BI34: =IF(AND($AI34>0,$F34=BI$1),$AI34,"") | BM34: =IF(AND($AI34>0,$F34=BM$1),$AI34,"") | BQ34: =IF(AND($AI34>0,$F34=BQ$1),$AI34,"") | BU34: =IF(AND($AI34>0,$F34=BU$1),$AI34,"") -> 1 | BY34: =IF(AND($AI34>0,$F34=BY$1),$AI34,"") | CC34: =IF(AND($AI34>0,$F34=CC$1),$AI34,"") | CG34: =IF(AND($AI34>0,$F34=CG$1),$AI34,"") | CK34: =IF(AND($AI34>0,$F34=CK$1),$AI34,"") | CO34: =IF(AND($AI34>0,$F34=CO$1),$AI34,"")
A35: 039999900121092845 | B35: 5702144 | C35: 00003 | D35: Préparé | E35: 110036 | F35: F04 | G35: PMF.01.22.00.D | H35: 27/06/2018 14:37:40 | I35: ad001 | J35: UVC | K35: Stock vide | L35: Non | M35: 0 | N35: 0 | O35: ANAMIGAN | P35: 01/01/1990 12:00:00 | Q35: 0 | R35: 27/06/2018 14:37:40 | S35: 81 | T35: 8316 | U35: 12109284 | X35: 1 | Y35: 1 | Z35: 0 | AA35: 0 | AB35: 0 | AE35: Oui | AG35: 2 | AH35: 2 | AI35: =SUM(X:X-Z:Z) -> 1 | AO35: =IF(AND($AI35>0,$F35=AO$1),$AI35,"") | AS35: =IF(AND($AI35>0,$F35=AS$1),$AI35,"") | AW35: =IF(AND($AI35>0,$F35=AW$1),$AI35,"") | BA35: =IF(AND($AI35>0,$F35=BA$1),$AI35,"") | BE35: =IF(AND($AI35>0,$F35=BE$1),$AI35,"") | BI35: =IF(AND($AI35>0,$F35=BI$1),$AI35,"") | BM35: =IF(AND($AI35>0,$F35=BM$1),$AI35,"") | BQ35: =IF(AND($AI35>0,$F35=BQ$1),$AI35,"") | BU35: =IF(AND($AI35>0,$F35=BU$1),$AI35,"") | BY35: =IF(AND($AI35>0,$F35=BY$1),$AI35,"") -> 1 | CC35: =IF(AND($AI35>0,$F35=CC$1),$AI35,"") | CG35: =IF(AND($AI35>0,$F35=CG$1),$AI35,"") | CK35: =IF(AND($AI35>0,$F35=CK$1),$AI35,"") | CO35: =IF(AND($AI35>0,$F35=CO$1),$AI35,"")
A36: 039999900121048712 | B36: 5699383 | C36: 00063 | D36: Préparé | E36: 57999 | F36: F05 | G36: PFL.02.30.03.B | H36: 27/06/2018 14:34:46 | I36: ad001 | J36: UVC | K36: Stock vide | L36: Non | M36: 0 | N36: 0 | O36: ANAMIGAN | P36: 01/01/1990 12:00:00 | Q36: 0 | R36: 27/06/2018 14:34:46 | S36: 81 | T36: 8316 | U36: 12104871 | X36: 1 | Y36: 1 | Z36: 0 | AA36: 0 | AB36: 0 | AE36: Oui | AG36: 8 | AH36: 2 | AI36: =SUM(X:X-Z:Z) -> 1 | AO36: =IF(AND($AI36>0,$F36=AO$1),$AI36,"") | AS36: =IF(AND($AI36>0,$F36=AS$1),$AI36,"") | AW36: =IF(AND($AI36>0,$F36=AW$1),$AI36,"") | BA36: =IF(AND($AI36>0,$F36=BA$1),$AI36,"") | BE36: =IF(AND($AI36>0,$F36=BE$1),$AI36,"") | BI36: =IF(AND($AI36>0,$F36=BI$1),$AI36,"") | BM36: =IF(AND($AI36>0,$F36=BM$1),$AI36,"") | BQ36: =IF(AND($AI36>0,$F36=BQ$1),$AI36,"") | BU36: =IF(AND($AI36>0,$F36=BU$1),$AI36,"") | BY36: =IF(AND($AI36>0,$F36=BY$1),$AI36,"") | CC36: =IF(AND($AI36>0,$F36=CC$1),$AI36,"") -> 1 | CG36: =IF(AND($AI36>0,$F36=CG$1),$AI36,"") | CK36: =IF(AND($AI36>0,$F36=CK$1),$AI36,"") | CO36: =IF(AND($AI36>0,$F36=CO$1),$AI36,"")
A37: 039999900121064422 | B37: 5699573 | C37: 00022 | D37: Préparé | E37: 57999 | F37: F05 | G37: PFL.02.30.03.B | H37: 27/06/2018 14:33:59 | I37: ad001 | J37: UVC | L37: Non | M37: 0 | N37: 0 | O37: ANAMIGAN | P37: 01/01/1990 12:00:00 | Q37: 0 | R37: 27/06/2018 14:33:59 | S37: 81 | T37: 8316 | U37: 12106442 | X37: 1 | Y37: 1 | Z37: 0 | AA37: 0 | AB37: 0 | AE37: Oui | AG37: 9 | AH37: 2 | AI37: =SUM(X:X-Z:Z) -> 1 | AO37: =IF(AND($AI37>0,$F37=AO$1),$AI37,"") | AS37: =IF(AND($AI37>0,$F37=AS$1),$AI37,"") | AW37: =IF(AND($AI37>0,$F37=AW$1),$AI37,"") | BA37: =IF(AND($AI37>0,$F37=BA$1),$AI37,"") | BE37: =IF(AND($AI37>0,$F37=BE$1),$AI37,"") | BI37: =IF(AND($AI37>0,$F37=BI$1),$AI37,"") | BM37: =IF(AND($AI37>0,$F37=BM$1),$AI37,"") | BQ37: =IF(AND($AI37>0,$F37=BQ$1),$AI37,"") | BU37: =IF(AND($AI37>0,$F37=BU$1),$AI37,"") | BY37: =IF(AND($AI37>0,$F37=BY$1),$AI37,"") | CC37: =IF(AND($AI37>0,$F37=CC$1),$AI37,"") -> 1 | CG37: =IF(AND($AI37>0,$F37=CG$1),$AI37,"") | CK37: =IF(AND($AI37>0,$F37=CK$1),$AI37,"") | CO37: =IF(AND($AI37>0,$F37=CO$1),$AI37,"")
A38: 039999900121050029 | B38: 5700858 | C38: 00025 | D38: Préparé | E38: 3607 | F38: F05 | G38: PFL.01.22.02.A | H38: 27/06/2018 14:06:55 | I38: ad001 | J38: UVC | L38: Non | M38: 0 | N38: 0 | O38: AFILET | P38: 27/06/2018 12:59:25 | Q38: CGBONGUE | R38: 27/06/2018 14:06:55 | S38: 60022 | T38: 8292 | U38: 12105002 | X38: 1 | Y38: 1 | Z38: 0 | AA38: 0 | AB38: 0 | AD38: Date LC : Traçabilité totale | AE38: Non | AG38: 2 | AH38: 2 | AI38: =SUM(X:X-Z:Z) -> 1 | AO38: =IF(AND($AI38>0,$F38=AO$1),$AI38,"") | AS38: =IF(AND($AI38>0,$F38=AS$1),$AI38,"") | AW38: =IF(AND($AI38>0,$F38=AW$1),$AI38,"") | BA38: =IF(AND($AI38>0,$F38=BA$1),$AI38,"") | BE38: =IF(AND($AI38>0,$F38=BE$1),$AI38,"") | BI38: =IF(AND($AI38>0,$F38=BI$1),$AI38,"") | BM38: =IF(AND($AI38>0,$F38=BM$1),$AI38,"") | BQ38: =IF(AND($AI38>0,$F38=BQ$1),$AI38,"") | BU38: =IF(AND($AI38>0,$F38=BU$1),$AI38,"") | BY38: =IF(AND($AI38>0,$F38=BY$1),$AI38,"") | CC38: =IF(AND($AI38>0,$F38=CC$1),$AI38,"") -> 1 | CG38: =IF(AND($AI38>0,$F38=CG$1),$AI38,"") | CK38: =IF(AND($AI38>0,$F38=CK$1),$AI38,"") | CO38: =IF(AND($AI38>0,$F38=CO$1),$AI38,"")
A39: 039999900121142564 | B39: 5702160 | C39: 00014 | D39: Préparé | E39: 157507 | F39: G2P_F | G39: PAF.01.01.01.A | H39: 27/06/2018 14:05:26 | I39: ad001 | J39: UVC | K39: Mvt manquant WCS | L39: Non | M39: 0 | N39: 0 | O39: Tâche | P39: 27/06/2018 14:05:26 | Q39: CIBRAHIM | R39: 27/06/2018 14:05:26 | S39: 39 | T39: -1 | U39: 12114256 | X39: 1 | Y39: 1 | Z39: 0 | AA39: 0 | AB39: 0 | AD39: Date LC : Traçabilité totale | AE39: Non | AG39: 7 | AH39: 2 | AI39: =SUM(X:X-Z:Z) -> 1 | AO39: =IF(AND($AI39>0,$F39=AO$1),$AI39,"") | AS39: =IF(AND($AI39>0,$F39=AS$1),$AI39,"") | AW39: =IF(AND($AI39>0,$F39=AW$1),$AI39,"") | BA39: =IF(AND($AI39>0,$F39=BA$1),$AI39,"") | BE39: =IF(AND($AI39>0,$F39=BE$1),$AI39,"") | BI39: =IF(AND($AI39>0,$F39=BI$1),$AI39,"") | BM39: =IF(AND($AI39>0,$F39=BM$1),$AI39,"") | BQ39: =IF(AND($AI39>0,$F39=BQ$1),$AI39,"") | BU39: =IF(AND($AI39>0,$F39=BU$1),$AI39,"") | BY39: =IF(AND($AI39>0,$F39=BY$1),$AI39,"") | CC39: =IF(AND($AI39>0,$F39=CC$1),$AI39,"") | CG39: =IF(AND($AI39>0,$F39=CG$1),$AI39,"") | CK39: =IF(AND($AI39>0,$F39=CK$1),$AI39,"") | CO39: =IF(AND($AI39>0,$F39=CO$1),$AI39,"") -> 1
A40: 039999900121119160 | B40: 5689914 | C40: 00007 | D40: Préparé | E40: 118768 | F40: G2P_A | G40: PAA.01.01.01.A | H40: 27/06/2018 13:36:40 | I40: ad001 | J40: UVC | K40: Mvt manquant WCS | L40: Non | M40: 0 | N40: 0 | O40: Tâche | P40: 27/06/2018 13:36:40 | Q40: FDJAOUDI | R40: 27/06/2018 13:36:40 | S40: 39 | T40: -1 | U40: 12111916 | X40: 1 | Y40: 1 | Z40: 0 | AA40: 0 | AB40: 0 | AE40: Non | AG40: 7 | AH40: 2 | AI40: =SUM(X:X-Z:Z) -> 1 | AO40: =IF(AND($AI40>0,$F40=AO$1),$AI40,"") | AS40: =IF(AND($AI40>0,$F40=AS$1),$AI40,"") | AW40: =IF(AND($AI40>0,$F40=AW$1),$AI40,"") | BA40: =IF(AND($AI40>0,$F40=BA$1),$AI40,"") | BE40: =IF(AND($AI40>0,$F40=BE$1),$AI40,"") | BI40: =IF(AND($AI40>0,$F40=BI$1),$AI40,"") | BM40: =IF(AND($AI40>0,$F40=BM$1),$AI40,"") | BQ40: =IF(AND($AI40>0,$F40=BQ$1),$AI40,"") | BU40: =IF(AND($AI40>0,$F40=BU$1),$AI40,"") | BY40: =IF(AND($AI40>0,$F40=BY$1),$AI40,"") | CC40: =IF(AND($AI40>0,$F40=CC$1),$AI40,"") | CG40: =IF(AND($AI40>0,$F40=CG$1),$AI40,"") | CK40: =IF(AND($AI40>0,$F40=CK$1),$AI40,"") -> 1 | CO40: =IF(AND($AI40>0,$F40=CO$1),$AI40,"")
A41: 039999900121137751 | B41: 5703235 | C41: 00004 | D41: Préparé | E41: 125907 | F41: G2P_A | G41: PAA.01.01.01.A | H41: 27/06/2018 13:24:16 | I41: ad001 | J41: UVC | K41: Mvt manquant WCS | L41: Non | M41: 0 | N41: 0 | O41: Tâche | P41: 27/06/2018 13:24:16 | Q41: CLOUMOU | R41: 27/06/2018 13:24:16 | S41: 39 | T41: -1 | U41: 12113775 | X41: 1 | Y41: 1 | Z41: 0 | AA41: 0 | AB41: 0 | AE41: Non | AG41: 3 | AH41: 2 | AI41: =SUM(X:X-Z:Z) -> 1 | AO41: =IF(AND($AI41>0,$F41=AO$1),$AI41,"") | AS41: =IF(AND($AI41>0,$F41=AS$1),$AI41,"") | AW41: =IF(AND($AI41>0,$F41=AW$1),$AI41,"") | BA41: =IF(AND($AI41>0,$F41=BA$1),$AI41,"") | BE41: =IF(AND($AI41>0,$F41=BE$1),$AI41,"") | BI41: =IF(AND($AI41>0,$F41=BI$1),$AI41,"") | BM41: =IF(AND($AI41>0,$F41=BM$1),$AI41,"") | BQ41: =IF(AND($AI41>0,$F41=BQ$1),$AI41,"") | BU41: =IF(AND($AI41>0,$F41=BU$1),$AI41,"") | BY41: =IF(AND($AI41>0,$F41=BY$1),$AI41,"") | CC41: =IF(AND($AI41>0,$F41=CC$1),$AI41,"") | CG41: =IF(AND($AI41>0,$F41=CG$1),$AI41,"") | CK41: =IF(AND($AI41>0,$F41=CK$1),$AI41,"") -> 1 | CO41: =IF(AND($AI41>0,$F41=CO$1),$AI41,"")
A42: 039999900121061957 | B42: 5701271 | C42: 00018 | D42: Préparé | E42: 233408 | F42: A06 | G42: PMA.02.15.02.A | H42: 27/06/2018 13:08:53 | I42: ad001 | J42: UVC | K42: Stock vide | L42: Non | M42: 0 | N42: 0 | O42: LKAPPLER | P42: 01/01/1990 12:00:00 | Q42: 0 | R42: 27/06/2018 13:08:53 | S42: 126 | T42: 7107 | U42: 12106195 | X42: 1 | Y42: 1 | Z42: 0 | AA42: 0 | AB42: 0 | AE42: Oui | AG42: 2 | AH42: 2 | AI42: =SUM(X:X-Z:Z) -> 1 | AO42: =IF(AND($AI42>0,$F42=AO$1),$AI42,"") | AS42: =IF(AND($AI42>0,$F42=AS$1),$AI42,"") | AW42: =IF(AND($AI42>0,$F42=AW$1),$AI42,"") | BA42: =IF(AND($AI42>0,$F42=BA$1),$AI42,"") | BE42: =IF(AND($AI42>0,$F42=BE$1),$AI42,"") | BI42: =IF(AND($AI42>0,$F42=BI$1),$AI42,"") -> 1 | BM42: =IF(AND($AI42>0,$F42=BM$1),$AI42,"") | BQ42: =IF(AND($AI42>0,$F42=BQ$1),$AI42,"") | BU42: =IF(AND($AI42>0,$F42=BU$1),$AI42,"") | BY42: =IF(AND($AI42>0,$F42=BY$1),$AI42,"") | CC42: =IF(AND($AI42>0,$F42=CC$1),$AI42,"") | CG42: =IF(AND($AI42>0,$F42=CG$1),$AI42,"") | CK42: =IF(AND($AI42>0,$F42=CK$1),$AI42,"") | CO42: =IF(AND($AI42>0,$F42=CO$1),$AI42,"")
A43: 039999900121050029 | B43: 5700858 | C43: 00026 | D43: Préparé | E43: 37527 | F43: G2P_F | G43: PAF.01.01.01.A | H43: 27/06/2018 12:51:41 | I43: ad001 | J43: UVC | K43: Mvt manquant WCS | L43: Non | M43: 0 | N43: 0 | O43: Tâche | P43: 27/06/2018 12:51:41 | Q43: Tâche | R43: 27/06/2018 12:51:41 | S43: 39 | T43: -1 | U43: 12105002 | X43: 1 | Y43: 1 | Z43: 0 | AA43: 0 | AB43: 0 | AD43: Date LC : Traçabilité totale | AE43: Non | AG43: 12 | AH43: 2 | AI43: =SUM(X:X-Z:Z) -> 1 | AO43: =IF(AND($AI43>0,$F43=AO$1),$AI43,"") | AS43: =IF(AND($AI43>0,$F43=AS$1),$AI43,"") | AW43: =IF(AND($AI43>0,$F43=AW$1),$AI43,"") | BA43: =IF(AND($AI43>0,$F43=BA$1),$AI43,"") | BE43: =IF(AND($AI43>0,$F43=BE$1),$AI43,"") | BI43: =IF(AND($AI43>0,$F43=BI$1),$AI43,"") | BM43: =IF(AND($AI43>0,$F43=BM$1),$AI43,"") | BQ43: =IF(AND($AI43>0,$F43=BQ$1),$AI43,"") | BU43: =IF(AND($AI43>0,$F43=BU$1),$AI43,"") | BY43: =IF(AND($AI43>0,$F43=BY$1),$AI43,"") | CC43: =IF(AND($AI43>0,$F43=CC$1),$AI43,"") | CG43: =IF(AND($AI43>0,$F43=CG$1),$AI43,"") | CK43: =IF(AND($AI43>0,$F43=CK$1),$AI43,"") | CO43: =IF(AND($AI43>0,$F43=CO$1),$AI43,"") -> 1
A44: 039999900121050029 | B44: 5700858 | C44: 00007 | D44: Préparé | E44: 116611 | F44: G2P_F | G44: PAF.01.01.01.A | H44: 27/06/2018 12:51:41 | I44: ad001 | J44: UVC | K44: Mvt manquant WCS | L44: Non | M44: 0 | N44: 0 | O44: Tâche | P44: 27/06/2018 12:51:41 | Q44: Tâche | R44: 27/06/2018 12:51:41 | S44: 39 | T44: -1 | U44: 12105002 | X44: 2 | Y44: 1 | Z44: 0 | AA44: 0 | AB44: 0 | AD44: Date LC : Traçabilité totale | AE44: Non | AG44: 9 | AH44: 2 | AI44: =SUM(X:X-Z:Z) -> 2 | AO44: =IF(AND($AI44>0,$F44=AO$1),$AI44,"") | AS44: =IF(AND($AI44>0,$F44=AS$1),$AI44,"") | AW44: =IF(AND($AI44>0,$F44=AW$1),$AI44,"") | BA44: =IF(AND($AI44>0,$F44=BA$1),$AI44,"") | BE44: =IF(AND($AI44>0,$F44=BE$1),$AI44,"") | BI44: =IF(AND($AI44>0,$F44=BI$1),$AI44,"") | BM44: =IF(AND($AI44>0,$F44=BM$1),$AI44,"") | BQ44: =IF(AND($AI44>0,$F44=BQ$1),$AI44,"") | BU44: =IF(AND($AI44>0,$F44=BU$1),$AI44,"") | BY44: =IF(AND($AI44>0,$F44=BY$1),$AI44,"") | CC44: =IF(AND($AI44>0,$F44=CC$1),$AI44,"") | CG44: =IF(AND($AI44>0,$F44=CG$1),$AI44,"") | CK44: =IF(AND($AI44>0,$F44=CK$1),$AI44,"") | CO44: =IF(AND($AI44>0,$F44=CO$1),$AI44,"") -> 2
A45: 039999900121092760 | B45: 5701832 | C45: 00008 | D45: Préparé | E45: 158760 | F45: G2P_F | G45: PAF.01.01.01.A | H45: 27/06/2018 12:51:36 | I45: ad001 | J45: UVC | K45: Mvt manquant WCS | L45: Non | M45: 0 | N45: 0 | O45: Tâche | P45: 27/06/2018 12:51:36 | Q45: JMABEYA | R45: 27/06/2018 12:51:36 | S45: 39 | T45: -1 | U45: 12109276 | X45: 2 | Y45: 1 | Z45: 0 | AA45: 0 | AB45: 0 | AD45: Date LC : Traçabilité totale | AE45: Non | AG45: 9 | AH45: 2 | AI45: =SUM(X:X-Z:Z) -> 2 | AO45: =IF(AND($AI45>0,$F45=AO$1),$AI45,"") | AS45: =IF(AND($AI45>0,$F45=AS$1),$AI45,"") | AW45: =IF(AND($AI45>0,$F45=AW$1),$AI45,"") | BA45: =IF(AND($AI45>0,$F45=BA$1),$AI45,"") | BE45: =IF(AND($AI45>0,$F45=BE$1),$AI45,"") | BI45: =IF(AND($AI45>0,$F45=BI$1),$AI45,"") | BM45: =IF(AND($AI45>0,$F45=BM$1),$AI45,"") | BQ45: =IF(AND($AI45>0,$F45=BQ$1),$AI45,"") | BU45: =IF(AND($AI45>0,$F45=BU$1),$AI45,"") | BY45: =IF(AND($AI45>0,$F45=BY$1),$AI45,"") | CC45: =IF(AND($AI45>0,$F45=CC$1),$AI45,"") | CG45: =IF(AND($AI45>0,$F45=CG$1),$AI45,"") | CK45: =IF(AND($AI45>0,$F45=CK$1),$AI45,"") | CO45: =IF(AND($AI45>0,$F45=CO$1),$AI45,"") -> 2
A46: 039999900121093200 | B46: 5702612 | C46: 00020 | D46: Préparé | E46: 182163 | F46: G2P_F | G46: PAF.01.01.01.A | H46: 27/06/2018 12:51:19 | I46: ad001 | J46: UVC | K46: Mvt manquant WCS | L46: Non | M46: 0 | N46: 0 | O46: Tâche | P46: 27/06/2018 12:51:19 | Q46: Tâche | R46: 27/06/2018 12:51:19 | S46: 39 | T46: -1 | U46: 12109320 | X46: 1 | Y46: 1 | Z46: 0 | AA46: 0 | AB46: 0 | AD46: Date LC : Traçabilité totale | AE46: Non | AG46: 4 | AH46: 2 | AI46: =SUM(X:X-Z:Z) -> 1 | AO46: =IF(AND($AI46>0,$F46=AO$1),$AI46,"") | AS46: =IF(AND($AI46>0,$F46=AS$1),$AI46,"") | AW46: =IF(AND($AI46>0,$F46=AW$1),$AI46,"") | BA46: =IF(AND($AI46>0,$F46=BA$1),$AI46,"") | BE46: =IF(AND($AI46>0,$F46=BE$1),$AI46,"") | BI46: =IF(AND($AI46>0,$F46=BI$1),$AI46,"") | BM46: =IF(AND($AI46>0,$F46=BM$1),$AI46,"") | BQ46: =IF(AND($AI46>0,$F46=BQ$1),$AI46,"") | BU46: =IF(AND($AI46>0,$F46=BU$1),$AI46,"") | BY46: =IF(AND($AI46>0,$F46=BY$1),$AI46,"") | CC46: =IF(AND($AI46>0,$F46=CC$1),$AI46,"") | CG46: =IF(AND($AI46>0,$F46=CG$1),$AI46,"") | CK46: =IF(AND($AI46>0,$F46=CK$1),$AI46,"") | CO46: =IF(AND($AI46>0,$F46=CO$1),$AI46,"") -> 1
A47: 039999900121062701 | B47: 5673841 | C47: 00020 | D47: Préparé | E47: 81663 | F47: G2P_F | G47: PAF.01.01.01.A | H47: 27/06/2018 12:50:28 | I47: ad001 | J47: UVC | K47: Mvt manquant WCS | L47: Non | M47: 0 | N47: 0 | O47: Tâche | P47: 27/06/2018 12:50:28 | Q47: JMABEYA | R47: 27/06/2018 12:50:28 | S47: 39 | T47: -1 | U47: 12106270 | X47: 1 | Y47: 1 | Z47: 0 | AA47: 0 | AB47: 0 | AD47: Date LC : Traçabilité totale | AE47: Non | AG47: 8 | AH47: 2 | AI47: =SUM(X:X-Z:Z) -> 1 | AO47: =IF(AND($AI47>0,$F47=AO$1),$AI47,"") | AS47: =IF(AND($AI47>0,$F47=AS$1),$AI47,"") | AW47: =IF(AND($AI47>0,$F47=AW$1),$AI47,"") | BA47: =IF(AND($AI47>0,$F47=BA$1),$AI47,"") | BE47: =IF(AND($AI47>0,$F47=BE$1),$AI47,"") | BI47: =IF(AND($AI47>0,$F47=BI$1),$AI47,"") | BM47: =IF(AND($AI47>0,$F47=BM$1),$AI47,"") | BQ47: =IF(AND($AI47>0,$F47=BQ$1),$AI47,"") | BU47: =IF(AND($AI47>0,$F47=BU$1),$AI47,"") | BY47: =IF(AND($AI47>0,$F47=BY$1),$AI47,"") | CC47: =IF(AND($AI47>0,$F47=CC$1),$AI47,"") | CG47: =IF(AND($AI47>0,$F47=CG$1),$AI47,"") | CK47: =IF(AND($AI47>0,$F47=CK$1),$AI47,"") | CO47: =IF(AND($AI47>0,$F47=CO$1),$AI47,"") -> 1
A48: 039999900121062893 | B48: 5691113 | C48: 00005 | D48: Préparé | E48: 130586 | F48: G2P_F | G48: PAF.01.01.01.A | H48: 27/06/2018 12:50:28 | I48: ad001 | J48: UVC | K48: Mvt manquant WCS | L48: Non | M48: 0 | N48: 0 | O48: Tâche | P48: 27/06/2018 12:50:28 | Q48: Tâche | R48: 27/06/2018 12:50:28 | S48: 39 | T48: -1 | U48: 12106289 | X48: 1 | Y48: 1 | Z48: 0 | AA48: 0 | AB48: 0 | AD48: Date LC : Traçabilité totale | AE48: Non | AG48: 2 | AH48: 2 | AI48: =SUM(X:X-Z:Z) -> 1 | AO48: =IF(AND($AI48>0,$F48=AO$1),$AI48,"") | AS48: =IF(AND($AI48>0,$F48=AS$1),$AI48,"") | AW48: =IF(AND($AI48>0,$F48=AW$1),$AI48,"") | BA48: =IF(AND($AI48>0,$F48=BA$1),$AI48,"") | BE48: =IF(AND($AI48>0,$F48=BE$1),$AI48,"") | BI48: =IF(AND($AI48>0,$F48=BI$1),$AI48,"") | BM48: =IF(AND($AI48>0,$F48=BM$1),$AI48,"") | BQ48: =IF(AND($AI48>0,$F48=BQ$1),$AI48,"") | BU48: =IF(AND($AI48>0,$F48=BU$1),$AI48,"") | BY48: =IF(AND($AI48>0,$F48=BY$1),$AI48,"") | CC48: =IF(AND($AI48>0,$F48=CC$1),$AI48,"") | CG48: =IF(AND($AI48>0,$F48=CG$1),$AI48,"") | CK48: =IF(AND($AI48>0,$F48=CK$1),$AI48,"") | CO48: =IF(AND($AI48>0,$F48=CO$1),$AI48,"") -> 1
A49: 039999900121062961 | B49: 5693063 | C49: 00022 | D49: Préparé | E49: 87907 | F49: G2P_F | G49: PAF.01.01.01.A | H49: 27/06/2018 12:47:27 | I49: ad001 | J49: UVC | K49: Mvt manquant WCS | L49: Non | M49: 0 | N49: 0 | O49: Tâche | P49: 27/06/2018 12:47:27 | Q49: Tâche | R49: 27/06/2018 12:47:27 | S49: 39 | T49: -1 | U49: 12106296 | X49: 1 | Y49: 1 | Z49: 0 | AA49: 0 | AB49: 0 | AD49: Date LC : Traçabilité totale | AE49: Non | AG49: 20 | AH49: 2 | AI49: =SUM(X:X-Z:Z) -> 1 | AO49: =IF(AND($AI49>0,$F49=AO$1),$AI49,"") | AS49: =IF(AND($AI49>0,$F49=AS$1),$AI49,"") | AW49: =IF(AND($AI49>0,$F49=AW$1),$AI49,"") | BA49: =IF(AND($AI49>0,$F49=BA$1),$AI49,"") | BE49: =IF(AND($AI49>0,$F49=BE$1),$AI49,"") | BI49: =IF(AND($AI49>0,$F49=BI$1),$AI49,"") | BM49: =IF(AND($AI49>0,$F49=BM$1),$AI49,"") | BQ49: =IF(AND($AI49>0,$F49=BQ$1),$AI49,"") | BU49: =IF(AND($AI49>0,$F49=BU$1),$AI49,"") | BY49: =IF(AND($AI49>0,$F49=BY$1),$AI49,"") | CC49: =IF(AND($AI49>0,$F49=CC$1),$AI49,"") | CG49: =IF(AND($AI49>0,$F49=CG$1),$AI49,"") | CK49: =IF(AND($AI49>0,$F49=CK$1),$AI49,"") | CO49: =IF(AND($AI49>0,$F49=CO$1),$AI49,"") -> 1
A50: 039999900121109048 | B50: 5701736 | C50: 00009 | D50: Préparé | E50: 59618 | F50: G2P_F | G50: PAF.01.01.01.A | H50: 27/06/2018 12:45:59 | I50: ad001 | J50: UVC | K50: Mvt manquant WCS | L50: Non | M50: 0 | N50: 0 | O50: Tâche | P50: 27/06/2018 12:45:59 | Q50: MZAIDOUN | R50: 27/06/2018 12:45:59 | S50: 39 | T50: -1 | U50: 12110904 | X50: 2 | Y50: 1 | Z50: 1 | AA50: 1 | AB50: 0 | AD50: Date LC : Traçabilité totale | AE50: Non | AG50: 2 | AH50: 2 | AI50: =SUM(X:X-Z:Z) -> 1 | AO50: =IF(AND($AI50>0,$F50=AO$1),$AI50,"") | AS50: =IF(AND($AI50>0,$F50=AS$1),$AI50,"") | AW50: =IF(AND($AI50>0,$F50=AW$1),$AI50,"") | BA50: =IF(AND($AI50>0,$F50=BA$1),$AI50,"") | BE50: =IF(AND($AI50>0,$F50=BE$1),$AI50,"") | BI50: =IF(AND($AI50>0,$F50=BI$1),$AI50,"") | BM50: =IF(AND($AI50>0,$F50=BM$1),$AI50,"") | BQ50: =IF(AND($AI50>0,$F50=BQ$1),$AI50,"") | BU50: =IF(AND($AI50>0,$F50=BU$1),$AI50,"") | BY50: =IF(AND($AI50>0,$F50=BY$1),$AI50,"") | CC50: =IF(AND($AI50>0,$F50=CC$1),$AI50,"") | CG50: =IF(AND($AI50>0,$F50=CG$1),$AI50,"") | CK50: =IF(AND($AI50>0,$F50=CK$1),$AI50,"") | CO50: =IF(AND($AI50>0,$F50=CO$1),$AI50,"") -> 1
A51: 039999900121057998 | B51: 5698991 | C51: 00006 | D51: Préparé | E51: 155227 | F51: G2P_A | G51: PAA.01.01.01.A | H51: 27/06/2018 12:44:35 | I51: ad001 | J51: UVC | K51: Mvt manquant WCS | L51: Non | M51: 0 | N51: 0 | O51: Tâche | P51: 27/06/2018 12:44:35 | Q51: Tâche | R51: 27/06/2018 12:44:36 | S51: 39 | T51: -1 | U51: 12105799 | X51: 1 | Y51: 1 | Z51: 0 | AA51: 0 | AB51: 0 | AE51: Non | AG51: 7 | AH51: 2 | AI51: =SUM(X:X-Z:Z) -> 1 | AO51: =IF(AND($AI51>0,$F51=AO$1),$AI51,"") | AS51: =IF(AND($AI51>0,$F51=AS$1),$AI51,"") | AW51: =IF(AND($AI51>0,$F51=AW$1),$AI51,"") | BA51: =IF(AND($AI51>0,$F51=BA$1),$AI51,"") | BE51: =IF(AND($AI51>0,$F51=BE$1),$AI51,"") | BI51: =IF(AND($AI51>0,$F51=BI$1),$AI51,"") | BM51: =IF(AND($AI51>0,$F51=BM$1),$AI51,"") | BQ51: =IF(AND($AI51>0,$F51=BQ$1),$AI51,"") | BU51: =IF(AND($AI51>0,$F51=BU$1),$AI51,"") | BY51: =IF(AND($AI51>0,$F51=BY$1),$AI51,"") | CC51: =IF(AND($AI51>0,$F51=CC$1),$AI51,"") | CG51: =IF(AND($AI51>0,$F51=CG$1),$AI51,"") | CK51: =IF(AND($AI51>0,$F51=CK$1),$AI51,"") -> 1 | CO51: =IF(AND($AI51>0,$F51=CO$1),$AI51,"")
A52: 039999900121063807 | B52: 5698148 | C52: 00035 | D52: Préparé | E52: 87907 | F52: G2P_F | G52: PAF.01.01.01.A | H52: 27/06/2018 12:43:22 | I52: ad001 | J52: UVC | K52: Mvt manquant WCS | L52: Non | M52: 0 | N52: 0 | O52: Tâche | P52: 27/06/2018 12:43:22 | Q52: Tâche | R52: 27/06/2018 12:43:22 | S52: 39 | T52: -1 | U52: 12106380 | X52: 1 | Y52: 1 | Z52: 0 | AA52: 0 | AB52: 0 | AD52: Date LC : Traçabilité totale | AE52: Non | AG52: 15 | AH52: 2 | AI52: =SUM(X:X-Z:Z) -> 1 | AO52: =IF(AND($AI52>0,$F52=AO$1),$AI52,"") | AS52: =IF(AND($AI52>0,$F52=AS$1),$AI52,"") | AW52: =IF(AND($AI52>0,$F52=AW$1),$AI52,"") | BA52: =IF(AND($AI52>0,$F52=BA$1),$AI52,"") | BE52: =IF(AND($AI52>0,$F52=BE$1),$AI52,"") | BI52: =IF(AND($AI52>0,$F52=BI$1),$AI52,"") | BM52: =IF(AND($AI52>0,$F52=BM$1),$AI52,"") | BQ52: =IF(AND($AI52>0,$F52=BQ$1),$AI52,"") | BU52: =IF(AND($AI52>0,$F52=BU$1),$AI52,"") | BY52: =IF(AND($AI52>0,$F52=BY$1),$AI52,"") | CC52: =IF(AND($AI52>0,$F52=CC$1),$AI52,"") | CG52: =IF(AND($AI52>0,$F52=CG$1),$AI52,"") | CK52: =IF(AND($AI52>0,$F52=CK$1),$AI52,"") | CO52: =IF(AND($AI52>0,$F52=CO$1),$AI52,"") -> 1
A53: 039999900121059541 | B53: 5700807 | C53: 00009 | D53: Préparé | E53: 130260 | F53: G2P_A | G53: PAA.01.01.01.A | H53: 27/06/2018 12:42:07 | I53: ad001 | J53: UVC | K53: Mvt manquant WCS | L53: Non | M53: 0 | N53: 0 | O53: Tâche | P53: 27/06/2018 12:42:07 | Q53: Tâche | R53: 27/06/2018 12:42:07 | S53: 39 | T53: -1 | U53: 12105954 | X53: 1 | Y53: 1 | Z53: 0 | AA53: 0 | AB53: 0 | AE53: Non | AG53: 4 | AH53: 2 | AI53: =SUM(X:X-Z:Z) -> 1 | AO53: =IF(AND($AI53>0,$F53=AO$1),$AI53,"") | AS53: =IF(AND($AI53>0,$F53=AS$1),$AI53,"") | AW53: =IF(AND($AI53>0,$F53=AW$1),$AI53,"") | BA53: =IF(AND($AI53>0,$F53=BA$1),$AI53,"") | BE53: =IF(AND($AI53>0,$F53=BE$1),$AI53,"") | BI53: =IF(AND($AI53>0,$F53=BI$1),$AI53,"") | BM53: =IF(AND($AI53>0,$F53=BM$1),$AI53,"") | BQ53: =IF(AND($AI53>0,$F53=BQ$1),$AI53,"") | BU53: =IF(AND($AI53>0,$F53=BU$1),$AI53,"") | BY53: =IF(AND($AI53>0,$F53=BY$1),$AI53,"") | CC53: =IF(AND($AI53>0,$F53=CC$1),$AI53,"") | CG53: =IF(AND($AI53>0,$F53=CG$1),$AI53,"") | CK53: =IF(AND($AI53>0,$F53=CK$1),$AI53,"") -> 1 | CO53: =IF(AND($AI53>0,$F53=CO$1),$AI53,"")
A54: 039999900121062701 | B54: 5673841 | C54: 00013 | D54: Préparé | E54: 4023 | F54: G2P_F | G54: PAF.01.01.01.A | H54: 27/06/2018 12:41:58 | I54: ad001 | J54: UVC | K54: Mvt manquant WCS | L54: Non | M54: 0 | N54: 0 | O54: Tâche | P54: 27/06/2018 12:41:58 | Q54: Tâche | R54: 27/06/2018 12:41:58 | S54: 39 | T54: -1 | U54: 12106270 | X54: 1 | Y54: 1 | Z54: 0 | AA54: 0 | AB54: 0 | AD54: Date LC : Traçabilité totale | AE54: Non | AG54: 5 | AH54: 2 | AI54: =SUM(X:X-Z:Z) -> 1 | AO54: =IF(AND($AI54>0,$F54=AO$1),$AI54,"") | AS54: =IF(AND($AI54>0,$F54=AS$1),$AI54,"") | AW54: =IF(AND($AI54>0,$F54=AW$1),$AI54,"") | BA54: =IF(AND($AI54>0,$F54=BA$1),$AI54,"") | BE54: =IF(AND($AI54>0,$F54=BE$1),$AI54,"") | BI54: =IF(AND($AI54>0,$F54=BI$1),$AI54,"") | BM54: =IF(AND($AI54>0,$F54=BM$1),$AI54,"") | BQ54: =IF(AND($AI54>0,$F54=BQ$1),$AI54,"") | BU54: =IF(AND($AI54>0,$F54=BU$1),$AI54,"") | BY54: =IF(AND($AI54>0,$F54=BY$1),$AI54,"") | CC54: =IF(AND($AI54>0,$F54=CC$1),$AI54,"") | CG54: =IF(AND($AI54>0,$F54=CG$1),$AI54,"") | CK54: =IF(AND($AI54>0,$F54=CK$1),$AI54,"") | CO54: =IF(AND($AI54>0,$F54=CO$1),$AI54,"") -> 1
A55: 039999900121062848 | B55: 5690003 | C55: 00059 | D55: Préparé | E55: 89715 | F55: G2P_F | G55: PAF.01.01.01.A | H55: 27/06/2018 12:40:03 | I55: ad001 | J55: UVC | K55: Mvt manquant WCS | L55: Non | M55: 0 | N55: 0 | O55: Tâche | P55: 27/06/2018 12:40:03 | Q55: Tâche | R55: 27/06/2018 12:40:03 | S55: 39 | T55: -1 | U55: 12106284 | X55: 1 | Y55: 1 | Z55: 0 | AA55: 0 | AB55: 0 | AD55: Date LC : Traçabilité totale | AE55: Non | AG55: 18 | AH55: 2 | AI55: =SUM(X:X-Z:Z) -> 1 | AO55: =IF(AND($AI55>0,$F55=AO$1),$AI55,"") | AS55: =IF(AND($AI55>0,$F55=AS$1),$AI55,"") | AW55: =IF(AND($AI55>0,$F55=AW$1),$AI55,"") | BA55: =IF(AND($AI55>0,$F55=BA$1),$AI55,"") | BE55: =IF(AND($AI55>0,$F55=BE$1),$AI55,"") | BI55: =IF(AND($AI55>0,$F55=BI$1),$AI55,"") | BM55: =IF(AND($AI55>0,$F55=BM$1),$AI55,"") | BQ55: =IF(AND($AI55>0,$F55=BQ$1),$AI55,"") | BU55: =IF(AND($AI55>0,$F55=BU$1),$AI55,"") | BY55: =IF(AND($AI55>0,$F55=BY$1),$AI55,"") | CC55: =IF(AND($AI55>0,$F55=CC$1),$AI55,"") | CG55: =IF(AND($AI55>0,$F55=CG$1),$AI55,"") | CK55: =IF(AND($AI55>0,$F55=CK$1),$AI55,"") | CO55: =IF(AND($AI55>0,$F55=CO$1),$AI55,"") -> 1
A56: 039999900121064200 | B56: 5698935 | C56: 00001 | D56: Préparé | E56: 108988 | F56: G2P_F | G56: PAF.01.01.01.A | H56: 27/06/2018 12:39:41 | I56: ad001 | J56: UVC | K56: Mvt manquant WCS | L56: Non | M56: 0 | N56: 0 | O56: Tâche | P56: 27/06/2018 12:39:41 | Q56: Tâche | R56: 27/06/2018 12:39:41 | S56: 39 | T56: -1 | U56: 12106420 | X56: 1 | Y56: 1 | Z56: 0 | AA56: 0 | AB56: 0 | AD56: Date LC : Traçabilité totale | AE56: Non | AG56: 1 | AH56: 2 | AI56: =SUM(X:X-Z:Z) -> 1 | AO56: =IF(AND($AI56>0,$F56=AO$1),$AI56,"") | AS56: =IF(AND($AI56>0,$F56=AS$1),$AI56,"") | AW56: =IF(AND($AI56>0,$F56=AW$1),$AI56,"") | BA56: =IF(AND($AI56>0,$F56=BA$1),$AI56,"") | BE56: =IF(AND($AI56>0,$F56=BE$1),$AI56,"") | BI56: =IF(AND($AI56>0,$F56=BI$1),$AI56,"") | BM56: =IF(AND($AI56>0,$F56=BM$1),$AI56,"") | BQ56: =IF(AND($AI56>0,$F56=BQ$1),$AI56,"") | BU56: =IF(AND($AI56>0,$F56=BU$1),$AI56,"") | BY56: =IF(AND($AI56>0,$F56=BY$1),$AI56,"") | CC56: =IF(AND($AI56>0,$F56=CC$1),$AI56,"") | CG56: =IF(AND($AI56>0,$F56=CG$1),$AI56,"") | CK56: =IF(AND($AI56>0,$F56=CK$1),$AI56,"") | CO56: =IF(AND($AI56>0,$F56=CO$1),$AI56,"") -> 1
A57: 039999900121055284 | B57: 5696148 | C57: 00013 | D57: Préparé | E57: 166942 | F57: G2P_A | G57: PAA.01.01.01.A | H57: 27/06/2018 12:39:21 | I57: ad001 | J57: UVC | K57: Mvt manquant WCS | L57: Non | M57: 0 | N57: 0 | O57: Tâche | P57: 27/06/2018 12:39:21 | Q57: Tâche | R57: 27/06/2018 12:39:21 | S57: 39 | T57: -1 | U57: 12105528 | X57: 1 | Y57: 1 | Z57: 0 | AA57: 0 | AB57: 0 | AE57: Non | AG57: 6 | AH57: 2 | AI57: =SUM(X:X-Z:Z) -> 1 | AO57: =IF(AND($AI57>0,$F57=AO$1),$AI57,"") | AS57: =IF(AND($AI57>0,$F57=AS$1),$AI57,"") | AW57: =IF(AND($AI57>0,$F57=AW$1),$AI57,"") | BA57: =IF(AND($AI57>0,$F57=BA$1),$AI57,"") | BE57: =IF(AND($AI57>0,$F57=BE$1),$AI57,"") | BI57: =IF(AND($AI57>0,$F57=BI$1),$AI57,"") | BM57: =IF(AND($AI57>0,$F57=BM$1),$AI57,"") | BQ57: =IF(AND($AI57>0,$F57=BQ$1),$AI57,"") | BU57: =IF(AND($AI57>0,$F57=BU$1),$AI57,"") | BY57: =IF(AND($AI57>0,$F57=BY$1),$AI57,"") | CC57: =IF(AND($AI57>0,$F57=CC$1),$AI57,"") | CG57: =IF(AND($AI57>0,$F57=CG$1),$AI57,"") | CK57: =IF(AND($AI57>0,$F57=CK$1),$AI57,"") -> 1 | CO57: =IF(AND($AI57>0,$F57=CO$1),$AI57,"")
A58: 039999900121064545 | B58: 5699865 | C58: 00023 | D58: Préparé | E58: 80063 | F58: G2P_F | G58: PAF.01.01.01.A | H58: 27/06/2018 12:39:12 | I58: ad001 | J58: UVC | K58: Mvt manquant WCS | L58: Non | M58: 0 | N58: 0 | O58: Tâche | P58: 27/06/2018 12:39:11 | Q58: Tâche | R58: 27/06/2018 12:39:12 | S58: 39 | T58: -1 | U58: 12106454 | X58: 1 | Y58: 1 | Z58: 0 | AA58: 0 | AB58: 0 | AD58: Date LC : Traçabilité totale | AE58: Non | AG58: 12 | AH58: 2 | AI58: =SUM(X:X-Z:Z) -> 1 | AO58: =IF(AND($AI58>0,$F58=AO$1),$AI58,"") | AS58: =IF(AND($AI58>0,$F58=AS$1),$AI58,"") | AW58: =IF(AND($AI58>0,$F58=AW$1),$AI58,"") | BA58: =IF(AND($AI58>0,$F58=BA$1),$AI58,"") | BE58: =IF(AND($AI58>0,$F58=BE$1),$AI58,"") | BI58: =IF(AND($AI58>0,$F58=BI$1),$AI58,"") | BM58: =IF(AND($AI58>0,$F58=BM$1),$AI58,"") | BQ58: =IF(AND($AI58>0,$F58=BQ$1),$AI58,"") | BU58: =IF(AND($AI58>0,$F58=BU$1),$AI58,"") | BY58: =IF(AND($AI58>0,$F58=BY$1),$AI58,"") | CC58: =IF(AND($AI58>0,$F58=CC$1),$AI58,"") | CG58: =IF(AND($AI58>0,$F58=CG$1),$AI58,"") | CK58: =IF(AND($AI58>0,$F58=CK$1),$AI58,"") | CO58: =IF(AND($AI58>0,$F58=CO$1),$AI58,"") -> 1
A59: 039999900121092098 | B59: 5702425 | C59: 00098 | D59: Préparé | E59: 70635 | F59: G2P_A | G59: PAA.01.01.01.A | H59: 27/06/2018 12:38:01 | I59: ad001 | J59: UVC | K59: Mvt manquant WCS | L59: Non | M59: 0 | N59: 0 | O59: Tâche | P59: 27/06/2018 12:38:01 | Q59: Tâche | R59: 27/06/2018 12:38:01 | S59: 39 | T59: -1 | U59: 12109209 | X59: 3 | Y59: 1 | Z59: 0 | AA59: 0 | AB59: 0 | AE59: Non | AG59: 13 | AH59: 2 | AI59: =SUM(X:X-Z:Z) -> 3 | AO59: =IF(AND($AI59>0,$F59=AO$1),$AI59,"") | AS59: =IF(AND($AI59>0,$F59=AS$1),$AI59,"") | AW59: =IF(AND($AI59>0,$F59=AW$1),$AI59,"") | BA59: =IF(AND($AI59>0,$F59=BA$1),$AI59,"") | BE59: =IF(AND($AI59>0,$F59=BE$1),$AI59,"") | BI59: =IF(AND($AI59>0,$F59=BI$1),$AI59,"") | BM59: =IF(AND($AI59>0,$F59=BM$1),$AI59,"") | BQ59: =IF(AND($AI59>0,$F59=BQ$1),$AI59,"") | BU59: =IF(AND($AI59>0,$F59=BU$1),$AI59,"") | BY59: =IF(AND($AI59>0,$F59=BY$1),$AI59,"") | CC59: =IF(AND($AI59>0,$F59=CC$1),$AI59,"") | CG59: =IF(AND($AI59>0,$F59=CG$1),$AI59,"") | CK59: =IF(AND($AI59>0,$F59=CK$1),$AI59,"") -> 3 | CO59: =IF(AND($AI59>0,$F59=CO$1),$AI59,"")
A60: 039999900121047401 | B60: 5695557 | C60: 00104 | D60: Préparé | E60: 88535 | F60: G2P_F | G60: PAF.01.01.01.A | H60: 27/06/2018 12:37:50 | I60: ad001 | J60: UVC | K60: Mvt manquant WCS | L60: Non | M60: 0 | N60: 0 | O60: Tâche | P60: 27/06/2018 12:37:50 | Q60: Tâche | R60: 27/06/2018 12:37:50 | S60: 39 | T60: -1 | U60: 12104740 | X60: 1 | Y60: 1 | Z60: 0 | AA60: 0 | AB60: 0 | AD60: Date LC : Traçabilité totale | AE60: Non | AG60: 20 | AH60: 2 | AI60: =SUM(X:X-Z:Z) -> 1 | AO60: =IF(AND($AI60>0,$F60=AO$1),$AI60,"") | AS60: =IF(AND($AI60>0,$F60=AS$1),$AI60,"") | AW60: =IF(AND($AI60>0,$F60=AW$1),$AI60,"") | BA60: =IF(AND($AI60>0,$F60=BA$1),$AI60,"") | BE60: =IF(AND($AI60>0,$F60=BE$1),$AI60,"") | BI60: =IF(AND($AI60>0,$F60=BI$1),$AI60,"") | BM60: =IF(AND($AI60>0,$F60=BM$1),$AI60,"") | BQ60: =IF(AND($AI60>0,$F60=BQ$1),$AI60,"") | BU60: =IF(AND($AI60>0,$F60=BU$1),$AI60,"") | BY60: =IF(AND($AI60>0,$F60=BY$1),$AI60,"") | CC60: =IF(AND($AI60>0,$F60=CC$1),$AI60,"") | CG60: =IF(AND($AI60>0,$F60=CG$1),$AI60,"") | CK60: =IF(AND($AI60>0,$F60=CK$1),$AI60,"") | CO60: =IF(AND($AI60>0,$F60=CO$1),$AI60,"") -> 1
A61: 039999900121047401 | B61: 5695557 | C61: 00102 | D61: Préparé | E61: 86008 | F61: G2P_F | G61: PAF.01.01.01.A | H61: 27/06/2018 12:37:50 | I61: ad001 | J61: UVC | K61: Mvt manquant WCS | L61: Non | M61: 0 | N61: 0 | O61: Tâche | P61: 27/06/2018 12:37:50 | Q61: Tâche | R61: 27/06/2018 12:37:50 | S61: 39 | T61: -1 | U61: 12104740 | X61: 1 | Y61: 1 | Z61: 0 | AA61: 0 | AB61: 0 | AD61: Date LC : Traçabilité totale | AE61: Non | AG61: 19 | AH61: 2 | AI61: =SUM(X:X-Z:Z) -> 1 | AO61: =IF(AND($AI61>0,$F61=AO$1),$AI61,"") | AS61: =IF(AND($AI61>0,$F61=AS$1),$AI61,"") | AW61: =IF(AND($AI61>0,$F61=AW$1),$AI61,"") | BA61: =IF(AND($AI61>0,$F61=BA$1),$AI61,"") | BE61: =IF(AND($AI61>0,$F61=BE$1),$AI61,"") | BI61: =IF(AND($AI61>0,$F61=BI$1),$AI61,"") | BM61: =IF(AND($AI61>0,$F61=BM$1),$AI61,"") | BQ61: =IF(AND($AI61>0,$F61=BQ$1),$AI61,"") | BU61: =IF(AND($AI61>0,$F61=BU$1),$AI61,"") | BY61: =IF(AND($AI61>0,$F61=BY$1),$AI61,"") | CC61: =IF(AND($AI61>0,$F61=CC$1),$AI61,"") | CG61: =IF(AND($AI61>0,$F61=CG$1),$AI61,"") | CK61: =IF(AND($AI61>0,$F61=CK$1),$AI61,"") | CO61: =IF(AND($AI61>0,$F61=CO$1),$AI61,"") -> 1
A62: 039999900121092579 | B62: 5702605 | C62: 00039 | D62: Préparé | E62: 70639 | F62: G2P_A | G62: PAA.01.01.01.A | H62: 27/06/2018 12:36:59 | I62: ad001 | J62: UVC | K62: Mvt manquant WCS | L62: Non | M62: 0 | N62: 0 | O62: Tâche | P62: 27/06/2018 12:36:59 | Q62: Tâche | R62: 27/06/2018 12:36:59 | S62: 39 | T62: -1 | U62: 12109257 | X62: 1 | Y62: 1 | Z62: 0 | AA62: 0 | AB62: 0 | AE62: Non | AG62: 1 | AH62: 2 | AI62: =SUM(X:X-Z:Z) -> 1 | AO62: =IF(AND($AI62>0,$F62=AO$1),$AI62,"") | AS62: =IF(AND($AI62>0,$F62=AS$1),$AI62,"") | AW62: =IF(AND($AI62>0,$F62=AW$1),$AI62,"") | BA62: =IF(AND($AI62>0,$F62=BA$1),$AI62,"") | BE62: =IF(AND($AI62>0,$F62=BE$1),$AI62,"") | BI62: =IF(AND($AI62>0,$F62=BI$1),$AI62,"") | BM62: =IF(AND($AI62>0,$F62=BM$1),$AI62,"") | BQ62: =IF(AND($AI62>0,$F62=BQ$1),$AI62,"") | BU62: =IF(AND($AI62>0,$F62=BU$1),$AI62,"") | BY62: =IF(AND($AI62>0,$F62=BY$1),$AI62,"") | CC62: =IF(AND($AI62>0,$F62=CC$1),$AI62,"") | CG62: =IF(AND($AI62>0,$F62=CG$1),$AI62,"") | CK62: =IF(AND($AI62>0,$F62=CK$1),$AI62,"") -> 1 | CO62: =IF(AND($AI62>0,$F62=CO$1),$AI62,"")
A63: 039999900121056878 | B63: 5698275 | C63: 00031 | D63: Préparé | E63: 238000 | F63: G2P_A | G63: PAA.01.01.01.A | H63: 27/06/2018 12:36:54 | I63: ad001 | J63: UVC | K63: Mvt manquant WCS | L63: Non | M63: 0 | N63: 0 | O63: Tâche | P63: 27/06/2018 12:36:54 | Q63: CLOUMOU | R63: 27/06/2018 12:36:54 | S63: 39 | T63: -1 | U63: 12105687 | X63: 2 | Y63: 1 | Z63: 1 | AA63: 1 | AB63: 0 | AE63: Non | AG63: 5 | AH63: 2 | AI63: =SUM(X:X-Z:Z) -> 1 | AO63: =IF(AND($AI63>0,$F63=AO$1),$AI63,"") | AS63: =IF(AND($AI63>0,$F63=AS$1),$AI63,"") | AW63: =IF(AND($AI63>0,$F63=AW$1),$AI63,"") | BA63: =IF(AND($AI63>0,$F63=BA$1),$AI63,"") | BE63: =IF(AND($AI63>0,$F63=BE$1),$AI63,"") | BI63: =IF(AND($AI63>0,$F63=BI$1),$AI63,"") | BM63: =IF(AND($AI63>0,$F63=BM$1),$AI63,"") | BQ63: =IF(AND($AI63>0,$F63=BQ$1),$AI63,"") | BU63: =IF(AND($AI63>0,$F63=BU$1),$AI63,"") | BY63: =IF(AND($AI63>0,$F63=BY$1),$AI63,"") | CC63: =IF(AND($AI63>0,$F63=CC$1),$AI63,"") | CG63: =IF(AND($AI63>0,$F63=CG$1),$AI63,"") | CK63: =IF(AND($AI63>0,$F63=CK$1),$AI63,"") -> 1 | CO63: =IF(AND($AI63>0,$F63=CO$1),$AI63,"")
A64: 039999900121049771 | B64: 5700586 | C64: 00059 | D64: Préparé | E64: 59549 | F64: G2P_F | G64: PAF.01.01.01.A | H64: 27/06/2018 12:36:49 | I64: ad001 | J64: UVC | K64: Mvt manquant WCS | L64: Non | M64: 0 | N64: 0 | O64: Tâche | P64: 27/06/2018 12:36:49 | Q64: MZAIDOUN | R64: 27/06/2018 12:36:49 | S64: 39 | T64: -1 | U64: 12104977 | X64: 3 | Y64: 1 | Z64: 0 | AA64: 0 | AB64: 0 | AD64: Date LC : Traçabilité totale | AE64: Non | AG64: 18 | AH64: 2 | AI64: =SUM(X:X-Z:Z) -> 3 | AO64: =IF(AND($AI64>0,$F64=AO$1),$AI64,"") | AS64: =IF(AND($AI64>0,$F64=AS$1),$AI64,"") | AW64: =IF(AND($AI64>0,$F64=AW$1),$AI64,"") | BA64: =IF(AND($AI64>0,$F64=BA$1),$AI64,"") | BE64: =IF(AND($AI64>0,$F64=BE$1),$AI64,"") | BI64: =IF(AND($AI64>0,$F64=BI$1),$AI64,"") | BM64: =IF(AND($AI64>0,$F64=BM$1),$AI64,"") | BQ64: =IF(AND($AI64>0,$F64=BQ$1),$AI64,"") | BU64: =IF(AND($AI64>0,$F64=BU$1),$AI64,"") | BY64: =IF(AND($AI64>0,$F64=BY$1),$AI64,"") | CC64: =IF(AND($AI64>0,$F64=CC$1),$AI64,"") | CG64: =IF(AND($AI64>0,$F64=CG$1),$AI64,"") | CK64: =IF(AND($AI64>0,$F64=CK$1),$AI64,"") | CO64: =IF(AND($AI64>0,$F64=CO$1),$AI64,"") -> 3
A65: 039999900121080200 | B65: 5702138 | C65: 00020 | D65: Préparé | E65: 23332 | F65: G2P_A | G65: PAA.01.01.01.A | H65: 27/06/2018 12:35:37 | I65: ad001 | J65: UVC | K65: Mvt manquant WCS | L65: Non | M65: 0 | N65: 0 | O65: Tâche | P65: 27/06/2018 12:35:37 | Q65: Tâche | R65: 27/06/2018 12:35:37 | S65: 39 | T65: -1 | U65: 12108020 | X65: 1 | Y65: 1 | Z65: 0 | AA65: 0 | AB65: 0 | AE65: Non | AG65: 13 | AH65: 2 | AI65: =SUM(X:X-Z:Z) -> 1 | AO65: =IF(AND($AI65>0,$F65=AO$1),$AI65,"") | AS65: =IF(AND($AI65>0,$F65=AS$1),$AI65,"") | AW65: =IF(AND($AI65>0,$F65=AW$1),$AI65,"") | BA65: =IF(AND($AI65>0,$F65=BA$1),$AI65,"") | BE65: =IF(AND($AI65>0,$F65=BE$1),$AI65,"") | BI65: =IF(AND($AI65>0,$F65=BI$1),$AI65,"") | BM65: =IF(AND($AI65>0,$F65=BM$1),$AI65,"") | BQ65: =IF(AND($AI65>0,$F65=BQ$1),$AI65,"") | BU65: =IF(AND($AI65>0,$F65=BU$1),$AI65,"") | BY65: =IF(AND($AI65>0,$F65=BY$1),$AI65,"") | CC65: =IF(AND($AI65>0,$F65=CC$1),$AI65,"") | CG65: =IF(AND($AI65>0,$F65=CG$1),$AI65,"") | CK65: =IF(AND($AI65>0,$F65=CK$1),$AI65,"") -> 1 | CO65: =IF(AND($AI65>0,$F65=CO$1),$AI65,"")
A66: 039999900121059367 | B66: 5700577 | C66: 00024 | D66: Préparé | E66: 78820 | F66: G2P_A | G66: PAA.01.01.01.A | H66: 27/06/2018 12:33:26 | I66: ad001 | J66: UVC | K66: Mvt manquant WCS | L66: Non | M66: 0 | N66: 0 | O66: Tâche | P66: 27/06/2018 12:33:26 | Q66: Tâche | R66: 27/06/2018 12:33:26 | S66: 39 | T66: -1 | U66: 12105936 | X66: 1 | Y66: 1 | Z66: 0 | AA66: 0 | AB66: 0 | AE66: Non | AG66: 11 | AH66: 2 | AI66: =SUM(X:X-Z:Z) -> 1 | AO66: =IF(AND($AI66>0,$F66=AO$1),$AI66,"") | AS66: =IF(AND($AI66>0,$F66=AS$1),$AI66,"") | AW66: =IF(AND($AI66>0,$F66=AW$1),$AI66,"") | BA66: =IF(AND($AI66>0,$F66=BA$1),$AI66,"") | BE66: =IF(AND($AI66>0,$F66=BE$1),$AI66,"") | BI66: =IF(AND($AI66>0,$F66=BI$1),$AI66,"") | BM66: =IF(AND($AI66>0,$F66=BM$1),$AI66,"") | BQ66: =IF(AND($AI66>0,$F66=BQ$1),$AI66,"") | BU66: =IF(AND($AI66>0,$F66=BU$1),$AI66,"") | BY66: =IF(AND($AI66>0,$F66=BY$1),$AI66,"") | CC66: =IF(AND($AI66>0,$F66=CC$1),$AI66,"") | CG66: =IF(AND($AI66>0,$F66=CG$1),$AI66,"") | CK66: =IF(AND($AI66>0,$F66=CK$1),$AI66,"") -> 1 | CO66: =IF(AND($AI66>0,$F66=CO$1),$AI66,"")
A67: 039999900121057165 | B67: 5698458 | C67: 00029 | D67: Préparé | E67: 59388 | F67: G2P_A | G67: PAA.01.01.01.A | H67: 27/06/2018 12:32:40 | I67: ad001 | J67: UVC | K67: Mvt manquant WCS | L67: Non | M67: 0 | N67: 0 | O67: Tâche | P67: 27/06/2018 12:32:40 | Q67: Tâche | R67: 27/06/2018 12:32:40 | S67: 39 | T67: -1 | U67: 12105716 | X67: 2 | Y67: 1 | Z67: 0 | AA67: 0 | AB67: 0 | AE67: Non | AG67: 15 | AH67: 2 | AI67: =SUM(X:X-Z:Z) -> 2 | AO67: =IF(AND($AI67>0,$F67=AO$1),$AI67,"") | AS67: =IF(AND($AI67>0,$F67=AS$1),$AI67,"") | AW67: =IF(AND($AI67>0,$F67=AW$1),$AI67,"") | BA67: =IF(AND($AI67>0,$F67=BA$1),$AI67,"") | BE67: =IF(AND($AI67>0,$F67=BE$1),$AI67,"") | BI67: =IF(AND($AI67>0,$F67=BI$1),$AI67,"") | BM67: =IF(AND($AI67>0,$F67=BM$1),$AI67,"") | BQ67: =IF(AND($AI67>0,$F67=BQ$1),$AI67,"") | BU67: =IF(AND($AI67>0,$F67=BU$1),$AI67,"") | BY67: =IF(AND($AI67>0,$F67=BY$1),$AI67,"") | CC67: =IF(AND($AI67>0,$F67=CC$1),$AI67,"") | CG67: =IF(AND($AI67>0,$F67=CG$1),$AI67,"") | CK67: =IF(AND($AI67>0,$F67=CK$1),$AI67,"") -> 2 | CO67: =IF(AND($AI67>0,$F67=CO$1),$AI67,"")
A68: 039999900121047197 | B68: 5693561 | C68: 00011 | D68: Préparé | E68: 148273 | F68: G2P_A | G68: PAA.01.01.01.A | H68: 27/06/2018 12:31:42 | I68: ad001 | J68: UVC | K68: Mvt manquant WCS | L68: Non | M68: 0 | N68: 0 | O68: Tâche | P68: 27/06/2018 12:31:42 | Q68: Tâche | R68: 27/06/2018 12:31:42 | S68: 39 | T68: -1 | U68: 12104719 | X68: 1 | Y68: 1 | Z68: 0 | AA68: 0 | AB68: 0 | AE68: Non | AG68: 5 | AH68: 2 | AI68: =SUM(X:X-Z:Z) -> 1 | AO68: =IF(AND($AI68>0,$F68=AO$1),$AI68,"") | AS68: =IF(AND($AI68>0,$F68=AS$1),$AI68,"") | AW68: =IF(AND($AI68>0,$F68=AW$1),$AI68,"") | BA68: =IF(AND($AI68>0,$F68=BA$1),$AI68,"") | BE68: =IF(AND($AI68>0,$F68=BE$1),$AI68,"") | BI68: =IF(AND($AI68>0,$F68=BI$1),$AI68,"") | BM68: =IF(AND($AI68>0,$F68=BM$1),$AI68,"") | BQ68: =IF(AND($AI68>0,$F68=BQ$1),$AI68,"") | BU68: =IF(AND($AI68>0,$F68=BU$1),$AI68,"") | BY68: =IF(AND($AI68>0,$F68=BY$1),$AI68,"") | CC68: =IF(AND($AI68>0,$F68=CC$1),$AI68,"") | CG68: =IF(AND($AI68>0,$F68=CG$1),$AI68,"") | CK68: =IF(AND($AI68>0,$F68=CK$1),$AI68,"") -> 1 | CO68: =IF(AND($AI68>0,$F68=CO$1),$AI68,"")
A69: 039999900121064736 | B69: 5700623 | C69: 00033 | D69: Préparé | E69: 86008 | F69: G2P_F | G69: PAF.01.01.01.A | H69: 27/06/2018 12:26:03 | I69: ad001 | J69: UVC | K69: Mvt manquant WCS | L69: Non | M69: 0 | N69: 0 | O69: Tâche | P69: 27/06/2018 12:26:03 | Q69: Tâche | R69: 27/06/2018 12:26:03 | S69: 39 | T69: -1 | U69: 12106473 | X69: 1 | Y69: 1 | Z69: 0 | AA69: 0 | AB69: 0 | AD69: Date LC : Traçabilité totale | AE69: Non | AG69: 14 | AH69: 2 | AI69: =SUM(X:X-Z:Z) -> 1 | AO69: =IF(AND($AI69>0,$F69=AO$1),$AI69,"") | AS69: =IF(AND($AI69>0,$F69=AS$1),$AI69,"") | AW69: =IF(AND($AI69>0,$F69=AW$1),$AI69,"") | BA69: =IF(AND($AI69>0,$F69=BA$1),$AI69,"") | BE69: =IF(AND($AI69>0,$F69=BE$1),$AI69,"") | BI69: =IF(AND($AI69>0,$F69=BI$1),$AI69,"") | BM69: =IF(AND($AI69>0,$F69=BM$1),$AI69,"") | BQ69: =IF(AND($AI69>0,$F69=BQ$1),$AI69,"") | BU69: =IF(AND($AI69>0,$F69=BU$1),$AI69,"") | BY69: =IF(AND($AI69>0,$F69=BY$1),$AI69,"") | CC69: =IF(AND($AI69>0,$F69=CC$1),$AI69,"") | CG69: =IF(AND($AI69>0,$F69=CG$1),$AI69,"") | CK69: =IF(AND($AI69>0,$F69=CK$1),$AI69,"") | CO69: =IF(AND($AI69>0,$F69=CO$1),$AI69,"") -> 1
A70: 039999900121048064 | B70: 5698206 | C70: 00023 | D70: Préparé | E70: 181221 | F70: G2P_F | G70: PAF.01.01.01.A | H70: 27/06/2018 12:25:27 | I70: ad001 | J70: UVC | K70: Mvt manquant WCS | L70: Non | M70: 0 | N70: 0 | O70: Tâche | P70: 27/06/2018 12:25:27 | Q70: Tâche | R70: 27/06/2018 12:25:27 | S70: 39 | T70: -1 | U70: 12104806 | X70: 1 | Y70: 1 | Z70: 0 | AA70: 0 | AB70: 0 | AD70: Date LC : Traçabilité totale | AE70: Non | AG70: 7 | AH70: 2 | AI70: =SUM(X:X-Z:Z) -> 1 | AO70: =IF(AND($AI70>0,$F70=AO$1),$AI70,"") | AS70: =IF(AND($AI70>0,$F70=AS$1),$AI70,"") | AW70: =IF(AND($AI70>0,$F70=AW$1),$AI70,"") | BA70: =IF(AND($AI70>0,$F70=BA$1),$AI70,"") | BE70: =IF(AND($AI70>0,$F70=BE$1),$AI70,"") | BI70: =IF(AND($AI70>0,$F70=BI$1),$AI70,"") | BM70: =IF(AND($AI70>0,$F70=BM$1),$AI70,"") | BQ70: =IF(AND($AI70>0,$F70=BQ$1),$AI70,"") | BU70: =IF(AND($AI70>0,$F70=BU$1),$AI70,"") | BY70: =IF(AND($AI70>0,$F70=BY$1),$AI70,"") | CC70: =IF(AND($AI70>0,$F70=CC$1),$AI70,"") | CG70: =IF(AND($AI70>0,$F70=CG$1),$AI70,"") | CK70: =IF(AND($AI70>0,$F70=CK$1),$AI70,"") | CO70: =IF(AND($AI70>0,$F70=CO$1),$AI70,"") -> 1
A71: 039999900121048668 | B71: 5699378 | C71: 00034 | D71: Préparé | E71: 37527 | F71: G2P_F | G71: PAF.01.01.01.A | H71: 27/06/2018 12:23:41 | I71: ad001 | J71: UVC | K71: Mvt manquant WCS | L71: Non | M71: 0 | N71: 0 | O71: Tâche | P71: 27/06/2018 12:23:41 | Q71: Tâche | R71: 27/06/2018 12:23:41 | S71: 39 | T71: -1 | U71: 12104866 | X71: 1 | Y71: 1 | Z71: 0 | AA71: 0 | AB71: 0 | AD71: Date LC : Traçabilité totale | AE71: Non | AG71: 9 | AH71: 2 | AI71: =SUM(X:X-Z:Z) -> 1 | AO71: =IF(AND($AI71>0,$F71=AO$1),$AI71,"") | AS71: =IF(AND($AI71>0,$F71=AS$1),$AI71,"") | AW71: =IF(AND($AI71>0,$F71=AW$1),$AI71,"") | BA71: =IF(AND($AI71>0,$F71=BA$1),$AI71,"") | BE71: =IF(AND($AI71>0,$F71=BE$1),$AI71,"") | BI71: =IF(AND($AI71>0,$F71=BI$1),$AI71,"") | BM71: =IF(AND($AI71>0,$F71=BM$1),$AI71,"") | BQ71: =IF(AND($AI71>0,$F71=BQ$1),$AI71,"") | BU71: =IF(AND($AI71>0,$F71=BU$1),$AI71,"") | BY71: =IF(AND($AI71>0,$F71=BY$1),$AI71,"") | CC71: =IF(AND($AI71>0,$F71=CC$1),$AI71,"") | CG71: =IF(AND($AI71>0,$F71=CG$1),$AI71,"") | CK71: =IF(AND($AI71>0,$F71=CK$1),$AI71,"") | CO71: =IF(AND($AI71>0,$F71=CO$1),$AI71,"") -> 1
A72: 039999900121115377 | B72: 5701362 | C72: 00008 | D72: Préparé | E72: 116611 | F72: G2P_F | G72: PAF.01.01.01.A | H72: 27/06/2018 12:20:23 | I72: ad001 | J72: UVC | K72: Mvt manquant WCS | L72: Non | M72: 0 | N72: 0 | O72: Tâche | P72: 27/06/2018 12:20:23 | Q72: Tâche | R72: 27/06/2018 12:20:23 | S72: 39 | T72: -1 | U72: 12111537 | X72: 2 | Y72: 1 | Z72: 0 | AA72: 0 | AB72: 0 | AD72: Date LC : Traçabilité totale | AE72: Non | AG72: 3 | AH72: 2 | AI72: =SUM(X:X-Z:Z) -> 2 | AO72: =IF(AND($AI72>0,$F72=AO$1),$AI72,"") | AS72: =IF(AND($AI72>0,$F72=AS$1),$AI72,"") | AW72: =IF(AND($AI72>0,$F72=AW$1),$AI72,"") | BA72: =IF(AND($AI72>0,$F72=BA$1),$AI72,"") | BE72: =IF(AND($AI72>0,$F72=BE$1),$AI72,"") | BI72: =IF(AND($AI72>0,$F72=BI$1),$AI72,"") | BM72: =IF(AND($AI72>0,$F72=BM$1),$AI72,"") | BQ72: =IF(AND($AI72>0,$F72=BQ$1),$AI72,"") | BU72: =IF(AND($AI72>0,$F72=BU$1),$AI72,"") | BY72: =IF(AND($AI72>0,$F72=BY$1),$AI72,"") | CC72: =IF(AND($AI72>0,$F72=CC$1),$AI72,"") | CG72: =IF(AND($AI72>0,$F72=CG$1),$AI72,"") | CK72: =IF(AND($AI72>0,$F72=CK$1),$AI72,"") | CO72: =IF(AND($AI72>0,$F72=CO$1),$AI72,"") -> 2
A73: 039999900120961654 | B73: 5698946 | C73: 00014 | D73: Préparé | E73: 164381 | F73: SURG | G73: PCS.02.29.03.A | H73: 27/06/2018 12:10:55 | I73: ad001 | J73: UVC | L73: Non | M73: 0 | N73: 0 | O73: ITRAORE | P73: 01/01/1990 12:00:00 | Q73: 0 | R73: 27/06/2018 12:10:55 | S73: 85 | T73: 7689 | U73: 12096165 | X73: 1 | Y73: 1 | Z73: 0 | AA73: 0 | AB73: 0 | AE73: Non | AG73: 2 | AI73: =SUM(X:X-Z:Z) -> 1 | AO73: =IF(AND($AI73>0,$F73=AO$1),$AI73,"") | AS73: =IF(AND($AI73>0,$F73=AS$1),$AI73,"") | AW73: =IF(AND($AI73>0,$F73=AW$1),$AI73,"") | BA73: =IF(AND($AI73>0,$F73=BA$1),$AI73,"") | BE73: =IF(AND($AI73>0,$F73=BE$1),$AI73,"") | BI73: =IF(AND($AI73>0,$F73=BI$1),$AI73,"") | BM73: =IF(AND($AI73>0,$F73=BM$1),$AI73,"") | BQ73: =IF(AND($AI73>0,$F73=BQ$1),$AI73,"") | BU73: =IF(AND($AI73>0,$F73=BU$1),$AI73,"") | BY73: =IF(AND($AI73>0,$F73=BY$1),$AI73,"") | CC73: =IF(AND($AI73>0,$F73=CC$1),$AI73,"") | CG73: =IF(AND($AI73>0,$F73=CG$1),$AI73,"") -> 1 | CK73: =IF(AND($AI73>0,$F73=CK$1),$AI73,"") | CO73: =IF(AND($AI73>0,$F73=CO$1),$AI73,"")
A74: 039999900120961678 | B74: 5698946 | C74: 00017 | D74: Préparé | E74: 205645 | F74: SURG | G74: PCS.02.29.01.A | H74: 27/06/2018 12:03:18 | I74: ad001 | J74: UVC | L74: Non | M74: 0 | N74: 0 | O74: ITRAORE | P74: 01/01/1990 12:00:00 | Q74: 0 | R74: 27/06/2018 12:03:19 | S74: 1 | T74: -1 | U74: 12096167 | X74: 1 | Y74: 1 | Z74: 0 | AA74: 0 | AB74: 0 | AE74: Non | AG74: 1 | AI74: =SUM(X:X-Z:Z) -> 1 | AO74: =IF(AND($AI74>0,$F74=AO$1),$AI74,"") | AS74: =IF(AND($AI74>0,$F74=AS$1),$AI74,"") | AW74: =IF(AND($AI74>0,$F74=AW$1),$AI74,"") | BA74: =IF(AND($AI74>0,$F74=BA$1),$AI74,"") | BE74: =IF(AND($AI74>0,$F74=BE$1),$AI74,"") | BI74: =IF(AND($AI74>0,$F74=BI$1),$AI74,"") | BM74: =IF(AND($AI74>0,$F74=BM$1),$AI74,"") | BQ74: =IF(AND($AI74>0,$F74=BQ$1),$AI74,"") | BU74: =IF(AND($AI74>0,$F74=BU$1),$AI74,"") | BY74: =IF(AND($AI74>0,$F74=BY$1),$AI74,"") | CC74: =IF(AND($AI74>0,$F74=CC$1),$AI74,"") | CG74: =IF(AND($AI74>0,$F74=CG$1),$AI74,"") -> 1 | CK74: =IF(AND($AI74>0,$F74=CK$1),$AI74,"") | CO74: =IF(AND($AI74>0,$F74=CO$1),$AI74,"")
A75: 039999900120961661 | B75: 5698946 | C75: 00017 | D75: Préparé | E75: 205645 | F75: SURG | G75: PCS.02.29.01.A | H75: 27/06/2018 12:02:41 | I75: ad001 | J75: UVC | L75: Non | M75: 0 | N75: 0 | O75: ITRAORE | P75: 01/01/1990 12:00:00 | Q75: 0 | R75: 27/06/2018 12:02:41 | S75: 1 | T75: -1 | U75: 12096166 | X75: 1 | Y75: 1 | Z75: 0 | AA75: 0 | AB75: 0 | AE75: Non | AG75: 1 | AI75: =SUM(X:X-Z:Z) -> 1 | AO75: =IF(AND($AI75>0,$F75=AO$1),$AI75,"") | AS75: =IF(AND($AI75>0,$F75=AS$1),$AI75,"") | AW75: =IF(AND($AI75>0,$F75=AW$1),$AI75,"") | BA75: =IF(AND($AI75>0,$F75=BA$1),$AI75,"") | BE75: =IF(AND($AI75>0,$F75=BE$1),$AI75,"") | BI75: =IF(AND($AI75>0,$F75=BI$1),$AI75,"") | BM75: =IF(AND($AI75>0,$F75=BM$1),$AI75,"") | BQ75: =IF(AND($AI75>0,$F75=BQ$1),$AI75,"") | BU75: =IF(AND($AI75>0,$F75=BU$1),$AI75,"") | BY75: =IF(AND($AI75>0,$F75=BY$1),$AI75,"") | CC75: =IF(AND($AI75>0,$F75=CC$1),$AI75,"") | CG75: =IF(AND($AI75>0,$F75=CG$1),$AI75,"") -> 1 | CK75: =IF(AND($AI75>0,$F75=CK$1),$AI75,"") | CO75: =IF(AND($AI75>0,$F75=CO$1),$AI75,"")
A76: 039999900121080286 | B76: 5702141 | C76: 00046 | D76: Préparé | E76: 48350 | F76: G2P_A | G76: PAA.01.01.01.A | H76: 27/06/2018 11:19:59 | I76: ad001 | J76: UVC | K76: Mvt manquant WCS | L76: Non | M76: 0 | N76: 0 | O76: Tâche | P76: 27/06/2018 11:19:59 | Q76: HGUEZO | R76: 27/06/2018 11:19:59 | S76: 39 | T76: -1 | U76: 12108028 | X76: 1 | Y76: 1 | Z76: 0 | AA76: 0 | AB76: 0 | AE76: Non | AG76: 9 | AH76: 2 | AI76: =SUM(X:X-Z:Z) -> 1 | AO76: =IF(AND($AI76>0,$F76=AO$1),$AI76,"") | AS76: =IF(AND($AI76>0,$F76=AS$1),$AI76,"") | AW76: =IF(AND($AI76>0,$F76=AW$1),$AI76,"") | BA76: =IF(AND($AI76>0,$F76=BA$1),$AI76,"") | BE76: =IF(AND($AI76>0,$F76=BE$1),$AI76,"") | BI76: =IF(AND($AI76>0,$F76=BI$1),$AI76,"") | BM76: =IF(AND($AI76>0,$F76=BM$1),$AI76,"") | BQ76: =IF(AND($AI76>0,$F76=BQ$1),$AI76,"") | BU76: =IF(AND($AI76>0,$F76=BU$1),$AI76,"") | BY76: =IF(AND($AI76>0,$F76=BY$1),$AI76,"") | CC76: =IF(AND($AI76>0,$F76=CC$1),$AI76,"") | CG76: =IF(AND($AI76>0,$F76=CG$1),$AI76,"") | CK76: =IF(AND($AI76>0,$F76=CK$1),$AI76,"") -> 1 | CO76: =IF(AND($AI76>0,$F76=CO$1),$AI76,"")
A77: 039999900121093057 | B77: 5702586 | C77: 00006 | D77: Préparé | E77: 120719 | F77: G2P_F | G77: PAF.01.01.01.A | H77: 27/06/2018 11:18:24 | I77: ad001 | J77: UVC | K77: Mvt manquant WCS | L77: Non | M77: 0 | N77: 0 | O77: Tâche | P77: 27/06/2018 11:18:24 | Q77: NSAID | R77: 27/06/2018 11:18:24 | S77: 39 | T77: -1 | U77: 12109305 | X77: 1 | Y77: 1 | Z77: 0 | AA77: 0 | AB77: 0 | AD77: Date LC : Traçabilité totale | AE77: Non | AG77: 4 | AH77: 2 | AI77: =SUM(X:X-Z:Z) -> 1 | AO77: =IF(AND($AI77>0,$F77=AO$1),$AI77,"") | AS77: =IF(AND($AI77>0,$F77=AS$1),$AI77,"") | AW77: =IF(AND($AI77>0,$F77=AW$1),$AI77,"") | BA77: =IF(AND($AI77>0,$F77=BA$1),$AI77,"") | BE77: =IF(AND($AI77>0,$F77=BE$1),$AI77,"") | BI77: =IF(AND($AI77>0,$F77=BI$1),$AI77,"") | BM77: =IF(AND($AI77>0,$F77=BM$1),$AI77,"") | BQ77: =IF(AND($AI77>0,$F77=BQ$1),$AI77,"") | BU77: =IF(AND($AI77>0,$F77=BU$1),$AI77,"") | BY77: =IF(AND($AI77>0,$F77=BY$1),$AI77,"") | CC77: =IF(AND($AI77>0,$F77=CC$1),$AI77,"") | CG77: =IF(AND($AI77>0,$F77=CG$1),$AI77,"") | CK77: =IF(AND($AI77>0,$F77=CK$1),$AI77,"") | CO77: =IF(AND($AI77>0,$F77=CO$1),$AI77,"") -> 1
A78: 039999900121064415 | B78: 5699543 | C78: 00037 | D78: Préparé | E78: 81957 | F78: F05 | G78: PFL.02.24.00.D | H78: 27/06/2018 11:00:35 | I78: ad001 | J78: UVC | K78: Stock vide | L78: Non | M78: 0 | N78: 0 | O78: ITRAORE | P78: 01/01/1990 12:00:00 | Q78: 0 | R78: 27/06/2018 11:00:35 | S78: 141 | T78: 8386 | U78: 12106441 | X78: 1 | Y78: 1 | Z78: 0 | AA78: 0 | AB78: 0 | AE78: Oui | AG78: 6 | AH78: 2 | AI78: =SUM(X:X-Z:Z) -> 1 | AO78: =IF(AND($AI78>0,$F78=AO$1),$AI78,"") | AS78: =IF(AND($AI78>0,$F78=AS$1),$AI78,"") | AW78: =IF(AND($AI78>0,$F78=AW$1),$AI78,"") | BA78: =IF(AND($AI78>0,$F78=BA$1),$AI78,"") | BE78: =IF(AND($AI78>0,$F78=BE$1),$AI78,"") | BI78: =IF(AND($AI78>0,$F78=BI$1),$AI78,"") | BM78: =IF(AND($AI78>0,$F78=BM$1),$AI78,"") | BQ78: =IF(AND($AI78>0,$F78=BQ$1),$AI78,"") | BU78: =IF(AND($AI78>0,$F78=BU$1),$AI78,"") | BY78: =IF(AND($AI78>0,$F78=BY$1),$AI78,"") | CC78: =IF(AND($AI78>0,$F78=CC$1),$AI78,"") -> 1 | CG78: =IF(AND($AI78>0,$F78=CG$1),$AI78,"") | CK78: =IF(AND($AI78>0,$F78=CK$1),$AI78,"") | CO78: =IF(AND($AI78>0,$F78=CO$1),$AI78,"")
A79: 039999900120915657 | B79: 5696338 | C79: 00013 | D79: Préparé | E79: 128669 | F79: SURG | G79: PCS.04.11.02.E | H79: 27/06/2018 10:58:16 | I79: ad001 | J79: UVC | L79: Non | M79: 0 | N79: 0 | O79: ITRAORE | P79: 01/01/1990 12:00:00 | Q79: 0 | R79: 27/06/2018 10:58:16 | S79: 1 | T79: -1 | U79: 12091565 | X79: 1 | Y79: 1 | Z79: 0 | AA79: 0 | AB79: 0 | AE79: Non | AG79: 1 | AI79: =SUM(X:X-Z:Z) -> 1 | AO79: =IF(AND($AI79>0,$F79=AO$1),$AI79,"") | AS79: =IF(AND($AI79>0,$F79=AS$1),$AI79,"") | AW79: =IF(AND($AI79>0,$F79=AW$1),$AI79,"") | BA79: =IF(AND($AI79>0,$F79=BA$1),$AI79,"") | BE79: =IF(AND($AI79>0,$F79=BE$1),$AI79,"") | BI79: =IF(AND($AI79>0,$F79=BI$1),$AI79,"") | BM79: =IF(AND($AI79>0,$F79=BM$1),$AI79,"") | BQ79: =IF(AND($AI79>0,$F79=BQ$1),$AI79,"") | BU79: =IF(AND($AI79>0,$F79=BU$1),$AI79,"") | BY79: =IF(AND($AI79>0,$F79=BY$1),$AI79,"") | CC79: =IF(AND($AI79>0,$F79=CC$1),$AI79,"") | CG79: =IF(AND($AI79>0,$F79=CG$1),$AI79,"") -> 1 | CK79: =IF(AND($AI79>0,$F79=CK$1),$AI79,"") | CO79: =IF(AND($AI79>0,$F79=CO$1),$AI79,"")
A80: 039999900121063531 | B80: 5697198 | C80: 00025 | D80: Préparé | E80: 81957 | F80: F05 | G80: PFL.02.24.00.D | H80: 27/06/2018 10:57:57 | I80: ad001 | J80: UVC | K80: Stock vide | L80: Non | M80: 0 | N80: 0 | O80: ITRAORE | P80: 01/01/1990 12:00:00 | Q80: 0 | R80: 27/06/2018 10:57:57 | S80: 141 | T80: 8386 | U80: 12106353 | X80: 1 | Y80: 1 | Z80: 0 | AA80: 0 | AB80: 0 | AE80: Oui | AG80: 6 | AH80: 2 | AI80: =SUM(X:X-Z:Z) -> 1 | AO80: =IF(AND($AI80>0,$F80=AO$1),$AI80,"") | AS80: =IF(AND($AI80>0,$F80=AS$1),$AI80,"") | AW80: =IF(AND($AI80>0,$F80=AW$1),$AI80,"") | BA80: =IF(AND($AI80>0,$F80=BA$1),$AI80,"") | BE80: =IF(AND($AI80>0,$F80=BE$1),$AI80,"") | BI80: =IF(AND($AI80>0,$F80=BI$1),$AI80,"") | BM80: =IF(AND($AI80>0,$F80=BM$1),$AI80,"") | BQ80: =IF(AND($AI80>0,$F80=BQ$1),$AI80,"") | BU80: =IF(AND($AI80>0,$F80=BU$1),$AI80,"") | BY80: =IF(AND($AI80>0,$F80=BY$1),$AI80,"") | CC80: =IF(AND($AI80>0,$F80=CC$1),$AI80,"") -> 1 | CG80: =IF(AND($AI80>0,$F80=CG$1),$AI80,"") | CK80: =IF(AND($AI80>0,$F80=CK$1),$AI80,"") | CO80: =IF(AND($AI80>0,$F80=CO$1),$AI80,"")
A81: 039999900121047906 | B81: 5697671 | C81: 00016 | D81: Préparé | E81: 139040 | F81: G2P_F | G81: PAF.01.01.01.A | H81: 27/06/2018 10:57:18 | I81: ad001 | J81: UVC | K81: Mvt manquant WCS | L81: Non | M81: 0 | N81: 0 | O81: Tâche | P81: 27/06/2018 10:57:18 | Q81: Tâche | R81: 27/06/2018 10:57:18 | S81: 39 | T81: -1 | U81: 12104790 | X81: 1 | Y81: 1 | Z81: 0 | AA81: 0 | AB81: 0 | AD81: Date LC : Traçabilité totale | AE81: Non | AG81: 10 | AH81: 2 | AI81: =SUM(X:X-Z:Z) -> 1 | AO81: =IF(AND($AI81>0,$F81=AO$1),$AI81,"") | AS81: =IF(AND($AI81>0,$F81=AS$1),$AI81,"") | AW81: =IF(AND($AI81>0,$F81=AW$1),$AI81,"") | BA81: =IF(AND($AI81>0,$F81=BA$1),$AI81,"") | BE81: =IF(AND($AI81>0,$F81=BE$1),$AI81,"") | BI81: =IF(AND($AI81>0,$F81=BI$1),$AI81,"") | BM81: =IF(AND($AI81>0,$F81=BM$1),$AI81,"") | BQ81: =IF(AND($AI81>0,$F81=BQ$1),$AI81,"") | BU81: =IF(AND($AI81>0,$F81=BU$1),$AI81,"") | BY81: =IF(AND($AI81>0,$F81=BY$1),$AI81,"") | CC81: =IF(AND($AI81>0,$F81=CC$1),$AI81,"") | CG81: =IF(AND($AI81>0,$F81=CG$1),$AI81,"") | CK81: =IF(AND($AI81>0,$F81=CK$1),$AI81,"") | CO81: =IF(AND($AI81>0,$F81=CO$1),$AI81,"") -> 1
A82: 039999900121063494 | B82: 5696994 | C82: 00024 | D82: Préparé | E82: 81957 | F82: F05 | G82: PFL.02.24.00.D | H82: 27/06/2018 10:57:11 | I82: ad001 | J82: UVC | K82: Stock vide | L82: Non | M82: 0 | N82: 0 | O82: ITRAORE | P82: 01/01/1990 12:00:00 | Q82: 0 | R82: 27/06/2018 10:57:11 | S82: 141 | T82: 8386 | U82: 12106349 | X82: 1 | Y82: 1 | Z82: 0 | AA82: 0 | AB82: 0 | AE82: Oui | AG82: 10 | AH82: 2 | AI82: =SUM(X:X-Z:Z) -> 1 | AO82: =IF(AND($AI82>0,$F82=AO$1),$AI82,"") | AS82: =IF(AND($AI82>0,$F82=AS$1),$AI82,"") | AW82: =IF(AND($AI82>0,$F82=AW$1),$AI82,"") | BA82: =IF(AND($AI82>0,$F82=BA$1),$AI82,"") | BE82: =IF(AND($AI82>0,$F82=BE$1),$AI82,"") | BI82: =IF(AND($AI82>0,$F82=BI$1),$AI82,"") | BM82: =IF(AND($AI82>0,$F82=BM$1),$AI82,"") | BQ82: =IF(AND($AI82>0,$F82=BQ$1),$AI82,"") | BU82: =IF(AND($AI82>0,$F82=BU$1),$AI82,"") | BY82: =IF(AND($AI82>0,$F82=BY$1),$AI82,"") | CC82: =IF(AND($AI82>0,$F82=CC$1),$AI82,"") -> 1 | CG82: =IF(AND($AI82>0,$F82=CG$1),$AI82,"") | CK82: =IF(AND($AI82>0,$F82=CK$1),$AI82,"") | CO82: =IF(AND($AI82>0,$F82=CO$1),$AI82,"")
A83: 039999900121048231 | B83: 5698713 | C83: 00012 | D83: Préparé | E83: 4041 | F83: G2P_F | G83: PAF.01.01.01.A | H83: 27/06/2018 10:52:47 | I83: ad001 | J83: UVC | K83: Mvt manquant WCS | L83: Non | M83: 0 | N83: 0 | O83: Tâche | P83: 27/06/2018 10:52:47 | Q83: NSAID | R83: 27/06/2018 10:52:47 | S83: 39 | T83: -1 | U83: 12104823 | X83: 3 | Y83: 1 | Z83: 0 | AA83: 0 | AB83: 0 | AD83: Date LC : Traçabilité totale | AE83: Non | AG83: 6 | AH83: 2 | AI83: =SUM(X:X-Z:Z) -> 3 | AO83: =IF(AND($AI83>0,$F83=AO$1),$AI83,"") | AS83: =IF(AND($AI83>0,$F83=AS$1),$AI83,"") | AW83: =IF(AND($AI83>0,$F83=AW$1),$AI83,"") | BA83: =IF(AND($AI83>0,$F83=BA$1),$AI83,"") | BE83: =IF(AND($AI83>0,$F83=BE$1),$AI83,"") | BI83: =IF(AND($AI83>0,$F83=BI$1),$AI83,"") | BM83: =IF(AND($AI83>0,$F83=BM$1),$AI83,"") | BQ83: =IF(AND($AI83>0,$F83=BQ$1),$AI83,"") | BU83: =IF(AND($AI83>0,$F83=BU$1),$AI83,"") | BY83: =IF(AND($AI83>0,$F83=BY$1),$AI83,"") | CC83: =IF(AND($AI83>0,$F83=CC$1),$AI83,"") | CG83: =IF(AND($AI83>0,$F83=CG$1),$AI83,"") | CK83: =IF(AND($AI83>0,$F83=CK$1),$AI83,"") | CO83: =IF(AND($AI83>0,$F83=CO$1),$AI83,"") -> 3
A84: 039999900120929340 | B84: 5697661 | C84: 00017 | D84: Préparé | E84: 183407 | F84: SURG | G84: PCS.01.25.01.D | H84: 27/06/2018 10:52:41 | I84: ad001 | J84: UVC | L84: Non | M84: 0 | N84: 0 | O84: ITRAORE | P84: 01/01/1990 12:00:00 | Q84: 0 | R84: 27/06/2018 10:52:41 | S84: 177 | T84: 7689 | U84: 12092934 | X84: 1 | Y84: 1 | Z84: 0 | AA84: 0 | AB84: 0 | AE84: Non | AG84: 1 | AI84: =SUM(X:X-Z:Z) -> 1 | AO84: =IF(AND($AI84>0,$F84=AO$1),$AI84,"") | AS84: =IF(AND($AI84>0,$F84=AS$1),$AI84,"") | AW84: =IF(AND($AI84>0,$F84=AW$1),$AI84,"") | BA84: =IF(AND($AI84>0,$F84=BA$1),$AI84,"") | BE84: =IF(AND($AI84>0,$F84=BE$1),$AI84,"") | BI84: =IF(AND($AI84>0,$F84=BI$1),$AI84,"") | BM84: =IF(AND($AI84>0,$F84=BM$1),$AI84,"") | BQ84: =IF(AND($AI84>0,$F84=BQ$1),$AI84,"") | BU84: =IF(AND($AI84>0,$F84=BU$1),$AI84,"") | BY84: =IF(AND($AI84>0,$F84=BY$1),$AI84,"") | CC84: =IF(AND($AI84>0,$F84=CC$1),$AI84,"") | CG84: =IF(AND($AI84>0,$F84=CG$1),$AI84,"") -> 1 | CK84: =IF(AND($AI84>0,$F84=CK$1),$AI84,"") | CO84: =IF(AND($AI84>0,$F84=CO$1),$AI84,"")
A85: 039999900121048231 | B85: 5698713 | C85: 00001 | D85: Préparé | E85: 116611 | F85: G2P_F | G85: PAF.01.01.01.A | H85: 27/06/2018 10:49:35 | I85: ad001 | J85: UVC | K85: Mvt manquant WCS | L85: Non | M85: 0 | N85: 0 | O85: Tâche | P85: 27/06/2018 10:49:35 | Q85: Tâche | R85: 27/06/2018 10:49:35 | S85: 39 | T85: -1 | U85: 12104823 | X85: 1 | Y85: 1 | Z85: 0 | AA85: 0 | AB85: 0 | AD85: Date LC : Traçabilité totale | AE85: Non | AG85: 4 | AH85: 2 | AI85: =SUM(X:X-Z:Z) -> 1 | AO85: =IF(AND($AI85>0,$F85=AO$1),$AI85,"") | AS85: =IF(AND($AI85>0,$F85=AS$1),$AI85,"") | AW85: =IF(AND($AI85>0,$F85=AW$1),$AI85,"") | BA85: =IF(AND($AI85>0,$F85=BA$1),$AI85,"") | BE85: =IF(AND($AI85>0,$F85=BE$1),$AI85,"") | BI85: =IF(AND($AI85>0,$F85=BI$1),$AI85,"") | BM85: =IF(AND($AI85>0,$F85=BM$1),$AI85,"") | BQ85: =IF(AND($AI85>0,$F85=BQ$1),$AI85,"") | BU85: =IF(AND($AI85>0,$F85=BU$1),$AI85,"") | BY85: =IF(AND($AI85>0,$F85=BY$1),$AI85,"") | CC85: =IF(AND($AI85>0,$F85=CC$1),$AI85,"") | CG85: =IF(AND($AI85>0,$F85=CG$1),$AI85,"") | CK85: =IF(AND($AI85>0,$F85=CK$1),$AI85,"") | CO85: =IF(AND($AI85>0,$F85=CO$1),$AI85,"") -> 1
A86: 039999900121057455 | B86: 5698576 | C86: 00011 | D86: Préparé | E86: 131817 | F86: G2P_A | G86: PAA.01.01.01.A | H86: 27/06/2018 10:46:53 | I86: ad001 | J86: UVC | K86: Mvt manquant WCS | L86: Non | M86: 0 | N86: 0 | O86: Tâche | P86: 27/06/2018 10:46:53 | Q86: FSAHMIMI | R86: 27/06/2018 10:46:53 | S86: 39 | T86: -1 | U86: 12105745 | X86: 2 | Y86: 1 | Z86: 0 | AA86: 0 | AB86: 0 | AE86: Non | AG86: 7 | AH86: 2 | AI86: =SUM(X:X-Z:Z) -> 2 | AO86: =IF(AND($AI86>0,$F86=AO$1),$AI86,"") | AS86: =IF(AND($AI86>0,$F86=AS$1),$AI86,"") | AW86: =IF(AND($AI86>0,$F86=AW$1),$AI86,"") | BA86: =IF(AND($AI86>0,$F86=BA$1),$AI86,"") | BE86: =IF(AND($AI86>0,$F86=BE$1),$AI86,"") | BI86: =IF(AND($AI86>0,$F86=BI$1),$AI86,"") | BM86: =IF(AND($AI86>0,$F86=BM$1),$AI86,"") | BQ86: =IF(AND($AI86>0,$F86=BQ$1),$AI86,"") | BU86: =IF(AND($AI86>0,$F86=BU$1),$AI86,"") | BY86: =IF(AND($AI86>0,$F86=BY$1),$AI86,"") | CC86: =IF(AND($AI86>0,$F86=CC$1),$AI86,"") | CG86: =IF(AND($AI86>0,$F86=CG$1),$AI86,"") | CK86: =IF(AND($AI86>0,$F86=CK$1),$AI86,"") -> 2 | CO86: =IF(AND($AI86>0,$F86=CO$1),$AI86,"")
A87: 039999900120914674 | B87: 5695423 | C87: 00060 | D87: Préparé | E87: 96924 | F87: SURG | G87: PCS.03.10.00.B | H87: 27/06/2018 10:46:22 | I87: ad001 | J87: UVC | L87: Non | M87: 0 | N87: 0 | O87: ITRAORE | P87: 01/01/1990 12:00:00 | Q87: 0 | R87: 27/06/2018 10:46:22 | S87: 150 | T87: 7689 | U87: 12091467 | X87: 1 | Y87: 1 | Z87: 0 | AA87: 0 | AB87: 0 | AE87: Non | AG87: 1 | AI87: =SUM(X:X-Z:Z) -> 1 | AO87: =IF(AND($AI87>0,$F87=AO$1),$AI87,"") | AS87: =IF(AND($AI87>0,$F87=AS$1),$AI87,"") | AW87: =IF(AND($AI87>0,$F87=AW$1),$AI87,"") | BA87: =IF(AND($AI87>0,$F87=BA$1),$AI87,"") | BE87: =IF(AND($AI87>0,$F87=BE$1),$AI87,"") | BI87: =IF(AND($AI87>0,$F87=BI$1),$AI87,"") | BM87: =IF(AND($AI87>0,$F87=BM$1),$AI87,"") | BQ87: =IF(AND($AI87>0,$F87=BQ$1),$AI87,"") | BU87: =IF(AND($AI87>0,$F87=BU$1),$AI87,"") | BY87: =IF(AND($AI87>0,$F87=BY$1),$AI87,"") | CC87: =IF(AND($AI87>0,$F87=CC$1),$AI87,"") | CG87: =IF(AND($AI87>0,$F87=CG$1),$AI87,"") -> 1 | CK87: =IF(AND($AI87>0,$F87=CK$1),$AI87,"") | CO87: =IF(AND($AI87>0,$F87=CO$1),$AI87,"")
A88: 039999900120930810 | B88: 5698289 | C88: 00010 | D88: Préparé | E88: 217619 | F88: SURG | G88: PCS.02.49.01.A | H88: 27/06/2018 10:41:30 | I88: ad001 | J88: UVC | L88: Non | M88: 0 | N88: 0 | O88: ITRAORE | P88: 01/01/1990 12:00:00 | Q88: 0 | R88: 27/06/2018 10:41:30 | S88: 150 | T88: 7689 | U88: 12093081 | X88: 1 | Y88: 1 | Z88: 0 | AA88: 0 | AB88: 0 | AE88: Non | AG88: 2 | AI88: =SUM(X:X-Z:Z) -> 1 | AO88: =IF(AND($AI88>0,$F88=AO$1),$AI88,"") | AS88: =IF(AND($AI88>0,$F88=AS$1),$AI88,"") | AW88: =IF(AND($AI88>0,$F88=AW$1),$AI88,"") | BA88: =IF(AND($AI88>0,$F88=BA$1),$AI88,"") | BE88: =IF(AND($AI88>0,$F88=BE$1),$AI88,"") | BI88: =IF(AND($AI88>0,$F88=BI$1),$AI88,"") | BM88: =IF(AND($AI88>0,$F88=BM$1),$AI88,"") | BQ88: =IF(AND($AI88>0,$F88=BQ$1),$AI88,"") | BU88: =IF(AND($AI88>0,$F88=BU$1),$AI88,"") | BY88: =IF(AND($AI88>0,$F88=BY$1),$AI88,"") | CC88: =IF(AND($AI88>0,$F88=CC$1),$AI88,"") | CG88: =IF(AND($AI88>0,$F88=CG$1),$AI88,"") -> 1 | CK88: =IF(AND($AI88>0,$F88=CK$1),$AI88,"") | CO88: =IF(AND($AI88>0,$F88=CO$1),$AI88,"")
A89: 039999900120918597 | B89: 5698182 | C89: 00024 | D89: Préparé | E89: 242703 | F89: SURG | G89: PCS.03.35.02.A | H89: 27/06/2018 10:39:21 | I89: ad001 | J89: UVC | L89: Non | M89: 0 | N89: 0 | O89: ITRAORE | P89: 01/01/1990 12:00:00 | Q89: 0 | R89: 27/06/2018 10:39:21 | S89: 177 | T89: 7689 | U89: 12091859 | X89: 1 | Y89: 1 | Z89: 0 | AA89: 0 | AB89: 0 | AE89: Non | AG89: 4 | AI89: =SUM(X:X-Z:Z) -> 1 | AO89: =IF(AND($AI89>0,$F89=AO$1),$AI89,"") | AS89: =IF(AND($AI89>0,$F89=AS$1),$AI89,"") | AW89: =IF(AND($AI89>0,$F89=AW$1),$AI89,"") | BA89: =IF(AND($AI89>0,$F89=BA$1),$AI89,"") | BE89: =IF(AND($AI89>0,$F89=BE$1),$AI89,"") | BI89: =IF(AND($AI89>0,$F89=BI$1),$AI89,"") | BM89: =IF(AND($AI89>0,$F89=BM$1),$AI89,"") | BQ89: =IF(AND($AI89>0,$F89=BQ$1),$AI89,"") | BU89: =IF(AND($AI89>0,$F89=BU$1),$AI89,"") | BY89: =IF(AND($AI89>0,$F89=BY$1),$AI89,"") | CC89: =IF(AND($AI89>0,$F89=CC$1),$AI89,"") | CG89: =IF(AND($AI89>0,$F89=CG$1),$AI89,"") -> 1 | CK89: =IF(AND($AI89>0,$F89=CK$1),$AI89,"") | CO89: =IF(AND($AI89>0,$F89=CO$1),$AI89,"")
A90: 039999900120944329 | B90: 5698588 | C90: 00003 | D90: Préparé | E90: 135536 | F90: SURG | G90: PCS.03.32.03.C | H90: 27/06/2018 10:39:00 | I90: ad001 | J90: UVC | L90: Non | M90: 0 | N90: 0 | O90: ITRAORE | P90: 01/01/1990 12:00:00 | Q90: 0 | R90: 27/06/2018 10:39:00 | S90: 177 | T90: 7689 | U90: 12094432 | X90: 1 | Y90: 1 | Z90: 0 | AA90: 0 | AB90: 0 | AE90: Non | AG90: 5 | AI90: =SUM(X:X-Z:Z) -> 1 | AO90: =IF(AND($AI90>0,$F90=AO$1),$AI90,"") | AS90: =IF(AND($AI90>0,$F90=AS$1),$AI90,"") | AW90: =IF(AND($AI90>0,$F90=AW$1),$AI90,"") | BA90: =IF(AND($AI90>0,$F90=BA$1),$AI90,"") | BE90: =IF(AND($AI90>0,$F90=BE$1),$AI90,"") | BI90: =IF(AND($AI90>0,$F90=BI$1),$AI90,"") | BM90: =IF(AND($AI90>0,$F90=BM$1),$AI90,"") | BQ90: =IF(AND($AI90>0,$F90=BQ$1),$AI90,"") | BU90: =IF(AND($AI90>0,$F90=BU$1),$AI90,"") | BY90: =IF(AND($AI90>0,$F90=BY$1),$AI90,"") | CC90: =IF(AND($AI90>0,$F90=CC$1),$AI90,"") | CG90: =IF(AND($AI90>0,$F90=CG$1),$AI90,"") -> 1 | CK90: =IF(AND($AI90>0,$F90=CK$1),$AI90,"") | CO90: =IF(AND($AI90>0,$F90=CO$1),$AI90,"")
A91: 039999900120999039 | B91: 5700882 | C91: 00001 | D91: Préparé | E91: 100828 | F91: A01 | G91: PMA.01.19.02.D | H91: 27/06/2018 10:38:21 | I91: ad001 | J91: UVC | L91: Non | M91: 0 | N91: 0 | O91: APHRASOUVO | P91: 27/06/2018 09:09:12 | Q91: GZOLA | R91: 27/06/2018 10:38:21 | S91: 126 | T91: 6725 | U91: 12099903 | X91: 3 | Y91: 1 | Z91: 2 | AA91: 2 | AB91: 0 | AE91: Non | AG91: 1 | AH91: 2 | AI91: =SUM(X:X-Z:Z) -> 1 | AO91: =IF(AND($AI91>0,$F91=AO$1),$AI91,"") -> 1 | AS91: =IF(AND($AI91>0,$F91=AS$1),$AI91,"") | AW91: =IF(AND($AI91>0,$F91=AW$1),$AI91,"") | BA91: =IF(AND($AI91>0,$F91=BA$1),$AI91,"") | BE91: =IF(AND($AI91>0,$F91=BE$1),$AI91,"") | BI91: =IF(AND($AI91>0,$F91=BI$1),$AI91,"") | BM91: =IF(AND($AI91>0,$F91=BM$1),$AI91,"") | BQ91: =IF(AND($AI91>0,$F91=BQ$1),$AI91,"") | BU91: =IF(AND($AI91>0,$F91=BU$1),$AI91,"") | BY91: =IF(AND($AI91>0,$F91=BY$1),$AI91,"") | CC91: =IF(AND($AI91>0,$F91=CC$1),$AI91,"") | CG91: =IF(AND($AI91>0,$F91=CG$1),$AI91,"") | CK91: =IF(AND($AI91>0,$F91=CK$1),$AI91,"") | CO91: =IF(AND($AI91>0,$F91=CO$1),$AI91,"")
A92: 039999900120892453 | B92: 5696164 | C92: 00033 | D92: Préparé | E92: 96924 | F92: SURG | G92: PCS.03.10.00.B | H92: 27/06/2018 10:37:13 | I92: ad001 | J92: UVC | L92: Non | M92: 0 | N92: 0 | O92: ITRAORE | P92: 01/01/1990 12:00:00 | Q92: 0 | R92: 27/06/2018 10:37:13 | S92: 137 | T92: 7689 | U92: 12089245 | X92: 1 | Y92: 1 | Z92: 0 | AA92: 0 | AB92: 0 | AE92: Non | AG92: 1 | AI92: =SUM(X:X-Z:Z) -> 1 | AO92: =IF(AND($AI92>0,$F92=AO$1),$AI92,"") | AS92: =IF(AND($AI92>0,$F92=AS$1),$AI92,"") | AW92: =IF(AND($AI92>0,$F92=AW$1),$AI92,"") | BA92: =IF(AND($AI92>0,$F92=BA$1),$AI92,"") | BE92: =IF(AND($AI92>0,$F92=BE$1),$AI92,"") | BI92: =IF(AND($AI92>0,$F92=BI$1),$AI92,"") | BM92: =IF(AND($AI92>0,$F92=BM$1),$AI92,"") | BQ92: =IF(AND($AI92>0,$F92=BQ$1),$AI92,"") | BU92: =IF(AND($AI92>0,$F92=BU$1),$AI92,"") | BY92: =IF(AND($AI92>0,$F92=BY$1),$AI92,"") | CC92: =IF(AND($AI92>0,$F92=CC$1),$AI92,"") | CG92: =IF(AND($AI92>0,$F92=CG$1),$AI92,"") -> 1 | CK92: =IF(AND($AI92>0,$F92=CK$1),$AI92,"") | CO92: =IF(AND($AI92>0,$F92=CO$1),$AI92,"")
A93: 039999900120923447 | B93: 5698380 | C93: 00017 | D93: Préparé | E93: 142436 | F93: SURG | G93: PCS.03.16.02.B | H93: 27/06/2018 10:36:36 | I93: ad001 | J93: UVC | L93: Non | M93: 0 | N93: 0 | O93: ITRAORE | P93: 01/01/1990 12:00:00 | Q93: 0 | R93: 27/06/2018 10:36:36 | S93: 150 | T93: 7689 | U93: 12092344 | X93: 1 | Y93: 1 | Z93: 0 | AA93: 0 | AB93: 0 | AE93: Non | AG93: 2 | AI93: =SUM(X:X-Z:Z) -> 1 | AO93: =IF(AND($AI93>0,$F93=AO$1),$AI93,"") | AS93: =IF(AND($AI93>0,$F93=AS$1),$AI93,"") | AW93: =IF(AND($AI93>0,$F93=AW$1),$AI93,"") | BA93: =IF(AND($AI93>0,$F93=BA$1),$AI93,"") | BE93: =IF(AND($AI93>0,$F93=BE$1),$AI93,"") | BI93: =IF(AND($AI93>0,$F93=BI$1),$AI93,"") | BM93: =IF(AND($AI93>0,$F93=BM$1),$AI93,"") | BQ93: =IF(AND($AI93>0,$F93=BQ$1),$AI93,"") | BU93: =IF(AND($AI93>0,$F93=BU$1),$AI93,"") | BY93: =IF(AND($AI93>0,$F93=BY$1),$AI93,"") | CC93: =IF(AND($AI93>0,$F93=CC$1),$AI93,"") | CG93: =IF(AND($AI93>0,$F93=CG$1),$AI93,"") -> 1 | CK93: =IF(AND($AI93>0,$F93=CK$1),$AI93,"") | CO93: =IF(AND($AI93>0,$F93=CO$1),$AI93,"")
A94: 039999900120928497 | B94: 5696346 | C94: 00002 | D94: Préparé | E94: 110635 | F94: A03 | G94: PMA.01.35.02.F | H94: 27/06/2018 10:36:18 | I94: ad001 | J94: UVC | L94: Non | M94: 0 | N94: 0 | O94: APHRASOUVO | P94: 01/01/1990 12:00:00 | Q94: 0 | R94: 27/06/2018 10:36:18 | S94: 126 | T94: 6725 | U94: 12092849 | X94: 1 | Y94: 1 | Z94: 0 | AA94: 0 | AB94: 0 | AE94: Non | AG94: 2 | AH94: 2 | AI94: =SUM(X:X-Z:Z) -> 1 | AO94: =IF(AND($AI94>0,$F94=AO$1),$AI94,"") | AS94: =IF(AND($AI94>0,$F94=AS$1),$AI94,"") | AW94: =IF(AND($AI94>0,$F94=AW$1),$AI94,"") -> 1 | BA94: =IF(AND($AI94>0,$F94=BA$1),$AI94,"") | BE94: =IF(AND($AI94>0,$F94=BE$1),$AI94,"") | BI94: =IF(AND($AI94>0,$F94=BI$1),$AI94,"") | BM94: =IF(AND($AI94>0,$F94=BM$1),$AI94,"") | BQ94: =IF(AND($AI94>0,$F94=BQ$1),$AI94,"") | BU94: =IF(AND($AI94>0,$F94=BU$1),$AI94,"") | BY94: =IF(AND($AI94>0,$F94=BY$1),$AI94,"") | CC94: =IF(AND($AI94>0,$F94=CC$1),$AI94,"") | CG94: =IF(AND($AI94>0,$F94=CG$1),$AI94,"") | CK94: =IF(AND($AI94>0,$F94=CK$1),$AI94,"") | CO94: =IF(AND($AI94>0,$F94=CO$1),$AI94,"")
A95: 039999900121008716 | B95: 5700742 | C95: 00002 | D95: Préparé | E95: 110635 | F95: A03 | G95: PMA.01.35.02.F | H95: 27/06/2018 10:34:48 | I95: ad001 | J95: UVC | L95: Non | M95: 0 | N95: 0 | O95: APHRASOUVO | P95: 01/01/1990 12:00:00 | Q95: 0 | R95: 27/06/2018 10:34:48 | S95: 126 | T95: 6725 | U95: 12100871 | X95: 1 | Y95: 1 | Z95: 0 | AA95: 0 | AB95: 0 | AE95: Non | AG95: 1 | AH95: 2 | AI95: =SUM(X:X-Z:Z) -> 1 | AO95: =IF(AND($AI95>0,$F95=AO$1),$AI95,"") | AS95: =IF(AND($AI95>0,$F95=AS$1),$AI95,"") | AW95: =IF(AND($AI95>0,$F95=AW$1),$AI95,"") -> 1 | BA95: =IF(AND($AI95>0,$F95=BA$1),$AI95,"") | BE95: =IF(AND($AI95>0,$F95=BE$1),$AI95,"") | BI95: =IF(AND($AI95>0,$F95=BI$1),$AI95,"") | BM95: =IF(AND($AI95>0,$F95=BM$1),$AI95,"") | BQ95: =IF(AND($AI95>0,$F95=BQ$1),$AI95,"") | BU95: =IF(AND($AI95>0,$F95=BU$1),$AI95,"") | BY95: =IF(AND($AI95>0,$F95=BY$1),$AI95,"") | CC95: =IF(AND($AI95>0,$F95=CC$1),$AI95,"") | CG95: =IF(AND($AI95>0,$F95=CG$1),$AI95,"") | CK95: =IF(AND($AI95>0,$F95=CK$1),$AI95,"") | CO95: =IF(AND($AI95>0,$F95=CO$1),$AI95,"")
A96: 039999900121063128 | B96: 5694630 | C96: 00018 | D96: Préparé | E96: 7132 | F96: F05 | G96: PFL.02.24.03.F | H96: 27/06/2018 10:28:03 | I96: ad001 | J96: UVC | K96: Stock vide | L96: Non | M96: 0 | N96: 0 | O96: ITRAORE | P96: 01/01/1990 12:00:00 | Q96: 0 | R96: 27/06/2018 10:28:03 | S96: 141 | T96: 8386 | U96: 12106312 | X96: 1 | Y96: 1 | Z96: 0 | AA96: 0 | AB96: 0 | AE96: Oui | AG96: 2 | AH96: 2 | AI96: =SUM(X:X-Z:Z) -> 1 | AO96: =IF(AND($AI96>0,$F96=AO$1),$AI96,"") | AS96: =IF(AND($AI96>0,$F96=AS$1),$AI96,"") | AW96: =IF(AND($AI96>0,$F96=AW$1),$AI96,"") | BA96: =IF(AND($AI96>0,$F96=BA$1),$AI96,"") | BE96: =IF(AND($AI96>0,$F96=BE$1),$AI96,"") | BI96: =IF(AND($AI96>0,$F96=BI$1),$AI96,"") | BM96: =IF(AND($AI96>0,$F96=BM$1),$AI96,"") | BQ96: =IF(AND($AI96>0,$F96=BQ$1),$AI96,"") | BU96: =IF(AND($AI96>0,$F96=BU$1),$AI96,"") | BY96: =IF(AND($AI96>0,$F96=BY$1),$AI96,"") | CC96: =IF(AND($AI96>0,$F96=CC$1),$AI96,"") -> 1 | CG96: =IF(AND($AI96>0,$F96=CG$1),$AI96,"") | CK96: =IF(AND($AI96>0,$F96=CK$1),$AI96,"") | CO96: =IF(AND($AI96>0,$F96=CO$1),$AI96,"")
A97: 039999900121063708 | B97: 5697950 | C97: 00014 | D97: Préparé | E97: 83714 | F97: G2P_F | G97: PAF.01.01.01.A | H97: 27/06/2018 10:24:28 | I97: ad001 | J97: UVC | K97: Mvt manquant WCS | L97: Non | M97: 0 | N97: 0 | O97: Tâche | P97: 27/06/2018 10:24:28 | Q97: MDHIFALAH | R97: 27/06/2018 10:24:28 | S97: 39 | T97: -1 | U97: 12106370 | X97: 1 | Y97: 1 | Z97: 0 | AA97: 0 | AB97: 0 | AD97: Date LC : Traçabilité totale | AE97: Non | AG97: 6 | AH97: 2 | AI97: =SUM(X:X-Z:Z) -> 1 | AO97: =IF(AND($AI97>0,$F97=AO$1),$AI97,"") | AS97: =IF(AND($AI97>0,$F97=AS$1),$AI97,"") | AW97: =IF(AND($AI97>0,$F97=AW$1),$AI97,"") | BA97: =IF(AND($AI97>0,$F97=BA$1),$AI97,"") | BE97: =IF(AND($AI97>0,$F97=BE$1),$AI97,"") | BI97: =IF(AND($AI97>0,$F97=BI$1),$AI97,"") | BM97: =IF(AND($AI97>0,$F97=BM$1),$AI97,"") | BQ97: =IF(AND($AI97>0,$F97=BQ$1),$AI97,"") | BU97: =IF(AND($AI97>0,$F97=BU$1),$AI97,"") | BY97: =IF(AND($AI97>0,$F97=BY$1),$AI97,"") | CC97: =IF(AND($AI97>0,$F97=CC$1),$AI97,"") | CG97: =IF(AND($AI97>0,$F97=CG$1),$AI97,"") | CK97: =IF(AND($AI97>0,$F97=CK$1),$AI97,"") | CO97: =IF(AND($AI97>0,$F97=CO$1),$AI97,"") -> 1
A98: 039999900121047814 | B98: 5697159 | C98: 00023 | D98: Préparé | E98: 193692 | F98: G2P_F | G98: PAF.01.01.01.A | H98: 27/06/2018 10:23:02 | I98: ad001 | J98: UVC | K98: Mvt manquant WCS | L98: Non | M98: 0 | N98: 0 | O98: Tâche | P98: 27/06/2018 10:23:02 | Q98: MMATU | R98: 27/06/2018 10:23:02 | S98: 39 | T98: -1 | U98: 12104781 | X98: 1 | Y98: 1 | Z98: 0 | AA98: 0 | AB98: 0 | AD98: Date LC : Traçabilité totale | AE98: Non | AG98: 11 | AH98: 2 | AI98: =SUM(X:X-Z:Z) -> 1 | AO98: =IF(AND($AI98>0,$F98=AO$1),$AI98,"") | AS98: =IF(AND($AI98>0,$F98=AS$1),$AI98,"") | AW98: =IF(AND($AI98>0,$F98=AW$1),$AI98,"") | BA98: =IF(AND($AI98>0,$F98=BA$1),$AI98,"") | BE98: =IF(AND($AI98>0,$F98=BE$1),$AI98,"") | BI98: =IF(AND($AI98>0,$F98=BI$1),$AI98,"") | BM98: =IF(AND($AI98>0,$F98=BM$1),$AI98,"") | BQ98: =IF(AND($AI98>0,$F98=BQ$1),$AI98,"") | BU98: =IF(AND($AI98>0,$F98=BU$1),$AI98,"") | BY98: =IF(AND($AI98>0,$F98=BY$1),$AI98,"") | CC98: =IF(AND($AI98>0,$F98=CC$1),$AI98,"") | CG98: =IF(AND($AI98>0,$F98=CG$1),$AI98,"") | CK98: =IF(AND($AI98>0,$F98=CK$1),$AI98,"") | CO98: =IF(AND($AI98>0,$F98=CO$1),$AI98,"") -> 1
A99: 039999900120917132 | B99: 5697438 | C99: 00002 | D99: Préparé | E99: 100828 | F99: A01 | G99: PMA.01.19.02.D | H99: 27/06/2018 10:18:15 | I99: ad001 | J99: UVC | L99: Non | M99: 0 | N99: 0 | O99: APHRASOUVO | P99: 01/01/1990 12:00:00 | Q99: 0 | R99: 27/06/2018 10:18:15 | S99: 126 | T99: 6725 | U99: 12091713 | X99: 1 | Y99: 1 | Z99: 0 | AA99: 0 | AB99: 0 | AE99: Non | AG99: 1 | AH99: 2 | AI99: =SUM(X:X-Z:Z) -> 1 | AO99: =IF(AND($AI99>0,$F99=AO$1),$AI99,"") -> 1 | AS99: =IF(AND($AI99>0,$F99=AS$1),$AI99,"") | AW99: =IF(AND($AI99>0,$F99=AW$1),$AI99,"") | BA99: =IF(AND($AI99>0,$F99=BA$1),$AI99,"") | BE99: =IF(AND($AI99>0,$F99=BE$1),$AI99,"") | BI99: =IF(AND($AI99>0,$F99=BI$1),$AI99,"") | BM99: =IF(AND($AI99>0,$F99=BM$1),$AI99,"") | BQ99: =IF(AND($AI99>0,$F99=BQ$1),$AI99,"") | BU99: =IF(AND($AI99>0,$F99=BU$1),$AI99,"") | BY99: =IF(AND($AI99>0,$F99=BY$1),$AI99,"") | CC99: =IF(AND($AI99>0,$F99=CC$1),$AI99,"") | CG99: =IF(AND($AI99>0,$F99=CG$1),$AI99,"") | CK99: =IF(AND($AI99>0,$F99=CK$1),$AI99,"") | CO99: =IF(AND($AI99>0,$F99=CO$1),$AI99,"")
A100: 039999900120945166 | B100: 5698478 | C100: 00006 | D100: Préparé | E100: 130672 | F100: SURG | G100: PCS.03.18.01.C | H100: 27/06/2018 10:13:37 | I100: ad001 | J100: UVC | L100: Non | M100: 0 | N100: 0 | O100: ITRAORE | P100: 01/01/1990 12:00:00 | Q100: 0 | R100: 27/06/2018 10:13:37 | S100: 145 | T100: 7689 | U100: 12094516 | X100: 1 | Y100: 1 | Z100: 0 | AA100: 0 | AB100: 0 | AE100: Non | AG100: 2 | AI100: =SUM(X:X-Z:Z) -> 1 | AO100: =IF(AND($AI100>0,$F100=AO$1),$AI100,"") | AS100: =IF(AND($AI100>0,$F100=AS$1),$AI100,"") | AW100: =IF(AND($AI100>0,$F100=AW$1),$AI100,"") | BA100: =IF(AND($AI100>0,$F100=BA$1),$AI100,"") | BE100: =IF(AND($AI100>0,$F100=BE$1),$AI100,"") | BI100: =IF(AND($AI100>0,$F100=BI$1),$AI100,"") | BM100: =IF(AND($AI100>0,$F100=BM$1),$AI100,"") | BQ100: =IF(AND($AI100>0,$F100=BQ$1),$AI100,"") | BU100: =IF(AND($AI100>0,$F100=BU$1),$AI100,"") | BY100: =IF(AND($AI100>0,$F100=BY$1),$AI100,"") | CC100: =IF(AND($AI100>0,$F100=CC$1),$AI100,"") | CG100: =IF(AND($AI100>0,$F100=CG$1),$AI100,"") -> 1 | CK100: =IF(AND($AI100>0,$F100=CK$1),$AI100,"") | CO100: =IF(AND($AI100>0,$F100=CO$1),$AI100,"")
...

Sheet flash
A5: Manquants du jour Top
C8: A01 | E8: A02 | G8: A03 | I8: A04 | K8: A05 | M8: A06
C9: CUG | D9: Nb manquants | E9: CUG | F9: Nb manquants | G9: CUG | H9: Nb manquants | I9: CUG | J9: Nb manquants | K9: CUG | L9: Nb manquants | M9: CUG | N9: Nb manquants
A11: Top 1 | C11: =IF('EXPORT LMxt Acces au Manquants'!AQ2="","",INDIRECT("'EXPORT LMxt Acces au Manquants'!E"&'EXPORT LMxt Acces au Manquants'!AQ2,1)) -> 100828 | D11: =IF('EXPORT LMxt Acces au Manquants'!AQ2="","",INDIRECT("'EXPORT LMxt Acces au Manquants'!AI"&'EXPORT LMxt Acces au Manquants'!AQ2,1)) -> 1 | E11: =IF('EXPORT LMxt Acces au Manquants'!AU2="","",INDIRECT("'EXPORT LMxt Acces au Manquants'!E"&'EXPORT LMxt Acces au Manquants'!AU2,1)) -> 233415 | F11: =IF('EXPORT LMxt Acces au Manquants'!AU2="","",INDIRECT("'EXPORT LMxt Acces au Manquants'!AI"&'EXPORT LMxt Acces au Manquants'!AU2,1)) -> 1 | G11: =IF('EXPORT LMxt Acces au Manquants'!AY2="","",INDIRECT("'EXPORT LMxt Acces au Manquants'!E"&'EXPORT LMxt Acces au Manquants'!AY2,1)) -> 110635 | H11: =IF('EXPORT LMxt Acces au Manquants'!AY2="","",INDIRECT("'EXPORT LMxt Acces au Manquants'!AI"&'EXPORT LMxt Acces au Manquants'!AY2,1)) -> 1 | I11: =IF('EXPORT LMxt Acces au Manquants'!BC2="","",INDIRECT("'EXPORT LMxt Acces au Manquants'!E"&'EXPORT LMxt Acces au Manquants'!BC2,1)) | J11: =IF('EXPORT LMxt Acces au Manquants'!BC2="","",INDIRECT("'EXPORT LMxt Acces au Manquants'!AI"&'EXPORT LMxt Acces au Manquants'!BC2,1)) | K11: =IF('EXPORT LMxt Acces au Manquants'!BG2="","",INDIRECT("'EXPORT LMxt Acces au Manquants'!E"&'EXPORT LMxt Acces au Manquants'!BG2,1)) | L11: =IF('EXPORT LMxt Acces au Manquants'!BG2="","",INDIRECT("'EXPORT LMxt Acces au Manquants'!AI"&'EXPORT LMxt Acces au Manquants'!BG2,1)) | M11: =IF('EXPORT LMxt Acces au Manquants'!BK2="","",INDIRECT("'EXPORT LMxt Acces au Manquants'!E"&'EXPORT LMxt Acces au Manquants'!BK2,1)) -> 233408 | N11: =IF('EXPORT LMxt Acces au Manquants'!BK2="","",INDIRECT("'EXPORT LMxt Acces au Manquants'!AI"&'EXPORT LMxt Acces au Manquants'!BK2,1)) -> 1
A12: Top 2 | C12: =IF('EXPORT LMxt Acces au Manquants'!AQ3="","",INDIRECT("'EXPORT LMxt Acces au Manquants'!E"&'EXPORT LMxt Acces au Manquants'!AQ3,1)) -> 83714 | D12: =IF('EXPORT LMxt Acces au Manquants'!AQ3="","",INDIRECT("'EXPORT LMxt Acces au Manquants'!AI"&'EXPORT LMxt Acces au Manquants'!AQ3,1)) -> 1 | E12: =IF('EXPORT LMxt Acces au Manquants'!AU3="","",INDIRECT("'EXPORT LMxt Acces au Manquants'!E"&'EXPORT LMxt Acces au Manquants'!AU3,1)) | F12: =IF('EXPORT LMxt Acces au Manquants'!AU3="","",INDIRECT("'EXPORT LMxt Acces au Manquants'!AI"&'EXPORT LMxt Acces au Manquants'!AU3,1)) | G12: =IF('EXPORT LMxt Acces au Manquants'!AY3="","",INDIRECT("'EXPORT LMxt Acces au Manquants'!E"&'EXPORT LMxt Acces au Manquants'!AY3,1)) -> 83714 | H12: =IF('EXPORT LMxt Acces au Manquants'!AY3="","",INDIRECT("'EXPORT LMxt Acces au Manquants'!AI"&'EXPORT LMxt Acces au Manquants'!AY3,1)) -> 1 | I12: =IF('EXPORT LMxt Acces au Manquants'!BC3="","",INDIRECT("'EXPORT LMxt Acces au Manquants'!E"&'EXPORT LMxt Acces au Manquants'!BC3,1)) | J12: =IF('EXPORT LMxt Acces au Manquants'!BC3="","",INDIRECT("'EXPORT LMxt Acces au Manquants'!AI"&'EXPORT LMxt Acces au Manquants'!BC3,1)) | K12: =IF('EXPORT LMxt Acces au Manquants'!BG3="","",INDIRECT("'EXPORT LMxt Acces au Manquants'!E"&'EXPORT LMxt Acces au Manquants'!BG3,1)) | L12: =IF('EXPORT LMxt Acces au Manquants'!BG3="","",INDIRECT("'EXPORT LMxt Acces au Manquants'!AI"&'EXPORT LMxt Acces au Manquants'!BG3,1)) | M12: =IF('EXPORT LMxt Acces au Manquants'!BK3="","",INDIRECT("'EXPORT LMxt Acces au Manquants'!E"&'EXPORT LMxt Acces au Manquants'!BK3,1)) | N12: =IF('EXPORT LMxt Acces au Manquants'!BK3="","",INDIRECT("'EXPORT LMxt Acces au Manquants'!AI"&'EXPORT LMxt Acces au Manquants'!BK3,1))
A13: Top 3 | C13: =IF('EXPORT LMxt Acces au Manquants'!AQ4="","",INDIRECT("'EXPORT LMxt Acces au Manquants'!E"&'EXPORT LMxt Acces au Manquants'!AQ4,1)) | D13: =IF('EXPORT LMxt Acces au Manquants'!AQ4="","",INDIRECT("'EXPORT LMxt Acces au Manquants'!AI"&'EXPORT LMxt Acces au Manquants'!AQ4,1)) | E13: =IF('EXPORT LMxt Acces au Manquants'!AU4="","",INDIRECT("'EXPORT LMxt Acces au Manquants'!E"&'EXPORT LMxt Acces au Manquants'!AU4,1)) | F13: =IF('EXPORT LMxt Acces au Manquants'!AU4="","",INDIRECT("'EXPORT LMxt Acces au Manquants'!AI"&'EXPORT LMxt Acces au Manquants'!AU4,1)) | G13: =IF('EXPORT LMxt Acces au Manquants'!AY4="","",INDIRECT("'EXPORT LMxt Acces au Manquants'!E"&'EXPORT LMxt Acces au Manquants'!AY4,1)) | H13: =IF('EXPORT LMxt Acces au Manquants'!AY4="","",INDIRECT("'EXPORT LMxt Acces au Manquants'!AI"&'EXPORT LMxt Acces au Manquants'!AY4,1)) | I13: =IF('EXPORT LMxt Acces au Manquants'!BC4="","",INDIRECT("'EXPORT LMxt Acces au Manquants'!E"&'EXPORT LMxt Acces au Manquants'!BC4,1)) | J13: =IF('EXPORT LMxt Acces au Manquants'!BC4="","",INDIRECT("'EXPORT LMxt Acces au Manquants'!AI"&'EXPORT LMxt Acces au Manquants'!BC4,1)) | K13: =IF('EXPORT LMxt Acces au Manquants'!BG4="","",INDIRECT("'EXPORT LMxt Acces au Manquants'!E"&'EXPORT LMxt Acces au Manquants'!BG4,1)) | L13: =IF('EXPORT LMxt Acces au Manquants'!BG4="","",INDIRECT("'EXPORT LMxt Acces au Manquants'!AI"&'EXPORT LMxt Acces au Manquants'!BG4,1)) | M13: =IF('EXPORT LMxt Acces au Manquants'!BK4="","",INDIRECT("'EXPORT LMxt Acces au Manquants'!E"&'EXPORT LMxt Acces au Manquants'!BK4,1)) | N13: =IF('EXPORT LMxt Acces au Manquants'!BK4="","",INDIRECT("'EXPORT LMxt Acces au Manquants'!AI"&'EXPORT LMxt Acces au Manquants'!BK4,1))
A14: Top 4 | C14: =IF('EXPORT LMxt Acces au Manquants'!AQ5="","",INDIRECT("'EXPORT LMxt Acces au Manquants'!E"&'EXPORT LMxt Acces au Manquants'!AQ5,1)) | D14: =IF('EXPORT LMxt Acces au Manquants'!AQ5="","",INDIRECT("'EXPORT LMxt Acces au Manquants'!AI"&'EXPORT LMxt Acces au Manquants'!AQ5,1)) | E14: =IF('EXPORT LMxt Acces au Manquants'!AU5="","",INDIRECT("'EXPORT LMxt Acces au Manquants'!E"&'EXPORT LMxt Acces au Manquants'!AU5,1)) | F14: =IF('EXPORT LMxt Acces au Manquants'!AU5="","",INDIRECT("'EXPORT LMxt Acces au Manquants'!AI"&'EXPORT LMxt Acces au Manquants'!AU5,1)) | G14: =IF('EXPORT LMxt Acces au Manquants'!AY5="","",INDIRECT("'EXPORT LMxt Acces au Manquants'!E"&'EXPORT LMxt Acces au Manquants'!AY5,1)) | H14: =IF('EXPORT LMxt Acces au Manquants'!AY5="","",INDIRECT("'EXPORT LMxt Acces au Manquants'!AI"&'EXPORT LMxt Acces au Manquants'!AY5,1)) | I14: =IF('EXPORT LMxt Acces au Manquants'!BC5="","",INDIRECT("'EXPORT LMxt Acces au Manquants'!E"&'EXPORT LMxt Acces au Manquants'!BC5,1)) | J14: =IF('EXPORT LMxt Acces au Manquants'!BC5="","",INDIRECT("'EXPORT LMxt Acces au Manquants'!AI"&'EXPORT LMxt Acces au Manquants'!BC5,1)) | K14: =IF('EXPORT LMxt Acces au Manquants'!BG5="","",INDIRECT("'EXPORT LMxt Acces au Manquants'!E"&'EXPORT LMxt Acces au Manquants'!BG5,1)) | L14: =IF('EXPORT LMxt Acces au Manquants'!BG5="","",INDIRECT("'EXPORT LMxt Acces au Manquants'!AI"&'EXPORT LMxt Acces au Manquants'!BG5,1)) | M14: =IF('EXPORT LMxt Acces au Manquants'!BK5="","",INDIRECT("'EXPORT LMxt Acces au Manquants'!E"&'EXPORT LMxt Acces au Manquants'!BK5,1)) | N14: =IF('EXPORT LMxt Acces au Manquants'!BK5="","",INDIRECT("'EXPORT LMxt Acces au Manquants'!AI"&'EXPORT LMxt Acces au Manquants'!BK5,1))
A15: Top 5 | C15: =IF('EXPORT LMxt Acces au Manquants'!AQ6="","",INDIRECT("'EXPORT LMxt Acces au Manquants'!E"&'EXPORT LMxt Acces au Manquants'!AQ6,1)) | D15: =IF('EXPORT LMxt Acces au Manquants'!AQ6="","",INDIRECT("'EXPORT LMxt Acces au Manquants'!AI"&'EXPORT LMxt Acces au Manquants'!AQ6,1)) | E15: =IF('EXPORT LMxt Acces au Manquants'!AU6="","",INDIRECT("'EXPORT LMxt Acces au Manquants'!E"&'EXPORT LMxt Acces au Manquants'!AU6,1)) | F15: =IF('EXPORT LMxt Acces au Manquants'!AU6="","",INDIRECT("'EXPORT LMxt Acces au Manquants'!AI"&'EXPORT LMxt Acces au Manquants'!AU6,1)) | G15: =IF('EXPORT LMxt Acces au Manquants'!AY6="","",INDIRECT("'EXPORT LMxt Acces au Manquants'!E"&'EXPORT LMxt Acces au Manquants'!AY6,1)) | H15: =IF('EXPORT LMxt Acces au Manquants'!AY6="","",INDIRECT("'EXPORT LMxt Acces au Manquants'!AI"&'EXPORT LMxt Acces au Manquants'!AY6,1)) | I15: =IF('EXPORT LMxt Acces au Manquants'!BC6="","",INDIRECT("'EXPORT LMxt Acces au Manquants'!E"&'EXPORT LMxt Acces au Manquants'!BC6,1)) | J15: =IF('EXPORT LMxt Acces au Manquants'!BC6="","",INDIRECT("'EXPORT LMxt Acces au Manquants'!AI"&'EXPORT LMxt Acces au Manquants'!BC6,1)) | K15: =IF('EXPORT LMxt Acces au Manquants'!BG6="","",INDIRECT("'EXPORT LMxt Acces au Manquants'!E"&'EXPORT LMxt Acces au Manquants'!BG6,1)) | L15: =IF('EXPORT LMxt Acces au Manquants'!BG6="","",INDIRECT("'EXPORT LMxt Acces au Manquants'!AI"&'EXPORT LMxt Acces au Manquants'!BG6,1)) | M15: =IF('EXPORT LMxt Acces au Manquants'!BK6="","",INDIRECT("'EXPORT LMxt Acces au Manquants'!E"&'EXPORT LMxt Acces au Manquants'!BK6,1)) | N15: =IF('EXPORT LMxt Acces au Manquants'!BK6="","",INDIRECT("'EXPORT LMxt Acces au Manquants'!AI"&'EXPORT LMxt Acces au Manquants'!BK6,1))
C16: Total Secteur | E16: Total Secteur | G16: Total Secteur | I16: Total Secteur | K16: Total Secteur | M16: Total Secteur
C17: ='EXPORT LMxt Acces au Manquants'!AR1 -> 2 | E17: ='EXPORT LMxt Acces au Manquants'!AV1 -> 1 | G17: ='EXPORT LMxt Acces au Manquants'!AZ1 -> 2 | I17: ='EXPORT LMxt Acces au Manquants'!BC1 -> 0 | K17: ='EXPORT LMxt Acces au Manquants'!BH1 -> 0 | M17: ='EXPORT LMxt Acces au Manquants'!BL1 -> 1
C18: F01 | E18: F02 | G18: F03 | I18: F04 | K18: F05 | M18: SURG
C19: CUG | D19: Nb manquants | E19: CUG | F19: Nb manquants | G19: CUG | H19: Nb manquants | I19: CUG | J19: Nb manquants | K19: CUG | L19: Nb manquants | M19: CUG | N19: Nb manquants
A21: Top 1 | C21: =IF('EXPORT LMxt Acces au Manquants'!BO2="","",INDIRECT("'EXPORT LMxt Acces au Manquants'!E"&'EXPORT LMxt Acces au Manquants'!BO2,1)) -> 3601 | D21: =IF('EXPORT LMxt Acces au Manquants'!BO2="","",INDIRECT("'EXPORT LMxt Acces au Manquants'!AI"&'EXPORT LMxt Acces au Manquants'!BO2,1)) -> 2 | E21: =IF('EXPORT LMxt Acces au Manquants'!BS2="","",INDIRECT("'EXPORT LMxt Acces au Manquants'!E"&'EXPORT LMxt Acces au Manquants'!BS2,1)) | F21: =IF('EXPORT LMxt Acces au Manquants'!BS2="","",INDIRECT("'EXPORT LMxt Acces au Manquants'!AI"&'EXPORT LMxt Acces au Manquants'!BS2,1)) | G21: =IF('EXPORT LMxt Acces au Manquants'!BW2="","",INDIRECT("'EXPORT LMxt Acces au Manquants'!E"&'EXPORT LMxt Acces au Manquants'!BW2,1)) -> 35190 | H21: =IF('EXPORT LMxt Acces au Manquants'!BW2="","",INDIRECT("'EXPORT LMxt Acces au Manquants'!AI"&'EXPORT LMxt Acces au Manquants'!BW2,1)) -> 1 | I21: =IF('EXPORT LMxt Acces au Manquants'!CA2="","",INDIRECT("'EXPORT LMxt Acces au Manquants'!E"&'EXPORT LMxt Acces au Manquants'!CA2,1)) -> 110036 | J21: =IF('EXPORT LMxt Acces au Manquants'!CA2="","",INDIRECT("'EXPORT LMxt Acces au Manquants'!AI"&'EXPORT LMxt Acces au Manquants'!CA2,1)) -> 1 | K21: =IF('EXPORT LMxt Acces au Manquants'!CE2="","",INDIRECT("'EXPORT LMxt Acces au Manquants'!E"&'EXPORT LMxt Acces au Manquants'!CE2,1)) -> 80672 | L21: =IF('EXPORT LMxt Acces au Manquants'!CE2="","",INDIRECT("'EXPORT LMxt Acces au Manquants'!AI"&'EXPORT LMxt Acces au Manquants'!CE2,1)) -> 3 | M21: =IF('EXPORT LMxt Acces au Manquants'!CI2="","",INDIRECT("'EXPORT LMxt Acces au Manquants'!E"&'EXPORT LMxt Acces au Manquants'!CI2,1)) -> 131424 | N21: =IF('EXPORT LMxt Acces au Manquants'!CI2="","",INDIRECT("'EXPORT LMxt Acces au Manquants'!AI"&'EXPORT LMxt Acces au Manquants'!CI2,1)) -> 3
A22: Top 2 | C22: =IF('EXPORT LMxt Acces au Manquants'!BO3="","",INDIRECT("'EXPORT LMxt Acces au Manquants'!E"&'EXPORT LMxt Acces au Manquants'!BO3,1)) -> 3601 | D22: =IF('EXPORT LMxt Acces au Manquants'!BO3="","",INDIRECT("'EXPORT LMxt Acces au Manquants'!AI"&'EXPORT LMxt Acces au Manquants'!BO3,1)) -> 1 | E22: =IF('EXPORT LMxt Acces au Manquants'!BS3="","",INDIRECT("'EXPORT LMxt Acces au Manquants'!E"&'EXPORT LMxt Acces au Manquants'!BS3,1)) | F22: =IF('EXPORT LMxt Acces au Manquants'!BS3="","",INDIRECT("'EXPORT LMxt Acces au Manquants'!AI"&'EXPORT LMxt Acces au Manquants'!BS3,1)) | G22: =IF('EXPORT LMxt Acces au Manquants'!BW3="","",INDIRECT("'EXPORT LMxt Acces au Manquants'!E"&'EXPORT LMxt Acces au Manquants'!BW3,1)) -> 157507 | H22: =IF('EXPORT LMxt Acces au Manquants'!BW3="","",INDIRECT("'EXPORT LMxt Acces au Manquants'!AI"&'EXPORT LMxt Acces au Manquants'!BW3,1)) -> 1 | I22: =IF('EXPORT LMxt Acces au Manquants'!CA3="","",INDIRECT("'EXPORT LMxt Acces au Manquants'!E"&'EXPORT LMxt Acces au Manquants'!CA3,1)) | J22: =IF('EXPORT LMxt Acces au Manquants'!CA3="","",INDIRECT("'EXPORT LMxt Acces au Manquants'!AI"&'EXPORT LMxt Acces au Manquants'!CA3,1)) | K22: =IF('EXPORT LMxt Acces au Manquants'!CE3="","",INDIRECT("'EXPORT LMxt Acces au Manquants'!E"&'EXPORT LMxt Acces au Manquants'!CE3,1)) -> 81957 | L22: =IF('EXPORT LMxt Acces au Manquants'!CE3="","",INDIRECT("'EXPORT LMxt Acces au Manquants'!AI"&'EXPORT LMxt Acces au Manquants'!CE3,1)) -> 2 | M22: =IF('EXPORT LMxt Acces au Manquants'!CI3="","",INDIRECT("'EXPORT LMxt Acces au Manquants'!E"&'EXPORT LMxt Acces au Manquants'!CI3,1)) -> 141494 | N22: =IF('EXPORT LMxt Acces au Manquants'!CI3="","",INDIRECT("'EXPORT LMxt Acces au Manquants'!AI"&'EXPORT LMxt Acces au Manquants'!CI3,1)) -> 2
A23: Top 3 | C23: =IF('EXPORT LMxt Acces au Manquants'!BO4="","",INDIRECT("'EXPORT LMxt Acces au Manquants'!E"&'EXPORT LMxt Acces au Manquants'!BO4,1)) -> 188114 | D23: =IF('EXPORT LMxt Acces au Manquants'!BO4="","",INDIRECT("'EXPORT LMxt Acces au Manquants'!AI"&'EXPORT LMxt Acces au Manquants'!BO4,1)) -> 1 | E23: =IF('EXPORT LMxt Acces au Manquants'!BS4="","",INDIRECT("'EXPORT LMxt Acces au Manquants'!E"&'EXPORT LMxt Acces au Manquants'!BS4,1)) | F23: =IF('EXPORT LMxt Acces au Manquants'!BS4="","",INDIRECT("'EXPORT LMxt Acces au Manquants'!AI"&'EXPORT LMxt Acces au Manquants'!BS4,1)) | G23: =IF('EXPORT LMxt Acces au Manquants'!BW4="","",INDIRECT("'EXPORT LMxt Acces au Manquants'!E"&'EXPORT LMxt Acces au Manquants'!BW4,1)) -> 37527 | H23: =IF('EXPORT LMxt Acces au Manquants'!BW4="","",INDIRECT("'EXPORT LMxt Acces au Manquants'!AI"&'EXPORT LMxt Acces au Manquants'!BW4,1)) -> 1 | I23: =IF('EXPORT LMxt Acces au Manquants'!CA4="","",INDIRECT("'EXPORT LMxt Acces au Manquants'!E"&'EXPORT LMxt Acces au Manquants'!CA4,1)) | J23: =IF('EXPORT LMxt Acces au Manquants'!CA4="","",INDIRECT("'EXPORT LMxt Acces au Manquants'!AI"&'EXPORT LMxt Acces au Manquants'!CA4,1)) | K23: =IF('EXPORT LMxt Acces au Manquants'!CE4="","",INDIRECT("'EXPORT LMxt Acces au Manquants'!E"&'EXPORT LMxt Acces au Manquants'!CE4,1)) -> 230460 | L23: =IF('EXPORT LMxt Acces au Manquants'!CE4="","",INDIRECT("'EXPORT LMxt Acces au Manquants'!AI"&'EXPORT LMxt Acces au Manquants'!CE4,1)) -> 2 | M23: =IF('EXPORT LMxt Acces au Manquants'!CI4="","",INDIRECT("'EXPORT LMxt Acces au Manquants'!E"&'EXPORT LMxt Acces au Manquants'!CI4,1)) -> 116611 | N23: =IF('EXPORT LMxt Acces au Manquants'!CI4="","",INDIRECT("'EXPORT LMxt Acces au Manquants'!AI"&'EXPORT LMxt Acces au Manquants'!CI4,1)) -> 2
A24: Top 4 | C24: =IF('EXPORT LMxt Acces au Manquants'!BO5="","",INDIRECT("'EXPORT LMxt Acces au Manquants'!E"&'EXPORT LMxt Acces au Manquants'!BO5,1)) -> 229497 | D24: =IF('EXPORT LMxt Acces au Manquants'!BO5="","",INDIRECT("'EXPORT LMxt Acces au Manquants'!AI"&'EXPORT LMxt Acces au Manquants'!BO5,1)) -> 1 | E24: =IF('EXPORT LMxt Acces au Manquants'!BS5="","",INDIRECT("'EXPORT LMxt Acces au Manquants'!E"&'EXPORT LMxt Acces au Manquants'!BS5,1)) | F24: =IF('EXPORT LMxt Acces au Manquants'!BS5="","",INDIRECT("'EXPORT LMxt Acces au Manquants'!AI"&'EXPORT LMxt Acces au Manquants'!BS5,1)) | G24: =IF('EXPORT LMxt Acces au Manquants'!BW5="","",INDIRECT("'EXPORT LMxt Acces au Manquants'!E"&'EXPORT LMxt Acces au Manquants'!BW5,1)) -> 182163 | H24: =IF('EXPORT LMxt Acces au Manquants'!BW5="","",INDIRECT("'EXPORT LMxt Acces au Manquants'!AI"&'EXPORT LMxt Acces au Manquants'!BW5,1)) -> 1 | I24: =IF('EXPORT LMxt Acces au Manquants'!CA5="","",INDIRECT("'EXPORT LMxt Acces au Manquants'!E"&'EXPORT LMxt Acces au Manquants'!CA5,1)) | J24: =IF('EXPORT LMxt Acces au Manquants'!CA5="","",INDIRECT("'EXPORT LMxt Acces au Manquants'!AI"&'EXPORT LMxt Acces au Manquants'!CA5,1)) | K24: =IF('EXPORT LMxt Acces au Manquants'!CE5="","",INDIRECT("'EXPORT LMxt Acces au Manquants'!E"&'EXPORT LMxt Acces au Manquants'!CE5,1)) -> 242652 | L24: =IF('EXPORT LMxt Acces au Manquants'!CE5="","",INDIRECT("'EXPORT LMxt Acces au Manquants'!AI"&'EXPORT LMxt Acces au Manquants'!CE5,1)) -> 2 | M24: =IF('EXPORT LMxt Acces au Manquants'!CI5="","",INDIRECT("'EXPORT LMxt Acces au Manquants'!E"&'EXPORT LMxt Acces au Manquants'!CI5,1)) -> 158760 | N24: =IF('EXPORT LMxt Acces au Manquants'!CI5="","",INDIRECT("'EXPORT LMxt Acces au Manquants'!AI"&'EXPORT LMxt Acces au Manquants'!CI5,1)) -> 2
A25: Top 5 | C25: =IF('EXPORT LMxt Acces au Manquants'!BO6="","",INDIRECT("'EXPORT LMxt Acces au Manquants'!E"&'EXPORT LMxt Acces au Manquants'!BO6,1)) | D25: =IF('EXPORT LMxt Acces au Manquants'!BO6="","",INDIRECT("'EXPORT LMxt Acces au Manquants'!AI"&'EXPORT LMxt Acces au Manquants'!BO6,1)) | E25: =IF('EXPORT LMxt Acces au Manquants'!BS6="","",INDIRECT("'EXPORT LMxt Acces au Manquants'!E"&'EXPORT LMxt Acces au Manquants'!BS6,1)) | F25: =IF('EXPORT LMxt Acces au Manquants'!BS6="","",INDIRECT("'EXPORT LMxt Acces au Manquants'!AI"&'EXPORT LMxt Acces au Manquants'!BS6,1)) | G25: =IF('EXPORT LMxt Acces au Manquants'!BW6="","",INDIRECT("'EXPORT LMxt Acces au Manquants'!E"&'EXPORT LMxt Acces au Manquants'!BW6,1)) -> 81663 | H25: =IF('EXPORT LMxt Acces au Manquants'!BW6="","",INDIRECT("'EXPORT LMxt Acces au Manquants'!AI"&'EXPORT LMxt Acces au Manquants'!BW6,1)) -> 1 | I25: =IF('EXPORT LMxt Acces au Manquants'!CA6="","",INDIRECT("'EXPORT LMxt Acces au Manquants'!E"&'EXPORT LMxt Acces au Manquants'!CA6,1)) | J25: =IF('EXPORT LMxt Acces au Manquants'!CA6="","",INDIRECT("'EXPORT LMxt Acces au Manquants'!AI"&'EXPORT LMxt Acces au Manquants'!CA6,1)) | K25: =IF('EXPORT LMxt Acces au Manquants'!CE6="","",INDIRECT("'EXPORT LMxt Acces au Manquants'!E"&'EXPORT LMxt Acces au Manquants'!CE6,1)) -> 57999 | L25: =IF('EXPORT LMxt Acces au Manquants'!CE6="","",INDIRECT("'EXPORT LMxt Acces au Manquants'!AI"&'EXPORT LMxt Acces au Manquants'!CE6,1)) -> 1 | M25: =IF('EXPORT LMxt Acces au Manquants'!CI6="","",INDIRECT("'EXPORT LMxt Acces au Manquants'!E"&'EXPORT LMxt Acces au Manquants'!CI6,1)) -> 116611 | N25: =IF('EXPORT LMxt Acces au Manquants'!CI6="","",INDIRECT("'EXPORT LMxt Acces au Manquants'!AI"&'EXPORT LMxt Acces au Manquants'!CI6,1)) -> 2
C26: Total Secteur | E26: Total Secteur | G26: Total Secteur | I26: Total Secteur | K26: Total Secteur | M26: Total Secteur
C27: ='EXPORT LMxt Acces au Manquants'!BT1 -> 0 | E27: ='EXPORT LMxt Acces au Manquants'!BP1 -> 5 | G27: ='EXPORT LMxt Acces au Manquants'!BX1 -> 7 | I27: ='EXPORT LMxt Acces au Manquants'!CB1 -> 1 | K27: ='EXPORT LMxt Acces au Manquants'!CF1 -> 52 | M27: ='EXPORT LMxt Acces au Manquants'!CJ1 -> 103
C28: G2P_A | E28: G2P_F
C29: CUG | D29: Nb manquants | E29: CUG | F29: Nb manquants | H29: Heure H | I29: Total Manquant
A31: Top 1 | C31: =INDIRECT("'EXPORT LMxt Acces au Manquants'!E"&'EXPORT LMxt Acces au Manquants'!CM2,1) -> 59388 | D31: =INDIRECT("'EXPORT LMxt Acces au Manquants'!AI"&'EXPORT LMxt Acces au Manquants'!CM2,1) -> 8 | E31: =INDIRECT("'EXPORT LMxt Acces au Manquants'!E"&'EXPORT LMxt Acces au Manquants'!CQ2,1) -> 59549 | F31: =INDIRECT("'EXPORT LMxt Acces au Manquants'!AI"&'EXPORT LMxt Acces au Manquants'!CQ2,1) -> 3 | H31: 8h00 | I31: ='EXPORT LMxt Acces au Manquants'!AK2 -> 352
A32: Top 2 | C32: =INDIRECT("'EXPORT LMxt Acces au Manquants'!E"&'EXPORT LMxt Acces au Manquants'!CM3,1) -> 70635 | D32: =INDIRECT("'EXPORT LMxt Acces au Manquants'!AI"&'EXPORT LMxt Acces au Manquants'!CM3,1) -> 3 | E32: =INDIRECT("'EXPORT LMxt Acces au Manquants'!E"&'EXPORT LMxt Acces au Manquants'!CQ3,1) -> 4041 | F32: =INDIRECT("'EXPORT LMxt Acces au Manquants'!AI"&'EXPORT LMxt Acces au Manquants'!CQ3,1) -> 3
A33: Top 3 | C33: =INDIRECT("'EXPORT LMxt Acces au Manquants'!E"&'EXPORT LMxt Acces au Manquants'!CM4,1) -> 59549 | D33: =INDIRECT("'EXPORT LMxt Acces au Manquants'!AI"&'EXPORT LMxt Acces au Manquants'!CM4,1) -> 3 | E33: =INDIRECT("'EXPORT LMxt Acces au Manquants'!E"&'EXPORT LMxt Acces au Manquants'!CQ4,1) -> 42901 | F33: =INDIRECT("'EXPORT LMxt Acces au Manquants'!AI"&'EXPORT LMxt Acces au Manquants'!CQ4,1) -> 3
A34: Top 4 | C34: =INDIRECT("'EXPORT LMxt Acces au Manquants'!E"&'EXPORT LMxt Acces au Manquants'!CM5,1) -> 4041 | D34: =INDIRECT("'EXPORT LMxt Acces au Manquants'!AI"&'EXPORT LMxt Acces au Manquants'!CM5,1) -> 3 | E34: =INDIRECT("'EXPORT LMxt Acces au Manquants'!E"&'EXPORT LMxt Acces au Manquants'!CQ5,1) -> 89715 | F34: =INDIRECT("'EXPORT LMxt Acces au Manquants'!AI"&'EXPORT LMxt Acces au Manquants'!CQ5,1) -> 3
A35: Top 5 | C35: =INDIRECT("'EXPORT LMxt Acces au Manquants'!E"&'EXPORT LMxt Acces au Manquants'!CM6,1) -> 42901 | D35: =INDIRECT("'EXPORT LMxt Acces au Manquants'!AI"&'EXPORT LMxt Acces au Manquants'!CM6,1) -> 3 | E35: =INDIRECT("'EXPORT LMxt Acces au Manquants'!E"&'EXPORT LMxt Acces au Manquants'!CQ6,1) -> 116611 | F35: =INDIRECT("'EXPORT LMxt Acces au Manquants'!AI"&'EXPORT LMxt Acces au Manquants'!CQ6,1) -> 2
C36: Total Secteur | E36: Total Secteur
C37: ='EXPORT LMxt Acces au Manquants'!CN1 -> 95 | E37: ='EXPORT LMxt Acces au Manquants'!CR1 -> 83
