Workbook

Sheet EXPORT LMxt Acces au Manquants
A1: N° colis | B1: N° OP | C1: N° ligne OP | D1: Etat | E1: Article | F1: Secteur | G1: Adresse | H1: Manquant saisi le | I1: Société | J1: Unité logistique | K1: Motif manquant | L1: Traitement particulier | M1: Nb relevés | N1: Traçabilité | O1: Manquant saisi par | P1: Préparé le | Q1: Préparé par | R1: Modifié le | S1: Modifié dans | T1: Modifié par | U1: N° colis automate | V1: N° kit | W1: Unité des quantités | X1: Quantité colisée | Y1: Quantité par paquet | Z1: Quantité préparée | AA1: Quantité déjà préparée | AB1: Quantité par kit | AC1: Relevés à faire | AD1: Relevés gérés | AE1: Manquant à vérifier | AF1: Colisage | AG1: Ligne | AH1: N° contrôle | AI1: manquants | AO1: A01 | AR1: =SUM(AO:AO) -> 2 | AS1: A02 | AV1: =SUM(AS:AS) -> 1 | AW1: A03 | AZ1: =SUM(AW:AW) -> 2 | BA1: A04 | BD1: =SUM(BA:BA) -> 0 | BE1: A05 | BH1: =SUM(BE:BE) -> 0 | BI1: A06 | BL1: =SUM(BI:BI) -> 1 | BM1: F01 | BP1: =SUM(BM:BM) -> 5 | BQ1: F02 | BT1: =SUM(BQ:BQ) -> 0 | BU1: F03 | BX1: =SUM(BU:BU) -> 7 | BY1: F04 | CB1: =SUM(BY:BY) -> 1 | CC1: F05 | CF1: =SUM(CC:CC) -> 52 | CG1: SURG | CJ1: =SUM(CG:CG) -> 103 | CK1: G2P_A | CN1: =SUM(CK:CK) -> 95 | CO1: G2P_F | CR1: =SUM(CO:CO) -> 83
A2: 039999900121162845 | B2: 5703975 | C2: 00015 | D2: Préparé | E2: 1457 | F2: G2P_A | G2: PAA.01.01.01.A | H2: 27/06/2018 18:00:31 | I2: ad001 | J2: UVC | K2: Mvt manquant WCS | L2: Non | M2: 0 | N2: 0 | O2: Tâche | P2: 27/06/2018 18:00:31 | Q2: Tâche | R2: 27/06/2018 18:00:31 | S2: 39 | T2: -1 | U2: 12116284 | X2: 1 | Y2: 1 | Z2: 0 | AA2: 0 | AB2: 0 | AE2: Non | AG2: 4 | AH2: 2 | AI2: =SUM(X:X-Z:Z) -> 1 | AK2: =SUM(AI:AI) -> 352 | AO2: =IF(AND($AI2>0,$F2=AO$1),$AI2,"") | AP2: =IFERROR(LARGE(AO:AO,ROW()-1),"") -> 1 | AQ2: =IF(AP2="","",IF(AP2=AP1,MATCH(AP2,INDIRECT("CO"&CONCATENATE(AQ1+1,":CO300"),1),0)+AQ1,MATCH(AP2,AO:AO,0))) -> 91 | AS2: =IF(AND($AI2>0,$F2=AS$1),$AI2,"") | AT2: =IFERROR(LARGE(AS:AS,ROW()-1),"") -> 1 | AU2: =IF(AT2="","",IF(AT2=AT1,MATCH(AT2,INDIRECT("CO"&CONCATENATE(AU1+1,":CO300"),1),0)+AU1,MATCH(AT2,AS:AS,0))) -> 168 | AW2: =IF(AND($AI2>0,$F2=AW$1),$AI2,"") | AX2: =IFERROR(LARGE(AW:AW,ROW()-1),"") -> 1 | AY2: =IF(AX2="","",IF(AX2=AX1,MATCH(AX2,INDIRECT("CO"&CONCATENATE(AY1+1,":CO300"),1),0)+AY1,MATCH(AX2,AW:AW,0))) -> 94 | BA2: =IF(AND($AI2>0,$F2=BA$1),$AI2,"") | BB2: =IFERROR(LARGE(BA:BA,ROW()-1),"") | BC2: =IF(BB2="","",IF(BB2=BB1,MATCH(BB2,INDIRECT("CO"&CONCATENATE(BC1+1,":CO300"),1),0)+BC1,MATCH(BB2,BA:BA,0))) | BE2: =IF(AND($AI2>0,$F2=BE$1),$AI2,"") | BF2: =IFERROR(LARGE(BE:BE,ROW()-1),"") | BG2: =IF(BF2="","",IF(BF2=BF1,MATCH(BF2,INDIRECT("CO"&CONCATENATE(BG1+1,":CO300"),1),0)+BG1,MATCH(BF2,BE:BE,0))) | BI2: =IF(AND($AI2>0,$F2=BI$1),$AI2,"") | BJ2: =IFERROR(LARGE(BI:BI,ROW()-1),"") -> 1 | BK2: =IF(BJ2="","",IF(BJ2=BJ1,MATCH(BJ2,INDIRECT("CO"&CONCATENATE(BK1+1,":CO300"),1),0)+BK1,MATCH(BJ2,BI:BI,0))) -> 42 | BM2: =IF(AND($AI2>0,$F2=BM$1),$AI2,"") | BN2: =IFERROR(LARGE(BM:BM,ROW()-1),"") -> 2 | BO2: =IF(BN2="","",IF(BN2=BN1,MATCH(BN2,INDIRECT("CO"&CONCATENATE(BO1+1,":CO300"),1),0)+BO1,MATCH(BN2,BM:BM,0))) -> 286 | BQ2: =IF(AND($AI2>0,$F2=BQ$1),$AI2,"") | BR2: =IFERROR(LARGE(BQ:BQ,ROW()-1),"") | BS2: =IF(BR2="","",IF(BR2=BR1,MATCH(BR2,INDIRECT("CO"&CONCATENATE(BS1+1,":CO300"),1),0)+BS1,MATCH(BR2,BQ:BQ,0))) | BU2: =IF(AND($AI2>0,$F2=BU$1),$AI2,"") | BV2: =IFERROR(LARGE(BU:BU,ROW()-1),"") -> 1 | BW2: =IF(BV2="","",IF(BV2=BV1,MATCH(BV2,INDIRECT("CO"&CONCATENATE(BW1+1,":CO300"),1),0)+BW1,MATCH(BV2,BU:BU,0))) -> 21 | BY2: =IF(AND($AI2>0,$F2=BY$1),$AI2,"") | BZ2: =IFERROR(LARGE(BY:BY,ROW()-1),"") -> 1 | CA2: =IF(BZ2="","",IF(BZ2=BZ1,MATCH(BZ2,INDIRECT("CO"&CONCATENATE(CA1+1,":CO300"),1),0)+CA1,MATCH(BZ2,BY:BY,0))) -> 35 | CC2: =IF(AND($AI2>0,$F2=CC$1),$AI2,"") | CD2: =IFERROR(LARGE(CC:CC,ROW()-1),"") -> 3 | CE2: =IF(CD2="","",IF(CD2=CD1,MATCH(CD2,INDIRECT("CO"&CONCATENATE(CE1+1,":CO300"),1),0)+CE1,MATCH(CD2,CC:CC,0))) -> 138 | CG2: =IF(AND($AI2>0,$F2=CG$1),$AI2,"") | CH2: =IFERROR(LARGE(CG:CG,ROW()-1),"") -> 3 | CI2: =IF(CH2="","",IF(CH2=CH1,MATCH(CH2,INDIRECT("CO"&CONCATENATE(CI1+1,":CO300"),1),0)+CI1,MATCH(CH2,CG:CG,0))) -> 231 | CK2: =IF(AND($AI2>0,$F2=CK$1),$AI2,"") -> 1 | CL2: =IFERROR(LARGE(CK:CK,ROW()-1),"") -> 8 | CM2: =IF(CL2="","",IF(CL2=CL1,MATCH(CL2,INDIRECT("CO"&CONCATENATE(CM1+1,":CO300"),1),0)+CM1,MATCH(CL2,CK:CK,0))) -> 247 | CO2: =IF(AND($AI2>0,$F2=CO$1),$AI2,"") | CP2: =IFERROR(LARGE(CO:CO,ROW()-1),"") -> 3 | CQ2: =IF(CP2="","",IF(CP2=CP1,MATCH(CP2,INDIRECT("CO"&CONCATENATE(CQ1+1,":CO300"),1),0)+CQ1,MATCH(CP2,CO:CO,0))) -> 64
A3: 039999900121092319 | B3: 5702590 | C3: 00017 | D3: Préparé | E3: 55577 | F3: SURG | G3: PCS.04.46.04.A | H3: 27/06/2018 17:33:31 | I3: ad001 | J3: UVC | L3: Non | M3: 0 | N3: 0 | O3: ANAMIGAN | P3: 01/01/1990 12:00:00 | Q3: 0 | R3: 27/06/2018 17:33:31 | S3: 109 | T3: 7224 | U3: 12109231 | X3: 1 | Y3: 1 | Z3: 0 | AA3: 0 | AB3: 0 | AE3: Non | AG3: 3 | AI3: =SUM(X:X-Z:Z) -> 1 | AO3: =IF(AND($AI3>0,$F3=AO$1),$AI3,"") | AP3: =IFERROR(LARGE(AO:AO,ROW()-1),"") -> 1 | AQ3: =IF(AP3="","",IF(AP3=AP2,MATCH(AP3,INDIRECT("CO"&CONCATENATE(AQ2+1,":CO300"),1),0)+AQ2,MATCH(AP3,AO:AO,0))) -> 97 | AS3: =IF(AND($AI3>0,$F3=AS$1),$AI3,"") | AT3: =IFERROR(LARGE(AS:AS,ROW()-1),"") | AU3: =IF(AT3="","",IF(AT3=AT2,MATCH(AT3,INDIRECT("CO"&CONCATENATE(AU2+1,":CO300"),1),0)+AU2,MATCH(AT3,AS:AS,0))) | AW3: =IF(AND($AI3>0,$F3=AW$1),$AI3,"") | AX3: =IFERROR(LARGE(AW:AW,ROW()-1),"") -> 1 | AY3: =IF(AX3="","",IF(AX3=AX2,MATCH(AX3,INDIRECT("CO"&CONCATENATE(AY2+1,":CO300"),1),0)+AY2,MATCH(AX3,AW:AW,0))) -> 97 | BA3: =IF(AND($AI3>0,$F3=BA$1),$AI3,"") | BB3: =IFERROR(LARGE(BA:BA,ROW()-1),"") | BC3: =IF(BB3="","",IF(BB3=BB2,MATCH(BB3,INDIRECT("CO"&CONCATENATE(BC2+1,":CO300"),1),0)+BC2,MATCH(BB3,BA:BA,0))) | BE3: =IF(AND($AI3>0,$F3=BE$1),$AI3,"") | BF3: =IFERROR(LARGE(BE:BE,ROW()-1),"") | BG3: =IF(BF3="","",IF(BF3=BF2,MATCH(BF3,INDIRECT("CO"&CONCATENATE(BG2+1,":CO300"),1),0)+BG2,MATCH(BF3,BE:BE,0))) | BI3: =IF(AND($AI3>0,$F3=BI$1),$AI3,"") | BJ3: =IFERROR(LARGE(BI:BI,ROW()-1),"") | BK3: =IF(BJ3="","",IF(BJ3=BJ2,MATCH(BJ3,INDIRECT("CO"&CONCATENATE(BK2+1,":CO300"),1),0)+BK2,MATCH(BJ3,BI:BI,0))) | BM3: =IF(AND($AI3>0,$F3=BM$1),$AI3,"") | BN3: =IFERROR(LARGE(BM:BM,ROW()-1),"") -> 1 | BO3: =IF(BN3="","",IF(BN3=BN2,MATCH(BN3,INDIRECT("CO"&CONCATENATE(BO2+1,":CO300"),1),0)+BO2,MATCH(BN3,BM:BM,0))) -> 283 | BQ3: =IF(AND($AI3>0,$F3=BQ$1),$AI3,"") | BR3: =IFERROR(LARGE(BQ:BQ,ROW()-1),"") | BS3: =IF(BR3="","",IF(BR3=BR2,MATCH(BR3,INDIRECT("CO"&CONCATENATE(BS2+1,":CO300"),1),0)+BS2,MATCH(BR3,BQ:BQ,0))) | BU3: =IF(AND($AI3>0,$F3=BU$1),$AI3,"") | BV3: =IFERROR(LARGE(BU:BU,ROW()-1),"") -> 1 | BW3: =IF(BV3="","",IF(BV3=BV2,MATCH(BV3,INDIRECT("CO"&CONCATENATE(BW2+1,":CO300"),1),0)+BW2,MATCH(BV3,BU:BU,0))) -> 39 | BY3: =IF(AND($AI3>0,$F3=BY$1),$AI3,"") | BZ3: =IFERROR(LARGE(BY:BY,ROW()-1),"") | CA3: =IF(BZ3="","",IF(BZ3=BZ2,MATCH(BZ3,INDIRECT("CO"&CONCATENATE(CA2+1,":CO300"),1),0)+CA2,MATCH(BZ3,BY:BY,0))) | CC3: =IF(AND($AI3>0,$F3=CC$1),$AI3,"") | CD3: =IFERROR(LARGE(CC:CC,ROW()-1),"") -> 2 | CE3: =IF(CD3="","",IF(CD3=CD2,MATCH(CD3,INDIRECT("CO"&CONCATENATE(CE2+1,":CO300"),1),0)+CE2,MATCH(CD3,CC:CC,0))) -> 106 | CG3: =IF(AND($AI3>0,$F3=CG$1),$AI3,"") -> 1 | CH3: =IFERROR(LARGE(CG:CG,ROW()-1),"") -> 2 | CI3: =IF(CH3="","",IF(CH3=CH2,MATCH(CH3,INDIRECT("CO"&CONCATENATE(CI2+1,":CO300"),1),0)+CI2,MATCH(CH3,CG:CG,0))) -> 25 | CK3: =IF(AND($AI3>0,$F3=CK$1),$AI3,"") | CL3: =IFERROR(LARGE(CK:CK,ROW()-1),"") -> 3 | CM3: =IF(CL3="","",IF(CL3=CL2,MATCH(CL3,INDIRECT("CO"&CONCATENATE(CM2+1,":CO300"),1),0)+CM2,MATCH(CL3,CK:CK,0))) -> 59 | CO3: =IF(AND($AI3>0,$F3=CO$1),$AI3,"") | CP3: =IFERROR(LARGE(CO:CO,ROW()-1),"") -> 3 | CQ3: =IF(CP3="","",IF(CP3=CP2,MATCH(CP3,INDIRECT("CO"&CONCATENATE(CQ2+1,":CO300"),1),0)+CQ2,MATCH(CP3,CO:CO,0))) -> 83
A4: 039999900121056762 | B4: 5698269 | C4: 00014 | D4: Préparé | E4: 142643 | F4: SURG | G4: PCS.04.36.00.B | H4: 27/06/2018 17:33:10 | I4: ad001 | J4: UVC | L4: Non | M4: 0 | N4: 0 | O4: ANAMIGAN | P4: 01/01/1990 12:00:00 | Q4: 0 | R4: 27/06/2018 17:33:10 | S4: 109 | T4: 7224 | U4: 12105676 | X4: 1 | Y4: 1 | Z4: 0 | AA4: 0 | AB4: 0 | AE4: Non | AG4: 4 | AI4: =SUM(X:X-Z:Z) -> 1 | AO4: =IF(AND($AI4>0,$F4=AO$1),$AI4,"") | AP4: =IFERROR(LARGE(AO:AO,ROW()-1),"") | AQ4: =IF(AP4="","",IF(AP4=AP3,MATCH(AP4,INDIRECT("CO"&CONCATENATE(AQ3+1,":CO300"),1),0)+AQ3,MATCH(AP4,AO:AO,0))) | AS4: =IF(AND($AI4>0,$F4=AS$1),$AI4,"") | AT4: =IFERROR(LARGE(AS:AS,ROW()-1),"") | AU4: =IF(AT4="","",IF(AT4=AT3,MATCH(AT4,INDIRECT("CO"&CONCATENATE(AU3+1,":CO300"),1),0)+AU3,MATCH(AT4,AS:AS,0))) | AW4: =IF(AND($AI4>0,$F4=AW$1),$AI4,"") | AX4: =IFERROR(LARGE(AW:AW,ROW()-1),"") | AY4: =IF(AX4="","",IF(AX4=AX3,MATCH(AX4,INDIRECT("CO"&CONCATENATE(AY3+1,":CO300"),1),0)+AY3,MATCH(AX4,AW:AW,0))) | BA4: =IF(AND($AI4>0,$F4=BA$1),$AI4,"") | BB4: =IFERROR(LARGE(BA:BA,ROW()-1),"") | BC4: =IF(BB4="","",IF(BB4=BB3,MATCH(BB4,INDIRECT("CO"&CONCATENATE(BC3+1,":CO300"),1),0)+BC3,MATCH(BB4,BA:BA,0))) | BE4: =IF(AND($AI4>0,$F4=BE$1),$AI4,"") | BF4: =IFERROR(LARGE(BE:BE,ROW()-1),"") | BG4: =IF(BF4="","",IF(BF4=BF3,MATCH(BF4,INDIRECT("CO"&CONCATENATE(BG3+1,":CO300"),1),0)+BG3,MATCH(BF4,BE:BE,0))) | BI4: =IF(AND($AI4>0,$F4=BI$1),$AI4,"") | BJ4: =IFERROR(LARGE(BI:BI,ROW()-1),"") | BK4: =IF(BJ4="","",IF(BJ4=BJ3,MATCH(BJ4,INDIRECT("CO"&CONCATENATE(BK3+1,":CO300"),1),0)+BK3,MATCH(BJ4,BI:BI,0))) | BM4: =IF(AND($AI4>0,$F4=BM$1),$AI4,"") | BN4: =IFERROR(LARGE(BM:BM,ROW()-1),"") -> 1 | BO4: =IF(BN4="","",IF(BN4=BN3,MATCH(BN4,INDIRECT("CO"&CONCATENATE(BO3+1,":CO300"),1),0)+BO3,MATCH(BN4,BM:BM,0))) -> 293 | BQ4: =IF(AND($AI4>0,$F4=BQ$1),$AI4,"") | BR4: =IFERROR(LARGE(BQ:BQ,ROW()-1),"") | BS4: =IF(BR4="","",IF(BR4=BR3,MATCH(BR4,INDIRECT("CO"&CONCATENATE(BS3+1,":CO300"),1),0)+BS3,MATCH(BR4,BQ:BQ,0))) | BU4: =IF(AND($AI4>0,$F4=BU$1),$AI4,"") | BV4: =IFERROR(LARGE(BU:BU,ROW()-1),"") -> 1 | BW4: =IF(BV4="","",IF(BV4=BV3,MATCH(BV4,INDIRECT("CO"&CONCATENATE(BW3+1,":CO300"),1),0)+BW3,MATCH(BV4,BU:BU,0))) -> 43 | BY4: =IF(AND($AI4>0,$F4=BY$1),$AI4,"") | BZ4: =IFERROR(LARGE(BY:BY,ROW()-1),"") | CA4: =IF(BZ4="","",IF(BZ4=BZ3,MATCH(BZ4,INDIRECT("CO"&CONCATENATE(CA3+1,":CO300"),1),0)+CA3,MATCH(BZ4,BY:BY,0))) | CC4: =IF(AND($AI4>0,$F4=CC$1),$AI4,"") | CD4: =IFERROR(LARGE(CC:CC,ROW()-1),"") -> 2 | CE4: =IF(CD4="","",IF(CD4=CD3,MATCH(CD4,INDIRECT("CO"&CONCATENATE(CE3+1,":CO300"),1),0)+CE3,MATCH(CD4,CC:CC,0))) -> 150 | CG4: =IF(AND($AI4>0,$F4=CG$1),$AI4,"") -> 1 | CH4: =IFERROR(LARGE(CG:CG,ROW()-1),"") -> 2 | CI4: =IF(CH4="","",IF(CH4=CH3,MATCH(CH4,INDIRECT("CO"&CONCATENATE(CI3+1,":CO300"),1),0)+CI3,MATCH(CH4,CG:CG,0))) -> 44 | CK4: =IF(AND($AI4>0,$F4=CK$1),$AI4,"") | CL4: =IFERROR(LARGE(CK:CK,ROW()-1),"") -> 3 | CM4: =IF(CL4="","",IF(CL4=CL3,MATCH(CL4,INDIRECT("CO"&CONCATENATE(CM3+1,":CO300"),1),0)+CM3,MATCH(CL4,CK:CK,0))) -> 64 | CO4: =IF(AND($AI4>0,$F4=CO$1),$AI4,"") | CP4: =IFERROR(LARGE(CO:CO,ROW()-1),"") -> 3 | CQ4: =IF(CP4="","",IF(CP4=CP3,MATCH(CP4,INDIRECT("CO"&CONCATENATE(CQ3+1,":CO300"),1),0)+CQ3,MATCH(CP4,CO:CO,0))) -> 256
A5: 039999900121059220 | B5: 5700270 | C5: 00017 | D5: Préparé | E5: 135543 | F5: SURG | G5: PCS.03.14.01.A | H5: 27/06/2018 17:32:49 | I5: ad001 | J5: UVC | L5: Non | M5: 0 | N5: 0 | O5: ANAMIGAN | P5: 01/01/1990 12:00:00 | Q5: 0 | R5: 27/06/2018 17:32:49 | S5: 109 | T5: 7224 | U5: 12105922 | X5: 1 | Y5: 1 | Z5: 0 | AA5: 0 | AB5: 0 | AE5: Non | AG5: 2 | AI5: =SUM(X:X-Z:Z) -> 1 | AO5: =IF(AND($AI5>0,$F5=AO$1),$AI5,"") | AP5: =IFERROR(LARGE(AO:AO,ROW()-1),"") | AQ5: =IF(AP5="","",IF(AP5=AP4,MATCH(AP5,INDIRECT("CO"&CONCATENATE(AQ4+1,":CO300"),1),0)+AQ4,MATCH(AP5,AO:AO,0))) | AS5: =IF(AND($AI5>0,$F5=AS$1),$AI5,"") | AT5: =IFERROR(LARGE(AS:AS,ROW()-1),"") | AU5: =IF(AT5="","",IF(AT5=AT4,MATCH(AT5,INDIRECT("CO"&CONCATENATE(AU4+1,":CO300"),1),0)+AU4,MATCH(AT5,AS:AS,0))) | AW5: =IF(AND($AI5>0,$F5=AW$1),$AI5,"") | AX5: =IFERROR(LARGE(AW:AW,ROW()-1),"") | AY5: =IF(AX5="","",IF(AX5=AX4,MATCH(AX5,INDIRECT("CO"&CONCATENATE(AY4+1,":CO300"),1),0)+AY4,MATCH(AX5,AW:AW,0))) | BA5: =IF(AND($AI5>0,$F5=BA$1),$AI5,"") | BB5: =IFERROR(LARGE(BA:BA,ROW()-1),"") | BC5: =IF(BB5="","",IF(BB5=BB4,MATCH(BB5,INDIRECT("CO"&CONCATENATE(BC4+1,":CO300"),1),0)+BC4,MATCH(BB5,BA:BA,0))) | BE5: =IF(AND($AI5>0,$F5=BE$1),$AI5,"") | BF5: =IFERROR(LARGE(BE:BE,ROW()-1),"") | BG5: =IF(BF5="","",IF(BF5=BF4,MATCH(BF5,INDIRECT("CO"&CONCATENATE(BG4+1,":CO300"),1),0)+BG4,MATCH(BF5,BE:BE,0))) | BI5: =IF(AND($AI5>0,$F5=BI$1),$AI5,"") | BJ5: =IFERROR(LARGE(BI:BI,ROW()-1),"") | BK5: =IF(BJ5="","",IF(BJ5=BJ4,MATCH(BJ5,INDIRECT("CO"&CONCATENATE(BK4+1,":CO300"),1),0)+BK4,MATCH(BJ5,BI:BI,0))) | BM5: =IF(AND($AI5>0,$F5=BM$1),$AI5,"") | BN5: =IFERROR(LARGE(BM:BM,ROW()-1),"") -> 1 | BO5: =IF(BN5="","",IF(BN5=BN4,MATCH(BN5,INDIRECT("CO"&CONCATENATE(BO4+1,":CO300"),1),0)+BO4,MATCH(BN5,BM:BM,0))) -> 295 | BQ5: =IF(AND($AI5>0,$F5=BQ$1),$AI5,"") | BR5: =IFERROR(LARGE(BQ:BQ,ROW()-1),"") | BS5: =IF(BR5="","",IF(BR5=BR4,MATCH(BR5,INDIRECT("CO"&CONCATENATE(BS4+1,":CO300"),1),0)+BS4,MATCH(BR5,BQ:BQ,0))) | BU5: =IF(AND($AI5>0,$F5=BU$1),$AI5,"") | BV5: =IFERROR(LARGE(BU:BU,ROW()-1),"") -> 1 | BW5: =IF(BV5="","",IF(BV5=BV4,MATCH(BV5,INDIRECT("CO"&CONCATENATE(BW4+1,":CO300"),1),0)+BW4,MATCH(BV5,BU:BU,0))) -> 46 | BY5: =IF(AND($AI5>0,$F5=BY$1),$AI5,"") | BZ5: =IFERROR(LARGE(BY:BY,ROW()-1),"") | CA5: =IF(BZ5="","",IF(BZ5=BZ4,MATCH(BZ5,INDIRECT("CO"&CONCATENATE(CA4+1,":CO300"),1),0)+CA4,MATCH(BZ5,BY:BY,0))) | CC5: =IF(AND($AI5>0,$F5=CC$1),$AI5,"") | CD5: =IFERROR(LARGE(CC:CC,ROW()-1),"") -> 2 | CE5: =IF(CD5="","",IF(CD5=CD4,MATCH(CD5,INDIRECT("CO"&CONCATENATE(CE4+1,":CO300"),1),0)+CE4,MATCH(CD5,CC:CC,0))) -> 184 | CG5: =IF(AND($AI5>0,$F5=CG$1),$AI5,"") -> 1 | CH5: =IFERROR(LARGE(CG:CG,ROW()-1),"") -> 2 | CI5: =IF(CH5="","",IF(CH5=CH4,MATCH(CH5,INDIRECT("CO"&CONCATENATE(CI4+1,":CO300"),1),0)+CI4,MATCH(CH5,CG:CG,0))) -> 45 | CK5: =IF(AND($AI5>0,$F5=CK$1),$AI5,"") | CL5: =IFERROR(LARGE(CK:CK,ROW()-1),"") -> 3 | CM5: =IF(CL5="","",IF(CL5=CL4,MATCH(CL5,INDIRECT("CO"&CONCATENATE(CM4+1,":CO300"),1),0)+CM4,MATCH(CL5,CK:CK,0))) -> 83 | CO5: =IF(AND($AI5>0,$F5=CO$1),$AI5,"") | CP5: =IFERROR(LARGE(CO:CO,ROW()-1),"") -> 3 | CQ5: =IF(CP5="","",IF(CP5=CP4,MATCH(CP5,INDIRECT("CO"&CONCATENATE(CQ4+1,":CO300"),1),0)+CQ4,MATCH(CP5,CO:CO,0))) -> 289
A6: 039999900121056793 | B6: 5698275 | C6: 00013 | D6: Préparé | E6: 142643 | F6: SURG | G6: PCS.04.36.00.B | H6: 27/06/2018 17:31:23 | I6: ad001 | J6: UVC | L6: Non | M6: 0 | N6: 0 | O6: ANAMIGAN | P6: 01/01/1990 12:00:00 | Q6: 0 | R6: 27/06/2018 17:31:23 | S6: 85 | T6: 7224 | U6: 12105679 | X6: 1 | Y6: 1 | Z6: 0 | AA6: 0 | AB6: 0 | AE6: Non | AG6: 4 | AI6: =SUM(X:X-Z:Z) -> 1 | AO6: =IF(AND($AI6>0,$F6=AO$1),$AI6,"") | AP6: =IFERROR(LARGE(AO:AO,ROW()-1),"") | AQ6: =IF(AP6="","",IF(AP6=AP5,MATCH(AP6,INDIRECT("CO"&CONCATENATE(AQ5+1,":CO300"),1),0)+AQ5,MATCH(AP6,AO:AO,0))) | AS6: =IF(AND($AI6>0,$F6=AS$1),$AI6,"") | AT6: =IFERROR(LARGE(AS:AS,ROW()-1),"") | AU6: =IF(AT6="","",IF(AT6=AT5,MATCH(AT6,INDIRECT("CO"&CONCATENATE(AU5+1,":CO300"),1),0)+AU5,MATCH(AT6,AS:AS,0))) | AW6: =IF(AND($AI6>0,$F6=AW$1),$AI6,"") | AX6: =IFERROR(LARGE(AW:AW,ROW()-1),"") | AY6: =IF(AX6="","",IF(AX6=AX5,MATCH(AX6,INDIRECT("CO"&CONCATENATE(AY5+1,":CO300"),1),0)+AY5,MATCH(AX6,AW:AW,0))) | BA6: =IF(AND($AI6>0,$F6=BA$1),$AI6,"") | BB6: =IFERROR(LARGE(BA:BA,ROW()-1),"") | BC6: =IF(BB6="","",IF(BB6=BB5,MATCH(BB6,INDIRECT("CO"&CONCATENATE(BC5+1,":CO300"),1),0)+BC5,MATCH(BB6,BA:BA,0))) | BE6: =IF(AND($AI6>0,$F6=BE$1),$AI6,"") | BF6: =IFERROR(LARGE(BE:BE,ROW()-1),"") | BG6: =IF(BF6="","",IF(BF6=BF5,MATCH(BF6,INDIRECT("CO"&CONCATENATE(BG5+1,":CO300"),1),0)+BG5,MATCH(BF6,BE:BE,0))) | BI6: =IF(AND($AI6>0,$F6=BI$1),$AI6,"") | BJ6: =IFERROR(LARGE(BI:BI,ROW()-1),"") | BK6: =IF(BJ6="","",IF(BJ6=BJ5,MATCH(BJ6,INDIRECT("CO"&CONCATENATE(BK5+1,":CO300"),1),0)+BK5,MATCH(BJ6,BI:BI,0))) | BM6: =IF(AND($AI6>0,$F6=BM$1),$AI6,"") | BN6: =IFERROR(LARGE(BM:BM,ROW()-1),"") | BO6: =IF(BN6="","",IF(BN6=BN5,MATCH(BN6,INDIRECT("CO"&CONCATENATE(BO5+1,":CO300"),1),0)+BO5,MATCH(BN6,BM:BM,0))) | BQ6: =IF(AND($AI6>0,$F6=BQ$1),$AI6,"") | BR6: =IFERROR(LARGE(BQ:BQ,ROW()-1),"") | BS6: =IF(BR6="","",IF(BR6=BR5,MATCH(BR6,INDIRECT("CO"&CONCATENATE(BS5+1,":CO300"),1),0)+BS5,MATCH(BR6,BQ:BQ,0))) | BU6: =IF(AND($AI6>0,$F6=BU$1),$AI6,"") | BV6: =IFERROR(LARGE(BU:BU,ROW()-1),"") -> 1 | BW6: =IF(BV6="","",IF(BV6=BV5,MATCH(BV6,INDIRECT("CO"&CONCATENATE(BW5+1,":CO300"),1),0)+BW5,MATCH(BV6,BU:BU,0))) -> 47 | BY6: =IF(AND($AI6>0,$F6=BY$1),$AI6,"") | BZ6: =IFERROR(LARGE(BY:BY,ROW()-1),"") | CA6: =IF(BZ6="","",IF(BZ6=BZ5,MATCH(BZ6,INDIRECT("CO"&CONCATENATE(CA5+1,":CO300"),1),0)+CA5,MATCH(BZ6,BY:BY,0))) | CC6: =IF(AND($AI6>0,$F6=CC$1),$AI6,"") | CD6: =IFERROR(LARGE(CC:CC,ROW()-1),"") -> 1 | CE6: =IF(CD6="","",IF(CD6=CD5,MATCH(CD6,INDIRECT("CO"&CONCATENATE(CE5+1,":CO300"),1),0)+CE5,MATCH(CD6,CC:CC,0))) -> 36 | CG6: =IF(AND($AI6>0,$F6=CG$1),$AI6,"") -> 1 | CH6: =IFERROR(LARGE(CG:CG,ROW()-1),"") -> 2 | CI6: =IF(CH6="","",IF(CH6=CH5,MATCH(CH6,INDIRECT("CO"&CONCATENATE(CI5+1,":CO300"),1),0)+CI5,MATCH(CH6,CG:CG,0))) -> 72 | CK6: =IF(AND($AI6>0,$F6=CK$1),$AI6,"") | CL6: =IFERROR(LARGE(CK:CK,ROW()-1),"") -> 3 | CM6: =IF(CL6="","",IF(CL6=CL5,MATCH(CL6,INDIRECT("CO"&CONCATENATE(CM5+1,":CO300"),1),0)+CM5,MATCH(CL6,CK:CK,0))) -> 256 | CO6: =IF(AND($AI6>0,$F6=CO$1),$AI6,"") | CP6: =IFERROR(LARGE(CO:CO,ROW()-1),"") -> 2 | CQ6: =IF(CP6="","",IF(CP6=CP5,MATCH(CP6,INDIRECT("CO"&CONCATENATE(CQ5+1,":CO300"),1),0)+CQ5,MATCH(CP6,CO:CO,0))) -> 44
A7: 039999900121140904 | B7: 5695210 | C7: 00031 | D7: Préparé | E7: 86010 | F7: G2P_F | G7: PAF.01.01.01.A | H7: 27/06/2018 17:30:28 | I7: ad001 | J7: UVC | K7: Mvt manquant WCS | L7: Non | M7: 0 | N7: 0 | O7: Tâche | P7: 27/06/2018 17:30:28 | Q7: Tâche | R7: 27/06/2018 17:30:28 | S7: 39 | T7: -1 | U7: 12114090 | X7: 1 | Y7: 1 | Z7: 0 | AA7: 0 | AB7: 0 | AD7: Date LC : Traçabilité totale | AE7: Non | AG7: 20 | AH7: 2 | AI7: =SUM(X:X-Z:Z) -> 1 | AO7: =IF(AND($AI7>0,$F7=AO$1),$AI7,"") | AS7: =IF(AND($AI7>0,$F7=AS$1),$AI7,"") | AW7: =IF(AND($AI7>0,$F7=AW$1),$AI7,"") | BA7: =IF(AND($AI7>0,$F7=BA$1),$AI7,"") | BE7: =IF(AND($AI7>0,$F7=BE$1),$AI7,"") | BI7: =IF(AND($AI7>0,$F7=BI$1),$AI7,"") | BM7: =IF(AND($AI7>0,$F7=BM$1),$AI7,"") | BQ7: =IF(AND($AI7>0,$F7=BQ$1),$AI7,"") | BU7: =IF(AND($AI7>0,$F7=BU$1),$AI7,"") | BY7: =IF(AND($AI7>0,$F7=BY$1),$AI7,"") | CC7: =IF(AND($AI7>0,$F7=CC$1),$AI7,"") | CG7: =IF(AND($AI7>0,$F7=CG$1),$AI7,"") | CK7: =IF(AND($AI7>0,$F7=CK$1),$AI7,"") | CO7: =IF(AND($AI7>0,$F7=CO$1),$AI7,"") -> 1
A8: 039999900121199926 | B8: 5706064 | C8: 00009 | D8: Préparé | E8: 1457 | F8: G2P_A | G8: PAA.01.01.01.A | H8: 27/06/2018 17:25:22 | I8: ad001 | J8: UVC | K8: Mvt manquant WCS | L8: Non | M8: 0 | N8: 0 | O8: Tâche | P8: 27/06/2018 17:25:22 | Q8: MBEN | R8: 27/06/2018 17:25:22 | S8: 39 | T8: -1 | U8: 12119992 | X8: 1 | Y8: 1 | Z8: 0 | AA8: 0 | AB8: 0 | AE8: Non | AG8: 7 | AH8: 2 | AI8: =SUM(X:X-Z:Z) -> 1 | AO8: =IF(AND($AI8>0,$F8=AO$1),$AI8,"") | AS8: =IF(AND($AI8>0,$F8=AS$1),$AI8,"") | AW8: =IF(AND($AI8>0,$F8=AW$1),$AI8,"") | BA8: =IF(AND($AI8>0,$F8=BA$1),$AI8,"") | BE8: =IF(AND($AI8>0,$F8=BE$1),$AI8,"") | BI8: =IF(AND($AI8>0,$F8=BI$1),$AI8,"") | BM8: =IF(AND($AI8>0,$F8=BM$1),$AI8,"") | BQ8: =IF(AND($AI8>0,$F8=BQ$1),$AI8,"") | BU8: =IF(AND($AI8>0,$F8=BU$1),$AI8,"") | BY8: =IF(AND($AI8>0,$F8=BY$1),$AI8,"") | CC8: =IF(AND($AI8>0,$F8=CC$1),$AI8,"") | CG8: =IF(AND($AI8>0,$F8=CG$1),$AI8,"") | CK8: =IF(AND($AI8>0,$F8=CK$1),$AI8,"") -> 1 | CO8: =IF(AND($AI8>0,$F8=CO$1),$AI8,"")
A9: 039999900121071208 | B9: 5701377 | C9: 00019 | D9: Préparé | E9: 217122 | F9: SURG | G9: PCS.03.21.03.B | H9: 27/06/2018 17:22:58 | I9: ad001 | J9: UVC | L9: Non | M9: 0 | N9: 0 | O9: ANAMIGAN | P9: 01/01/1990 12:00:00 | Q9: 0 | R9: 27/06/2018 17:22:58 | S9: 177 | T9: 7224 | U9: 12107120 | X9: 1 | Y9: 1 | Z9: 0 | AA9: 0 | AB9: 0 | AE9: Non | AG9: 2 | AI9: =SUM(X:X-Z:Z) -> 1 | AO9: =IF(AND($AI9>0,$F9=AO$1),$AI9,"") | AS9: =IF(AND($AI9>0,$F9=AS$1),$AI9,"") | AW9: =IF(AND($AI9>0,$F9=AW$1),$AI9,"") | BA9: =IF(AND($AI9>0,$F9=BA$1),$AI9,"") | BE9: =IF(AND($AI9>0,$F9=BE$1),$AI9,"") | BI9: =IF(AND($AI9>0,$F9=BI$1),$AI9,"") | BM9: =IF(AND($AI9>0,$F9=BM$1),$AI9,"") | BQ9: =IF(AND($AI9>0,$F9=BQ$1),$AI9,"") | BU9: =IF(AND($AI9>0,$F9=BU$1),$AI9,"") | BY9: =IF(AND($AI9>0,$F9=BY$1),$AI9,"") | CC9: =IF(AND($AI9>0,$F9=CC$1),$AI9,"") | CG9: =IF(AND($AI9>0,$F9=CG$1),$AI9,"") -> 1 | CK9: =IF(AND($AI9>0,$F9=CK$1),$AI9,"") | CO9: =IF(AND($AI9>0,$F9=CO$1),$AI9,"")
A10: 039999900121051316 | B10: 5701330 | C10: 00015 | D10: Préparé | E10: 217941 | F10: SURG | G10: PCS.03.22.01.A | H10: 27/06/2018 17:14:28 | I10: ad001 | J10: UVC | L10: Non | M10: 0 | N10: 0 | O10: ANAMIGAN | P10: 01/01/1990 12:00:00 | Q10: 0 | R10: 27/06/2018 17:14:28 | S10: 109 | T10: 7224 | U10: 12105131 | X10: 1 | Y10: 1 | Z10: 0 | AA10: 0 | AB10: 0 | AE10: Non | AG10: 4 | AI10: =SUM(X:X-Z:Z) -> 1 | AO10: =IF(AND($AI10>0,$F10=AO$1),$AI10,"") | AS10: =IF(AND($AI10>0,$F10=AS$1),$AI10,"") | AW10: =IF(AND($AI10>0,$F10=AW$1),$AI10,"") | BA10: =IF(AND($AI10>0,$F10=BA$1),$AI10,"") | BE10: =IF(AND($AI10>0,$F10=BE$1),$AI10,"") | BI10: =IF(AND($AI10>0,$F10=BI$1),$AI10,"") | BM10: =IF(AND($AI10>0,$F10=BM$1),$AI10,"") | BQ10: =IF(AND($AI10>0,$F10=BQ$1),$AI10,"") | BU10: =IF(AND($AI10>0,$F10=BU$1),$AI10,"") | BY10: =IF(AND($AI10>0,$F10=BY$1),$AI10,"") | CC10: =IF(AND($AI10>0,$F10=CC$1),$AI10,"") | CG10: =IF(AND($AI10>0,$F10=CG$1),$AI10,"") -> 1 | CK10: =IF(AND($AI10>0,$F10=CK$1),$AI10,"") | CO10: =IF(AND($AI10>0,$F10=CO$1),$AI10,"")
A11: 039999900121051309 | B11: 5701330 | C11: 00018 | D11: Préparé | E11: 233407 | F11: SURG | G11: PCS.02.37.03.B | H11: 27/06/2018 17:14:05 | I11: ad001 | J11: UVC | L11: Non | M11: 0 | N11: 0 | O11: ANAMIGAN | P11: 01/01/1990 12:00:00 | Q11: 0 | R11: 27/06/2018 17:14:05 | S11: 109 | T11: 7224 | U11: 12105130 | X11: 1 | Y11: 1 | Z11: 0 | AA11: 0 | AB11: 0 | AE11: Non | AG11: 2 | AI11: =SUM(X:X-Z:Z) -> 1 | AO11: =IF(AND($AI11>0,$F11=AO$1),$AI11,"") | AS11: =IF(AND($AI11>0,$F11=AS$1),$AI11,"") | AW11: =IF(AND($AI11>0,$F11=AW$1),$AI11,"") | BA11: =IF(AND($AI11>0,$F11=BA$1),$AI11,"") | BE11: =IF(AND($AI11>0,$F11=BE$1),$AI11,"") | BI11: =IF(AND($AI11>0,$F11=BI$1),$AI11,"") | BM11: =IF(AND($AI11>0,$F11=BM$1),$AI11,"") | BQ11: =IF(AND($AI11>0,$F11=BQ$1),$AI11,"") | BU11: =IF(AND($AI11>0,$F11=BU$1),$AI11,"") | BY11: =IF(AND($AI11>0,$F11=BY$1),$AI11,"") | CC11: =IF(AND($AI11>0,$F11=CC$1),$AI11,"") | CG11: =IF(AND($AI11>0,$F11=CG$1),$AI11,"") -> 1 | CK11: =IF(AND($AI11>0,$F11=CK$1),$AI11,"") | CO11: =IF(AND($AI11>0,$F11=CO$1),$AI11,"")
A12: 039999900121046909 | B12: 5692482 | C12: 00048 | D12: Préparé | E12: 233407 | F12: SURG | G12: PCS.02.37.03.B | H12: 27/06/2018 17:13:24 | I12: ad001 | J12: UVC | L12: Non | M12: 0 | N12: 0 | O12: ANAMIGAN | P12: 01/01/1990 12:00:00 | Q12: 0 | R12: 27/06/2018 17:13:24 | S12: 177 | T12: 7224 | U12: 12104690 | X12: 1 | Y12: 1 | Z12: 0 | AA12: 0 | AB12: 0 | AE12: Non | AG12: 3 | AI12: =SUM(X:X-Z:Z) -> 1 | AO12: =IF(AND($AI12>0,$F12=AO$1),$AI12,"") | AS12: =IF(AND($AI12>0,$F12=AS$1),$AI12,"") | AW12: =IF(AND($AI12>0,$F12=AW$1),$AI12,"") | BA12: =IF(AND($AI12>0,$F12=BA$1),$AI12,"") | BE12: =IF(AND($AI12>0,$F12=BE$1),$AI12,"") | BI12: =IF(AND($AI12>0,$F12=BI$1),$AI12,"") | BM12: =IF(AND($AI12>0,$F12=BM$1),$AI12,"") | BQ12: =IF(AND($AI12>0,$F12=BQ$1),$AI12,"") | BU12: =IF(AND($AI12>0,$F12=BU$1),$AI12,"") | BY12: =IF(AND($AI12>0,$F12=BY$1),$AI12,"") | CC12: =IF(AND($AI12>0,$F12=CC$1),$AI12,"") | CG12: =IF(AND($AI12>0,$F12=CG$1),$AI12,"") -> 1 | CK12: =IF(AND($AI12>0,$F12=CK$1),$AI12,"") | CO12: =IF(AND($AI12>0,$F12=CO$1),$AI12,"")
A13: 039999900121047913 | B13: 5698164 | C13: 00008 | D13: Préparé | E13: 131424 | F13: SURG | G13: PCS.03.19.02.C | H13: 27/06/2018 17:09:37 | I13: ad001 | J13: UVC | L13: Non | M13: 0 | N13: 0 | O13: ANAMIGAN | P13: 01/01/1990 12:00:00 | Q13: 0 | R13: 27/06/2018 17:09:37 | S13: 85 | T13: 7224 | U13: 12104791 | X13: 1 | Y13: 1 | Z13: 0 | AA13: 0 | AB13: 0 | AE13: Non | AG13: 3 | AI13: =SUM(X:X-Z:Z) -> 1 | AO13: =IF(AND($AI13>0,$F13=AO$1),$AI13,"") | AS13: =IF(AND($AI13>0,$F13=AS$1),$AI13,"") | AW13: =IF(AND($AI13>0,$F13=AW$1),$AI13,"") | BA13: =IF(AND($AI13>0,$F13=BA$1),$AI13,"") | BE13: =IF(AND($AI13>0,$F13=BE$1),$AI13,"") | BI13: =IF(AND($AI13>0,$F13=BI$1),$AI13,"") | BM13: =IF(AND($AI13>0,$F13=BM$1),$AI13,"") | BQ13: =IF(AND($AI13>0,$F13=BQ$1),$AI13,"") | BU13: =IF(AND($AI13>0,$F13=BU$1),$AI13,"") | BY13: =IF(AND($AI13>0,$F13=BY$1),$AI13,"") | CC13: =IF(AND($AI13>0,$F13=CC$1),$AI13,"") | CG13: =IF(AND($AI13>0,$F13=CG$1),$AI13,"") -> 1 | CK13: =IF(AND($AI13>0,$F13=CK$1),$AI13,"") | CO13: =IF(AND($AI13>0,$F13=CO$1),$AI13,"")
A14: 039999900121057295 | B14: 5698557 | C14: 00022 | D14: Préparé | E14: 217122 | F14: SURG | G14: PCS.03.21.03.B | H14: 27/06/2018 17:03:29 | I14: ad001 | J14: UVC | L14: Non | M14: 0 | N14: 0 | O14: ANAMIGAN | P14: 01/01/1990 12:00:00 | Q14: 0 | R14: 27/06/2018 17:03:29 | S14: 177 | T14: 7224 | U14: 12105729 | X14: 1 | Y14: 1 | Z14: 0 | AA14: 0 | AB14: 0 | AE14: Non | AG14: 1 | AI14: =SUM(X:X-Z:Z) -> 1 | AO14: =IF(AND($AI14>0,$F14=AO$1),$AI14,"") | AS14: =IF(AND($AI14>0,$F14=AS$1),$AI14,"") | AW14: =IF(AND($AI14>0,$F14=AW$1),$AI14,"") | BA14: =IF(AND($AI14>0,$F14=BA$1),$AI14,"") | BE14: =IF(AND($AI14>0,$F14=BE$1),$AI14,"") | BI14: =IF(AND($AI14>0,$F14=BI$1),$AI14,"") | BM14: =IF(AND($AI14>0,$F14=BM$1),$AI14,"") | BQ14: =IF(AND($AI14>0,$F14=BQ$1),$AI14,"") | BU14: =IF(AND($AI14>0,$F14=BU$1),$AI14,"") | BY14: =IF(AND($AI14>0,$F14=BY$1),$AI14,"") | CC14: =IF(AND($AI14>0,$F14=CC$1),$AI14,"") | CG14: =IF(AND($AI14>0,$F14=CG$1),$AI14,"") -> 1 | CK14: =IF(AND($AI14>0,$F14=CK$1),$AI14,"") | CO14: =IF(AND($AI14>0,$F14=CO$1),$AI14,"")
A15: 039999900121093293 | B15: 5702163 | C15: 00022 | D15: Préparé | E15: 217879 | F15: SURG | G15: PCS.04.23.01.C | H15: 27/06/2018 16:58:40 | I15: ad001 | J15: UVC | L15: Non | M15: 0 | N15: 0 | O15: ANAMIGAN | P15: 01/01/1990 12:00:00 | Q15: 0 | R15: 27/06/2018 16:58:40 | S15: 85 | T15: 7224 | U15: 12109329 | X15: 1 | Y15: 1 | Z15: 0 | AA15: 0 | AB15: 0 | AE15: Non | AG15: 4 | AI15: =SUM(X:X-Z:Z) -> 1 | AO15: =IF(AND($AI15>0,$F15=AO$1),$AI15,"") | AS15: =IF(AND($AI15>0,$F15=AS$1),$AI15,"") | AW15: =IF(AND($AI15>0,$F15=AW$1),$AI15,"") | BA15: =IF(AND($AI15>0,$F15=BA$1),$AI15,"") | BE15: =IF(AND($AI15>0,$F15=BE$1),$AI15,"") | BI15: =IF(AND($AI15>0,$F15=BI$1),$AI15,"") | BM15: =IF(AND($AI15>0,$F15=BM$1),$AI15,"") | BQ15: =IF(AND($AI15>0,$F15=BQ$1),$AI15,"") | BU15: =IF(AND($AI15>0,$F15=BU$1),$AI15,"") | BY15: =IF(AND($AI15>0,$F15=BY$1),$AI15,"") | CC15: =IF(AND($AI15>0,$F15=CC$1),$AI15,"") | CG15: =IF(AND($AI15>0,$F15=CG$1),$AI15,"") -> 1 | CK15: =IF(AND($AI15>0,$F15=CK$1),$AI15,"") | CO15: =IF(AND($AI15>0,$F15=CO$1),$AI15,"")
A16: 039999900121080217 | B16: 5702140 | C16: 00026 | D16: Préparé | E16: 242703 | F16: SURG | G16: PCS.03.35.02.A | H16: 27/06/2018 16:54:15 | I16: ad001 | J16: UVC | L16: Non | M16: 0 | N16: 0 | O16: ANAMIGAN | P16: 01/01/1990 12:00:00 | Q16: 0 | R16: 27/06/2018 16:54:15 | S16: 177 | T16: 7224 | U16: 12108021 | X16: 1 | Y16: 1 | Z16: 0 | AA16: 0 | AB16: 0 | AE16: Non | AG16: 2 | AI16: =SUM(X:X-Z:Z) -> 1 | AO16: =IF(AND($AI16>0,$F16=AO$1),$AI16,"") | AS16: =IF(AND($AI16>0,$F16=AS$1),$AI16,"") | AW16: =IF(AND($AI16>0,$F16=AW$1),$AI16,"") | BA16: =IF(AND($AI16>0,$F16=BA$1),$AI16,"") | BE16: =IF(AND($AI16>0,$F16=BE$1),$AI16,"") | BI16: =IF(AND($AI16>0,$F16=BI$1),$AI16,"") | BM16: =IF(AND($AI16>0,$F16=BM$1),$AI16,"") | BQ16: =IF(AND($AI16>0,$F16=BQ$1),$AI16,"") | BU16: =IF(AND($AI16>0,$F16=BU$1),$AI16,"") | BY16: =IF(AND($AI16>0,$F16=BY$1),$AI16,"") | CC16: =IF(AND($AI16>0,$F16=CC$1),$AI16,"") | CG16: =IF(AND($AI16>0,$F16=CG$1),$AI16,"") -> 1 | CK16: =IF(AND($AI16>0,$F16=CK$1),$AI16,"") | CO16: =IF(AND($AI16>0,$F16=CO$1),$AI16,"")
A17: 039999900121055345 | B17: 5696741 | C17: 00036 | D17: Préparé | E17: 209355 | F17: SURG | G17: PCS.04.18.01.A | H17: 27/06/2018 16:49:25 | I17: ad001 | J17: UVC | L17: Non | M17: 0 | N17: 0 | O17: ANAMIGAN | P17: 01/01/1990 12:00:00 | Q17: 0 | R17: 27/06/2018 16:49:25 | S17: 145 | T17: 7224 | U17: 12105534 | X17: 1 | Y17: 1 | Z17: 0 | AA17: 0 | AB17: 0 | AE17: Non | AG17: 4 | AI17: =SUM(X:X-Z:Z) -> 1 | AO17: =IF(AND($AI17>0,$F17=AO$1),$AI17,"") | AS17: =IF(AND($AI17>0,$F17=AS$1),$AI17,"") | AW17: =IF(AND($AI17>0,$F17=AW$1),$AI17,"") | BA17: =IF(AND($AI17>0,$F17=BA$1),$AI17,"") | BE17: =IF(AND($AI17>0,$F17=BE$1),$AI17,"") | BI17: =IF(AND($AI17>0,$F17=BI$1),$AI17,"") | BM17: =IF(AND($AI17>0,$F17=BM$1),$AI17,"") | BQ17: =IF(AND($AI17>0,$F17=BQ$1),$AI17,"") | BU17: =IF(AND($AI17>0,$F17=BU$1),$AI17,"") | BY17: =IF(AND($AI17>0,$F17=BY$1),$AI17,"") | CC17: =IF(AND($AI17>0,$F17=CC$1),$AI17,"") | CG17: =IF(AND($AI17>0,$F17=CG$1),$AI17,"") -> 1 | CK17: =IF(AND($AI17>0,$F17=CK$1),$AI17,"") | CO17: =IF(AND($AI17>0,$F17=CO$1),$AI17,"")
A18: 039999900121060264 | B18: 5701009 | C18: 00036 | D18: Préparé | E18: 85017 | F18: SURG | G18: PCS.04.26.04.A | H18: 27/06/2018 16:42:48 | I18: ad001 | J18: UVC | L18: Non | M18: 0 | N18: 0 | O18: ANAMIGAN | P18: 01/01/1990 12:00:00 | Q18: 0 | R18: 27/06/2018 16:42:48 | S18: 177 | T18: 7224 | U18: 12106026 | X18: 1 | Y18: 1 | Z18: 0 | AA18: 0 | AB18: 0 | AE18: Non | AG18: 5 | AI18: =SUM(X:X-Z:Z) -> 1 | AO18: =IF(AND($AI18>0,$F18=AO$1),$AI18,"") | AS18: =IF(AND($AI18>0,$F18=AS$1),$AI18,"") | AW18: =IF(AND($AI18>0,$F18=AW$1),$AI18,"") | BA18: =IF(AND($AI18>0,$F18=BA$1),$AI18,"") | BE18: =IF(AND($AI18>0,$F18=BE$1),$AI18,"") | BI18: =IF(AND($AI18>0,$F18=BI$1),$AI18,"") | BM18: =IF(AND($AI18>0,$F18=BM$1),$AI18,"") | BQ18: =IF(AND($AI18>0,$F18=BQ$1),$AI18,"") | BU18: =IF(AND($AI18>0,$F18=BU$1),$AI18,"") | BY18: =IF(AND($AI18>0,$F18=BY$1),$AI18,"") | CC18: =IF(AND($AI18>0,$F18=CC$1),$AI18,"") | CG18: =IF(AND($AI18>0,$F18=CG$1),$AI18,"") -> 1 | CK18: =IF(AND($AI18>0,$F18=CK$1),$AI18,"") | CO18: =IF(AND($AI18>0,$F18=CO$1),$AI18,"")
A19: 039999900121077859 | B19: 5701660 | C19: 00008 | D19: Préparé | E19: 3477 | F19: SURG | G19: PCS.01.21.00.H | H19: 27/06/2018 16:40:57 | I19: ad001 | J19: UVC | L19: Non | M19: 0 | N19: 0 | O19: ANAMIGAN | P19: 01/01/1990 12:00:00 | Q19: 0 | R19: 27/06/2018 16:40:57 | S19: 1 | T19: -1 | U19: 12107785 | X19: 1 | Y19: 1 | Z19: 0 | AA19: 0 | AB19: 0 | AE19: Non | AG19: 1 | AI19: =SUM(X:X-Z:Z) -> 1 | AO19: =IF(AND($AI19>0,$F19=AO$1),$AI19,"") | AS19: =IF(AND($AI19>0,$F19=AS$1),$AI19,"") | AW19: =IF(AND($AI19>0,$F19=AW$1),$AI19,"") | BA19: =IF(AND($AI19>0,$F19=BA$1),$AI19,"") | BE19: =IF(AND($AI19>0,$F19=BE$1),$AI19,"") | BI19: =IF(AND($AI19>0,$F19=BI$1),$AI19,"") | BM19: =IF(AND($AI19>0,$F19=BM$1),$AI19,"") | BQ19: =IF(AND($AI19>0,$F19=BQ$1),$AI19,"") | BU19: =IF(AND($AI19>0,$F19=BU$1),$AI19,"") | BY19: =IF(AND($AI19>0,$F19=BY$1),$AI19,"") | CC19: =IF(AND($AI19>0,$F19=CC$1),$AI19,"") | CG19: =IF(AND($AI19>0,$F19=CG$1),$AI19,"") -> 1 | CK19: =IF(AND($AI19>0,$F19=CK$1),$AI19,"") | CO19: =IF(AND($AI19>0,$F19=CO$1),$AI19,"")
A20: 039999900121173568 | B20: 5704725 | C20: 00011 | D20: Préparé | E20: 14570 | F20: G2P_A | G20: PAA.01.01.01.A | H20: 27/06/2018 16:28:16 | I20: ad001 | J20: UVC | K20: Mvt manquant WCS | L20: Non | M20: 0 | N20: 0 | O20: Tâche | P20: 27/06/2018 16:28:16 | Q20: BMPOLO | R20: 27/06/2018 16:28:16 | S20: 39 | T20: -1 | U20: 12117356 | X20: 1 | Y20: 1 | Z20: 0 | AA20: 0 | AB20: 0 | AE20: Non | AG20: 6 | AH20: 2 | AI20: =SUM(X:X-Z:Z) -> 1 | AO20: =IF(AND($AI20>0,$F20=AO$1),$AI20,"") | AS20: =IF(AND($AI20>0,$F20=AS$1),$AI20,"") | AW20: =IF(AND($AI20>0,$F20=AW$1),$AI20,"") | BA20: =IF(AND($AI20>0,$F20=BA$1),$AI20,"") | BE20: =IF(AND($AI20>0,$F20=BE$1),$AI20,"") | BI20: =IF(AND($AI20>0,$F20=BI$1),$AI20,"") | BM20: =IF(AND($AI20>0,$F20=BM$1),$AI20,"") | BQ20: =IF(AND($AI20>0,$F20=BQ$1),$AI20,"") | BU20: =IF(AND($AI20>0,$F20=BU$1),$AI20,"") | BY20: =IF(AND($AI20>0,$F20=BY$1),$AI20,"") | CC20: =IF(AND($AI20>0,$F20=CC$1),$AI20,"") | CG20: =IF(AND($AI20>0,$F20=CG$1),$AI20,"") | CK20: =IF(AND($AI20>0,$F20=CK$1),$AI20,"") -> 1 | CO20: =IF(AND($AI20>0,$F20=CO$1),$AI20,"")
A21: 039999900121141604 | B21: 5700559 | C21: 00027 | D21: Préparé | E21: 35190 | F21: F03 | G21: PMF.01.20.00.B | H21: 27/06/2018 16:16:10 | I21: ad001 | J21: UVC | K21: Stock vide | L21: Non | M21: 0 | N21: 0 | O21: ANAMIGAN | P21: 01/01/1990 12:00:00 | Q21: 0 | R21: 27/06/2018 16:16:10 | S21: 96 | T21: 7372 | U21: 12114160 | X21: 1 | Y21: 1 | Z21: 0 | AA21: 0 | AB21: 0 | AE21: Oui | AG21: 1 | AH21: 2 | AI21: =SUM(X:X-Z:Z) -> 1 | AO21: =IF(AND($AI21>0,$F21=AO$1),$AI21,"") | AS21: =IF(AND($AI21>0,$F21=AS$1),$AI21,"") | AW21: =IF(AND($AI21>0,$F21=AW$1),$AI21,"") | BA21: =IF(AND($AI21>0,$F21=BA$1),$AI21,"") | BE21: =IF(AND($AI21>0,$F21=BE$1),$AI21,"") | BI21: =IF(AND($AI21>0,$F21=BI$1),$AI21,"") | BM21: =IF(AND($AI21>0,$F21=BM$1),$AI21,"") | BQ21: =IF(AND($AI21>0,$F21=BQ$1),$AI21,"") | BU21: =IF(AND($AI21>0,$F21=BU$1),$AI21,"") -> 1 | BY21: =IF(AND($AI21>0,$F21=BY$1),$AI21,"") | CC21: =IF(AND($AI21>0,$F21=CC$1),$AI21,"") | CG21: =IF(AND($AI21>0,$F21=CG$1),$AI21,"") | CK21: =IF(AND($AI21>0,$F21=CK$1),$AI21,"") | CO21: =IF(AND($AI21>0,$F21=CO$1),$AI21,"")
A22: 039999900121080293 | B22: 5702144 | C22: 00053 | D22: Préparé | E22: 97642 | F22: SURG | G22: PCS.02.23.03.B | H22: 27/06/2018 15:44:42 | I22: ad001 | J22: UVC | L22: Non | M22: 0 | N22: 0 | O22: ANAMIGAN | P22: 01/01/1990 12:00:00 | Q22: 0 | R22: 27/06/2018 15:44:42 | S22: 177 | T22: 7224 | U22: 12108029 | X22: 1 | Y22: 1 | Z22: 0 | AA22: 0 | AB22: 0 | AE22: Non | AG22: 2 | AI22: =SUM(X:X-Z:Z) -> 1 | AO22: =IF(AND($AI22>0,$F22=AO$1),$AI22,"") | AS22: =IF(AND($AI22>0,$F22=AS$1),$AI22,"") | AW22: =IF(AND($AI22>0,$F22=AW$1),$AI22,"") | BA22: =IF(AND($AI22>0,$F22=BA$1),$AI22,"") | BE22: =IF(AND($AI22>0,$F22=BE$1),$AI22,"") | BI22: =IF(AND($AI22>0,$F22=BI$1),$AI22,"") | BM22: =IF(AND($AI22>0,$F22=BM$1),$AI22,"") | BQ22: =IF(AND($AI22>0,$F22=BQ$1),$AI22,"") | BU22: =IF(AND($AI22>0,$F22=BU$1),$AI22,"") | BY22: =IF(AND($AI22>0,$F22=BY$1),$AI22,"") | CC22: =IF(AND($AI22>0,$F22=CC$1),$AI22,"") | CG22: =IF(AND($AI22>0,$F22=CG$1),$AI22,"") -> 1 | CK22: =IF(AND($AI22>0,$F22=CK$1),$AI22,"") | CO22: =IF(AND($AI22>0,$F22=CO$1),$AI22,"")
A23: 039999900121070737 | B23: 5701471 | C23: 00010 | D23: Préparé | E23: 135543 | F23: SURG | G23: PCS.03.14.01.A | H23: 27/06/2018 15:38:58 | I23: ad001 | J23: UVC | L23: Non | M23: 0 | N23: 0 | O23: ANAMIGAN | P23: 01/01/1990 12:00:00 | Q23: 0 | R23: 27/06/2018 15:38:58 | S23: 109 | T23: 7224 | U23: 12107073 | X23: 1 | Y23: 1 | Z23: 0 | AA23: 0 | AB23: 0 | AE23: Non | AG23: 3 | AI23: =SUM(X:X-Z:Z) -> 1 | AO23: =IF(AND($AI23>0,$F23=AO$1),$AI23,"") | AS23: =IF(AND($AI23>0,$F23=AS$1),$AI23,"") | AW23: =IF(AND($AI23>0,$F23=AW$1),$AI23,"") | BA23: =IF(AND($AI23>0,$F23=BA$1),$AI23,"") | BE23: =IF(AND($AI23>0,$F23=BE$1),$AI23,"") | BI23: =IF(AND($AI23>0,$F23=BI$1),$AI23,"") | BM23: =IF(AND($AI23>0,$F23=BM$1),$AI23,"") | BQ23: =IF(AND($AI23>0,$F23=BQ$1),$AI23,"") | BU23: =IF(AND($AI23>0,$F23=BU$1),$AI23,"") | BY23: =IF(AND($AI23>0,$F23=BY$1),$AI23,"") | CC23: =IF(AND($AI23>0,$F23=CC$1),$AI23,"") | CG23: =IF(AND($AI23>0,$F23=CG$1),$AI23,"") -> 1 | CK23: =IF(AND($AI23>0,$F23=CK$1),$AI23,"") | CO23: =IF(AND($AI23>0,$F23=CO$1),$AI23,"")
A24: 039999900121047678 | B24: 5696772 | C24: 00058 | D24: Préparé | E24: 97642 | F24: SURG | G24: PCS.02.23.03.B | H24: 27/06/2018 15:35:04 | I24: ad001 | J24: UVC | L24: Non | M24: 0 | N24: 0 | O24: ANAMIGAN | P24: 01/01/1990 12:00:00 | Q24: 0 | R24: 27/06/2018 15:35:04 | S24: 177 | T24: 7224 | U24: 12104767 | X24: 1 | Y24: 1 | Z24: 0 | AA24: 0 | AB24: 0 | AE24: Non | AG24: 2 | AI24: =SUM(X:X-Z:Z) -> 1 | AO24: =IF(AND($AI24>0,$F24=AO$1),$AI24,"") | AS24: =IF(AND($AI24>0,$F24=AS$1),$AI24,"") | AW24: =IF(AND($AI24>0,$F24=AW$1),$AI24,"") | BA24: =IF(AND($AI24>0,$F24=BA$1),$AI24,"") | BE24: =IF(AND($AI24>0,$F24=BE$1),$AI24,"") | BI24: =IF(AND($AI24>0,$F24=BI$1),$AI24,"") | BM24: =IF(AND($AI24>0,$F24=BM$1),$AI24,"") | BQ24: =IF(AND($AI24>0,$F24=BQ$1),$AI24,"") | BU24: =IF(AND($AI24>0,$F24=BU$1),$AI24,"") | BY24: =IF(AND($AI24>0,$F24=BY$1),$AI24,"") | CC24: =IF(AND($AI24>0,$F24=CC$1),$AI24,"") | CG24: =IF(AND($AI24>0,$F24=CG$1),$AI24,"") -> 1 | CK24: =IF(AND($AI24>0,$F24=CK$1),$AI24,"") | CO24: =IF(AND($AI24>0,$F24=CO$1),$AI24,"")
A25: 039999900121062138 | B25: 5701306 | C25: 00010 | D25: Préparé | E25: 141494 | F25: SURG | G25: PCS.03.10.03.C | H25: 27/06/2018 15:33:32 | I25: ad001 | J25: UVC | L25: Non | M25: 0 | N25: 0 | O25: ANAMIGAN | P25: 27/06/2018 15:30:32 | Q25: ABENZEMITH | R25: 27/06/2018 15:33:32 | S25: 145 | T25: 7224 | U25: 12106213 | X25: 4 | Y25: 1 | Z25: 2 | AA25: 2 | AB25: 0 | AE25: Non | AG25: 2 | AI25: =SUM(X:X-Z:Z) -> 2 | AO25: =IF(AND($AI25>0,$F25=AO$1),$AI25,"") | AS25: =IF(AND($AI25>0,$F25=AS$1),$AI25,"") | AW25: =IF(AND($AI25>0,$F25=AW$1),$AI25,"") | BA25: =IF(AND($AI25>0,$F25=BA$1),$AI25,"") | BE25: =IF(AND($AI25>0,$F25=BE$1),$AI25,"") | BI25: =IF(AND($AI25>0,$F25=BI$1),$AI25,"") | BM25: =IF(AND($AI25>0,$F25=BM$1),$AI25,"") | BQ25: =IF(AND($AI25>0,$F25=BQ$1),$AI25,"") | BU25: =IF(AND($AI25>0,$F25=BU$1),$AI25,"") | BY25: =IF(AND($AI25>0,$F25=BY$1),$AI25,"") | CC25: =IF(AND($AI25>0,$F25=CC$1),$AI25,"") | CG25: =IF(AND($AI25>0,$F25=CG$1),$AI25,"") -> 2 | CK25: =IF(AND($AI25>0,$F25=CK$1),$AI25,"") | CO25: =IF(AND($AI25>0,$F25=CO$1),$AI25,"")
A26: 039999900121071154 | B26: 5701357 | C26: 00016 | D26: Préparé | E26: 85017 | F26: SURG | G26: PCS.04.26.04.A | H26: 27/06/2018 15:22:15 | I26: ad001 | J26: UVC | L26: Non | M26: 0 | N26: 0 | O26: ANAMIGAN | P26: 01/01/1990 12:00:00 | Q26: 0 | R26: 27/06/2018 15:22:15 | S26: 150 | T26: 7224 | U26: 12107115 | X26: 1 | Y26: 1 | Z26: 0 | AA26: 0 | AB26: 0 | AE26: Non | AG26: 3 | AI26: =SUM(X:X-Z:Z) -> 1 | AO26: =IF(AND($AI26>0,$F26=AO$1),$AI26,"") | AS26: =IF(AND($AI26>0,$F26=AS$1),$AI26,"") | AW26: =IF(AND($AI26>0,$F26=AW$1),$AI26,"") | BA26: =IF(AND($AI26>0,$F26=BA$1),$AI26,"") | BE26: =IF(AND($AI26>0,$F26=BE$1),$AI26,"") | BI26: =IF(AND($AI26>0,$F26=BI$1),$AI26,"") | BM26: =IF(AND($AI26>0,$F26=BM$1),$AI26,"") | BQ26: =IF(AND($AI26>0,$F26=BQ$1),$AI26,"") | BU26: =IF(AND($AI26>0,$F26=BU$1),$AI26,"") | BY26: =IF(AND($AI26>0,$F26=BY$1),$AI26,"") | CC26: =IF(AND($AI26>0,$F26=CC$1),$AI26,"") | CG26: =IF(AND($AI26>0,$F26=CG$1),$AI26,"") -> 1 | CK26: =IF(AND($AI26>0,$F26=CK$1),$AI26,"") | CO26: =IF(AND($AI26>0,$F26=CO$1),$AI26,"")
A27: 039999900121061759 | B27: 5701241 | C27: 00019 | D27: Préparé | E27: 3776 | F27: SURG | G27: PCS.03.35.02.C | H27: 27/06/2018 15:21:40 | I27: ad001 | J27: UVC | L27: Non | M27: 0 | N27: 0 | O27: ANAMIGAN | P27: 01/01/1990 12:00:00 | Q27: 0 | R27: 27/06/2018 15:21:41 | S27: 1 | T27: -1 | U27: 12106175 | X27: 1 | Y27: 1 | Z27: 0 | AA27: 0 | AB27: 0 | AE27: Non | AG27: 2 | AI27: =SUM(X:X-Z:Z) -> 1 | AO27: =IF(AND($AI27>0,$F27=AO$1),$AI27,"") | AS27: =IF(AND($AI27>0,$F27=AS$1),$AI27,"") | AW27: =IF(AND($AI27>0,$F27=AW$1),$AI27,"") | BA27: =IF(AND($AI27>0,$F27=BA$1),$AI27,"") | BE27: =IF(AND($AI27>0,$F27=BE$1),$AI27,"") | BI27: =IF(AND($AI27>0,$F27=BI$1),$AI27,"") | BM27: =IF(AND($AI27>0,$F27=BM$1),$AI27,"") | BQ27: =IF(AND($AI27>0,$F27=BQ$1),$AI27,"") | BU27: =IF(AND($AI27>0,$F27=BU$1),$AI27,"") | BY27: =IF(AND($AI27>0,$F27=BY$1),$AI27,"") | CC27: =IF(AND($AI27>0,$F27=CC$1),$AI27,"") | CG27: =IF(AND($AI27>0,$F27=CG$1),$AI27,"") -> 1 | CK27: =IF(AND($AI27>0,$F27=CK$1),$AI27,"") | CO27: =IF(AND($AI27>0,$F27=CO$1),$AI27,"")
A28: 039999900121061759 | B28: 5701241 | C28: 00020 | D28: Préparé | E28: 4862 | F28: SURG | G28: PCS.03.26.03.A | H28: 27/06/2018 15:21:28 | I28: ad001 | J28: UVC | L28: Non | M28: 0 | N28: 0 | O28: ANAMIGAN | P28: 01/01/1990 12:00:00 | Q28: 0 | R28: 27/06/2018 15:21:41 | S28: 1 | T28: -1 | U28: 12106175 | X28: 1 | Y28: 1 | Z28: 0 | AA28: 0 | AB28: 0 | AE28: Non | AG28: 1 | AI28: =SUM(X:X-Z:Z) -> 1 | AO28: =IF(AND($AI28>0,$F28=AO$1),$AI28,"") | AS28: =IF(AND($AI28>0,$F28=AS$1),$AI28,"") | AW28: =IF(AND($AI28>0,$F28=AW$1),$AI28,"") | BA28: =IF(AND($AI28>0,$F28=BA$1),$AI28,"") | BE28: =IF(AND($AI28>0,$F28=BE$1),$AI28,"") | BI28: =IF(AND($AI28>0,$F28=BI$1),$AI28,"") | BM28: =IF(AND($AI28>0,$F28=BM$1),$AI28,"") | BQ28: =IF(AND($AI28>0,$F28=BQ$1),$AI28,"") | BU28: =IF(AND($AI28>0,$F28=BU$1),$AI28,"") | BY28: =IF(AND($AI28>0,$F28=BY$1),$AI28,"") | CC28: =IF(AND($AI28>0,$F28=CC$1),$AI28,"") | CG28: =IF(AND($AI28>0,$F28=CG$1),$AI28,"") -> 1 | CK28: =IF(AND($AI28>0,$F28=CK$1),$AI28,"") | CO28: =IF(AND($AI28>0,$F28=CO$1),$AI28,"")
A29: 039999900121071154 | B29: 5701357 | C29: 00010 | D29: Préparé | E29: 218654 | F29: SURG | G29: PCS.02.41.00.B | H29: 27/06/2018 15:21:14 | I29: ad001 | J29: UVC | L29: Non | M29: 0 | N29: 0 | O29: ANAMIGAN | P29: 01/01/1990 12:00:00 | Q29: 0 | R29: 27/06/2018 15:21:14 | S29: 150 | T29: 7224 | U29: 12107115 | X29: 1 | Y29: 1 | Z29: 0 | AA29: 0 | AB29: 0 | AE29: Non | AG29: 1 | AI29: =SUM(X:X-Z:Z) -> 1 | AO29: =IF(AND($AI29>0,$F29=AO$1),$AI29,"") | AS29: =IF(AND($AI29>0,$F29=AS$1),$AI29,"") | AW29: =IF(AND($AI29>0,$F29=AW$1),$AI29,"") | BA29: =IF(AND($AI29>0,$F29=BA$1),$AI29,"") | BE29: =IF(AND($AI29>0,$F29=BE$1),$AI29,"") | BI29: =IF(AND($AI29>0,$F29=BI$1),$AI29,"") | BM29: =IF(AND($AI29>0,$F29=BM$1),$AI29,"") | BQ29: =IF(AND($AI29>0,$F29=BQ$1),$AI29,"") | BU29: =IF(AND($AI29>0,$F29=BU$1),$AI29,"") | BY29: =IF(AND($AI29>0,$F29=BY$1),$AI29,"") | CC29: =IF(AND($AI29>0,$F29=CC$1),$AI29,"") | CG29: =IF(AND($AI29>0,$F29=CG$1),$AI29,"") -> 1 | CK29: =IF(AND($AI29>0,$F29=CK$1),$AI29,"") | CO29: =IF(AND($AI29>0,$F29=CO$1),$AI29,"")
A30: 039999900121047296 | B30: 5695557 | C30: 00103 | D30: Préparé | E30: 88190 | F30: SURG | G30: PCS.01.25.00.E | H30: 27/06/2018 15:21:02 | I30: ad001 | J30: UVC | L30: Non | M30: 0 | N30: 0 | O30: ANAMIGAN | P30: 01/01/1990 12:00:00 | Q30: 0 | R30: 27/06/2018 15:21:02 | S30: 150 | T30: 7224 | U30: 12104729 | X30: 1 | Y30: 1 | Z30: 0 | AA30: 0 | AB30: 0 | AE30: Non | AG30: 1 | AI30: =SUM(X:X-Z:Z) -> 1 | AO30: =IF(AND($AI30>0,$F30=AO$1),$AI30,"") | AS30: =IF(AND($AI30>0,$F30=AS$1),$AI30,"") | AW30: =IF(AND($AI30>0,$F30=AW$1),$AI30,"") | BA30: =IF(AND($AI30>0,$F30=BA$1),$AI30,"") | BE30: =IF(AND($AI30>0,$F30=BE$1),$AI30,"") | BI30: =IF(AND($AI30>0,$F30=BI$1),$AI30,"") | BM30: =IF(AND($AI30>0,$F30=BM$1),$AI30,"") | BQ30: =IF(AND($AI30>0,$F30=BQ$1),$AI30,"") | BU30: =IF(AND($AI30>0,$F30=BU$1),$AI30,"") | BY30: =IF(AND($AI30>0,$F30=BY$1),$AI30,"") | CC30: =IF(AND($AI30>0,$F30=CC$1),$AI30,"") | CG30: =IF(AND($AI30>0,$F30=CG$1),$AI30,"") -> 1 | CK30: =IF(AND($AI30>0,$F30=CK$1),$AI30,"") | CO30: =IF(AND($AI30>0,$F30=CO$1),$AI30,"")
A31: 039999900121058421 | B31: 5699543 | C31: 00008 | D31: Préparé | E31: 128148 | F31: SURG | G31: PCS.03.11.02.C | H31: 27/06/2018 15:15:09 | I31: ad001 | J31: UVC | L31: Non | M31: 0 | N31: 0 | O31: ANAMIGAN | P31: 27/06/2018 15:07:48 | Q31: CNEVEUX | R31: 27/06/2018 15:15:09 | S31: 150 | T31: 7224 | U31: 12105842 | X31: 3 | Y31: 1 | Z31: 2 | AA31: 2 | AB31: 0 | AE31: Non | AG31: 3 | AI31: =SUM(X:X-Z:Z) -> 1 | AO31: =IF(AND($AI31>0,$F31=AO$1),$AI31,"") | AS31: =IF(AND($AI31>0,$F31=AS$1),$AI31,"") | AW31: =IF(AND($AI31>0,$F31=AW$1),$AI31,"") | BA31: =IF(AND($AI31>0,$F31=BA$1),$AI31,"") | BE31: =IF(AND($AI31>0,$F31=BE$1),$AI31,"") | BI31: =IF(AND($AI31>0,$F31=BI$1),$AI31,"") | BM31: =IF(AND($AI31>0,$F31=BM$1),$AI31,"") | BQ31: =IF(AND($AI31>0,$F31=BQ$1),$AI31,"") | BU31: =IF(AND($AI31>0,$F31=BU$1),$AI31,"") | BY31: =IF(AND($AI31>0,$F31=BY$1),$AI31,"") | CC31: =IF(AND($AI31>0,$F31=CC$1),$AI31,"") | CG31: =IF(AND($AI31>0,$F31=CG$1),$AI31,"") -> 1 | CK31: =IF(AND($AI31>0,$F31=CK$1),$AI31,"") | CO31: =IF(AND($AI31>0,$F31=CO$1),$AI31,"")
A32: 039999900121056502 | B32: 5698114 | C32: 00011 | D32: Préparé | E32: 233407 | F32: SURG | G32: PCS.02.37.03.B | H32: 27/06/2018 15:13:04 | I32: ad001 | J32: UVC | L32: Non | M32: 0 | N32: 0 | O32: ANAMIGAN | P32: 01/01/1990 12:00:00 | Q32: 0 | R32: 27/06/2018 15:13:04 | S32: 150 | T32: 7224 | U32: 12105650 | X32: 2 | Y32: 1 | Z32: 0 | AA32: 0 | AB32: 0 | AE32: Non | AG32: 2 | AI32: =SUM(X:X-Z:Z) -> 2 | AO32: =IF(AND($AI32>0,$F32=AO$1),$AI32,"") | AS32: =IF(AND($AI32>0,$F32=AS$1),$AI32,"") | AW32: =IF(AND($AI32>0,$F32=AW$1),$AI32,"") | BA32: =IF(AND($AI32>0,$F32=BA$1),$AI32,"") | BE32: =IF(AND($AI32>0,$F32=BE$1),$AI32,"") | BI32: =IF(AND($AI32>0,$F32=BI$1),$AI32,"") | BM32: =IF(AND($AI32>0,$F32=BM$1),$AI32,"") | BQ32: =IF(AND($AI32>0,$F32=BQ$1),$AI32,"") | BU32: =IF(AND($AI32>0,$F32=BU$1),$AI32,"") | BY32: =IF(AND($AI32>0,$F32=BY$1),$AI32,"") | CC32: =IF(AND($AI32>0,$F32=CC$1),$AI32,"") | CG32: =IF(AND($AI32>0,$F32=CG$1),$AI32,"") -> 2 | CK32: =IF(AND($AI32>0,$F32=CK$1),$AI32,"") | CO32: =IF(AND($AI32>0,$F32=CO$1),$AI32,"")
A33: 039999900121054720 | B33: 5694630 | C33: 00002 | D33: Préparé | E33: 114714 | F33: SURG | G33: PCS.01.17.01.C | H33: 27/06/2018 15:05:51 | I33: ad001 | J33: UVC | L33: Non | M33: 0 | N33: 0 | O33: ANAMIGAN | P33: 01/01/1990 12:00:00 | Q33: 0 | R33: 27/06/2018 15:05:51 | S33: 145 | T33: 7224 | U33: 12105472 | X33: 1 | Y33: 1 | Z33: 0 | AA33: 0 | AB33: 0 | AE33: Non | AG33: 1 | AI33: =SUM(X:X-Z:Z) -> 1 | AO33: =IF(AND($AI33>0,$F33=AO$1),$AI33,"") | AS33: =IF(AND($AI33>0,$F33=AS$1),$AI33,"") | AW33: =IF(AND($AI33>0,$F33=AW$1),$AI33,"") | BA33: =IF(AND($AI33>0,$F33=BA$1),$AI33,"") | BE33: =IF(AND($AI33>0,$F33=BE$1),$AI33,"") | BI33: =IF(AND($AI33>0,$F33=BI$1),$AI33,"") | BM33: =IF(AND($AI33>0,$F33=BM$1),$AI33,"") | BQ33: =IF(AND($AI33>0,$F33=BQ$1),$AI33,"") | BU33: =IF(AND($AI33>0,$F33=BU$1),$AI33,"") | BY33: =IF(AND($AI33>0,$F33=BY$1),$AI33,"") | CC33: =IF(AND($AI33>0,$F33=CC$1),$AI33,"") | CG33: =IF(AND($AI33>0,$F33=CG$1),$AI33,"") -> 1 | CK33: =IF(AND($AI33>0,$F33=CK$1),$AI33,"") | CO33: =IF(AND($AI33>0,$F33=CO$1),$AI33,"")
A34: 039999900121062749 | B34: 5681279 | C34: 00025 | D34: Préparé | E34: 24731 | F34: F03 | G34: PMF.01.20.00.D | H34: 27/06/2018 14:38:09 | I34: ad001 | J34: UVC | K34: Stock vide | L34: Non | M34: 0 | N34: 0 | O34: ANAMIGAN | P34: 01/01/1990 12:00:00 | Q34: 0 | R34: 27/06/2018 14:38:09 | S34: 81 | T34: 8316 | U34: 12106274 | X34: 1 | Y34: 1 | Z34: 0 | AA34: 0 | AB34: 0 | AD34: Date LC : Traçabilité totale | AE34: Non | AG34: 2 | AH34: 2 | AI34: =SUM(X:X-Z:Z) -> 1 | AO34: =IF(AND($AI34>0,$F34=AO$1),$AI34,"") | AS34: =IF(AND($AI34>0,$F34=AS$1),$AI34,"") | AW34: =IF(AND($AI34>0,$F34=AW$1),$AI34,"") | BA34: =IF(AND($AI34>0,$F34=BA$1),$AI34,"") | BE34: =IF(AND($AI34>0,$F34=BE$1),$AI34,"") | BI34: =IF(AND($AI34>0,$F34=BI$1),$AI34,"") | BM34: =IF(AND($AI34>0,$F34=BM$1),$AI34,"") | BQ34: =IF(AND($AI34>0,$F34=BQ$1),$AI34,"") | BU34: =IF(AND($AI34>0,$F34=BU$1),$AI34,"") -> 1 | BY34: =IF(AND($AI34>0,$F34=BY$1),$AI34,"") | CC34: =IF(AND($AI34>0,$F34=CC$1),$AI34,"") | CG34: =IF(AND($AI34>0,$F34=CG$1),$AI34,"") | CK34: =IF(AND($AI34>0,$F34=CK$1),$AI34,"") | CO34: =IF(AND($AI34>0,$F34=CO$1),$AI34,"")
A35: 039999900121092845 | B35: 5702144 | C35: 00003 | D35: Préparé | E35: 110036 | F35: F04 | G35: PMF.01.22.00.D | H35: 27/06/2018 14:37:40 | I35: ad001 | J35: UVC | K35: Stock vide | L35: Non | M35: 0 | N35: 0 | O35: ANAMIGAN | P35: 01/01/1990 12:00:00 | Q35: 0 | R35: 27/06/2018 14:37:40 | S35: 81 | T35: 8316 | U35: 12109284 | X35: 1 | Y35: 1 | Z35: 0 | AA35: 0 | AB35: 0 | AE35: Oui | AG35: 2 | AH35: 2 | AI35: =SUM(X:X-Z:Z) -> 1 | AO35: =IF(AND($AI35>0,$F35=AO$1),$AI35,"") | AS35: =IF(AND($AI35>0,$F35=AS$1),$AI35,"") | AW35: =IF(AND($AI35>0,$F35=AW$1),$AI35,"") | BA35: =IF(AND($AI35>0,$F35=BA$1),$AI35,"") | BE35: =IF(AND($AI35>0,$F35=BE$1),$AI35,"") | BI35: =IF(AND($AI35>0,$F35=BI$1),$AI35,"") | BM35: =IF(AND($AI35>0,$F35=BM$1),$AI35,"") | BQ35: =IF(AND($AI35>0,$F35=BQ$1),$AI35,"") | BU35: =IF(AND($AI35>0,$F35=BU$1),$AI35,"") | BY35: =IF(AND($AI35>0,$F35=BY$1),$AI35,"") -> 1 | CC35: =IF(AND($AI35>0,$F35=CC$1),$AI35,"") | CG35: =IF(AND($AI35>0,$F35=CG$1),$AI35,"") | CK35: =IF(AND($AI35>0,$F35=CK$1),$AI35,"") | CO35: =IF(AND($AI35>0,$F35=CO$1),$AI35,"")
A36: 039999900121048712 | B36: 5699383 | C36: 00063 | D36: Préparé | E36: 57999 | F36: F05 | G36: PFL.02.30.03.B | H36: 27/06/2018 14:34:46 | I36: ad001 | J36: UVC | K36: Stock vide | L36: Non | M36: 0 | N36: 0 | O36: ANAMIGAN | P36: 01/01/1990 12:00:00 | Q36: 0 | R36: 27/06/2018 14:34:46 | S36: 81 | T36: 8316 | U36: 12104871 | X36: 1 | Y36: 1 | Z36: 0 | AA36: 0 | AB36: 0 | AE36: Oui | AG36: 8 | AH36: 2 | AI36: =SUM(X:X-Z:Z) -> 1 | AO36: =IF(AND($AI36>0,$F36=AO$1),$AI36,"") | AS36: =IF(AND($AI36>0,$F36=AS$1),$AI36,"") | AW36: =IF(AND($AI36>0,$F36=AW$1),$AI36,"") | BA36: =IF(AND($AI36>0,$F36=BA$1),$AI36,"") | BE36: =IF(AND($AI36>0,$F36=BE$1),$AI36,"") | BI36: =IF(AND($AI36>0,$F36=BI$1),$AI36,"") | BM36: =IF(AND($AI36>0,$F36=BM$1),$AI36,"") | BQ36: =IF(AND($AI36>0,$F36=BQ$1),$AI36,"") | BU36: =IF(AND($AI36>0,$F36=BU$1),$AI36,"") | BY36: =IF(AND($AI36>0,$F36=BY$1),$AI36,"") | CC36: =IF(AND($AI36>0,$F36=CC$1),$AI36,"") -> 1 | CG36: =IF(AND($AI36>0,$F36=CG$1),$AI36,"") | CK36: =IF(AND($AI36>0,$F36=CK$1),$AI36,"") | CO36: =IF(AND($AI36>0,$F36=CO$1),$AI36,"")
A37: 039999900121064422 | B37: 5699573 | C37: 00022 | D37: Préparé | E37: 57999 | F37: F05 | G37: PFL.02.30.03.B | H37: 27/06/2018 14:33:59 | I37: ad001 | J37: UVC | L37: Non | M37: 0 | N37: 0 | O37: ANAMIGAN | P37: 01/01/1990 12:00:00 | Q37: 0 | R37: 27/06/2018 14:33:59 | S37: 81 | T37: 8316 | U37: 12106442 | X37: 1 | Y37: 1 | Z37: 0 | AA37: 0 | AB37: 0 | AE37: Oui | AG37: 9 | AH37: 2 | AI37: =SUM(X:X-Z:Z) -> 1 | AO37: =IF(AND($AI37>0,$F37=AO$1),$AI37,"") | AS37: =IF(AND($AI37>0,$F37=AS$1),$AI37,"") | AW37: =IF(AND($AI37>0,$F37=AW$1),$AI37,"") | BA37: =IF(AND($AI37>0,$F37=BA$1),$AI37,"") | BE37: =IF(AND($AI37>0,$F37=BE$1),$AI37,"") | BI37: =IF(AND($AI37>0,$F37=BI$1),$AI37,"") | BM37: =IF(AND($AI37>0,$F37=BM$1),$AI37,"") | BQ37: =IF(AND($AI37>0,$F37=BQ$1),$AI37,"") | BU37: =IF(AND($AI37>0,$F37=BU$1),$AI37,"") | BY37: =IF(AND($AI37>0,$F37=BY$1),$AI37,"") | CC37: =IF(AND($AI37>0,$F37=CC$1),$AI37,"") -> 1 | CG37: =IF(AND($AI37>0,$F37=CG$1),$AI37,"") | CK37: =IF(AND($AI37>0,$F37=CK$1),$AI37,"") | CO37: =IF(AND($AI37>0,$F37=CO$1),$AI37,"")
A38: 039999900121050029 | B38: 5700858 | C38: 00025 | D38: Préparé | E38: 3607 | F38: F05 | G38: PFL.01.22.02.A | H38: 27/06/2018 14:06:55 | I38: ad001 | J38: UVC | L38: Non | M38: 0 | N38: 0 | O38: AFILET | P38: 27/06/2018 12:59:25 | Q38: CGBONGUE | R38: 27/06/2018 14:06:55 | S38: 60022 | T38: 8292 | U38: 12105002 | X38: 1 | Y38: 1 | Z38: 0 | AA38: 0 | AB38: 0 | AD38: Date LC : Traçabilité totale | AE38: Non | AG38: 2 | AH38: 2 | AI38: =SUM(X:X-Z:Z) -> 1 | AO38: =IF(AND($AI38>0,$F38=AO$1),$AI38,"") | AS38: =IF(AND($AI38>0,$F38=AS$1),$AI38,"") | AW38: =IF(AND($AI38>0,$F38=AW$1),$AI38,"") | BA38: =IF(AND($AI38>0,$F38=BA$1),$AI38,"") | BE38: =IF(AND($AI38>0,$F38=BE$1),$AI38,"") | BI38: =IF(AND($AI38>0,$F38=BI$1),$AI38,"") | BM38: =IF(AND($AI38>0,$F38=BM$1),$AI38,"") | BQ38: =IF(AND($AI38>0,$F38=BQ$1),$AI38,"") | BU38: =IF(AND($AI38>0,$F38=BU$1),$AI38,"") | BY38: =IF(AND($AI38>0,$F38=BY$1),$AI38,"") | CC38: =IF(AND($AI38>0,$F38=CC$1),$AI38,"") -> 1 | CG38: =IF(AND($AI38>0,$F38=CG$1),$AI38,"") | CK38: =IF(AND($AI38>0,$F38=CK$1),$AI38,"") | CO38: =IF(AND($AI38>0,$F38=CO$1),$AI38,"")
A39: 039999900121142564 | B39: 5702160 | C39: 00014 | D39: Préparé | E39: 157507 | F39: G2P_F | G39: PAF.01.01.01.A | H39: 27/06/2018 14:05:26 | I39: ad001 | J39: UVC | K39: Mvt manquant WCS | L39: Non | M39: 0 | N39: 0 | O39: Tâche | P39: 27/06/2018 14:05:26 | Q39: CIBRAHIM | R39: 27/06/2018 14:05:26 | S39: 39 | T39: -1 | U39: 12114256 | X39: 1 | Y39: 1 | Z39: 0 | AA39: 0 | AB39: 0 | AD39: Date LC : Traçabilité totale | AE39: Non | AG39: 7 | AH39: 2 | AI39: =SUM(X:X-Z:Z) -> 1 | AO39: =IF(AND($AI39>0,$F39=AO$1),$AI39,"") | AS39: =IF(AND($AI39>0,$F39=AS$1),$AI39,"") | AW39: =IF(AND($AI39>0,$F39=AW$1),$AI39,"") | BA39: =IF(AND($AI39>0,$F39=BA$1),$AI39,"") | BE39: =IF(AND($AI39>0,$F39=BE$1),$AI39,"") | BI39: =IF(AND($AI39>0,$F39=BI$1),$AI39,"") | BM39: =IF(AND($AI39>0,$F39=BM$1),$AI39,"") | BQ39: =IF(AND($AI39>0,$F39=BQ$1),$AI39,"") | BU39: =IF(AND($AI39>0,$F39=BU$1),$AI39,"") | BY39: =IF(AND($AI39>0,$F39=BY$1),$AI39,"") | CC39: =IF(AND($AI39>0,$F39=CC$1),$AI39,"") | CG39: =IF(AND($AI39>0,$F39=CG$1),$AI39,"") | CK39: =IF(AND($AI39>0,$F39=CK$1),$AI39,"") | CO39: =IF(AND($AI39>0,$F39=CO$1),$AI39,"") -> 1
A40: 039999900121119160 | B40: 5689914 | C40: 00007 | D40: Préparé | E40: 118768 | F40: G2P_A | G40: PAA.01.01.01.A | H40: 27/06/2018 13:36:40 | I40: ad001 | J40: UVC | K40: Mvt manquant WCS | L40: Non | M40: 0 | N40: 0 | O40: Tâche | P40: 27/06/2018 13:36:40 | Q40: FDJAOUDI | R40: 27/06/2018 13:36:40 | S40: 39 | T40: -1 | U40: 12111916 | X40: 1 | Y40: 1 | Z40: 0 | AA40: 0 | AB40: 0 | AE40: Non | AG40: 7 | AH40: 2 | AI40: =SUM(X:X-Z:Z) -> 1 | AO40: =IF(AND($AI40>0,$F40=AO$1),$AI40,"") | AS40: =IF(AND($AI40>0,$F40=AS$1),$AI40,"") | AW40: =IF(AND($AI40>0,$F40=AW$1),$AI40,"") | BA40: =IF(AND($AI40>0,$F40=BA$1),$AI40,"") | BE40: =IF(AND($AI40>0,$F40=BE$1),$AI40,"") | BI40: =IF(AND($AI40>0,$F40=BI$1),$AI40,"") | BM40: =IF(AND($AI40>0,$F40=BM$1),$AI40,"") | BQ40: =IF(AND($AI40>0,$F40=BQ$1),$AI40,"") | BU40: =IF(AND($AI40>0,$F40=BU$1),$AI40,"") | BY40: =IF(AND($AI40>0,$F40=BY$1),$AI40,"") | CC40: =IF(AND($AI40>0,$F40=CC$1),$AI40,"") | CG40: =IF(AND($AI40>0,$F40=CG$1),$AI40,"") | CK40: =IF(AND($AI40>0,$F40=CK$1),$AI40,"") -> 1 | CO40: =IF(AND($AI40>0,$F40=CO$1),$AI40,"")
...

Sheet flash
A5: Manquants du jour Top
C8: A01 | E8: A02 | G8: A03 | I8: A04 | K8: A05 | M8: A06
C9: CUG | D9: Nb manquants | E9: CUG | F9: Nb manquants | G9: CUG | H9: Nb manquants | I9: CUG | J9: Nb manquants | K9: CUG | L9: Nb manquants | M9: CUG | N9: Nb manquants
A11: Top 1 | C11: =IF('EXPORT LMxt Acces au Manquants'!AQ2="","",INDIRECT("'EXPORT LMxt Acces au Manquants'!E"&'EXPORT LMxt Acces au Manquants'!AQ2,1)) -> 100828 | D11: =IF('EXPORT LMxt Acces au Manquants'!AQ2="","",INDIRECT("'EXPORT LMxt Acces au Manquants'!AI"&'EXPORT LMxt Acces au Manquants'!AQ2,1)) -> 1 | E11: =IF('EXPORT LMxt Acces au Manquants'!AU2="","",INDIRECT("'EXPORT LMxt Acces au Manquants'!E"&'EXPORT LMxt Acces au Manquants'!AU2,1)) -> 233415 | F11: =IF('EXPORT LMxt Acces au Manquants'!AU2="","",INDIRECT("'EXPORT LMxt Acces au Manquants'!AI"&'EXPORT LMxt Acces au Manquants'!AU2,1)) -> 1 | G11: =IF('EXPORT LMxt Acces au Manquants'!AY2="","",INDIRECT("'EXPORT LMxt Acces au Manquants'!E"&'EXPORT LMxt Acces au Manquants'!AY2,1)) -> 110635 | H11: =IF('EXPORT LMxt Acces au Manquants'!AY2="","",INDIRECT("'EXPORT LMxt Acces au Manquants'!AI"&'EXPORT LMxt Acces au Manquants'!AY2,1)) -> 1 | I11: =IF('EXPORT LMxt Acces au Manquants'!BC2="","",INDIRECT("'EXPORT LMxt Acces au Manquants'!E"&'EXPORT LMxt Acces au Manquants'!BC2,1)) | J11: =IF('EXPORT LMxt Acces au Manquants'!BC2="","",INDIRECT("'EXPORT LMxt Acces au Manquants'!AI"&'EXPORT LMxt Acces au Manquants'!BC2,1)) | K11: =IF('EXPORT LMxt Acces au Manquants'!BG2="","",INDIRECT("'EXPORT LMxt Acces au Manquants'!E"&'EXPORT LMxt Acces au Manquants'!BG2,1)) | L11: =IF('EXPORT LMxt Acces au Manquants'!BG2="","",INDIRECT("'EXPORT LMxt Acces au Manquants'!AI"&'EXPORT LMxt Acces au Manquants'!BG2,1)) | M11: =IF('EXPORT LMxt Acces au Manquants'!BK2="","",INDIRECT("'EXPORT LMxt Acces au Manquants'!E"&'EXPORT LMxt Acces au Manquants'!BK2,1)) -> 233408 | N11: =IF('EXPORT LMxt Acces au Manquants'!BK2="","",INDIRECT("'EXPORT LMxt Acces au Manquants'!AI"&'EXPORT LMxt Acces au Manquants'!BK2,1)) -> 1
A12: Top 2 | C12: =IF('EXPORT LMxt Acces au Manquants'!AQ3="","",INDIRECT("'EXPORT LMxt Acces au Manquants'!E"&'EXPORT LMxt Acces au Manquants'!AQ3,1)) -> 83714 | D12: =IF('EXPORT LMxt Acces au Manquants'!AQ3="","",INDIRECT("'EXPORT LMxt Acces au Manquants'!AI"&'EXPORT LMxt Acces au Manquants'!AQ3,1)) -> 1 | E12: =IF('EXPORT LMxt Acces au Manquants'!AU3="","",INDIRECT("'EXPORT LMxt Acces au Manquants'!E"&'EXPORT LMxt Acces au Manquants'!AU3,1)) | F12: =IF('EXPORT LMxt Acces au Manquants'!AU3="","",INDIRECT("'EXPORT LMxt Acces au Manquants'!AI"&'EXPORT LMxt Acces au Manquants'!AU3,1)) | G12: =IF('EXPORT LMxt Acces au Manquants'!AY3="","",INDIRECT("'EXPORT LMxt Acces au Manquants'!E"&'EXPORT LMxt Acces au Manquants'!AY3,1)) -> 83714 | H12: =IF('EXPORT LMxt Acces au Manquants'!AY3="","",INDIRECT("'EXPORT LMxt Acces au Manquants'!AI"&'EXPORT LMxt Acces au Manquants'!AY3,1)) -> 1 | I12: =IF('EXPORT LMxt Acces au Manquants'!BC3="","",INDIRECT("'EXPORT LMxt Acces au Manquants'!E"&'EXPORT LMxt Acces au Manquants'!BC3,1)) | J12: =IF('EXPORT LMxt Acces au Manquants'!BC3="","",INDIRECT("'EXPORT LMxt Acces au Manquants'!AI"&'EXPORT LMxt Acces au Manquants'!BC3,1)) | K12: =IF('EXPORT LMxt Acces au Manquants'!BG3="","",INDIRECT("'EXPORT LMxt Acces au Manquants'!E"&'EXPORT LMxt Acces au Manquants'!BG3,1)) | L12: =IF('EXPORT LMxt Acces au Manquants'!BG3="","",INDIRECT("'EXPORT LMxt Acces au Manquants'!AI"&'EXPORT LMxt Acces au Manquants'!BG3,1)) | M12: =IF('EXPORT LMxt Acces au Manquants'!BK3="","",INDIRECT("'EXPORT LMxt Acces au Manquants'!E"&'EXPORT LMxt Acces au Manquants'!BK3,1)) | N12: =IF('EXPORT LMxt Acces au Manquants'!BK3="","",INDIRECT("'EXPORT LMxt Acces au Manquants'!AI"&'EXPORT LMxt Acces au Manquants'!BK3,1))
A13: Top 3 | C13: =IF('EXPORT LMxt Acces au Manquants'!AQ4="","",INDIRECT("'EXPORT LMxt Acces au Manquants'!E"&'EXPORT LMxt Acces au Manquants'!AQ4,1)) | D13: =IF('EXPORT LMxt Acces au Manquants'!AQ4="","",INDIRECT("'EXPORT LMxt Acces au Manquants'!AI"&'EXPORT LMxt Acces au Manquants'!AQ4,1)) | E13: =IF('EXPORT LMxt Acces au Manquants'!AU4="","",INDIRECT("'EXPORT LMxt Acces au Manquants'!E"&'EXPORT LMxt Acces au Manquants'!AU4,1)) | F13: =IF('EXPORT LMxt Acces au Manquants'!AU4="","",INDIRECT("'EXPORT LMxt Acces au Manquants'!AI"&'EXPORT LMxt Acces au Manquants'!AU4,1)) | G13: =IF('EXPORT LMxt Acces au Manquants'!AY4="","",INDIRECT("'EXPORT LMxt Acces au Manquants'!E"&'EXPORT LMxt Acces au Manquants'!AY4,1)) | H13: =IF('EXPORT LMxt Acces au Manquants'!AY4="","",INDIRECT("'EXPORT LMxt Acces au Manquants'!AI"&'EXPORT LMxt Acces au Manquants'!AY4,1)) | I13: =IF('EXPORT LMxt Acces au Manquants'!BC4="","",INDIRECT("'EXPORT LMxt Acces au Manquants'!E"&'EXPORT LMxt Acces au Manquants'!BC4,1)) | J13: =IF('EXPORT LMxt Acces au Manquants'!BC4="","",INDIRECT("'EXPORT LMxt Acces au Manquants'!AI"&'EXPORT LMxt Acces au Manquants'!BC4,1)) | K13: =IF('EXPORT LMxt Acces au Manquants'!BG4="","",INDIRECT("'EXPORT LMxt Acces au Manquants'!E"&'EXPORT LMxt Acces au Manquants'!BG4,1)) | L13: =IF('EXPORT LMxt Acces au Manquants'!BG4="","",INDIRECT("'EXPORT LMxt Acces au Manquants'!AI"&'EXPORT LMxt Acces au Manquants'!BG4,1)) | M13: =IF('EXPORT LMxt Acces au Manquants'!BK4="","",INDIRECT("'EXPORT LMxt Acces au Manquants'!E"&'EXPORT LMxt Acces au Manquants'!BK4,1)) | N13: =IF('EXPORT LMxt Acces au Manquants'!BK4="","",INDIRECT("'EXPORT LMxt Acces au Manquants'!AI"&'EXPORT LMxt Acces au Manquants'!BK4,1))
