Workbook

Sheet base
A1: 43374 | B1: =COUNTA(C3:C13,G3:G13,K3:K13) -> 15 | C1: A | G1: B | K1: C
C3: MARSEILLE | G3: NANTES | K3: PARIS
C5: LILLE | G5: BORDEAUX | K5: ANGER
C7: MULHOUSE | G7: BASTIA | K7: AJACCIO
C9: BREST | G9: RENNES | K9: STRASBOURG
G11: CARCASSONNE | K11: PERPIGNAN
K13: NARBONNE
A15: =A1+1 -> 43375 | B15: =COUNTA(C17:C27,G17:G27,K17:K27) -> 12 | C15: A | G15: B | K15: C
C17: PARIS | G17: MULHOUSE | K17: LILLE
C19: MARSEILLE | G19: ANGER | K19: BORDEAUX
C21: TOULOUSE | G21: NARBONNE | K21: BASTIA
C23: RENNES | G23: PERPIGNAN
C25: LYON
A29: =A15+1 -> 43376 | B29: =COUNTA(C31:C41,G31:G41,K31:K41) -> 16 | C29: A | G29: B | K29: C
C31: MARSEILLE | G31: STRASBOURG | K31: AJACCIO
C33: NANTES | G33: MULHOUSE | K33: AJACCIO
C35: PARIS | G35: BREST | K35: MARSEILLE
C37: LILLE | G37: BORDEAUX | K37: TOULOUSE
G39: BASTIA | K39: RENNES
G41: ANGER | K41: LYON
A43: =A29+1 -> 43377 | B43: =COUNTA(C45:C55,G45:G55,K45:K55) -> 0 | C43: A | G43: B | K43: C
A57: =A43+1 -> 43378 | B57: =COUNTA(C59:C69,G59:G69,K59:K69) -> 0 | C57: A | G57: B | K57: C
A71: =A57+1 -> 43379 | B71: =COUNTA(C73:C83,G73:G83,K73:K83) -> 0 | C71: A | G71: B | K71: C
A87: MARSEILLE
A88: NANTES
A89: PARIS
A90: LILLE
A91: STRASBOURG
A92: MULHOUSE
A93: BREST
A94: BORDEAUX
A95: BASTIA
A96: AJACCIO
A97: MARSEILLE
A98: NICE
... A105: ANGER

Sheet Feuil2
A1: date | B1: 43374
D2: TABLEAU A
D4: =INDIRECT("base!C"&MATCH($B$1,base!A:A,0)+2,1) -> MARSEILLE | E4: =INDIRECT("base!G"&MATCH($B$1,base!A:A,0)+2,1) -> NANTES | F4: =INDIRECT("base!K"&MATCH($B$1,base!A:A,0)+2,1) -> PARIS
D5: =INDIRECT("base!C"&MATCH($B$1,base!A:A,0)+4,1) -> LILLE | E5: =INDIRECT("base!G"&MATCH($B$1,base!A:A,0)+4,1) -> BORDEAUX | F5: =INDIRECT("base!K"&MATCH($B$1,base!A:A,0)+4,1) -> ANGER
D6: =INDIRECT("base!C"&MATCH($B$1,base!A:A,0)+6,1) -> MULHOUSE | E6: =INDIRECT("base!G"&MATCH($B$1,base!A:A,0)+6,1) -> BASTIA | F6: =INDIRECT("base!K"&MATCH($B$1,base!A:A,0)+6,1) -> AJACCIO
D7: =INDIRECT("base!C"&MATCH($B$1,base!A:A,0)+8,1) -> BREST | E7: =INDIRECT("base!G"&MATCH($B$1,base!A:A,0)+8,1) -> RENNES | F7: =INDIRECT("base!K"&MATCH($B$1,base!A:A,0)+8,1) -> STRASBOURG
D8: =INDIRECT("base!C"&MATCH($B$1,base!A:A,0)+10,1) -> 0 | E8: =INDIRECT("base!G"&MATCH($B$1,base!A:A,0)+10,1) -> CARCASSONNE | F8: =INDIRECT("base!K"&MATCH($B$1,base!A:A,0)+10,1) -> PERPIGNAN
D9: =INDIRECT("base!C"&MATCH($B$1,base!A:A,0)+12,1) -> 0 | E9: =INDIRECT("base!G"&MATCH($B$1,base!A:A,0)+12,1) -> 0 | F9: =INDIRECT("base!K"&MATCH($B$1,base!A:A,0)+12,1) -> NARBONNE
D12: Je cherche une formule qui me permette de récuperer dans mon tableau A, en fonction de la date en B1, les valeurs contenues dans feuille base . En fonction de la date ,les valeurs se trouvent dans les colonnes C,G,K. Dans l'exemple, les valeurs du 01/10/2018 de la feuille base, apparaissent dans mon tableau A
A14: 43374
A15: 43375
A16: 43376
A17: 43377
A18: 43378
A19: 43379
A20: 43380
A21: 43381
A22: 43382
