Workbook

Sheet Journal
A1: Journal
A3: Date | B3: Type des dépenses | C3: Description | D3: Amount - MNT
A5: 43966 | B5: Health mnt - Gerel | C5: tablets | D5: 150000
A6: 43973 | B6: Scholarship - Lucie - Eqmt | C6: clothes | D6: 100000
A7: 43980 | B7: Scholarship - Huslen - Eqmt | C7: clothes | D7: 320000
A8: 43983 | B8: Appartment rent | C8: location appt | D8: 380000
A9: 43983 | B9: Health mnt - Huslen | C9: pb de dents | D9: 1200000
A10: 43996 | B10: Laundry renewing - Huslen | C10: vêt classes pour université | D10: 1800000
A11: 44002 | B11: Scholarship - Lucie | C11: Pre-inscription EFM | D11: 150000
A12: 44002 | B12: Appartment fees | C12: Electricité | D12: 100000
A13: 44002 | B13: Laundry renewing - Bertrand | C13: 2 chemises à manches courtes et 1 pantalon | D13: 320000
A14: 44002 | B14: Week-End outside | C14: Séjour à UB | D14: =65000*7 -> 455000
A15: 44012 | B15: Hang out - Bertrand | C15: sorties sur UB | D15: =25000*15 -> 375000
A16: 44012 | B16: Food | C16: Courses du 16 juin | D16: =300000 -> 300000

Sheet Budget - Monitoring mensuel
A1: Expenses - MONITORING
A3: Types de dépenses | C3: Montant
A4: Food | C4: =SUMIFS(Journal!$D$7:$D$20,Journal!$B$7:$B$20,A4) -> 300000 | K4: Food
A5: Appartment rent | C5: =SUMIFS(Journal!$D$7:$D$20,Journal!$B$7:$B$20,A5) -> 380000 | K5: Appartment rent
A6: Appartment fees | C6: =SUMIFS(Journal!$D$7:$D$20,Journal!$B$7:$B$20,A6) -> 100000 | K6: Appartment fees
A7: Taxi / Bus UB | C7: =SUMIFS(Journal!$D$7:$D$20,Journal!$B$7:$B$20,A7) -> 0 | K7: Taxi / Bus UB
A8: Laundry renewing - Bertrand | C8: =SUMIFS(Journal!$D$7:$D$20,Journal!$B$7:$B$20,A8) -> 320000 | K8: Laundry renewing - Bertrand
A9: Laundry renewing - Gerel | C9: =SUMIFS(Journal!$D$7:$D$20,Journal!$B$7:$B$20,A9) -> 0 | K9: Laundry renewing - Gerel
A10: Laundry renewing - Lucie | C10: =SUMIFS(Journal!$D$7:$D$20,Journal!$B$7:$B$20,A10) -> 0 | K10: Laundry renewing - Lucie
A11: Laundry renewing - Huslen | C11: =SUMIFS(Journal!$D$7:$D$20,Journal!$B$7:$B$20,A11) -> 1800000 | K11: Laundry renewing - Huslen
A12: TOTAL - 1st needs | C12: =SUM(C4:C11) -> 2900000 | K12: Scholarship - Lucie
A13: Scholarship - Lucie | C13: =SUMIFS(Journal!$D$7:$D$20,Journal!$B$7:$B$20,A13) -> 150000 | K13: Scholarship - Lucie - Eqmt
A14: Scholarship - Lucie - Eqmt | C14: =SUMIFS(Journal!$D$7:$D$20,Journal!$B$7:$B$20,A14) -> 0 | K14: Scholarship - Huslen
A15: Scholarship - Huslen | C15: =SUMIFS(Journal!$D$7:$D$20,Journal!$B$7:$B$20,A15) -> 0 | K15: Scholarship - Huslen - Eqmt
A16: Scholarship - Huslen - Eqmt | C16: =SUMIFS(Journal!$D$7:$D$20,Journal!$B$7:$B$20,A16) -> 320000 | K16: Scholarship - Gerel
A17: Scholarship - Gerel | C17: =SUMIFS(Journal!$D$7:$D$20,Journal!$B$7:$B$20,A17) -> 0 | K17: Scholarship - Gerel - Eqmt
A18: Scholarship - Gerel - Eqmt | C18: =SUMIFS(Journal!$D$7:$D$20,Journal!$B$7:$B$20,A18) -> 0 | K18: Health mnt - Bertrand
A19: TOTAL - Scholarship | C19: =SUM(C13:C18) -> 470000 | K19: Health mnt - Gerel
A20: Health mnt - Bertrand | C20: =SUMIFS(Journal!$D$7:$D$20,Journal!$B$7:$B$20,A20) -> 0 | K20: Health mnt - Lucie
A21: Health mnt - Gerel | C21: =SUMIFS(Journal!$D$7:$D$20,Journal!$B$7:$B$20,A21) -> 0 | K21: Health mnt - Huslen
A22: Health mnt - Lucie | C22: =SUMIFS(Journal!$D$7:$D$20,Journal!$B$7:$B$20,A22) -> 0 | K22: Hang out - Bertrand
A23: Health mnt - Huslen | C23: =SUMIFS(Journal!$D$7:$D$20,Journal!$B$7:$B$20,A23) -> 1200000 | K23: Hang out - Gerel
A24: TOTAL - Health | C24: =SUM(C20:C23) -> 1200000 | K24: Hang out - Huslen
A25: Hang out - Bertrand | C25: =SUMIFS(Journal!$D$7:$D$20,Journal!$B$7:$B$20,A25) -> 375000 | K25: Hobby - Bertrand
A26: Hang out - Gerel | C26: =SUMIFS(Journal!$D$7:$D$20,Journal!$B$7:$B$20,A26) -> 0 | K26: Hobby - Gerel
A27: Hang out - Huslen | C27: =SUMIFS(Journal!$D$7:$D$20,Journal!$B$7:$B$20,A27) -> 0 | K27: Hobby - Huslen
A28: TOTAL - hang out | C28: =SUM(C25:C27) -> 375000 | K28: Week-End outside
A29: Hobby - Bertrand | C29: =SUMIFS(Journal!$D$7:$D$20,Journal!$B$7:$B$20,A29) -> 0 | K29: Trip in Mongolia
A30: Hobby - Gerel | C30: =SUMIFS(Journal!$D$7:$D$20,Journal!$B$7:$B$20,A30) -> 0 | K30: Trip abroad
A31: Hobby - Huslen | C31: =SUMIFS(Journal!$D$7:$D$20,Journal!$B$7:$B$20,A31) -> 0
A32: TOTAL - hobby | C32: =SUM(C29:C31) -> 0
A33: Week-End outside | C33: =SUMIFS(Journal!$D$7:$D$20,Journal!$B$7:$B$20,A33) -> 455000
A34: Trip in Mongolia | C34: =SUMIFS(Journal!$D$7:$D$20,Journal!$B$7:$B$20,A34) -> 0
A35: Trip abroad | C35: =SUMIFS(Journal!$D$7:$D$20,Journal!$B$7:$B$20,A35) -> 0
A36: TOTAL - trip | C36: =SUM(C33:C35) -> 455000
