Workbook

Sheet Sheet1
C4: Nom | D4: Date d'arrivée | E4: Date de départ | F4: Taux journalier | G4: Nombre de jours travaillés dans l'année | I4: 2017 | J4: 2018 | K4: 2019 | L4: 2020 | M4: 2021 | N4: 2022 | O4: 2023 | P4: 2024 | Q4: 2025
C5: Bob | D5: 43393 | E5: 44080 | F5: 600 | I5: =IFERROR(IF(OR(YEAR($D5)>I$4,YEAR($E5)<I$4),"",NETWORKDAYS(IF($D5<DATE(I$4,1,1),DATE(I$4,1,1),$D5),IF($E5<DATE(I$4,12,31),$E5,DATE(I$4,12,31)),fériés!$B$1:$B$100))*$F5,"") | J5: =IFERROR(IF(OR(YEAR($D5)>J$4,YEAR($E5)<J$4),"",NETWORKDAYS(IF($D5<DATE(J$4,1,1),DATE(J$4,1,1),$D5),IF($E5<DATE(J$4,12,31),$E5,DATE(J$4,12,31)),fériés!$B$1:$B$100))*$F5,"") -> 29400 | K5: =IFERROR(IF(OR(YEAR($D5)>K$4,YEAR($E5)<K$4),"",NETWORKDAYS(IF($D5<DATE(K$4,1,1),DATE(K$4,1,1),$D5),IF($E5<DATE(K$4,12,31),$E5,DATE(K$4,12,31)),fériés!$B$1:$B$100))*$F5,"") -> 151200 | L5: =IFERROR(IF(OR(YEAR($D5)>L$4,YEAR($E5)<L$4),"",NETWORKDAYS(IF($D5<DATE(L$4,1,1),DATE(L$4,1,1),$D5),IF($E5<DATE(L$4,12,31),$E5,DATE(L$4,12,31)),fériés!$B$1:$B$100))*$F5,"") -> 103200 | M5: =IFERROR(IF(OR(YEAR($D5)>M$4,YEAR($E5)<M$4),"",NETWORKDAYS(IF($D5<DATE(M$4,1,1),DATE(M$4,1,1),$D5),IF($E5<DATE(M$4,12,31),$E5,DATE(M$4,12,31)),fériés!$B$1:$B$100))*$F5,"") | N5: =IFERROR(IF(OR(YEAR($D5)>N$4,YEAR($E5)<N$4),"",NETWORKDAYS(IF($D5<DATE(N$4,1,1),DATE(N$4,1,1),$D5),IF($E5<DATE(N$4,12,31),$E5,DATE(N$4,12,31)),fériés!$B$1:$B$100))*$F5,"") | O5: =IFERROR(IF(OR(YEAR($D5)>O$4,YEAR($E5)<O$4),"",NETWORKDAYS(IF($D5<DATE(O$4,1,1),DATE(O$4,1,1),$D5),IF($E5<DATE(O$4,12,31),$E5,DATE(O$4,12,31)),fériés!$B$1:$B$100))*$F5,"") | P5: =IFERROR(IF(OR(YEAR($D5)>P$4,YEAR($E5)<P$4),"",NETWORKDAYS(IF($D5<DATE(P$4,1,1),DATE(P$4,1,1),$D5),IF($E5<DATE(P$4,12,31),$E5,DATE(P$4,12,31)),fériés!$B$1:$B$100))*$F5,"") | Q5: =IFERROR(IF(OR(YEAR($D5)>Q$4,YEAR($E5)<Q$4),"",NETWORKDAYS(IF($D5<DATE(Q$4,1,1),DATE(Q$4,1,1),$D5),IF($E5<DATE(Q$4,12,31),$E5,DATE(Q$4,12,31)),fériés!$B$1:$B$100))*$F5,"")
C6: Kevin | D6: 44684 | E6: 45997 | F6: 500 | I6: =IFERROR(IF(OR(YEAR($D6)>I$4,YEAR($E6)<I$4),"",NETWORKDAYS(IF($D6<DATE(I$4,1,1),DATE(I$4,1,1),$D6),IF($E6<DATE(I$4,12,31),$E6,DATE(I$4,12,31)),fériés!$B$1:$B$100))*$F6,"") | J6: =IFERROR(IF(OR(YEAR($D6)>J$4,YEAR($E6)<J$4),"",NETWORKDAYS(IF($D6<DATE(J$4,1,1),DATE(J$4,1,1),$D6),IF($E6<DATE(J$4,12,31),$E6,DATE(J$4,12,31)),fériés!$B$1:$B$100))*$F6,"") | K6: =IFERROR(IF(OR(YEAR($D6)>K$4,YEAR($E6)<K$4),"",NETWORKDAYS(IF($D6<DATE(K$4,1,1),DATE(K$4,1,1),$D6),IF($E6<DATE(K$4,12,31),$E6,DATE(K$4,12,31)),fériés!$B$1:$B$100))*$F6,"") | L6: =IFERROR(IF(OR(YEAR($D6)>L$4,YEAR($E6)<L$4),"",NETWORKDAYS(IF($D6<DATE(L$4,1,1),DATE(L$4,1,1),$D6),IF($E6<DATE(L$4,12,31),$E6,DATE(L$4,12,31)),fériés!$B$1:$B$100))*$F6,"") | M6: =IFERROR(IF(OR(YEAR($D6)>M$4,YEAR($E6)<M$4),"",NETWORKDAYS(IF($D6<DATE(M$4,1,1),DATE(M$4,1,1),$D6),IF($E6<DATE(M$4,12,31),$E6,DATE(M$4,12,31)),fériés!$B$1:$B$100))*$F6,"") | N6: =IFERROR(IF(OR(YEAR($D6)>N$4,YEAR($E6)<N$4),"",NETWORKDAYS(IF($D6<DATE(N$4,1,1),DATE(N$4,1,1),$D6),IF($E6<DATE(N$4,12,31),$E6,DATE(N$4,12,31)),fériés!$B$1:$B$100))*$F6,"") -> 84500 | O6: =IFERROR(IF(OR(YEAR($D6)>O$4,YEAR($E6)<O$4),"",NETWORKDAYS(IF($D6<DATE(O$4,1,1),DATE(O$4,1,1),$D6),IF($E6<DATE(O$4,12,31),$E6,DATE(O$4,12,31)),fériés!$B$1:$B$100))*$F6,"") -> 126000 | P6: =IFERROR(IF(OR(YEAR($D6)>P$4,YEAR($E6)<P$4),"",NETWORKDAYS(IF($D6<DATE(P$4,1,1),DATE(P$4,1,1),$D6),IF($E6<DATE(P$4,12,31),$E6,DATE(P$4,12,31)),fériés!$B$1:$B$100))*$F6,"") -> 126500 | Q6: =IFERROR(IF(OR(YEAR($D6)>Q$4,YEAR($E6)<Q$4),"",NETWORKDAYS(IF($D6<DATE(Q$4,1,1),DATE(Q$4,1,1),$D6),IF($E6<DATE(Q$4,12,31),$E6,DATE(Q$4,12,31)),fériés!$B$1:$B$100))*$F6,"") -> 117500
C7: Dany | D7: 42772 | E7: 43489 | F7: 400 | I7: =IFERROR(IF(OR(YEAR($D7)>I$4,YEAR($E7)<I$4),"",NETWORKDAYS(IF($D7<DATE(I$4,1,1),DATE(I$4,1,1),$D7),IF($E7<DATE(I$4,12,31),$E7,DATE(I$4,12,31)),fériés!$B$1:$B$100))*$F7,"") -> 90800 | J7: =IFERROR(IF(OR(YEAR($D7)>J$4,YEAR($E7)<J$4),"",NETWORKDAYS(IF($D7<DATE(J$4,1,1),DATE(J$4,1,1),$D7),IF($E7<DATE(J$4,12,31),$E7,DATE(J$4,12,31)),fériés!$B$1:$B$100))*$F7,"") -> 101200 | K7: =IFERROR(IF(OR(YEAR($D7)>K$4,YEAR($E7)<K$4),"",NETWORKDAYS(IF($D7<DATE(K$4,1,1),DATE(K$4,1,1),$D7),IF($E7<DATE(K$4,12,31),$E7,DATE(K$4,12,31)),fériés!$B$1:$B$100))*$F7,"") -> 6800 | L7: =IFERROR(IF(OR(YEAR($D7)>L$4,YEAR($E7)<L$4),"",NETWORKDAYS(IF($D7<DATE(L$4,1,1),DATE(L$4,1,1),$D7),IF($E7<DATE(L$4,12,31),$E7,DATE(L$4,12,31)),fériés!$B$1:$B$100))*$F7,"") | M7: =IFERROR(IF(OR(YEAR($D7)>M$4,YEAR($E7)<M$4),"",NETWORKDAYS(IF($D7<DATE(M$4,1,1),DATE(M$4,1,1),$D7),IF($E7<DATE(M$4,12,31),$E7,DATE(M$4,12,31)),fériés!$B$1:$B$100))*$F7,"") | N7: =IFERROR(IF(OR(YEAR($D7)>N$4,YEAR($E7)<N$4),"",NETWORKDAYS(IF($D7<DATE(N$4,1,1),DATE(N$4,1,1),$D7),IF($E7<DATE(N$4,12,31),$E7,DATE(N$4,12,31)),fériés!$B$1:$B$100))*$F7,"") | O7: =IFERROR(IF(OR(YEAR($D7)>O$4,YEAR($E7)<O$4),"",NETWORKDAYS(IF($D7<DATE(O$4,1,1),DATE(O$4,1,1),$D7),IF($E7<DATE(O$4,12,31),$E7,DATE(O$4,12,31)),fériés!$B$1:$B$100))*$F7,"") | P7: =IFERROR(IF(OR(YEAR($D7)>P$4,YEAR($E7)<P$4),"",NETWORKDAYS(IF($D7<DATE(P$4,1,1),DATE(P$4,1,1),$D7),IF($E7<DATE(P$4,12,31),$E7,DATE(P$4,12,31)),fériés!$B$1:$B$100))*$F7,"") | Q7: =IFERROR(IF(OR(YEAR($D7)>Q$4,YEAR($E7)<Q$4),"",NETWORKDAYS(IF($D7<DATE(Q$4,1,1),DATE(Q$4,1,1),$D7),IF($E7<DATE(Q$4,12,31),$E7,DATE(Q$4,12,31)),fériés!$B$1:$B$100))*$F7,"")
C8: Michael | D8: 45015 | E8: 45482 | F8: 450 | I8: =IFERROR(IF(OR(YEAR($D8)>I$4,YEAR($E8)<I$4),"",NETWORKDAYS(IF($D8<DATE(I$4,1,1),DATE(I$4,1,1),$D8),IF($E8<DATE(I$4,12,31),$E8,DATE(I$4,12,31)),fériés!$B$1:$B$100))*$F8,"") | J8: =IFERROR(IF(OR(YEAR($D8)>J$4,YEAR($E8)<J$4),"",NETWORKDAYS(IF($D8<DATE(J$4,1,1),DATE(J$4,1,1),$D8),IF($E8<DATE(J$4,12,31),$E8,DATE(J$4,12,31)),fériés!$B$1:$B$100))*$F8,"") | K8: =IFERROR(IF(OR(YEAR($D8)>K$4,YEAR($E8)<K$4),"",NETWORKDAYS(IF($D8<DATE(K$4,1,1),DATE(K$4,1,1),$D8),IF($E8<DATE(K$4,12,31),$E8,DATE(K$4,12,31)),fériés!$B$1:$B$100))*$F8,"") | L8: =IFERROR(IF(OR(YEAR($D8)>L$4,YEAR($E8)<L$4),"",NETWORKDAYS(IF($D8<DATE(L$4,1,1),DATE(L$4,1,1),$D8),IF($E8<DATE(L$4,12,31),$E8,DATE(L$4,12,31)),fériés!$B$1:$B$100))*$F8,"") | M8: =IFERROR(IF(OR(YEAR($D8)>M$4,YEAR($E8)<M$4),"",NETWORKDAYS(IF($D8<DATE(M$4,1,1),DATE(M$4,1,1),$D8),IF($E8<DATE(M$4,12,31),$E8,DATE(M$4,12,31)),fériés!$B$1:$B$100))*$F8,"") | N8: =IFERROR(IF(OR(YEAR($D8)>N$4,YEAR($E8)<N$4),"",NETWORKDAYS(IF($D8<DATE(N$4,1,1),DATE(N$4,1,1),$D8),IF($E8<DATE(N$4,12,31),$E8,DATE(N$4,12,31)),fériés!$B$1:$B$100))*$F8,"") | O8: =IFERROR(IF(OR(YEAR($D8)>O$4,YEAR($E8)<O$4),"",NETWORKDAYS(IF($D8<DATE(O$4,1,1),DATE(O$4,1,1),$D8),IF($E8<DATE(O$4,12,31),$E8,DATE(O$4,12,31)),fériés!$B$1:$B$100))*$F8,"") -> 85050 | P8: =IFERROR(IF(OR(YEAR($D8)>P$4,YEAR($E8)<P$4),"",NETWORKDAYS(IF($D8<DATE(P$4,1,1),DATE(P$4,1,1),$D8),IF($E8<DATE(P$4,12,31),$E8,DATE(P$4,12,31)),fériés!$B$1:$B$100))*$F8,"") -> 59400 | Q8: =IFERROR(IF(OR(YEAR($D8)>Q$4,YEAR($E8)<Q$4),"",NETWORKDAYS(IF($D8<DATE(Q$4,1,1),DATE(Q$4,1,1),$D8),IF($E8<DATE(Q$4,12,31),$E8,DATE(Q$4,12,31)),fériés!$B$1:$B$100))*$F8,"")

Sheet fériés
A1: =MIN(Sheet1!I4:Q4) -> 2017 | B1: =DATE(A$1,1,1) -> 42736
B2: =_xlfn.ORG.OPENOFFICE.EASTERSUNDAY(A$1)+1 -> 42842
B3: =DATE(A$1,5,1) -> 42856
B4: =DATE(A$1,5,8) -> 42863
B5: =_xlfn.ORG.OPENOFFICE.EASTERSUNDAY(A$1)+50 -> 42891
B6: =DATE(A$1,7,14) -> 42930
B7: =DATE(A$1,8,15) -> 42962
B8: =DATE(A$1,11,1) -> 43040
B9: =DATE(A$1,11,11) -> 43050
B10: =DATE(A$1,12,25) -> 43094
A11: =A1+1 -> 2018 | B11: =DATE(A11,1,1) -> 43101
B12: =_xlfn.ORG.OPENOFFICE.EASTERSUNDAY(A11)+1 -> 43192
B13: =DATE(A11,5,1) -> 43221
B14: =DATE(A11,5,8) -> 43228
B15: =_xlfn.ORG.OPENOFFICE.EASTERSUNDAY(A11)+50 -> 43241
B16: =DATE(A11,7,14) -> 43295
B17: =DATE(A11,8,15) -> 43327
B18: =DATE(A11,11,1) -> 43405
B19: =DATE(A11,11,11) -> 43415
B20: =DATE(A11,12,25) -> 43459
A21: =A11+1 -> 2019 | B21: =DATE(A21,1,1) -> 43466
B22: =_xlfn.ORG.OPENOFFICE.EASTERSUNDAY(A21)+1 -> 43577
B23: =DATE(A21,5,1) -> 43586
B24: =DATE(A21,5,8) -> 43593
B25: =_xlfn.ORG.OPENOFFICE.EASTERSUNDAY(A21)+50 -> 43626
B26: =DATE(A21,7,14) -> 43660
B27: =DATE(A21,8,15) -> 43692
B28: =DATE(A21,11,1) -> 43770
B29: =DATE(A21,11,11) -> 43780
B30: =DATE(A21,12,25) -> 43824
A31: =A21+1 -> 2020 | B31: =DATE(A31,1,1) -> 43831
B32: =_xlfn.ORG.OPENOFFICE.EASTERSUNDAY(A31)+1 -> 43934
B33: =DATE(A31,5,1) -> 43952
B34: =DATE(A31,5,8) -> 43959
B35: =_xlfn.ORG.OPENOFFICE.EASTERSUNDAY(A31)+50 -> 43983
B36: =DATE(A31,7,14) -> 44026
B37: =DATE(A31,8,15) -> 44058
B38: =DATE(A31,11,1) -> 44136
B39: =DATE(A31,11,11) -> 44146
B40: =DATE(A31,12,25) -> 44190
A41: =A31+1 -> 2021 | B41: =DATE(A41,1,1) -> 44197
B42: =_xlfn.ORG.OPENOFFICE.EASTERSUNDAY(A41)+1 -> 44291
B43: =DATE(A41,5,1) -> 44317
B44: =DATE(A41,5,8) -> 44324
B45: =_xlfn.ORG.OPENOFFICE.EASTERSUNDAY(A41)+50 -> 44340
B46: =DATE(A41,7,14) -> 44391
B47: =DATE(A41,8,15) -> 44423
B48: =DATE(A41,11,1) -> 44501
B49: =DATE(A41,11,11) -> 44511
B50: =DATE(A41,12,25) -> 44555
A51: =A41+1 -> 2022 | B51: =DATE(A51,1,1) -> 44562
B52: =_xlfn.ORG.OPENOFFICE.EASTERSUNDAY(A51)+1 -> 44669
B53: =DATE(A51,5,1) -> 44682
B54: =DATE(A51,5,8) -> 44689
B55: =_xlfn.ORG.OPENOFFICE.EASTERSUNDAY(A51)+50 -> 44718
B56: =DATE(A51,7,14) -> 44756
B57: =DATE(A51,8,15) -> 44788
B58: =DATE(A51,11,1) -> 44866
B59: =DATE(A51,11,11) -> 44876
B60: =DATE(A51,12,25) -> 44920
A61: =A51+1 -> 2023 | B61: =DATE(A61,1,1) -> 44927
B62: =_xlfn.ORG.OPENOFFICE.EASTERSUNDAY(A61)+1 -> 45026
B63: =DATE(A61,5,1) -> 45047
B64: =DATE(A61,5,8) -> 45054
B65: =_xlfn.ORG.OPENOFFICE.EASTERSUNDAY(A61)+50 -> 45075
B66: =DATE(A61,7,14) -> 45121
B67: =DATE(A61,8,15) -> 45153
B68: =DATE(A61,11,1) -> 45231
B69: =DATE(A61,11,11) -> 45241
B70: =DATE(A61,12,25) -> 45285
A71: =A61+1 -> 2024 | B71: =DATE(A71,1,1) -> 45292
B72: =_xlfn.ORG.OPENOFFICE.EASTERSUNDAY(A71)+1 -> 45383
B73: =DATE(A71,5,1) -> 45413
B74: =DATE(A71,5,8) -> 45420
B75: =_xlfn.ORG.OPENOFFICE.EASTERSUNDAY(A71)+50 -> 45432
B76: =DATE(A71,7,14) -> 45487
B77: =DATE(A71,8,15) -> 45519
B78: =DATE(A71,11,1) -> 45597
B79: =DATE(A71,11,11) -> 45607
B80: =DATE(A71,12,25) -> 45651
A81: =A71+1 -> 2025 | B81: =DATE(A81,1,1) -> 45658
B82: =_xlfn.ORG.OPENOFFICE.EASTERSUNDAY(A81)+1 -> 45768
B83: =DATE(A81,5,1) -> 45778
B84: =DATE(A81,5,8) -> 45785
B85: =_xlfn.ORG.OPENOFFICE.EASTERSUNDAY(A81)+50 -> 45817
B86: =DATE(A81,7,14) -> 45852
B87: =DATE(A81,8,15) -> 45884
B88: =DATE(A81,11,1) -> 45962
B89: =DATE(A81,11,11) -> 45972
B90: =DATE(A81,12,25) -> 46016
A91: =A81+1 -> 2026 | B91: =DATE(A91,1,1) -> 46023
B92: =_xlfn.ORG.OPENOFFICE.EASTERSUNDAY(A91)+1 -> 46118
B93: =DATE(A91,5,1) -> 46143
B94: =DATE(A91,5,8) -> 46150
B95: =_xlfn.ORG.OPENOFFICE.EASTERSUNDAY(A91)+50 -> 46167
B96: =DATE(A91,7,14) -> 46217
B97: =DATE(A91,8,15) -> 46249
B98: =DATE(A91,11,1) -> 46327
B99: =DATE(A91,11,11) -> 46337
B100: =DATE(A91,12,25) -> 46381
