Workbook

Sheet Sem40
A1: =feuilprec(A1) -> #NAME?
C8: 43009
B12: supposons que nous sommes le 1er octobre
B16: Semaine | E16: Mois | H16: Trimestre
B17: Ventes | C17: 4753 | E17: Ventes | F17: =C17 -> 4753 | H17: Ventes | I17: =C17 -> 4753
B18: Achats | C18: 2769 | E18: Achats | F18: =C18+4000 -> 6769 | H18: Achats | I18: =F18+562 -> 7331
F19: =C19 -> 0 | I19: =C19 -> 0
B20: Bénéf Brut | C20: =C17-C18 -> 1984 | E20: Bénéf Brut | F20: =C20 -> 1984 | H20: Bénéf Brut | I20: =C20 -> 1984
B21: Pourcentage | C21: =(C17-C18)/C18 -> 0.71650415 | E21: Pourcentage | F21: =C21 -> 0.71650415 | H21: Pourcentage | I21: =C21 -> 0.71650415
B24: les montants sont les mêmes car nous sommes en début de mois et en début du 4ième trimestre
B25: passons à l'onglet suivant ====>

Sheet Sem41
A1: =feuilprec(A1) -> #NAME?
C8: 43016 | G8: =WEEKNUM(C8) -> 41 | H8: =_xlfn.FORMULATEXT(G8) -> =NO.SEMAINE(C8)
H13: j’ai modifié les montants en semaine 40 pour vérifier le bon fonctionnement des formules
B16: Semaine | E16: Mois | H16: Trimestre
B17: Ventes | C17: 6257 | E17: Ventes | F17: =INDIRECT(IF(WEEKNUM(C8)<10,"Sem0"&WEEKNUM(C8)-1&"!f17","Sem"&WEEKNUM(C8)-1&"!f17"))+Sem41!C17 -> 11010 | H17: Ventes | I17: =INDIRECT(IF(WEEKNUM(C8)<10,"Sem0"&WEEKNUM(C8)-1&"!i17","Sem"&WEEKNUM(C8)-1&"!i17"))+Sem41!C17 -> 11010
B18: Achats | C18: 3250 | E18: Achats | F18: =INDIRECT(IF(WEEKNUM(C8)<10,"Sem0"&WEEKNUM(C8)-1&"!f18","Sem"&WEEKNUM(C8)-1&"!f18"))+Sem41!C18 -> 10019 | H18: Achats | I18: =INDIRECT(IF(WEEKNUM(C8)<10,"Sem0"&WEEKNUM(C8)-1&"!i18","Sem"&WEEKNUM(C8)-1&"!i18"))+Sem41!C18 -> 10581
F19: =INDIRECT(IF(WEEKNUM(C8)<10,"Sem0"&WEEKNUM(C8)-1&"!f19","Sem"&WEEKNUM(C8)-1&"!f19"))+Sem41!C19 -> 0 | I19: =C19 -> 0
B20: Bénéf Brut | C20: =C17-C18 -> 3007 | E20: Bénéf Brut | F20: =INDIRECT(IF(WEEKNUM(C8)<10,"Sem0"&WEEKNUM(C8)-1&"!f20","Sem"&WEEKNUM(C8)-1&"!f20"))+Sem41!C20 -> 4991 | H20: Bénéf Brut | I20: =I17-I18 -> 429
B21: Pourcentage | C21: =(C17-C18)/C18 -> 0.92523077 | E21: Pourcentage | F21: =(F17-F18)/F18 -> 0.098912067 | H21: Pourcentage | I21: =(I17-I18)/I18 -> 0.040544372
