Workbook

Sheet REPORTING
A1: SUIVI STOCK
C3: 1
D4: PRODUITS | E4: RECEPTION | F4: LIVRAISON | G4: DECHIRE | H4: MOUILLE | I4: STOCK RESTANT
D5: =INDEX('FICHE ELEMENTAIRE'!A1:A20,$C$3) -> PRODUIT 1 | E5: =SUMIFS(quant,prod8,$D5,mlr,E$4) -> 7000 | F5: =SUMIFS(quant,prod8,$D5,mlr,F$4) -> 1300 | G5: =SUMIFS(dech,prod8,$D5) -> 21 | H5: =SUMIFS(mouy,prod8,$D5) -> 12 | I5: =SUM(E5,-F5,-G5,-H5) -> 5667
D6: =INDEX('FICHE ELEMENTAIRE'!A2:A21,$C$3) -> PRODUIT 2 | E6: =SUMIFS(quant,prod8,$D6,mlr,$E$4) -> 12000 | F6: =SUMIFS(quant,prod8,$D6,mlr,F$4) -> 800 | G6: =SUMIFS(dech,prod8,$D6) -> 50 | H6: =SUMIFS(mouy,prod8,$D6) -> 63 | I6: =SUM(E6,-F6,-G6,-H6) -> 11087
D7: =INDEX('FICHE ELEMENTAIRE'!A3:A22,$C$3) -> PRODUIT 3 | E7: =SUMIFS(quant,prod8,$D7,mlr,$E$4) -> 220000 | F7: =SUMIFS(quant,prod8,$D7,mlr,F$4) -> 200 | G7: =SUMIFS(dech,prod8,$D7) -> 0 | H7: =SUMIFS(mouy,prod8,$D7) -> 0 | I7: =SUM(E7,-F7,-G7,-H7) -> 219800
D8: =INDEX('FICHE ELEMENTAIRE'!A4:A23,$C$3) -> PRODUIT 4 | E8: =SUMIFS(quant,prod8,$D8,mlr,$E$4) -> 0 | F8: =SUMIFS(quant,prod8,$D8,mlr,F$4) -> 0 | G8: =SUMIFS(dech,prod8,$D8) -> 0 | H8: =SUMIFS(mouy,prod8,$D8) -> 0 | I8: =SUM(E8,-F8,-G8,-H8) -> 0
D9: =INDEX('FICHE ELEMENTAIRE'!A5:A24,$C$3) -> PRODUIT 5 | E9: =SUMIFS(quant,prod8,$D9,mlr,$E$4) -> 0 | F9: =SUMIFS(quant,prod8,$D9,mlr,F$4) -> 0 | G9: =SUMIFS(dech,prod8,$D9) -> 0 | H9: =SUMIFS(mouy,prod8,$D9) -> 0 | I9: =SUM(E9,-F9,-G9,-H9) -> 0
D10: =INDEX('FICHE ELEMENTAIRE'!A6:A25,$C$3) -> PRODUIT 6 | E10: =SUMIFS(quant,prod8,$D10,mlr,$E$4) -> 0 | F10: =SUMIFS(quant,prod8,$D10,mlr,F$4) -> 0 | G10: =SUMIFS(dech,prod8,$D10) -> 0 | H10: =SUMIFS(mouy,prod8,$D10) -> 0 | I10: =SUM(E10,-F10,-G10,-H10) -> 0
D11: =INDEX('FICHE ELEMENTAIRE'!A7:A26,$C$3) -> PRODUIT 7 | E11: =SUMIFS(quant,prod8,$D11,mlr,$E$4) -> 0 | F11: =SUMIFS(quant,prod8,$D11,mlr,F$4) -> 0 | G11: =SUMIFS(dech,prod8,$D11) -> 0 | H11: =SUMIFS(mouy,prod8,$D11) -> 0 | I11: =SUM(E11,-F11,-G11,-H11) -> 0
D12: =INDEX('FICHE ELEMENTAIRE'!A8:A27,$C$3) -> PRODUIT 8 | E12: =SUMIFS(quant,prod8,$D12,mlr,$E$4) -> 0 | F12: =SUMIFS(quant,prod8,$D12,mlr,F$4) -> 0 | G12: =SUMIFS(dech,prod8,$D12) -> 0 | H12: =SUMIFS(mouy,prod8,$D12) -> 0 | I12: =SUM(E12,-F12,-G12,-H12) -> 0
D13: =INDEX('FICHE ELEMENTAIRE'!A9:A28,$C$3) -> PRODUIT 9 | E13: =SUMIFS(quant,prod8,$D13,mlr,$E$4) -> 0 | F13: =SUMIFS(quant,prod8,$D13,mlr,F$4) -> 0 | G13: =SUMIFS(dech,prod8,$D13) -> 0 | H13: =SUMIFS(mouy,prod8,$D13) -> 0 | I13: =SUM(E13,-F13,-G13,-H13) -> 0
D14: =INDEX('FICHE ELEMENTAIRE'!A10:A29,$C$3) -> PRODUIT 10 | E14: =SUMIFS(quant,prod8,$D14,mlr,$E$4) -> 0 | F14: =SUMIFS(quant,prod8,$D14,mlr,F$4) -> 0 | G14: =SUMIFS(dech,prod8,$D14) -> 0 | H14: =SUMIFS(mouy,prod8,$D14) -> 0 | I14: =SUM(E14,-F14,-G14,-H14) -> 0
D15: =INDEX('FICHE ELEMENTAIRE'!A11:A30,$C$3) -> PRODUIT 11 | E15: =SUMIFS(quant,prod8,$D15,mlr,$E$4) -> 0 | F15: =SUMIFS(quant,prod8,$D15,mlr,F$4) -> 0 | G15: =SUMIFS(dech,prod8,$D15) -> 0 | H15: =SUMIFS(mouy,prod8,$D15) -> 0 | I15: =SUM(E15,-F15,-G15,-H15) -> 0
D16: =INDEX('FICHE ELEMENTAIRE'!A12:A31,$C$3) -> PRODUIT 12 | E16: =SUMIFS(quant,prod8,$D16,mlr,$E$4) -> 0 | F16: =SUMIFS(quant,prod8,$D16,mlr,F$4) -> 0 | G16: =SUMIFS(dech,prod8,$D16) -> 0 | H16: =SUMIFS(mouy,prod8,$D16) -> 0 | I16: =SUM(E16,-F16,-G16,-H16) -> 0
D17: =INDEX('FICHE ELEMENTAIRE'!A13:A32,$C$3) -> PRODUIT 13 | E17: =SUMIFS(quant,prod8,$D17,mlr,$E$4) -> 0 | F17: =SUMIFS(quant,prod8,$D17,mlr,F$4) -> 0 | G17: =SUMIFS(dech,prod8,$D17) -> 0 | H17: =SUMIFS(mouy,prod8,$D17) -> 0 | I17: =SUM(E17,-F17,-G17,-H17) -> 0
... D20: =INDEX('FICHE ELEMENTAIRE'!A16:A35,$C$3) -> PRODUIT 16 | E20: =SUMIFS(quant,prod8,$D20,mlr,$E$4) -> 0 | F20: =SUMIFS(quant,prod8,$D20,mlr,F$4) -> 0 | G20: =SUMIFS(dech,prod8,$D20) -> 0 | H20: =SUMIFS(mouy,prod8,$D20) -> 0 | I20: =SUM(E20,-F20,-G20,-H20) -> 0
D21: =INDEX('FICHE ELEMENTAIRE'!A17:A36,$C$3) -> 0
D22: =INDEX('FICHE ELEMENTAIRE'!A18:A37,$C$3) -> 0
D23: =INDEX('FICHE ELEMENTAIRE'!A19:A38,$C$3) -> 0

Sheet MOUVEMENTS
A2: DATE | B2: CLIENT | C2: BORDEREAU | D2: VEHICULE | E2: CHAUFFEUR | F2: PRODUIT | G2: NAVIRE | H2: MAGASIN | I2: MOUVEMENT | J2: QUANTITE | K2: DECHIRE | L2: MOUILLE | M2: SACS SAINS | N2: STOCK RESTANT | O2: TONNAGE
F3: PRODUIT 2 | G3: NAVIRE 1 | H3: MAG 1 | I3: RECEPTION | J3: 1000 | K3: 40 | L3: 60 | M3: =IF(MOUVEMENTS[[#This Row],[MOUVEMENT]]="RECEPTION",MOUVEMENTS[[#This Row],[QUANTITE]]-MOUVEMENTS[[#This Row],[DECHIRE]]-MOUVEMENTS[[#This Row],[MOUILLE]],IF(MOUVEMENTS[[#This Row],[MOUVEMENT]]="LIVRAISON",MOUVEMENTS[[#This Row],[QUANTITE]],0)) -> 900 | N3: =SUMIFS(J$3:J3,F$3:F3,MOUVEMENTS[[#This Row],[PRODUIT]],G$3:G3,MOUVEMENTS[[#This Row],[NAVIRE]],H$3:H3,MOUVEMENTS[[#This Row],[MAGASIN]],I$3:I3,"RECEPTION")-SUMIFS(J$3:J3,F$3:F3,MOUVEMENTS[[#This Row],[PRODUIT]],G$3:G3,MOUVEMENTS[[#This Row],[NAVIRE]],H$3:H3,MOUVEMENTS[[#This Row],[MAGASIN]],I$3:I3,"LIVRAISON") -> 1000
B4: CLIENT 1 | F4: PRODUIT 2 | G4: NAVIRE 1 | H4: MAG 1 | I4: LIVRAISON | J4: 800 | K4: 10 | L4: 0 | M4: =IF(MOUVEMENTS[[#This Row],[MOUVEMENT]]="RECEPTION",MOUVEMENTS[[#This Row],[QUANTITE]]-MOUVEMENTS[[#This Row],[DECHIRE]]-MOUVEMENTS[[#This Row],[MOUILLE]],IF(MOUVEMENTS[[#This Row],[MOUVEMENT]]="LIVRAISON",MOUVEMENTS[[#This Row],[QUANTITE]],0)) -> 800 | N4: =SUMIFS(J$3:J4,F$3:F4,MOUVEMENTS[[#This Row],[PRODUIT]],G$3:G4,MOUVEMENTS[[#This Row],[NAVIRE]],H$3:H4,MOUVEMENTS[[#This Row],[MAGASIN]],I$3:I4,"RECEPTION")-SUMIFS(J$3:J4,F$3:F4,MOUVEMENTS[[#This Row],[PRODUIT]],G$3:G4,MOUVEMENTS[[#This Row],[NAVIRE]],H$3:H4,MOUVEMENTS[[#This Row],[MAGASIN]],I$3:I4,"LIVRAISON") -> 200
F5: PRODUIT 1 | G5: NAVIRE 3 | H5: MAG 3 | I5: RECEPTION | J5: 5000 | K5: 0 | L5: 2 | M5: =IF(MOUVEMENTS[[#This Row],[MOUVEMENT]]="RECEPTION",MOUVEMENTS[[#This Row],[QUANTITE]]-MOUVEMENTS[[#This Row],[DECHIRE]]-MOUVEMENTS[[#This Row],[MOUILLE]],IF(MOUVEMENTS[[#This Row],[MOUVEMENT]]="LIVRAISON",MOUVEMENTS[[#This Row],[QUANTITE]],0)) -> 4998 | N5: =SUMIFS(J$3:J5,F$3:F5,MOUVEMENTS[[#This Row],[PRODUIT]],G$3:G5,MOUVEMENTS[[#This Row],[NAVIRE]],H$3:H5,MOUVEMENTS[[#This Row],[MAGASIN]],I$3:I5,"RECEPTION")-SUMIFS(J$3:J5,F$3:F5,MOUVEMENTS[[#This Row],[PRODUIT]],G$3:G5,MOUVEMENTS[[#This Row],[NAVIRE]],H$3:H5,MOUVEMENTS[[#This Row],[MAGASIN]],I$3:I5,"LIVRAISON") -> 5000
F6: PRODUIT 1 | G6: NAVIRE 3 | H6: MAG 2 | I6: RECEPTION | J6: 2000 | K6: 20 | L6: 10 | M6: =IF(MOUVEMENTS[[#This Row],[MOUVEMENT]]="RECEPTION",MOUVEMENTS[[#This Row],[QUANTITE]]-MOUVEMENTS[[#This Row],[DECHIRE]]-MOUVEMENTS[[#This Row],[MOUILLE]],IF(MOUVEMENTS[[#This Row],[MOUVEMENT]]="LIVRAISON",MOUVEMENTS[[#This Row],[QUANTITE]],0)) -> 1970 | N6: =SUMIFS(J$3:J6,F$3:F6,MOUVEMENTS[[#This Row],[PRODUIT]],G$3:G6,MOUVEMENTS[[#This Row],[NAVIRE]],H$3:H6,MOUVEMENTS[[#This Row],[MAGASIN]],I$3:I6,"RECEPTION")-SUMIFS(J$3:J6,F$3:F6,MOUVEMENTS[[#This Row],[PRODUIT]],G$3:G6,MOUVEMENTS[[#This Row],[NAVIRE]],H$3:H6,MOUVEMENTS[[#This Row],[MAGASIN]],I$3:I6,"LIVRAISON") -> 2000
B7: CLIENT 2 | F7: PRODUIT 1 | G7: NAVIRE 3 | H7: MAG 2 | I7: LIVRAISON | J7: 1300 | K7: 1 | M7: =IF(MOUVEMENTS[[#This Row],[MOUVEMENT]]="RECEPTION",MOUVEMENTS[[#This Row],[QUANTITE]]-MOUVEMENTS[[#This Row],[DECHIRE]]-MOUVEMENTS[[#This Row],[MOUILLE]],IF(MOUVEMENTS[[#This Row],[MOUVEMENT]]="LIVRAISON",MOUVEMENTS[[#This Row],[QUANTITE]],0)) -> 1300 | N7: =SUMIFS(J$3:J7,F$3:F7,MOUVEMENTS[[#This Row],[PRODUIT]],G$3:G7,MOUVEMENTS[[#This Row],[NAVIRE]],H$3:H7,MOUVEMENTS[[#This Row],[MAGASIN]],I$3:I7,"RECEPTION")-SUMIFS(J$3:J7,F$3:F7,MOUVEMENTS[[#This Row],[PRODUIT]],G$3:G7,MOUVEMENTS[[#This Row],[NAVIRE]],H$3:H7,MOUVEMENTS[[#This Row],[MAGASIN]],I$3:I7,"LIVRAISON") -> 700
F8: PRODUIT 2 | G8: NAVIRE 1 | H8: MAG 3 | I8: RECEPTION | J8: 3000 | L8: 3 | M8: =IF(MOUVEMENTS[[#This Row],[MOUVEMENT]]="RECEPTION",MOUVEMENTS[[#This Row],[QUANTITE]]-MOUVEMENTS[[#This Row],[DECHIRE]]-MOUVEMENTS[[#This Row],[MOUILLE]],IF(MOUVEMENTS[[#This Row],[MOUVEMENT]]="LIVRAISON",MOUVEMENTS[[#This Row],[QUANTITE]],0)) -> 2997 | N8: =SUMIFS(J$3:J8,F$3:F8,MOUVEMENTS[[#This Row],[PRODUIT]],G$3:G8,MOUVEMENTS[[#This Row],[NAVIRE]],H$3:H8,MOUVEMENTS[[#This Row],[MAGASIN]],I$3:I8,"RECEPTION")-SUMIFS(J$3:J8,F$3:F8,MOUVEMENTS[[#This Row],[PRODUIT]],G$3:G8,MOUVEMENTS[[#This Row],[NAVIRE]],H$3:H8,MOUVEMENTS[[#This Row],[MAGASIN]],I$3:I8,"LIVRAISON") -> 3000
B9: CLIENT 3 | F9: PRODUIT 3 | G9: NAVIRE 2 | H9: MAG 4 | I9: LIVRAISON | J9: 200 | M9: =IF(MOUVEMENTS[[#This Row],[MOUVEMENT]]="RECEPTION",MOUVEMENTS[[#This Row],[QUANTITE]]-MOUVEMENTS[[#This Row],[DECHIRE]]-MOUVEMENTS[[#This Row],[MOUILLE]],IF(MOUVEMENTS[[#This Row],[MOUVEMENT]]="LIVRAISON",MOUVEMENTS[[#This Row],[QUANTITE]],0)) -> 200 | N9: =SUMIFS(J$3:J9,F$3:F9,MOUVEMENTS[[#This Row],[PRODUIT]],G$3:G9,MOUVEMENTS[[#This Row],[NAVIRE]],H$3:H9,MOUVEMENTS[[#This Row],[MAGASIN]],I$3:I9,"RECEPTION")-SUMIFS(J$3:J9,F$3:F9,MOUVEMENTS[[#This Row],[PRODUIT]],G$3:G9,MOUVEMENTS[[#This Row],[NAVIRE]],H$3:H9,MOUVEMENTS[[#This Row],[MAGASIN]],I$3:I9,"LIVRAISON") -> -200
F10: PRODUIT 2 | G10: NAVIRE 1 | H10: MAG 3 | I10: RECEPTION | J10: 8000 | M10: =IF(MOUVEMENTS[[#This Row],[MOUVEMENT]]="RECEPTION",MOUVEMENTS[[#This Row],[QUANTITE]]-MOUVEMENTS[[#This Row],[DECHIRE]]-MOUVEMENTS[[#This Row],[MOUILLE]],IF(MOUVEMENTS[[#This Row],[MOUVEMENT]]="LIVRAISON",MOUVEMENTS[[#This Row],[QUANTITE]],0)) -> 8000 | N10: =SUMIFS(J$3:J10,F$3:F10,MOUVEMENTS[[#This Row],[PRODUIT]],G$3:G10,MOUVEMENTS[[#This Row],[NAVIRE]],H$3:H10,MOUVEMENTS[[#This Row],[MAGASIN]],I$3:I10,"RECEPTION")-SUMIFS(J$3:J10,F$3:F10,MOUVEMENTS[[#This Row],[PRODUIT]],G$3:G10,MOUVEMENTS[[#This Row],[NAVIRE]],H$3:H10,MOUVEMENTS[[#This Row],[MAGASIN]],I$3:I10,"LIVRAISON") -> 11000
F11: PRODUIT 3 | G11: NAVIRE 4 | H11: MAG 2 | I11: RECEPTION | J11: 220000 | M11: =IF(MOUVEMENTS[[#This Row],[MOUVEMENT]]="RECEPTION",MOUVEMENTS[[#This Row],[QUANTITE]]-MOUVEMENTS[[#This Row],[DECHIRE]]-MOUVEMENTS[[#This Row],[MOUILLE]],IF(MOUVEMENTS[[#This Row],[MOUVEMENT]]="LIVRAISON",MOUVEMENTS[[#This Row],[QUANTITE]],0)) -> 220000 | N11: =SUMIFS(J$3:J11,F$3:F11,MOUVEMENTS[[#This Row],[PRODUIT]],G$3:G11,MOUVEMENTS[[#This Row],[NAVIRE]],H$3:H11,MOUVEMENTS[[#This Row],[MAGASIN]],I$3:I11,"RECEPTION")-SUMIFS(J$3:J11,F$3:F11,MOUVEMENTS[[#This Row],[PRODUIT]],G$3:G11,MOUVEMENTS[[#This Row],[NAVIRE]],H$3:H11,MOUVEMENTS[[#This Row],[MAGASIN]],I$3:I11,"LIVRAISON") -> 220000

Sheet FICHE ELEMENTAIRE
A1: PRODUIT 1 | C1: MAG 1
A2: PRODUIT 2 | C2: MAG 2
A3: PRODUIT 3 | C3: MAG 3
A4: PRODUIT 4 | C4: MAG 4
A5: PRODUIT 5 | C5: MAG 5
A6: PRODUIT 6
A7: PRODUIT 7
A8: PRODUIT 8
A9: PRODUIT 9
A10: PRODUIT 10
A11: PRODUIT 11
A12: PRODUIT 12
A13: PRODUIT 13
A14: PRODUIT 14
A15: PRODUIT 15
A16: PRODUIT 16
