Workbook

Sheet Feuil1
B1: A | C1: B | D1: C
A2: S1 | B2: =RANDBETWEEN(0,400000) -> 108791 | C2: =RANDBETWEEN(0,400000) -> 305024 | D2: =RANDBETWEEN(0,400000) -> 49470
B3: 9 | C3: 18 | D3: 0
A4: S2 | B4: =RANDBETWEEN(0,400000) -> 94299 | C4: =RANDBETWEEN(0,400000) -> 23188 | D4: =RANDBETWEEN(0,400000) -> 169281
B5: 0 | C5: 9 | D5: 18
A6: S3 | B6: =RANDBETWEEN(0,400000) -> 232392 | C6: =RANDBETWEEN(0,400000) -> 196765 | D6: =RANDBETWEEN(0,400000) -> 110089
B7: 18 | C7: 0 | D7: 9
A8: S4 | B8: =RANDBETWEEN(0,400000) -> 239137 | C8: =RANDBETWEEN(0,400000) -> 327430 | D8: =RANDBETWEEN(0,400000) -> 256827
B9: 9 | C9: 9 | D9: 9
A10: S5 | B10: =RANDBETWEEN(0,400000) -> 191804 | C10: =RANDBETWEEN(0,400000) -> 187203 | D10: =RANDBETWEEN(0,400000) -> 127389
B11: 18 | C11: 9 | D11: 0

Sheet Feuil2
A1: =INDIRECT("feuil1!A"&(COLUMN()*2)) -> S1 | B1: =INDIRECT("feuil1!A"&(COLUMN()*2)) -> S2 | C1: =INDIRECT("feuil1!A"&(COLUMN()*2)) -> S3 | D1: =INDIRECT("feuil1!A"&(COLUMN()*2)) -> S4 | E1: =INDIRECT("feuil1!A"&(COLUMN()*2)) -> S5
A2: =INDIRECT(ADDRESS(MATCH(A$1,Feuil1!$A$1:$A$10,0)+1,ROW(),,1,"Feuil1")) -> 9 | B2: =INDIRECT(ADDRESS(MATCH(B$1,Feuil1!$A$1:$A$10,0)+1,ROW(),,1,"Feuil1")) -> 0 | C2: =INDIRECT(ADDRESS(MATCH(C$1,Feuil1!$A$1:$A$10,0)+1,ROW(),,1,"Feuil1")) -> 18 | D2: =INDIRECT(ADDRESS(MATCH(D$1,Feuil1!$A$1:$A$10,0)+1,ROW(),,1,"Feuil1")) -> 9 | E2: =INDIRECT(ADDRESS(MATCH(E$1,Feuil1!$A$1:$A$10,0)+1,ROW(),,1,"Feuil1")) -> 18
A3: =INDIRECT(ADDRESS(MATCH(A$1,Feuil1!$A$1:$A$10,0)+1,ROW(),,1,"Feuil1")) -> 18 | B3: =INDIRECT(ADDRESS(MATCH(B$1,Feuil1!$A$1:$A$10,0)+1,ROW(),,1,"Feuil1")) -> 9 | C3: =INDIRECT(ADDRESS(MATCH(C$1,Feuil1!$A$1:$A$10,0)+1,ROW(),,1,"Feuil1")) -> 0 | D3: =INDIRECT(ADDRESS(MATCH(D$1,Feuil1!$A$1:$A$10,0)+1,ROW(),,1,"Feuil1")) -> 9 | E3: =INDIRECT(ADDRESS(MATCH(E$1,Feuil1!$A$1:$A$10,0)+1,ROW(),,1,"Feuil1")) -> 9
A4: =INDIRECT(ADDRESS(MATCH(A$1,Feuil1!$A$1:$A$10,0)+1,ROW(),,1,"Feuil1")) -> 0 | B4: =INDIRECT(ADDRESS(MATCH(B$1,Feuil1!$A$1:$A$10,0)+1,ROW(),,1,"Feuil1")) -> 18 | C4: =INDIRECT(ADDRESS(MATCH(C$1,Feuil1!$A$1:$A$10,0)+1,ROW(),,1,"Feuil1")) -> 9 | D4: =INDIRECT(ADDRESS(MATCH(D$1,Feuil1!$A$1:$A$10,0)+1,ROW(),,1,"Feuil1")) -> 9 | E4: =INDIRECT(ADDRESS(MATCH(E$1,Feuil1!$A$1:$A$10,0)+1,ROW(),,1,"Feuil1")) -> 0
