Workbook

Sheet Sheet1
A1: Référence | B1: Code article
A2: 0003156 | B2: 1G501000 | C2: =TRIM(B2) -> 1G501000
A3: 0003157 | B3: 1G502000 | C3: =TRIM(B3) -> 1G502000
A4: 0003464 | B4: 1G511000 | C4: =TRIM(B4) -> 1G511000
A5: 0003397 | B5: 1G521000 | C5: =TRIM(B5) -> 1G521000
A6: 0003398 | B6: 1G522000 | C6: =TRIM(B6) -> 1G522000
A7: 0003465 | B7: 1G533000 | C7: =TRIM(B7) -> 1G533000
A8: 0002677 | B8: 1G534000 | C8: =TRIM(B8) -> 1G534000
A9: 0003476 | B9: 1G541000 | C9: =TRIM(B9) -> 1G541000
A10: 0003477 | B10: 1G542000 | C10: =TRIM(B10) -> 1G542000
A11: 0002678 | B11: 1G553000 | C11: =TRIM(B11) -> 1G553000
A12: 0003094 | B12: 1G554000 | C12: =TRIM(B12) -> 1G554000
A13: 0003125 | B13: 1G563000 | C13: =TRIM(B13) -> 1G563000
... A351: 0010976 | B351: SKA20440 | C351: =TRIM(B351) -> SKA20440

Sheet SUDELEC 
A1: Famille artice | B1: Référence | C1: Code article | D1: Quantité théorique | E1: COMPTAGE | F1: Besoin pour OFs
A2: 03_PD | B2: =IF(ISERROR(MATCH(G2,Sheet1!C$1:C$351,0)),"",INDIRECT("Sheet1!A"&MATCH(G2,Sheet1!C$1:C$351,0),1)) -> 0009955 | C2: 1DS53000 | D2: 1448 | G2: =TRIM(C2) -> 1DS53000
A3: 03_PD | B3: =IF(ISERROR(MATCH(G3,Sheet1!C$1:C$351,0)),"",INDIRECT("Sheet1!A"&MATCH(G3,Sheet1!C$1:C$351,0),1)) -> 0003397 | C3: 1G521000 | D3: 80 | G3: =TRIM(C3) -> 1G521000
A4: 03_PD | B4: =IF(ISERROR(MATCH(G4,Sheet1!C$1:C$351,0)),"",INDIRECT("Sheet1!A"&MATCH(G4,Sheet1!C$1:C$351,0),1)) -> 0002677 | C4: 1G534000 | D4: 4649 | G4: =TRIM(C4) -> 1G534000
A5: 03_PD | B5: =IF(ISERROR(MATCH(G5,Sheet1!C$1:C$351,0)),"",INDIRECT("Sheet1!A"&MATCH(G5,Sheet1!C$1:C$351,0),1)) -> 0003476 | C5: 1G541000 | D5: 1276 | G5: =TRIM(C5) -> 1G541000
A6: 03_PD | B6: =IF(ISERROR(MATCH(G6,Sheet1!C$1:C$351,0)),"",INDIRECT("Sheet1!A"&MATCH(G6,Sheet1!C$1:C$351,0),1)) -> 0003477 | C6: 1G542000 | D6: 412 | G6: =TRIM(C6) -> 1G542000
A7: 03_PD | B7: =IF(ISERROR(MATCH(G7,Sheet1!C$1:C$351,0)),"",INDIRECT("Sheet1!A"&MATCH(G7,Sheet1!C$1:C$351,0),1)) -> 0002678 | C7: 1G553000 | D7: 6225 | G7: =TRIM(C7) -> 1G553000
A8: 03_PD | B8: =IF(ISERROR(MATCH(G8,Sheet1!C$1:C$351,0)),"",INDIRECT("Sheet1!A"&MATCH(G8,Sheet1!C$1:C$351,0),1)) -> 0003094 | C8: 1G554000 | D8: 1303 | G8: =TRIM(C8) -> 1G554000
A9: 03_PD | B9: =IF(ISERROR(MATCH(G9,Sheet1!C$1:C$351,0)),"",INDIRECT("Sheet1!A"&MATCH(G9,Sheet1!C$1:C$351,0),1)) -> 0003126 | C9: 1G564000 | D9: 448 | G9: =TRIM(C9) -> 1G564000
A10: 03_PD | B10: =IF(ISERROR(MATCH(G10,Sheet1!C$1:C$351,0)),"",INDIRECT("Sheet1!A"&MATCH(G10,Sheet1!C$1:C$351,0),1)) -> 0004755 | C10: 1G574000 | D10: 370 | G10: =TRIM(C10) -> 1G574000
A11: 03_PD | B11: =IF(ISERROR(MATCH(G11,Sheet1!C$1:C$351,0)),"",INDIRECT("Sheet1!A"&MATCH(G11,Sheet1!C$1:C$351,0),1)) -> 0008797 | C11: 1K501000 | D11: 1553 | G11: =TRIM(C11) -> 1K501000
A12: 03_PD | B12: =IF(ISERROR(MATCH(G12,Sheet1!C$1:C$351,0)),"",INDIRECT("Sheet1!A"&MATCH(G12,Sheet1!C$1:C$351,0),1)) -> 0008798 | C12: 1L581000 | D12: 864 | G12: =TRIM(C12) -> 1L581000
A13: 03_PC | B13: =IF(ISERROR(MATCH(G13,Sheet1!C$1:C$351,0)),"",INDIRECT("Sheet1!A"&MATCH(G13,Sheet1!C$1:C$351,0),1)) -> 0008893 | C13: 1L582000 | D13: 2002 | G13: =TRIM(C13) -> 1L582000
... A238: 04_PD | B238: =IF(ISERROR(MATCH(G238,Sheet1!C$1:C$351,0)),"",INDIRECT("Sheet1!A"&MATCH(G238,Sheet1!C$1:C$351,0),1)) -> 0009488 | C238: AJ211314 | D238: 680 | G238: =TRIM(C238) -> AJ211314
