Workbook

Sheet Saison 2017-18
A1: NOM PRENOM | B1: Ref Photos | C1: PHOTO | D1: DATE DE NAISSANCE | E1: AGE | F1: ADRESSE POSTALE | G1: ADRESSE EMAIL | H1: TELEPHONE | I1: Membres Comité | J1: Section Sport et Loisirs | K1: Section Theatre | L1: Section Enfants | M1: Section Autre Membres
A2: BIDULE | D2: 32247 | F2: rue du truc | G2: truc@chos.fr | H2: 06-06-06-06-06 | J2: =ROW() -> 2 | L2: =ROW() -> 2
A3: MACHIN | D3: 19979 | F3: rue des choses | G3: truc@machi.com | H3: 07-07-07-07-07 | K3: =ROW() -> 3
A4: CHOUETTE | D4: 36020 | F4: rue des pigeons | G4: due@bicu.com | H4: 06-07-00-08-06 | L4: =ROW() -> 4 | M4: =ROW() -> 4
A5: TRUC | D5: 29942 | F5: rue des cornichons | G5: set@chose.fr | H5: 06-05-05-55-55 | J5: =ROW() -> 5 | K5: =ROW() -> 5
A6: CHOSE | D6: 32331 | F6: rue des prés | G6: Decro@dzgfze.fr | H6: 07-55-55-55-55 | J6: =ROW() -> 6 | M6: =ROW() -> 6

Sheet Sport & Loisirs
A1: SECTION SPORT ET LOISIRS
A2: =IFERROR(SMALL('Saison 2017-18'!J$1:J$25,ROW()-1),"") -> 2 | B2: =IF(INDIRECT("'Saison 2017-18'!A"&$A2,1)="","",IFERROR(INDIRECT("'Saison 2017-18'!A"&$A2,1),"")) -> BIDULE | C2: =IF(INDIRECT("'Saison 2017-18'!B"&$A2,1)="","",IFERROR(INDIRECT("'Saison 2017-18'!B"&$A2,1),"")) | D2: =IF(INDIRECT("'Saison 2017-18'!C"&$A2,1)="","",IFERROR(INDIRECT("'Saison 2017-18'!C"&$A2,1),"")) | E2: =IF(INDIRECT("'Saison 2017-18'!D"&$A2,1)="","",IFERROR(INDIRECT("'Saison 2017-18'!D"&$A2,1),"")) -> 32247 | F2: =IF(INDIRECT("'Saison 2017-18'!E"&$A2,1)="","",IFERROR(INDIRECT("'Saison 2017-18'!E"&$A2,1),"")) | G2: =IF(INDIRECT("'Saison 2017-18'!F"&$A2,1)="","",IFERROR(INDIRECT("'Saison 2017-18'!F"&$A2,1),"")) -> rue du truc | H2: =IF(INDIRECT("'Saison 2017-18'!G"&$A2,1)="","",IFERROR(INDIRECT("'Saison 2017-18'!G"&$A2,1),"")) -> truc@chos.fr | I2: =IF(INDIRECT("'Saison 2017-18'!H"&$A2,1)="","",IFERROR(INDIRECT("'Saison 2017-18'!H"&$A2,1),"")) -> 06-06-06-06-06
A3: =IFERROR(SMALL('Saison 2017-18'!J$1:J$25,ROW()-1),"") -> 5 | B3: =IF(INDIRECT("'Saison 2017-18'!A"&$A3,1)="","",IFERROR(INDIRECT("'Saison 2017-18'!A"&$A3,1),"")) -> TRUC | C3: =IF(INDIRECT("'Saison 2017-18'!B"&$A3,1)="","",IFERROR(INDIRECT("'Saison 2017-18'!B"&$A3,1),"")) | D3: =IF(INDIRECT("'Saison 2017-18'!C"&$A3,1)="","",IFERROR(INDIRECT("'Saison 2017-18'!C"&$A3,1),"")) | E3: =IF(INDIRECT("'Saison 2017-18'!D"&$A3,1)="","",IFERROR(INDIRECT("'Saison 2017-18'!D"&$A3,1),"")) -> 29942 | F3: =IF(INDIRECT("'Saison 2017-18'!E"&$A3,1)="","",IFERROR(INDIRECT("'Saison 2017-18'!E"&$A3,1),"")) | G3: =IF(INDIRECT("'Saison 2017-18'!F"&$A3,1)="","",IFERROR(INDIRECT("'Saison 2017-18'!F"&$A3,1),"")) -> rue des cornichons | H3: =IF(INDIRECT("'Saison 2017-18'!G"&$A3,1)="","",IFERROR(INDIRECT("'Saison 2017-18'!G"&$A3,1),"")) -> set@chose.fr | I3: =IF(INDIRECT("'Saison 2017-18'!H"&$A3,1)="","",IFERROR(INDIRECT("'Saison 2017-18'!H"&$A3,1),"")) -> 06-05-05-55-55
A4: =IFERROR(SMALL('Saison 2017-18'!J$1:J$25,ROW()-1),"") -> 6 | B4: =IF(INDIRECT("'Saison 2017-18'!A"&$A4,1)="","",IFERROR(INDIRECT("'Saison 2017-18'!A"&$A4,1),"")) -> CHOSE | C4: =IF(INDIRECT("'Saison 2017-18'!B"&$A4,1)="","",IFERROR(INDIRECT("'Saison 2017-18'!B"&$A4,1),"")) | D4: =IF(INDIRECT("'Saison 2017-18'!C"&$A4,1)="","",IFERROR(INDIRECT("'Saison 2017-18'!C"&$A4,1),"")) | E4: =IF(INDIRECT("'Saison 2017-18'!D"&$A4,1)="","",IFERROR(INDIRECT("'Saison 2017-18'!D"&$A4,1),"")) -> 32331 | F4: =IF(INDIRECT("'Saison 2017-18'!E"&$A4,1)="","",IFERROR(INDIRECT("'Saison 2017-18'!E"&$A4,1),"")) | G4: =IF(INDIRECT("'Saison 2017-18'!F"&$A4,1)="","",IFERROR(INDIRECT("'Saison 2017-18'!F"&$A4,1),"")) -> rue des prés | H4: =IF(INDIRECT("'Saison 2017-18'!G"&$A4,1)="","",IFERROR(INDIRECT("'Saison 2017-18'!G"&$A4,1),"")) -> Decro@dzgfze.fr | I4: =IF(INDIRECT("'Saison 2017-18'!H"&$A4,1)="","",IFERROR(INDIRECT("'Saison 2017-18'!H"&$A4,1),"")) -> 07-55-55-55-55
A5: =IFERROR(SMALL('Saison 2017-18'!J$1:J$25,ROW()-1),"") | B5: =IF(INDIRECT("'Saison 2017-18'!A"&$A5,1)="","",IFERROR(INDIRECT("'Saison 2017-18'!A"&$A5,1),"")) | C5: =IF(INDIRECT("'Saison 2017-18'!B"&$A5,1)="","",IFERROR(INDIRECT("'Saison 2017-18'!B"&$A5,1),"")) | D5: =IF(INDIRECT("'Saison 2017-18'!C"&$A5,1)="","",IFERROR(INDIRECT("'Saison 2017-18'!C"&$A5,1),"")) | E5: =IF(INDIRECT("'Saison 2017-18'!D"&$A5,1)="","",IFERROR(INDIRECT("'Saison 2017-18'!D"&$A5,1),"")) | F5: =IF(INDIRECT("'Saison 2017-18'!E"&$A5,1)="","",IFERROR(INDIRECT("'Saison 2017-18'!E"&$A5,1),"")) | G5: =IF(INDIRECT("'Saison 2017-18'!F"&$A5,1)="","",IFERROR(INDIRECT("'Saison 2017-18'!F"&$A5,1),"")) | H5: =IF(INDIRECT("'Saison 2017-18'!G"&$A5,1)="","",IFERROR(INDIRECT("'Saison 2017-18'!G"&$A5,1),"")) | I5: =IF(INDIRECT("'Saison 2017-18'!H"&$A5,1)="","",IFERROR(INDIRECT("'Saison 2017-18'!H"&$A5,1),"")) | J5: =IFERROR(INDIRECT("'Saison 2017-18'!I"&$A5,1),"")
A6: =IFERROR(SMALL('Saison 2017-18'!J$1:J$25,ROW()-1),"") | B6: =IF(INDIRECT("'Saison 2017-18'!A"&$A6,1)="","",IFERROR(INDIRECT("'Saison 2017-18'!A"&$A6,1),"")) | C6: =IF(INDIRECT("'Saison 2017-18'!B"&$A6,1)="","",IFERROR(INDIRECT("'Saison 2017-18'!B"&$A6,1),"")) | D6: =IF(INDIRECT("'Saison 2017-18'!C"&$A6,1)="","",IFERROR(INDIRECT("'Saison 2017-18'!C"&$A6,1),"")) | E6: =IF(INDIRECT("'Saison 2017-18'!D"&$A6,1)="","",IFERROR(INDIRECT("'Saison 2017-18'!D"&$A6,1),"")) | F6: =IF(INDIRECT("'Saison 2017-18'!E"&$A6,1)="","",IFERROR(INDIRECT("'Saison 2017-18'!E"&$A6,1),"")) | G6: =IF(INDIRECT("'Saison 2017-18'!F"&$A6,1)="","",IFERROR(INDIRECT("'Saison 2017-18'!F"&$A6,1),"")) | H6: =IF(INDIRECT("'Saison 2017-18'!G"&$A6,1)="","",IFERROR(INDIRECT("'Saison 2017-18'!G"&$A6,1),"")) | I6: =IF(INDIRECT("'Saison 2017-18'!H"&$A6,1)="","",IFERROR(INDIRECT("'Saison 2017-18'!H"&$A6,1),"")) | J6: =IFERROR(INDIRECT("'Saison 2017-18'!I"&$A6,1),"")
A7: =IFERROR(SMALL('Saison 2017-18'!J$1:J$25,ROW()-1),"") | B7: =IF(INDIRECT("'Saison 2017-18'!A"&$A7,1)="","",IFERROR(INDIRECT("'Saison 2017-18'!A"&$A7,1),"")) | C7: =IF(INDIRECT("'Saison 2017-18'!B"&$A7,1)="","",IFERROR(INDIRECT("'Saison 2017-18'!B"&$A7,1),"")) | D7: =IF(INDIRECT("'Saison 2017-18'!C"&$A7,1)="","",IFERROR(INDIRECT("'Saison 2017-18'!C"&$A7,1),"")) | E7: =IF(INDIRECT("'Saison 2017-18'!D"&$A7,1)="","",IFERROR(INDIRECT("'Saison 2017-18'!D"&$A7,1),"")) | F7: =IF(INDIRECT("'Saison 2017-18'!E"&$A7,1)="","",IFERROR(INDIRECT("'Saison 2017-18'!E"&$A7,1),"")) | G7: =IF(INDIRECT("'Saison 2017-18'!F"&$A7,1)="","",IFERROR(INDIRECT("'Saison 2017-18'!F"&$A7,1),"")) | H7: =IF(INDIRECT("'Saison 2017-18'!G"&$A7,1)="","",IFERROR(INDIRECT("'Saison 2017-18'!G"&$A7,1),"")) | I7: =IF(INDIRECT("'Saison 2017-18'!H"&$A7,1)="","",IFERROR(INDIRECT("'Saison 2017-18'!H"&$A7,1),"")) | J7: =IFERROR(INDIRECT("'Saison 2017-18'!I"&$A7,1),"")
A8: =IFERROR(SMALL('Saison 2017-18'!J$1:J$25,ROW()-1),"") | B8: =IF(INDIRECT("'Saison 2017-18'!A"&$A8,1)="","",IFERROR(INDIRECT("'Saison 2017-18'!A"&$A8,1),"")) | C8: =IF(INDIRECT("'Saison 2017-18'!B"&$A8,1)="","",IFERROR(INDIRECT("'Saison 2017-18'!B"&$A8,1),"")) | D8: =IF(INDIRECT("'Saison 2017-18'!C"&$A8,1)="","",IFERROR(INDIRECT("'Saison 2017-18'!C"&$A8,1),"")) | E8: =IF(INDIRECT("'Saison 2017-18'!D"&$A8,1)="","",IFERROR(INDIRECT("'Saison 2017-18'!D"&$A8,1),"")) | F8: =IF(INDIRECT("'Saison 2017-18'!E"&$A8,1)="","",IFERROR(INDIRECT("'Saison 2017-18'!E"&$A8,1),"")) | G8: =IF(INDIRECT("'Saison 2017-18'!F"&$A8,1)="","",IFERROR(INDIRECT("'Saison 2017-18'!F"&$A8,1),"")) | H8: =IF(INDIRECT("'Saison 2017-18'!G"&$A8,1)="","",IFERROR(INDIRECT("'Saison 2017-18'!G"&$A8,1),"")) | I8: =IF(INDIRECT("'Saison 2017-18'!H"&$A8,1)="","",IFERROR(INDIRECT("'Saison 2017-18'!H"&$A8,1),"")) | J8: =IFERROR(INDIRECT("'Saison 2017-18'!I"&$A8,1),"")
A9: =IFERROR(SMALL('Saison 2017-18'!J$1:J$25,ROW()-1),"") | B9: =IF(INDIRECT("'Saison 2017-18'!A"&$A9,1)="","",IFERROR(INDIRECT("'Saison 2017-18'!A"&$A9,1),"")) | C9: =IF(INDIRECT("'Saison 2017-18'!B"&$A9,1)="","",IFERROR(INDIRECT("'Saison 2017-18'!B"&$A9,1),"")) | D9: =IF(INDIRECT("'Saison 2017-18'!C"&$A9,1)="","",IFERROR(INDIRECT("'Saison 2017-18'!C"&$A9,1),"")) | E9: =IF(INDIRECT("'Saison 2017-18'!D"&$A9,1)="","",IFERROR(INDIRECT("'Saison 2017-18'!D"&$A9,1),"")) | F9: =IF(INDIRECT("'Saison 2017-18'!E"&$A9,1)="","",IFERROR(INDIRECT("'Saison 2017-18'!E"&$A9,1),"")) | G9: =IF(INDIRECT("'Saison 2017-18'!F"&$A9,1)="","",IFERROR(INDIRECT("'Saison 2017-18'!F"&$A9,1),"")) | H9: =IF(INDIRECT("'Saison 2017-18'!G"&$A9,1)="","",IFERROR(INDIRECT("'Saison 2017-18'!G"&$A9,1),"")) | I9: =IF(INDIRECT("'Saison 2017-18'!H"&$A9,1)="","",IFERROR(INDIRECT("'Saison 2017-18'!H"&$A9,1),"")) | J9: =IFERROR(INDIRECT("'Saison 2017-18'!I"&$A9,1),"")
A10: =IFERROR(SMALL('Saison 2017-18'!J$1:J$25,ROW()-1),"") | B10: =IF(INDIRECT("'Saison 2017-18'!A"&$A10,1)="","",IFERROR(INDIRECT("'Saison 2017-18'!A"&$A10,1),"")) | C10: =IF(INDIRECT("'Saison 2017-18'!B"&$A10,1)="","",IFERROR(INDIRECT("'Saison 2017-18'!B"&$A10,1),"")) | D10: =IF(INDIRECT("'Saison 2017-18'!C"&$A10,1)="","",IFERROR(INDIRECT("'Saison 2017-18'!C"&$A10,1),"")) | E10: =IF(INDIRECT("'Saison 2017-18'!D"&$A10,1)="","",IFERROR(INDIRECT("'Saison 2017-18'!D"&$A10,1),"")) | F10: =IF(INDIRECT("'Saison 2017-18'!E"&$A10,1)="","",IFERROR(INDIRECT("'Saison 2017-18'!E"&$A10,1),"")) | G10: =IF(INDIRECT("'Saison 2017-18'!F"&$A10,1)="","",IFERROR(INDIRECT("'Saison 2017-18'!F"&$A10,1),"")) | H10: =IF(INDIRECT("'Saison 2017-18'!G"&$A10,1)="","",IFERROR(INDIRECT("'Saison 2017-18'!G"&$A10,1),"")) | I10: =IF(INDIRECT("'Saison 2017-18'!H"&$A10,1)="","",IFERROR(INDIRECT("'Saison 2017-18'!H"&$A10,1),"")) | J10: =IFERROR(INDIRECT("'Saison 2017-18'!I"&$A10,1),"")
A11: =IFERROR(SMALL('Saison 2017-18'!J$1:J$25,ROW()-1),"") | B11: =IF(INDIRECT("'Saison 2017-18'!A"&$A11,1)="","",IFERROR(INDIRECT("'Saison 2017-18'!A"&$A11,1),"")) | C11: =IF(INDIRECT("'Saison 2017-18'!B"&$A11,1)="","",IFERROR(INDIRECT("'Saison 2017-18'!B"&$A11,1),"")) | D11: =IF(INDIRECT("'Saison 2017-18'!C"&$A11,1)="","",IFERROR(INDIRECT("'Saison 2017-18'!C"&$A11,1),"")) | E11: =IF(INDIRECT("'Saison 2017-18'!D"&$A11,1)="","",IFERROR(INDIRECT("'Saison 2017-18'!D"&$A11,1),"")) | F11: =IF(INDIRECT("'Saison 2017-18'!E"&$A11,1)="","",IFERROR(INDIRECT("'Saison 2017-18'!E"&$A11,1),"")) | G11: =IF(INDIRECT("'Saison 2017-18'!F"&$A11,1)="","",IFERROR(INDIRECT("'Saison 2017-18'!F"&$A11,1),"")) | H11: =IF(INDIRECT("'Saison 2017-18'!G"&$A11,1)="","",IFERROR(INDIRECT("'Saison 2017-18'!G"&$A11,1),"")) | I11: =IF(INDIRECT("'Saison 2017-18'!H"&$A11,1)="","",IFERROR(INDIRECT("'Saison 2017-18'!H"&$A11,1),"")) | J11: =IFERROR(INDIRECT("'Saison 2017-18'!I"&$A11,1),"")

Sheet Théâtre
A1: SECTION THEATRE
A2: =IFERROR(SMALL('Saison 2017-18'!K$1:K$25,ROW()-1),"") -> 3 | B2: =IF(INDIRECT("'Saison 2017-18'!A"&$A2,1)="","",IFERROR(INDIRECT("'Saison 2017-18'!A"&$A2,1),"")) -> MACHIN | C2: =IF(INDIRECT("'Saison 2017-18'!B"&$A2,1)="","",IFERROR(INDIRECT("'Saison 2017-18'!B"&$A2,1),"")) | D2: =IF(INDIRECT("'Saison 2017-18'!C"&$A2,1)="","",IFERROR(INDIRECT("'Saison 2017-18'!C"&$A2,1),"")) | E2: =IF(INDIRECT("'Saison 2017-18'!D"&$A2,1)="","",IFERROR(INDIRECT("'Saison 2017-18'!D"&$A2,1),"")) -> 19979 | F2: =IF(INDIRECT("'Saison 2017-18'!E"&$A2,1)="","",IFERROR(INDIRECT("'Saison 2017-18'!E"&$A2,1),"")) | G2: =IF(INDIRECT("'Saison 2017-18'!F"&$A2,1)="","",IFERROR(INDIRECT("'Saison 2017-18'!F"&$A2,1),"")) -> rue des choses | H2: =IF(INDIRECT("'Saison 2017-18'!G"&$A2,1)="","",IFERROR(INDIRECT("'Saison 2017-18'!G"&$A2,1),"")) -> truc@machi.com | I2: =IF(INDIRECT("'Saison 2017-18'!H"&$A2,1)="","",IFERROR(INDIRECT("'Saison 2017-18'!H"&$A2,1),"")) -> 07-07-07-07-07
A3: =IFERROR(SMALL('Saison 2017-18'!K$1:K$25,ROW()-1),"") -> 5 | B3: =IF(INDIRECT("'Saison 2017-18'!A"&$A3,1)="","",IFERROR(INDIRECT("'Saison 2017-18'!A"&$A3,1),"")) -> TRUC | C3: =IF(INDIRECT("'Saison 2017-18'!B"&$A3,1)="","",IFERROR(INDIRECT("'Saison 2017-18'!B"&$A3,1),"")) | D3: =IF(INDIRECT("'Saison 2017-18'!C"&$A3,1)="","",IFERROR(INDIRECT("'Saison 2017-18'!C"&$A3,1),"")) | E3: =IF(INDIRECT("'Saison 2017-18'!D"&$A3,1)="","",IFERROR(INDIRECT("'Saison 2017-18'!D"&$A3,1),"")) -> 29942 | F3: =IF(INDIRECT("'Saison 2017-18'!E"&$A3,1)="","",IFERROR(INDIRECT("'Saison 2017-18'!E"&$A3,1),"")) | G3: =IF(INDIRECT("'Saison 2017-18'!F"&$A3,1)="","",IFERROR(INDIRECT("'Saison 2017-18'!F"&$A3,1),"")) -> rue des cornichons | H3: =IF(INDIRECT("'Saison 2017-18'!G"&$A3,1)="","",IFERROR(INDIRECT("'Saison 2017-18'!G"&$A3,1),"")) -> set@chose.fr | I3: =IF(INDIRECT("'Saison 2017-18'!H"&$A3,1)="","",IFERROR(INDIRECT("'Saison 2017-18'!H"&$A3,1),"")) -> 06-05-05-55-55
A4: =IFERROR(SMALL('Saison 2017-18'!K$1:K$25,ROW()-1),"") | B4: =IF(INDIRECT("'Saison 2017-18'!A"&$A4,1)="","",IFERROR(INDIRECT("'Saison 2017-18'!A"&$A4,1),"")) | C4: =IF(INDIRECT("'Saison 2017-18'!B"&$A4,1)="","",IFERROR(INDIRECT("'Saison 2017-18'!B"&$A4,1),"")) | D4: =IF(INDIRECT("'Saison 2017-18'!C"&$A4,1)="","",IFERROR(INDIRECT("'Saison 2017-18'!C"&$A4,1),"")) | E4: =IF(INDIRECT("'Saison 2017-18'!D"&$A4,1)="","",IFERROR(INDIRECT("'Saison 2017-18'!D"&$A4,1),"")) | F4: =IF(INDIRECT("'Saison 2017-18'!E"&$A4,1)="","",IFERROR(INDIRECT("'Saison 2017-18'!E"&$A4,1),"")) | G4: =IF(INDIRECT("'Saison 2017-18'!F"&$A4,1)="","",IFERROR(INDIRECT("'Saison 2017-18'!F"&$A4,1),"")) | H4: =IF(INDIRECT("'Saison 2017-18'!G"&$A4,1)="","",IFERROR(INDIRECT("'Saison 2017-18'!G"&$A4,1),"")) | I4: =IF(INDIRECT("'Saison 2017-18'!H"&$A4,1)="","",IFERROR(INDIRECT("'Saison 2017-18'!H"&$A4,1),""))
A5: =IFERROR(SMALL('Saison 2017-18'!K$1:K$25,ROW()-1),"") | B5: =IF(INDIRECT("'Saison 2017-18'!A"&$A5,1)="","",IFERROR(INDIRECT("'Saison 2017-18'!A"&$A5,1),"")) | C5: =IF(INDIRECT("'Saison 2017-18'!B"&$A5,1)="","",IFERROR(INDIRECT("'Saison 2017-18'!B"&$A5,1),"")) | D5: =IF(INDIRECT("'Saison 2017-18'!C"&$A5,1)="","",IFERROR(INDIRECT("'Saison 2017-18'!C"&$A5,1),"")) | E5: =IF(INDIRECT("'Saison 2017-18'!D"&$A5,1)="","",IFERROR(INDIRECT("'Saison 2017-18'!D"&$A5,1),"")) | F5: =IF(INDIRECT("'Saison 2017-18'!E"&$A5,1)="","",IFERROR(INDIRECT("'Saison 2017-18'!E"&$A5,1),"")) | G5: =IF(INDIRECT("'Saison 2017-18'!F"&$A5,1)="","",IFERROR(INDIRECT("'Saison 2017-18'!F"&$A5,1),"")) | H5: =IF(INDIRECT("'Saison 2017-18'!G"&$A5,1)="","",IFERROR(INDIRECT("'Saison 2017-18'!G"&$A5,1),"")) | I5: =IF(INDIRECT("'Saison 2017-18'!H"&$A5,1)="","",IFERROR(INDIRECT("'Saison 2017-18'!H"&$A5,1),""))
A6: =IFERROR(SMALL('Saison 2017-18'!K$1:K$25,ROW()-1),"") | B6: =IF(INDIRECT("'Saison 2017-18'!A"&$A6,1)="","",IFERROR(INDIRECT("'Saison 2017-18'!A"&$A6,1),"")) | C6: =IF(INDIRECT("'Saison 2017-18'!B"&$A6,1)="","",IFERROR(INDIRECT("'Saison 2017-18'!B"&$A6,1),"")) | D6: =IF(INDIRECT("'Saison 2017-18'!C"&$A6,1)="","",IFERROR(INDIRECT("'Saison 2017-18'!C"&$A6,1),"")) | E6: =IF(INDIRECT("'Saison 2017-18'!D"&$A6,1)="","",IFERROR(INDIRECT("'Saison 2017-18'!D"&$A6,1),"")) | F6: =IF(INDIRECT("'Saison 2017-18'!E"&$A6,1)="","",IFERROR(INDIRECT("'Saison 2017-18'!E"&$A6,1),"")) | G6: =IF(INDIRECT("'Saison 2017-18'!F"&$A6,1)="","",IFERROR(INDIRECT("'Saison 2017-18'!F"&$A6,1),"")) | H6: =IF(INDIRECT("'Saison 2017-18'!G"&$A6,1)="","",IFERROR(INDIRECT("'Saison 2017-18'!G"&$A6,1),"")) | I6: =IF(INDIRECT("'Saison 2017-18'!H"&$A6,1)="","",IFERROR(INDIRECT("'Saison 2017-18'!H"&$A6,1),""))
A7: =IFERROR(SMALL('Saison 2017-18'!K$1:K$25,ROW()-1),"") | B7: =IF(INDIRECT("'Saison 2017-18'!A"&$A7,1)="","",IFERROR(INDIRECT("'Saison 2017-18'!A"&$A7,1),"")) | C7: =IF(INDIRECT("'Saison 2017-18'!B"&$A7,1)="","",IFERROR(INDIRECT("'Saison 2017-18'!B"&$A7,1),"")) | D7: =IF(INDIRECT("'Saison 2017-18'!C"&$A7,1)="","",IFERROR(INDIRECT("'Saison 2017-18'!C"&$A7,1),"")) | E7: =IF(INDIRECT("'Saison 2017-18'!D"&$A7,1)="","",IFERROR(INDIRECT("'Saison 2017-18'!D"&$A7,1),"")) | F7: =IF(INDIRECT("'Saison 2017-18'!E"&$A7,1)="","",IFERROR(INDIRECT("'Saison 2017-18'!E"&$A7,1),"")) | G7: =IF(INDIRECT("'Saison 2017-18'!F"&$A7,1)="","",IFERROR(INDIRECT("'Saison 2017-18'!F"&$A7,1),"")) | H7: =IF(INDIRECT("'Saison 2017-18'!G"&$A7,1)="","",IFERROR(INDIRECT("'Saison 2017-18'!G"&$A7,1),"")) | I7: =IF(INDIRECT("'Saison 2017-18'!H"&$A7,1)="","",IFERROR(INDIRECT("'Saison 2017-18'!H"&$A7,1),""))
A8: =IFERROR(SMALL('Saison 2017-18'!K$1:K$25,ROW()-1),"") | B8: =IF(INDIRECT("'Saison 2017-18'!A"&$A8,1)="","",IFERROR(INDIRECT("'Saison 2017-18'!A"&$A8,1),"")) | C8: =IF(INDIRECT("'Saison 2017-18'!B"&$A8,1)="","",IFERROR(INDIRECT("'Saison 2017-18'!B"&$A8,1),"")) | D8: =IF(INDIRECT("'Saison 2017-18'!C"&$A8,1)="","",IFERROR(INDIRECT("'Saison 2017-18'!C"&$A8,1),"")) | E8: =IF(INDIRECT("'Saison 2017-18'!D"&$A8,1)="","",IFERROR(INDIRECT("'Saison 2017-18'!D"&$A8,1),"")) | F8: =IF(INDIRECT("'Saison 2017-18'!E"&$A8,1)="","",IFERROR(INDIRECT("'Saison 2017-18'!E"&$A8,1),"")) | G8: =IF(INDIRECT("'Saison 2017-18'!F"&$A8,1)="","",IFERROR(INDIRECT("'Saison 2017-18'!F"&$A8,1),"")) | H8: =IF(INDIRECT("'Saison 2017-18'!G"&$A8,1)="","",IFERROR(INDIRECT("'Saison 2017-18'!G"&$A8,1),"")) | I8: =IF(INDIRECT("'Saison 2017-18'!H"&$A8,1)="","",IFERROR(INDIRECT("'Saison 2017-18'!H"&$A8,1),""))
A9: =IFERROR(SMALL('Saison 2017-18'!K$1:K$25,ROW()-1),"") | B9: =IF(INDIRECT("'Saison 2017-18'!A"&$A9,1)="","",IFERROR(INDIRECT("'Saison 2017-18'!A"&$A9,1),"")) | C9: =IF(INDIRECT("'Saison 2017-18'!B"&$A9,1)="","",IFERROR(INDIRECT("'Saison 2017-18'!B"&$A9,1),"")) | D9: =IF(INDIRECT("'Saison 2017-18'!C"&$A9,1)="","",IFERROR(INDIRECT("'Saison 2017-18'!C"&$A9,1),"")) | E9: =IF(INDIRECT("'Saison 2017-18'!D"&$A9,1)="","",IFERROR(INDIRECT("'Saison 2017-18'!D"&$A9,1),"")) | F9: =IF(INDIRECT("'Saison 2017-18'!E"&$A9,1)="","",IFERROR(INDIRECT("'Saison 2017-18'!E"&$A9,1),"")) | G9: =IF(INDIRECT("'Saison 2017-18'!F"&$A9,1)="","",IFERROR(INDIRECT("'Saison 2017-18'!F"&$A9,1),"")) | H9: =IF(INDIRECT("'Saison 2017-18'!G"&$A9,1)="","",IFERROR(INDIRECT("'Saison 2017-18'!G"&$A9,1),"")) | I9: =IF(INDIRECT("'Saison 2017-18'!H"&$A9,1)="","",IFERROR(INDIRECT("'Saison 2017-18'!H"&$A9,1),""))
A10: =IFERROR(SMALL('Saison 2017-18'!K$1:K$25,ROW()-1),"") | B10: =IF(INDIRECT("'Saison 2017-18'!A"&$A10,1)="","",IFERROR(INDIRECT("'Saison 2017-18'!A"&$A10,1),"")) | C10: =IF(INDIRECT("'Saison 2017-18'!B"&$A10,1)="","",IFERROR(INDIRECT("'Saison 2017-18'!B"&$A10,1),"")) | D10: =IF(INDIRECT("'Saison 2017-18'!C"&$A10,1)="","",IFERROR(INDIRECT("'Saison 2017-18'!C"&$A10,1),"")) | E10: =IF(INDIRECT("'Saison 2017-18'!D"&$A10,1)="","",IFERROR(INDIRECT("'Saison 2017-18'!D"&$A10,1),"")) | F10: =IF(INDIRECT("'Saison 2017-18'!E"&$A10,1)="","",IFERROR(INDIRECT("'Saison 2017-18'!E"&$A10,1),"")) | G10: =IF(INDIRECT("'Saison 2017-18'!F"&$A10,1)="","",IFERROR(INDIRECT("'Saison 2017-18'!F"&$A10,1),"")) | H10: =IF(INDIRECT("'Saison 2017-18'!G"&$A10,1)="","",IFERROR(INDIRECT("'Saison 2017-18'!G"&$A10,1),"")) | I10: =IF(INDIRECT("'Saison 2017-18'!H"&$A10,1)="","",IFERROR(INDIRECT("'Saison 2017-18'!H"&$A10,1),""))
A11: =IFERROR(SMALL('Saison 2017-18'!K$1:K$25,ROW()-1),"") | B11: =IF(INDIRECT("'Saison 2017-18'!A"&$A11,1)="","",IFERROR(INDIRECT("'Saison 2017-18'!A"&$A11,1),"")) | C11: =IF(INDIRECT("'Saison 2017-18'!B"&$A11,1)="","",IFERROR(INDIRECT("'Saison 2017-18'!B"&$A11,1),"")) | D11: =IF(INDIRECT("'Saison 2017-18'!C"&$A11,1)="","",IFERROR(INDIRECT("'Saison 2017-18'!C"&$A11,1),"")) | E11: =IF(INDIRECT("'Saison 2017-18'!D"&$A11,1)="","",IFERROR(INDIRECT("'Saison 2017-18'!D"&$A11,1),"")) | F11: =IF(INDIRECT("'Saison 2017-18'!E"&$A11,1)="","",IFERROR(INDIRECT("'Saison 2017-18'!E"&$A11,1),"")) | G11: =IF(INDIRECT("'Saison 2017-18'!F"&$A11,1)="","",IFERROR(INDIRECT("'Saison 2017-18'!F"&$A11,1),"")) | H11: =IF(INDIRECT("'Saison 2017-18'!G"&$A11,1)="","",IFERROR(INDIRECT("'Saison 2017-18'!G"&$A11,1),"")) | I11: =IF(INDIRECT("'Saison 2017-18'!H"&$A11,1)="","",IFERROR(INDIRECT("'Saison 2017-18'!H"&$A11,1),""))

Sheet Enfants
A1: SECTION ENFANTS
A2: =IFERROR(SMALL('Saison 2017-18'!L$1:L$25,ROW()-1),"") -> 2 | B2: =IF(INDIRECT("'Saison 2017-18'!A"&$A2,1)="","",IFERROR(INDIRECT("'Saison 2017-18'!A"&$A2,1),"")) -> BIDULE | C2: =IF(INDIRECT("'Saison 2017-18'!B"&$A2,1)="","",IFERROR(INDIRECT("'Saison 2017-18'!B"&$A2,1),"")) | D2: =IF(INDIRECT("'Saison 2017-18'!C"&$A2,1)="","",IFERROR(INDIRECT("'Saison 2017-18'!C"&$A2,1),"")) | E2: =IF(INDIRECT("'Saison 2017-18'!D"&$A2,1)="","",IFERROR(INDIRECT("'Saison 2017-18'!D"&$A2,1),"")) -> 32247 | F2: =IF(INDIRECT("'Saison 2017-18'!E"&$A2,1)="","",IFERROR(INDIRECT("'Saison 2017-18'!E"&$A2,1),"")) | G2: =IF(INDIRECT("'Saison 2017-18'!F"&$A2,1)="","",IFERROR(INDIRECT("'Saison 2017-18'!F"&$A2,1),"")) -> rue du truc | H2: =IF(INDIRECT("'Saison 2017-18'!G"&$A2,1)="","",IFERROR(INDIRECT("'Saison 2017-18'!G"&$A2,1),"")) -> truc@chos.fr | I2: =IF(INDIRECT("'Saison 2017-18'!H"&$A2,1)="","",IFERROR(INDIRECT("'Saison 2017-18'!H"&$A2,1),"")) -> 06-06-06-06-06
A3: =IFERROR(SMALL('Saison 2017-18'!L$1:L$25,ROW()-1),"") -> 4 | B3: =IF(INDIRECT("'Saison 2017-18'!A"&$A3,1)="","",IFERROR(INDIRECT("'Saison 2017-18'!A"&$A3,1),"")) -> CHOUETTE | C3: =IF(INDIRECT("'Saison 2017-18'!B"&$A3,1)="","",IFERROR(INDIRECT("'Saison 2017-18'!B"&$A3,1),"")) | D3: =IF(INDIRECT("'Saison 2017-18'!C"&$A3,1)="","",IFERROR(INDIRECT("'Saison 2017-18'!C"&$A3,1),"")) | E3: =IF(INDIRECT("'Saison 2017-18'!D"&$A3,1)="","",IFERROR(INDIRECT("'Saison 2017-18'!D"&$A3,1),"")) -> 36020 | F3: =IF(INDIRECT("'Saison 2017-18'!E"&$A3,1)="","",IFERROR(INDIRECT("'Saison 2017-18'!E"&$A3,1),"")) | G3: =IF(INDIRECT("'Saison 2017-18'!F"&$A3,1)="","",IFERROR(INDIRECT("'Saison 2017-18'!F"&$A3,1),"")) -> rue des pigeons | H3: =IF(INDIRECT("'Saison 2017-18'!G"&$A3,1)="","",IFERROR(INDIRECT("'Saison 2017-18'!G"&$A3,1),"")) -> due@bicu.com | I3: =IF(INDIRECT("'Saison 2017-18'!H"&$A3,1)="","",IFERROR(INDIRECT("'Saison 2017-18'!H"&$A3,1),"")) -> 06-07-00-08-06
A4: =IFERROR(SMALL('Saison 2017-18'!L$1:L$25,ROW()-1),"") | B4: =IF(INDIRECT("'Saison 2017-18'!A"&$A4,1)="","",IFERROR(INDIRECT("'Saison 2017-18'!A"&$A4,1),"")) | C4: =IF(INDIRECT("'Saison 2017-18'!B"&$A4,1)="","",IFERROR(INDIRECT("'Saison 2017-18'!B"&$A4,1),"")) | D4: =IF(INDIRECT("'Saison 2017-18'!C"&$A4,1)="","",IFERROR(INDIRECT("'Saison 2017-18'!C"&$A4,1),"")) | E4: =IF(INDIRECT("'Saison 2017-18'!D"&$A4,1)="","",IFERROR(INDIRECT("'Saison 2017-18'!D"&$A4,1),"")) | F4: =IF(INDIRECT("'Saison 2017-18'!E"&$A4,1)="","",IFERROR(INDIRECT("'Saison 2017-18'!E"&$A4,1),"")) | G4: =IF(INDIRECT("'Saison 2017-18'!F"&$A4,1)="","",IFERROR(INDIRECT("'Saison 2017-18'!F"&$A4,1),"")) | H4: =IF(INDIRECT("'Saison 2017-18'!G"&$A4,1)="","",IFERROR(INDIRECT("'Saison 2017-18'!G"&$A4,1),"")) | I4: =IF(INDIRECT("'Saison 2017-18'!H"&$A4,1)="","",IFERROR(INDIRECT("'Saison 2017-18'!H"&$A4,1),""))
A5: =IFERROR(SMALL('Saison 2017-18'!L$1:L$25,ROW()-1),"") | B5: =IF(INDIRECT("'Saison 2017-18'!A"&$A5,1)="","",IFERROR(INDIRECT("'Saison 2017-18'!A"&$A5,1),"")) | C5: =IF(INDIRECT("'Saison 2017-18'!B"&$A5,1)="","",IFERROR(INDIRECT("'Saison 2017-18'!B"&$A5,1),"")) | D5: =IF(INDIRECT("'Saison 2017-18'!C"&$A5,1)="","",IFERROR(INDIRECT("'Saison 2017-18'!C"&$A5,1),"")) | E5: =IF(INDIRECT("'Saison 2017-18'!D"&$A5,1)="","",IFERROR(INDIRECT("'Saison 2017-18'!D"&$A5,1),"")) | F5: =IF(INDIRECT("'Saison 2017-18'!E"&$A5,1)="","",IFERROR(INDIRECT("'Saison 2017-18'!E"&$A5,1),"")) | G5: =IF(INDIRECT("'Saison 2017-18'!F"&$A5,1)="","",IFERROR(INDIRECT("'Saison 2017-18'!F"&$A5,1),"")) | H5: =IF(INDIRECT("'Saison 2017-18'!G"&$A5,1)="","",IFERROR(INDIRECT("'Saison 2017-18'!G"&$A5,1),"")) | I5: =IF(INDIRECT("'Saison 2017-18'!H"&$A5,1)="","",IFERROR(INDIRECT("'Saison 2017-18'!H"&$A5,1),""))
A6: =IFERROR(SMALL('Saison 2017-18'!L$1:L$25,ROW()-1),"") | B6: =IF(INDIRECT("'Saison 2017-18'!A"&$A6,1)="","",IFERROR(INDIRECT("'Saison 2017-18'!A"&$A6,1),"")) | C6: =IF(INDIRECT("'Saison 2017-18'!B"&$A6,1)="","",IFERROR(INDIRECT("'Saison 2017-18'!B"&$A6,1),"")) | D6: =IF(INDIRECT("'Saison 2017-18'!C"&$A6,1)="","",IFERROR(INDIRECT("'Saison 2017-18'!C"&$A6,1),"")) | E6: =IF(INDIRECT("'Saison 2017-18'!D"&$A6,1)="","",IFERROR(INDIRECT("'Saison 2017-18'!D"&$A6,1),"")) | F6: =IF(INDIRECT("'Saison 2017-18'!E"&$A6,1)="","",IFERROR(INDIRECT("'Saison 2017-18'!E"&$A6,1),"")) | G6: =IF(INDIRECT("'Saison 2017-18'!F"&$A6,1)="","",IFERROR(INDIRECT("'Saison 2017-18'!F"&$A6,1),"")) | H6: =IF(INDIRECT("'Saison 2017-18'!G"&$A6,1)="","",IFERROR(INDIRECT("'Saison 2017-18'!G"&$A6,1),"")) | I6: =IF(INDIRECT("'Saison 2017-18'!H"&$A6,1)="","",IFERROR(INDIRECT("'Saison 2017-18'!H"&$A6,1),""))
A7: =IFERROR(SMALL('Saison 2017-18'!L$1:L$25,ROW()-1),"") | B7: =IF(INDIRECT("'Saison 2017-18'!A"&$A7,1)="","",IFERROR(INDIRECT("'Saison 2017-18'!A"&$A7,1),"")) | C7: =IF(INDIRECT("'Saison 2017-18'!B"&$A7,1)="","",IFERROR(INDIRECT("'Saison 2017-18'!B"&$A7,1),"")) | D7: =IF(INDIRECT("'Saison 2017-18'!C"&$A7,1)="","",IFERROR(INDIRECT("'Saison 2017-18'!C"&$A7,1),"")) | E7: =IF(INDIRECT("'Saison 2017-18'!D"&$A7,1)="","",IFERROR(INDIRECT("'Saison 2017-18'!D"&$A7,1),"")) | F7: =IF(INDIRECT("'Saison 2017-18'!E"&$A7,1)="","",IFERROR(INDIRECT("'Saison 2017-18'!E"&$A7,1),"")) | G7: =IF(INDIRECT("'Saison 2017-18'!F"&$A7,1)="","",IFERROR(INDIRECT("'Saison 2017-18'!F"&$A7,1),"")) | H7: =IF(INDIRECT("'Saison 2017-18'!G"&$A7,1)="","",IFERROR(INDIRECT("'Saison 2017-18'!G"&$A7,1),"")) | I7: =IF(INDIRECT("'Saison 2017-18'!H"&$A7,1)="","",IFERROR(INDIRECT("'Saison 2017-18'!H"&$A7,1),""))
A8: =IFERROR(SMALL('Saison 2017-18'!L$1:L$25,ROW()-1),"") | B8: =IF(INDIRECT("'Saison 2017-18'!A"&$A8,1)="","",IFERROR(INDIRECT("'Saison 2017-18'!A"&$A8,1),"")) | C8: =IF(INDIRECT("'Saison 2017-18'!B"&$A8,1)="","",IFERROR(INDIRECT("'Saison 2017-18'!B"&$A8,1),"")) | D8: =IF(INDIRECT("'Saison 2017-18'!C"&$A8,1)="","",IFERROR(INDIRECT("'Saison 2017-18'!C"&$A8,1),"")) | E8: =IF(INDIRECT("'Saison 2017-18'!D"&$A8,1)="","",IFERROR(INDIRECT("'Saison 2017-18'!D"&$A8,1),"")) | F8: =IF(INDIRECT("'Saison 2017-18'!E"&$A8,1)="","",IFERROR(INDIRECT("'Saison 2017-18'!E"&$A8,1),"")) | G8: =IF(INDIRECT("'Saison 2017-18'!F"&$A8,1)="","",IFERROR(INDIRECT("'Saison 2017-18'!F"&$A8,1),"")) | H8: =IF(INDIRECT("'Saison 2017-18'!G"&$A8,1)="","",IFERROR(INDIRECT("'Saison 2017-18'!G"&$A8,1),"")) | I8: =IF(INDIRECT("'Saison 2017-18'!H"&$A8,1)="","",IFERROR(INDIRECT("'Saison 2017-18'!H"&$A8,1),""))
A9: =IFERROR(SMALL('Saison 2017-18'!L$1:L$25,ROW()-1),"") | B9: =IF(INDIRECT("'Saison 2017-18'!A"&$A9,1)="","",IFERROR(INDIRECT("'Saison 2017-18'!A"&$A9,1),"")) | C9: =IF(INDIRECT("'Saison 2017-18'!B"&$A9,1)="","",IFERROR(INDIRECT("'Saison 2017-18'!B"&$A9,1),"")) | D9: =IF(INDIRECT("'Saison 2017-18'!C"&$A9,1)="","",IFERROR(INDIRECT("'Saison 2017-18'!C"&$A9,1),"")) | E9: =IF(INDIRECT("'Saison 2017-18'!D"&$A9,1)="","",IFERROR(INDIRECT("'Saison 2017-18'!D"&$A9,1),"")) | F9: =IF(INDIRECT("'Saison 2017-18'!E"&$A9,1)="","",IFERROR(INDIRECT("'Saison 2017-18'!E"&$A9,1),"")) | G9: =IF(INDIRECT("'Saison 2017-18'!F"&$A9,1)="","",IFERROR(INDIRECT("'Saison 2017-18'!F"&$A9,1),"")) | H9: =IF(INDIRECT("'Saison 2017-18'!G"&$A9,1)="","",IFERROR(INDIRECT("'Saison 2017-18'!G"&$A9,1),"")) | I9: =IF(INDIRECT("'Saison 2017-18'!H"&$A9,1)="","",IFERROR(INDIRECT("'Saison 2017-18'!H"&$A9,1),""))
A10: =IFERROR(SMALL('Saison 2017-18'!L$1:L$25,ROW()-1),"") | B10: =IF(INDIRECT("'Saison 2017-18'!A"&$A10,1)="","",IFERROR(INDIRECT("'Saison 2017-18'!A"&$A10,1),"")) | C10: =IF(INDIRECT("'Saison 2017-18'!B"&$A10,1)="","",IFERROR(INDIRECT("'Saison 2017-18'!B"&$A10,1),"")) | D10: =IF(INDIRECT("'Saison 2017-18'!C"&$A10,1)="","",IFERROR(INDIRECT("'Saison 2017-18'!C"&$A10,1),"")) | E10: =IF(INDIRECT("'Saison 2017-18'!D"&$A10,1)="","",IFERROR(INDIRECT("'Saison 2017-18'!D"&$A10,1),"")) | F10: =IF(INDIRECT("'Saison 2017-18'!E"&$A10,1)="","",IFERROR(INDIRECT("'Saison 2017-18'!E"&$A10,1),"")) | G10: =IF(INDIRECT("'Saison 2017-18'!F"&$A10,1)="","",IFERROR(INDIRECT("'Saison 2017-18'!F"&$A10,1),"")) | H10: =IF(INDIRECT("'Saison 2017-18'!G"&$A10,1)="","",IFERROR(INDIRECT("'Saison 2017-18'!G"&$A10,1),"")) | I10: =IF(INDIRECT("'Saison 2017-18'!H"&$A10,1)="","",IFERROR(INDIRECT("'Saison 2017-18'!H"&$A10,1),""))
A11: =IFERROR(SMALL('Saison 2017-18'!L$1:L$25,ROW()-1),"") | B11: =IF(INDIRECT("'Saison 2017-18'!A"&$A11,1)="","",IFERROR(INDIRECT("'Saison 2017-18'!A"&$A11,1),"")) | C11: =IF(INDIRECT("'Saison 2017-18'!B"&$A11,1)="","",IFERROR(INDIRECT("'Saison 2017-18'!B"&$A11,1),"")) | D11: =IF(INDIRECT("'Saison 2017-18'!C"&$A11,1)="","",IFERROR(INDIRECT("'Saison 2017-18'!C"&$A11,1),"")) | E11: =IF(INDIRECT("'Saison 2017-18'!D"&$A11,1)="","",IFERROR(INDIRECT("'Saison 2017-18'!D"&$A11,1),"")) | F11: =IF(INDIRECT("'Saison 2017-18'!E"&$A11,1)="","",IFERROR(INDIRECT("'Saison 2017-18'!E"&$A11,1),"")) | G11: =IF(INDIRECT("'Saison 2017-18'!F"&$A11,1)="","",IFERROR(INDIRECT("'Saison 2017-18'!F"&$A11,1),"")) | H11: =IF(INDIRECT("'Saison 2017-18'!G"&$A11,1)="","",IFERROR(INDIRECT("'Saison 2017-18'!G"&$A11,1),"")) | I11: =IF(INDIRECT("'Saison 2017-18'!H"&$A11,1)="","",IFERROR(INDIRECT("'Saison 2017-18'!H"&$A11,1),""))

Sheet Autres
A1: SECTION AUTRES MEMBRES
A2: =IFERROR(SMALL('Saison 2017-18'!M$1:M$25,ROW()-1),"") -> 4 | B2: =IF(INDIRECT("'Saison 2017-18'!A"&$A2,1)="","",IFERROR(INDIRECT("'Saison 2017-18'!A"&$A2,1),"")) -> CHOUETTE | C2: =IF(INDIRECT("'Saison 2017-18'!B"&$A2,1)="","",IFERROR(INDIRECT("'Saison 2017-18'!B"&$A2,1),"")) | D2: =IF(INDIRECT("'Saison 2017-18'!C"&$A2,1)="","",IFERROR(INDIRECT("'Saison 2017-18'!C"&$A2,1),"")) | E2: =IF(INDIRECT("'Saison 2017-18'!D"&$A2,1)="","",IFERROR(INDIRECT("'Saison 2017-18'!D"&$A2,1),"")) -> 36020 | F2: =IF(INDIRECT("'Saison 2017-18'!E"&$A2,1)="","",IFERROR(INDIRECT("'Saison 2017-18'!E"&$A2,1),"")) | G2: =IF(INDIRECT("'Saison 2017-18'!F"&$A2,1)="","",IFERROR(INDIRECT("'Saison 2017-18'!F"&$A2,1),"")) -> rue des pigeons | H2: =IF(INDIRECT("'Saison 2017-18'!G"&$A2,1)="","",IFERROR(INDIRECT("'Saison 2017-18'!G"&$A2,1),"")) -> due@bicu.com | I2: =IF(INDIRECT("'Saison 2017-18'!H"&$A2,1)="","",IFERROR(INDIRECT("'Saison 2017-18'!H"&$A2,1),"")) -> 06-07-00-08-06
A3: =IFERROR(SMALL('Saison 2017-18'!M$1:M$25,ROW()-1),"") -> 6 | B3: =IF(INDIRECT("'Saison 2017-18'!A"&$A3,1)="","",IFERROR(INDIRECT("'Saison 2017-18'!A"&$A3,1),"")) -> CHOSE | C3: =IF(INDIRECT("'Saison 2017-18'!B"&$A3,1)="","",IFERROR(INDIRECT("'Saison 2017-18'!B"&$A3,1),"")) | D3: =IF(INDIRECT("'Saison 2017-18'!C"&$A3,1)="","",IFERROR(INDIRECT("'Saison 2017-18'!C"&$A3,1),"")) | E3: =IF(INDIRECT("'Saison 2017-18'!D"&$A3,1)="","",IFERROR(INDIRECT("'Saison 2017-18'!D"&$A3,1),"")) -> 32331 | F3: =IF(INDIRECT("'Saison 2017-18'!E"&$A3,1)="","",IFERROR(INDIRECT("'Saison 2017-18'!E"&$A3,1),"")) | G3: =IF(INDIRECT("'Saison 2017-18'!F"&$A3,1)="","",IFERROR(INDIRECT("'Saison 2017-18'!F"&$A3,1),"")) -> rue des prés | H3: =IF(INDIRECT("'Saison 2017-18'!G"&$A3,1)="","",IFERROR(INDIRECT("'Saison 2017-18'!G"&$A3,1),"")) -> Decro@dzgfze.fr | I3: =IF(INDIRECT("'Saison 2017-18'!H"&$A3,1)="","",IFERROR(INDIRECT("'Saison 2017-18'!H"&$A3,1),"")) -> 07-55-55-55-55
A4: =IFERROR(SMALL('Saison 2017-18'!M$1:M$25,ROW()-1),"") | B4: =IF(INDIRECT("'Saison 2017-18'!A"&$A4,1)="","",IFERROR(INDIRECT("'Saison 2017-18'!A"&$A4,1),"")) | C4: =IF(INDIRECT("'Saison 2017-18'!B"&$A4,1)="","",IFERROR(INDIRECT("'Saison 2017-18'!B"&$A4,1),"")) | D4: =IF(INDIRECT("'Saison 2017-18'!C"&$A4,1)="","",IFERROR(INDIRECT("'Saison 2017-18'!C"&$A4,1),"")) | E4: =IF(INDIRECT("'Saison 2017-18'!D"&$A4,1)="","",IFERROR(INDIRECT("'Saison 2017-18'!D"&$A4,1),"")) | F4: =IF(INDIRECT("'Saison 2017-18'!E"&$A4,1)="","",IFERROR(INDIRECT("'Saison 2017-18'!E"&$A4,1),"")) | G4: =IF(INDIRECT("'Saison 2017-18'!F"&$A4,1)="","",IFERROR(INDIRECT("'Saison 2017-18'!F"&$A4,1),"")) | H4: =IF(INDIRECT("'Saison 2017-18'!G"&$A4,1)="","",IFERROR(INDIRECT("'Saison 2017-18'!G"&$A4,1),"")) | I4: =IF(INDIRECT("'Saison 2017-18'!H"&$A4,1)="","",IFERROR(INDIRECT("'Saison 2017-18'!H"&$A4,1),""))
A5: =IFERROR(SMALL('Saison 2017-18'!M$1:M$25,ROW()-1),"") | B5: =IF(INDIRECT("'Saison 2017-18'!A"&$A5,1)="","",IFERROR(INDIRECT("'Saison 2017-18'!A"&$A5,1),"")) | C5: =IF(INDIRECT("'Saison 2017-18'!B"&$A5,1)="","",IFERROR(INDIRECT("'Saison 2017-18'!B"&$A5,1),"")) | D5: =IF(INDIRECT("'Saison 2017-18'!C"&$A5,1)="","",IFERROR(INDIRECT("'Saison 2017-18'!C"&$A5,1),"")) | E5: =IF(INDIRECT("'Saison 2017-18'!D"&$A5,1)="","",IFERROR(INDIRECT("'Saison 2017-18'!D"&$A5,1),"")) | F5: =IF(INDIRECT("'Saison 2017-18'!E"&$A5,1)="","",IFERROR(INDIRECT("'Saison 2017-18'!E"&$A5,1),"")) | G5: =IF(INDIRECT("'Saison 2017-18'!F"&$A5,1)="","",IFERROR(INDIRECT("'Saison 2017-18'!F"&$A5,1),"")) | H5: =IF(INDIRECT("'Saison 2017-18'!G"&$A5,1)="","",IFERROR(INDIRECT("'Saison 2017-18'!G"&$A5,1),"")) | I5: =IF(INDIRECT("'Saison 2017-18'!H"&$A5,1)="","",IFERROR(INDIRECT("'Saison 2017-18'!H"&$A5,1),""))
A6: =IFERROR(SMALL('Saison 2017-18'!M$1:M$25,ROW()-1),"") | B6: =IF(INDIRECT("'Saison 2017-18'!A"&$A6,1)="","",IFERROR(INDIRECT("'Saison 2017-18'!A"&$A6,1),"")) | C6: =IF(INDIRECT("'Saison 2017-18'!B"&$A6,1)="","",IFERROR(INDIRECT("'Saison 2017-18'!B"&$A6,1),"")) | D6: =IF(INDIRECT("'Saison 2017-18'!C"&$A6,1)="","",IFERROR(INDIRECT("'Saison 2017-18'!C"&$A6,1),"")) | E6: =IF(INDIRECT("'Saison 2017-18'!D"&$A6,1)="","",IFERROR(INDIRECT("'Saison 2017-18'!D"&$A6,1),"")) | F6: =IF(INDIRECT("'Saison 2017-18'!E"&$A6,1)="","",IFERROR(INDIRECT("'Saison 2017-18'!E"&$A6,1),"")) | G6: =IF(INDIRECT("'Saison 2017-18'!F"&$A6,1)="","",IFERROR(INDIRECT("'Saison 2017-18'!F"&$A6,1),"")) | H6: =IF(INDIRECT("'Saison 2017-18'!G"&$A6,1)="","",IFERROR(INDIRECT("'Saison 2017-18'!G"&$A6,1),"")) | I6: =IF(INDIRECT("'Saison 2017-18'!H"&$A6,1)="","",IFERROR(INDIRECT("'Saison 2017-18'!H"&$A6,1),""))
A7: =IFERROR(SMALL('Saison 2017-18'!M$1:M$25,ROW()-1),"") | B7: =IF(INDIRECT("'Saison 2017-18'!A"&$A7,1)="","",IFERROR(INDIRECT("'Saison 2017-18'!A"&$A7,1),"")) | C7: =IF(INDIRECT("'Saison 2017-18'!B"&$A7,1)="","",IFERROR(INDIRECT("'Saison 2017-18'!B"&$A7,1),"")) | D7: =IF(INDIRECT("'Saison 2017-18'!C"&$A7,1)="","",IFERROR(INDIRECT("'Saison 2017-18'!C"&$A7,1),"")) | E7: =IF(INDIRECT("'Saison 2017-18'!D"&$A7,1)="","",IFERROR(INDIRECT("'Saison 2017-18'!D"&$A7,1),"")) | F7: =IF(INDIRECT("'Saison 2017-18'!E"&$A7,1)="","",IFERROR(INDIRECT("'Saison 2017-18'!E"&$A7,1),"")) | G7: =IF(INDIRECT("'Saison 2017-18'!F"&$A7,1)="","",IFERROR(INDIRECT("'Saison 2017-18'!F"&$A7,1),"")) | H7: =IF(INDIRECT("'Saison 2017-18'!G"&$A7,1)="","",IFERROR(INDIRECT("'Saison 2017-18'!G"&$A7,1),"")) | I7: =IF(INDIRECT("'Saison 2017-18'!H"&$A7,1)="","",IFERROR(INDIRECT("'Saison 2017-18'!H"&$A7,1),""))
A8: =IFERROR(SMALL('Saison 2017-18'!M$1:M$25,ROW()-1),"") | B8: =IF(INDIRECT("'Saison 2017-18'!A"&$A8,1)="","",IFERROR(INDIRECT("'Saison 2017-18'!A"&$A8,1),"")) | C8: =IF(INDIRECT("'Saison 2017-18'!B"&$A8,1)="","",IFERROR(INDIRECT("'Saison 2017-18'!B"&$A8,1),"")) | D8: =IF(INDIRECT("'Saison 2017-18'!C"&$A8,1)="","",IFERROR(INDIRECT("'Saison 2017-18'!C"&$A8,1),"")) | E8: =IF(INDIRECT("'Saison 2017-18'!D"&$A8,1)="","",IFERROR(INDIRECT("'Saison 2017-18'!D"&$A8,1),"")) | F8: =IF(INDIRECT("'Saison 2017-18'!E"&$A8,1)="","",IFERROR(INDIRECT("'Saison 2017-18'!E"&$A8,1),"")) | G8: =IF(INDIRECT("'Saison 2017-18'!F"&$A8,1)="","",IFERROR(INDIRECT("'Saison 2017-18'!F"&$A8,1),"")) | H8: =IF(INDIRECT("'Saison 2017-18'!G"&$A8,1)="","",IFERROR(INDIRECT("'Saison 2017-18'!G"&$A8,1),"")) | I8: =IF(INDIRECT("'Saison 2017-18'!H"&$A8,1)="","",IFERROR(INDIRECT("'Saison 2017-18'!H"&$A8,1),""))
A9: =IFERROR(SMALL('Saison 2017-18'!M$1:M$25,ROW()-1),"") | B9: =IF(INDIRECT("'Saison 2017-18'!A"&$A9,1)="","",IFERROR(INDIRECT("'Saison 2017-18'!A"&$A9,1),"")) | C9: =IF(INDIRECT("'Saison 2017-18'!B"&$A9,1)="","",IFERROR(INDIRECT("'Saison 2017-18'!B"&$A9,1),"")) | D9: =IF(INDIRECT("'Saison 2017-18'!C"&$A9,1)="","",IFERROR(INDIRECT("'Saison 2017-18'!C"&$A9,1),"")) | E9: =IF(INDIRECT("'Saison 2017-18'!D"&$A9,1)="","",IFERROR(INDIRECT("'Saison 2017-18'!D"&$A9,1),"")) | F9: =IF(INDIRECT("'Saison 2017-18'!E"&$A9,1)="","",IFERROR(INDIRECT("'Saison 2017-18'!E"&$A9,1),"")) | G9: =IF(INDIRECT("'Saison 2017-18'!F"&$A9,1)="","",IFERROR(INDIRECT("'Saison 2017-18'!F"&$A9,1),"")) | H9: =IF(INDIRECT("'Saison 2017-18'!G"&$A9,1)="","",IFERROR(INDIRECT("'Saison 2017-18'!G"&$A9,1),"")) | I9: =IF(INDIRECT("'Saison 2017-18'!H"&$A9,1)="","",IFERROR(INDIRECT("'Saison 2017-18'!H"&$A9,1),""))
A10: =IFERROR(SMALL('Saison 2017-18'!M$1:M$25,ROW()-1),"") | B10: =IF(INDIRECT("'Saison 2017-18'!A"&$A10,1)="","",IFERROR(INDIRECT("'Saison 2017-18'!A"&$A10,1),"")) | C10: =IF(INDIRECT("'Saison 2017-18'!B"&$A10,1)="","",IFERROR(INDIRECT("'Saison 2017-18'!B"&$A10,1),"")) | D10: =IF(INDIRECT("'Saison 2017-18'!C"&$A10,1)="","",IFERROR(INDIRECT("'Saison 2017-18'!C"&$A10,1),"")) | E10: =IF(INDIRECT("'Saison 2017-18'!D"&$A10,1)="","",IFERROR(INDIRECT("'Saison 2017-18'!D"&$A10,1),"")) | F10: =IF(INDIRECT("'Saison 2017-18'!E"&$A10,1)="","",IFERROR(INDIRECT("'Saison 2017-18'!E"&$A10,1),"")) | G10: =IF(INDIRECT("'Saison 2017-18'!F"&$A10,1)="","",IFERROR(INDIRECT("'Saison 2017-18'!F"&$A10,1),"")) | H10: =IF(INDIRECT("'Saison 2017-18'!G"&$A10,1)="","",IFERROR(INDIRECT("'Saison 2017-18'!G"&$A10,1),"")) | I10: =IF(INDIRECT("'Saison 2017-18'!H"&$A10,1)="","",IFERROR(INDIRECT("'Saison 2017-18'!H"&$A10,1),""))
A11: =IFERROR(SMALL('Saison 2017-18'!M$1:M$25,ROW()-1),"") | B11: =IF(INDIRECT("'Saison 2017-18'!A"&$A11,1)="","",IFERROR(INDIRECT("'Saison 2017-18'!A"&$A11,1),"")) | C11: =IF(INDIRECT("'Saison 2017-18'!B"&$A11,1)="","",IFERROR(INDIRECT("'Saison 2017-18'!B"&$A11,1),"")) | D11: =IF(INDIRECT("'Saison 2017-18'!C"&$A11,1)="","",IFERROR(INDIRECT("'Saison 2017-18'!C"&$A11,1),"")) | E11: =IF(INDIRECT("'Saison 2017-18'!D"&$A11,1)="","",IFERROR(INDIRECT("'Saison 2017-18'!D"&$A11,1),"")) | F11: =IF(INDIRECT("'Saison 2017-18'!E"&$A11,1)="","",IFERROR(INDIRECT("'Saison 2017-18'!E"&$A11,1),"")) | G11: =IF(INDIRECT("'Saison 2017-18'!F"&$A11,1)="","",IFERROR(INDIRECT("'Saison 2017-18'!F"&$A11,1),"")) | H11: =IF(INDIRECT("'Saison 2017-18'!G"&$A11,1)="","",IFERROR(INDIRECT("'Saison 2017-18'!G"&$A11,1),"")) | I11: =IF(INDIRECT("'Saison 2017-18'!H"&$A11,1)="","",IFERROR(INDIRECT("'Saison 2017-18'!H"&$A11,1),""))

Sheet PDI

Sheet Trésorier

Sheet Anciens Membres
