Workbook

Sheet conso réelle planning
A2: produit | C2: nombre de pate
A3: pdt 28 | C3: 10
C4: 1
C5: 1
C6: 1
A7: pdt 28 | C7: 20
C8: 1
C9: 1
C10: 1
C11: 1
B14: =A3 -> pdt 28 | C14: =A4 -> 0 | D14: =A5 -> 0 | E14: =A6 -> 0 | F14: =A7 -> pdt 28 | G14: =A8 -> 0 | H14: =A9 -> 0 | I14: =A10 -> 0 | J14: =A11 -> 0 | K14: Quantité totale | L14: unité
A15: =bdcr!A2 -> a | B15: =IFERROR(INDIRECT(ADDRESS(MATCH($A15,ingrédient,0)+1,MATCH(B$14,recette,0)+1, ,0,"bdcr"),0),"0") -> 524 | C15: =IFERROR(INDIRECT(ADDRESS(MATCH($A15,ingrédient,0)+1,MATCH(C$14,recette,0)+1, ,0,"bdcr"),0),"0") -> 0 | D15: =IFERROR(INDIRECT(ADDRESS(MATCH($A15,ingrédient,0)+1,MATCH(D$14,recette,0)+1, ,0,"bdcr"),0),"0") -> 0 | E15: =IFERROR(INDIRECT(ADDRESS(MATCH($A15,ingrédient,0)+1,MATCH(E$14,recette,0)+1, ,0,"bdcr"),0),"0") -> 0 | F15: =IFERROR(INDIRECT(ADDRESS(MATCH($A15,ingrédient,0)+1,MATCH(F$14,recette,0)+1, ,0,"bdcr"),0),"0") -> 524 | G15: =IFERROR(INDIRECT(ADDRESS(MATCH($A15,ingrédient,0)+1,MATCH(G$14,recette,0)+1, ,0,"bdcr"),0),"0") -> 0 | H15: =IFERROR(INDIRECT(ADDRESS(MATCH($A15,ingrédient,0)+1,MATCH(H$14,recette,0)+1, ,0,"bdcr"),0),"0") -> 0 | I15: =IFERROR(INDIRECT(ADDRESS(MATCH($A15,ingrédient,0)+1,MATCH(I$14,recette,0)+1, ,0,"bdcr"),0),"0") -> 0 | J15: =IFERROR(INDIRECT(ADDRESS(MATCH($A15,ingrédient,0)+1,MATCH(J$14,recette,0)+1, ,0,"bdcr"),0),"0") -> 0 | K15: =B15*$C$3+C15*$C$4+D15*$C$5+E15*$C$6+F15*$C$7+G15*$C$8+H15*$C$9+I15*$C$10+J15*$C$11 -> 15720 | L15: kg
A16: =bdcr!A3 -> b | B16: =IFERROR(INDIRECT(ADDRESS(MATCH($A16,ingrédient,0)+1,MATCH(B$14,recette,0)+1, ,0,"bdcr"),0),"0") -> 26.5 | C16: =IFERROR(INDIRECT(ADDRESS(MATCH($A16,ingrédient,0)+1,MATCH(C$14,recette,0)+1, ,0,"bdcr"),0),"0") -> 0 | D16: =IFERROR(INDIRECT(ADDRESS(MATCH($A16,ingrédient,0)+1,MATCH(D$14,recette,0)+1, ,0,"bdcr"),0),"0") -> 0 | E16: =IFERROR(INDIRECT(ADDRESS(MATCH($A16,ingrédient,0)+1,MATCH(E$14,recette,0)+1, ,0,"bdcr"),0),"0") -> 0 | F16: =IFERROR(INDIRECT(ADDRESS(MATCH($A16,ingrédient,0)+1,MATCH(F$14,recette,0)+1, ,0,"bdcr"),0),"0") -> 26.5 | G16: =IFERROR(INDIRECT(ADDRESS(MATCH($A16,ingrédient,0)+1,MATCH(G$14,recette,0)+1, ,0,"bdcr"),0),"0") -> 0 | H16: =IFERROR(INDIRECT(ADDRESS(MATCH($A16,ingrédient,0)+1,MATCH(H$14,recette,0)+1, ,0,"bdcr"),0),"0") -> 0 | I16: =IFERROR(INDIRECT(ADDRESS(MATCH($A16,ingrédient,0)+1,MATCH(I$14,recette,0)+1, ,0,"bdcr"),0),"0") -> 0 | J16: =IFERROR(INDIRECT(ADDRESS(MATCH($A16,ingrédient,0)+1,MATCH(J$14,recette,0)+1, ,0,"bdcr"),0),"0") -> 0 | K16: =B16*$C$3+C16*$C$4+D16*$C$5+E16*$C$6+F16*$C$7+G16*$C$8+H16*$C$9+I16*$C$10+J16*$C$11 -> 795 | L16: kg
A17: =bdcr!A4 -> c | B17: =IFERROR(INDIRECT(ADDRESS(MATCH($A17,ingrédient,0)+1,MATCH(B$14,recette,0)+1, ,0,"bdcr"),0),"0") -> 9.4 | C17: =IFERROR(INDIRECT(ADDRESS(MATCH($A17,ingrédient,0)+1,MATCH(C$14,recette,0)+1, ,0,"bdcr"),0),"0") -> 0 | D17: =IFERROR(INDIRECT(ADDRESS(MATCH($A17,ingrédient,0)+1,MATCH(D$14,recette,0)+1, ,0,"bdcr"),0),"0") -> 0 | E17: =IFERROR(INDIRECT(ADDRESS(MATCH($A17,ingrédient,0)+1,MATCH(E$14,recette,0)+1, ,0,"bdcr"),0),"0") -> 0 | F17: =IFERROR(INDIRECT(ADDRESS(MATCH($A17,ingrédient,0)+1,MATCH(F$14,recette,0)+1, ,0,"bdcr"),0),"0") -> 9.4 | G17: =IFERROR(INDIRECT(ADDRESS(MATCH($A17,ingrédient,0)+1,MATCH(G$14,recette,0)+1, ,0,"bdcr"),0),"0") -> 0 | H17: =IFERROR(INDIRECT(ADDRESS(MATCH($A17,ingrédient,0)+1,MATCH(H$14,recette,0)+1, ,0,"bdcr"),0),"0") -> 0 | I17: =IFERROR(INDIRECT(ADDRESS(MATCH($A17,ingrédient,0)+1,MATCH(I$14,recette,0)+1, ,0,"bdcr"),0),"0") -> 0 | J17: =IFERROR(INDIRECT(ADDRESS(MATCH($A17,ingrédient,0)+1,MATCH(J$14,recette,0)+1, ,0,"bdcr"),0),"0") -> 0 | K17: =B17*$C$3+C17*$C$4+D17*$C$5+E17*$C$6+F17*$C$7+G17*$C$8+H17*$C$9+I17*$C$10+J17*$C$11 -> 282 | L17: kg
A18: =bdcr!A5 -> d | B18: =IFERROR(INDIRECT(ADDRESS(MATCH($A18,ingrédient,0)+1,MATCH(B$14,recette,0)+1, ,0,"bdcr"),0),"0") -> 1.62 | C18: =IFERROR(INDIRECT(ADDRESS(MATCH($A18,ingrédient,0)+1,MATCH(C$14,recette,0)+1, ,0,"bdcr"),0),"0") -> 0 | D18: =IFERROR(INDIRECT(ADDRESS(MATCH($A18,ingrédient,0)+1,MATCH(D$14,recette,0)+1, ,0,"bdcr"),0),"0") -> 0 | E18: =IFERROR(INDIRECT(ADDRESS(MATCH($A18,ingrédient,0)+1,MATCH(E$14,recette,0)+1, ,0,"bdcr"),0),"0") -> 0 | F18: =IFERROR(INDIRECT(ADDRESS(MATCH($A18,ingrédient,0)+1,MATCH(F$14,recette,0)+1, ,0,"bdcr"),0),"0") -> 1.62 | G18: =IFERROR(INDIRECT(ADDRESS(MATCH($A18,ingrédient,0)+1,MATCH(G$14,recette,0)+1, ,0,"bdcr"),0),"0") -> 0 | H18: =IFERROR(INDIRECT(ADDRESS(MATCH($A18,ingrédient,0)+1,MATCH(H$14,recette,0)+1, ,0,"bdcr"),0),"0") -> 0 | I18: =IFERROR(INDIRECT(ADDRESS(MATCH($A18,ingrédient,0)+1,MATCH(I$14,recette,0)+1, ,0,"bdcr"),0),"0") -> 0 | J18: =IFERROR(INDIRECT(ADDRESS(MATCH($A18,ingrédient,0)+1,MATCH(J$14,recette,0)+1, ,0,"bdcr"),0),"0") -> 0 | K18: =B18*$C$3+C18*$C$4+D18*$C$5+E18*$C$6+F18*$C$7+G18*$C$8+H18*$C$9+I18*$C$10+J18*$C$11 -> 48.6 | L18: kg
A19: =bdcr!A6 -> e | B19: =IFERROR(INDIRECT(ADDRESS(MATCH($A19,ingrédient,0)+1,MATCH(B$14,recette,0)+1, ,0,"bdcr"),0),"0") -> 17.2 | C19: =IFERROR(INDIRECT(ADDRESS(MATCH($A19,ingrédient,0)+1,MATCH(C$14,recette,0)+1, ,0,"bdcr"),0),"0") -> 0 | D19: =IFERROR(INDIRECT(ADDRESS(MATCH($A19,ingrédient,0)+1,MATCH(D$14,recette,0)+1, ,0,"bdcr"),0),"0") -> 0 | E19: =IFERROR(INDIRECT(ADDRESS(MATCH($A19,ingrédient,0)+1,MATCH(E$14,recette,0)+1, ,0,"bdcr"),0),"0") -> 0 | F19: =IFERROR(INDIRECT(ADDRESS(MATCH($A19,ingrédient,0)+1,MATCH(F$14,recette,0)+1, ,0,"bdcr"),0),"0") -> 17.2 | G19: =IFERROR(INDIRECT(ADDRESS(MATCH($A19,ingrédient,0)+1,MATCH(G$14,recette,0)+1, ,0,"bdcr"),0),"0") -> 0 | H19: =IFERROR(INDIRECT(ADDRESS(MATCH($A19,ingrédient,0)+1,MATCH(H$14,recette,0)+1, ,0,"bdcr"),0),"0") -> 0 | I19: =IFERROR(INDIRECT(ADDRESS(MATCH($A19,ingrédient,0)+1,MATCH(I$14,recette,0)+1, ,0,"bdcr"),0),"0") -> 0 | J19: =IFERROR(INDIRECT(ADDRESS(MATCH($A19,ingrédient,0)+1,MATCH(J$14,recette,0)+1, ,0,"bdcr"),0),"0") -> 0 | K19: =B19*$C$3+C19*$C$4+D19*$C$5+E19*$C$6+F19*$C$7+G19*$C$8+H19*$C$9+I19*$C$10+J19*$C$11 -> 516 | L19: Litre
A20: =bdcr!A7 -> f | B20: =IFERROR(INDIRECT(ADDRESS(MATCH($A20,ingrédient,0)+1,MATCH(B$14,recette,0)+1, ,0,"bdcr"),0),"0") -> 0.41 | C20: =IFERROR(INDIRECT(ADDRESS(MATCH($A20,ingrédient,0)+1,MATCH(C$14,recette,0)+1, ,0,"bdcr"),0),"0") -> 0 | D20: =IFERROR(INDIRECT(ADDRESS(MATCH($A20,ingrédient,0)+1,MATCH(D$14,recette,0)+1, ,0,"bdcr"),0),"0") -> 0 | E20: =IFERROR(INDIRECT(ADDRESS(MATCH($A20,ingrédient,0)+1,MATCH(E$14,recette,0)+1, ,0,"bdcr"),0),"0") -> 0 | F20: =IFERROR(INDIRECT(ADDRESS(MATCH($A20,ingrédient,0)+1,MATCH(F$14,recette,0)+1, ,0,"bdcr"),0),"0") -> 0.41 | G20: =IFERROR(INDIRECT(ADDRESS(MATCH($A20,ingrédient,0)+1,MATCH(G$14,recette,0)+1, ,0,"bdcr"),0),"0") -> 0 | H20: =IFERROR(INDIRECT(ADDRESS(MATCH($A20,ingrédient,0)+1,MATCH(H$14,recette,0)+1, ,0,"bdcr"),0),"0") -> 0 | I20: =IFERROR(INDIRECT(ADDRESS(MATCH($A20,ingrédient,0)+1,MATCH(I$14,recette,0)+1, ,0,"bdcr"),0),"0") -> 0 | J20: =IFERROR(INDIRECT(ADDRESS(MATCH($A20,ingrédient,0)+1,MATCH(J$14,recette,0)+1, ,0,"bdcr"),0),"0") -> 0 | K20: =B20*$C$3+C20*$C$4+D20*$C$5+E20*$C$6+F20*$C$7+G20*$C$8+H20*$C$9+I20*$C$10+J20*$C$11 -> 12.3 | L20: kg
A21: =bdcr!A8 -> g | B21: =IFERROR(INDIRECT(ADDRESS(MATCH($A21,ingrédient,0)+1,MATCH(B$14,recette,0)+1, ,0,"bdcr"),0),"0") -> 0 | C21: =IFERROR(INDIRECT(ADDRESS(MATCH($A21,ingrédient,0)+1,MATCH(C$14,recette,0)+1, ,0,"bdcr"),0),"0") -> 0 | D21: =IFERROR(INDIRECT(ADDRESS(MATCH($A21,ingrédient,0)+1,MATCH(D$14,recette,0)+1, ,0,"bdcr"),0),"0") -> 0 | E21: =IFERROR(INDIRECT(ADDRESS(MATCH($A21,ingrédient,0)+1,MATCH(E$14,recette,0)+1, ,0,"bdcr"),0),"0") -> 0 | F21: =IFERROR(INDIRECT(ADDRESS(MATCH($A21,ingrédient,0)+1,MATCH(F$14,recette,0)+1, ,0,"bdcr"),0),"0") -> 0 | G21: =IFERROR(INDIRECT(ADDRESS(MATCH($A21,ingrédient,0)+1,MATCH(G$14,recette,0)+1, ,0,"bdcr"),0),"0") -> 0 | H21: =IFERROR(INDIRECT(ADDRESS(MATCH($A21,ingrédient,0)+1,MATCH(H$14,recette,0)+1, ,0,"bdcr"),0),"0") -> 0 | I21: =IFERROR(INDIRECT(ADDRESS(MATCH($A21,ingrédient,0)+1,MATCH(I$14,recette,0)+1, ,0,"bdcr"),0),"0") -> 0 | J21: =IFERROR(INDIRECT(ADDRESS(MATCH($A21,ingrédient,0)+1,MATCH(J$14,recette,0)+1, ,0,"bdcr"),0),"0") -> 0 | K21: =B21*$C$3+C21*$C$4+D21*$C$5+E21*$C$6+F21*$C$7+G21*$C$8+H21*$C$9+I21*$C$10+J21*$C$11 -> 0 | L21: kg
A22: =bdcr!A9 -> h | B22: =IFERROR(INDIRECT(ADDRESS(MATCH($A22,ingrédient,0)+1,MATCH(B$14,recette,0)+1, ,0,"bdcr"),0),"0") -> 10.78 | C22: =IFERROR(INDIRECT(ADDRESS(MATCH($A22,ingrédient,0)+1,MATCH(C$14,recette,0)+1, ,0,"bdcr"),0),"0") -> 0 | D22: =IFERROR(INDIRECT(ADDRESS(MATCH($A22,ingrédient,0)+1,MATCH(D$14,recette,0)+1, ,0,"bdcr"),0),"0") -> 0 | E22: =IFERROR(INDIRECT(ADDRESS(MATCH($A22,ingrédient,0)+1,MATCH(E$14,recette,0)+1, ,0,"bdcr"),0),"0") -> 0 | F22: =IFERROR(INDIRECT(ADDRESS(MATCH($A22,ingrédient,0)+1,MATCH(F$14,recette,0)+1, ,0,"bdcr"),0),"0") -> 10.78 | G22: =IFERROR(INDIRECT(ADDRESS(MATCH($A22,ingrédient,0)+1,MATCH(G$14,recette,0)+1, ,0,"bdcr"),0),"0") -> 0 | H22: =IFERROR(INDIRECT(ADDRESS(MATCH($A22,ingrédient,0)+1,MATCH(H$14,recette,0)+1, ,0,"bdcr"),0),"0") -> 0 | I22: =IFERROR(INDIRECT(ADDRESS(MATCH($A22,ingrédient,0)+1,MATCH(I$14,recette,0)+1, ,0,"bdcr"),0),"0") -> 0 | J22: =IFERROR(INDIRECT(ADDRESS(MATCH($A22,ingrédient,0)+1,MATCH(J$14,recette,0)+1, ,0,"bdcr"),0),"0") -> 0 | K22: =B22*$C$3+C22*$C$4+D22*$C$5+E22*$C$6+F22*$C$7+G22*$C$8+H22*$C$9+I22*$C$10+J22*$C$11 -> 323.4 | L22: kg
A23: =bdcr!A10 -> i | B23: =IFERROR(INDIRECT(ADDRESS(MATCH($A23,ingrédient,0)+1,MATCH(B$14,recette,0)+1, ,0,"bdcr"),0),"0") -> 1 | C23: =IFERROR(INDIRECT(ADDRESS(MATCH($A23,ingrédient,0)+1,MATCH(C$14,recette,0)+1, ,0,"bdcr"),0),"0") -> 0 | D23: =IFERROR(INDIRECT(ADDRESS(MATCH($A23,ingrédient,0)+1,MATCH(D$14,recette,0)+1, ,0,"bdcr"),0),"0") -> 0 | E23: =IFERROR(INDIRECT(ADDRESS(MATCH($A23,ingrédient,0)+1,MATCH(E$14,recette,0)+1, ,0,"bdcr"),0),"0") -> 0 | F23: =IFERROR(INDIRECT(ADDRESS(MATCH($A23,ingrédient,0)+1,MATCH(F$14,recette,0)+1, ,0,"bdcr"),0),"0") -> 1 | G23: =IFERROR(INDIRECT(ADDRESS(MATCH($A23,ingrédient,0)+1,MATCH(G$14,recette,0)+1, ,0,"bdcr"),0),"0") -> 0 | H23: =IFERROR(INDIRECT(ADDRESS(MATCH($A23,ingrédient,0)+1,MATCH(H$14,recette,0)+1, ,0,"bdcr"),0),"0") -> 0 | I23: =IFERROR(INDIRECT(ADDRESS(MATCH($A23,ingrédient,0)+1,MATCH(I$14,recette,0)+1, ,0,"bdcr"),0),"0") -> 0 | J23: =IFERROR(INDIRECT(ADDRESS(MATCH($A23,ingrédient,0)+1,MATCH(J$14,recette,0)+1, ,0,"bdcr"),0),"0") -> 0 | K23: =B23*$C$3+C23*$C$4+D23*$C$5+E23*$C$6+F23*$C$7+G23*$C$8+H23*$C$9+I23*$C$10+J23*$C$11 -> 30 | L23: kg
A24: =bdcr!A11 -> j | B24: =IFERROR(INDIRECT(ADDRESS(MATCH($A24,ingrédient,0)+1,MATCH(B$14,recette,0)+1, ,0,"bdcr"),0),"0") -> 0 | C24: =IFERROR(INDIRECT(ADDRESS(MATCH($A24,ingrédient,0)+1,MATCH(C$14,recette,0)+1, ,0,"bdcr"),0),"0") -> 0 | D24: =IFERROR(INDIRECT(ADDRESS(MATCH($A24,ingrédient,0)+1,MATCH(D$14,recette,0)+1, ,0,"bdcr"),0),"0") -> 0 | E24: =IFERROR(INDIRECT(ADDRESS(MATCH($A24,ingrédient,0)+1,MATCH(E$14,recette,0)+1, ,0,"bdcr"),0),"0") -> 0 | F24: =IFERROR(INDIRECT(ADDRESS(MATCH($A24,ingrédient,0)+1,MATCH(F$14,recette,0)+1, ,0,"bdcr"),0),"0") -> 0 | G24: =IFERROR(INDIRECT(ADDRESS(MATCH($A24,ingrédient,0)+1,MATCH(G$14,recette,0)+1, ,0,"bdcr"),0),"0") -> 0 | H24: =IFERROR(INDIRECT(ADDRESS(MATCH($A24,ingrédient,0)+1,MATCH(H$14,recette,0)+1, ,0,"bdcr"),0),"0") -> 0 | I24: =IFERROR(INDIRECT(ADDRESS(MATCH($A24,ingrédient,0)+1,MATCH(I$14,recette,0)+1, ,0,"bdcr"),0),"0") -> 0 | J24: =IFERROR(INDIRECT(ADDRESS(MATCH($A24,ingrédient,0)+1,MATCH(J$14,recette,0)+1, ,0,"bdcr"),0),"0") -> 0 | K24: =B24*$C$3+C24*$C$4+D24*$C$5+E24*$C$6+F24*$C$7+G24*$C$8+H24*$C$9+I24*$C$10+J24*$C$11 -> 0 | L24: kg
A25: =bdcr!A12 -> k | B25: =IFERROR(INDIRECT(ADDRESS(MATCH($A25,ingrédient,0)+1,MATCH(B$14,recette,0)+1, ,0,"bdcr"),0),"0") -> 0 | C25: =IFERROR(INDIRECT(ADDRESS(MATCH($A25,ingrédient,0)+1,MATCH(C$14,recette,0)+1, ,0,"bdcr"),0),"0") -> 0 | D25: =IFERROR(INDIRECT(ADDRESS(MATCH($A25,ingrédient,0)+1,MATCH(D$14,recette,0)+1, ,0,"bdcr"),0),"0") -> 0 | E25: =IFERROR(INDIRECT(ADDRESS(MATCH($A25,ingrédient,0)+1,MATCH(E$14,recette,0)+1, ,0,"bdcr"),0),"0") -> 0 | F25: =IFERROR(INDIRECT(ADDRESS(MATCH($A25,ingrédient,0)+1,MATCH(F$14,recette,0)+1, ,0,"bdcr"),0),"0") -> 0 | G25: =IFERROR(INDIRECT(ADDRESS(MATCH($A25,ingrédient,0)+1,MATCH(G$14,recette,0)+1, ,0,"bdcr"),0),"0") -> 0 | H25: =IFERROR(INDIRECT(ADDRESS(MATCH($A25,ingrédient,0)+1,MATCH(H$14,recette,0)+1, ,0,"bdcr"),0),"0") -> 0 | I25: =IFERROR(INDIRECT(ADDRESS(MATCH($A25,ingrédient,0)+1,MATCH(I$14,recette,0)+1, ,0,"bdcr"),0),"0") -> 0 | J25: =IFERROR(INDIRECT(ADDRESS(MATCH($A25,ingrédient,0)+1,MATCH(J$14,recette,0)+1, ,0,"bdcr"),0),"0") -> 0 | K25: =B25*$C$3+C25*$C$4+D25*$C$5+E25*$C$6+F25*$C$7+G25*$C$8+H25*$C$9+I25*$C$10+J25*$C$11 -> 0 | L25: kg
A26: =bdcr!A13 -> l | B26: =IFERROR(INDIRECT(ADDRESS(MATCH($A26,ingrédient,0)+1,MATCH(B$14,recette,0)+1, ,0,"bdcr"),0),"0") -> 27.5 | C26: =IFERROR(INDIRECT(ADDRESS(MATCH($A26,ingrédient,0)+1,MATCH(C$14,recette,0)+1, ,0,"bdcr"),0),"0") -> 0 | D26: =IFERROR(INDIRECT(ADDRESS(MATCH($A26,ingrédient,0)+1,MATCH(D$14,recette,0)+1, ,0,"bdcr"),0),"0") -> 0 | E26: =IFERROR(INDIRECT(ADDRESS(MATCH($A26,ingrédient,0)+1,MATCH(E$14,recette,0)+1, ,0,"bdcr"),0),"0") -> 0 | F26: =IFERROR(INDIRECT(ADDRESS(MATCH($A26,ingrédient,0)+1,MATCH(F$14,recette,0)+1, ,0,"bdcr"),0),"0") -> 27.5 | G26: =IFERROR(INDIRECT(ADDRESS(MATCH($A26,ingrédient,0)+1,MATCH(G$14,recette,0)+1, ,0,"bdcr"),0),"0") -> 0 | H26: =IFERROR(INDIRECT(ADDRESS(MATCH($A26,ingrédient,0)+1,MATCH(H$14,recette,0)+1, ,0,"bdcr"),0),"0") -> 0 | I26: =IFERROR(INDIRECT(ADDRESS(MATCH($A26,ingrédient,0)+1,MATCH(I$14,recette,0)+1, ,0,"bdcr"),0),"0") -> 0 | J26: =IFERROR(INDIRECT(ADDRESS(MATCH($A26,ingrédient,0)+1,MATCH(J$14,recette,0)+1, ,0,"bdcr"),0),"0") -> 0 | K26: =B26*$C$3+C26*$C$4+D26*$C$5+E26*$C$6+F26*$C$7+G26*$C$8+H26*$C$9+I26*$C$10+J26*$C$11 -> 825 | L26: Litre
... A37: =bdcr!A24 -> w | B37: =IFERROR(INDIRECT(ADDRESS(MATCH($A37,ingrédient,0)+1,MATCH(B$14,recette,0)+1, ,0,"bdcr"),0),"0") -> 0 | C37: =IFERROR(INDIRECT(ADDRESS(MATCH($A37,ingrédient,0)+1,MATCH(C$14,recette,0)+1, ,0,"bdcr"),0),"0") -> 0 | D37: =IFERROR(INDIRECT(ADDRESS(MATCH($A37,ingrédient,0)+1,MATCH(D$14,recette,0)+1, ,0,"bdcr"),0),"0") -> 0 | E37: =IFERROR(INDIRECT(ADDRESS(MATCH($A37,ingrédient,0)+1,MATCH(E$14,recette,0)+1, ,0,"bdcr"),0),"0") -> 0 | F37: =IFERROR(INDIRECT(ADDRESS(MATCH($A37,ingrédient,0)+1,MATCH(F$14,recette,0)+1, ,0,"bdcr"),0),"0") -> 0 | G37: =IFERROR(INDIRECT(ADDRESS(MATCH($A37,ingrédient,0)+1,MATCH(G$14,recette,0)+1, ,0,"bdcr"),0),"0") -> 0 | H37: =IFERROR(INDIRECT(ADDRESS(MATCH($A37,ingrédient,0)+1,MATCH(H$14,recette,0)+1, ,0,"bdcr"),0),"0") -> 0 | I37: =IFERROR(INDIRECT(ADDRESS(MATCH($A37,ingrédient,0)+1,MATCH(I$14,recette,0)+1, ,0,"bdcr"),0),"0") -> 0 | J37: =IFERROR(INDIRECT(ADDRESS(MATCH($A37,ingrédient,0)+1,MATCH(J$14,recette,0)+1, ,0,"bdcr"),0),"0") -> 0 | K37: =B37*$C$3+C37*$C$4+D37*$C$5+E37*$C$6+F37*$C$7+G37*$C$8+H37*$C$9+I37*$C$10+J37*$C$11 -> 0 | L37: kg
A38: =bdcr!A25 -> x | B38: =IFERROR(INDIRECT(ADDRESS(MATCH($A38,ingrédient,0)+1,MATCH(B$14,recette,0)+1, ,0,"bdcr"),0),"0") -> 0 | C38: =IFERROR(INDIRECT(ADDRESS(MATCH($A38,ingrédient,0)+1,MATCH(C$14,recette,0)+1, ,0,"bdcr"),0),"0") -> 0 | D38: =IFERROR(INDIRECT(ADDRESS(MATCH($A38,ingrédient,0)+1,MATCH(D$14,recette,0)+1, ,0,"bdcr"),0),"0") -> 0 | E38: =IFERROR(INDIRECT(ADDRESS(MATCH($A38,ingrédient,0)+1,MATCH(E$14,recette,0)+1, ,0,"bdcr"),0),"0") -> 0 | F38: =IFERROR(INDIRECT(ADDRESS(MATCH($A38,ingrédient,0)+1,MATCH(F$14,recette,0)+1, ,0,"bdcr"),0),"0") -> 0 | G38: =IFERROR(INDIRECT(ADDRESS(MATCH($A38,ingrédient,0)+1,MATCH(G$14,recette,0)+1, ,0,"bdcr"),0),"0") -> 0 | H38: =IFERROR(INDIRECT(ADDRESS(MATCH($A38,ingrédient,0)+1,MATCH(H$14,recette,0)+1, ,0,"bdcr"),0),"0") -> 0 | I38: =IFERROR(INDIRECT(ADDRESS(MATCH($A38,ingrédient,0)+1,MATCH(I$14,recette,0)+1, ,0,"bdcr"),0),"0") -> 0 | J38: =IFERROR(INDIRECT(ADDRESS(MATCH($A38,ingrédient,0)+1,MATCH(J$14,recette,0)+1, ,0,"bdcr"),0),"0") -> 0 | K38: =B38*$C$3+C38*$C$4+D38*$C$5+E38*$C$6+F38*$C$7+G38*$C$8+H38*$C$9+I38*$C$10+J38*$C$11 -> 0
A39: =bdcr!A26 -> t | B39: =IFERROR(INDIRECT(ADDRESS(MATCH($A39,ingrédient,0)+1,MATCH(B$14,recette,0)+1, ,0,"bdcr"),0),"0") -> 0 | C39: =IFERROR(INDIRECT(ADDRESS(MATCH($A39,ingrédient,0)+1,MATCH(C$14,recette,0)+1, ,0,"bdcr"),0),"0") -> 0 | D39: =IFERROR(INDIRECT(ADDRESS(MATCH($A39,ingrédient,0)+1,MATCH(D$14,recette,0)+1, ,0,"bdcr"),0),"0") -> 0 | E39: =IFERROR(INDIRECT(ADDRESS(MATCH($A39,ingrédient,0)+1,MATCH(E$14,recette,0)+1, ,0,"bdcr"),0),"0") -> 0 | F39: =IFERROR(INDIRECT(ADDRESS(MATCH($A39,ingrédient,0)+1,MATCH(F$14,recette,0)+1, ,0,"bdcr"),0),"0") -> 0 | G39: =IFERROR(INDIRECT(ADDRESS(MATCH($A39,ingrédient,0)+1,MATCH(G$14,recette,0)+1, ,0,"bdcr"),0),"0") -> 0 | H39: =IFERROR(INDIRECT(ADDRESS(MATCH($A39,ingrédient,0)+1,MATCH(H$14,recette,0)+1, ,0,"bdcr"),0),"0") -> 0 | I39: =IFERROR(INDIRECT(ADDRESS(MATCH($A39,ingrédient,0)+1,MATCH(I$14,recette,0)+1, ,0,"bdcr"),0),"0") -> 0 | J39: =IFERROR(INDIRECT(ADDRESS(MATCH($A39,ingrédient,0)+1,MATCH(J$14,recette,0)+1, ,0,"bdcr"),0),"0") -> 0 | K39: =B39*$C$3+C39*$C$4+D39*$C$5+E39*$C$6+F39*$C$7+G39*$C$8+H39*$C$9+I39*$C$10+J39*$C$11 -> 0
A40: =bdcr!A27 -> y | B40: =IFERROR(INDIRECT(ADDRESS(MATCH($A40,ingrédient,0)+1,MATCH(B$14,recette,0)+1, ,0,"bdcr"),0),"0") -> 0 | C40: =IFERROR(INDIRECT(ADDRESS(MATCH($A40,ingrédient,0)+1,MATCH(C$14,recette,0)+1, ,0,"bdcr"),0),"0") -> 0 | D40: =IFERROR(INDIRECT(ADDRESS(MATCH($A40,ingrédient,0)+1,MATCH(D$14,recette,0)+1, ,0,"bdcr"),0),"0") -> 0 | E40: =IFERROR(INDIRECT(ADDRESS(MATCH($A40,ingrédient,0)+1,MATCH(E$14,recette,0)+1, ,0,"bdcr"),0),"0") -> 0 | F40: =IFERROR(INDIRECT(ADDRESS(MATCH($A40,ingrédient,0)+1,MATCH(F$14,recette,0)+1, ,0,"bdcr"),0),"0") -> 0 | G40: =IFERROR(INDIRECT(ADDRESS(MATCH($A40,ingrédient,0)+1,MATCH(G$14,recette,0)+1, ,0,"bdcr"),0),"0") -> 0 | H40: =IFERROR(INDIRECT(ADDRESS(MATCH($A40,ingrédient,0)+1,MATCH(H$14,recette,0)+1, ,0,"bdcr"),0),"0") -> 0 | I40: =IFERROR(INDIRECT(ADDRESS(MATCH($A40,ingrédient,0)+1,MATCH(I$14,recette,0)+1, ,0,"bdcr"),0),"0") -> 0 | J40: =IFERROR(INDIRECT(ADDRESS(MATCH($A40,ingrédient,0)+1,MATCH(J$14,recette,0)+1, ,0,"bdcr"),0),"0") -> 0 | K40: =B40*$C$3+C40*$C$4+D40*$C$5+E40*$C$6+F40*$C$7+G40*$C$8+H40*$C$9+I40*$C$10+J40*$C$11 -> 0
A41: =bdcr!A28 -> aa | B41: =IFERROR(INDIRECT(ADDRESS(MATCH($A41,ingrédient,0)+1,MATCH(B$14,recette,0)+1, ,0,"bdcr"),0),"0") -> 0 | C41: =IFERROR(INDIRECT(ADDRESS(MATCH($A41,ingrédient,0)+1,MATCH(C$14,recette,0)+1, ,0,"bdcr"),0),"0") -> 0 | D41: =IFERROR(INDIRECT(ADDRESS(MATCH($A41,ingrédient,0)+1,MATCH(D$14,recette,0)+1, ,0,"bdcr"),0),"0") -> 0 | E41: =IFERROR(INDIRECT(ADDRESS(MATCH($A41,ingrédient,0)+1,MATCH(E$14,recette,0)+1, ,0,"bdcr"),0),"0") -> 0 | F41: =IFERROR(INDIRECT(ADDRESS(MATCH($A41,ingrédient,0)+1,MATCH(F$14,recette,0)+1, ,0,"bdcr"),0),"0") -> 0 | G41: =IFERROR(INDIRECT(ADDRESS(MATCH($A41,ingrédient,0)+1,MATCH(G$14,recette,0)+1, ,0,"bdcr"),0),"0") -> 0 | H41: =IFERROR(INDIRECT(ADDRESS(MATCH($A41,ingrédient,0)+1,MATCH(H$14,recette,0)+1, ,0,"bdcr"),0),"0") -> 0 | I41: =IFERROR(INDIRECT(ADDRESS(MATCH($A41,ingrédient,0)+1,MATCH(I$14,recette,0)+1, ,0,"bdcr"),0),"0") -> 0 | J41: =IFERROR(INDIRECT(ADDRESS(MATCH($A41,ingrédient,0)+1,MATCH(J$14,recette,0)+1, ,0,"bdcr"),0),"0") -> 0 | K41: =B41*$C$3+C41*$C$4+D41*$C$5+E41*$C$6+F41*$C$7+G41*$C$8+H41*$C$9+I41*$C$10+J41*$C$11 -> 0
A42: =bdcr!A29 -> ab | B42: =IFERROR(INDIRECT(ADDRESS(MATCH($A42,ingrédient,0)+1,MATCH(B$14,recette,0)+1, ,0,"bdcr"),0),"0") -> 0 | C42: =IFERROR(INDIRECT(ADDRESS(MATCH($A42,ingrédient,0)+1,MATCH(C$14,recette,0)+1, ,0,"bdcr"),0),"0") -> 0 | D42: =IFERROR(INDIRECT(ADDRESS(MATCH($A42,ingrédient,0)+1,MATCH(D$14,recette,0)+1, ,0,"bdcr"),0),"0") -> 0 | E42: =IFERROR(INDIRECT(ADDRESS(MATCH($A42,ingrédient,0)+1,MATCH(E$14,recette,0)+1, ,0,"bdcr"),0),"0") -> 0 | F42: =IFERROR(INDIRECT(ADDRESS(MATCH($A42,ingrédient,0)+1,MATCH(F$14,recette,0)+1, ,0,"bdcr"),0),"0") -> 0 | G42: =IFERROR(INDIRECT(ADDRESS(MATCH($A42,ingrédient,0)+1,MATCH(G$14,recette,0)+1, ,0,"bdcr"),0),"0") -> 0 | H42: =IFERROR(INDIRECT(ADDRESS(MATCH($A42,ingrédient,0)+1,MATCH(H$14,recette,0)+1, ,0,"bdcr"),0),"0") -> 0 | I42: =IFERROR(INDIRECT(ADDRESS(MATCH($A42,ingrédient,0)+1,MATCH(I$14,recette,0)+1, ,0,"bdcr"),0),"0") -> 0 | J42: =IFERROR(INDIRECT(ADDRESS(MATCH($A42,ingrédient,0)+1,MATCH(J$14,recette,0)+1, ,0,"bdcr"),0),"0") -> 0 | K42: =B42*$C$3+C42*$C$4+D42*$C$5+E42*$C$6+F42*$C$7+G42*$C$8+H42*$C$9+I42*$C$10+J42*$C$11 -> 0 | L42: kg
A43: =bdcr!A30 -> ac | B43: =IFERROR(INDIRECT(ADDRESS(MATCH($A43,ingrédient,0)+1,MATCH(B$14,recette,0)+1, ,0,"bdcr"),0),"0") -> 0 | C43: =IFERROR(INDIRECT(ADDRESS(MATCH($A43,ingrédient,0)+1,MATCH(C$14,recette,0)+1, ,0,"bdcr"),0),"0") -> 0 | D43: =IFERROR(INDIRECT(ADDRESS(MATCH($A43,ingrédient,0)+1,MATCH(D$14,recette,0)+1, ,0,"bdcr"),0),"0") -> 0 | E43: =IFERROR(INDIRECT(ADDRESS(MATCH($A43,ingrédient,0)+1,MATCH(E$14,recette,0)+1, ,0,"bdcr"),0),"0") -> 0 | F43: =IFERROR(INDIRECT(ADDRESS(MATCH($A43,ingrédient,0)+1,MATCH(F$14,recette,0)+1, ,0,"bdcr"),0),"0") -> 0 | G43: =IFERROR(INDIRECT(ADDRESS(MATCH($A43,ingrédient,0)+1,MATCH(G$14,recette,0)+1, ,0,"bdcr"),0),"0") -> 0 | H43: =IFERROR(INDIRECT(ADDRESS(MATCH($A43,ingrédient,0)+1,MATCH(H$14,recette,0)+1, ,0,"bdcr"),0),"0") -> 0 | I43: =IFERROR(INDIRECT(ADDRESS(MATCH($A43,ingrédient,0)+1,MATCH(I$14,recette,0)+1, ,0,"bdcr"),0),"0") -> 0 | J43: =IFERROR(INDIRECT(ADDRESS(MATCH($A43,ingrédient,0)+1,MATCH(J$14,recette,0)+1, ,0,"bdcr"),0),"0") -> 0 | K43: =B43*$C$3+C43*$C$4+D43*$C$5+E43*$C$6+F43*$C$7+G43*$C$8+H43*$C$9+I43*$C$10+J43*$C$11 -> 0 | L43: kg
A44: =bdcr!A31 -> ad | B44: =IFERROR(INDIRECT(ADDRESS(MATCH($A44,ingrédient,0)+1,MATCH(B$14,recette,0)+1, ,0,"bdcr"),0),"0") -> 0 | C44: =IFERROR(INDIRECT(ADDRESS(MATCH($A44,ingrédient,0)+1,MATCH(C$14,recette,0)+1, ,0,"bdcr"),0),"0") -> 0 | D44: =IFERROR(INDIRECT(ADDRESS(MATCH($A44,ingrédient,0)+1,MATCH(D$14,recette,0)+1, ,0,"bdcr"),0),"0") -> 0 | E44: =IFERROR(INDIRECT(ADDRESS(MATCH($A44,ingrédient,0)+1,MATCH(E$14,recette,0)+1, ,0,"bdcr"),0),"0") -> 0 | F44: =IFERROR(INDIRECT(ADDRESS(MATCH($A44,ingrédient,0)+1,MATCH(F$14,recette,0)+1, ,0,"bdcr"),0),"0") -> 0 | G44: =IFERROR(INDIRECT(ADDRESS(MATCH($A44,ingrédient,0)+1,MATCH(G$14,recette,0)+1, ,0,"bdcr"),0),"0") -> 0 | H44: =IFERROR(INDIRECT(ADDRESS(MATCH($A44,ingrédient,0)+1,MATCH(H$14,recette,0)+1, ,0,"bdcr"),0),"0") -> 0 | I44: =IFERROR(INDIRECT(ADDRESS(MATCH($A44,ingrédient,0)+1,MATCH(I$14,recette,0)+1, ,0,"bdcr"),0),"0") -> 0 | J44: =IFERROR(INDIRECT(ADDRESS(MATCH($A44,ingrédient,0)+1,MATCH(J$14,recette,0)+1, ,0,"bdcr"),0),"0") -> 0 | K44: =B44*$C$3+C44*$C$4+D44*$C$5+E44*$C$6+F44*$C$7+G44*$C$8+H44*$C$9+I44*$C$10+J44*$C$11 -> 0 | L44: kg
A45: =bdcr!A32 -> ae | B45: =IFERROR(INDIRECT(ADDRESS(MATCH($A45,ingrédient,0)+1,MATCH(B$14,recette,0)+1, ,0,"bdcr"),0),"0") -> 0 | C45: =IFERROR(INDIRECT(ADDRESS(MATCH($A45,ingrédient,0)+1,MATCH(C$14,recette,0)+1, ,0,"bdcr"),0),"0") -> 0 | D45: =IFERROR(INDIRECT(ADDRESS(MATCH($A45,ingrédient,0)+1,MATCH(D$14,recette,0)+1, ,0,"bdcr"),0),"0") -> 0 | E45: =IFERROR(INDIRECT(ADDRESS(MATCH($A45,ingrédient,0)+1,MATCH(E$14,recette,0)+1, ,0,"bdcr"),0),"0") -> 0 | F45: =IFERROR(INDIRECT(ADDRESS(MATCH($A45,ingrédient,0)+1,MATCH(F$14,recette,0)+1, ,0,"bdcr"),0),"0") -> 0 | G45: =IFERROR(INDIRECT(ADDRESS(MATCH($A45,ingrédient,0)+1,MATCH(G$14,recette,0)+1, ,0,"bdcr"),0),"0") -> 0 | H45: =IFERROR(INDIRECT(ADDRESS(MATCH($A45,ingrédient,0)+1,MATCH(H$14,recette,0)+1, ,0,"bdcr"),0),"0") -> 0 | I45: =IFERROR(INDIRECT(ADDRESS(MATCH($A45,ingrédient,0)+1,MATCH(I$14,recette,0)+1, ,0,"bdcr"),0),"0") -> 0 | J45: =IFERROR(INDIRECT(ADDRESS(MATCH($A45,ingrédient,0)+1,MATCH(J$14,recette,0)+1, ,0,"bdcr"),0),"0") -> 0 | K45: =B45*$C$3+C45*$C$4+D45*$C$5+E45*$C$6+F45*$C$7+G45*$C$8+H45*$C$9+I45*$C$10+J45*$C$11 -> 0 | L45: kg
A46: =bdcr!A33 -> af | B46: =IFERROR(INDIRECT(ADDRESS(MATCH($A46,ingrédient,0)+1,MATCH(B$14,recette,0)+1, ,0,"bdcr"),0),"0") -> 0 | C46: =IFERROR(INDIRECT(ADDRESS(MATCH($A46,ingrédient,0)+1,MATCH(C$14,recette,0)+1, ,0,"bdcr"),0),"0") -> 0 | D46: =IFERROR(INDIRECT(ADDRESS(MATCH($A46,ingrédient,0)+1,MATCH(D$14,recette,0)+1, ,0,"bdcr"),0),"0") -> 0 | E46: =IFERROR(INDIRECT(ADDRESS(MATCH($A46,ingrédient,0)+1,MATCH(E$14,recette,0)+1, ,0,"bdcr"),0),"0") -> 0 | F46: =IFERROR(INDIRECT(ADDRESS(MATCH($A46,ingrédient,0)+1,MATCH(F$14,recette,0)+1, ,0,"bdcr"),0),"0") -> 0 | G46: =IFERROR(INDIRECT(ADDRESS(MATCH($A46,ingrédient,0)+1,MATCH(G$14,recette,0)+1, ,0,"bdcr"),0),"0") -> 0 | H46: =IFERROR(INDIRECT(ADDRESS(MATCH($A46,ingrédient,0)+1,MATCH(H$14,recette,0)+1, ,0,"bdcr"),0),"0") -> 0 | I46: =IFERROR(INDIRECT(ADDRESS(MATCH($A46,ingrédient,0)+1,MATCH(I$14,recette,0)+1, ,0,"bdcr"),0),"0") -> 0 | J46: =IFERROR(INDIRECT(ADDRESS(MATCH($A46,ingrédient,0)+1,MATCH(J$14,recette,0)+1, ,0,"bdcr"),0),"0") -> 0 | K46: =B46*$C$3+C46*$C$4+D46*$C$5+E46*$C$6+F46*$C$7+G46*$C$8+H46*$C$9+I46*$C$10+J46*$C$11 -> 0 | L46: kg
A47: =bdcr!A34 -> ag | B47: =IFERROR(INDIRECT(ADDRESS(MATCH($A47,ingrédient,0)+1,MATCH(B$14,recette,0)+1, ,0,"bdcr"),0),"0") -> 0 | C47: =IFERROR(INDIRECT(ADDRESS(MATCH($A47,ingrédient,0)+1,MATCH(C$14,recette,0)+1, ,0,"bdcr"),0),"0") -> 0 | D47: =IFERROR(INDIRECT(ADDRESS(MATCH($A47,ingrédient,0)+1,MATCH(D$14,recette,0)+1, ,0,"bdcr"),0),"0") -> 0 | E47: =IFERROR(INDIRECT(ADDRESS(MATCH($A47,ingrédient,0)+1,MATCH(E$14,recette,0)+1, ,0,"bdcr"),0),"0") -> 0 | F47: =IFERROR(INDIRECT(ADDRESS(MATCH($A47,ingrédient,0)+1,MATCH(F$14,recette,0)+1, ,0,"bdcr"),0),"0") -> 0 | G47: =IFERROR(INDIRECT(ADDRESS(MATCH($A47,ingrédient,0)+1,MATCH(G$14,recette,0)+1, ,0,"bdcr"),0),"0") -> 0 | H47: =IFERROR(INDIRECT(ADDRESS(MATCH($A47,ingrédient,0)+1,MATCH(H$14,recette,0)+1, ,0,"bdcr"),0),"0") -> 0 | I47: =IFERROR(INDIRECT(ADDRESS(MATCH($A47,ingrédient,0)+1,MATCH(I$14,recette,0)+1, ,0,"bdcr"),0),"0") -> 0 | J47: =IFERROR(INDIRECT(ADDRESS(MATCH($A47,ingrédient,0)+1,MATCH(J$14,recette,0)+1, ,0,"bdcr"),0),"0") -> 0 | K47: =B47*$C$3+C47*$C$4+D47*$C$5+E47*$C$6+F47*$C$7+G47*$C$8+H47*$C$9+I47*$C$10+J47*$C$11 -> 0 | L47: kg
A48: =bdcr!A35 -> ah | B48: =IFERROR(INDIRECT(ADDRESS(MATCH($A48,ingrédient,0)+1,MATCH(B$14,recette,0)+1, ,0,"bdcr"),0),"0") -> 22 | C48: =IFERROR(INDIRECT(ADDRESS(MATCH($A48,ingrédient,0)+1,MATCH(C$14,recette,0)+1, ,0,"bdcr"),0),"0") -> 0 | D48: =IFERROR(INDIRECT(ADDRESS(MATCH($A48,ingrédient,0)+1,MATCH(D$14,recette,0)+1, ,0,"bdcr"),0),"0") -> 0 | E48: =IFERROR(INDIRECT(ADDRESS(MATCH($A48,ingrédient,0)+1,MATCH(E$14,recette,0)+1, ,0,"bdcr"),0),"0") -> 0 | F48: =IFERROR(INDIRECT(ADDRESS(MATCH($A48,ingrédient,0)+1,MATCH(F$14,recette,0)+1, ,0,"bdcr"),0),"0") -> 22 | G48: =IFERROR(INDIRECT(ADDRESS(MATCH($A48,ingrédient,0)+1,MATCH(G$14,recette,0)+1, ,0,"bdcr"),0),"0") -> 0 | H48: =IFERROR(INDIRECT(ADDRESS(MATCH($A48,ingrédient,0)+1,MATCH(H$14,recette,0)+1, ,0,"bdcr"),0),"0") -> 0 | I48: =IFERROR(INDIRECT(ADDRESS(MATCH($A48,ingrédient,0)+1,MATCH(I$14,recette,0)+1, ,0,"bdcr"),0),"0") -> 0 | J48: =IFERROR(INDIRECT(ADDRESS(MATCH($A48,ingrédient,0)+1,MATCH(J$14,recette,0)+1, ,0,"bdcr"),0),"0") -> 0 | K48: =B48*$C$3+C48*$C$4+D48*$C$5+E48*$C$6+F48*$C$7+G48*$C$8+H48*$C$9+I48*$C$10+J48*$C$11 -> 660 | L48: kg
A49: =bdcr!A36 -> ai | B49: =IFERROR(INDIRECT(ADDRESS(MATCH($A49,ingrédient,0)+1,MATCH(B$14,recette,0)+1, ,0,"bdcr"),0),"0") -> 0 | C49: =IFERROR(INDIRECT(ADDRESS(MATCH($A49,ingrédient,0)+1,MATCH(C$14,recette,0)+1, ,0,"bdcr"),0),"0") -> 0 | D49: =IFERROR(INDIRECT(ADDRESS(MATCH($A49,ingrédient,0)+1,MATCH(D$14,recette,0)+1, ,0,"bdcr"),0),"0") -> 0 | E49: =IFERROR(INDIRECT(ADDRESS(MATCH($A49,ingrédient,0)+1,MATCH(E$14,recette,0)+1, ,0,"bdcr"),0),"0") -> 0 | F49: =IFERROR(INDIRECT(ADDRESS(MATCH($A49,ingrédient,0)+1,MATCH(F$14,recette,0)+1, ,0,"bdcr"),0),"0") -> 0 | G49: =IFERROR(INDIRECT(ADDRESS(MATCH($A49,ingrédient,0)+1,MATCH(G$14,recette,0)+1, ,0,"bdcr"),0),"0") -> 0 | H49: =IFERROR(INDIRECT(ADDRESS(MATCH($A49,ingrédient,0)+1,MATCH(H$14,recette,0)+1, ,0,"bdcr"),0),"0") -> 0 | I49: =IFERROR(INDIRECT(ADDRESS(MATCH($A49,ingrédient,0)+1,MATCH(I$14,recette,0)+1, ,0,"bdcr"),0),"0") -> 0 | J49: =IFERROR(INDIRECT(ADDRESS(MATCH($A49,ingrédient,0)+1,MATCH(J$14,recette,0)+1, ,0,"bdcr"),0),"0") -> 0 | K49: =B49*$C$3+C49*$C$4+D49*$C$5+E49*$C$6+F49*$C$7+G49*$C$8+H49*$C$9+I49*$C$10+J49*$C$11 -> 0 | L49: kg
A50: =bdcr!A37 -> aj | B50: =IFERROR(INDIRECT(ADDRESS(MATCH($A50,ingrédient,0)+1,MATCH(B$14,recette,0)+1, ,0,"bdcr"),0),"0") -> 0 | C50: =IFERROR(INDIRECT(ADDRESS(MATCH($A50,ingrédient,0)+1,MATCH(C$14,recette,0)+1, ,0,"bdcr"),0),"0") -> 0 | D50: =IFERROR(INDIRECT(ADDRESS(MATCH($A50,ingrédient,0)+1,MATCH(D$14,recette,0)+1, ,0,"bdcr"),0),"0") -> 0 | E50: =IFERROR(INDIRECT(ADDRESS(MATCH($A50,ingrédient,0)+1,MATCH(E$14,recette,0)+1, ,0,"bdcr"),0),"0") -> 0 | F50: =IFERROR(INDIRECT(ADDRESS(MATCH($A50,ingrédient,0)+1,MATCH(F$14,recette,0)+1, ,0,"bdcr"),0),"0") -> 0 | G50: =IFERROR(INDIRECT(ADDRESS(MATCH($A50,ingrédient,0)+1,MATCH(G$14,recette,0)+1, ,0,"bdcr"),0),"0") -> 0 | H50: =IFERROR(INDIRECT(ADDRESS(MATCH($A50,ingrédient,0)+1,MATCH(H$14,recette,0)+1, ,0,"bdcr"),0),"0") -> 0 | I50: =IFERROR(INDIRECT(ADDRESS(MATCH($A50,ingrédient,0)+1,MATCH(I$14,recette,0)+1, ,0,"bdcr"),0),"0") -> 0 | J50: =IFERROR(INDIRECT(ADDRESS(MATCH($A50,ingrédient,0)+1,MATCH(J$14,recette,0)+1, ,0,"bdcr"),0),"0") -> 0 | K50: =B50*$C$3+C50*$C$4+D50*$C$5+E50*$C$6+F50*$C$7+G50*$C$8+H50*$C$9+I50*$C$10+J50*$C$11 -> 0 | L50: kg
A51: =bdcr!A38 -> ak | B51: =IFERROR(INDIRECT(ADDRESS(MATCH($A51,ingrédient,0)+1,MATCH(B$14,recette,0)+1, ,0,"bdcr"),0),"0") -> 0 | C51: =IFERROR(INDIRECT(ADDRESS(MATCH($A51,ingrédient,0)+1,MATCH(C$14,recette,0)+1, ,0,"bdcr"),0),"0") -> 0 | D51: =IFERROR(INDIRECT(ADDRESS(MATCH($A51,ingrédient,0)+1,MATCH(D$14,recette,0)+1, ,0,"bdcr"),0),"0") -> 0 | E51: =IFERROR(INDIRECT(ADDRESS(MATCH($A51,ingrédient,0)+1,MATCH(E$14,recette,0)+1, ,0,"bdcr"),0),"0") -> 0 | F51: =IFERROR(INDIRECT(ADDRESS(MATCH($A51,ingrédient,0)+1,MATCH(F$14,recette,0)+1, ,0,"bdcr"),0),"0") -> 0 | G51: =IFERROR(INDIRECT(ADDRESS(MATCH($A51,ingrédient,0)+1,MATCH(G$14,recette,0)+1, ,0,"bdcr"),0),"0") -> 0 | H51: =IFERROR(INDIRECT(ADDRESS(MATCH($A51,ingrédient,0)+1,MATCH(H$14,recette,0)+1, ,0,"bdcr"),0),"0") -> 0 | I51: =IFERROR(INDIRECT(ADDRESS(MATCH($A51,ingrédient,0)+1,MATCH(I$14,recette,0)+1, ,0,"bdcr"),0),"0") -> 0 | J51: =IFERROR(INDIRECT(ADDRESS(MATCH($A51,ingrédient,0)+1,MATCH(J$14,recette,0)+1, ,0,"bdcr"),0),"0") -> 0 | K51: =B51*$C$3+C51*$C$4+D51*$C$5+E51*$C$6+F51*$C$7+G51*$C$8+H51*$C$9+I51*$C$10+J51*$C$11 -> 0 | L51: kg
A52: =bdcr!A39 -> al | B52: =IFERROR(INDIRECT(ADDRESS(MATCH($A52,ingrédient,0)+1,MATCH(B$14,recette,0)+1, ,0,"bdcr"),0),"0") -> 0 | C52: =IFERROR(INDIRECT(ADDRESS(MATCH($A52,ingrédient,0)+1,MATCH(C$14,recette,0)+1, ,0,"bdcr"),0),"0") -> 0 | D52: =IFERROR(INDIRECT(ADDRESS(MATCH($A52,ingrédient,0)+1,MATCH(D$14,recette,0)+1, ,0,"bdcr"),0),"0") -> 0 | E52: =IFERROR(INDIRECT(ADDRESS(MATCH($A52,ingrédient,0)+1,MATCH(E$14,recette,0)+1, ,0,"bdcr"),0),"0") -> 0 | F52: =IFERROR(INDIRECT(ADDRESS(MATCH($A52,ingrédient,0)+1,MATCH(F$14,recette,0)+1, ,0,"bdcr"),0),"0") -> 0 | G52: =IFERROR(INDIRECT(ADDRESS(MATCH($A52,ingrédient,0)+1,MATCH(G$14,recette,0)+1, ,0,"bdcr"),0),"0") -> 0 | H52: =IFERROR(INDIRECT(ADDRESS(MATCH($A52,ingrédient,0)+1,MATCH(H$14,recette,0)+1, ,0,"bdcr"),0),"0") -> 0 | I52: =IFERROR(INDIRECT(ADDRESS(MATCH($A52,ingrédient,0)+1,MATCH(I$14,recette,0)+1, ,0,"bdcr"),0),"0") -> 0 | J52: =IFERROR(INDIRECT(ADDRESS(MATCH($A52,ingrédient,0)+1,MATCH(J$14,recette,0)+1, ,0,"bdcr"),0),"0") -> 0 | K52: =B52*$C$3+C52*$C$4+D52*$C$5+E52*$C$6+F52*$C$7+G52*$C$8+H52*$C$9+I52*$C$10+J52*$C$11 -> 0 | L52: mètre
A53: =bdcr!A40 -> am | B53: =IFERROR(INDIRECT(ADDRESS(MATCH($A53,ingrédient,0)+1,MATCH(B$14,recette,0)+1, ,0,"bdcr"),0),"0") -> 0 | C53: =IFERROR(INDIRECT(ADDRESS(MATCH($A53,ingrédient,0)+1,MATCH(C$14,recette,0)+1, ,0,"bdcr"),0),"0") -> 0 | D53: =IFERROR(INDIRECT(ADDRESS(MATCH($A53,ingrédient,0)+1,MATCH(D$14,recette,0)+1, ,0,"bdcr"),0),"0") -> 0 | E53: =IFERROR(INDIRECT(ADDRESS(MATCH($A53,ingrédient,0)+1,MATCH(E$14,recette,0)+1, ,0,"bdcr"),0),"0") -> 0 | F53: =IFERROR(INDIRECT(ADDRESS(MATCH($A53,ingrédient,0)+1,MATCH(F$14,recette,0)+1, ,0,"bdcr"),0),"0") -> 0 | G53: =IFERROR(INDIRECT(ADDRESS(MATCH($A53,ingrédient,0)+1,MATCH(G$14,recette,0)+1, ,0,"bdcr"),0),"0") -> 0 | H53: =IFERROR(INDIRECT(ADDRESS(MATCH($A53,ingrédient,0)+1,MATCH(H$14,recette,0)+1, ,0,"bdcr"),0),"0") -> 0 | I53: =IFERROR(INDIRECT(ADDRESS(MATCH($A53,ingrédient,0)+1,MATCH(I$14,recette,0)+1, ,0,"bdcr"),0),"0") -> 0 | J53: =IFERROR(INDIRECT(ADDRESS(MATCH($A53,ingrédient,0)+1,MATCH(J$14,recette,0)+1, ,0,"bdcr"),0),"0") -> 0 | K53: =B53*$C$3+C53*$C$4+D53*$C$5+E53*$C$6+F53*$C$7+G53*$C$8+H53*$C$9+I53*$C$10+J53*$C$11 -> 0 | L53: mètre
...

Sheet bdcr
B1: pdt 1 | C1: pdt2 | D1: pdt 3 | E1: pdt 4 | F1: pdt 5 | G1: pdt 6 | H1: pdt 7 | I1: pdt 8 | J1: pdt 9 | K1: pdt 10 | L1: pdt 11 | M1: pdt 12 | N1: pdt 13 | O1: pdt 14 | Q1: pdt 15 | R1: pdt 16 | S1: pdt 17 | T1: pdt 18 | U1: pdt 19 | V1: pdt 20 | W1: pdt 21 | X1: pdt 22 | Y1: pdt 23 | AA1: pdt 24 | AB1: pdt 25 | AC1: pdt 26 | AE1: pdt 27 | AG1: pdt 28
A2: a | B2: 581 | C2: =370+247 -> 617 | D2: =360+238 -> 598 | E2: =374+252 -> 626 | F2: =369+247 -> 616 | G2: =265+177 -> 442 | H2: =376+251 -> 627 | I2: =305*2 -> 610 | J2: =305*2 -> 610 | K2: =282+188 -> 470 | L2: =291*2 -> 582 | Q2: =363+243 -> 606 | R2: =250+167 -> 417 | S2: =382+255 -> 637 | T2: =209+140 -> 349 | U2: =338+225 -> 563 | V2: =288+192 -> 480 | AA2: =325+209 -> 534 | AB2: =392+252 -> 644 | AC2: =383+247 -> 630 | AE2: =238+158 -> 396 | AG2: =319+205 -> 524
A3: b | B3: 75.7 | C3: 80.1 | D3: 77.8 | E3: 63.2 | F3: 79.9 | G3: 35.3 | H3: 63.1 | I3: 79.9 | J3: 79.9 | K3: 61.5 | L3: 58.9 | Q3: 66.7 | R3: 37.5 | S3: 76.5 | T3: 26.2 | U3: 16.6 | V3: 43.1 | AA3: =27 -> 27 | AB3: 32.6 | AC3: 31.7 | AE3: =27.5 -> 27.5 | AG3: 26.5
A4: c | B4: 10.5 | C4: 10.9 | D4: 10.4 | E4: 8.4 | F4: 9.7 | G4: 6.6 | H4: 8.4 | I4: 11 | J4: 10 | K4: 8.5 | L4: 8 | Q4: 12.1 | R4: 8.3 | S4: 12.8 | T4: 6.6 | U4: 10.3 | V4: 9.5 | AA4: 9.6 | AB4: 11.5 | AC4: 11.3 | AE4: 7.1 | AG4: 9.4
A5: d | B5: 1.97 | C5: 2.28 | D5: 2.5 | E5: 1.4 | F5: 1.8 | G5: 1.9 | H5: 1.64 | I5: 1.58 | J5: 1.3 | K5: 1.08 | L5: 1.63 | Q5: 2.73 | R5: 1.88 | S5: 3.5 | T5: 1.56 | U5: 2.54 | V5: 1.7 | AA5: 1.65 | AB5: 1.33 | AC5: 2.69 | AE5: 1.13 | AG5: 1.62
A6: e | B6: 17.4 | C6: 18.5 | D6: 17.9 | E6: 18.7 | F6: 18.3 | G6: 13.4 | H6: 18.9 | I6: 18.3 | J6: 18.3 | K6: 14.1 | L6: 16.4 | Q6: 30.3 | R6: 14.6 | S6: 27.4 | T6: 10.5 | V6: 16.8 | AA6: 17.6 | AB6: 21.3 | AC6: 20.7 | AE6: 11.8 | AG6: 17.2
A7: f | B7: 0.07 | C7: 0.45 | D7: 0.3 | E7: 0.7 | F7: 1.1 | G7: 0.58 | I7: 0.6 | J7: 0.6 | L7: 0.2 | Q7: 0.3 | R7: 0.7 | S7: 0.64 | T7: 0.82 | V7: 0.61 | AA7: 0.32 | AB7: 0.6 | AC7: 0.2 | AE7: 0.2 | AG7: 0.41
A8: g | B8: 0.54 | C8: 0.5 | D8: 0.55 | G8: 0.2 | J8: 0.3 | AA8: 1.4 | AB8: 1.8 | AC8: 1.6
A9: h | AA9: 11 | AB9: 13.3 | AC9: 13 | AE9: 16.7 | AG9: 10.78
A10: i | D10: 11 | E10: 5.1 | F10: 3 | G10: 4.2 | H10: 2.6 | I10: 3.2 | J10: 3.2 | K10: 2.5 | L10: 3.2 | Q10: 2.8 | R10: 10.5 | S10: 3.8 | T10: 5.2 | U10: 2.8 | V10: 12.1 | AA10: 1 | AC10: 1.2 | AE10: 5.7 | AG10: 1
A11: j | E11: 2.25 | G11: 1.1 | H11: 2 | L11: 1.34
A12: k | D12: 0.6 | T12: 1.5 | V12: 5
A13: l | B13: =21.2+10.5 -> 31.7 | C13: =18.7+9.7 -> 28.4 | D13: =18.8+18 -> 36.8 | E13: =19+6 -> 25 | F13: =18.9+12 -> 30.9 | G13: =11.6+6.6 -> 18.2 | H13: =14.4+7 -> 21.4 | I13: =18.9+6.9 -> 25.8 | J13: =19+6.5 -> 25.5 | K13: =16.9+2.5 -> 19.4 | L13: =10+5.6 -> 15.6 | Q13: =18.4+12 -> 30.4 | R13: =13.8+6.5 -> 20.3 | S13: =19.4+16.8 -> 36.2 | T13: =10.1+0.6 -> 10.7 | U13: =18.7+13.6 -> 32.3 | V13: =15.9+10 -> 25.9 | AA13: =19.4+16.4 -> 35.8 | AB13: =23.9+5.7 -> 29.6 | AC13: =23.9+16.7 -> 40.6 | AE13: =15+1.9 -> 16.9 | AG13: =19+8.5 -> 27.5
A14: m | D14: 6 | F14: 2.3 | G14: 1.1 | J14: 3.2 | Q14: 6.1 | R14: 3.1 | S14: 9 | T14: 5.2 | U14: 5.6 | V14: 3.6 | AA14: 1 | AC14: 1.2
A15: n | U15: 5.8 | V15: 4.8
A16: o | I16: 0.13 | K16: 0.08
A17: p | I17: 60 | K17: 46 | AE17: 37
A18: q
A19: r | I19: 12 | J19: 18 | L19: 17.1
A20: s | L20: 5
A21: t | B21: 0.32 | I21: 1.9 | K21: 1.5 | Q21: 0.61 | R21: 0.84 | S21: 0.64 | U21: 0.6 | V21: 0.97
A22: u | I22: 1.9 | K22: 1.5
A23: v | B23: 0.04 | C23: 0.08 | D23: 0.13 | E23: 0.07 | F23: 0.03 | G23: 0.07 | H23: 0.04 | I23: 0.06 | J23: 0.06 | K23: 0.09 | L23: 0.03 | Q23: 0.06 | R23: 0.06 | S23: 0.08 | T23: 0.03 | U23: 0.06 | V23: 0.07 | AA23: 0.04 | AB23: 0.04 | AC23: 0.1 | AE23: 0.07 | AG23: 0.02
A24: w | I24: 3.2 | L24: 4.8
A25: x | U25: 27
A26: t | U26: 28.08
A27: y | U27: 22.68
A28: aa | U28: 50
A29: ab | AE29: 2.8
A30: ac
A31: ad
A32: ae
A33: af
A34: ag
A35: ah | C35: 25.74 | D35: 20.9 | F35: 28.14 | G35: 15 | H35: 20 | I35: 20.27 | J35: 20 | Q35: 22.3 | S35: 20 | T35: 12 | AA35: 22 | AB35: 20.11 | AC35: 19 | AG35: 22
A36: ai | G36: 30
A37: aj | H37: 10
A38: ak | H38: 30 | I38: 15 | K38: 16 | V38: 17 | AE38: 15
A39: al | L39: 10
A40: am | R40: 18
...
