Workbook

Sheet conso réelle planning
A2: produit | C2: nombre de pate
A3: pdt 28 | C3: 10
C4: 1
C5: 1
C6: 1
A7: pdt 28 | C7: 20
C8: 1
C9: 1
C10: 1
C11: 1
B14: =A3 -> pdt 28 | C14: =A4 -> 0 | D14: =A5 -> 0 | E14: =A6 -> 0 | F14: =A7 -> pdt 28 | G14: =A8 -> 0 | H14: =A9 -> 0 | I14: =A10 -> 0 | J14: =A11 -> 0 | K14: Quantité totale | L14: unité
A15: =bdcr!A2 -> a | B15: =IFERROR(INDIRECT(ADDRESS(MATCH($A15,ingrédient,0)+1,MATCH(B$14,recette,0)+1, ,0,"bdcr"),0),"0") -> 524 | C15: =IFERROR(INDIRECT(ADDRESS(MATCH($A15,ingrédient,0)+1,MATCH(C$14,recette,0)+1, ,0,"bdcr"),0),"0") -> 0 | D15: =IFERROR(INDIRECT(ADDRESS(MATCH($A15,ingrédient,0)+1,MATCH(D$14,recette,0)+1, ,0,"bdcr"),0),"0") -> 0 | E15: =IFERROR(INDIRECT(ADDRESS(MATCH($A15,ingrédient,0)+1,MATCH(E$14,recette,0)+1, ,0,"bdcr"),0),"0") -> 0 | F15: =IFERROR(INDIRECT(ADDRESS(MATCH($A15,ingrédient,0)+1,MATCH(F$14,recette,0)+1, ,0,"bdcr"),0),"0") -> 524 | G15: =IFERROR(INDIRECT(ADDRESS(MATCH($A15,ingrédient,0)+1,MATCH(G$14,recette,0)+1, ,0,"bdcr"),0),"0") -> 0 | H15: =IFERROR(INDIRECT(ADDRESS(MATCH($A15,ingrédient,0)+1,MATCH(H$14,recette,0)+1, ,0,"bdcr"),0),"0") -> 0 | I15: =IFERROR(INDIRECT(ADDRESS(MATCH($A15,ingrédient,0)+1,MATCH(I$14,recette,0)+1, ,0,"bdcr"),0),"0") -> 0 | J15: =IFERROR(INDIRECT(ADDRESS(MATCH($A15,ingrédient,0)+1,MATCH(J$14,recette,0)+1, ,0,"bdcr"),0),"0") -> 0 | K15: =B15*$C$3+C15*$C$4+D15*$C$5+E15*$C$6+F15*$C$7+G15*$C$8+H15*$C$9+I15*$C$10+J15*$C$11 -> 15720 | L15: kg
A16: =bdcr!A3 -> b | B16: =IFERROR(INDIRECT(ADDRESS(MATCH($A16,ingrédient,0)+1,MATCH(B$14,recette,0)+1, ,0,"bdcr"),0),"0") -> 26.5 | C16: =IFERROR(INDIRECT(ADDRESS(MATCH($A16,ingrédient,0)+1,MATCH(C$14,recette,0)+1, ,0,"bdcr"),0),"0") -> 0 | D16: =IFERROR(INDIRECT(ADDRESS(MATCH($A16,ingrédient,0)+1,MATCH(D$14,recette,0)+1, ,0,"bdcr"),0),"0") -> 0 | E16: =IFERROR(INDIRECT(ADDRESS(MATCH($A16,ingrédient,0)+1,MATCH(E$14,recette,0)+1, ,0,"bdcr"),0),"0") -> 0 | F16: =IFERROR(INDIRECT(ADDRESS(MATCH($A16,ingrédient,0)+1,MATCH(F$14,recette,0)+1, ,0,"bdcr"),0),"0") -> 26.5 | G16: =IFERROR(INDIRECT(ADDRESS(MATCH($A16,ingrédient,0)+1,MATCH(G$14,recette,0)+1, ,0,"bdcr"),0),"0") -> 0 | H16: =IFERROR(INDIRECT(ADDRESS(MATCH($A16,ingrédient,0)+1,MATCH(H$14,recette,0)+1, ,0,"bdcr"),0),"0") -> 0 | I16: =IFERROR(INDIRECT(ADDRESS(MATCH($A16,ingrédient,0)+1,MATCH(I$14,recette,0)+1, ,0,"bdcr"),0),"0") -> 0 | J16: =IFERROR(INDIRECT(ADDRESS(MATCH($A16,ingrédient,0)+1,MATCH(J$14,recette,0)+1, ,0,"bdcr"),0),"0") -> 0 | K16: =B16*$C$3+C16*$C$4+D16*$C$5+E16*$C$6+F16*$C$7+G16*$C$8+H16*$C$9+I16*$C$10+J16*$C$11 -> 795 | L16: kg
A17: =bdcr!A4 -> c | B17: =IFERROR(INDIRECT(ADDRESS(MATCH($A17,ingrédient,0)+1,MATCH(B$14,recette,0)+1, ,0,"bdcr"),0),"0") -> 9.4 | C17: =IFERROR(INDIRECT(ADDRESS(MATCH($A17,ingrédient,0)+1,MATCH(C$14,recette,0)+1, ,0,"bdcr"),0),"0") -> 0 | D17: =IFERROR(INDIRECT(ADDRESS(MATCH($A17,ingrédient,0)+1,MATCH(D$14,recette,0)+1, ,0,"bdcr"),0),"0") -> 0 | E17: =IFERROR(INDIRECT(ADDRESS(MATCH($A17,ingrédient,0)+1,MATCH(E$14,recette,0)+1, ,0,"bdcr"),0),"0") -> 0 | F17: =IFERROR(INDIRECT(ADDRESS(MATCH($A17,ingrédient,0)+1,MATCH(F$14,recette,0)+1, ,0,"bdcr"),0),"0") -> 9.4 | G17: =IFERROR(INDIRECT(ADDRESS(MATCH($A17,ingrédient,0)+1,MATCH(G$14,recette,0)+1, ,0,"bdcr"),0),"0") -> 0 | H17: =IFERROR(INDIRECT(ADDRESS(MATCH($A17,ingrédient,0)+1,MATCH(H$14,recette,0)+1, ,0,"bdcr"),0),"0") -> 0 | I17: =IFERROR(INDIRECT(ADDRESS(MATCH($A17,ingrédient,0)+1,MATCH(I$14,recette,0)+1, ,0,"bdcr"),0),"0") -> 0 | J17: =IFERROR(INDIRECT(ADDRESS(MATCH($A17,ingrédient,0)+1,MATCH(J$14,recette,0)+1, ,0,"bdcr"),0),"0") -> 0 | K17: =B17*$C$3+C17*$C$4+D17*$C$5+E17*$C$6+F17*$C$7+G17*$C$8+H17*$C$9+I17*$C$10+J17*$C$11 -> 282 | L17: kg
A18: =bdcr!A5 -> d | B18: =IFERROR(INDIRECT(ADDRESS(MATCH($A18,ingrédient,0)+1,MATCH(B$14,recette,0)+1, ,0,"bdcr"),0),"0") -> 1.62 | C18: =IFERROR(INDIRECT(ADDRESS(MATCH($A18,ingrédient,0)+1,MATCH(C$14,recette,0)+1, ,0,"bdcr"),0),"0") -> 0 | D18: =IFERROR(INDIRECT(ADDRESS(MATCH($A18,ingrédient,0)+1,MATCH(D$14,recette,0)+1, ,0,"bdcr"),0),"0") -> 0 | E18: =IFERROR(INDIRECT(ADDRESS(MATCH($A18,ingrédient,0)+1,MATCH(E$14,recette,0)+1, ,0,"bdcr"),0),"0") -> 0 | F18: =IFERROR(INDIRECT(ADDRESS(MATCH($A18,ingrédient,0)+1,MATCH(F$14,recette,0)+1, ,0,"bdcr"),0),"0") -> 1.62 | G18: =IFERROR(INDIRECT(ADDRESS(MATCH($A18,ingrédient,0)+1,MATCH(G$14,recette,0)+1, ,0,"bdcr"),0),"0") -> 0 | H18: =IFERROR(INDIRECT(ADDRESS(MATCH($A18,ingrédient,0)+1,MATCH(H$14,recette,0)+1, ,0,"bdcr"),0),"0") -> 0 | I18: =IFERROR(INDIRECT(ADDRESS(MATCH($A18,ingrédient,0)+1,MATCH(I$14,recette,0)+1, ,0,"bdcr"),0),"0") -> 0 | J18: =IFERROR(INDIRECT(ADDRESS(MATCH($A18,ingrédient,0)+1,MATCH(J$14,recette,0)+1, ,0,"bdcr"),0),"0") -> 0 | K18: =B18*$C$3+C18*$C$4+D18*$C$5+E18*$C$6+F18*$C$7+G18*$C$8+H18*$C$9+I18*$C$10+J18*$C$11 -> 48.6 | L18: kg
A19: =bdcr!A6 -> e | B19: =IFERROR(INDIRECT(ADDRESS(MATCH($A19,ingrédient,0)+1,MATCH(B$14,recette,0)+1, ,0,"bdcr"),0),"0") -> 17.2 | C19: =IFERROR(INDIRECT(ADDRESS(MATCH($A19,ingrédient,0)+1,MATCH(C$14,recette,0)+1, ,0,"bdcr"),0),"0") -> 0 | D19: =IFERROR(INDIRECT(ADDRESS(MATCH($A19,ingrédient,0)+1,MATCH(D$14,recette,0)+1, ,0,"bdcr"),0),"0") -> 0 | E19: =IFERROR(INDIRECT(ADDRESS(MATCH($A19,ingrédient,0)+1,MATCH(E$14,recette,0)+1, ,0,"bdcr"),0),"0") -> 0 | F19: =IFERROR(INDIRECT(ADDRESS(MATCH($A19,ingrédient,0)+1,MATCH(F$14,recette,0)+1, ,0,"bdcr"),0),"0") -> 17.2 | G19: =IFERROR(INDIRECT(ADDRESS(MATCH($A19,ingrédient,0)+1,MATCH(G$14,recette,0)+1, ,0,"bdcr"),0),"0") -> 0 | H19: =IFERROR(INDIRECT(ADDRESS(MATCH($A19,ingrédient,0)+1,MATCH(H$14,recette,0)+1, ,0,"bdcr"),0),"0") -> 0 | I19: =IFERROR(INDIRECT(ADDRESS(MATCH($A19,ingrédient,0)+1,MATCH(I$14,recette,0)+1, ,0,"bdcr"),0),"0") -> 0 | J19: =IFERROR(INDIRECT(ADDRESS(MATCH($A19,ingrédient,0)+1,MATCH(J$14,recette,0)+1, ,0,"bdcr"),0),"0") -> 0 | K19: =B19*$C$3+C19*$C$4+D19*$C$5+E19*$C$6+F19*$C$7+G19*$C$8+H19*$C$9+I19*$C$10+J19*$C$11 -> 516 | L19: Litre
A20: =bdcr!A7 -> f | B20: =IFERROR(INDIRECT(ADDRESS(MATCH($A20,ingrédient,0)+1,MATCH(B$14,recette,0)+1, ,0,"bdcr"),0),"0") -> 0.41 | C20: =IFERROR(INDIRECT(ADDRESS(MATCH($A20,ingrédient,0)+1,MATCH(C$14,recette,0)+1, ,0,"bdcr"),0),"0") -> 0 | D20: =IFERROR(INDIRECT(ADDRESS(MATCH($A20,ingrédient,0)+1,MATCH(D$14,recette,0)+1, ,0,"bdcr"),0),"0") -> 0 | E20: =IFERROR(INDIRECT(ADDRESS(MATCH($A20,ingrédient,0)+1,MATCH(E$14,recette,0)+1, ,0,"bdcr"),0),"0") -> 0 | F20: =IFERROR(INDIRECT(ADDRESS(MATCH($A20,ingrédient,0)+1,MATCH(F$14,recette,0)+1, ,0,"bdcr"),0),"0") -> 0.41 | G20: =IFERROR(INDIRECT(ADDRESS(MATCH($A20,ingrédient,0)+1,MATCH(G$14,recette,0)+1, ,0,"bdcr"),0),"0") -> 0 | H20: =IFERROR(INDIRECT(ADDRESS(MATCH($A20,ingrédient,0)+1,MATCH(H$14,recette,0)+1, ,0,"bdcr"),0),"0") -> 0 | I20: =IFERROR(INDIRECT(ADDRESS(MATCH($A20,ingrédient,0)+1,MATCH(I$14,recette,0)+1, ,0,"bdcr"),0),"0") -> 0 | J20: =IFERROR(INDIRECT(ADDRESS(MATCH($A20,ingrédient,0)+1,MATCH(J$14,recette,0)+1, ,0,"bdcr"),0),"0") -> 0 | K20: =B20*$C$3+C20*$C$4+D20*$C$5+E20*$C$6+F20*$C$7+G20*$C$8+H20*$C$9+I20*$C$10+J20*$C$11 -> 12.3 | L20: kg
A21: =bdcr!A8 -> g | B21: =IFERROR(INDIRECT(ADDRESS(MATCH($A21,ingrédient,0)+1,MATCH(B$14,recette,0)+1, ,0,"bdcr"),0),"0") -> 0 | C21: =IFERROR(INDIRECT(ADDRESS(MATCH($A21,ingrédient,0)+1,MATCH(C$14,recette,0)+1, ,0,"bdcr"),0),"0") -> 0 | D21: =IFERROR(INDIRECT(ADDRESS(MATCH($A21,ingrédient,0)+1,MATCH(D$14,recette,0)+1, ,0,"bdcr"),0),"0") -> 0 | E21: =IFERROR(INDIRECT(ADDRESS(MATCH($A21,ingrédient,0)+1,MATCH(E$14,recette,0)+1, ,0,"bdcr"),0),"0") -> 0 | F21: =IFERROR(INDIRECT(ADDRESS(MATCH($A21,ingrédient,0)+1,MATCH(F$14,recette,0)+1, ,0,"bdcr"),0),"0") -> 0 | G21: =IFERROR(INDIRECT(ADDRESS(MATCH($A21,ingrédient,0)+1,MATCH(G$14,recette,0)+1, ,0,"bdcr"),0),"0") -> 0 | H21: =IFERROR(INDIRECT(ADDRESS(MATCH($A21,ingrédient,0)+1,MATCH(H$14,recette,0)+1, ,0,"bdcr"),0),"0") -> 0 | I21: =IFERROR(INDIRECT(ADDRESS(MATCH($A21,ingrédient,0)+1,MATCH(I$14,recette,0)+1, ,0,"bdcr"),0),"0") -> 0 | J21: =IFERROR(INDIRECT(ADDRESS(MATCH($A21,ingrédient,0)+1,MATCH(J$14,recette,0)+1, ,0,"bdcr"),0),"0") -> 0 | K21: =B21*$C$3+C21*$C$4+D21*$C$5+E21*$C$6+F21*$C$7+G21*$C$8+H21*$C$9+I21*$C$10+J21*$C$11 -> 0 | L21: kg
A22: =bdcr!A9 -> h | B22: =IFERROR(INDIRECT(ADDRESS(MATCH($A22,ingrédient,0)+1,MATCH(B$14,recette,0)+1, ,0,"bdcr"),0),"0") -> 10.78 | C22: =IFERROR(INDIRECT(ADDRESS(MATCH($A22,ingrédient,0)+1,MATCH(C$14,recette,0)+1, ,0,"bdcr"),0),"0") -> 0 | D22: =IFERROR(INDIRECT(ADDRESS(MATCH($A22,ingrédient,0)+1,MATCH(D$14,recette,0)+1, ,0,"bdcr"),0),"0") -> 0 | E22: =IFERROR(INDIRECT(ADDRESS(MATCH($A22,ingrédient,0)+1,MATCH(E$14,recette,0)+1, ,0,"bdcr"),0),"0") -> 0 | F22: =IFERROR(INDIRECT(ADDRESS(MATCH($A22,ingrédient,0)+1,MATCH(F$14,recette,0)+1, ,0,"bdcr"),0),"0") -> 10.78 | G22: =IFERROR(INDIRECT(ADDRESS(MATCH($A22,ingrédient,0)+1,MATCH(G$14,recette,0)+1, ,0,"bdcr"),0),"0") -> 0 | H22: =IFERROR(INDIRECT(ADDRESS(MATCH($A22,ingrédient,0)+1,MATCH(H$14,recette,0)+1, ,0,"bdcr"),0),"0") -> 0 | I22: =IFERROR(INDIRECT(ADDRESS(MATCH($A22,ingrédient,0)+1,MATCH(I$14,recette,0)+1, ,0,"bdcr"),0),"0") -> 0 | J22: =IFERROR(INDIRECT(ADDRESS(MATCH($A22,ingrédient,0)+1,MATCH(J$14,recette,0)+1, ,0,"bdcr"),0),"0") -> 0 | K22: =B22*$C$3+C22*$C$4+D22*$C$5+E22*$C$6+F22*$C$7+G22*$C$8+H22*$C$9+I22*$C$10+J22*$C$11 -> 323.4 | L22: kg
A23: =bdcr!A10 -> i | B23: =IFERROR(INDIRECT(ADDRESS(MATCH($A23,ingrédient,0)+1,MATCH(B$14,recette,0)+1, ,0,"bdcr"),0),"0") -> 1 | C23: =IFERROR(INDIRECT(ADDRESS(MATCH($A23,ingrédient,0)+1,MATCH(C$14,recette,0)+1, ,0,"bdcr"),0),"0") -> 0 | D23: =IFERROR(INDIRECT(ADDRESS(MATCH($A23,ingrédient,0)+1,MATCH(D$14,recette,0)+1, ,0,"bdcr"),0),"0") -> 0 | E23: =IFERROR(INDIRECT(ADDRESS(MATCH($A23,ingrédient,0)+1,MATCH(E$14,recette,0)+1, ,0,"bdcr"),0),"0") -> 0 | F23: =IFERROR(INDIRECT(ADDRESS(MATCH($A23,ingrédient,0)+1,MATCH(F$14,recette,0)+1, ,0,"bdcr"),0),"0") -> 1 | G23: =IFERROR(INDIRECT(ADDRESS(MATCH($A23,ingrédient,0)+1,MATCH(G$14,recette,0)+1, ,0,"bdcr"),0),"0") -> 0 | H23: =IFERROR(INDIRECT(ADDRESS(MATCH($A23,ingrédient,0)+1,MATCH(H$14,recette,0)+1, ,0,"bdcr"),0),"0") -> 0 | I23: =IFERROR(INDIRECT(ADDRESS(MATCH($A23,ingrédient,0)+1,MATCH(I$14,recette,0)+1, ,0,"bdcr"),0),"0") -> 0 | J23: =IFERROR(INDIRECT(ADDRESS(MATCH($A23,ingrédient,0)+1,MATCH(J$14,recette,0)+1, ,0,"bdcr"),0),"0") -> 0 | K23: =B23*$C$3+C23*$C$4+D23*$C$5+E23*$C$6+F23*$C$7+G23*$C$8+H23*$C$9+I23*$C$10+J23*$C$11 -> 30 | L23: kg
A24: =bdcr!A11 -> j | B24: =IFERROR(INDIRECT(ADDRESS(MATCH($A24,ingrédient,0)+1,MATCH(B$14,recette,0)+1, ,0,"bdcr"),0),"0") -> 0 | C24: =IFERROR(INDIRECT(ADDRESS(MATCH($A24,ingrédient,0)+1,MATCH(C$14,recette,0)+1, ,0,"bdcr"),0),"0") -> 0 | D24: =IFERROR(INDIRECT(ADDRESS(MATCH($A24,ingrédient,0)+1,MATCH(D$14,recette,0)+1, ,0,"bdcr"),0),"0") -> 0 | E24: =IFERROR(INDIRECT(ADDRESS(MATCH($A24,ingrédient,0)+1,MATCH(E$14,recette,0)+1, ,0,"bdcr"),0),"0") -> 0 | F24: =IFERROR(INDIRECT(ADDRESS(MATCH($A24,ingrédient,0)+1,MATCH(F$14,recette,0)+1, ,0,"bdcr"),0),"0") -> 0 | G24: =IFERROR(INDIRECT(ADDRESS(MATCH($A24,ingrédient,0)+1,MATCH(G$14,recette,0)+1, ,0,"bdcr"),0),"0") -> 0 | H24: =IFERROR(INDIRECT(ADDRESS(MATCH($A24,ingrédient,0)+1,MATCH(H$14,recette,0)+1, ,0,"bdcr"),0),"0") -> 0 | I24: =IFERROR(INDIRECT(ADDRESS(MATCH($A24,ingrédient,0)+1,MATCH(I$14,recette,0)+1, ,0,"bdcr"),0),"0") -> 0 | J24: =IFERROR(INDIRECT(ADDRESS(MATCH($A24,ingrédient,0)+1,MATCH(J$14,recette,0)+1, ,0,"bdcr"),0),"0") -> 0 | K24: =B24*$C$3+C24*$C$4+D24*$C$5+E24*$C$6+F24*$C$7+G24*$C$8+H24*$C$9+I24*$C$10+J24*$C$11 -> 0 | L24: kg
A25: =bdcr!A12 -> k | B25: =IFERROR(INDIRECT(ADDRESS(MATCH($A25,ingrédient,0)+1,MATCH(B$14,recette,0)+1, ,0,"bdcr"),0),"0") -> 0 | C25: =IFERROR(INDIRECT(ADDRESS(MATCH($A25,ingrédient,0)+1,MATCH(C$14,recette,0)+1, ,0,"bdcr"),0),"0") -> 0 | D25: =IFERROR(INDIRECT(ADDRESS(MATCH($A25,ingrédient,0)+1,MATCH(D$14,recette,0)+1, ,0,"bdcr"),0),"0") -> 0 | E25: =IFERROR(INDIRECT(ADDRESS(MATCH($A25,ingrédient,0)+1,MATCH(E$14,recette,0)+1, ,0,"bdcr"),0),"0") -> 0 | F25: =IFERROR(INDIRECT(ADDRESS(MATCH($A25,ingrédient,0)+1,MATCH(F$14,recette,0)+1, ,0,"bdcr"),0),"0") -> 0 | G25: =IFERROR(INDIRECT(ADDRESS(MATCH($A25,ingrédient,0)+1,MATCH(G$14,recette,0)+1, ,0,"bdcr"),0),"0") -> 0 | H25: =IFERROR(INDIRECT(ADDRESS(MATCH($A25,ingrédient,0)+1,MATCH(H$14,recette,0)+1, ,0,"bdcr"),0),"0") -> 0 | I25: =IFERROR(INDIRECT(ADDRESS(MATCH($A25,ingrédient,0)+1,MATCH(I$14,recette,0)+1, ,0,"bdcr"),0),"0") -> 0 | J25: =IFERROR(INDIRECT(ADDRESS(MATCH($A25,ingrédient,0)+1,MATCH(J$14,recette,0)+1, ,0,"bdcr"),0),"0") -> 0 | K25: =B25*$C$3+C25*$C$4+D25*$C$5+E25*$C$6+F25*$C$7+G25*$C$8+H25*$C$9+I25*$C$10+J25*$C$11 -> 0 | L25: kg
A26: =bdcr!A13 -> l | B26: =IFERROR(INDIRECT(ADDRESS(MATCH($A26,ingrédient,0)+1,MATCH(B$14,recette,0)+1, ,0,"bdcr"),0),"0") -> 27.5 | C26: =IFERROR(INDIRECT(ADDRESS(MATCH($A26,ingrédient,0)+1,MATCH(C$14,recette,0)+1, ,0,"bdcr"),0),"0") -> 0 | D26: =IFERROR(INDIRECT(ADDRESS(MATCH($A26,ingrédient,0)+1,MATCH(D$14,recette,0)+1, ,0,"bdcr"),0),"0") -> 0 | E26: =IFERROR(INDIRECT(ADDRESS(MATCH($A26,ingrédient,0)+1,MATCH(E$14,recette,0)+1, ,0,"bdcr"),0),"0") -> 0 | F26: =IFERROR(INDIRECT(ADDRESS(MATCH($A26,ingrédient,0)+1,MATCH(F$14,recette,0)+1, ,0,"bdcr"),0),"0") -> 27.5 | G26: =IFERROR(INDIRECT(ADDRESS(MATCH($A26,ingrédient,0)+1,MATCH(G$14,recette,0)+1, ,0,"bdcr"),0),"0") -> 0 | H26: =IFERROR(INDIRECT(ADDRESS(MATCH($A26,ingrédient,0)+1,MATCH(H$14,recette,0)+1, ,0,"bdcr"),0),"0") -> 0 | I26: =IFERROR(INDIRECT(ADDRESS(MATCH($A26,ingrédient,0)+1,MATCH(I$14,recette,0)+1, ,0,"bdcr"),0),"0") -> 0 | J26: =IFERROR(INDIRECT(ADDRESS(MATCH($A26,ingrédient,0)+1,MATCH(J$14,recette,0)+1, ,0,"bdcr"),0),"0") -> 0 | K26: =B26*$C$3+C26*$C$4+D26*$C$5+E26*$C$6+F26*$C$7+G26*$C$8+H26*$C$9+I26*$C$10+J26*$C$11 -> 825 | L26: Litre
... A37: =bdcr!A24 -> w | B37: =IFERROR(INDIRECT(ADDRESS(MATCH($A37,ingrédient,0)+1,MATCH(B$14,recette,0)+1, ,0,"bdcr"),0),"0") -> 0 | C37: =IFERROR(INDIRECT(ADDRESS(MATCH($A37,ingrédient,0)+1,MATCH(C$14,recette,0)+1, ,0,"bdcr"),0),"0") -> 0 | D37: =IFERROR(INDIRECT(ADDRESS(MATCH($A37,ingrédient,0)+1,MATCH(D$14,recette,0)+1, ,0,"bdcr"),0),"0") -> 0 | E37: =IFERROR(INDIRECT(ADDRESS(MATCH($A37,ingrédient,0)+1,MATCH(E$14,recette,0)+1, ,0,"bdcr"),0),"0") -> 0 | F37: =IFERROR(INDIRECT(ADDRESS(MATCH($A37,ingrédient,0)+1,MATCH(F$14,recette,0)+1, ,0,"bdcr"),0),"0") -> 0 | G37: =IFERROR(INDIRECT(ADDRESS(MATCH($A37,ingrédient,0)+1,MATCH(G$14,recette,0)+1, ,0,"bdcr"),0),"0") -> 0 | H37: =IFERROR(INDIRECT(ADDRESS(MATCH($A37,ingrédient,0)+1,MATCH(H$14,recette,0)+1, ,0,"bdcr"),0),"0") -> 0 | I37: =IFERROR(INDIRECT(ADDRESS(MATCH($A37,ingrédient,0)+1,MATCH(I$14,recette,0)+1, ,0,"bdcr"),0),"0") -> 0 | J37: =IFERROR(INDIRECT(ADDRESS(MATCH($A37,ingrédient,0)+1,MATCH(J$14,recette,0)+1, ,0,"bdcr"),0),"0") -> 0 | K37: =B37*$C$3+C37*$C$4+D37*$C$5+E37*$C$6+F37*$C$7+G37*$C$8+H37*$C$9+I37*$C$10+J37*$C$11 -> 0 | L37: kg
A38: =bdcr!A25 -> x | B38: =IFERROR(INDIRECT(ADDRESS(MATCH($A38,ingrédient,0)+1,MATCH(B$14,recette,0)+1, ,0,"bdcr"),0),"0") -> 0 | C38: =IFERROR(INDIRECT(ADDRESS(MATCH($A38,ingrédient,0)+1,MATCH(C$14,recette,0)+1, ,0,"bdcr"),0),"0") -> 0 | D38: =IFERROR(INDIRECT(ADDRESS(MATCH($A38,ingrédient,0)+1,MATCH(D$14,recette,0)+1, ,0,"bdcr"),0),"0") -> 0 | E38: =IFERROR(INDIRECT(ADDRESS(MATCH($A38,ingrédient,0)+1,MATCH(E$14,recette,0)+1, ,0,"bdcr"),0),"0") -> 0 | F38: =IFERROR(INDIRECT(ADDRESS(MATCH($A38,ingrédient,0)+1,MATCH(F$14,recette,0)+1, ,0,"bdcr"),0),"0") -> 0 | G38: =IFERROR(INDIRECT(ADDRESS(MATCH($A38,ingrédient,0)+1,MATCH(G$14,recette,0)+1, ,0,"bdcr"),0),"0") -> 0 | H38: =IFERROR(INDIRECT(ADDRESS(MATCH($A38,ingrédient,0)+1,MATCH(H$14,recette,0)+1, ,0,"bdcr"),0),"0") -> 0 | I38: =IFERROR(INDIRECT(ADDRESS(MATCH($A38,ingrédient,0)+1,MATCH(I$14,recette,0)+1, ,0,"bdcr"),0),"0") -> 0 | J38: =IFERROR(INDIRECT(ADDRESS(MATCH($A38,ingrédient,0)+1,MATCH(J$14,recette,0)+1, ,0,"bdcr"),0),"0") -> 0 | K38: =B38*$C$3+C38*$C$4+D38*$C$5+E38*$C$6+F38*$C$7+G38*$C$8+H38*$C$9+I38*$C$10+J38*$C$11 -> 0
A39: =bdcr!A26 -> t | B39: =IFERROR(INDIRECT(ADDRESS(MATCH($A39,ingrédient,0)+1,MATCH(B$14,recette,0)+1, ,0,"bdcr"),0),"0") -> 0 | C39: =IFERROR(INDIRECT(ADDRESS(MATCH($A39,ingrédient,0)+1,MATCH(C$14,recette,0)+1, ,0,"bdcr"),0),"0") -> 0 | D39: =IFERROR(INDIRECT(ADDRESS(MATCH($A39,ingrédient,0)+1,MATCH(D$14,recette,0)+1, ,0,"bdcr"),0),"0") -> 0 | E39: =IFERROR(INDIRECT(ADDRESS(MATCH($A39,ingrédient,0)+1,MATCH(E$14,recette,0)+1, ,0,"bdcr"),0),"0") -> 0 | F39: =IFERROR(INDIRECT(ADDRESS(MATCH($A39,ingrédient,0)+1,MATCH(F$14,recette,0)+1, ,0,"bdcr"),0),"0") -> 0 | G39: =IFERROR(INDIRECT(ADDRESS(MATCH($A39,ingrédient,0)+1,MATCH(G$14,recette,0)+1, ,0,"bdcr"),0),"0") -> 0 | H39: =IFERROR(INDIRECT(ADDRESS(MATCH($A39,ingrédient,0)+1,MATCH(H$14,recette,0)+1, ,0,"bdcr"),0),"0") -> 0 | I39: =IFERROR(INDIRECT(ADDRESS(MATCH($A39,ingrédient,0)+1,MATCH(I$14,recette,0)+1, ,0,"bdcr"),0),"0") -> 0 | J39: =IFERROR(INDIRECT(ADDRESS(MATCH($A39,ingrédient,0)+1,MATCH(J$14,recette,0)+1, ,0,"bdcr"),0),"0") -> 0 | K39: =B39*$C$3+C39*$C$4+D39*$C$5+E39*$C$6+F39*$C$7+G39*$C$8+H39*$C$9+I39*$C$10+J39*$C$11 -> 0
A40: =bdcr!A27 -> y | B40: =IFERROR(INDIRECT(ADDRESS(MATCH($A40,ingrédient,0)+1,MATCH(B$14,recette,0)+1, ,0,"bdcr"),0),"0") -> 0 | C40: =IFERROR(INDIRECT(ADDRESS(MATCH($A40,ingrédient,0)+1,MATCH(C$14,recette,0)+1, ,0,"bdcr"),0),"0") -> 0 | D40: =IFERROR(INDIRECT(ADDRESS(MATCH($A40,ingrédient,0)+1,MATCH(D$14,recette,0)+1, ,0,"bdcr"),0),"0") -> 0 | E40: =IFERROR(INDIRECT(ADDRESS(MATCH($A40,ingrédient,0)+1,MATCH(E$14,recette,0)+1, ,0,"bdcr"),0),"0") -> 0 | F40: =IFERROR(INDIRECT(ADDRESS(MATCH($A40,ingrédient,0)+1,MATCH(F$14,recette,0)+1, ,0,"bdcr"),0),"0") -> 0 | G40: =IFERROR(INDIRECT(ADDRESS(MATCH($A40,ingrédient,0)+1,MATCH(G$14,recette,0)+1, ,0,"bdcr"),0),"0") -> 0 | H40: =IFERROR(INDIRECT(ADDRESS(MATCH($A40,ingrédient,0)+1,MATCH(H$14,recette,0)+1, ,0,"bdcr"),0),"0") -> 0 | I40: =IFERROR(INDIRECT(ADDRESS(MATCH($A40,ingrédient,0)+1,MATCH(I$14,recette,0)+1, ,0,"bdcr"),0),"0") -> 0 | J40: =IFERROR(INDIRECT(ADDRESS(MATCH($A40,ingrédient,0)+1,MATCH(J$14,recette,0)+1, ,0,"bdcr"),0),"0") -> 0 | K40: =B40*$C$3+C40*$C$4+D40*$C$5+E40*$C$6+F40*$C$7+G40*$C$8+H40*$C$9+I40*$C$10+J40*$C$11 -> 0
A41: =bdcr!A28 -> aa | B41: =IFERROR(INDIRECT(ADDRESS(MATCH($A41,ingrédient,0)+1,MATCH(B$14,recette,0)+1, ,0,"bdcr"),0),"0") -> 0 | C41: =IFERROR(INDIRECT(ADDRESS(MATCH($A41,ingrédient,0)+1,MATCH(C$14,recette,0)+1, ,0,"bdcr"),0),"0") -> 0 | D41: =IFERROR(INDIRECT(ADDRESS(MATCH($A41,ingrédient,0)+1,MATCH(D$14,recette,0)+1, ,0,"bdcr"),0),"0") -> 0 | E41: =IFERROR(INDIRECT(ADDRESS(MATCH($A41,ingrédient,0)+1,MATCH(E$14,recette,0)+1, ,0,"bdcr"),0),"0") -> 0 | F41: =IFERROR(INDIRECT(ADDRESS(MATCH($A41,ingrédient,0)+1,MATCH(F$14,recette,0)+1, ,0,"bdcr"),0),"0") -> 0 | G41: =IFERROR(INDIRECT(ADDRESS(MATCH($A41,ingrédient,0)+1,MATCH(G$14,recette,0)+1, ,0,"bdcr"),0),"0") -> 0 | H41: =IFERROR(INDIRECT(ADDRESS(MATCH($A41,ingrédient,0)+1,MATCH(H$14,recette,0)+1, ,0,"bdcr"),0),"0") -> 0 | I41: =IFERROR(INDIRECT(ADDRESS(MATCH($A41,ingrédient,0)+1,MATCH(I$14,recette,0)+1, ,0,"bdcr"),0),"0") -> 0 | J41: =IFERROR(INDIRECT(ADDRESS(MATCH($A41,ingrédient,0)+1,MATCH(J$14,recette,0)+1, ,0,"bdcr"),0),"0") -> 0 | K41: =B41*$C$3+C41*$C$4+D41*$C$5+E41*$C$6+F41*$C$7+G41*$C$8+H41*$C$9+I41*$C$10+J41*$C$11 -> 0
A42: =bdcr!A29 -> ab | B42: =IFERROR(INDIRECT(ADDRESS(MATCH($A42,ingrédient,0)+1,MATCH(B$14,recette,0)+1, ,0,"bdcr"),0),"0") -> 0 | C42: =IFERROR(INDIRECT(ADDRESS(MATCH($A42,ingrédient,0)+1,MATCH(C$14,recette,0)+1, ,0,"bdcr"),0),"0") -> 0 | D42: =IFERROR(INDIRECT(ADDRESS(MATCH($A42,ingrédient,0)+1,MATCH(D$14,recette,0)+1, ,0,"bdcr"),0),"0") -> 0 | E42: =IFERROR(INDIRECT(ADDRESS(MATCH($A42,ingrédient,0)+1,MATCH(E$14,recette,0)+1, ,0,"bdcr"),0),"0") -> 0 | F42: =IFERROR(INDIRECT(ADDRESS(MATCH($A42,ingrédient,0)+1,MATCH(F$14,recette,0)+1, ,0,"bdcr"),0),"0") -> 0 | G42: =IFERROR(INDIRECT(ADDRESS(MATCH($A42,ingrédient,0)+1,MATCH(G$14,recette,0)+1, ,0,"bdcr"),0),"0") -> 0 | H42: =IFERROR(INDIRECT(ADDRESS(MATCH($A42,ingrédient,0)+1,MATCH(H$14,recette,0)+1, ,0,"bdcr"),0),"0") -> 0 | I42: =IFERROR(INDIRECT(ADDRESS(MATCH($A42,ingrédient,0)+1,MATCH(I$14,recette,0)+1, ,0,"bdcr"),0),"0") -> 0 | J42: =IFERROR(INDIRECT(ADDRESS(MATCH($A42,ingrédient,0)+1,MATCH(J$14,recette,0)+1, ,0,"bdcr"),0),"0") -> 0 | K42: =B42*$C$3+C42*$C$4+D42*$C$5+E42*$C$6+F42*$C$7+G42*$C$8+H42*$C$9+I42*$C$10+J42*$C$11 -> 0 | L42: kg
A43: =bdcr!A30 -> ac | B43: =IFERROR(INDIRECT(ADDRESS(MATCH($A43,ingrédient,0)+1,MATCH(B$14,recette,0)+1, ,0,"bdcr"),0),"0") -> 0 | C43: =IFERROR(INDIRECT(ADDRESS(MATCH($A43,ingrédient,0)+1,MATCH(C$14,recette,0)+1, ,0,"bdcr"),0),"0") -> 0 | D43: =IFERROR(INDIRECT(ADDRESS(MATCH($A43,ingrédient,0)+1,MATCH(D$14,recette,0)+1, ,0,"bdcr"),0),"0") -> 0 | E43: =IFERROR(INDIRECT(ADDRESS(MATCH($A43,ingrédient,0)+1,MATCH(E$14,recette,0)+1, ,0,"bdcr"),0),"0") -> 0 | F43: =IFERROR(INDIRECT(ADDRESS(MATCH($A43,ingrédient,0)+1,MATCH(F$14,recette,0)+1, ,0,"bdcr"),0),"0") -> 0 | G43: =IFERROR(INDIRECT(ADDRESS(MATCH($A43,ingrédient,0)+1,MATCH(G$14,recette,0)+1, ,0,"bdcr"),0),"0") -> 0 | H43: =IFERROR(INDIRECT(ADDRESS(MATCH($A43,ingrédient,0)+1,MATCH(H$14,recette,0)+1, ,0,"bdcr"),0),"0") -> 0 | I43: =IFERROR(INDIRECT(ADDRESS(MATCH($A43,ingrédient,0)+1,MATCH(I$14,recette,0)+1, ,0,"bdcr"),0),"0") -> 0 | J43: =IFERROR(INDIRECT(ADDRESS(MATCH($A43,ingrédient,0)+1,MATCH(J$14,recette,0)+1, ,0,"bdcr"),0),"0") -> 0 | K43: =B43*$C$3+C43*$C$4+D43*$C$5+E43*$C$6+F43*$C$7+G43*$C$8+H43*$C$9+I43*$C$10+J43*$C$11 -> 0 | L43: kg
A44: =bdcr!A31 -> ad | B44: =IFERROR(INDIRECT(ADDRESS(MATCH($A44,ingrédient,0)+1,MATCH(B$14,recette,0)+1, ,0,"bdcr"),0),"0") -> 0 | C44: =IFERROR(INDIRECT(ADDRESS(MATCH($A44,ingrédient,0)+1,MATCH(C$14,recette,0)+1, ,0,"bdcr"),0),"0") -> 0 | D44: =IFERROR(INDIRECT(ADDRESS(MATCH($A44,ingrédient,0)+1,MATCH(D$14,recette,0)+1, ,0,"bdcr"),0),"0") -> 0 | E44: =IFERROR(INDIRECT(ADDRESS(MATCH($A44,ingrédient,0)+1,MATCH(E$14,recette,0)+1, ,0,"bdcr"),0),"0") -> 0 | F44: =IFERROR(INDIRECT(ADDRESS(MATCH($A44,ingrédient,0)+1,MATCH(F$14,recette,0)+1, ,0,"bdcr"),0),"0") -> 0 | G44: =IFERROR(INDIRECT(ADDRESS(MATCH($A44,ingrédient,0)+1,MATCH(G$14,recette,0)+1, ,0,"bdcr"),0),"0") -> 0 | H44: =IFERROR(INDIRECT(ADDRESS(MATCH($A44,ingrédient,0)+1,MATCH(H$14,recette,0)+1, ,0,"bdcr"),0),"0") -> 0 | I44: =IFERROR(INDIRECT(ADDRESS(MATCH($A44,ingrédient,0)+1,MATCH(I$14,recette,0)+1, ,0,"bdcr"),0),"0") -> 0 | J44: =IFERROR(INDIRECT(ADDRESS(MATCH($A44,ingrédient,0)+1,MATCH(J$14,recette,0)+1, ,0,"bdcr"),0),"0") -> 0 | K44: =B44*$C$3+C44*$C$4+D44*$C$5+E44*$C$6+F44*$C$7+G44*$C$8+H44*$C$9+I44*$C$10+J44*$C$11 -> 0 | L44: kg
A45: =bdcr!A32 -> ae | B45: =IFERROR(INDIRECT(ADDRESS(MATCH($A45,ingrédient,0)+1,MATCH(B$14,recette,0)+1, ,0,"bdcr"),0),"0") -> 0 | C45: =IFERROR(INDIRECT(ADDRESS(MATCH($A45,ingrédient,0)+1,MATCH(C$14,recette,0)+1, ,0,"bdcr"),0),"0") -> 0 | D45: =IFERROR(INDIRECT(ADDRESS(MATCH($A45,ingrédient,0)+1,MATCH(D$14,recette,0)+1, ,0,"bdcr"),0),"0") -> 0 | E45: =IFERROR(INDIRECT(ADDRESS(MATCH($A45,ingrédient,0)+1,MATCH(E$14,recette,0)+1, ,0,"bdcr"),0),"0") -> 0 | F45: =IFERROR(INDIRECT(ADDRESS(MATCH($A45,ingrédient,0)+1,MATCH(F$14,recette,0)+1, ,0,"bdcr"),0),"0") -> 0 | G45: =IFERROR(INDIRECT(ADDRESS(MATCH($A45,ingrédient,0)+1,MATCH(G$14,recette,0)+1, ,0,"bdcr"),0),"0") -> 0 | H45: =IFERROR(INDIRECT(ADDRESS(MATCH($A45,ingrédient,0)+1,MATCH(H$14,recette,0)+1, ,0,"bdcr"),0),"0") -> 0 | I45: =IFERROR(INDIRECT(ADDRESS(MATCH($A45,ingrédient,0)+1,MATCH(I$14,recette,0)+1, ,0,"bdcr"),0),"0") -> 0 | J45: =IFERROR(INDIRECT(ADDRESS(MATCH($A45,ingrédient,0)+1,MATCH(J$14,recette,0)+1, ,0,"bdcr"),0),"0") -> 0 | K45: =B45*$C$3+C45*$C$4+D45*$C$5+E45*$C$6+F45*$C$7+G45*$C$8+H45*$C$9+I45*$C$10+J45*$C$11 -> 0 | L45: kg
A46: =bdcr!A33 -> af | B46: =IFERROR(INDIRECT(ADDRESS(MATCH($A46,ingrédient,0)+1,MATCH(B$14,recette,0)+1, ,0,"bdcr"),0),"0") -> 0 | C46: =IFERROR(INDIRECT(ADDRESS(MATCH($A46,ingrédient,0)+1,MATCH(C$14,recette,0)+1, ,0,"bdcr"),0),"0") -> 0 | D46: =IFERROR(INDIRECT(ADDRESS(MATCH($A46,ingrédient,0)+1,MATCH(D$14,recette,0)+1, ,0,"bdcr"),0),"0") -> 0 | E46: =IFERROR(INDIRECT(ADDRESS(MATCH($A46,ingrédient,0)+1,MATCH(E$14,recette,0)+1, ,0,"bdcr"),0),"0") -> 0 | F46: =IFERROR(INDIRECT(ADDRESS(MATCH($A46,ingrédient,0)+1,MATCH(F$14,recette,0)+1, ,0,"bdcr"),0),"0") -> 0 | G46: =IFERROR(INDIRECT(ADDRESS(MATCH($A46,ingrédient,0)+1,MATCH(G$14,recette,0)+1, ,0,"bdcr"),0),"0") -> 0 | H46: =IFERROR(INDIRECT(ADDRESS(MATCH($A46,ingrédient,0)+1,MATCH(H$14,recette,0)+1, ,0,"bdcr"),0),"0") -> 0 | I46: =IFERROR(INDIRECT(ADDRESS(MATCH($A46,ingrédient,0)+1,MATCH(I$14,recette,0)+1, ,0,"bdcr"),0),"0") -> 0 | J46: =IFERROR(INDIRECT(ADDRESS(MATCH($A46,ingrédient,0)+1,MATCH(J$14,recette,0)+1, ,0,"bdcr"),0),"0") -> 0 | K46: =B46*$C$3+C46*$C$4+D46*$C$5+E46*$C$6+F46*$C$7+G46*$C$8+H46*$C$9+I46*$C$10+J46*$C$11 -> 0 | L46: kg
A47: =bdcr!A34 -> ag | B47: =IFERROR(INDIRECT(ADDRESS(MATCH($A47,ingrédient,0)+1,MATCH(B$14,recette,0)+1, ,0,"bdcr"),0),"0") -> 0 | C47: =IFERROR(INDIRECT(ADDRESS(MATCH($A47,ingrédient,0)+1,MATCH(C$14,recette,0)+1, ,0,"bdcr"),0),"0") -> 0 | D47: =IFERROR(INDIRECT(ADDRESS(MATCH($A47,ingrédient,0)+1,MATCH(D$14,recette,0)+1, ,0,"bdcr"),0),"0") -> 0 | E47: =IFERROR(INDIRECT(ADDRESS(MATCH($A47,ingrédient,0)+1,MATCH(E$14,recette,0)+1, ,0,"bdcr"),0),"0") -> 0 | F47: =IFERROR(INDIRECT(ADDRESS(MATCH($A47,ingrédient,0)+1,MATCH(F$14,recette,0)+1, ,0,"bdcr"),0),"0") -> 0 | G47: =IFERROR(INDIRECT(ADDRESS(MATCH($A47,ingrédient,0)+1,MATCH(G$14,recette,0)+1, ,0,"bdcr"),0),"0") -> 0 | H47: =IFERROR(INDIRECT(ADDRESS(MATCH($A47,ingrédient,0)+1,MATCH(H$14,recette,0)+1, ,0,"bdcr"),0),"0") -> 0 | I47: =IFERROR(INDIRECT(ADDRESS(MATCH($A47,ingrédient,0)+1,MATCH(I$14,recette,0)+1, ,0,"bdcr"),0),"0") -> 0 | J47: =IFERROR(INDIRECT(ADDRESS(MATCH($A47,ingrédient,0)+1,MATCH(J$14,recette,0)+1, ,0,"bdcr"),0),"0") -> 0 | K47: =B47*$C$3+C47*$C$4+D47*$C$5+E47*$C$6+F47*$C$7+G47*$C$8+H47*$C$9+I47*$C$10+J47*$C$11 -> 0 | L47: kg
A48: =bdcr!A35 -> ah | B48: =IFERROR(INDIRECT(ADDRESS(MATCH($A48,ingrédient,0)+1,MATCH(B$14,recette,0)+1, ,0,"bdcr"),0),"0") -> 22 | C48: =IFERROR(INDIRECT(ADDRESS(MATCH($A48,ingrédient,0)+1,MATCH(C$14,recette,0)+1, ,0,"bdcr"),0),"0") -> 0 | D48: =IFERROR(INDIRECT(ADDRESS(MATCH($A48,ingrédient,0)+1,MATCH(D$14,recette,0)+1, ,0,"bdcr"),0),"0") -> 0 | E48: =IFERROR(INDIRECT(ADDRESS(MATCH($A48,ingrédient,0)+1,MATCH(E$14,recette,0)+1, ,0,"bdcr"),0),"0") -> 0 | F48: =IFERROR(INDIRECT(ADDRESS(MATCH($A48,ingrédient,0)+1,MATCH(F$14,recette,0)+1, ,0,"bdcr"),0),"0") -> 22 | G48: =IFERROR(INDIRECT(ADDRESS(MATCH($A48,ingrédient,0)+1,MATCH(G$14,recette,0)+1, ,0,"bdcr"),0),"0") -> 0 | H48: =IFERROR(INDIRECT(ADDRESS(MATCH($A48,ingrédient,0)+1,MATCH(H$14,recette,0)+1, ,0,"bdcr"),0),"0") -> 0 | I48: =IFERROR(INDIRECT(ADDRESS(MATCH($A48,ingrédient,0)+1,MATCH(I$14,recette,0)+1, ,0,"bdcr"),0),"0") -> 0 | J48: =IFERROR(INDIRECT(ADDRESS(MATCH($A48,ingrédient,0)+1,MATCH(J$14,recette,0)+1, ,0,"bdcr"),0),"0") -> 0 | K48: =B48*$C$3+C48*$C$4+D48*$C$5+E48*$C$6+F48*$C$7+G48*$C$8+H48*$C$9+I48*$C$10+J48*$C$11 -> 660 | L48: kg
A49: =bdcr!A36 -> ai | B49: =IFERROR(INDIRECT(ADDRESS(MATCH($A49,ingrédient,0)+1,MATCH(B$14,recette,0)+1, ,0,"bdcr"),0),"0") -> 0 | C49: =IFERROR(INDIRECT(ADDRESS(MATCH($A49,ingrédient,0)+1,MATCH(C$14,recette,0)+1, ,0,"bdcr"),0),"0") -> 0 | D49: =IFERROR(INDIRECT(ADDRESS(MATCH($A49,ingrédient,0)+1,MATCH(D$14,recette,0)+1, ,0,"bdcr"),0),"0") -> 0 | E49: =IFERROR(INDIRECT(ADDRESS(MATCH($A49,ingrédient,0)+1,MATCH(E$14,recette,0)+1, ,0,"bdcr"),0),"0") -> 0 | F49: =IFERROR(INDIRECT(ADDRESS(MATCH($A49,ingrédient,0)+1,MATCH(F$14,recette,0)+1, ,0,"bdcr"),0),"0") -> 0 | G49: =IFERROR(INDIRECT(ADDRESS(MATCH($A49,ingrédient,0)+1,MATCH(G$14,recette,0)+1, ,0,"bdcr"),0),"0") -> 0 | H49: =IFERROR(INDIRECT(ADDRESS(MATCH($A49,ingrédient,0)+1,MATCH(H$14,recette,0)+1, ,0,"bdcr"),0),"0") -> 0 | I49: =IFERROR(INDIRECT(ADDRESS(MATCH($A49,ingrédient,0)+1,MATCH(I$14,recette,0)+1, ,0,"bdcr"),0),"0") -> 0 | J49: =IFERROR(INDIRECT(ADDRESS(MATCH($A49,ingrédient,0)+1,MATCH(J$14,recette,0)+1, ,0,"bdcr"),0),"0") -> 0 | K49: =B49*$C$3+C49*$C$4+D49*$C$5+E49*$C$6+F49*$C$7+G49*$C$8+H49*$C$9+I49*$C$10+J49*$C$11 -> 0 | L49: kg
A50: =bdcr!A37 -> aj | B50: =IFERROR(INDIRECT(ADDRESS(MATCH($A50,ingrédient,0)+1,MATCH(B$14,recette,0)+1, ,0,"bdcr"),0),"0") -> 0 | C50: =IFERROR(INDIRECT(ADDRESS(MATCH($A50,ingrédient,0)+1,MATCH(C$14,recette,0)+1, ,0,"bdcr"),0),"0") -> 0 | D50: =IFERROR(INDIRECT(ADDRESS(MATCH($A50,ingrédient,0)+1,MATCH(D$14,recette,0)+1, ,0,"bdcr"),0),"0") -> 0 | E50: =IFERROR(INDIRECT(ADDRESS(MATCH($A50,ingrédient,0)+1,MATCH(E$14,recette,0)+1, ,0,"bdcr"),0),"0") -> 0 | F50: =IFERROR(INDIRECT(ADDRESS(MATCH($A50,ingrédient,0)+1,MATCH(F$14,recette,0)+1, ,0,"bdcr"),0),"0") -> 0 | G50: =IFERROR(INDIRECT(ADDRESS(MATCH($A50,ingrédient,0)+1,MATCH(G$14,recette,0)+1, ,0,"bdcr"),0),"0") -> 0 | H50: =IFERROR(INDIRECT(ADDRESS(MATCH($A50,ingrédient,0)+1,MATCH(H$14,recette,0)+1, ,0,"bdcr"),0),"0") -> 0 | I50: =IFERROR(INDIRECT(ADDRESS(MATCH($A50,ingrédient,0)+1,MATCH(I$14,recette,0)+1, ,0,"bdcr"),0),"0") -> 0 | J50: =IFERROR(INDIRECT(ADDRESS(MATCH($A50,ingrédient,0)+1,MATCH(J$14,recette,0)+1, ,0,"bdcr"),0),"0") -> 0 | K50: =B50*$C$3+C50*$C$4+D50*$C$5+E50*$C$6+F50*$C$7+G50*$C$8+H50*$C$9+I50*$C$10+J50*$C$11 -> 0 | L50: kg
A51: =bdcr!A38 -> ak | B51: =IFERROR(INDIRECT(ADDRESS(MATCH($A51,ingrédient,0)+1,MATCH(B$14,recette,0)+1, ,0,"bdcr"),0),"0") -> 0 | C51: =IFERROR(INDIRECT(ADDRESS(MATCH($A51,ingrédient,0)+1,MATCH(C$14,recette,0)+1, ,0,"bdcr"),0),"0") -> 0 | D51: =IFERROR(INDIRECT(ADDRESS(MATCH($A51,ingrédient,0)+1,MATCH(D$14,recette,0)+1, ,0,"bdcr"),0),"0") -> 0 | E51: =IFERROR(INDIRECT(ADDRESS(MATCH($A51,ingrédient,0)+1,MATCH(E$14,recette,0)+1, ,0,"bdcr"),0),"0") -> 0 | F51: =IFERROR(INDIRECT(ADDRESS(MATCH($A51,ingrédient,0)+1,MATCH(F$14,recette,0)+1, ,0,"bdcr"),0),"0") -> 0 | G51: =IFERROR(INDIRECT(ADDRESS(MATCH($A51,ingrédient,0)+1,MATCH(G$14,recette,0)+1, ,0,"bdcr"),0),"0") -> 0 | H51: =IFERROR(INDIRECT(ADDRESS(MATCH($A51,ingrédient,0)+1,MATCH(H$14,recette,0)+1, ,0,"bdcr"),0),"0") -> 0 | I51: =IFERROR(INDIRECT(ADDRESS(MATCH($A51,ingrédient,0)+1,MATCH(I$14,recette,0)+1, ,0,"bdcr"),0),"0") -> 0 | J51: =IFERROR(INDIRECT(ADDRESS(MATCH($A51,ingrédient,0)+1,MATCH(J$14,recette,0)+1, ,0,"bdcr"),0),"0") -> 0 | K51: =B51*$C$3+C51*$C$4+D51*$C$5+E51*$C$6+F51*$C$7+G51*$C$8+H51*$C$9+I51*$C$10+J51*$C$11 -> 0 | L51: kg
A52: =bdcr!A39 -> al | B52: =IFERROR(INDIRECT(ADDRESS(MATCH($A52,ingrédient,0)+1,MATCH(B$14,recette,0)+1, ,0,"bdcr"),0),"0") -> 0 | C52: =IFERROR(INDIRECT(ADDRESS(MATCH($A52,ingrédient,0)+1,MATCH(C$14,recette,0)+1, ,0,"bdcr"),0),"0") -> 0 | D52: =IFERROR(INDIRECT(ADDRESS(MATCH($A52,ingrédient,0)+1,MATCH(D$14,recette,0)+1, ,0,"bdcr"),0),"0") -> 0 | E52: =IFERROR(INDIRECT(ADDRESS(MATCH($A52,ingrédient,0)+1,MATCH(E$14,recette,0)+1, ,0,"bdcr"),0),"0") -> 0 | F52: =IFERROR(INDIRECT(ADDRESS(MATCH($A52,ingrédient,0)+1,MATCH(F$14,recette,0)+1, ,0,"bdcr"),0),"0") -> 0 | G52: =IFERROR(INDIRECT(ADDRESS(MATCH($A52,ingrédient,0)+1,MATCH(G$14,recette,0)+1, ,0,"bdcr"),0),"0") -> 0 | H52: =IFERROR(INDIRECT(ADDRESS(MATCH($A52,ingrédient,0)+1,MATCH(H$14,recette,0)+1, ,0,"bdcr"),0),"0") -> 0 | I52: =IFERROR(INDIRECT(ADDRESS(MATCH($A52,ingrédient,0)+1,MATCH(I$14,recette,0)+1, ,0,"bdcr"),0),"0") -> 0 | J52: =IFERROR(INDIRECT(ADDRESS(MATCH($A52,ingrédient,0)+1,MATCH(J$14,recette,0)+1, ,0,"bdcr"),0),"0") -> 0 | K52: =B52*$C$3+C52*$C$4+D52*$C$5+E52*$C$6+F52*$C$7+G52*$C$8+H52*$C$9+I52*$C$10+J52*$C$11 -> 0 | L52: mètre
A53: =bdcr!A40 -> am | B53: =IFERROR(INDIRECT(ADDRESS(MATCH($A53,ingrédient,0)+1,MATCH(B$14,recette,0)+1, ,0,"bdcr"),0),"0") -> 0 | C53: =IFERROR(INDIRECT(ADDRESS(MATCH($A53,ingrédient,0)+1,MATCH(C$14,recette,0)+1, ,0,"bdcr"),0),"0") -> 0 | D53: =IFERROR(INDIRECT(ADDRESS(MATCH($A53,ingrédient,0)+1,MATCH(D$14,recette,0)+1, ,0,"bdcr"),0),"0") -> 0 | E53: =IFERROR(INDIRECT(ADDRESS(MATCH($A53,ingrédient,0)+1,MATCH(E$14,recette,0)+1, ,0,"bdcr"),0),"0") -> 0 | F53: =IFERROR(INDIRECT(ADDRESS(MATCH($A53,ingrédient,0)+1,MATCH(F$14,recette,0)+1, ,0,"bdcr"),0),"0") -> 0 | G53: =IFERROR(INDIRECT(ADDRESS(MATCH($A53,ingrédient,0)+1,MATCH(G$14,recette,0)+1, ,0,"bdcr"),0),"0") -> 0 | H53: =IFERROR(INDIRECT(ADDRESS(MATCH($A53,ingrédient,0)+1,MATCH(H$14,recette,0)+1, ,0,"bdcr"),0),"0") -> 0 | I53: =IFERROR(INDIRECT(ADDRESS(MATCH($A53,ingrédient,0)+1,MATCH(I$14,recette,0)+1, ,0,"bdcr"),0),"0") -> 0 | J53: =IFERROR(INDIRECT(ADDRESS(MATCH($A53,ingrédient,0)+1,MATCH(J$14,recette,0)+1, ,0,"bdcr"),0),"0") -> 0 | K53: =B53*$C$3+C53*$C$4+D53*$C$5+E53*$C$6+F53*$C$7+G53*$C$8+H53*$C$9+I53*$C$10+J53*$C$11 -> 0 | L53: mètre
... A61: =bdcr!A48 -> au | B61: =IFERROR(INDIRECT(ADDRESS(MATCH($A61,ingrédient,0)+1,MATCH(B$14,recette,0)+1, ,0,"bdcr"),0),"0") -> 0 | C61: =IFERROR(INDIRECT(ADDRESS(MATCH($A61,ingrédient,0)+1,MATCH(C$14,recette,0)+1, ,0,"bdcr"),0),"0") -> 0 | D61: =IFERROR(INDIRECT(ADDRESS(MATCH($A61,ingrédient,0)+1,MATCH(D$14,recette,0)+1, ,0,"bdcr"),0),"0") -> 0 | E61: =IFERROR(INDIRECT(ADDRESS(MATCH($A61,ingrédient,0)+1,MATCH(E$14,recette,0)+1, ,0,"bdcr"),0),"0") -> 0 | F61: =IFERROR(INDIRECT(ADDRESS(MATCH($A61,ingrédient,0)+1,MATCH(F$14,recette,0)+1, ,0,"bdcr"),0),"0") -> 0 | G61: =IFERROR(INDIRECT(ADDRESS(MATCH($A61,ingrédient,0)+1,MATCH(G$14,recette,0)+1, ,0,"bdcr"),0),"0") -> 0 | H61: =IFERROR(INDIRECT(ADDRESS(MATCH($A61,ingrédient,0)+1,MATCH(H$14,recette,0)+1, ,0,"bdcr"),0),"0") -> 0 | I61: =IFERROR(INDIRECT(ADDRESS(MATCH($A61,ingrédient,0)+1,MATCH(I$14,recette,0)+1, ,0,"bdcr"),0),"0") -> 0 | J61: =IFERROR(INDIRECT(ADDRESS(MATCH($A61,ingrédient,0)+1,MATCH(J$14,recette,0)+1, ,0,"bdcr"),0),"0") -> 0 | K61: =B61*$C$3+C61*$C$4+D61*$C$5+E61*$C$6+F61*$C$7+G61*$C$8+H61*$C$9+I61*$C$10+J61*$C$11 -> 0 | L61: mètre
A62: =bdcr!A49 -> av | B62: =IFERROR(INDIRECT(ADDRESS(MATCH($A62,ingrédient,0)+1,MATCH(B$14,recette,0)+1, ,0,"bdcr"),0),"0") -> 0 | C62: =IFERROR(INDIRECT(ADDRESS(MATCH($A62,ingrédient,0)+1,MATCH(C$14,recette,0)+1, ,0,"bdcr"),0),"0") -> 0 | D62: =IFERROR(INDIRECT(ADDRESS(MATCH($A62,ingrédient,0)+1,MATCH(D$14,recette,0)+1, ,0,"bdcr"),0),"0") -> 0 | E62: =IFERROR(INDIRECT(ADDRESS(MATCH($A62,ingrédient,0)+1,MATCH(E$14,recette,0)+1, ,0,"bdcr"),0),"0") -> 0 | F62: =IFERROR(INDIRECT(ADDRESS(MATCH($A62,ingrédient,0)+1,MATCH(F$14,recette,0)+1, ,0,"bdcr"),0),"0") -> 0 | G62: =IFERROR(INDIRECT(ADDRESS(MATCH($A62,ingrédient,0)+1,MATCH(G$14,recette,0)+1, ,0,"bdcr"),0),"0") -> 0 | H62: =IFERROR(INDIRECT(ADDRESS(MATCH($A62,ingrédient,0)+1,MATCH(H$14,recette,0)+1, ,0,"bdcr"),0),"0") -> 0 | I62: =IFERROR(INDIRECT(ADDRESS(MATCH($A62,ingrédient,0)+1,MATCH(I$14,recette,0)+1, ,0,"bdcr"),0),"0") -> 0 | J62: =IFERROR(INDIRECT(ADDRESS(MATCH($A62,ingrédient,0)+1,MATCH(J$14,recette,0)+1, ,0,"bdcr"),0),"0") -> 0 | K62: =B62*$C$3+C62*$C$4+D62*$C$5+E62*$C$6+F62*$C$7+G62*$C$8+H62*$C$9+I62*$C$10+J62*$C$11 -> 0
A63: =bdcr!A50 -> aw | B63: =IFERROR(INDIRECT(ADDRESS(MATCH($A63,ingrédient,0)+1,MATCH(B$14,recette,0)+1, ,0,"bdcr"),0),"0") -> 0 | C63: =IFERROR(INDIRECT(ADDRESS(MATCH($A63,ingrédient,0)+1,MATCH(C$14,recette,0)+1, ,0,"bdcr"),0),"0") -> 0 | D63: =IFERROR(INDIRECT(ADDRESS(MATCH($A63,ingrédient,0)+1,MATCH(D$14,recette,0)+1, ,0,"bdcr"),0),"0") -> 0 | E63: =IFERROR(INDIRECT(ADDRESS(MATCH($A63,ingrédient,0)+1,MATCH(E$14,recette,0)+1, ,0,"bdcr"),0),"0") -> 0 | F63: =IFERROR(INDIRECT(ADDRESS(MATCH($A63,ingrédient,0)+1,MATCH(F$14,recette,0)+1, ,0,"bdcr"),0),"0") -> 0 | G63: =IFERROR(INDIRECT(ADDRESS(MATCH($A63,ingrédient,0)+1,MATCH(G$14,recette,0)+1, ,0,"bdcr"),0),"0") -> 0 | H63: =IFERROR(INDIRECT(ADDRESS(MATCH($A63,ingrédient,0)+1,MATCH(H$14,recette,0)+1, ,0,"bdcr"),0),"0") -> 0 | I63: =IFERROR(INDIRECT(ADDRESS(MATCH($A63,ingrédient,0)+1,MATCH(I$14,recette,0)+1, ,0,"bdcr"),0),"0") -> 0 | J63: =IFERROR(INDIRECT(ADDRESS(MATCH($A63,ingrédient,0)+1,MATCH(J$14,recette,0)+1, ,0,"bdcr"),0),"0") -> 0 | K63: =B63*$C$3+C63*$C$4+D63*$C$5+E63*$C$6+F63*$C$7+G63*$C$8+H63*$C$9+I63*$C$10+J63*$C$11 -> 0
A64: =bdcr!A51 -> ax | B64: =IFERROR(INDIRECT(ADDRESS(MATCH($A64,ingrédient,0)+1,MATCH(B$14,recette,0)+1, ,0,"bdcr"),0),"0") -> 0 | C64: =IFERROR(INDIRECT(ADDRESS(MATCH($A64,ingrédient,0)+1,MATCH(C$14,recette,0)+1, ,0,"bdcr"),0),"0") -> 0 | D64: =IFERROR(INDIRECT(ADDRESS(MATCH($A64,ingrédient,0)+1,MATCH(D$14,recette,0)+1, ,0,"bdcr"),0),"0") -> 0 | E64: =IFERROR(INDIRECT(ADDRESS(MATCH($A64,ingrédient,0)+1,MATCH(E$14,recette,0)+1, ,0,"bdcr"),0),"0") -> 0 | F64: =IFERROR(INDIRECT(ADDRESS(MATCH($A64,ingrédient,0)+1,MATCH(F$14,recette,0)+1, ,0,"bdcr"),0),"0") -> 0 | G64: =IFERROR(INDIRECT(ADDRESS(MATCH($A64,ingrédient,0)+1,MATCH(G$14,recette,0)+1, ,0,"bdcr"),0),"0") -> 0 | H64: =IFERROR(INDIRECT(ADDRESS(MATCH($A64,ingrédient,0)+1,MATCH(H$14,recette,0)+1, ,0,"bdcr"),0),"0") -> 0 | I64: =IFERROR(INDIRECT(ADDRESS(MATCH($A64,ingrédient,0)+1,MATCH(I$14,recette,0)+1, ,0,"bdcr"),0),"0") -> 0 | J64: =IFERROR(INDIRECT(ADDRESS(MATCH($A64,ingrédient,0)+1,MATCH(J$14,recette,0)+1, ,0,"bdcr"),0),"0") -> 0 | K64: =B64*$C$3+C64*$C$4+D64*$C$5+E64*$C$6+F64*$C$7+G64*$C$8+H64*$C$9+I64*$C$10+J64*$C$11 -> 0
A65: =bdcr!A52 -> ay | B65: =IFERROR(INDIRECT(ADDRESS(MATCH($A65,ingrédient,0)+1,MATCH(B$14,recette,0)+1, ,0,"bdcr"),0),"0") -> 0 | C65: =IFERROR(INDIRECT(ADDRESS(MATCH($A65,ingrédient,0)+1,MATCH(C$14,recette,0)+1, ,0,"bdcr"),0),"0") -> 0 | D65: =IFERROR(INDIRECT(ADDRESS(MATCH($A65,ingrédient,0)+1,MATCH(D$14,recette,0)+1, ,0,"bdcr"),0),"0") -> 0 | E65: =IFERROR(INDIRECT(ADDRESS(MATCH($A65,ingrédient,0)+1,MATCH(E$14,recette,0)+1, ,0,"bdcr"),0),"0") -> 0 | F65: =IFERROR(INDIRECT(ADDRESS(MATCH($A65,ingrédient,0)+1,MATCH(F$14,recette,0)+1, ,0,"bdcr"),0),"0") -> 0 | G65: =IFERROR(INDIRECT(ADDRESS(MATCH($A65,ingrédient,0)+1,MATCH(G$14,recette,0)+1, ,0,"bdcr"),0),"0") -> 0 | H65: =IFERROR(INDIRECT(ADDRESS(MATCH($A65,ingrédient,0)+1,MATCH(H$14,recette,0)+1, ,0,"bdcr"),0),"0") -> 0 | I65: =IFERROR(INDIRECT(ADDRESS(MATCH($A65,ingrédient,0)+1,MATCH(I$14,recette,0)+1, ,0,"bdcr"),0),"0") -> 0 | J65: =IFERROR(INDIRECT(ADDRESS(MATCH($A65,ingrédient,0)+1,MATCH(J$14,recette,0)+1, ,0,"bdcr"),0),"0") -> 0 | K65: =B65*$C$3+C65*$C$4+D65*$C$5+E65*$C$6+F65*$C$7+G65*$C$8+H65*$C$9+I65*$C$10+J65*$C$11 -> 0
A66: =bdcr!A53 -> az | B66: =IFERROR(INDIRECT(ADDRESS(MATCH($A66,ingrédient,0)+1,MATCH(B$14,recette,0)+1, ,0,"bdcr"),0),"0") -> 0 | C66: =IFERROR(INDIRECT(ADDRESS(MATCH($A66,ingrédient,0)+1,MATCH(C$14,recette,0)+1, ,0,"bdcr"),0),"0") -> 0 | D66: =IFERROR(INDIRECT(ADDRESS(MATCH($A66,ingrédient,0)+1,MATCH(D$14,recette,0)+1, ,0,"bdcr"),0),"0") -> 0 | E66: =IFERROR(INDIRECT(ADDRESS(MATCH($A66,ingrédient,0)+1,MATCH(E$14,recette,0)+1, ,0,"bdcr"),0),"0") -> 0 | F66: =IFERROR(INDIRECT(ADDRESS(MATCH($A66,ingrédient,0)+1,MATCH(F$14,recette,0)+1, ,0,"bdcr"),0),"0") -> 0 | G66: =IFERROR(INDIRECT(ADDRESS(MATCH($A66,ingrédient,0)+1,MATCH(G$14,recette,0)+1, ,0,"bdcr"),0),"0") -> 0 | H66: =IFERROR(INDIRECT(ADDRESS(MATCH($A66,ingrédient,0)+1,MATCH(H$14,recette,0)+1, ,0,"bdcr"),0),"0") -> 0 | I66: =IFERROR(INDIRECT(ADDRESS(MATCH($A66,ingrédient,0)+1,MATCH(I$14,recette,0)+1, ,0,"bdcr"),0),"0") -> 0 | J66: =IFERROR(INDIRECT(ADDRESS(MATCH($A66,ingrédient,0)+1,MATCH(J$14,recette,0)+1, ,0,"bdcr"),0),"0") -> 0 | K66: =B66*$C$3+C66*$C$4+D66*$C$5+E66*$C$6+F66*$C$7+G66*$C$8+H66*$C$9+I66*$C$10+J66*$C$11 -> 0
A67: =bdcr!A54 -> ba | B67: =IFERROR(INDIRECT(ADDRESS(MATCH($A67,ingrédient,0)+1,MATCH(B$14,recette,0)+1, ,0,"bdcr"),0),"0") -> 0 | C67: =IFERROR(INDIRECT(ADDRESS(MATCH($A67,ingrédient,0)+1,MATCH(C$14,recette,0)+1, ,0,"bdcr"),0),"0") -> 0 | D67: =IFERROR(INDIRECT(ADDRESS(MATCH($A67,ingrédient,0)+1,MATCH(D$14,recette,0)+1, ,0,"bdcr"),0),"0") -> 0 | E67: =IFERROR(INDIRECT(ADDRESS(MATCH($A67,ingrédient,0)+1,MATCH(E$14,recette,0)+1, ,0,"bdcr"),0),"0") -> 0 | F67: =IFERROR(INDIRECT(ADDRESS(MATCH($A67,ingrédient,0)+1,MATCH(F$14,recette,0)+1, ,0,"bdcr"),0),"0") -> 0 | G67: =IFERROR(INDIRECT(ADDRESS(MATCH($A67,ingrédient,0)+1,MATCH(G$14,recette,0)+1, ,0,"bdcr"),0),"0") -> 0 | H67: =IFERROR(INDIRECT(ADDRESS(MATCH($A67,ingrédient,0)+1,MATCH(H$14,recette,0)+1, ,0,"bdcr"),0),"0") -> 0 | I67: =IFERROR(INDIRECT(ADDRESS(MATCH($A67,ingrédient,0)+1,MATCH(I$14,recette,0)+1, ,0,"bdcr"),0),"0") -> 0 | J67: =IFERROR(INDIRECT(ADDRESS(MATCH($A67,ingrédient,0)+1,MATCH(J$14,recette,0)+1, ,0,"bdcr"),0),"0") -> 0 | K67: =B67*$C$3+C67*$C$4+D67*$C$5+E67*$C$6+F67*$C$7+G67*$C$8+H67*$C$9+I67*$C$10+J67*$C$11 -> 0
A68: =bdcr!A55 -> bb | B68: =IFERROR(INDIRECT(ADDRESS(MATCH($A68,ingrédient,0)+1,MATCH(B$14,recette,0)+1, ,0,"bdcr"),0),"0") -> 0 | C68: =IFERROR(INDIRECT(ADDRESS(MATCH($A68,ingrédient,0)+1,MATCH(C$14,recette,0)+1, ,0,"bdcr"),0),"0") -> 0 | D68: =IFERROR(INDIRECT(ADDRESS(MATCH($A68,ingrédient,0)+1,MATCH(D$14,recette,0)+1, ,0,"bdcr"),0),"0") -> 0 | E68: =IFERROR(INDIRECT(ADDRESS(MATCH($A68,ingrédient,0)+1,MATCH(E$14,recette,0)+1, ,0,"bdcr"),0),"0") -> 0 | F68: =IFERROR(INDIRECT(ADDRESS(MATCH($A68,ingrédient,0)+1,MATCH(F$14,recette,0)+1, ,0,"bdcr"),0),"0") -> 0 | G68: =IFERROR(INDIRECT(ADDRESS(MATCH($A68,ingrédient,0)+1,MATCH(G$14,recette,0)+1, ,0,"bdcr"),0),"0") -> 0 | H68: =IFERROR(INDIRECT(ADDRESS(MATCH($A68,ingrédient,0)+1,MATCH(H$14,recette,0)+1, ,0,"bdcr"),0),"0") -> 0 | I68: =IFERROR(INDIRECT(ADDRESS(MATCH($A68,ingrédient,0)+1,MATCH(I$14,recette,0)+1, ,0,"bdcr"),0),"0") -> 0 | J68: =IFERROR(INDIRECT(ADDRESS(MATCH($A68,ingrédient,0)+1,MATCH(J$14,recette,0)+1, ,0,"bdcr"),0),"0") -> 0 | K68: =B68*$C$3+C68*$C$4+D68*$C$5+E68*$C$6+F68*$C$7+G68*$C$8+H68*$C$9+I68*$C$10+J68*$C$11 -> 0 | L68: unité
A69: =bdcr!A56 -> bc | B69: =IFERROR(INDIRECT(ADDRESS(MATCH($A69,ingrédient,0)+1,MATCH(B$14,recette,0)+1, ,0,"bdcr"),0),"0") -> 0 | C69: =IFERROR(INDIRECT(ADDRESS(MATCH($A69,ingrédient,0)+1,MATCH(C$14,recette,0)+1, ,0,"bdcr"),0),"0") -> 0 | D69: =IFERROR(INDIRECT(ADDRESS(MATCH($A69,ingrédient,0)+1,MATCH(D$14,recette,0)+1, ,0,"bdcr"),0),"0") -> 0 | E69: =IFERROR(INDIRECT(ADDRESS(MATCH($A69,ingrédient,0)+1,MATCH(E$14,recette,0)+1, ,0,"bdcr"),0),"0") -> 0 | F69: =IFERROR(INDIRECT(ADDRESS(MATCH($A69,ingrédient,0)+1,MATCH(F$14,recette,0)+1, ,0,"bdcr"),0),"0") -> 0 | G69: =IFERROR(INDIRECT(ADDRESS(MATCH($A69,ingrédient,0)+1,MATCH(G$14,recette,0)+1, ,0,"bdcr"),0),"0") -> 0 | H69: =IFERROR(INDIRECT(ADDRESS(MATCH($A69,ingrédient,0)+1,MATCH(H$14,recette,0)+1, ,0,"bdcr"),0),"0") -> 0 | I69: =IFERROR(INDIRECT(ADDRESS(MATCH($A69,ingrédient,0)+1,MATCH(I$14,recette,0)+1, ,0,"bdcr"),0),"0") -> 0 | J69: =IFERROR(INDIRECT(ADDRESS(MATCH($A69,ingrédient,0)+1,MATCH(J$14,recette,0)+1, ,0,"bdcr"),0),"0") -> 0 | K69: =B69*$C$3+C69*$C$4+D69*$C$5+E69*$C$6+F69*$C$7+G69*$C$8+H69*$C$9+I69*$C$10+J69*$C$11 -> 0 | L69: mètre
A70: =bdcr!A57 -> bd | B70: =IFERROR(INDIRECT(ADDRESS(MATCH($A70,ingrédient,0)+1,MATCH(B$14,recette,0)+1, ,0,"bdcr"),0),"0") -> 0 | C70: =IFERROR(INDIRECT(ADDRESS(MATCH($A70,ingrédient,0)+1,MATCH(C$14,recette,0)+1, ,0,"bdcr"),0),"0") -> 0 | D70: =IFERROR(INDIRECT(ADDRESS(MATCH($A70,ingrédient,0)+1,MATCH(D$14,recette,0)+1, ,0,"bdcr"),0),"0") -> 0 | E70: =IFERROR(INDIRECT(ADDRESS(MATCH($A70,ingrédient,0)+1,MATCH(E$14,recette,0)+1, ,0,"bdcr"),0),"0") -> 0 | F70: =IFERROR(INDIRECT(ADDRESS(MATCH($A70,ingrédient,0)+1,MATCH(F$14,recette,0)+1, ,0,"bdcr"),0),"0") -> 0 | G70: =IFERROR(INDIRECT(ADDRESS(MATCH($A70,ingrédient,0)+1,MATCH(G$14,recette,0)+1, ,0,"bdcr"),0),"0") -> 0 | H70: =IFERROR(INDIRECT(ADDRESS(MATCH($A70,ingrédient,0)+1,MATCH(H$14,recette,0)+1, ,0,"bdcr"),0),"0") -> 0 | I70: =IFERROR(INDIRECT(ADDRESS(MATCH($A70,ingrédient,0)+1,MATCH(I$14,recette,0)+1, ,0,"bdcr"),0),"0") -> 0 | J70: =IFERROR(INDIRECT(ADDRESS(MATCH($A70,ingrédient,0)+1,MATCH(J$14,recette,0)+1, ,0,"bdcr"),0),"0") -> 0 | K70: =B70*$C$3+C70*$C$4+D70*$C$5+E70*$C$6+F70*$C$7+G70*$C$8+H70*$C$9+I70*$C$10+J70*$C$11 -> 0 | L70: mètre
A71: =bdcr!A58 -> be | B71: =IFERROR(INDIRECT(ADDRESS(MATCH($A71,ingrédient,0)+1,MATCH(B$14,recette,0)+1, ,0,"bdcr"),0),"0") -> 0 | C71: =IFERROR(INDIRECT(ADDRESS(MATCH($A71,ingrédient,0)+1,MATCH(C$14,recette,0)+1, ,0,"bdcr"),0),"0") -> 0 | D71: =IFERROR(INDIRECT(ADDRESS(MATCH($A71,ingrédient,0)+1,MATCH(D$14,recette,0)+1, ,0,"bdcr"),0),"0") -> 0 | E71: =IFERROR(INDIRECT(ADDRESS(MATCH($A71,ingrédient,0)+1,MATCH(E$14,recette,0)+1, ,0,"bdcr"),0),"0") -> 0 | F71: =IFERROR(INDIRECT(ADDRESS(MATCH($A71,ingrédient,0)+1,MATCH(F$14,recette,0)+1, ,0,"bdcr"),0),"0") -> 0 | G71: =IFERROR(INDIRECT(ADDRESS(MATCH($A71,ingrédient,0)+1,MATCH(G$14,recette,0)+1, ,0,"bdcr"),0),"0") -> 0 | H71: =IFERROR(INDIRECT(ADDRESS(MATCH($A71,ingrédient,0)+1,MATCH(H$14,recette,0)+1, ,0,"bdcr"),0),"0") -> 0 | I71: =IFERROR(INDIRECT(ADDRESS(MATCH($A71,ingrédient,0)+1,MATCH(I$14,recette,0)+1, ,0,"bdcr"),0),"0") -> 0 | J71: =IFERROR(INDIRECT(ADDRESS(MATCH($A71,ingrédient,0)+1,MATCH(J$14,recette,0)+1, ,0,"bdcr"),0),"0") -> 0 | K71: =B71*$C$3+C71*$C$4+D71*$C$5+E71*$C$6+F71*$C$7+G71*$C$8+H71*$C$9+I71*$C$10+J71*$C$11 -> 0 | L71: mètre
A72: =bdcr!A59 -> bf | B72: =IFERROR(INDIRECT(ADDRESS(MATCH($A72,ingrédient,0)+1,MATCH(B$14,recette,0)+1, ,0,"bdcr"),0),"0") -> 0 | C72: =IFERROR(INDIRECT(ADDRESS(MATCH($A72,ingrédient,0)+1,MATCH(C$14,recette,0)+1, ,0,"bdcr"),0),"0") -> 0 | D72: =IFERROR(INDIRECT(ADDRESS(MATCH($A72,ingrédient,0)+1,MATCH(D$14,recette,0)+1, ,0,"bdcr"),0),"0") -> 0 | E72: =IFERROR(INDIRECT(ADDRESS(MATCH($A72,ingrédient,0)+1,MATCH(E$14,recette,0)+1, ,0,"bdcr"),0),"0") -> 0 | F72: =IFERROR(INDIRECT(ADDRESS(MATCH($A72,ingrédient,0)+1,MATCH(F$14,recette,0)+1, ,0,"bdcr"),0),"0") -> 0 | G72: =IFERROR(INDIRECT(ADDRESS(MATCH($A72,ingrédient,0)+1,MATCH(G$14,recette,0)+1, ,0,"bdcr"),0),"0") -> 0 | H72: =IFERROR(INDIRECT(ADDRESS(MATCH($A72,ingrédient,0)+1,MATCH(H$14,recette,0)+1, ,0,"bdcr"),0),"0") -> 0 | I72: =IFERROR(INDIRECT(ADDRESS(MATCH($A72,ingrédient,0)+1,MATCH(I$14,recette,0)+1, ,0,"bdcr"),0),"0") -> 0 | J72: =IFERROR(INDIRECT(ADDRESS(MATCH($A72,ingrédient,0)+1,MATCH(J$14,recette,0)+1, ,0,"bdcr"),0),"0") -> 0 | K72: =B72*$C$3+C72*$C$4+D72*$C$5+E72*$C$6+F72*$C$7+G72*$C$8+H72*$C$9+I72*$C$10+J72*$C$11 -> 0 | L72: mètre
A73: =bdcr!A60 -> bg | B73: =IFERROR(INDIRECT(ADDRESS(MATCH($A73,ingrédient,0)+1,MATCH(B$14,recette,0)+1, ,0,"bdcr"),0),"0") -> 0 | C73: =IFERROR(INDIRECT(ADDRESS(MATCH($A73,ingrédient,0)+1,MATCH(C$14,recette,0)+1, ,0,"bdcr"),0),"0") -> 0 | D73: =IFERROR(INDIRECT(ADDRESS(MATCH($A73,ingrédient,0)+1,MATCH(D$14,recette,0)+1, ,0,"bdcr"),0),"0") -> 0 | E73: =IFERROR(INDIRECT(ADDRESS(MATCH($A73,ingrédient,0)+1,MATCH(E$14,recette,0)+1, ,0,"bdcr"),0),"0") -> 0 | F73: =IFERROR(INDIRECT(ADDRESS(MATCH($A73,ingrédient,0)+1,MATCH(F$14,recette,0)+1, ,0,"bdcr"),0),"0") -> 0 | G73: =IFERROR(INDIRECT(ADDRESS(MATCH($A73,ingrédient,0)+1,MATCH(G$14,recette,0)+1, ,0,"bdcr"),0),"0") -> 0 | H73: =IFERROR(INDIRECT(ADDRESS(MATCH($A73,ingrédient,0)+1,MATCH(H$14,recette,0)+1, ,0,"bdcr"),0),"0") -> 0 | I73: =IFERROR(INDIRECT(ADDRESS(MATCH($A73,ingrédient,0)+1,MATCH(I$14,recette,0)+1, ,0,"bdcr"),0),"0") -> 0 | J73: =IFERROR(INDIRECT(ADDRESS(MATCH($A73,ingrédient,0)+1,MATCH(J$14,recette,0)+1, ,0,"bdcr"),0),"0") -> 0 | K73: =B73*$C$3+C73*$C$4+D73*$C$5+E73*$C$6+F73*$C$7+G73*$C$8+H73*$C$9+I73*$C$10+J73*$C$11 -> 0
A74: =bdcr!A61 -> bh | B74: =IFERROR(INDIRECT(ADDRESS(MATCH($A74,ingrédient,0)+1,MATCH(B$14,recette,0)+1, ,0,"bdcr"),0),"0") -> 0 | C74: =IFERROR(INDIRECT(ADDRESS(MATCH($A74,ingrédient,0)+1,MATCH(C$14,recette,0)+1, ,0,"bdcr"),0),"0") -> 0 | D74: =IFERROR(INDIRECT(ADDRESS(MATCH($A74,ingrédient,0)+1,MATCH(D$14,recette,0)+1, ,0,"bdcr"),0),"0") -> 0 | E74: =IFERROR(INDIRECT(ADDRESS(MATCH($A74,ingrédient,0)+1,MATCH(E$14,recette,0)+1, ,0,"bdcr"),0),"0") -> 0 | F74: =IFERROR(INDIRECT(ADDRESS(MATCH($A74,ingrédient,0)+1,MATCH(F$14,recette,0)+1, ,0,"bdcr"),0),"0") -> 0 | G74: =IFERROR(INDIRECT(ADDRESS(MATCH($A74,ingrédient,0)+1,MATCH(G$14,recette,0)+1, ,0,"bdcr"),0),"0") -> 0 | H74: =IFERROR(INDIRECT(ADDRESS(MATCH($A74,ingrédient,0)+1,MATCH(H$14,recette,0)+1, ,0,"bdcr"),0),"0") -> 0 | I74: =IFERROR(INDIRECT(ADDRESS(MATCH($A74,ingrédient,0)+1,MATCH(I$14,recette,0)+1, ,0,"bdcr"),0),"0") -> 0 | J74: =IFERROR(INDIRECT(ADDRESS(MATCH($A74,ingrédient,0)+1,MATCH(J$14,recette,0)+1, ,0,"bdcr"),0),"0") -> 0 | K74: =B74*$C$3+C74*$C$4+D74*$C$5+E74*$C$6+F74*$C$7+G74*$C$8+H74*$C$9+I74*$C$10+J74*$C$11 -> 0
A75: =bdcr!A62 -> bi | B75: =IFERROR(INDIRECT(ADDRESS(MATCH($A75,ingrédient,0)+1,MATCH(B$14,recette,0)+1, ,0,"bdcr"),0),"0") -> 0 | C75: =IFERROR(INDIRECT(ADDRESS(MATCH($A75,ingrédient,0)+1,MATCH(C$14,recette,0)+1, ,0,"bdcr"),0),"0") -> 0 | D75: =IFERROR(INDIRECT(ADDRESS(MATCH($A75,ingrédient,0)+1,MATCH(D$14,recette,0)+1, ,0,"bdcr"),0),"0") -> 0 | E75: =IFERROR(INDIRECT(ADDRESS(MATCH($A75,ingrédient,0)+1,MATCH(E$14,recette,0)+1, ,0,"bdcr"),0),"0") -> 0 | F75: =IFERROR(INDIRECT(ADDRESS(MATCH($A75,ingrédient,0)+1,MATCH(F$14,recette,0)+1, ,0,"bdcr"),0),"0") -> 0 | G75: =IFERROR(INDIRECT(ADDRESS(MATCH($A75,ingrédient,0)+1,MATCH(G$14,recette,0)+1, ,0,"bdcr"),0),"0") -> 0 | H75: =IFERROR(INDIRECT(ADDRESS(MATCH($A75,ingrédient,0)+1,MATCH(H$14,recette,0)+1, ,0,"bdcr"),0),"0") -> 0 | I75: =IFERROR(INDIRECT(ADDRESS(MATCH($A75,ingrédient,0)+1,MATCH(I$14,recette,0)+1, ,0,"bdcr"),0),"0") -> 0 | J75: =IFERROR(INDIRECT(ADDRESS(MATCH($A75,ingrédient,0)+1,MATCH(J$14,recette,0)+1, ,0,"bdcr"),0),"0") -> 0 | K75: =B75*$C$3+C75*$C$4+D75*$C$5+E75*$C$6+F75*$C$7+G75*$C$8+H75*$C$9+I75*$C$10+J75*$C$11 -> 0 | L75: mètre
A76: =bdcr!A63 -> bj | B76: =IFERROR(INDIRECT(ADDRESS(MATCH($A76,ingrédient,0)+1,MATCH(B$14,recette,0)+1, ,0,"bdcr"),0),"0") -> 0 | C76: =IFERROR(INDIRECT(ADDRESS(MATCH($A76,ingrédient,0)+1,MATCH(C$14,recette,0)+1, ,0,"bdcr"),0),"0") -> 0 | D76: =IFERROR(INDIRECT(ADDRESS(MATCH($A76,ingrédient,0)+1,MATCH(D$14,recette,0)+1, ,0,"bdcr"),0),"0") -> 0 | E76: =IFERROR(INDIRECT(ADDRESS(MATCH($A76,ingrédient,0)+1,MATCH(E$14,recette,0)+1, ,0,"bdcr"),0),"0") -> 0 | F76: =IFERROR(INDIRECT(ADDRESS(MATCH($A76,ingrédient,0)+1,MATCH(F$14,recette,0)+1, ,0,"bdcr"),0),"0") -> 0 | G76: =IFERROR(INDIRECT(ADDRESS(MATCH($A76,ingrédient,0)+1,MATCH(G$14,recette,0)+1, ,0,"bdcr"),0),"0") -> 0 | H76: =IFERROR(INDIRECT(ADDRESS(MATCH($A76,ingrédient,0)+1,MATCH(H$14,recette,0)+1, ,0,"bdcr"),0),"0") -> 0 | I76: =IFERROR(INDIRECT(ADDRESS(MATCH($A76,ingrédient,0)+1,MATCH(I$14,recette,0)+1, ,0,"bdcr"),0),"0") -> 0 | J76: =IFERROR(INDIRECT(ADDRESS(MATCH($A76,ingrédient,0)+1,MATCH(J$14,recette,0)+1, ,0,"bdcr"),0),"0") -> 0 | K76: =B76*$C$3+C76*$C$4+D76*$C$5+E76*$C$6+F76*$C$7+G76*$C$8+H76*$C$9+I76*$C$10+J76*$C$11 -> 0
A77: =bdcr!A64 -> bk | B77: =IFERROR(INDIRECT(ADDRESS(MATCH($A77,ingrédient,0)+1,MATCH(B$14,recette,0)+1, ,0,"bdcr"),0),"0") -> 0 | C77: =IFERROR(INDIRECT(ADDRESS(MATCH($A77,ingrédient,0)+1,MATCH(C$14,recette,0)+1, ,0,"bdcr"),0),"0") -> 0 | D77: =IFERROR(INDIRECT(ADDRESS(MATCH($A77,ingrédient,0)+1,MATCH(D$14,recette,0)+1, ,0,"bdcr"),0),"0") -> 0 | E77: =IFERROR(INDIRECT(ADDRESS(MATCH($A77,ingrédient,0)+1,MATCH(E$14,recette,0)+1, ,0,"bdcr"),0),"0") -> 0 | F77: =IFERROR(INDIRECT(ADDRESS(MATCH($A77,ingrédient,0)+1,MATCH(F$14,recette,0)+1, ,0,"bdcr"),0),"0") -> 0 | G77: =IFERROR(INDIRECT(ADDRESS(MATCH($A77,ingrédient,0)+1,MATCH(G$14,recette,0)+1, ,0,"bdcr"),0),"0") -> 0 | H77: =IFERROR(INDIRECT(ADDRESS(MATCH($A77,ingrédient,0)+1,MATCH(H$14,recette,0)+1, ,0,"bdcr"),0),"0") -> 0 | I77: =IFERROR(INDIRECT(ADDRESS(MATCH($A77,ingrédient,0)+1,MATCH(I$14,recette,0)+1, ,0,"bdcr"),0),"0") -> 0 | J77: =IFERROR(INDIRECT(ADDRESS(MATCH($A77,ingrédient,0)+1,MATCH(J$14,recette,0)+1, ,0,"bdcr"),0),"0") -> 0 | K77: =B77*$C$3+C77*$C$4+D77*$C$5+E77*$C$6+F77*$C$7+G77*$C$8+H77*$C$9+I77*$C$10+J77*$C$11 -> 0
A78: =bdcr!A65 -> bl | B78: =IFERROR(INDIRECT(ADDRESS(MATCH($A78,ingrédient,0)+1,MATCH(B$14,recette,0)+1, ,0,"bdcr"),0),"0") -> 0 | C78: =IFERROR(INDIRECT(ADDRESS(MATCH($A78,ingrédient,0)+1,MATCH(C$14,recette,0)+1, ,0,"bdcr"),0),"0") -> 0 | D78: =IFERROR(INDIRECT(ADDRESS(MATCH($A78,ingrédient,0)+1,MATCH(D$14,recette,0)+1, ,0,"bdcr"),0),"0") -> 0 | E78: =IFERROR(INDIRECT(ADDRESS(MATCH($A78,ingrédient,0)+1,MATCH(E$14,recette,0)+1, ,0,"bdcr"),0),"0") -> 0 | F78: =IFERROR(INDIRECT(ADDRESS(MATCH($A78,ingrédient,0)+1,MATCH(F$14,recette,0)+1, ,0,"bdcr"),0),"0") -> 0 | G78: =IFERROR(INDIRECT(ADDRESS(MATCH($A78,ingrédient,0)+1,MATCH(G$14,recette,0)+1, ,0,"bdcr"),0),"0") -> 0 | H78: =IFERROR(INDIRECT(ADDRESS(MATCH($A78,ingrédient,0)+1,MATCH(H$14,recette,0)+1, ,0,"bdcr"),0),"0") -> 0 | I78: =IFERROR(INDIRECT(ADDRESS(MATCH($A78,ingrédient,0)+1,MATCH(I$14,recette,0)+1, ,0,"bdcr"),0),"0") -> 0 | J78: =IFERROR(INDIRECT(ADDRESS(MATCH($A78,ingrédient,0)+1,MATCH(J$14,recette,0)+1, ,0,"bdcr"),0),"0") -> 0 | K78: =B78*$C$3+C78*$C$4+D78*$C$5+E78*$C$6+F78*$C$7+G78*$C$8+H78*$C$9+I78*$C$10+J78*$C$11 -> 0 | L78: mètre
A79: =bdcr!A66 -> bm | B79: =IFERROR(INDIRECT(ADDRESS(MATCH($A79,ingrédient,0)+1,MATCH(B$14,recette,0)+1, ,0,"bdcr"),0),"0") -> 0 | C79: =IFERROR(INDIRECT(ADDRESS(MATCH($A79,ingrédient,0)+1,MATCH(C$14,recette,0)+1, ,0,"bdcr"),0),"0") -> 0 | D79: =IFERROR(INDIRECT(ADDRESS(MATCH($A79,ingrédient,0)+1,MATCH(D$14,recette,0)+1, ,0,"bdcr"),0),"0") -> 0 | E79: =IFERROR(INDIRECT(ADDRESS(MATCH($A79,ingrédient,0)+1,MATCH(E$14,recette,0)+1, ,0,"bdcr"),0),"0") -> 0 | F79: =IFERROR(INDIRECT(ADDRESS(MATCH($A79,ingrédient,0)+1,MATCH(F$14,recette,0)+1, ,0,"bdcr"),0),"0") -> 0 | G79: =IFERROR(INDIRECT(ADDRESS(MATCH($A79,ingrédient,0)+1,MATCH(G$14,recette,0)+1, ,0,"bdcr"),0),"0") -> 0 | H79: =IFERROR(INDIRECT(ADDRESS(MATCH($A79,ingrédient,0)+1,MATCH(H$14,recette,0)+1, ,0,"bdcr"),0),"0") -> 0 | I79: =IFERROR(INDIRECT(ADDRESS(MATCH($A79,ingrédient,0)+1,MATCH(I$14,recette,0)+1, ,0,"bdcr"),0),"0") -> 0 | J79: =IFERROR(INDIRECT(ADDRESS(MATCH($A79,ingrédient,0)+1,MATCH(J$14,recette,0)+1, ,0,"bdcr"),0),"0") -> 0 | K79: =B79*$C$3+C79*$C$4+D79*$C$5+E79*$C$6+F79*$C$7+G79*$C$8+H79*$C$9+I79*$C$10+J79*$C$11 -> 0 | L79: mètre
A80: =bdcr!A67 -> bn | B80: =IFERROR(INDIRECT(ADDRESS(MATCH($A80,ingrédient,0)+1,MATCH(B$14,recette,0)+1, ,0,"bdcr"),0),"0") -> 0 | C80: =IFERROR(INDIRECT(ADDRESS(MATCH($A80,ingrédient,0)+1,MATCH(C$14,recette,0)+1, ,0,"bdcr"),0),"0") -> 0 | D80: =IFERROR(INDIRECT(ADDRESS(MATCH($A80,ingrédient,0)+1,MATCH(D$14,recette,0)+1, ,0,"bdcr"),0),"0") -> 0 | E80: =IFERROR(INDIRECT(ADDRESS(MATCH($A80,ingrédient,0)+1,MATCH(E$14,recette,0)+1, ,0,"bdcr"),0),"0") -> 0 | F80: =IFERROR(INDIRECT(ADDRESS(MATCH($A80,ingrédient,0)+1,MATCH(F$14,recette,0)+1, ,0,"bdcr"),0),"0") -> 0 | G80: =IFERROR(INDIRECT(ADDRESS(MATCH($A80,ingrédient,0)+1,MATCH(G$14,recette,0)+1, ,0,"bdcr"),0),"0") -> 0 | H80: =IFERROR(INDIRECT(ADDRESS(MATCH($A80,ingrédient,0)+1,MATCH(H$14,recette,0)+1, ,0,"bdcr"),0),"0") -> 0 | I80: =IFERROR(INDIRECT(ADDRESS(MATCH($A80,ingrédient,0)+1,MATCH(I$14,recette,0)+1, ,0,"bdcr"),0),"0") -> 0 | J80: =IFERROR(INDIRECT(ADDRESS(MATCH($A80,ingrédient,0)+1,MATCH(J$14,recette,0)+1, ,0,"bdcr"),0),"0") -> 0 | K80: =B80*$C$3+C80*$C$4+D80*$C$5+E80*$C$6+F80*$C$7+G80*$C$8+H80*$C$9+I80*$C$10+J80*$C$11 -> 0 | L80: mètre
A81: =bdcr!A68 -> bo | B81: =IFERROR(INDIRECT(ADDRESS(MATCH($A81,ingrédient,0)+1,MATCH(B$14,recette,0)+1, ,0,"bdcr"),0),"0") -> 0 | C81: =IFERROR(INDIRECT(ADDRESS(MATCH($A81,ingrédient,0)+1,MATCH(C$14,recette,0)+1, ,0,"bdcr"),0),"0") -> 0 | D81: =IFERROR(INDIRECT(ADDRESS(MATCH($A81,ingrédient,0)+1,MATCH(D$14,recette,0)+1, ,0,"bdcr"),0),"0") -> 0 | E81: =IFERROR(INDIRECT(ADDRESS(MATCH($A81,ingrédient,0)+1,MATCH(E$14,recette,0)+1, ,0,"bdcr"),0),"0") -> 0 | F81: =IFERROR(INDIRECT(ADDRESS(MATCH($A81,ingrédient,0)+1,MATCH(F$14,recette,0)+1, ,0,"bdcr"),0),"0") -> 0 | G81: =IFERROR(INDIRECT(ADDRESS(MATCH($A81,ingrédient,0)+1,MATCH(G$14,recette,0)+1, ,0,"bdcr"),0),"0") -> 0 | H81: =IFERROR(INDIRECT(ADDRESS(MATCH($A81,ingrédient,0)+1,MATCH(H$14,recette,0)+1, ,0,"bdcr"),0),"0") -> 0 | I81: =IFERROR(INDIRECT(ADDRESS(MATCH($A81,ingrédient,0)+1,MATCH(I$14,recette,0)+1, ,0,"bdcr"),0),"0") -> 0 | J81: =IFERROR(INDIRECT(ADDRESS(MATCH($A81,ingrédient,0)+1,MATCH(J$14,recette,0)+1, ,0,"bdcr"),0),"0") -> 0 | K81: =B81*$C$3+C81*$C$4+D81*$C$5+E81*$C$6+F81*$C$7+G81*$C$8+H81*$C$9+I81*$C$10+J81*$C$11 -> 0 | L81: paltte de panière
A82: =bdcr!A69 -> bp | B82: =IFERROR(INDIRECT(ADDRESS(MATCH($A82,ingrédient,0)+1,MATCH(B$14,recette,0)+1, ,0,"bdcr"),0),"0") -> 0 | C82: =IFERROR(INDIRECT(ADDRESS(MATCH($A82,ingrédient,0)+1,MATCH(C$14,recette,0)+1, ,0,"bdcr"),0),"0") -> 0 | D82: =IFERROR(INDIRECT(ADDRESS(MATCH($A82,ingrédient,0)+1,MATCH(D$14,recette,0)+1, ,0,"bdcr"),0),"0") -> 0 | E82: =IFERROR(INDIRECT(ADDRESS(MATCH($A82,ingrédient,0)+1,MATCH(E$14,recette,0)+1, ,0,"bdcr"),0),"0") -> 0 | F82: =IFERROR(INDIRECT(ADDRESS(MATCH($A82,ingrédient,0)+1,MATCH(F$14,recette,0)+1, ,0,"bdcr"),0),"0") -> 0 | G82: =IFERROR(INDIRECT(ADDRESS(MATCH($A82,ingrédient,0)+1,MATCH(G$14,recette,0)+1, ,0,"bdcr"),0),"0") -> 0 | H82: =IFERROR(INDIRECT(ADDRESS(MATCH($A82,ingrédient,0)+1,MATCH(H$14,recette,0)+1, ,0,"bdcr"),0),"0") -> 0 | I82: =IFERROR(INDIRECT(ADDRESS(MATCH($A82,ingrédient,0)+1,MATCH(I$14,recette,0)+1, ,0,"bdcr"),0),"0") -> 0 | J82: =IFERROR(INDIRECT(ADDRESS(MATCH($A82,ingrédient,0)+1,MATCH(J$14,recette,0)+1, ,0,"bdcr"),0),"0") -> 0 | K82: =B82*$C$3+C82*$C$4+D82*$C$5+E82*$C$6+F82*$C$7+G82*$C$8+H82*$C$9+I82*$C$10+J82*$C$11 -> 0 | L82: paltte de panière
A83: =bdcr!A70 -> bq | B83: =IFERROR(INDIRECT(ADDRESS(MATCH($A83,ingrédient,0)+1,MATCH(B$14,recette,0)+1, ,0,"bdcr"),0),"0") -> 0 | C83: =IFERROR(INDIRECT(ADDRESS(MATCH($A83,ingrédient,0)+1,MATCH(C$14,recette,0)+1, ,0,"bdcr"),0),"0") -> 0 | D83: =IFERROR(INDIRECT(ADDRESS(MATCH($A83,ingrédient,0)+1,MATCH(D$14,recette,0)+1, ,0,"bdcr"),0),"0") -> 0 | E83: =IFERROR(INDIRECT(ADDRESS(MATCH($A83,ingrédient,0)+1,MATCH(E$14,recette,0)+1, ,0,"bdcr"),0),"0") -> 0 | F83: =IFERROR(INDIRECT(ADDRESS(MATCH($A83,ingrédient,0)+1,MATCH(F$14,recette,0)+1, ,0,"bdcr"),0),"0") -> 0 | G83: =IFERROR(INDIRECT(ADDRESS(MATCH($A83,ingrédient,0)+1,MATCH(G$14,recette,0)+1, ,0,"bdcr"),0),"0") -> 0 | H83: =IFERROR(INDIRECT(ADDRESS(MATCH($A83,ingrédient,0)+1,MATCH(H$14,recette,0)+1, ,0,"bdcr"),0),"0") -> 0 | I83: =IFERROR(INDIRECT(ADDRESS(MATCH($A83,ingrédient,0)+1,MATCH(I$14,recette,0)+1, ,0,"bdcr"),0),"0") -> 0 | J83: =IFERROR(INDIRECT(ADDRESS(MATCH($A83,ingrédient,0)+1,MATCH(J$14,recette,0)+1, ,0,"bdcr"),0),"0") -> 0 | K83: =B83*$C$3+C83*$C$4+D83*$C$5+E83*$C$6+F83*$C$7+G83*$C$8+H83*$C$9+I83*$C$10+J83*$C$11 -> 0 | L83: paltte de panière
A84: =bdcr!A71 -> br | B84: =IFERROR(INDIRECT(ADDRESS(MATCH($A84,ingrédient,0)+1,MATCH(B$14,recette,0)+1, ,0,"bdcr"),0),"0") -> 0 | C84: =IFERROR(INDIRECT(ADDRESS(MATCH($A84,ingrédient,0)+1,MATCH(C$14,recette,0)+1, ,0,"bdcr"),0),"0") -> 0 | D84: =IFERROR(INDIRECT(ADDRESS(MATCH($A84,ingrédient,0)+1,MATCH(D$14,recette,0)+1, ,0,"bdcr"),0),"0") -> 0 | E84: =IFERROR(INDIRECT(ADDRESS(MATCH($A84,ingrédient,0)+1,MATCH(E$14,recette,0)+1, ,0,"bdcr"),0),"0") -> 0 | F84: =IFERROR(INDIRECT(ADDRESS(MATCH($A84,ingrédient,0)+1,MATCH(F$14,recette,0)+1, ,0,"bdcr"),0),"0") -> 0 | G84: =IFERROR(INDIRECT(ADDRESS(MATCH($A84,ingrédient,0)+1,MATCH(G$14,recette,0)+1, ,0,"bdcr"),0),"0") -> 0 | H84: =IFERROR(INDIRECT(ADDRESS(MATCH($A84,ingrédient,0)+1,MATCH(H$14,recette,0)+1, ,0,"bdcr"),0),"0") -> 0 | I84: =IFERROR(INDIRECT(ADDRESS(MATCH($A84,ingrédient,0)+1,MATCH(I$14,recette,0)+1, ,0,"bdcr"),0),"0") -> 0 | J84: =IFERROR(INDIRECT(ADDRESS(MATCH($A84,ingrédient,0)+1,MATCH(J$14,recette,0)+1, ,0,"bdcr"),0),"0") -> 0 | K84: =B84*$C$3+C84*$C$4+D84*$C$5+E84*$C$6+F84*$C$7+G84*$C$8+H84*$C$9+I84*$C$10+J84*$C$11 -> 0
A85: =bdcr!A72 -> bs | B85: =IFERROR(INDIRECT(ADDRESS(MATCH($A85,ingrédient,0)+1,MATCH(B$14,recette,0)+1, ,0,"bdcr"),0),"0") -> 0 | C85: =IFERROR(INDIRECT(ADDRESS(MATCH($A85,ingrédient,0)+1,MATCH(C$14,recette,0)+1, ,0,"bdcr"),0),"0") -> 0 | D85: =IFERROR(INDIRECT(ADDRESS(MATCH($A85,ingrédient,0)+1,MATCH(D$14,recette,0)+1, ,0,"bdcr"),0),"0") -> 0 | E85: =IFERROR(INDIRECT(ADDRESS(MATCH($A85,ingrédient,0)+1,MATCH(E$14,recette,0)+1, ,0,"bdcr"),0),"0") -> 0 | F85: =IFERROR(INDIRECT(ADDRESS(MATCH($A85,ingrédient,0)+1,MATCH(F$14,recette,0)+1, ,0,"bdcr"),0),"0") -> 0 | G85: =IFERROR(INDIRECT(ADDRESS(MATCH($A85,ingrédient,0)+1,MATCH(G$14,recette,0)+1, ,0,"bdcr"),0),"0") -> 0 | H85: =IFERROR(INDIRECT(ADDRESS(MATCH($A85,ingrédient,0)+1,MATCH(H$14,recette,0)+1, ,0,"bdcr"),0),"0") -> 0 | I85: =IFERROR(INDIRECT(ADDRESS(MATCH($A85,ingrédient,0)+1,MATCH(I$14,recette,0)+1, ,0,"bdcr"),0),"0") -> 0 | J85: =IFERROR(INDIRECT(ADDRESS(MATCH($A85,ingrédient,0)+1,MATCH(J$14,recette,0)+1, ,0,"bdcr"),0),"0") -> 0 | K85: =B85*$C$3+C85*$C$4+D85*$C$5+E85*$C$6+F85*$C$7+G85*$C$8+H85*$C$9+I85*$C$10+J85*$C$11 -> 0
A86: =bdcr!A73 -> bt | B86: =IFERROR(INDIRECT(ADDRESS(MATCH($A86,ingrédient,0)+1,MATCH(B$14,recette,0)+1, ,0,"bdcr"),0),"0") -> 0 | C86: =IFERROR(INDIRECT(ADDRESS(MATCH($A86,ingrédient,0)+1,MATCH(C$14,recette,0)+1, ,0,"bdcr"),0),"0") -> 0 | D86: =IFERROR(INDIRECT(ADDRESS(MATCH($A86,ingrédient,0)+1,MATCH(D$14,recette,0)+1, ,0,"bdcr"),0),"0") -> 0 | E86: =IFERROR(INDIRECT(ADDRESS(MATCH($A86,ingrédient,0)+1,MATCH(E$14,recette,0)+1, ,0,"bdcr"),0),"0") -> 0 | F86: =IFERROR(INDIRECT(ADDRESS(MATCH($A86,ingrédient,0)+1,MATCH(F$14,recette,0)+1, ,0,"bdcr"),0),"0") -> 0 | G86: =IFERROR(INDIRECT(ADDRESS(MATCH($A86,ingrédient,0)+1,MATCH(G$14,recette,0)+1, ,0,"bdcr"),0),"0") -> 0 | H86: =IFERROR(INDIRECT(ADDRESS(MATCH($A86,ingrédient,0)+1,MATCH(H$14,recette,0)+1, ,0,"bdcr"),0),"0") -> 0 | I86: =IFERROR(INDIRECT(ADDRESS(MATCH($A86,ingrédient,0)+1,MATCH(I$14,recette,0)+1, ,0,"bdcr"),0),"0") -> 0 | J86: =IFERROR(INDIRECT(ADDRESS(MATCH($A86,ingrédient,0)+1,MATCH(J$14,recette,0)+1, ,0,"bdcr"),0),"0") -> 0 | K86: =B86*$C$3+C86*$C$4+D86*$C$5+E86*$C$6+F86*$C$7+G86*$C$8+H86*$C$9+I86*$C$10+J86*$C$11 -> 0
A87: =bdcr!A74 -> bu | B87: =IFERROR(INDIRECT(ADDRESS(MATCH($A87,ingrédient,0)+1,MATCH(B$14,recette,0)+1, ,0,"bdcr"),0),"0") -> 0 | C87: =IFERROR(INDIRECT(ADDRESS(MATCH($A87,ingrédient,0)+1,MATCH(C$14,recette,0)+1, ,0,"bdcr"),0),"0") -> 0 | D87: =IFERROR(INDIRECT(ADDRESS(MATCH($A87,ingrédient,0)+1,MATCH(D$14,recette,0)+1, ,0,"bdcr"),0),"0") -> 0 | E87: =IFERROR(INDIRECT(ADDRESS(MATCH($A87,ingrédient,0)+1,MATCH(E$14,recette,0)+1, ,0,"bdcr"),0),"0") -> 0 | F87: =IFERROR(INDIRECT(ADDRESS(MATCH($A87,ingrédient,0)+1,MATCH(F$14,recette,0)+1, ,0,"bdcr"),0),"0") -> 0 | G87: =IFERROR(INDIRECT(ADDRESS(MATCH($A87,ingrédient,0)+1,MATCH(G$14,recette,0)+1, ,0,"bdcr"),0),"0") -> 0 | H87: =IFERROR(INDIRECT(ADDRESS(MATCH($A87,ingrédient,0)+1,MATCH(H$14,recette,0)+1, ,0,"bdcr"),0),"0") -> 0 | I87: =IFERROR(INDIRECT(ADDRESS(MATCH($A87,ingrédient,0)+1,MATCH(I$14,recette,0)+1, ,0,"bdcr"),0),"0") -> 0 | J87: =IFERROR(INDIRECT(ADDRESS(MATCH($A87,ingrédient,0)+1,MATCH(J$14,recette,0)+1, ,0,"bdcr"),0),"0") -> 0 | K87: =B87*$C$3+C87*$C$4+D87*$C$5+E87*$C$6+F87*$C$7+G87*$C$8+H87*$C$9+I87*$C$10+J87*$C$11 -> 0
A88: =bdcr!A75 -> bv | B88: =IFERROR(INDIRECT(ADDRESS(MATCH($A88,ingrédient,0)+1,MATCH(B$14,recette,0)+1, ,0,"bdcr"),0),"0") -> 0 | C88: =IFERROR(INDIRECT(ADDRESS(MATCH($A88,ingrédient,0)+1,MATCH(C$14,recette,0)+1, ,0,"bdcr"),0),"0") -> 0 | D88: =IFERROR(INDIRECT(ADDRESS(MATCH($A88,ingrédient,0)+1,MATCH(D$14,recette,0)+1, ,0,"bdcr"),0),"0") -> 0 | E88: =IFERROR(INDIRECT(ADDRESS(MATCH($A88,ingrédient,0)+1,MATCH(E$14,recette,0)+1, ,0,"bdcr"),0),"0") -> 0 | F88: =IFERROR(INDIRECT(ADDRESS(MATCH($A88,ingrédient,0)+1,MATCH(F$14,recette,0)+1, ,0,"bdcr"),0),"0") -> 0 | G88: =IFERROR(INDIRECT(ADDRESS(MATCH($A88,ingrédient,0)+1,MATCH(G$14,recette,0)+1, ,0,"bdcr"),0),"0") -> 0 | H88: =IFERROR(INDIRECT(ADDRESS(MATCH($A88,ingrédient,0)+1,MATCH(H$14,recette,0)+1, ,0,"bdcr"),0),"0") -> 0 | I88: =IFERROR(INDIRECT(ADDRESS(MATCH($A88,ingrédient,0)+1,MATCH(I$14,recette,0)+1, ,0,"bdcr"),0),"0") -> 0 | J88: =IFERROR(INDIRECT(ADDRESS(MATCH($A88,ingrédient,0)+1,MATCH(J$14,recette,0)+1, ,0,"bdcr"),0),"0") -> 0 | K88: =B88*$C$3+C88*$C$4+D88*$C$5+E88*$C$6+F88*$C$7+G88*$C$8+H88*$C$9+I88*$C$10+J88*$C$11 -> 0
A89: =bdcr!A76 -> bw | B89: =IFERROR(INDIRECT(ADDRESS(MATCH($A89,ingrédient,0)+1,MATCH(B$14,recette,0)+1, ,0,"bdcr"),0),"0") -> 0 | C89: =IFERROR(INDIRECT(ADDRESS(MATCH($A89,ingrédient,0)+1,MATCH(C$14,recette,0)+1, ,0,"bdcr"),0),"0") -> 0 | D89: =IFERROR(INDIRECT(ADDRESS(MATCH($A89,ingrédient,0)+1,MATCH(D$14,recette,0)+1, ,0,"bdcr"),0),"0") -> 0 | E89: =IFERROR(INDIRECT(ADDRESS(MATCH($A89,ingrédient,0)+1,MATCH(E$14,recette,0)+1, ,0,"bdcr"),0),"0") -> 0 | F89: =IFERROR(INDIRECT(ADDRESS(MATCH($A89,ingrédient,0)+1,MATCH(F$14,recette,0)+1, ,0,"bdcr"),0),"0") -> 0 | G89: =IFERROR(INDIRECT(ADDRESS(MATCH($A89,ingrédient,0)+1,MATCH(G$14,recette,0)+1, ,0,"bdcr"),0),"0") -> 0 | H89: =IFERROR(INDIRECT(ADDRESS(MATCH($A89,ingrédient,0)+1,MATCH(H$14,recette,0)+1, ,0,"bdcr"),0),"0") -> 0 | I89: =IFERROR(INDIRECT(ADDRESS(MATCH($A89,ingrédient,0)+1,MATCH(I$14,recette,0)+1, ,0,"bdcr"),0),"0") -> 0 | J89: =IFERROR(INDIRECT(ADDRESS(MATCH($A89,ingrédient,0)+1,MATCH(J$14,recette,0)+1, ,0,"bdcr"),0),"0") -> 0 | K89: =B89*$C$3+C89*$C$4+D89*$C$5+E89*$C$6+F89*$C$7+G89*$C$8+H89*$C$9+I89*$C$10+J89*$C$11 -> 0
A90: =bdcr!A77 -> bx | B90: =IFERROR(INDIRECT(ADDRESS(MATCH($A90,ingrédient,0)+1,MATCH(B$14,recette,0)+1, ,0,"bdcr"),0),"0") -> 0 | C90: =IFERROR(INDIRECT(ADDRESS(MATCH($A90,ingrédient,0)+1,MATCH(C$14,recette,0)+1, ,0,"bdcr"),0),"0") -> 0 | D90: =IFERROR(INDIRECT(ADDRESS(MATCH($A90,ingrédient,0)+1,MATCH(D$14,recette,0)+1, ,0,"bdcr"),0),"0") -> 0 | E90: =IFERROR(INDIRECT(ADDRESS(MATCH($A90,ingrédient,0)+1,MATCH(E$14,recette,0)+1, ,0,"bdcr"),0),"0") -> 0 | F90: =IFERROR(INDIRECT(ADDRESS(MATCH($A90,ingrédient,0)+1,MATCH(F$14,recette,0)+1, ,0,"bdcr"),0),"0") -> 0 | G90: =IFERROR(INDIRECT(ADDRESS(MATCH($A90,ingrédient,0)+1,MATCH(G$14,recette,0)+1, ,0,"bdcr"),0),"0") -> 0 | H90: =IFERROR(INDIRECT(ADDRESS(MATCH($A90,ingrédient,0)+1,MATCH(H$14,recette,0)+1, ,0,"bdcr"),0),"0") -> 0 | I90: =IFERROR(INDIRECT(ADDRESS(MATCH($A90,ingrédient,0)+1,MATCH(I$14,recette,0)+1, ,0,"bdcr"),0),"0") -> 0 | J90: =IFERROR(INDIRECT(ADDRESS(MATCH($A90,ingrédient,0)+1,MATCH(J$14,recette,0)+1, ,0,"bdcr"),0),"0") -> 0 | K90: =B90*$C$3+C90*$C$4+D90*$C$5+E90*$C$6+F90*$C$7+G90*$C$8+H90*$C$9+I90*$C$10+J90*$C$11 -> 0
A91: =bdcr!A78 -> by | B91: =IFERROR(INDIRECT(ADDRESS(MATCH($A91,ingrédient,0)+1,MATCH(B$14,recette,0)+1, ,0,"bdcr"),0),"0") -> 0 | C91: =IFERROR(INDIRECT(ADDRESS(MATCH($A91,ingrédient,0)+1,MATCH(C$14,recette,0)+1, ,0,"bdcr"),0),"0") -> 0 | D91: =IFERROR(INDIRECT(ADDRESS(MATCH($A91,ingrédient,0)+1,MATCH(D$14,recette,0)+1, ,0,"bdcr"),0),"0") -> 0 | E91: =IFERROR(INDIRECT(ADDRESS(MATCH($A91,ingrédient,0)+1,MATCH(E$14,recette,0)+1, ,0,"bdcr"),0),"0") -> 0 | F91: =IFERROR(INDIRECT(ADDRESS(MATCH($A91,ingrédient,0)+1,MATCH(F$14,recette,0)+1, ,0,"bdcr"),0),"0") -> 0 | G91: =IFERROR(INDIRECT(ADDRESS(MATCH($A91,ingrédient,0)+1,MATCH(G$14,recette,0)+1, ,0,"bdcr"),0),"0") -> 0 | H91: =IFERROR(INDIRECT(ADDRESS(MATCH($A91,ingrédient,0)+1,MATCH(H$14,recette,0)+1, ,0,"bdcr"),0),"0") -> 0 | I91: =IFERROR(INDIRECT(ADDRESS(MATCH($A91,ingrédient,0)+1,MATCH(I$14,recette,0)+1, ,0,"bdcr"),0),"0") -> 0 | J91: =IFERROR(INDIRECT(ADDRESS(MATCH($A91,ingrédient,0)+1,MATCH(J$14,recette,0)+1, ,0,"bdcr"),0),"0") -> 0 | K91: =B91*$C$3+C91*$C$4+D91*$C$5+E91*$C$6+F91*$C$7+G91*$C$8+H91*$C$9+I91*$C$10+J91*$C$11 -> 0
A92: =bdcr!A79 -> bz | B92: =IFERROR(INDIRECT(ADDRESS(MATCH($A92,ingrédient,0)+1,MATCH(B$14,recette,0)+1, ,0,"bdcr"),0),"0") -> 0 | C92: =IFERROR(INDIRECT(ADDRESS(MATCH($A92,ingrédient,0)+1,MATCH(C$14,recette,0)+1, ,0,"bdcr"),0),"0") -> 0 | D92: =IFERROR(INDIRECT(ADDRESS(MATCH($A92,ingrédient,0)+1,MATCH(D$14,recette,0)+1, ,0,"bdcr"),0),"0") -> 0 | E92: =IFERROR(INDIRECT(ADDRESS(MATCH($A92,ingrédient,0)+1,MATCH(E$14,recette,0)+1, ,0,"bdcr"),0),"0") -> 0 | F92: =IFERROR(INDIRECT(ADDRESS(MATCH($A92,ingrédient,0)+1,MATCH(F$14,recette,0)+1, ,0,"bdcr"),0),"0") -> 0 | G92: =IFERROR(INDIRECT(ADDRESS(MATCH($A92,ingrédient,0)+1,MATCH(G$14,recette,0)+1, ,0,"bdcr"),0),"0") -> 0 | H92: =IFERROR(INDIRECT(ADDRESS(MATCH($A92,ingrédient,0)+1,MATCH(H$14,recette,0)+1, ,0,"bdcr"),0),"0") -> 0 | I92: =IFERROR(INDIRECT(ADDRESS(MATCH($A92,ingrédient,0)+1,MATCH(I$14,recette,0)+1, ,0,"bdcr"),0),"0") -> 0 | J92: =IFERROR(INDIRECT(ADDRESS(MATCH($A92,ingrédient,0)+1,MATCH(J$14,recette,0)+1, ,0,"bdcr"),0),"0") -> 0 | K92: =B92*$C$3+C92*$C$4+D92*$C$5+E92*$C$6+F92*$C$7+G92*$C$8+H92*$C$9+I92*$C$10+J92*$C$11 -> 0
A93: =bdcr!A80 -> ca | B93: =IFERROR(INDIRECT(ADDRESS(MATCH($A93,ingrédient,0)+1,MATCH(B$14,recette,0)+1, ,0,"bdcr"),0),"0") -> 0 | C93: =IFERROR(INDIRECT(ADDRESS(MATCH($A93,ingrédient,0)+1,MATCH(C$14,recette,0)+1, ,0,"bdcr"),0),"0") -> 0 | D93: =IFERROR(INDIRECT(ADDRESS(MATCH($A93,ingrédient,0)+1,MATCH(D$14,recette,0)+1, ,0,"bdcr"),0),"0") -> 0 | E93: =IFERROR(INDIRECT(ADDRESS(MATCH($A93,ingrédient,0)+1,MATCH(E$14,recette,0)+1, ,0,"bdcr"),0),"0") -> 0 | F93: =IFERROR(INDIRECT(ADDRESS(MATCH($A93,ingrédient,0)+1,MATCH(F$14,recette,0)+1, ,0,"bdcr"),0),"0") -> 0 | G93: =IFERROR(INDIRECT(ADDRESS(MATCH($A93,ingrédient,0)+1,MATCH(G$14,recette,0)+1, ,0,"bdcr"),0),"0") -> 0 | H93: =IFERROR(INDIRECT(ADDRESS(MATCH($A93,ingrédient,0)+1,MATCH(H$14,recette,0)+1, ,0,"bdcr"),0),"0") -> 0 | I93: =IFERROR(INDIRECT(ADDRESS(MATCH($A93,ingrédient,0)+1,MATCH(I$14,recette,0)+1, ,0,"bdcr"),0),"0") -> 0 | J93: =IFERROR(INDIRECT(ADDRESS(MATCH($A93,ingrédient,0)+1,MATCH(J$14,recette,0)+1, ,0,"bdcr"),0),"0") -> 0 | K93: =B93*$C$3+C93*$C$4+D93*$C$5+E93*$C$6+F93*$C$7+G93*$C$8+H93*$C$9+I93*$C$10+J93*$C$11 -> 0
A94: =bdcr!A81 -> cb | B94: =IFERROR(INDIRECT(ADDRESS(MATCH($A94,ingrédient,0)+1,MATCH(B$14,recette,0)+1, ,0,"bdcr"),0),"0") -> 215 | C94: =IFERROR(INDIRECT(ADDRESS(MATCH($A94,ingrédient,0)+1,MATCH(C$14,recette,0)+1, ,0,"bdcr"),0),"0") -> 0 | D94: =IFERROR(INDIRECT(ADDRESS(MATCH($A94,ingrédient,0)+1,MATCH(D$14,recette,0)+1, ,0,"bdcr"),0),"0") -> 0 | E94: =IFERROR(INDIRECT(ADDRESS(MATCH($A94,ingrédient,0)+1,MATCH(E$14,recette,0)+1, ,0,"bdcr"),0),"0") -> 0 | F94: =IFERROR(INDIRECT(ADDRESS(MATCH($A94,ingrédient,0)+1,MATCH(F$14,recette,0)+1, ,0,"bdcr"),0),"0") -> 215 | G94: =IFERROR(INDIRECT(ADDRESS(MATCH($A94,ingrédient,0)+1,MATCH(G$14,recette,0)+1, ,0,"bdcr"),0),"0") -> 0 | H94: =IFERROR(INDIRECT(ADDRESS(MATCH($A94,ingrédient,0)+1,MATCH(H$14,recette,0)+1, ,0,"bdcr"),0),"0") -> 0 | I94: =IFERROR(INDIRECT(ADDRESS(MATCH($A94,ingrédient,0)+1,MATCH(I$14,recette,0)+1, ,0,"bdcr"),0),"0") -> 0 | J94: =IFERROR(INDIRECT(ADDRESS(MATCH($A94,ingrédient,0)+1,MATCH(J$14,recette,0)+1, ,0,"bdcr"),0),"0") -> 0 | K94: =B94*$C$3+C94*$C$4+D94*$C$5+E94*$C$6+F94*$C$7+G94*$C$8+H94*$C$9+I94*$C$10+J94*$C$11 -> 6450
A95: =bdcr!A82 -> cc | B95: =IFERROR(INDIRECT(ADDRESS(MATCH($A95,ingrédient,0)+1,MATCH(B$14,recette,0)+1, ,0,"bdcr"),0),"0") -> 0 | C95: =IFERROR(INDIRECT(ADDRESS(MATCH($A95,ingrédient,0)+1,MATCH(C$14,recette,0)+1, ,0,"bdcr"),0),"0") -> 0 | D95: =IFERROR(INDIRECT(ADDRESS(MATCH($A95,ingrédient,0)+1,MATCH(D$14,recette,0)+1, ,0,"bdcr"),0),"0") -> 0 | E95: =IFERROR(INDIRECT(ADDRESS(MATCH($A95,ingrédient,0)+1,MATCH(E$14,recette,0)+1, ,0,"bdcr"),0),"0") -> 0 | F95: =IFERROR(INDIRECT(ADDRESS(MATCH($A95,ingrédient,0)+1,MATCH(F$14,recette,0)+1, ,0,"bdcr"),0),"0") -> 0 | G95: =IFERROR(INDIRECT(ADDRESS(MATCH($A95,ingrédient,0)+1,MATCH(G$14,recette,0)+1, ,0,"bdcr"),0),"0") -> 0 | H95: =IFERROR(INDIRECT(ADDRESS(MATCH($A95,ingrédient,0)+1,MATCH(H$14,recette,0)+1, ,0,"bdcr"),0),"0") -> 0 | I95: =IFERROR(INDIRECT(ADDRESS(MATCH($A95,ingrédient,0)+1,MATCH(I$14,recette,0)+1, ,0,"bdcr"),0),"0") -> 0 | J95: =IFERROR(INDIRECT(ADDRESS(MATCH($A95,ingrédient,0)+1,MATCH(J$14,recette,0)+1, ,0,"bdcr"),0),"0") -> 0 | K95: =B95*$C$3+C95*$C$4+D95*$C$5+E95*$C$6+F95*$C$7+G95*$C$8+H95*$C$9+I95*$C$10+J95*$C$11 -> 0
A96: =bdcr!A83 -> cd | B96: =IFERROR(INDIRECT(ADDRESS(MATCH($A96,ingrédient,0)+1,MATCH(B$14,recette,0)+1, ,0,"bdcr"),0),"0") -> 0 | C96: =IFERROR(INDIRECT(ADDRESS(MATCH($A96,ingrédient,0)+1,MATCH(C$14,recette,0)+1, ,0,"bdcr"),0),"0") -> 0 | D96: =IFERROR(INDIRECT(ADDRESS(MATCH($A96,ingrédient,0)+1,MATCH(D$14,recette,0)+1, ,0,"bdcr"),0),"0") -> 0 | E96: =IFERROR(INDIRECT(ADDRESS(MATCH($A96,ingrédient,0)+1,MATCH(E$14,recette,0)+1, ,0,"bdcr"),0),"0") -> 0 | F96: =IFERROR(INDIRECT(ADDRESS(MATCH($A96,ingrédient,0)+1,MATCH(F$14,recette,0)+1, ,0,"bdcr"),0),"0") -> 0 | G96: =IFERROR(INDIRECT(ADDRESS(MATCH($A96,ingrédient,0)+1,MATCH(G$14,recette,0)+1, ,0,"bdcr"),0),"0") -> 0 | H96: =IFERROR(INDIRECT(ADDRESS(MATCH($A96,ingrédient,0)+1,MATCH(H$14,recette,0)+1, ,0,"bdcr"),0),"0") -> 0 | I96: =IFERROR(INDIRECT(ADDRESS(MATCH($A96,ingrédient,0)+1,MATCH(I$14,recette,0)+1, ,0,"bdcr"),0),"0") -> 0 | J96: =IFERROR(INDIRECT(ADDRESS(MATCH($A96,ingrédient,0)+1,MATCH(J$14,recette,0)+1, ,0,"bdcr"),0),"0") -> 0 | K96: =B96*$C$3+C96*$C$4+D96*$C$5+E96*$C$6+F96*$C$7+G96*$C$8+H96*$C$9+I96*$C$10+J96*$C$11 -> 0

Sheet bdcr
B1: pdt 1 | C1: pdt2 | D1: pdt 3 | E1: pdt 4 | F1: pdt 5 | G1: pdt 6 | H1: pdt 7 | I1: pdt 8 | J1: pdt 9 | K1: pdt 10 | L1: pdt 11 | M1: pdt 12 | N1: pdt 13 | O1: pdt 14 | Q1: pdt 15 | R1: pdt 16 | S1: pdt 17 | T1: pdt 18 | U1: pdt 19 | V1: pdt 20 | W1: pdt 21 | X1: pdt 22 | Y1: pdt 23 | AA1: pdt 24 | AB1: pdt 25 | AC1: pdt 26 | AE1: pdt 27 | AG1: pdt 28
A2: a | B2: 581 | C2: =370+247 -> 617 | D2: =360+238 -> 598 | E2: =374+252 -> 626 | F2: =369+247 -> 616 | G2: =265+177 -> 442 | H2: =376+251 -> 627 | I2: =305*2 -> 610 | J2: =305*2 -> 610 | K2: =282+188 -> 470 | L2: =291*2 -> 582 | Q2: =363+243 -> 606 | R2: =250+167 -> 417 | S2: =382+255 -> 637 | T2: =209+140 -> 349 | U2: =338+225 -> 563 | V2: =288+192 -> 480 | AA2: =325+209 -> 534 | AB2: =392+252 -> 644 | AC2: =383+247 -> 630 | AE2: =238+158 -> 396 | AG2: =319+205 -> 524
A3: b | B3: 75.7 | C3: 80.1 | D3: 77.8 | E3: 63.2 | F3: 79.9 | G3: 35.3 | H3: 63.1 | I3: 79.9 | J3: 79.9 | K3: 61.5 | L3: 58.9 | Q3: 66.7 | R3: 37.5 | S3: 76.5 | T3: 26.2 | U3: 16.6 | V3: 43.1 | AA3: =27 -> 27 | AB3: 32.6 | AC3: 31.7 | AE3: =27.5 -> 27.5 | AG3: 26.5
A4: c | B4: 10.5 | C4: 10.9 | D4: 10.4 | E4: 8.4 | F4: 9.7 | G4: 6.6 | H4: 8.4 | I4: 11 | J4: 10 | K4: 8.5 | L4: 8 | Q4: 12.1 | R4: 8.3 | S4: 12.8 | T4: 6.6 | U4: 10.3 | V4: 9.5 | AA4: 9.6 | AB4: 11.5 | AC4: 11.3 | AE4: 7.1 | AG4: 9.4
A5: d | B5: 1.97 | C5: 2.28 | D5: 2.5 | E5: 1.4 | F5: 1.8 | G5: 1.9 | H5: 1.64 | I5: 1.58 | J5: 1.3 | K5: 1.08 | L5: 1.63 | Q5: 2.73 | R5: 1.88 | S5: 3.5 | T5: 1.56 | U5: 2.54 | V5: 1.7 | AA5: 1.65 | AB5: 1.33 | AC5: 2.69 | AE5: 1.13 | AG5: 1.62
A6: e | B6: 17.4 | C6: 18.5 | D6: 17.9 | E6: 18.7 | F6: 18.3 | G6: 13.4 | H6: 18.9 | I6: 18.3 | J6: 18.3 | K6: 14.1 | L6: 16.4 | Q6: 30.3 | R6: 14.6 | S6: 27.4 | T6: 10.5 | V6: 16.8 | AA6: 17.6 | AB6: 21.3 | AC6: 20.7 | AE6: 11.8 | AG6: 17.2
A7: f | B7: 0.07 | C7: 0.45 | D7: 0.3 | E7: 0.7 | F7: 1.1 | G7: 0.58 | I7: 0.6 | J7: 0.6 | L7: 0.2 | Q7: 0.3 | R7: 0.7 | S7: 0.64 | T7: 0.82 | V7: 0.61 | AA7: 0.32 | AB7: 0.6 | AC7: 0.2 | AE7: 0.2 | AG7: 0.41
A8: g | B8: 0.54 | C8: 0.5 | D8: 0.55 | G8: 0.2 | J8: 0.3 | AA8: 1.4 | AB8: 1.8 | AC8: 1.6
A9: h | AA9: 11 | AB9: 13.3 | AC9: 13 | AE9: 16.7 | AG9: 10.78
A10: i | D10: 11 | E10: 5.1 | F10: 3 | G10: 4.2 | H10: 2.6 | I10: 3.2 | J10: 3.2 | K10: 2.5 | L10: 3.2 | Q10: 2.8 | R10: 10.5 | S10: 3.8 | T10: 5.2 | U10: 2.8 | V10: 12.1 | AA10: 1 | AC10: 1.2 | AE10: 5.7 | AG10: 1
A11: j | E11: 2.25 | G11: 1.1 | H11: 2 | L11: 1.34
A12: k | D12: 0.6 | T12: 1.5 | V12: 5
A13: l | B13: =21.2+10.5 -> 31.7 | C13: =18.7+9.7 -> 28.4 | D13: =18.8+18 -> 36.8 | E13: =19+6 -> 25 | F13: =18.9+12 -> 30.9 | G13: =11.6+6.6 -> 18.2 | H13: =14.4+7 -> 21.4 | I13: =18.9+6.9 -> 25.8 | J13: =19+6.5 -> 25.5 | K13: =16.9+2.5 -> 19.4 | L13: =10+5.6 -> 15.6 | Q13: =18.4+12 -> 30.4 | R13: =13.8+6.5 -> 20.3 | S13: =19.4+16.8 -> 36.2 | T13: =10.1+0.6 -> 10.7 | U13: =18.7+13.6 -> 32.3 | V13: =15.9+10 -> 25.9 | AA13: =19.4+16.4 -> 35.8 | AB13: =23.9+5.7 -> 29.6 | AC13: =23.9+16.7 -> 40.6 | AE13: =15+1.9 -> 16.9 | AG13: =19+8.5 -> 27.5
A14: m | D14: 6 | F14: 2.3 | G14: 1.1 | J14: 3.2 | Q14: 6.1 | R14: 3.1 | S14: 9 | T14: 5.2 | U14: 5.6 | V14: 3.6 | AA14: 1 | AC14: 1.2
A15: n | U15: 5.8 | V15: 4.8
A16: o | I16: 0.13 | K16: 0.08
A17: p | I17: 60 | K17: 46 | AE17: 37
A18: q
A19: r | I19: 12 | J19: 18 | L19: 17.1
A20: s | L20: 5
A21: t | B21: 0.32 | I21: 1.9 | K21: 1.5 | Q21: 0.61 | R21: 0.84 | S21: 0.64 | U21: 0.6 | V21: 0.97
A22: u | I22: 1.9 | K22: 1.5
A23: v | B23: 0.04 | C23: 0.08 | D23: 0.13 | E23: 0.07 | F23: 0.03 | G23: 0.07 | H23: 0.04 | I23: 0.06 | J23: 0.06 | K23: 0.09 | L23: 0.03 | Q23: 0.06 | R23: 0.06 | S23: 0.08 | T23: 0.03 | U23: 0.06 | V23: 0.07 | AA23: 0.04 | AB23: 0.04 | AC23: 0.1 | AE23: 0.07 | AG23: 0.02
A24: w | I24: 3.2 | L24: 4.8
A25: x | U25: 27
A26: t | U26: 28.08
A27: y | U27: 22.68
A28: aa | U28: 50
A29: ab | AE29: 2.8
A30: ac
A31: ad
A32: ae
A33: af
A34: ag
A35: ah | C35: 25.74 | D35: 20.9 | F35: 28.14 | G35: 15 | H35: 20 | I35: 20.27 | J35: 20 | Q35: 22.3 | S35: 20 | T35: 12 | AA35: 22 | AB35: 20.11 | AC35: 19 | AG35: 22
A36: ai | G36: 30
A37: aj | H37: 10
A38: ak | H38: 30 | I38: 15 | K38: 16 | V38: 17 | AE38: 15
A39: al | L39: 10
A40: am | R40: 18
A41: an
A42: ao | V42: 57
A43: ap | U43: 22
A44: aq
A45: ar
A46: as
A47: at
A48: au
A49: av
A50: aw
A51: ax
A52: ay
A53: az
A54: ba
A55: bb
... A80: ca
A81: cb | B81: 275 | C81: 255 | E81: 270 | F81: 270 | G81: 210 | H81: 255 | I81: 270 | J81: 270 | L81: 250 | Q81: 255 | S81: 270 | AA81: 355 | AB81: 260 | AE81: 190 | AG81: 215
A82: cc | D82: 400 | K82: 400 | AC82: 250
A83: cd | R83: 400 | T83: 280 | V83: 210
