Workbook

Sheet POSSIBILITES
B4: COMBINAISONS | F4: FREQUENCE
B5: FRASNOIS | C5: BIEF | D5: FROUG | E5: NIEP | F5: 1 | H5: 1
B6: RIVIERE | C6: CHAMPA | D6: PONTAR | E6: NIHUIR | F6: 0.95 | H6: 0.95
B7: PLUCA | C7: BIEF | D7: FROUG | E7: NIEP | F7: 1.15 | H7: 1.15
B8: BIEF | C8: FROUG | D8: NIHUIR | E8: LOUPIRY | F8: 1 | H8: 1
B9: LOUPIRY | C9: BIEF | D9: TUIPIR | E9: NIEP | F9: 0.99 | H9: 1
B10: NIEP | C10: FRASNOIS | D10: CHAMPA | E10: PLUCA | F10: 1.35 | H10: 1.35

Sheet POSSIBILITES RETENUES
B4: COMBINAISONS | F4: FREQUENCE
B5: =IF(F5="","",INDIRECT("POSSIBILITES!B"&MATCH(_xlfn.MAXIFS(POSSIBILITES!$F$5:$F$10,POSSIBILITES!$F$5:$F$10,"<"&1),POSSIBILITES!$F$5:$F$10,0)+4,1)) -> LOUPIRY | C5: =IF(F5="","",INDIRECT("POSSIBILITES!C"&MATCH(_xlfn.MAXIFS(POSSIBILITES!$F$5:$F$10,POSSIBILITES!$F$5:$F$10,"<"&1),POSSIBILITES!$F$5:$F$10,0)+4,1)) -> BIEF | D5: =IF(F5="","",INDIRECT("POSSIBILITES!D"&MATCH(_xlfn.MAXIFS(POSSIBILITES!$F$5:$F$10,POSSIBILITES!$F$5:$F$10,"<"&1),POSSIBILITES!$F$5:$F$10,0)+4,1)) -> TUIPIR | E5: =IF(F5="","",INDIRECT("POSSIBILITES!E"&MATCH(_xlfn.MAXIFS(POSSIBILITES!$F$5:$F$10,POSSIBILITES!$F$5:$F$10,"<"&1),POSSIBILITES!$F$5:$F$10,0)+4,1)) -> NIEP | F5: =IF(_xlfn.MAXIFS(POSSIBILITES!$F$5:$F$10,POSSIBILITES!$F$5:$F$10,"<"&1)=0,"",_xlfn.MAXIFS(POSSIBILITES!$F$5:$F$10,POSSIBILITES!$F$5:$F$10,"<"&1)) -> 0.99
B6: =IF(F6="","",INDIRECT("POSSIBILITES!B"&MATCH(_xlfn.MAXIFS(POSSIBILITES!$F$5:$F$10,POSSIBILITES!$F$5:$F$10,"<"&F5),POSSIBILITES!$F$5:$F$10,0)+4,1)) -> RIVIERE | C6: =IF(F6="","",INDIRECT("POSSIBILITES!C"&MATCH(_xlfn.MAXIFS(POSSIBILITES!$F$5:$F$10,POSSIBILITES!$F$5:$F$10,"<"&F5),POSSIBILITES!$F$5:$F$10,0)+4,1)) -> CHAMPA | D6: =IF(F6="","",INDIRECT("POSSIBILITES!D"&MATCH(_xlfn.MAXIFS(POSSIBILITES!$F$5:$F$10,POSSIBILITES!$F$5:$F$10,"<"&F5),POSSIBILITES!$F$5:$F$10,0)+4,1)) -> PONTAR | E6: =IF(F6="","",INDIRECT("POSSIBILITES!E"&MATCH(_xlfn.MAXIFS(POSSIBILITES!$F$5:$F$10,POSSIBILITES!$F$5:$F$10,"<"&F5),POSSIBILITES!$F$5:$F$10,0)+4,1)) -> NIHUIR | F6: =IF(_xlfn.MAXIFS(POSSIBILITES!$F$5:$F$10,POSSIBILITES!$F$5:$F$10,"<"&F5)=0,"",_xlfn.MAXIFS(POSSIBILITES!$F$5:$F$10,POSSIBILITES!$F$5:$F$10,"<"&F5)) -> 0.95
B7: =IF(F7="","",INDIRECT("POSSIBILITES!B"&MATCH(_xlfn.MAXIFS(POSSIBILITES!$F$5:$F$10,POSSIBILITES!$F$5:$F$10,"<"&F6),POSSIBILITES!$F$5:$F$10,0)+4,1)) | C7: =IF(F7="","",INDIRECT("POSSIBILITES!C"&MATCH(_xlfn.MAXIFS(POSSIBILITES!$F$5:$F$10,POSSIBILITES!$F$5:$F$10,"<"&F6),POSSIBILITES!$F$5:$F$10,0)+4,1)) | D7: =IF(F7="","",INDIRECT("POSSIBILITES!D"&MATCH(_xlfn.MAXIFS(POSSIBILITES!$F$5:$F$10,POSSIBILITES!$F$5:$F$10,"<"&F6),POSSIBILITES!$F$5:$F$10,0)+4,1)) | E7: =IF(F7="","",INDIRECT("POSSIBILITES!E"&MATCH(_xlfn.MAXIFS(POSSIBILITES!$F$5:$F$10,POSSIBILITES!$F$5:$F$10,"<"&F6),POSSIBILITES!$F$5:$F$10,0)+4,1)) | F7: =IF(_xlfn.MAXIFS(POSSIBILITES!$F$5:$F$10,POSSIBILITES!$F$5:$F$10,"<"&F6)=0,"",_xlfn.MAXIFS(POSSIBILITES!$F$5:$F$10,POSSIBILITES!$F$5:$F$10,"<"&F6))
B8: =IF(F8="","",INDIRECT("POSSIBILITES!B"&MATCH(_xlfn.MAXIFS(POSSIBILITES!$F$5:$F$10,POSSIBILITES!$F$5:$F$10,"<"&F7),POSSIBILITES!$F$5:$F$10,0)+4,1)) | C8: =IF(F8="","",INDIRECT("POSSIBILITES!C"&MATCH(_xlfn.MAXIFS(POSSIBILITES!$F$5:$F$10,POSSIBILITES!$F$5:$F$10,"<"&F7),POSSIBILITES!$F$5:$F$10,0)+4,1)) | D8: =IF(F8="","",INDIRECT("POSSIBILITES!D"&MATCH(_xlfn.MAXIFS(POSSIBILITES!$F$5:$F$10,POSSIBILITES!$F$5:$F$10,"<"&F7),POSSIBILITES!$F$5:$F$10,0)+4,1)) | E8: =IF(F8="","",INDIRECT("POSSIBILITES!E"&MATCH(_xlfn.MAXIFS(POSSIBILITES!$F$5:$F$10,POSSIBILITES!$F$5:$F$10,"<"&F7),POSSIBILITES!$F$5:$F$10,0)+4,1)) | F8: =IF(_xlfn.MAXIFS(POSSIBILITES!$F$5:$F$10,POSSIBILITES!$F$5:$F$10,"<"&F7)=0,"",_xlfn.MAXIFS(POSSIBILITES!$F$5:$F$10,POSSIBILITES!$F$5:$F$10,"<"&F7))
B9: =IF(F9="","",INDIRECT("POSSIBILITES!B"&MATCH(_xlfn.MAXIFS(POSSIBILITES!$F$5:$F$10,POSSIBILITES!$F$5:$F$10,"<"&F8),POSSIBILITES!$F$5:$F$10,0)+4,1)) | C9: =IF(F9="","",INDIRECT("POSSIBILITES!C"&MATCH(_xlfn.MAXIFS(POSSIBILITES!$F$5:$F$10,POSSIBILITES!$F$5:$F$10,"<"&F8),POSSIBILITES!$F$5:$F$10,0)+4,1)) | D9: =IF(F9="","",INDIRECT("POSSIBILITES!D"&MATCH(_xlfn.MAXIFS(POSSIBILITES!$F$5:$F$10,POSSIBILITES!$F$5:$F$10,"<"&F8),POSSIBILITES!$F$5:$F$10,0)+4,1)) | E9: =IF(F9="","",INDIRECT("POSSIBILITES!E"&MATCH(_xlfn.MAXIFS(POSSIBILITES!$F$5:$F$10,POSSIBILITES!$F$5:$F$10,"<"&F8),POSSIBILITES!$F$5:$F$10,0)+4,1)) | F9: =IF(_xlfn.MAXIFS(POSSIBILITES!$F$5:$F$10,POSSIBILITES!$F$5:$F$10,"<"&F8)=0,"",_xlfn.MAXIFS(POSSIBILITES!$F$5:$F$10,POSSIBILITES!$F$5:$F$10,"<"&F8))
B10: =IF(F10="","",INDIRECT("POSSIBILITES!B"&MATCH(_xlfn.MAXIFS(POSSIBILITES!$F$5:$F$10,POSSIBILITES!$F$5:$F$10,"<"&F9),POSSIBILITES!$F$5:$F$10,0)+4,1)) | C10: =IF(F10="","",INDIRECT("POSSIBILITES!C"&MATCH(_xlfn.MAXIFS(POSSIBILITES!$F$5:$F$10,POSSIBILITES!$F$5:$F$10,"<"&F9),POSSIBILITES!$F$5:$F$10,0)+4,1)) | D10: =IF(F10="","",INDIRECT("POSSIBILITES!D"&MATCH(_xlfn.MAXIFS(POSSIBILITES!$F$5:$F$10,POSSIBILITES!$F$5:$F$10,"<"&F9),POSSIBILITES!$F$5:$F$10,0)+4,1)) | E10: =IF(F10="","",INDIRECT("POSSIBILITES!E"&MATCH(_xlfn.MAXIFS(POSSIBILITES!$F$5:$F$10,POSSIBILITES!$F$5:$F$10,"<"&F9),POSSIBILITES!$F$5:$F$10,0)+4,1)) | F10: =IF(_xlfn.MAXIFS(POSSIBILITES!$F$5:$F$10,POSSIBILITES!$F$5:$F$10,"<"&F9)=0,"",_xlfn.MAXIFS(POSSIBILITES!$F$5:$F$10,POSSIBILITES!$F$5:$F$10,"<"&F9))
