Workbook

Sheet Ressources
A1: Niveau → | B1: Ress↓ | C1: 1 | D1: =C1+1 -> 2 | E1: =D1+1 -> 3 | F1: =E1+1 -> 4 | G1: =F1+1 -> 5 | H1: =G1+1 -> 6 | I1: =H1+1 -> 7 | J1: =I1+1 -> 8 | K1: =J1+1 -> 9 | ... AH1: =AG1+1 -> 32
A2: Constructions ↓
A3: Champ de culture 1 | B3: Bois | C3: 150 | D3: =C3*1.9 -> 285 | E3: =D3*1.9 -> 541.5 | F3: =E3*1.9 -> 1028.85 | G3: =F3*1.9 -> 1954.815 | H3: =G3*1.9 -> 3714.1485 | I3: =H3*1.9 -> 7056.8822 | J3: =I3*1.9 -> 13408.076 | K3: =J3*1.9 -> 25475.345 | ... AH3: =AG3*1.9 -> 6.5682986e+10
A4: Champ de culture 2 | B4: Eau | C4: 40 | D4: =C4*1.9 -> 76 | E4: =D4*1.9 -> 144.4 | F4: =E4*1.9 -> 274.36 | G4: =F4*1.9 -> 521.284 | H4: =G4*1.9 -> 990.4396 | I4: =H4*1.9 -> 1881.8352 | J4: =I4*1.9 -> 3575.487 | K4: =J4*1.9 -> 6793.4252 | ... AH4: =AG4*1.9 -> 1.7515463e+10
A5: Production → | B5: Prod/h
A7: Salle des racines 1 | B7: Food | C7: 40 | D7: =C7*1.9 -> 76 | E7: =D7*1.9 -> 144.4 | F7: =E7*1.9 -> 274.36 | G7: =F7*1.9 -> 521.284 | H7: =G7*1.9 -> 990.4396 | I7: =H7*1.9 -> 1881.8352 | J7: =I7*1.9 -> 3575.487 | K7: =J7*1.9 -> 6793.4252 | ... AH7: =AG7*1.9 -> 1.7515463e+10
A8: Salle des racines 2 | B8: Bois | C8: 150 | D8: =C8*1.9 -> 285 | E8: =D8*1.9 -> 541.5 | F8: =E8*1.9 -> 1028.85 | G8: =F8*1.9 -> 1954.815 | H8: =G8*1.9 -> 3714.1485 | I8: =H8*1.9 -> 7056.8822 | J8: =I8*1.9 -> 13408.076 | K8: =J8*1.9 -> 25475.345 | ... AH8: =AG8*1.9 -> 6.5682986e+10
A9: Salle des racines 3 | B9: Eau | C9: 20 | D9: =C9*1.9 -> 38 | E9: =D9*1.9 -> 72.2 | F9: =E9*1.9 -> 137.18 | G9: =F9*1.9 -> 260.642 | H9: =G9*1.9 -> 495.2198 | I9: =H9*1.9 -> 940.91762 | J9: =I9*1.9 -> 1787.7435 | K9: =J9*1.9 -> 3396.7126 | ... AH9: =AG9*1.9 -> 8.7577315e+09
A10: Production → | B10: Prod/h
A12: Source minérale 1 | B12: Food | C12: 30 | D12: =C12*1.9 -> 57 | E12: =D12*1.9 -> 108.3 | F12: =E12*1.9 -> 205.77 | G12: =F12*1.9 -> 390.963 | H12: =G12*1.9 -> 742.8297 | I12: =H12*1.9 -> 1411.3764 | J12: =I12*1.9 -> 2681.6152 | K12: =J12*1.9 -> 5095.0689 | ... AH12: =AG12*1.9 -> 1.3136597e+10
A13: Source minérale 2 | B13: Bois | C13: 100 | D13: =C13*1.9 -> 190 | E13: =D13*1.9 -> 361 | F13: =E13*1.9 -> 685.9 | G13: =F13*1.9 -> 1303.21 | H13: =G13*1.9 -> 2476.099 | I13: =H13*1.9 -> 4704.5881 | J13: =I13*1.9 -> 8938.7174 | K13: =J13*1.9 -> 16983.563 | ... AH13: =AG13*1.9 -> 4.3788657e+10
A14: Source minérale 3 | B14: Eau | C14: 10 | D14: =C14*1.9 -> 19 | E14: =D14*1.9 -> 36.1 | F14: =E14*1.9 -> 68.59 | G14: =F14*1.9 -> 130.321 | H14: =G14*1.9 -> 247.6099 | I14: =H14*1.9 -> 470.45881 | J14: =I14*1.9 -> 893.87174 | K14: =J14*1.9 -> 1698.3563 | ... AH14: =AG14*1.9 -> 4.3788657e+09
A15: Production → | B15: Prod/h
A17: Stock de nourriture | B17: Bois | C17: 2000 | D17: =C17*1.9 -> 3800 | E17: =D17*1.9 -> 7220 | F17: =E17*1.9 -> 13718 | G17: =F17*1.9 -> 26064.2 | H17: =G17*1.9 -> 49521.98 | I17: =H17*1.9 -> 94091.762 | J17: =I17*1.9 -> 178774.35 | K17: =J17*1.9 -> 339671.26 | ... AH17: =AG17*1.9 -> 8.7577315e+11
A19: Stock de bois | B19: Bois | C19: 2400 | D19: =C19*1.9 -> 4560 | E19: =D19*1.9 -> 8664 | F19: =E19*1.9 -> 16461.6 | G19: =F19*1.9 -> 31277.04 | H19: =G19*1.9 -> 59426.376 | I19: =H19*1.9 -> 112910.11 | J19: =I19*1.9 -> 214529.22 | K19: =J19*1.9 -> 407605.51 | ... AH19: =AG19*1.9 -> 1.0509278e+12
A21: Poche d'eau | B21: Bois | C21: 1600 | D21: =C21*1.9 -> 3040 | E21: =D21*1.9 -> 5776 | F21: =E21*1.9 -> 10974.4 | G21: =F21*1.9 -> 20851.36 | H21: =G21*1.9 -> 39617.584 | I21: =H21*1.9 -> 75273.41 | J21: =I21*1.9 -> 143019.48 | K21: =J21*1.9 -> 271737.01 | ... AH21: =AG21*1.9 -> 7.0061852e+11

Sheet Installations
A1: Niveau → | B1: Ress↓ | C1: 1 | D1: =C1+1 -> 2 | E1: =D1+1 -> 3 | F1: =E1+1 -> 4 | G1: =F1+1 -> 5 | H1: =G1+1 -> 6 | I1: =H1+1 -> 7 | J1: =I1+1 -> 8 | K1: =J1+1 -> 9 | ... AH1: =AG1+1 -> 32
A2: Constructions ↓
A3: Chambre impériale | B3: Bois | C3: 800 | D3: =C3*1.9 -> 1520 | E3: =D3*1.9 -> 2888 | F3: =E3*1.9 -> 5487.2 | G3: =F3*1.9 -> 10425.68 | H3: =G3*1.9 -> 19808.792 | I3: =H3*1.9 -> 37636.705 | J3: =I3*1.9 -> 71509.739 | K3: =J3*1.9 -> 135868.5 | ... AH3: =AG3*1.9 -> 3.5030926e+11
A5: Atelier | B5: Bois | C5: 600 | D5: =C5*1.9 -> 1140 | E5: =D5*1.9 -> 2166 | F5: =E5*1.9 -> 4115.4 | G5: =F5*1.9 -> 7819.26 | H5: =G5*1.9 -> 14856.594 | I5: =H5*1.9 -> 28227.529 | J5: =I5*1.9 -> 53632.304 | K5: =J5*1.9 -> 101901.38 | ... AH5: =AG5*1.9 -> 2.6273194e+11
A7: Caserne | B7: Bois | C7: 1200 | D7: =C7*1.9 -> 2280 | E7: =D7*1.9 -> 4332 | F7: =E7*1.9 -> 8230.8 | G7: =F7*1.9 -> 15638.52 | H7: =G7*1.9 -> 29713.188 | I7: =H7*1.9 -> 56455.057 | J7: =I7*1.9 -> 107264.61 | K7: =J7*1.9 -> 203802.76 | ... AH7: =AG7*1.9 -> 5.2546389e+11
A9: Laboratoire | B9: Bois | C9: 400 | D9: =C9*1.9 -> 760 | E9: =D9*1.9 -> 1444 | F9: =E9*1.9 -> 2743.6 | G9: =F9*1.9 -> 5212.84 | H9: =G9*1.9 -> 9904.396 | I9: =H9*1.9 -> 18818.352 | J9: =I9*1.9 -> 35754.87 | K9: =J9*1.9 -> 67934.252 | ... AH9: =AG9*1.9 -> 1.7515463e+11
A11: Dôme | B11: Bois | C11: 2000 | D11: =C11*1.9 -> 3800 | E11: =D11*1.9 -> 7220 | F11: =E11*1.9 -> 13718 | G11: =F11*1.9 -> 26064.2 | H11: =G11*1.9 -> 49521.98 | I11: =H11*1.9 -> 94091.762 | J11: =I11*1.9 -> 178774.35 | K11: =J11*1.9 -> 339671.26 | ... AH11: =AG11*1.9 -> 8.7577315e+11
A13: Loge impériale | B13: Bois | C13: 3000 | D13: =C13*1.9 -> 5700 | E13: =D13*1.9 -> 10830 | F13: =E13*1.9 -> 20577 | G13: =F13*1.9 -> 39096.3 | H13: =G13*1.9 -> 74282.97 | I13: =H13*1.9 -> 141137.64 | J13: =I13*1.9 -> 268161.52 | K13: =J13*1.9 -> 509506.89 | ... AH13: =AG13*1.9 -> 1.3136597e+12
A15: Sanctuaire héroïque 1 | B15: Food | C15: 100000 | D15: =C15*1.9 -> 190000 | E15: =D15*1.9 -> 361000 | F15: =E15*1.9 -> 685900 | G15: =F15*1.9 -> 1303210 | H15: =G15*1.9 -> 2476099 | I15: =H15*1.9 -> 4704588.1 | J15: =I15*1.9 -> 8938717.4 | K15: =J15*1.9 -> 16983563 | ... AH15: =AG15*1.9 -> 43788657400467
A16: Sanctuaire héroïque 2 | B16: Bois | C16: 100000 | D16: =C16*1.9 -> 190000 | E16: =D16*1.9 -> 361000 | F16: =E16*1.9 -> 685900 | G16: =F16*1.9 -> 1303210 | H16: =G16*1.9 -> 2476099 | I16: =H16*1.9 -> 4704588.1 | J16: =I16*1.9 -> 8938717.4 | K16: =J16*1.9 -> 16983563 | ... AH16: =AG16*1.9 -> 43788657400467
A17: Sanctuaire héroïque 3 | B17: Eau | C17: 5000 | D17: =C17*1.9 -> 9500 | E17: =D17*1.9 -> 18050 | F17: =E17*1.9 -> 34295 | G17: =F17*1.9 -> 65160.5 | H17: =G17*1.9 -> 123804.95 | I17: =H17*1.9 -> 235229.4 | J17: =I17*1.9 -> 446935.87 | K17: =J17*1.9 -> 849178.15 | ... AH17: =AG17*1.9 -> 2.1894329e+12
A19: Salle d'entraînement | B19: Bois | C19: 20000 | D19: =C19*1.9 -> 38000 | E19: =D19*1.9 -> 72200 | F19: =E19*1.9 -> 137180 | G19: =F19*1.9 -> 260642 | H19: =G19*1.9 -> 495219.8 | I19: =H19*1.9 -> 940917.62 | J19: =I19*1.9 -> 1787743.5 | K19: =J19*1.9 -> 3396712.6 | ... AH19: =AG19*1.9 -> 8.7577315e+12
A21: Érudition 1 | B21: Bois | C21: 4000000 | D21: =C21*1.9 -> 7600000 | E21: =D21*1.9 -> 14440000 | F21: =E21*1.9 -> 27436000 | G21: =F21*1.9 -> 52128400 | H21: =G21*1.9 -> 99043960 | I21: =H21*1.9 -> 188183524 | J21: =I21*1.9 -> 3.575487e+08 | K21: =J21*1.9 -> 6.7934252e+08 | ... AA21: =Z21*1.9 -> 1.9595052e+13 | AB21: X | AC21: X | AD21: X | AE21: X | AF21: X | AG21: X | AH21: X
A22: Érudition 2 | B22: Eau | C22: 4000000 | D22: =C22*1.9 -> 7600000 | E22: =D22*1.9 -> 14440000 | F22: =E22*1.9 -> 27436000 | G22: =F22*1.9 -> 52128400 | H22: =G22*1.9 -> 99043960 | I22: =H22*1.9 -> 188183524 | J22: =I22*1.9 -> 3.575487e+08 | K22: =J22*1.9 -> 6.7934252e+08 | ... AA22: =Z22*1.9 -> 1.9595052e+13 | AB22: X | AC22: X | AD22: X | AE22: X | AF22: X | AG22: X | AH22: X

Sheet Recherches
A1: Niveau → | B1: Ress↓ | C1: 1 | D1: =C1+1 -> 2 | E1: =D1+1 -> 3 | F1: =E1+1 -> 4 | G1: =F1+1 -> 5 | H1: =G1+1 -> 6 | I1: =H1+1 -> 7 | J1: =I1+1 -> 8 | K1: =J1+1 -> 9 | ... AH1: =AG1+1 -> 32
A2: Constructions ↓
A3: Thermique 1 | B3: Ouv | C3: 20 | D3: =C3*1.9 -> 38 | E3: =D3*1.9 -> 72.2 | F3: =E3*1.9 -> 137.18 | G3: =F3*1.9 -> 260.642 | H3: =G3*1.9 -> 495.2198 | I3: =H3*1.9 -> 940.91762 | J3: =I3*1.9 -> 1787.7435 | K3: =J3*1.9 -> 3396.7126 | ... AH3: =AG3*1.9 -> 8.7577315e+09
A4: Thermique 2 | B4: Food | C4: 300 | D4: =C4*1.9 -> 570 | E4: =D4*1.9 -> 1083 | F4: =E4*1.9 -> 2057.7 | G4: =F4*1.9 -> 3909.63 | H4: =G4*1.9 -> 7428.297 | I4: =H4*1.9 -> 14113.764 | J4: =I4*1.9 -> 26816.152 | K4: =J4*1.9 -> 50950.689 | ... AH4: =AG4*1.9 -> 1.3136597e+11
A5: Thermique 3 | B5: Bois | C5: 300 | D5: =C5*1.9 -> 570 | E5: =D5*1.9 -> 1083 | F5: =E5*1.9 -> 2057.7 | G5: =F5*1.9 -> 3909.63 | H5: =G5*1.9 -> 7428.297 | I5: =H5*1.9 -> 14113.764 | J5: =I5*1.9 -> 26816.152 | K5: =J5*1.9 -> 50950.689 | ... AH5: =AG5*1.9 -> 1.3136597e+11
A6: L'analyseur 1 | B6: Food | C6: 100000 | D6: =C6*1.9 -> 190000 | E6: =D6*1.9 -> 361000 | F6: =E6*1.9 -> 685900 | G6: =F6*1.9 -> 1303210 | H6: =G6*1.9 -> 2476099 | I6: =H6*1.9 -> 4704588.1 | J6: =I6*1.9 -> 8938717.4 | K6: =J6*1.9 -> 16983563 | ... AH6: =AG6*1.9 -> 43788657400467
A7: L'analyseur 2 | B7: Bois | C7: 100000 | D7: =C7*1.9 -> 190000 | E7: =D7*1.9 -> 361000 | F7: =E7*1.9 -> 685900 | G7: =F7*1.9 -> 1303210 | H7: =G7*1.9 -> 2476099 | I7: =H7*1.9 -> 4704588.1 | J7: =I7*1.9 -> 8938717.4 | K7: =J7*1.9 -> 16983563 | ... AH7: =AG7*1.9 -> 43788657400467
A8: L'analyseur 3 | B8: Eau | C8: 100000 | D8: =C8*1.9 -> 190000 | E8: =D8*1.9 -> 361000 | F8: =E8*1.9 -> 685900 | G8: =F8*1.9 -> 1303210 | H8: =G8*1.9 -> 2476099 | I8: =H8*1.9 -> 4704588.1 | J8: =I8*1.9 -> 8938717.4 | K8: =J8*1.9 -> 16983563 | ... AH8: =AG8*1.9 -> 43788657400467
A9: Phéromone | B9: Bois | C9: 200 | D9: =C9*1.9 -> 380 | E9: =D9*1.9 -> 722 | F9: =E9*1.9 -> 1371.8 | G9: =F9*1.9 -> 2606.42 | H9: =G9*1.9 -> 4952.198 | I9: =H9*1.9 -> 9409.1762 | J9: =I9*1.9 -> 17877.435 | K9: =J9*1.9 -> 33967.126 | ... AH9: =AG9*1.9 -> 8.7577315e+10
A10: Mandibule 1 | B10: Ouv | C10: 100 | D10: =C10*1.9 -> 190 | E10: =D10*1.9 -> 361 | F10: =E10*1.9 -> 685.9 | G10: =F10*1.9 -> 1303.21 | H10: =G10*1.9 -> 2476.099 | I10: =H10*1.9 -> 4704.5881 | J10: =I10*1.9 -> 8938.7174 | K10: =J10*1.9 -> 16983.563 | ... AH10: =AG10*1.9 -> 4.3788657e+10
A11: Mandibule 2 | B11: Food | C11: 400 | D11: =C11*1.9 -> 760 | E11: =D11*1.9 -> 1444 | F11: =E11*1.9 -> 2743.6 | G11: =F11*1.9 -> 5212.84 | H11: =G11*1.9 -> 9904.396 | I11: =H11*1.9 -> 18818.352 | J11: =I11*1.9 -> 35754.87 | K11: =J11*1.9 -> 67934.252 | ... AH11: =AG11*1.9 -> 1.7515463e+11
A12: Mandibule 3 | B12: Bois | C12: 500 | D12: =C12*1.9 -> 950 | E12: =D12*1.9 -> 1805 | F12: =E12*1.9 -> 3429.5 | G12: =F12*1.9 -> 6516.05 | H12: =G12*1.9 -> 12380.495 | I12: =H12*1.9 -> 23522.941 | J12: =I12*1.9 -> 44693.587 | K12: =J12*1.9 -> 84917.815 | ... AH12: =AG12*1.9 -> 2.1894329e+11
A13: Carapace 1 | B13: Ouv | C13: 100 | D13: =C13*1.9 -> 190 | E13: =D13*1.9 -> 361 | F13: =E13*1.9 -> 685.9 | G13: =F13*1.9 -> 1303.21 | H13: =G13*1.9 -> 2476.099 | I13: =H13*1.9 -> 4704.5881 | J13: =I13*1.9 -> 8938.7174 | K13: =J13*1.9 -> 16983.563 | ... AH13: =AG13*1.9 -> 4.3788657e+10
A14: Carapace 2 | B14: Food | C14: 500 | D14: =C14*1.9 -> 950 | E14: =D14*1.9 -> 1805 | F14: =E14*1.9 -> 3429.5 | G14: =F14*1.9 -> 6516.05 | H14: =G14*1.9 -> 12380.495 | I14: =H14*1.9 -> 23522.941 | J14: =I14*1.9 -> 44693.587 | K14: =J14*1.9 -> 84917.815 | ... AH14: =AG14*1.9 -> 2.1894329e+11
... A37: Toxique 4 | B37: Bois | C37: 1000000 | D37: =C37*1.9 -> 1900000 | E37: =D37*1.9 -> 3610000 | F37: =E37*1.9 -> 6859000 | G37: =F37*1.9 -> 13032100 | H37: =G37*1.9 -> 24760990 | I37: =H37*1.9 -> 47045881 | J37: =I37*1.9 -> 89387174 | K37: =J37*1.9 -> 1.6983563e+08 | ... AH37: =AG37*1.9 -> 437886574004670
A38: Colonisation 1 | B38: Ouv | C38: 400000 | D38: =C38*1.9 -> 760000 | E38: =D38*1.9 -> 1444000 | F38: =E38*1.9 -> 2743600 | G38: =F38*1.9 -> 5212840 | H38: X | I38: X | J38: X | K38: X | L38: X | M38: X | N38: X | O38: X | P38: X | Q38: X | R38: X | S38: X | T38: X | U38: X | V38: X | W38: X | X38: X | Y38: X | Z38: X | AA38: X | AB38: X | AC38: X | AD38: X | AE38: X | AF38: X | AG38: X | AH38: X
A39: Colonisation 2 | B39: Ouv E | C39: 2000 | D39: =C39*1.9 -> 3800 | E39: =D39*1.9 -> 7220 | F39: =E39*1.9 -> 13718 | G39: =F39*1.9 -> 26064.2 | H39: X | I39: X | J39: X | K39: X | L39: X | M39: X | N39: X | O39: X | P39: X | Q39: X | R39: X | S39: X | T39: X | U39: X | V39: X | W39: X | X39: X | Y39: X | Z39: X | AA39: X | AB39: X | AC39: X | AD39: X | AE39: X | AF39: X | AG39: X | AH39: X
A40: Colonisation 3 | B40: Food | C40: 20000000 | D40: =C40*1.9 -> 38000000 | E40: =D40*1.9 -> 72200000 | F40: =E40*1.9 -> 137180000 | G40: =F40*1.9 -> 260642000 | H40: X | I40: X | J40: X | K40: X | L40: X | M40: X | N40: X | O40: X | P40: X | Q40: X | R40: X | S40: X | T40: X | U40: X | V40: X | W40: X | X40: X | Y40: X | Z40: X | AA40: X | AB40: X | AC40: X | AD40: X | AE40: X | AF40: X | AG40: X | AH40: X
A41: Colonisation 4 | B41: Bois | C41: 20000000 | D41: =C41*1.9 -> 38000000 | E41: =D41*1.9 -> 72200000 | F41: =E41*1.9 -> 137180000 | G41: =F41*1.9 -> 260642000 | H41: X | I41: X | J41: X | K41: X | L41: X | M41: X | N41: X | O41: X | P41: X | Q41: X | R41: X | S41: X | T41: X | U41: X | V41: X | W41: X | X41: X | Y41: X | Z41: X | AA41: X | AB41: X | AC41: X | AD41: X | AE41: X | AF41: X | AG41: X | AH41: X

Sheet Feuille 7
A2: Choisir le bâtiment → | C2: Salle des racines | F2: Dôme | I2: Satisfaction
A3: Choisir le niveau → | C3: 32 | F3: 9 | I3: 3
A5: Ce bâtiment coûte → | B5: =IF(ISERROR(SMALL($A$43:$A$53,1)),"",INDIRECT("D"&SMALL($A$43:$A$53,1),1)) -> Food | C5: =IF(ISERROR(SMALL($A$43:$A$53,1)),"",INDIRECT("E"&SMALL($A$43:$A$53,1),1)) -> 1.7515463e+10 | E5: =IF(ISERROR(SMALL($F$43:$F$54,1)),"",INDIRECT("I"&SMALL($F$43:$F$54,1),1)) -> Bois | F5: =IF(ISERROR(SMALL($F$43:$F$54,1)),"",INDIRECT("j"&SMALL($F$43:$F$54,1),1)) -> 339671.26 | H5: =IF(ISERROR(SMALL($K$43:$K$81,1)),"",INDIRECT("N"&SMALL($K$43:$K$81,1),1)) -> Ouv | I5: =IF(ISERROR(SMALL($K$43:$K$81,1)),"",INDIRECT("O"&SMALL($K$43:$K$81,1),1)) -> 72.2
B6: =IF(ISERROR(SMALL($A$43:$A$53,2)),"",INDIRECT("D"&SMALL($A$43:$A$53,2),1)) -> Bois | C6: =IF(ISERROR(SMALL($A$43:$A$53,2)),"",INDIRECT("e"&SMALL($A$43:$A$53,2),1)) -> 6.5682986e+10 | E6: =IF(ISERROR(SMALL($F$43:$F$54,2)),"",INDIRECT("I"&SMALL($F$43:$F$54,2),1)) | F6: =IF(ISERROR(SMALL($F$43:$F$54,2)),"",INDIRECT("j"&SMALL($F$43:$F$54,2),1)) | H6: =IF(ISERROR(SMALL($K$43:$K$81,2)),"",INDIRECT("N"&SMALL($K$43:$K$81,2),1)) -> Food | I6: =IF(ISERROR(SMALL($K$43:$K$81,2)),"",INDIRECT("O"&SMALL($K$43:$K$81,2),1)) -> 3610
B7: =IF(ISERROR(SMALL($A$43:$A$53,3)),"",INDIRECT("D"&SMALL($A$43:$A$53,3),1)) -> Eau | C7: =IF(ISERROR(SMALL($A$43:$A$53,3)),"",INDIRECT("e"&SMALL($A$43:$A$53,3),1)) -> 8.7577315e+09 | E7: =IF(ISERROR(SMALL($F$43:$F$54,3)),"",INDIRECT("I"&SMALL($F$43:$F$54,3),1)) | F7: =IF(ISERROR(SMALL($F$43:$F$54,3)),"",INDIRECT("j"&SMALL($F$43:$F$54,3),1)) | H7: =IF(ISERROR(SMALL($K$43:$K$81,3)),"",INDIRECT("N"&SMALL($K$43:$K$81,3),1)) -> Bois | I7: =IF(ISERROR(SMALL($K$43:$K$81,3)),"",INDIRECT("O"&SMALL($K$43:$K$81,3),1)) -> 3610
B8: =IF(ISERROR(SMALL($A$43:$A$53,4)),"",INDIRECT("D"&SMALL($A$43:$A$53,4),1)) | C8: =IF(ISERROR(SMALL($A$43:$A$53,4)),"",INDIRECT("e"&SMALL($A$43:$A$53,4),1)) | E8: =IF(ISERROR(SMALL($F$43:$F$54,4)),"",INDIRECT("I"&SMALL($F$43:$F$54,4),1)) | F8: =IF(ISERROR(SMALL($F$43:$F$54,4)),"",INDIRECT("j"&SMALL($F$43:$F$54,4),1)) | H8: =IF(ISERROR(SMALL($K$43:$K$81,4)),"",INDIRECT("N"&SMALL($K$43:$K$81,4),1)) | I8: =IF(ISERROR(SMALL($K$43:$K$81,4)),"",INDIRECT("O"&SMALL($K$43:$K$81,1),4))
B9: =IF(ISERROR(SMALL($A$43:$A$53,5)),"",INDIRECT("D"&SMALL($A$43:$A$53,5),1)) | C9: =IF(ISERROR(SMALL($A$43:$A$53,5)),"",INDIRECT("D"&SMALL($A$43:$E$53,5),1)) | E9: =IF(ISERROR(SMALL($F$43:$F$54,5)),"",INDIRECT("I"&SMALL($F$43:$F$54,5),1)) | F9: =IF(ISERROR(SMALL($F$43:$F$54,5)),"",INDIRECT("j"&SMALL($F$43:$F$54,5),1)) | H9: =IF(ISERROR(SMALL($K$43:$K$81,5)),"",INDIRECT("N"&SMALL($K$43:$K$81,5),1)) | I9: =IF(ISERROR(SMALL($K$43:$K$81,5)),"",INDIRECT("O"&SMALL($K$43:$K$81,5),1))
A43: =IF(ISERROR(FIND($C$2,C43)),"",ROW()) | B43: =MATCH(C43,Ressources!$A$1:$A$21,0) -> 3 | C43: Champ de culture 1 | D43: =IF(B43="","",INDIRECT("$Ressources.$B"&B43)) -> Bois | E43: =IF(A43="","",INDIRECT(ADDRESS(B43,$C$3+2, , ,"Ressources"))) | F43: =IF(ISERROR(FIND($F$2,G43)),"",ROW()) | G43: Chambre impériale | H43: =MATCH(G43,Installations!$A$1:$A$22,0) -> 3 | I43: =IF(F43="","",INDIRECT("$Installations.$B"&H43)) | J43: =IF(F43="","",INDIRECT(ADDRESS(H43,$F$3+2, , ,"Installations"))) | K43: =IF(ISERROR(FIND($I$2,L43)),"",ROW()) | L43: Thermique 1 | M43: =MATCH(L43,Recherches!$A$1:$A$41,0) -> 3 | N43: =IF(K43="","",INDIRECT("$Recherches.$B"&M43)) | O43: =IF(K43="","",INDIRECT(ADDRESS(M43,$I$3+2, , ,"Recherches")))
A44: =IF(ISERROR(FIND($C$2,C44)),"",ROW()) | B44: =MATCH(C44,Ressources!$A$1:$A$21,0) -> 4 | C44: Champ de culture 2 | D44: =IF(B44="","",INDIRECT("$Ressources.$B"&B44)) -> Eau | E44: =IF(A44="","",INDIRECT(ADDRESS(B44,$C$3+2, , ,"Ressources"))) | F44: =IF(ISERROR(FIND($F$2,G44)),"",ROW()) | G44: Atelier | H44: =MATCH(G44,Installations!$A$1:$A$22,0) -> 5 | I44: =IF(F44="","",INDIRECT("$Installations.$B"&H44)) | J44: =IF(F44="","",INDIRECT(ADDRESS(H44,$F$3+2, , ,"Installations"))) | K44: =IF(ISERROR(FIND($I$2,L44)),"",ROW()) | L44: Thermique 2 | M44: =MATCH(L44,Recherches!$A$1:$A$41,0) -> 4 | N44: =IF(K44="","",INDIRECT("$Recherches.$B"&M44)) | O44: =IF(K44="","",INDIRECT(ADDRESS(M44,$I$3+2, , ,"Recherches")))
A45: =IF(ISERROR(FIND($C$2,C45)),"",ROW()) -> 45 | B45: =MATCH(C45,Ressources!$A$1:$A$21,0) -> 7 | C45: Salle des racines 1 | D45: =IF(B45="","",INDIRECT("$Ressources.$B"&B45)) -> Food | E45: =IF(A45="","",INDIRECT(ADDRESS(B45,$C$3+2, , ,"Ressources"))) -> 1.7515463e+10 | F45: =IF(ISERROR(FIND($F$2,G45)),"",ROW()) | G45: Caserne | H45: =MATCH(G45,Installations!$A$1:$A$22,0) -> 7 | I45: =IF(F45="","",INDIRECT("$Installations.$B"&H45)) | J45: =IF(F45="","",INDIRECT(ADDRESS(H45,$F$3+2, , ,"Installations"))) | K45: =IF(ISERROR(FIND($I$2,L45)),"",ROW()) | L45: Thermique 3 | M45: =MATCH(L45,Recherches!$A$1:$A$41,0) -> 5 | N45: =IF(K45="","",INDIRECT("$Recherches.$B"&M45)) | O45: =IF(K45="","",INDIRECT(ADDRESS(M45,$I$3+2, , ,"Recherches")))
A46: =IF(ISERROR(FIND($C$2,C46)),"",ROW()) -> 46 | B46: =MATCH(C46,Ressources!$A$1:$A$21,0) -> 8 | C46: Salle des racines 2 | D46: =IF(B46="","",INDIRECT("$Ressources.$B"&B46)) -> Bois | E46: =IF(A46="","",INDIRECT(ADDRESS(B46,$C$3+2, , ,"Ressources"))) -> 6.5682986e+10 | F46: =IF(ISERROR(FIND($F$2,G46)),"",ROW()) | G46: Laboratoire | H46: =MATCH(G46,Installations!$A$1:$A$22,0) -> 9 | I46: =IF(F46="","",INDIRECT("$Installations.$B"&H46)) | J46: =IF(F46="","",INDIRECT(ADDRESS(H46,$F$3+2, , ,"Installations"))) | K46: =IF(ISERROR(FIND($I$2,L46)),"",ROW()) | L46: L'analyseur 1 | M46: =MATCH(L46,Recherches!$A$1:$A$41,0) -> 6 | N46: =IF(K46="","",INDIRECT("$Recherches.$B"&M46)) | O46: =IF(K46="","",INDIRECT(ADDRESS(M46,$I$3+2, , ,"Recherches")))
A47: =IF(ISERROR(FIND($C$2,C47)),"",ROW()) -> 47 | B47: =MATCH(C47,Ressources!$A$1:$A$21,0) -> 9 | C47: Salle des racines 3 | D47: =IF(B47="","",INDIRECT("$Ressources.$B"&B47)) -> Eau | E47: =IF(A47="","",INDIRECT(ADDRESS(B47,$C$3+2, , ,"Ressources"))) -> 8.7577315e+09 | F47: =IF(ISERROR(FIND($F$2,G47)),"",ROW()) -> 47 | G47: Dôme | H47: =MATCH(G47,Installations!$A$1:$A$22,0) -> 11 | I47: =IF(F47="","",INDIRECT("$Installations.$B"&H47)) -> Bois | J47: =IF(F47="","",INDIRECT(ADDRESS(H47,$F$3+2, , ,"Installations"))) -> 339671.26 | K47: =IF(ISERROR(FIND($I$2,L47)),"",ROW()) | L47: L'analyseur 2 | M47: =MATCH(L47,Recherches!$A$1:$A$41,0) -> 7 | N47: =IF(K47="","",INDIRECT("$Recherches.$B"&M47)) | O47: =IF(K47="","",INDIRECT(ADDRESS(M47,$I$3+2, , ,"Recherches")))
A48: =IF(ISERROR(FIND($C$2,C48)),"",ROW()) | B48: =MATCH(C48,Ressources!$A$1:$A$21,0) -> 12 | C48: Source minérale 1 | D48: =IF(B48="","",INDIRECT("$Ressources.$B"&B48)) -> Food | E48: =IF(A48="","",INDIRECT(ADDRESS(B48,$C$3+2, , ,"Ressources"))) | F48: =IF(ISERROR(FIND($F$2,G48)),"",ROW()) | G48: Loge impériale | H48: =MATCH(G48,Installations!$A$1:$A$22,0) -> 13 | I48: =IF(F48="","",INDIRECT("$Installations.$B"&H48)) | J48: =IF(F48="","",INDIRECT(ADDRESS(H48,$F$3+2, , ,"Installations"))) | K48: =IF(ISERROR(FIND($I$2,L48)),"",ROW()) | L48: L'analyseur 3 | M48: =MATCH(L48,Recherches!$A$1:$A$41,0) -> 8 | N48: =IF(K48="","",INDIRECT("$Recherches.$B"&M48)) | O48: =IF(K48="","",INDIRECT(ADDRESS(M48,$I$3+2, , ,"Recherches")))
A49: =IF(ISERROR(FIND($C$2,C49)),"",ROW()) | B49: =MATCH(C49,Ressources!$A$1:$A$21,0) -> 13 | C49: Source minérale 2 | D49: =IF(B49="","",INDIRECT("$Ressources.$B"&B49)) -> Bois | E49: =IF(A49="","",INDIRECT(ADDRESS(B49,$C$3+2, , ,"Ressources"))) | F49: =IF(ISERROR(FIND($F$2,G49)),"",ROW()) | G49: Sanctuaire héroïque 1 | H49: =MATCH(G49,Installations!$A$1:$A$22,0) -> 15 | I49: =IF(F49="","",INDIRECT("$Installations.$B"&H49)) | J49: =IF(F49="","",INDIRECT(ADDRESS(H49,$F$3+2, , ,"Installations"))) | K49: =IF(ISERROR(FIND($I$2,L49)),"",ROW()) | L49: Phéromone | M49: =MATCH(L49,Recherches!$A$1:$A$41,0) -> 9 | N49: =IF(K49="","",INDIRECT("$Recherches.$B"&M49)) | O49: =IF(K49="","",INDIRECT(ADDRESS(M49,$I$3+2, , ,"Recherches")))
A50: =IF(ISERROR(FIND($C$2,C50)),"",ROW()) | B50: =MATCH(C50,Ressources!$A$1:$A$21,0) -> 14 | C50: Source minérale 3 | D50: =IF(B50="","",INDIRECT("$Ressources.$B"&B50)) -> Eau | E50: =IF(A50="","",INDIRECT(ADDRESS(B50,$C$3+2, , ,"Ressources"))) | F50: =IF(ISERROR(FIND($F$2,G50)),"",ROW()) | G50: Sanctuaire héroïque 2 | H50: =MATCH(G50,Installations!$A$1:$A$22,0) -> 16 | I50: =IF(F50="","",INDIRECT("$Installations.$B"&H50)) | J50: =IF(F50="","",INDIRECT(ADDRESS(H50,$F$3+2, , ,"Installations"))) | K50: =IF(ISERROR(FIND($I$2,L50)),"",ROW()) | L50: Mandibule 1 | M50: =MATCH(L50,Recherches!$A$1:$A$41,0) -> 10 | N50: =IF(K50="","",INDIRECT("$Recherches.$B"&M50)) | O50: =IF(K50="","",INDIRECT(ADDRESS(M50,$I$3+2, , ,"Recherches")))
A51: =IF(ISERROR(FIND($C$2,C51)),"",ROW()) | B51: =MATCH(C51,Ressources!$A$1:$A$21,0) -> 17 | C51: Stock de nourriture | D51: =IF(B51="","",INDIRECT("$Ressources.$B"&B51)) -> Bois | E51: =IF(A51="","",INDIRECT(ADDRESS(B51,$C$3+2, , ,"Ressources"))) | F51: =IF(ISERROR(FIND($F$2,G51)),"",ROW()) | G51: Sanctuaire héroïque 3 | H51: =MATCH(G51,Installations!$A$1:$A$22,0) -> 17 | I51: =IF(F51="","",INDIRECT("$Installations.$B"&H51)) | J51: =IF(F51="","",INDIRECT(ADDRESS(H51,$F$3+2, , ,"Installations"))) | K51: =IF(ISERROR(FIND($I$2,L51)),"",ROW()) | L51: Mandibule 2 | M51: =MATCH(L51,Recherches!$A$1:$A$41,0) -> 11 | N51: =IF(K51="","",INDIRECT("$Recherches.$B"&M51)) | O51: =IF(K51="","",INDIRECT(ADDRESS(M51,$I$3+2, , ,"Recherches")))
A52: =IF(ISERROR(FIND($C$2,C52)),"",ROW()) | B52: =MATCH(C52,Ressources!$A$1:$A$21,0) -> 19 | C52: Stock de bois | D52: =IF(B52="","",INDIRECT("$Ressources.$B"&B52)) -> Bois | E52: =IF(A52="","",INDIRECT(ADDRESS(B52,$C$3+2, , ,"Ressources"))) | F52: =IF(ISERROR(FIND($F$2,G52)),"",ROW()) | G52: Salle d'entraînement | H52: =MATCH(G52,Installations!$A$1:$A$22,0) -> 19 | I52: =IF(F52="","",INDIRECT("$Installations.$B"&H52)) | J52: =IF(F52="","",INDIRECT(ADDRESS(H52,$F$3+2, , ,"Installations"))) | K52: =IF(ISERROR(FIND($I$2,L52)),"",ROW()) | L52: Mandibule 3 | M52: =MATCH(L52,Recherches!$A$1:$A$41,0) -> 12 | N52: =IF(K52="","",INDIRECT("$Recherches.$B"&M52)) | O52: =IF(K52="","",INDIRECT(ADDRESS(M52,$I$3+2, , ,"Recherches")))
A53: =IF(ISERROR(FIND($C$2,C53)),"",ROW()) | B53: =MATCH(C53,Ressources!$A$1:$A$21,0) -> 21 | C53: Poche d'eau | D53: =IF(B53="","",INDIRECT("$Ressources.$B"&B53)) -> Bois | E53: =IF(A53="","",INDIRECT(ADDRESS(B53,$C$3+2, , ,"Ressources"))) | F53: =IF(ISERROR(FIND($F$2,G53)),"",ROW()) | G53: Érudition 1 | H53: =MATCH(G53,Installations!$A$1:$A$22,0) -> 21 | I53: =IF(F53="","",INDIRECT("$Installations.$B"&H53)) | J53: =IF(F53="","",INDIRECT(ADDRESS(H53,$F$3+2, , ,"Installations"))) | K53: =IF(ISERROR(FIND($I$2,L53)),"",ROW()) | L53: Carapace 1 | M53: =MATCH(L53,Recherches!$A$1:$A$41,0) -> 13 | N53: =IF(K53="","",INDIRECT("$Recherches.$B"&M53)) | O53: =IF(K53="","",INDIRECT(ADDRESS(M53,$I$3+2, , ,"Recherches")))
F54: =IF(ISERROR(FIND($F$2,G54)),"",ROW()) | G54: Érudition 2 | H54: =MATCH(G54,Installations!$A$1:$A$22,0) -> 22 | I54: =IF(F54="","",INDIRECT("$Installations.$B"&H54)) | J54: =IF(F54="","",INDIRECT(ADDRESS(H54,$F$3+2, , ,"Installations"))) | K54: =IF(ISERROR(FIND($I$2,L54)),"",ROW()) | L54: Carapace 2 | M54: =MATCH(L54,Recherches!$A$1:$A$41,0) -> 14 | N54: =IF(K54="","",INDIRECT("$Recherches.$B"&M54)) | O54: =IF(K54="","",INDIRECT(ADDRESS(M54,$I$3+2, , ,"Recherches")))
K55: =IF(ISERROR(FIND($I$2,L55)),"",ROW()) | L55: Carapace 3 | M55: =MATCH(L55,Recherches!$A$1:$A$41,0) -> 15 | N55: =IF(K55="","",INDIRECT("$Recherches.$B"&M55)) | O55: =IF(K55="","",INDIRECT(ADDRESS(M55,$I$3+2, , ,"Recherches")))
K56: =IF(ISERROR(FIND($I$2,L56)),"",ROW()) -> 56 | L56: Satisfaction 1 | M56: =MATCH(L56,Recherches!$A$1:$A$41,0) -> 16 | N56: =IF(K56="","",INDIRECT("$Recherches.$B"&M56)) -> Ouv | O56: =IF(K56="","",INDIRECT(ADDRESS(M56,$I$3+2, , ,"Recherches"))) -> 72.2
K57: =IF(ISERROR(FIND($I$2,L57)),"",ROW()) -> 57 | L57: Satisfaction 2 | M57: =MATCH(L57,Recherches!$A$1:$A$41,0) -> 17 | N57: =IF(K57="","",INDIRECT("$Recherches.$B"&M57)) -> Food | O57: =IF(K57="","",INDIRECT(ADDRESS(M57,$I$3+2, , ,"Recherches"))) -> 3610
K58: =IF(ISERROR(FIND($I$2,L58)),"",ROW()) -> 58 | L58: Satisfaction 3 | M58: =MATCH(L58,Recherches!$A$1:$A$41,0) -> 18 | N58: =IF(K58="","",INDIRECT("$Recherches.$B"&M58)) -> Bois | O58: =IF(K58="","",INDIRECT(ADDRESS(M58,$I$3+2, , ,"Recherches"))) -> 3610
K59: =IF(ISERROR(FIND($I$2,L59)),"",ROW()) | L59: Vitesse d'attaque 1 | M59: =MATCH(L59,Recherches!$A$1:$A$41,0) -> 19 | N59: =IF(K59="","",INDIRECT("$Recherches.$B"&M59)) | O59: =IF(K59="","",INDIRECT(ADDRESS(M59,$I$3+2, , ,"Recherches")))
K60: =IF(ISERROR(FIND($I$2,L60)),"",ROW()) | L60: Vitesse d'attaque 2 | M60: =MATCH(L60,Recherches!$A$1:$A$41,0) -> 20 | N60: =IF(K60="","",INDIRECT("$Recherches.$B"&M60)) | O60: =IF(K60="","",INDIRECT(ADDRESS(M60,$I$3+2, , ,"Recherches")))
K61: =IF(ISERROR(FIND($I$2,L61)),"",ROW()) | L61: Vitesse de convois 1 | M61: =MATCH(L61,Recherches!$A$1:$A$41,0) -> 21 | N61: =IF(K61="","",INDIRECT("$Recherches.$B"&M61)) | O61: =IF(K61="","",INDIRECT(ADDRESS(M61,$I$3+2, , ,"Recherches")))
K62: =IF(ISERROR(FIND($I$2,L62)),"",ROW()) | L62: Vitesse de convois 2 | M62: =MATCH(L62,Recherches!$A$1:$A$41,0) -> 22 | N62: =IF(K62="","",INDIRECT("$Recherches.$B"&M62)) | O62: =IF(K62="","",INDIRECT(ADDRESS(M62,$I$3+2, , ,"Recherches")))
K63: =IF(ISERROR(FIND($I$2,L63)),"",ROW()) | L63: Vitesse de traque 1 | M63: =MATCH(L63,Recherches!$A$1:$A$41,0) -> 23 | N63: =IF(K63="","",INDIRECT("$Recherches.$B"&M63)) | O63: =IF(K63="","",INDIRECT(ADDRESS(M63,$I$3+2, , ,"Recherches")))
K64: =IF(ISERROR(FIND($I$2,L64)),"",ROW()) | L64: Vitesse de traque 2 | M64: =MATCH(L64,Recherches!$A$1:$A$41,0) -> 24 | N64: =IF(K64="","",INDIRECT("$Recherches.$B"&M64)) | O64: =IF(K64="","",INDIRECT(ADDRESS(M64,$I$3+2, , ,"Recherches")))
K65: =IF(ISERROR(FIND($I$2,L65)),"",ROW()) | L65: Soin 1 | M65: =MATCH(L65,Recherches!$A$1:$A$41,0) -> 25 | N65: =IF(K65="","",INDIRECT("$Recherches.$B"&M65)) | O65: =IF(K65="","",INDIRECT(ADDRESS(M65,$I$3+2, , ,"Recherches")))
K66: =IF(ISERROR(FIND($I$2,L66)),"",ROW()) | L66: Soin 2 | M66: =MATCH(L66,Recherches!$A$1:$A$41,0) -> 26 | N66: =IF(K66="","",INDIRECT("$Recherches.$B"&M66)) | O66: =IF(K66="","",INDIRECT(ADDRESS(M66,$I$3+2, , ,"Recherches")))
... K81: =IF(ISERROR(FIND($I$2,L81)),"",ROW()) | L81: Colonisation 4 | M81: =MATCH(L81,Recherches!$A$1:$A$41,0) -> 41 | N81: =IF(K81="","",INDIRECT("$Recherches.$B"&M81)) | O81: =IF(K81="","",INDIRECT(ADDRESS(M81,$I$3+2, , ,"Recherches")))

Sheet Feuille 8
A1: Ressources ↓ | B1: Installations ↓ | C1: Recherches ↓
A2: Champ de culture | B2: Chambre impériale | C2: Thermique
A3: Salle des racines | B3: Atelier | C3: L'analyseur
A4: Source minérale | B4: Caserne | C4: Phéromone
A5: Stock de nourriture | B5: Laboratoire | C5: Mandibule
A6: Stock de bois | B6: Dôme | C6: Carapace
A7: Poche d'eau | B7: Loge impériale | C7: Satisfaction
B8: Sanctuaire héroïque | C8: Vitesse d'attaque
B9: Salle d'entraînement | C9: Vitesse de convois
B10: Érudition | C10: Vitesse de traque
C11: Soin
C12: Pillage
C13: L'art de la guerre
C14: Génétique
C15: Toxique
C16: Colonisation
