Workbook

Sheet Totaux
A1: TOTAUX DE COMANNDES PAR JOUR
A4: Tableau de commande pour la période du 05/09 au 03/10/2018
B6: Prix | C6: 43348 | D6: 43355 | E6: 43362 | F6: 43369 | G6: 43376
A7: Pain Nature - 500 g | B7: 2.7 | C7: =SUM('1':Feuille20!C7:C7) -> 1 | D7: =SUM('1':Feuille20!D7:D7) -> 0 | E7: =SUM('1':Feuille20!E7:E7) -> 0 | F7: =SUM('1':Feuille20!F7:F7) -> 1 | G7: =SUM('1':Feuille20!G7:G7) -> 0
A8: Pain Nature - 1 kg | B8: 5.4 | C8: =SUM('1':Feuille20!C8:C8) -> 0 | D8: =SUM('1':Feuille20!D8:D8) -> 0 | E8: =SUM('1':Feuille20!E8:E8) -> 0 | F8: =SUM('1':Feuille20!F8:F8) -> 0 | G8: =SUM('1':Feuille20!G8:G8) -> 0
A9: Pain Complet - 500 g | B9: 2.7 | C9: =SUM('1':Feuille20!C9:C9) -> 2 | D9: =SUM('1':Feuille20!D9:D9) -> 3 | E9: =SUM('1':Feuille20!E9:E9) -> 2 | F9: =SUM('1':Feuille20!F9:F9) -> 1 | G9: =SUM('1':Feuille20!G9:G9) -> 2
A10: Pain 3 farines - 500 g | B10: 3 | C10: =SUM('1':Feuille20!C10:C10) -> 2 | D10: =SUM('1':Feuille20!D10:D10) -> 2 | E10: =SUM('1':Feuille20!E10:E10) -> 2 | F10: =SUM('1':Feuille20!F10:F10) -> 2 | G10: =SUM('1':Feuille20!G10:G10) -> 1
A11: Lin-pavot - 400 g | B11: 2.7 | C11: =SUM('1':Feuille20!C11:C11) -> 2 | D11: =SUM('1':Feuille20!D11:D11) -> 0 | E11: =SUM('1':Feuille20!E11:E11) -> 0 | F11: =SUM('1':Feuille20!F11:F11) -> 0 | G11: =SUM('1':Feuille20!G11:G11) -> 0
A12: Sésame - 400g | B12: 2.7 | C12: =SUM('1':Feuille20!C12:C12) -> 0 | D12: =SUM('1':Feuille20!D12:D12) -> 1 | E12: =SUM('1':Feuille20!E12:E12) -> 0 | F12: =SUM('1':Feuille20!F12:F12) -> 0 | G12: =SUM('1':Feuille20!G12:G12) -> 0
A13: Graines de courge - 400 g | B13: 2.7 | C13: =SUM('1':Feuille20!C13:C13) -> 0 | D13: =SUM('1':Feuille20!D13:D13) -> 0 | E13: =SUM('1':Feuille20!E13:E13) -> 1 | F13: =SUM('1':Feuille20!F13:F13) -> 0 | G13: =SUM('1':Feuille20!G13:G13) -> 1
A14: Olives - 400 g | B14: 2.7 | C14: =SUM('1':Feuille20!C14:C14) -> 0 | D14: =SUM('1':Feuille20!D14:D14) -> 1 | E14: =SUM('1':Feuille20!E14:E14) -> 0 | F14: =SUM('1':Feuille20!F14:F14) -> 0 | G14: =SUM('1':Feuille20!G14:G14) -> 0
A15: Figue - 400 g | B15: 2.7 | C15: =SUM('1':Feuille20!C15:C15) -> 0 | D15: =SUM('1':Feuille20!D15:D15) -> 0 | E15: =SUM('1':Feuille20!E15:E15) -> 0 | F15: =SUM('1':Feuille20!F15:F15) -> 0 | G15: =SUM('1':Feuille20!G15:G15) -> 0
A16: Raisins - 350 g | B16: 2.7 | C16: =SUM('1':Feuille20!C16:C16) -> 0 | D16: =SUM('1':Feuille20!D16:D16) -> 0 | E16: =SUM('1':Feuille20!E16:E16) -> 0 | F16: =SUM('1':Feuille20!F16:F16) -> 0 | G16: =SUM('1':Feuille20!G16:G16) -> 0
A17: Noix - 300 g | B17: 2.7 | C17: =SUM('1':Feuille20!C17:C17) -> 0 | D17: =SUM('1':Feuille20!D17:D17) -> 0 | E17: =SUM('1':Feuille20!E17:E17) -> 0 | F17: =SUM('1':Feuille20!F17:F17) -> 1 | G17: =SUM('1':Feuille20!G17:G17) -> 0
A18: Noisettes - 350 g | B18: 2.7 | C18: =SUM('1':Feuille20!C18:C18) -> 0 | D18: =SUM('1':Feuille20!D18:D18) -> 0 | E18: =SUM('1':Feuille20!E18:E18) -> 0 | F18: =SUM('1':Feuille20!F18:F18) -> 0 | G18: =SUM('1':Feuille20!G18:G18) -> 2
... A20: Multigraines - 400 g | B20: 2.7 | C20: =SUM('1':Feuille20!C20:C20) -> 0 | D20: =SUM('1':Feuille20!D20:D20) -> 0 | E20: =SUM('1':Feuille20!E20:E20) -> 1 | F20: =SUM('1':Feuille20!F20:F20) -> 0 | G20: =SUM('1':Feuille20!G20:G20) -> 0
B21: Nb de pains | C21: =C7+C8+C9+C10+C11+C12+C13+C14+C15+C16+C17+C18+C19+C20 -> 7 | D21: =D7+D8+D9+D10+D11+D12+D13+D14+D15+D16+D17+D18+D19+D20 -> 7 | E21: =E7+E8+E9+E10+E11+E12+E13+E14+E15+E16+E17+E18+E19+E20 -> 6 | F21: =F7+F8+F9+F10+F11+F12+F13+F14+F15+F16+F17+F18+F19+F20 -> 5 | G21: =G7+G8+G9+G10+G11+G12+G13+G14+G15+G16+G17+G18+G19+G20 -> 6 | H21: =SUM(C21:G21) -> 31
B22: TOTAL contrats | C22: =SUMPRODUCT($B7:$B20,C7:C20) -> 19.5 | D22: =SUMPRODUCT($B7:$B20,D7:D20) -> 19.5 | E22: =SUMPRODUCT($B7:$B20,E7:E20) -> 16.8 | F22: =SUMPRODUCT($B7:$B20,F7:F20) -> 14.1 | G22: =SUMPRODUCT($B7:$B20,G7:G20) -> 16.5 | H22: =SUM(C22:G22) -> 86.4

Sheet Feuille distrib
C1: Distribution PAIN du : | D1: 43355
A4: PAINS | B4: Adhérent 1 | C4: Adhérent 2 | D4: Adhérent 3 | E4: Adhérent 4
A5: Pain Nature - 500 g | B5: =INDIRECT(ADDRESS(MATCH($A5,'1'!$A$1:$A$20,0),MATCH($D$1,'1'!$A$6:$G$6,0),4,1,COLUMN()-1),1) -> 0 | C5: =INDIRECT(ADDRESS(MATCH($A5,'1'!$A$1:$A$20,0),MATCH($D$1,'1'!$A$6:$G$6,0),4,1,COLUMN()-1),1) -> 0 | D5: =INDIRECT(ADDRESS(MATCH($A5,'1'!$A$1:$A$20,0),MATCH($D$1,'1'!$A$6:$G$6,0),4,1,COLUMN()-1),1) -> 0 | E5: =INDIRECT(ADDRESS(MATCH($A5,'1'!$A$1:$A$20,0),MATCH($D$1,'1'!$A$6:$G$6,0),4,1,COLUMN()-1),1) -> 0
A6: Pain Nature - 1 kg | B6: =INDIRECT(ADDRESS(MATCH($A6,'1'!$A$1:$A$20,0),MATCH($D$1,'1'!$A$6:$G$6,0),4,1,COLUMN()-1),1) -> 0 | C6: =INDIRECT(ADDRESS(MATCH($A6,'1'!$A$1:$A$20,0),MATCH($D$1,'1'!$A$6:$G$6,0),4,1,COLUMN()-1),1) -> 0 | D6: =INDIRECT(ADDRESS(MATCH($A6,'1'!$A$1:$A$20,0),MATCH($D$1,'1'!$A$6:$G$6,0),4,1,COLUMN()-1),1) -> 0 | E6: =INDIRECT(ADDRESS(MATCH($A6,'1'!$A$1:$A$20,0),MATCH($D$1,'1'!$A$6:$G$6,0),4,1,COLUMN()-1),1) -> 0
A7: Pain Complet - 500 g | B7: =INDIRECT(ADDRESS(MATCH($A7,'1'!$A$1:$A$20,0),MATCH($D$1,'1'!$A$6:$G$6,0),4,1,COLUMN()-1),1) -> 1 | C7: =INDIRECT(ADDRESS(MATCH($A7,'1'!$A$1:$A$20,0),MATCH($D$1,'1'!$A$6:$G$6,0),4,1,COLUMN()-1),1) -> 1 | D7: =INDIRECT(ADDRESS(MATCH($A7,'1'!$A$1:$A$20,0),MATCH($D$1,'1'!$A$6:$G$6,0),4,1,COLUMN()-1),1) -> 1 | E7: =INDIRECT(ADDRESS(MATCH($A7,'1'!$A$1:$A$20,0),MATCH($D$1,'1'!$A$6:$G$6,0),4,1,COLUMN()-1),1) -> 0
A8: Pain 3 farines - 500 g | B8: =INDIRECT(ADDRESS(MATCH($A8,'1'!$A$1:$A$20,0),MATCH($D$1,'1'!$A$6:$G$6,0),4,1,COLUMN()-1),1) -> 0 | C8: =INDIRECT(ADDRESS(MATCH($A8,'1'!$A$1:$A$20,0),MATCH($D$1,'1'!$A$6:$G$6,0),4,1,COLUMN()-1),1) -> 0 | D8: =INDIRECT(ADDRESS(MATCH($A8,'1'!$A$1:$A$20,0),MATCH($D$1,'1'!$A$6:$G$6,0),4,1,COLUMN()-1),1) -> 1 | E8: =INDIRECT(ADDRESS(MATCH($A8,'1'!$A$1:$A$20,0),MATCH($D$1,'1'!$A$6:$G$6,0),4,1,COLUMN()-1),1) -> 1
A9: Lin-pavot - 400 g | B9: =INDIRECT(ADDRESS(MATCH($A9,'1'!$A$1:$A$20,0),MATCH($D$1,'1'!$A$6:$G$6,0),4,1,COLUMN()-1),1) -> 0 | C9: =INDIRECT(ADDRESS(MATCH($A9,'1'!$A$1:$A$20,0),MATCH($D$1,'1'!$A$6:$G$6,0),4,1,COLUMN()-1),1) -> 0 | D9: =INDIRECT(ADDRESS(MATCH($A9,'1'!$A$1:$A$20,0),MATCH($D$1,'1'!$A$6:$G$6,0),4,1,COLUMN()-1),1) -> 0 | E9: =INDIRECT(ADDRESS(MATCH($A9,'1'!$A$1:$A$20,0),MATCH($D$1,'1'!$A$6:$G$6,0),4,1,COLUMN()-1),1) -> 0
A10: Sésame - 400g | B10: =INDIRECT(ADDRESS(MATCH($A10,'1'!$A$1:$A$20,0),MATCH($D$1,'1'!$A$6:$G$6,0),4,1,COLUMN()-1),1) -> 0 | C10: =INDIRECT(ADDRESS(MATCH($A10,'1'!$A$1:$A$20,0),MATCH($D$1,'1'!$A$6:$G$6,0),4,1,COLUMN()-1),1) -> 1 | D10: =INDIRECT(ADDRESS(MATCH($A10,'1'!$A$1:$A$20,0),MATCH($D$1,'1'!$A$6:$G$6,0),4,1,COLUMN()-1),1) -> 0 | E10: =INDIRECT(ADDRESS(MATCH($A10,'1'!$A$1:$A$20,0),MATCH($D$1,'1'!$A$6:$G$6,0),4,1,COLUMN()-1),1) -> 0
A11: Graines de courge - 400 g | B11: =INDIRECT(ADDRESS(MATCH($A11,'1'!$A$1:$A$20,0),MATCH($D$1,'1'!$A$6:$G$6,0),4,1,COLUMN()-1),1) -> 0 | C11: =INDIRECT(ADDRESS(MATCH($A11,'1'!$A$1:$A$20,0),MATCH($D$1,'1'!$A$6:$G$6,0),4,1,COLUMN()-1),1) -> 0 | D11: =INDIRECT(ADDRESS(MATCH($A11,'1'!$A$1:$A$20,0),MATCH($D$1,'1'!$A$6:$G$6,0),4,1,COLUMN()-1),1) -> 0 | E11: =INDIRECT(ADDRESS(MATCH($A11,'1'!$A$1:$A$20,0),MATCH($D$1,'1'!$A$6:$G$6,0),4,1,COLUMN()-1),1) -> 0
A12: Olives - 400 g | B12: =INDIRECT(ADDRESS(MATCH($A12,'1'!$A$1:$A$20,0),MATCH($D$1,'1'!$A$6:$G$6,0),4,1,COLUMN()-1),1) -> 1 | C12: =INDIRECT(ADDRESS(MATCH($A12,'1'!$A$1:$A$20,0),MATCH($D$1,'1'!$A$6:$G$6,0),4,1,COLUMN()-1),1) -> 0 | D12: =INDIRECT(ADDRESS(MATCH($A12,'1'!$A$1:$A$20,0),MATCH($D$1,'1'!$A$6:$G$6,0),4,1,COLUMN()-1),1) -> 0 | E12: =INDIRECT(ADDRESS(MATCH($A12,'1'!$A$1:$A$20,0),MATCH($D$1,'1'!$A$6:$G$6,0),4,1,COLUMN()-1),1) -> 0
A13: Figue - 400 g | B13: =INDIRECT(ADDRESS(MATCH($A13,'1'!$A$1:$A$20,0),MATCH($D$1,'1'!$A$6:$G$6,0),4,1,COLUMN()-1),1) -> 0 | C13: =INDIRECT(ADDRESS(MATCH($A13,'1'!$A$1:$A$20,0),MATCH($D$1,'1'!$A$6:$G$6,0),4,1,COLUMN()-1),1) -> 0 | D13: =INDIRECT(ADDRESS(MATCH($A13,'1'!$A$1:$A$20,0),MATCH($D$1,'1'!$A$6:$G$6,0),4,1,COLUMN()-1),1) -> 0 | E13: =INDIRECT(ADDRESS(MATCH($A13,'1'!$A$1:$A$20,0),MATCH($D$1,'1'!$A$6:$G$6,0),4,1,COLUMN()-1),1) -> 0
A14: Raisins - 350 g | B14: =INDIRECT(ADDRESS(MATCH($A14,'1'!$A$1:$A$20,0),MATCH($D$1,'1'!$A$6:$G$6,0),4,1,COLUMN()-1),1) -> 0 | C14: =INDIRECT(ADDRESS(MATCH($A14,'1'!$A$1:$A$20,0),MATCH($D$1,'1'!$A$6:$G$6,0),4,1,COLUMN()-1),1) -> 0 | D14: =INDIRECT(ADDRESS(MATCH($A14,'1'!$A$1:$A$20,0),MATCH($D$1,'1'!$A$6:$G$6,0),4,1,COLUMN()-1),1) -> 0 | E14: =INDIRECT(ADDRESS(MATCH($A14,'1'!$A$1:$A$20,0),MATCH($D$1,'1'!$A$6:$G$6,0),4,1,COLUMN()-1),1) -> 0
A15: Noix - 300 g | B15: =INDIRECT(ADDRESS(MATCH($A15,'1'!$A$1:$A$20,0),MATCH($D$1,'1'!$A$6:$G$6,0),4,1,COLUMN()-1),1) -> 0 | C15: =INDIRECT(ADDRESS(MATCH($A15,'1'!$A$1:$A$20,0),MATCH($D$1,'1'!$A$6:$G$6,0),4,1,COLUMN()-1),1) -> 0 | D15: =INDIRECT(ADDRESS(MATCH($A15,'1'!$A$1:$A$20,0),MATCH($D$1,'1'!$A$6:$G$6,0),4,1,COLUMN()-1),1) -> 0 | E15: =INDIRECT(ADDRESS(MATCH($A15,'1'!$A$1:$A$20,0),MATCH($D$1,'1'!$A$6:$G$6,0),4,1,COLUMN()-1),1) -> 0
A16: Noisettes - 350 g | B16: =INDIRECT(ADDRESS(MATCH($A16,'1'!$A$1:$A$20,0),MATCH($D$1,'1'!$A$6:$G$6,0),4,1,COLUMN()-1),1) -> 0 | C16: =INDIRECT(ADDRESS(MATCH($A16,'1'!$A$1:$A$20,0),MATCH($D$1,'1'!$A$6:$G$6,0),4,1,COLUMN()-1),1) -> 0 | D16: =INDIRECT(ADDRESS(MATCH($A16,'1'!$A$1:$A$20,0),MATCH($D$1,'1'!$A$6:$G$6,0),4,1,COLUMN()-1),1) -> 0 | E16: =INDIRECT(ADDRESS(MATCH($A16,'1'!$A$1:$A$20,0),MATCH($D$1,'1'!$A$6:$G$6,0),4,1,COLUMN()-1),1) -> 0
... A18: Multigraines - 400 g | B18: =INDIRECT(ADDRESS(MATCH($A18,'1'!$A$1:$A$20,0),MATCH($D$1,'1'!$A$6:$G$6,0),4,1,COLUMN()-1),1) -> 0 | C18: =INDIRECT(ADDRESS(MATCH($A18,'1'!$A$1:$A$20,0),MATCH($D$1,'1'!$A$6:$G$6,0),4,1,COLUMN()-1),1) -> 0 | D18: =INDIRECT(ADDRESS(MATCH($A18,'1'!$A$1:$A$20,0),MATCH($D$1,'1'!$A$6:$G$6,0),4,1,COLUMN()-1),1) -> 0 | E18: =INDIRECT(ADDRESS(MATCH($A18,'1'!$A$1:$A$20,0),MATCH($D$1,'1'!$A$6:$G$6,0),4,1,COLUMN()-1),1) -> 0

Sheet 1
A1: Adhérent n° 1
A4: Tableau de commande pour la période du 05/09 au 03/10/2018
B6: Prix | C6: 43348 | D6: 43355 | E6: 43362 | F6: 43369 | G6: 43376
A7: Pain Nature - 500 g | B7: 2.7 | F7: 1
A8: Pain Nature - 1 kg | B8: 5.4
A9: Pain Complet - 500 g | B9: 2.7 | D9: 1
A10: Pain 3 farines - 500 g | B10: 3 | C10: 1
A11: Lin-pavot - 400 g | B11: 2.7 | C11: 1
A12: Sésame - 400g | B12: 2.7
A13: Graines de courge - 400 g | B13: 2.7 | G13: 1
A14: Olives - 400 g | B14: 2.7 | D14: 1
A15: Figue - 400 g | B15: 2.7
A16: Raisins - 350 g | B16: 2.7
A17: Noix - 300 g | B17: 2.7
A18: Noisettes - 350 g | B18: 2.7 | G18: 1
A19: Tomates séchées - 400 g | B19: 2.7
A20: Multigraines - 400 g | B20: 2.7 | E20: 1
B21: TOTAL contrat | C21: =SUMPRODUCT($B7:$B20,C7:C20) -> 5.7 | D21: =SUMPRODUCT($B7:$B20,D7:D20) -> 5.4 | E21: =SUMPRODUCT($B7:$B20,E7:E20) -> 2.7 | F21: =SUMPRODUCT($B7:$B20,F7:F20) -> 2.7 | G21: =SUMPRODUCT($B7:$B20,G7:G20) -> 5.4 | H21: =SUM(C21:G21) -> 21.9

Sheet 2
A1: Adhérent n° 2
A4: Tableau de commande pour la période du 05/09 au 03/10/2018
B6: Prix | C6: 43348 | D6: 43355 | E6: 43362 | F6: 43369 | G6: 43376
A7: Pain Nature - 500 g | B7: 2.7 | C7: 1
A8: Pain Nature - 1 kg | B8: 5.4
A9: Pain Complet - 500 g | B9: 2.7 | D9: 1
A10: Pain 3 farines - 500 g | B10: 3 | E10: 1
A11: Lin-pavot - 400 g | B11: 2.7 | C11: 1
A12: Sésame - 400g | B12: 2.7 | D12: 1
A13: Graines de courge - 400 g | B13: 2.7 | E13: 1
A14: Olives - 400 g | B14: 2.7
A15: Figue - 400 g | B15: 2.7
A16: Raisins - 350 g | B16: 2.7
A17: Noix - 300 g | B17: 2.7 | F17: 1
A18: Noisettes - 350 g | B18: 2.7 | G18: 1
A19: Tomates séchées - 400 g | B19: 2.7
A20: Multigraines - 400 g | B20: 2.7
B21: TOTAL contrat | C21: =SUMPRODUCT($B7:$B20,C7:C20) -> 5.4 | D21: =SUMPRODUCT($B7:$B20,D7:D20) -> 5.4 | E21: =SUMPRODUCT($B7:$B20,E7:E20) -> 5.7 | F21: =SUMPRODUCT($B7:$B20,F7:F20) -> 2.7 | G21: =SUMPRODUCT($B7:$B20,G7:G20) -> 2.7 | H21: =SUM(C21:G21) -> 21.9

Sheet 3
A1: Adhérent n° 3
A4: Tableau de commande pour la période du 05/09 au 03/10/2018
B6: Prix | C6: 43348 | D6: 43355 | E6: 43362 | F6: 43369 | G6: 43376
A7: Pain Nature - 500 g | B7: 2.7
A8: Pain Nature - 1 kg | B8: 5.4
A9: Pain Complet - 500 g | B9: 2.7 | C9: 1 | D9: 1 | E9: 1 | F9: 1 | G9: 1
A10: Pain 3 farines - 500 g | B10: 3 | C10: 1 | D10: 1 | E10: 1 | F10: 1 | G10: 1
A11: Lin-pavot - 400 g | B11: 2.7
A12: Sésame - 400g | B12: 2.7
A13: Graines de courge - 400 g | B13: 2.7
A14: Olives - 400 g | B14: 2.7
A15: Figue - 400 g | B15: 2.7
A16: Raisins - 350 g | B16: 2.7
A17: Noix - 300 g | B17: 2.7
A18: Noisettes - 350 g | B18: 2.7
A19: Tomates séchées - 400 g | B19: 2.7
A20: Multigraines - 400 g | B20: 2.7
B21: TOTAL contrat | C21: =SUMPRODUCT($B7:$B20,C7:C20) -> 5.7 | D21: =SUMPRODUCT($B7:$B20,D7:D20) -> 5.7 | E21: =SUMPRODUCT($B7:$B20,E7:E20) -> 5.7 | F21: =SUMPRODUCT($B7:$B20,F7:F20) -> 5.7 | G21: =SUMPRODUCT($B7:$B20,G7:G20) -> 5.7 | H21: =SUM(C21:G21) -> 28.5

Sheet 4
A1: Adhérent n° 4
A4: Tableau de commande pour la période du 05/09 au 03/10/2018
B6: Prix | C6: 43348 | D6: 43355 | E6: 43362 | F6: 43369 | G6: 43376
A7: Pain Nature - 500 g | B7: 2.7
A8: Pain Nature - 1 kg | B8: 5.4
A9: Pain Complet - 500 g | B9: 2.7 | C9: 1 | E9: 1 | G9: 1
A10: Pain 3 farines - 500 g | B10: 3 | D10: 1 | F10: 1
A11: Lin-pavot - 400 g | B11: 2.7
A12: Sésame - 400g | B12: 2.7
A13: Graines de courge - 400 g | B13: 2.7
A14: Olives - 400 g | B14: 2.7
A15: Figue - 400 g | B15: 2.7
A16: Raisins - 350 g | B16: 2.7
A17: Noix - 300 g | B17: 2.7
A18: Noisettes - 350 g | B18: 2.7
A19: Tomates séchées - 400 g | B19: 2.7
A20: Multigraines - 400 g | B20: 2.7
B21: TOTAL contrat | C21: =SUMPRODUCT($B7:$B20,C7:C20) -> 2.7 | D21: =SUMPRODUCT($B7:$B20,D7:D20) -> 3 | E21: =SUMPRODUCT($B7:$B20,E7:E20) -> 2.7 | F21: =SUMPRODUCT($B7:$B20,F7:F20) -> 3 | G21: =SUMPRODUCT($B7:$B20,G7:G20) -> 2.7 | H21: =SUM(C21:G21) -> 14.1

Sheet Feuille20
A1: Adhérent n° 20
A2: NOM - Prénom
A4: Tableau de commande pour la période du 05/09 au 03/10/2018
B6: Prix | C6: 43348 | D6: 43355 | E6: 43362 | F6: 43369 | G6: 43376
A7: Pain Nature - 500 g | B7: 2.7
A8: Pain Nature - 1 kg | B8: 5.4
A9: Pain Complet - 500 g | B9: 2.7
A10: Pain 3 farines - 500 g | B10: 3
A11: Lin-pavot - 400 g | B11: 2.7
A12: Sésame - 400g | B12: 2.7
A13: Graines de courge - 400 g | B13: 2.7
A14: Olives - 400 g | B14: 2.7
A15: Figue - 400 g | B15: 2.7
A16: Raisins - 350 g | B16: 2.7
A17: Noix - 300 g | B17: 2.7
A18: Noisettes - 350 g | B18: 2.7
... A20: Multigraines - 400 g | B20: 2.7
B21: TOTAL contrat | C21: =SUMPRODUCT($B7:$B20,C7:C20) -> 0 | D21: =SUMPRODUCT($B7:$B20,D7:D20) -> 0 | E21: =SUMPRODUCT($B7:$B20,E7:E20) -> 0 | F21: =SUMPRODUCT($B7:$B20,F7:F20) -> 0 | G21: =SUMPRODUCT($B7:$B20,G7:G20) -> 0 | H21: =SUM(C21:G21) -> 0
