Workbook

Sheet Feuil1
A4: Sessions de Formation:
A5: =IF(B4="",TEXT("choisir en B4",_xlfn.ORG.OPENOFFICE.STYLE("Warning",180)),"Année "&B4) -> choisir en B4
A6: Spécialité | B6: Début Formation | C6: Fin Formation | D6: Nombre de mois | E6: Volume Horaire | F6: Capacité d'Accueil
A7: =IF(ROW()-7>=COUNTIF(Feuil2!$I:$I,">1"),"",INDIRECT("Feuil2!A"&SMALL(Feuil2!$I:$I,ROW()-6),1)) | B7: =IF(ROW()-7>=COUNTIF(Feuil2!$I:$I,">1"),"",INDIRECT("Feuil2!B"&SMALL(Feuil2!$I:$I,ROW()-6),1)) | C7: =IF(ROW()-7>=COUNTIF(Feuil2!$I:$I,">1"),"",INDIRECT("Feuil2!C"&SMALL(Feuil2!$I:$I,ROW()-6),1)) | D7: =IF(ROW()-7>=COUNTIF(Feuil2!$I:$I,">1"),"",INDIRECT("Feuil2!D"&SMALL(Feuil2!$I:$I,ROW()-6),1)) | E7: =IF(ROW()-7>=COUNTIF(Feuil2!$I:$I,">1"),"",INDIRECT("Feuil2!E"&SMALL(Feuil2!$I:$I,ROW()-6),1)) | F7: =IF(ROW()-7>=COUNTIF(Feuil2!$I:$I,">1"),"",INDIRECT("Feuil2!F"&SMALL(Feuil2!$I:$I,ROW()-6),1))
A8: =IF(ROW()-7>=COUNTIF(Feuil2!$I:$I,">1"),"",INDIRECT("Feuil2!A"&SMALL(Feuil2!$I:$I,ROW()-6),1)) | B8: =IF(ROW()-7>=COUNTIF(Feuil2!$I:$I,">1"),"",INDIRECT("Feuil2!B"&SMALL(Feuil2!$I:$I,ROW()-6),1)) | C8: =IF(ROW()-7>=COUNTIF(Feuil2!$I:$I,">1"),"",INDIRECT("Feuil2!C"&SMALL(Feuil2!$I:$I,ROW()-6),1)) | D8: =IF(ROW()-7>=COUNTIF(Feuil2!$I:$I,">1"),"",INDIRECT("Feuil2!D"&SMALL(Feuil2!$I:$I,ROW()-6),1)) | E8: =IF(ROW()-7>=COUNTIF(Feuil2!$I:$I,">1"),"",INDIRECT("Feuil2!E"&SMALL(Feuil2!$I:$I,ROW()-6),1)) | F8: =IF(ROW()-7>=COUNTIF(Feuil2!$I:$I,">1"),"",INDIRECT("Feuil2!F"&SMALL(Feuil2!$I:$I,ROW()-6),1))
A9: =IF(ROW()-7>=COUNTIF(Feuil2!$I:$I,">1"),"",INDIRECT("Feuil2!A"&SMALL(Feuil2!$I:$I,ROW()-6),1)) | B9: =IF(ROW()-7>=COUNTIF(Feuil2!$I:$I,">1"),"",INDIRECT("Feuil2!B"&SMALL(Feuil2!$I:$I,ROW()-6),1)) | C9: =IF(ROW()-7>=COUNTIF(Feuil2!$I:$I,">1"),"",INDIRECT("Feuil2!C"&SMALL(Feuil2!$I:$I,ROW()-6),1)) | D9: =IF(ROW()-7>=COUNTIF(Feuil2!$I:$I,">1"),"",INDIRECT("Feuil2!D"&SMALL(Feuil2!$I:$I,ROW()-6),1)) | E9: =IF(ROW()-7>=COUNTIF(Feuil2!$I:$I,">1"),"",INDIRECT("Feuil2!E"&SMALL(Feuil2!$I:$I,ROW()-6),1)) | F9: =IF(ROW()-7>=COUNTIF(Feuil2!$I:$I,">1"),"",INDIRECT("Feuil2!F"&SMALL(Feuil2!$I:$I,ROW()-6),1))
A10: =IF(ROW()-7>=COUNTIF(Feuil2!$I:$I,">1"),"",INDIRECT("Feuil2!A"&SMALL(Feuil2!$I:$I,ROW()-6),1)) | B10: =IF(ROW()-7>=COUNTIF(Feuil2!$I:$I,">1"),"",INDIRECT("Feuil2!B"&SMALL(Feuil2!$I:$I,ROW()-6),1)) | C10: =IF(ROW()-7>=COUNTIF(Feuil2!$I:$I,">1"),"",INDIRECT("Feuil2!C"&SMALL(Feuil2!$I:$I,ROW()-6),1)) | D10: =IF(ROW()-7>=COUNTIF(Feuil2!$I:$I,">1"),"",INDIRECT("Feuil2!D"&SMALL(Feuil2!$I:$I,ROW()-6),1)) | E10: =IF(ROW()-7>=COUNTIF(Feuil2!$I:$I,">1"),"",INDIRECT("Feuil2!E"&SMALL(Feuil2!$I:$I,ROW()-6),1)) | F10: =IF(ROW()-7>=COUNTIF(Feuil2!$I:$I,">1"),"",INDIRECT("Feuil2!F"&SMALL(Feuil2!$I:$I,ROW()-6),1))
A11: =IF(ROW()-7>=COUNTIF(Feuil2!$I:$I,">1"),"",INDIRECT("Feuil2!A"&SMALL(Feuil2!$I:$I,ROW()-6),1)) | B11: =IF(ROW()-7>=COUNTIF(Feuil2!$I:$I,">1"),"",INDIRECT("Feuil2!B"&SMALL(Feuil2!$I:$I,ROW()-6),1)) | C11: =IF(ROW()-7>=COUNTIF(Feuil2!$I:$I,">1"),"",INDIRECT("Feuil2!C"&SMALL(Feuil2!$I:$I,ROW()-6),1)) | D11: =IF(ROW()-7>=COUNTIF(Feuil2!$I:$I,">1"),"",INDIRECT("Feuil2!D"&SMALL(Feuil2!$I:$I,ROW()-6),1)) | E11: =IF(ROW()-7>=COUNTIF(Feuil2!$I:$I,">1"),"",INDIRECT("Feuil2!E"&SMALL(Feuil2!$I:$I,ROW()-6),1)) | F11: =IF(ROW()-7>=COUNTIF(Feuil2!$I:$I,">1"),"",INDIRECT("Feuil2!F"&SMALL(Feuil2!$I:$I,ROW()-6),1))
A12: =IF(ROW()-7>=COUNTIF(Feuil2!$I:$I,">1"),"",INDIRECT("Feuil2!A"&SMALL(Feuil2!$I:$I,ROW()-6),1)) | B12: =IF(ROW()-7>=COUNTIF(Feuil2!$I:$I,">1"),"",INDIRECT("Feuil2!B"&SMALL(Feuil2!$I:$I,ROW()-6),1)) | C12: =IF(ROW()-7>=COUNTIF(Feuil2!$I:$I,">1"),"",INDIRECT("Feuil2!C"&SMALL(Feuil2!$I:$I,ROW()-6),1)) | D12: =IF(ROW()-7>=COUNTIF(Feuil2!$I:$I,">1"),"",INDIRECT("Feuil2!D"&SMALL(Feuil2!$I:$I,ROW()-6),1)) | E12: =IF(ROW()-7>=COUNTIF(Feuil2!$I:$I,">1"),"",INDIRECT("Feuil2!E"&SMALL(Feuil2!$I:$I,ROW()-6),1)) | F12: =IF(ROW()-7>=COUNTIF(Feuil2!$I:$I,">1"),"",INDIRECT("Feuil2!F"&SMALL(Feuil2!$I:$I,ROW()-6),1))
A13: =IF(ROW()-7>=COUNTIF(Feuil2!$I:$I,">1"),"",INDIRECT("Feuil2!A"&SMALL(Feuil2!$I:$I,ROW()-6),1)) | B13: =IF(ROW()-7>=COUNTIF(Feuil2!$I:$I,">1"),"",INDIRECT("Feuil2!B"&SMALL(Feuil2!$I:$I,ROW()-6),1)) | C13: =IF(ROW()-7>=COUNTIF(Feuil2!$I:$I,">1"),"",INDIRECT("Feuil2!C"&SMALL(Feuil2!$I:$I,ROW()-6),1)) | D13: =IF(ROW()-7>=COUNTIF(Feuil2!$I:$I,">1"),"",INDIRECT("Feuil2!D"&SMALL(Feuil2!$I:$I,ROW()-6),1)) | E13: =IF(ROW()-7>=COUNTIF(Feuil2!$I:$I,">1"),"",INDIRECT("Feuil2!E"&SMALL(Feuil2!$I:$I,ROW()-6),1)) | F13: =IF(ROW()-7>=COUNTIF(Feuil2!$I:$I,">1"),"",INDIRECT("Feuil2!F"&SMALL(Feuil2!$I:$I,ROW()-6),1))
A14: =IF(ROW()-7>=COUNTIF(Feuil2!$I:$I,">1"),"",INDIRECT("Feuil2!A"&SMALL(Feuil2!$I:$I,ROW()-6),1)) | B14: =IF(ROW()-7>=COUNTIF(Feuil2!$I:$I,">1"),"",INDIRECT("Feuil2!B"&SMALL(Feuil2!$I:$I,ROW()-6),1)) | C14: =IF(ROW()-7>=COUNTIF(Feuil2!$I:$I,">1"),"",INDIRECT("Feuil2!C"&SMALL(Feuil2!$I:$I,ROW()-6),1)) | D14: =IF(ROW()-7>=COUNTIF(Feuil2!$I:$I,">1"),"",INDIRECT("Feuil2!D"&SMALL(Feuil2!$I:$I,ROW()-6),1)) | E14: =IF(ROW()-7>=COUNTIF(Feuil2!$I:$I,">1"),"",INDIRECT("Feuil2!E"&SMALL(Feuil2!$I:$I,ROW()-6),1)) | F14: =IF(ROW()-7>=COUNTIF(Feuil2!$I:$I,">1"),"",INDIRECT("Feuil2!F"&SMALL(Feuil2!$I:$I,ROW()-6),1))
A15: =IF(ROW()-7>=COUNTIF(Feuil2!$I:$I,">1"),"",INDIRECT("Feuil2!A"&SMALL(Feuil2!$I:$I,ROW()-6),1)) | B15: =IF(ROW()-7>=COUNTIF(Feuil2!$I:$I,">1"),"",INDIRECT("Feuil2!B"&SMALL(Feuil2!$I:$I,ROW()-6),1)) | C15: =IF(ROW()-7>=COUNTIF(Feuil2!$I:$I,">1"),"",INDIRECT("Feuil2!C"&SMALL(Feuil2!$I:$I,ROW()-6),1)) | D15: =IF(ROW()-7>=COUNTIF(Feuil2!$I:$I,">1"),"",INDIRECT("Feuil2!D"&SMALL(Feuil2!$I:$I,ROW()-6),1)) | E15: =IF(ROW()-7>=COUNTIF(Feuil2!$I:$I,">1"),"",INDIRECT("Feuil2!E"&SMALL(Feuil2!$I:$I,ROW()-6),1)) | F15: =IF(ROW()-7>=COUNTIF(Feuil2!$I:$I,">1"),"",INDIRECT("Feuil2!F"&SMALL(Feuil2!$I:$I,ROW()-6),1))
A16: =IF(ROW()-7>=COUNTIF(Feuil2!$I:$I,">1"),"",INDIRECT("Feuil2!A"&SMALL(Feuil2!$I:$I,ROW()-6),1)) | B16: =IF(ROW()-7>=COUNTIF(Feuil2!$I:$I,">1"),"",INDIRECT("Feuil2!B"&SMALL(Feuil2!$I:$I,ROW()-6),1)) | C16: =IF(ROW()-7>=COUNTIF(Feuil2!$I:$I,">1"),"",INDIRECT("Feuil2!C"&SMALL(Feuil2!$I:$I,ROW()-6),1)) | D16: =IF(ROW()-7>=COUNTIF(Feuil2!$I:$I,">1"),"",INDIRECT("Feuil2!D"&SMALL(Feuil2!$I:$I,ROW()-6),1)) | E16: =IF(ROW()-7>=COUNTIF(Feuil2!$I:$I,">1"),"",INDIRECT("Feuil2!E"&SMALL(Feuil2!$I:$I,ROW()-6),1)) | F16: =IF(ROW()-7>=COUNTIF(Feuil2!$I:$I,">1"),"",INDIRECT("Feuil2!F"&SMALL(Feuil2!$I:$I,ROW()-6),1))
A17: =IF(ROW()-7>=COUNTIF(Feuil2!$I:$I,">1"),"",INDIRECT("Feuil2!A"&SMALL(Feuil2!$I:$I,ROW()-6),1)) | B17: =IF(ROW()-7>=COUNTIF(Feuil2!$I:$I,">1"),"",INDIRECT("Feuil2!B"&SMALL(Feuil2!$I:$I,ROW()-6),1)) | C17: =IF(ROW()-7>=COUNTIF(Feuil2!$I:$I,">1"),"",INDIRECT("Feuil2!C"&SMALL(Feuil2!$I:$I,ROW()-6),1)) | D17: =IF(ROW()-7>=COUNTIF(Feuil2!$I:$I,">1"),"",INDIRECT("Feuil2!D"&SMALL(Feuil2!$I:$I,ROW()-6),1)) | E17: =IF(ROW()-7>=COUNTIF(Feuil2!$I:$I,">1"),"",INDIRECT("Feuil2!E"&SMALL(Feuil2!$I:$I,ROW()-6),1)) | F17: =IF(ROW()-7>=COUNTIF(Feuil2!$I:$I,">1"),"",INDIRECT("Feuil2!F"&SMALL(Feuil2!$I:$I,ROW()-6),1))
A18: =IF(ROW()-7>=COUNTIF(Feuil2!$I:$I,">1"),"",INDIRECT("Feuil2!A"&SMALL(Feuil2!$I:$I,ROW()-6),1)) | B18: =IF(ROW()-7>=COUNTIF(Feuil2!$I:$I,">1"),"",INDIRECT("Feuil2!B"&SMALL(Feuil2!$I:$I,ROW()-6),1)) | C18: =IF(ROW()-7>=COUNTIF(Feuil2!$I:$I,">1"),"",INDIRECT("Feuil2!C"&SMALL(Feuil2!$I:$I,ROW()-6),1)) | D18: =IF(ROW()-7>=COUNTIF(Feuil2!$I:$I,">1"),"",INDIRECT("Feuil2!D"&SMALL(Feuil2!$I:$I,ROW()-6),1)) | E18: =IF(ROW()-7>=COUNTIF(Feuil2!$I:$I,">1"),"",INDIRECT("Feuil2!E"&SMALL(Feuil2!$I:$I,ROW()-6),1)) | F18: =IF(ROW()-7>=COUNTIF(Feuil2!$I:$I,">1"),"",INDIRECT("Feuil2!F"&SMALL(Feuil2!$I:$I,ROW()-6),1))
A19: =IF(ROW()-7>=COUNTIF(Feuil2!$I:$I,">1"),"",INDIRECT("Feuil2!A"&SMALL(Feuil2!$I:$I,ROW()-6),1)) | B19: =IF(ROW()-7>=COUNTIF(Feuil2!$I:$I,">1"),"",INDIRECT("Feuil2!B"&SMALL(Feuil2!$I:$I,ROW()-6),1)) | C19: =IF(ROW()-7>=COUNTIF(Feuil2!$I:$I,">1"),"",INDIRECT("Feuil2!C"&SMALL(Feuil2!$I:$I,ROW()-6),1)) | D19: =IF(ROW()-7>=COUNTIF(Feuil2!$I:$I,">1"),"",INDIRECT("Feuil2!D"&SMALL(Feuil2!$I:$I,ROW()-6),1)) | E19: =IF(ROW()-7>=COUNTIF(Feuil2!$I:$I,">1"),"",INDIRECT("Feuil2!E"&SMALL(Feuil2!$I:$I,ROW()-6),1)) | F19: =IF(ROW()-7>=COUNTIF(Feuil2!$I:$I,">1"),"",INDIRECT("Feuil2!F"&SMALL(Feuil2!$I:$I,ROW()-6),1))

Sheet Feuil2
A1: Spécialité | B1: Début Formation | C1: Fin Formation | D1: Nombre de mois | E1: Volume Horaire | F1: Capacité d'Accueil | I1: =IF(G1=Feuil1!B$4,ROW(),"") -> 1
A2: Animateur | B2: 43316 | C2: 43436 | D2: 4 | E2: 640 | F2: 25 | G2: =YEAR(B2) -> 2018 | H2: =YEAR(C2) -> 2018 | I2: =IF(G2=Feuil1!B$4,ROW(),"")
A3: Animateur jardin d'enfant | B3: 43381 | C3: 43501 | D3: 4 | E3: 640 | F3: 25 | G3: =YEAR(B3) -> 2018 | H3: =YEAR(C3) -> 2019 | I3: =IF(G3=Feuil1!B$4,ROW(),"")
A4: Coiffure | B4: 43983 | C4: 44283 | D4: 10 | E4: 1600 | F4: 20 | G4: =YEAR(B4) -> 2020 | H4: =YEAR(C4) -> 2021 | I4: =IF(G4=Feuil1!B$4,ROW(),"")
A5: Esthétique | B5: 43346 | C5: 43646 | D5: 10 | E5: 1600 | F5: 20 | G5: =YEAR(B5) -> 2018 | H5: =YEAR(C5) -> 2019 | I5: =IF(G5=Feuil1!B$4,ROW(),"")
A6: Plombier | B6: 43467 | C6: 43645 | D6: 9 | E6: 1440 | F6: 18 | G6: =YEAR(B6) -> 2019 | H6: =YEAR(C6) -> 2019 | I6: =IF(G6=Feuil1!B$4,ROW(),"")
A7: Producteur | B7: 43375 | C7: 43765 | D7: 13 | E7: 2080 | F7: 20 | G7: =YEAR(B7) -> 2018 | H7: =YEAR(C7) -> 2019 | I7: =IF(G7=Feuil1!B$4,ROW(),"")
A8: Sdgsgsg | B8: 43375 | C8: 44095 | D8: 24 | E8: 3840 | F8: 6 | G8: =YEAR(B8) -> 2018 | H8: =YEAR(C8) -> 2020 | I8: =IF(G8=Feuil1!B$4,ROW(),"")
A9: Soudeur | B9: 43375 | C9: 44455 | D9: 36 | E9: 5760 | F9: 18 | G9: =YEAR(B9) -> 2018 | H9: =YEAR(C9) -> 2021 | I9: =IF(G9=Feuil1!B$4,ROW(),"")
A10: Technicien en multimédia | B10: 43346 | C10: 43646 | D10: 10 | E10: 1600 | F10: 22 | G10: =YEAR(B10) -> 2018 | H10: =YEAR(C10) -> 2019 | I10: =IF(G10=Feuil1!B$4,ROW(),"")
