Workbook

Sheet 2020
A1: 2020 | F1: 1
A2: Article | B2: Désignation de l'article | C2: Service | D2: Qte | F2: 2
A3: Article | B3: Désignation de l'article | C3: Service | D3: Qte | F3: 10
A4: Article | B4: Désignation de l'article | C4: Service | D4: Qte | F4: 36
A5: Article | B5: Désignation de l'article | C5: Service | D5: Qte | F5: 61
A6: Article | B6: Désignation de l'article | C6: Service | D6: Qte | F6: 87
A7: Article | B7: Désignation de l'article | C7: Service | D7: Qte | F7: 114
A8: Article | B8: Désignation de l'article | C8: Service | D8: Qte | F8: 141
A9: Article | B9: Désignation de l'article | C9: Service | D9: Qte | F9: 165
A10: Article | B10: Désignation de l'article | C10: Service | D10: Qte | F10: 189
A11: Article | B11: Désignation de l'article | C11: Service | D11: Qte | F11: 214
A12: Article | B12: Désignation de l'article | C12: Service | D12: Qte | F12: 242
A13: Article | B13: Désignation de l'article | C13: Service | D13: Qte | F13: 268
... A41: Article | B41: Désignation de l'article | C41: Service | D41: Qte | F41: 1021
A42: CHI050010 | B42: INSECTICIDE VOLANTS 750ML | C42: 1 DEEJ CUISINE CENTRALE | D42: 1 | E42: =VALUE(D42) -> 1 | F42: 21 | H42: =IF(ISNUMBER(MATCH(A42,RECAP!$A$1:$A$132,0)),ROW(),"Non") -> Non
A43: CHI050030 | B43: INSECTICIDE RAMPANTS 750 ML | C43: 1 DEEJ CUISINE CENTRALE | D43: 1 | E43: =VALUE(D43) -> 1 | F43: 20 | H43: =IF(ISNUMBER(MATCH(A43,RECAP!$A$1:$A$132,0)),ROW(),"Non") -> Non
A44: CHI050030 | B44: INSECTICIDE RAMPANTS 750 ML | C44: DIRECTION EDUCATION ENFANCE JEUNESSE - DEEJ | D44: 1 | E44: =VALUE(D44) -> 1 | F44: 195 | H44: =IF(ISNUMBER(MATCH(A44,RECAP!$A$1:$A$132,0)),ROW(),"Non") -> Non
A45: DRO010020 | B45: FILM ALIMENTAIRE 300MX45CM | C45: Restaurant ALAIN FOURNIER | D45: 1 | E45: =VALUE(D45) -> 1 | F45: 697 | H45: =IF(ISNUMBER(MATCH(A45,RECAP!$A$1:$A$132,0)),ROW(),"Non") -> 45
A46: DRO010020 | B46: FILM ALIMENTAIRE 300MX45CM | C46: Restaurant BLEUETS | D46: 1 | E46: =VALUE(D46) -> 1 | F46: 739 | H46: =IF(ISNUMBER(MATCH(A46,RECAP!$A$1:$A$132,0)),ROW(),"Non") -> 46
A47: DRO010020 | B47: FILM ALIMENTAIRE 300MX45CM | C47: Restaurant BLEUETS | D47: 1 | E47: =VALUE(D47) -> 1 | F47: 742 | H47: =IF(ISNUMBER(MATCH(A47,RECAP!$A$1:$A$132,0)),ROW(),"Non") -> 47
A48: DRO010020 | B48: FILM ALIMENTAIRE 300MX45CM | C48: Restaurant CHATTIERE | D48: 1 | E48: =VALUE(D48) -> 1 | F48: 771 | H48: =IF(ISNUMBER(MATCH(A48,RECAP!$A$1:$A$132,0)),ROW(),"Non") -> 48
A49: DRO010020 | B49: FILM ALIMENTAIRE 300MX45CM | C49: Restaurant GAUTRY | D49: 1 | E49: =VALUE(D49) -> 1 | F49: 935 | H49: =IF(ISNUMBER(MATCH(A49,RECAP!$A$1:$A$132,0)),ROW(),"Non") -> 49
A50: DRO010020 | B50: FILM ALIMENTAIRE 300MX45CM | C50: Restaurant RAOUL 2 | D50: 1 | E50: =VALUE(D50) -> 1 | F50: 1015 | H50: =IF(ISNUMBER(MATCH(A50,RECAP!$A$1:$A$132,0)),ROW(),"Non") -> 50
A51: DRO010050 | B51: PAPIER ALUMINIUM 50M | C51: 1 DEEJ CUISINE CENTRALE | D51: 5 | E51: =VALUE(D51) -> 5 | F51: 22 | H51: =IF(ISNUMBER(MATCH(A51,RECAP!$A$1:$A$132,0)),ROW(),"Non") -> 51
A52: DRO010050 | B52: PAPIER ALUMINIUM 50M | C52: Restaurant BLEUETS | D52: 2 | E52: =VALUE(D52) -> 2 | F52: 727 | H52: =IF(ISNUMBER(MATCH(A52,RECAP!$A$1:$A$132,0)),ROW(),"Non") -> 52
A53: DRO010050 | B53: PAPIER ALUMINIUM 50M | C53: Restaurant BLEUETS | D53: 1 | E53: =VALUE(D53) -> 1 | F53: 738 | H53: =IF(ISNUMBER(MATCH(A53,RECAP!$A$1:$A$132,0)),ROW(),"Non") -> 53
... A945: DRO450021 | B945: MANCHE ALU VIS RACLETTE | C945: Cuisine centrale | D945: 10 | E945: =VALUE(D945) -> 10 | F945: 109 | H945: =IF(ISNUMBER(MATCH(A945,RECAP!$A$1:$A$132,0)),ROW(),"Non") -> 945
E946: =VALUE(D946) -> 0 | F946: 8 | H946: =IF(ISNUMBER(MATCH(A946,RECAP!$A$1:$A$132,0)),ROW(),"Non") -> Non
E947: =VALUE(D947) -> 0 | F947: 9 | H947: =IF(ISNUMBER(MATCH(A947,RECAP!$A$1:$A$132,0)),ROW(),"Non") -> Non
E948: =VALUE(D948) -> 0 | F948: 34 | H948: =IF(ISNUMBER(MATCH(A948,RECAP!$A$1:$A$132,0)),ROW(),"Non") -> Non
E949: =VALUE(D949) -> 0 | F949: 35 | H949: =IF(ISNUMBER(MATCH(A949,RECAP!$A$1:$A$132,0)),ROW(),"Non") -> Non
E950: =VALUE(D950) -> 0 | F950: 59 | H950: =IF(ISNUMBER(MATCH(A950,RECAP!$A$1:$A$132,0)),ROW(),"Non") -> Non
E951: =VALUE(D951) -> 0 | F951: 60 | H951: =IF(ISNUMBER(MATCH(A951,RECAP!$A$1:$A$132,0)),ROW(),"Non") -> Non
E952: =VALUE(D952) -> 0 | F952: 85 | H952: =IF(ISNUMBER(MATCH(A952,RECAP!$A$1:$A$132,0)),ROW(),"Non") -> Non
E953: =VALUE(D953) -> 0 | F953: 86 | H953: =IF(ISNUMBER(MATCH(A953,RECAP!$A$1:$A$132,0)),ROW(),"Non") -> Non
E954: =VALUE(D954) -> 0 | F954: 112 | H954: =IF(ISNUMBER(MATCH(A954,RECAP!$A$1:$A$132,0)),ROW(),"Non") -> Non
E955: =VALUE(D955) -> 0 | F955: 113 | H955: =IF(ISNUMBER(MATCH(A955,RECAP!$A$1:$A$132,0)),ROW(),"Non") -> Non
E956: =VALUE(D956) -> 0 | F956: 139 | H956: =IF(ISNUMBER(MATCH(A956,RECAP!$A$1:$A$132,0)),ROW(),"Non") -> Non
E957: =VALUE(D957) -> 0 | F957: 140 | H957: =IF(ISNUMBER(MATCH(A957,RECAP!$A$1:$A$132,0)),ROW(),"Non") -> Non
... E1028: =VALUE(D1028) -> 0 | F1028: 1028 | H1028: =IF(ISNUMBER(MATCH(A1028,RECAP!$A$1:$A$132,0)),ROW(),"Non") -> Non

Sheet 2021
A1: 2021
A2: Article | B2: Désignation de l'article | C2: Service | D2: Qte
A3: DRO010020 | B3: FILM ALIMENTAIRE 300MX45CM | C3: Restaurant FORAIRIE | D3: 1
A4: DRO010020 | B4: FILM ALIMENTAIRE 300MX45CM | C4: Restaurant DUGUESCLIN | D4: 1
A5: DRO010020 | B5: FILM ALIMENTAIRE 300MX45CM | C5: 1 DEEJ CUISINE CENTRALE | D5: 3
A8: Article | B8: Désignation de l'article | C8: Service | D8: Qte
A9: DRO010040 | B9: PERFO ZEN SPRAY BIDON DE 5 L | C9: DIRECTION EDUCATION ENFANCE JEUNESSE - DEEJ | D9: 1
A10: DRO010050 | B10: PAPIER ALUMINIUM 50M | C10: 1 DEEJ CUISINE CENTRALE | D10: 5
A11: DRO010050 | B11: PAPIER ALUMINIUM 50M | C11: Restaurant GAUTRY | D11: 3
A12: DRO010050 | B12: PAPIER ALUMINIUM 50M | C12: Restaurant FORAIRIE | D12: 2
A13: DRO010050 | B13: PAPIER ALUMINIUM 50M | C13: Restaurant GAUTRY | D13: 1
A14: DRO010050 | B14: PAPIER ALUMINIUM 50M | C14: Restaurant MADELEINE | D14: 1
A15: DRO010050 | B15: PAPIER ALUMINIUM 50M | C15: Restaurant RAOUL 2 | D15: 1
... A721: DRO180500 | B721: SAVON TECHLINE MAURY / UNITE | C721: Maternelle MADELEINE | D721: 9

Sheet 2022
A1: 2022
A2: Article | B2: Désignation de l'article | C2: Service | D2: Qte
A3: DRO055030 | B3: SURODORANT PULVERISATEUR 750 ML | C3: 1 DEEJ CUISINE CENTRALE | D3: 6
A4: DRO140015 | B4: LIQUIDE VAISSELLE MAIN 5 litres | C4: 1 DEEJ CUISINE CENTRALE | D4: 18
A5: DRO160015 | B5: PAPIER WC RLX 380 M 2 PLIS / UNITE | C5: 1 DEEJ CUISINE CENTRALE | D5: 6
A6: DRO165035 | B6: RACLETTE SOL ALIMENTAIRE 55 CM | C6: 1 DEEJ CUISINE CENTRALE | D6: 4
A7: DRO140015 | B7: LIQUIDE VAISSELLE MAIN 5 litres | C7: 1 DEEJ CUISINE CENTRALE | D7: 1
A10: Article | B10: Désignation de l'article | C10: Service | D10: Qte
A11: DRO095045 | B11: TAMPON BLANC SCOTCH BRITE 3 M | C11: 1 DEEJ CUISINE CENTRALE | D11: 1
A12: DRO170130 | B12: SAC POUBELLE 130 L | C12: 1 DEEJ CUISINE CENTRALE | D12: 3
A13: DRO170100 | B13: SAC POUBELLE 100L | C13: 1 DEEJ CUISINE CENTRALE | D13: 3
A14: DRO120045 | B14: LAVAGE BATTERIE SOLID CLEAN H 5KG | C14: 1 DEEJ CUISINE CENTRALE | D14: 6
A15: DRO170130 | B15: SAC POUBELLE 130 L | C15: 1 DEEJ CUISINE CENTRALE | D15: 2
... A1338: DRO120030 | B1338: LAVAGE VAISSELLE 24 KG MACHINE | C1338: RESTAURANTS SCOLAIRES | D1338: 2

Sheet RECAP
C1: 1 DEEJ CUISINE CENTRALE | F1: Cuisine centrale | I1: 1 DEEJ PETITE ENFANCE HALTE GARDERIE | L1: Centre de loisirs | O1: DIRECTION EDUCATION ENFANCE JEUNESSE - DEEJ | R1: Elementaire BLEUETS | U1: Elementaire CHATTIERE | X1: Elementaire DUGUESCLIN | AA1: Elementaire FORAIRIE | AD1: Elementaire GAUTRY | AG1: Maternelle BLEUETS | AJ1: Maternelle DUGUESCLIN | AM1: Maternelle FORAIRIE | AP1: Maternelle GAUTRY | AS1: Maternelle MADELEINE | AV1: Restaurant ALAIN FOURNIER | AY1: Restaurant BLEUETS | BB1: Restaurant CHATTIERE | BE1: Restaurant DUGUESCLIN | BH1: Restaurant FORAIRIE | BK1: Restaurant GAUTRY | BN1: Restaurant MADELEINE | BQ1: Restaurant RAOUL 2
C2: 2020 | D2: 2021 | E2: 2022 | F2: 2020 | G2: 2021 | H2: 2022 | I2: 2020 | J2: 2021 | K2: 2022 | L2: 2020 | M2: 2021 | N2: 2022 | O2: 2020 | P2: 2021 | Q2: 2022 | R2: 2020 | S2: 2021 | T2: 2022 | U2: 2020 | V2: 2021 | W2: 2022 | X2: 2020 | Y2: 2021 | Z2: 2022 | AA2: 2020 | AB2: 2021 | AC2: 2022 | AD2: 2020 | AE2: 2021 | AF2: 2022 | AG2: 2020 | AH2: 2021 | AI2: 2022 | AJ2: 2020 | AK2: 2021 | AL2: 2022 | AM2: 2020 | AN2: 2021 | AO2: 2022 | AP2: 2020 | AQ2: 2021 | AR2: 2022 | AS2: 2020 | AT2: 2021 | AU2: 2022 | AV2: 2020 | AW2: 2021 | AX2: 2022 | AY2: 2020 | AZ2: 2021 | BA2: 2022 | BB2: 2020 | BC2: 2021 | BD2: 2022 | BE2: 2020 | BF2: 2021 | BG2: 2022 | BH2: 2020 | BI2: 2021 | BJ2: 2022 | BK2: 2020 | BL2: 2021 | BM2: 2022 | BN2: 2020 | BO2: 2021 | BP2: 2022 | BQ2: 2020 | BR2: 2021 | BS2: 2022
A3: DRO010020 | B3: FILM ALIMENTAIRE 300MX45CM | C3: =SUMIFS('2020'!$E$42:$E$945,'2020'!$A$42:$A$945,$A3,'2020'!$C$42:$C$945,C$1) -> 0
A4: DRO010050 | B4: PAPIER ALUMINIUM 50M | C4: =SUMIFS('2020'!$E$42:$E$945,'2020'!$A$42:$A$945,$A4,'2020'!$C$42:$C$945,C$1) -> 5
A5: DRO010200 | B5: PAPIER ALUMINIUM 200M | C5: =SUMIFS('2020'!$E$42:$E$945,'2020'!$A$42:$A$945,$A5,'2020'!$C$42:$C$945,C$1) -> 0
A6: DRO030100 | B6: SEAU 12L PLASTIQUE | C6: =SUMIFS('2020'!$E$42:$E$945,'2020'!$A$42:$A$945,$A6,'2020'!$C$42:$C$945,C$1) -> 0
A7: DRO030115 | B7: SEAU GRADUE 16 L | C7: =SUMIFS('2020'!$E$42:$E$945,'2020'!$A$42:$A$945,$A7,'2020'!$C$42:$C$945,C$1) -> 0
A8: DRO035050 | B8: CORBEILLE A PAPIER | C8: =SUMIFS('2020'!$E$42:$E$945,'2020'!$A$42:$A$945,$A8,'2020'!$C$42:$C$945,C$1) -> 0
A9: DRO035300 | B9: POUBELLE ETRIER 22 Litres | C9: =SUMIFS('2020'!$E$42:$E$945,'2020'!$A$42:$A$945,$A9,'2020'!$C$42:$C$945,C$1) -> 0
A10: DRO035310 | B10: POUBELLE NOIRE 80 Litres + couvercle | C10: =SUMIFS('2020'!$E$42:$E$945,'2020'!$A$42:$A$945,$A10,'2020'!$C$42:$C$945,C$1) -> 0
A11: DRO035320 | B11: POUBELLE HYGIENIQUE 6L | C11: =SUMIFS('2020'!$E$42:$E$945,'2020'!$A$42:$A$945,$A11,'2020'!$C$42:$C$945,C$1) -> 0
A12: DRO040000 | B12: TETE DE LOUP | C12: =SUMIFS('2020'!$E$42:$E$945,'2020'!$A$42:$A$945,$A12,'2020'!$C$42:$C$945,C$1) -> 0
A13: DRO040030 | B13: BALAI PAILLE DE RIZ | C13: =SUMIFS('2020'!$E$42:$E$945,'2020'!$A$42:$A$945,$A13,'2020'!$C$42:$C$945,C$1) -> 0
A14: DRO040040 | B14: BALAI COCO 29 CM AVEC DOUILLE | C14: =SUMIFS('2020'!$E$42:$E$945,'2020'!$A$42:$A$945,$A14,'2020'!$C$42:$C$945,C$1) -> 0
... A132: DRO450021 | B132: MANCHE ALU VIS RACLETTE | C132: =SUMIFS('2020'!$E$42:$E$945,'2020'!$A$42:$A$945,$A132,'2020'!$C$42:$C$945,C$1) -> 0
