Workbook

Sheet carnet de log
F3: CARNET DE TRAFIC
H7: je desire que quand je rentre le préfixe cibi (dans la céllule jaune ) sa me rentre automatiquement le pays (cellule marrion) via la base de donné jointe dans l'onglet
B9: Indicatif | C9: Prenom | D9: Departement | E9: Ville/ Pays | F9: Heure | G9: Date | H9: Frequence | I9: R | J9: S | K9: Num contact | L9: Pays | M9: prefice cibi
B10: 31RF/OB20 | C10: José | D10: XXXX | E10: Portugal | F10: 15H30 | G10: 42932 | H10: 27590 | I10: 4 | J10: 7 | K10: 1 | L10: =IF(ISERROR(VLOOKUP(M10,'base de donnée'!$E$7:$F$350,2,0)),"",VLOOKUP(M10,'base de donnée'!$E$7:$F$350,2,0)) -> ITALIE | M10: 1
B11: 97FDX097 | C11: PATRICK | D11: XXXX | E11: TEL AVIV | F11: 16H20 | G11: 42932 | H11: 27600 | I11: XXXX | J11: XXXX | K11: 2 | L11: =IF(ISERROR(VLOOKUP(M11,'base de donnée'!$E$7:$F$350,2,0)),"",VLOOKUP(M11,'base de donnée'!$E$7:$F$350,2,0))
B12: 14AR3941 | C12: VINCENT | D12: 62 | E12: LILLE | F12: 16H25 | G12: 42932 | H12: 27645 | I12: XXXX | J12: XXXX | K12: 3 | L12: =IF(ISERROR(VLOOKUP(M12,'base de donnée'!$E$7:$F$350,2,0)),"",VLOOKUP(M12,'base de donnée'!$E$7:$F$350,2,0))
B13: 14FR059 | C13: BENOIT | D13: 59 | E13: DUNKERQUE | F13: 16H30 | G13: 42932 | H13: 27645 | I13: XXXX | J13: XXXX | K13: 4 | L13: =IF(ISERROR(VLOOKUP(M13,'base de donnée'!$E$7:$F$350,2,0)),"",VLOOKUP(M13,'base de donnée'!$E$7:$F$350,2,0))
B14: 14VL3780 | C14: JEAN CLAUDE | D14: 59 | E14: DUNKERQUE | F14: 16H35 | G14: 42932 | H14: 27440 | I14: 5 | J14: 9 | K14: 5 | L14: =IF(ISERROR(VLOOKUP(M14,'base de donnée'!$E$7:$F$350,2,0)),"",VLOOKUP(M14,'base de donnée'!$E$7:$F$350,2,0))
B15: 14OA401 | C15: JEREMY | D15: 62 | E15: SAMER | F15: 16H50 | G15: 42932 | H15: 27655 | I15: 5 | J15: 8 | K15: 6 | L15: =IF(ISERROR(VLOOKUP(M15,'base de donnée'!$E$7:$F$350,2,0)),"",VLOOKUP(M15,'base de donnée'!$E$7:$F$350,2,0))
B16: 14VL3780 | C16: JEAN MARIE | D16: 62 | E16: LE TOUQUET | F16: 17H00 | G16: 42932 | H16: 27535 | I16: 5 | J16: 8 | K16: 7 | L16: =IF(ISERROR(VLOOKUP(M16,'base de donnée'!$E$7:$F$350,2,0)),"",VLOOKUP(M16,'base de donnée'!$E$7:$F$350,2,0))
B17: 14RI116 | C17: DAVID | D17: 76 | E17: LE HAVRE | F17: 17H10 | G17: 42932 | H17: 27655 | I17: 5 | J17: 6 | K17: 8 | L17: =IF(ISERROR(VLOOKUP(M17,'base de donnée'!$E$7:$F$350,2,0)),"",VLOOKUP(M17,'base de donnée'!$E$7:$F$350,2,0))
B18: 163RX03 | C18: ADRIAN | D18: XXXX | E18: SWANSE | F18: 16H35 | G18: 42932 | H18: 27590 | I18: 5 | J18: 6 | K18: 9 | L18: =IF(ISERROR(VLOOKUP(M18,'base de donnée'!$E$7:$F$350,2,0)),"",VLOOKUP(M18,'base de donnée'!$E$7:$F$350,2,0))
B19: 14CB050 | C19: FREDO | D19: 50 | E19: CHERBOURG | F19: 19H35 | G19: 42932 | H19: 27620 | I19: 4 | J19: 5 | K19: 10 | L19: =IF(ISERROR(VLOOKUP(M19,'base de donnée'!$E$7:$F$350,2,0)),"",VLOOKUP(M19,'base de donnée'!$E$7:$F$350,2,0))
B20: 14GV050 | C20: VINCENT | D20: 50 | E20: CHERBOURG | F20: 19H45 | G20: 42932 | H20: 27610 | I20: 5 | J20: 7 | K20: 11 | L20: =IF(ISERROR(VLOOKUP(M20,'base de donnée'!$E$7:$F$350,2,0)),"",VLOOKUP(M20,'base de donnée'!$E$7:$F$350,2,0))
L21: =IF(ISERROR(VLOOKUP(M21,'base de donnée'!$E$7:$F$350,2,0)),"",VLOOKUP(M21,'base de donnée'!$E$7:$F$350,2,0))
B22: 35SD120 | C22: FRANK | E22: SALSBURG | F22: 21H | G22: 42934 | H22: 27495 | I22: XXXX | J22: XXXX | K22: 12 | L22: =IF(ISERROR(VLOOKUP(M22,'base de donnée'!$E$7:$F$350,2,0)),"",VLOOKUP(M22,'base de donnée'!$E$7:$F$350,2,0))
B23: 30/14HD19 | C23: STEPHANE | D23: XXXX | E23: XXXX | F23: 21H25 | G23: 42937 | H23: 27605 | I23: XXXX | J23: XXXX | K23: 13 | L23: =IF(ISERROR(VLOOKUP(M23,'base de donnée'!$E$7:$F$350,2,0)),"",VLOOKUP(M23,'base de donnée'!$E$7:$F$350,2,0))
L24: =IF(ISERROR(VLOOKUP(M24,'base de donnée'!$E$7:$F$350,2,0)),"",VLOOKUP(M24,'base de donnée'!$E$7:$F$350,2,0))
B25: 14GS62 | C25: GEORGE | D25: 62 | E25: CALAIS | F25: 13H57 | G25: 42939 | H25: 27650 | I25: 5 | J25: 8 | K25: 14 | L25: =IF(ISERROR(VLOOKUP(M25,'base de donnée'!$E$7:$F$350,2,0)),"",VLOOKUP(M25,'base de donnée'!$E$7:$F$350,2,0))
B26: 14RI 500 LH | C26: CHRIS | D26: 76 | E26: LE HAVRE | F26: 14H05 | G26: 42939 | H26: 27585 | I26: XXXX | J26: XXXX | K26: 15 | L26: =IF(ISERROR(VLOOKUP(M26,'base de donnée'!$E$7:$F$350,2,0)),"",VLOOKUP(M26,'base de donnée'!$E$7:$F$350,2,0))
B27: 14 BG 059 | C27: YVES | D27: 29 | E27: DOUARNENEZ | F27: 14H15 | G27: 42939 | H27: 27525 | I27: 5 | J27: 7 | K27: 16 | L27: =IF(ISERROR(VLOOKUP(M27,'base de donnée'!$E$7:$F$350,2,0)),"",VLOOKUP(M27,'base de donnée'!$E$7:$F$350,2,0))
B28: 14GH129 | C28: JEAN PIERRE | D28: 29 | E28: QUIMPER | F28: 14H28 | G28: 42939 | H28: 27445 | I28: XXXX | J28: XXXX | K28: 17 | L28: =IF(ISERROR(VLOOKUP(M28,'base de donnée'!$E$7:$F$350,2,0)),"",VLOOKUP(M28,'base de donnée'!$E$7:$F$350,2,0))
B29: 14FAT118 | C29: WILLI | D29: 22 | E29: ST BRIEUC | F29: 14H30 | G29: 42939 | H29: 27600 | I29: 5 | J29: 9 | K29: 18 | L29: =IF(ISERROR(VLOOKUP(M29,'base de donnée'!$E$7:$F$350,2,0)),"",VLOOKUP(M29,'base de donnée'!$E$7:$F$350,2,0))
B30: 26CX001 | C30: DAVID | D30: XXXX | E30: XXXX | F30: 16H35 | G30: 42939 | H30: 27545 | I30: XXXX | J30: XXXX | K30: 19 | L30: =IF(ISERROR(VLOOKUP(M30,'base de donnée'!$E$7:$F$350,2,0)),"",VLOOKUP(M30,'base de donnée'!$E$7:$F$350,2,0))
B31: 163OP110 | C31: DARREN | D31: XXXX | E31: XXXX | F31: 16H45 | G31: 42939 | H31: 27540 | I31: 4 | J31: 7 | K31: 20 | L31: =IF(ISERROR(VLOOKUP(M31,'base de donnée'!$E$7:$F$350,2,0)),"",VLOOKUP(M31,'base de donnée'!$E$7:$F$350,2,0)) -> AUTRICHE | M31: 35

Sheet base de donnée
E6: PREFIXE CIBI | F6: PAYS | G6: PREFIXE RADIOAMATEUR | H6: CQ ZONE | I6: ITU ZONE | N6: base de donnée
E7: 1 | F7: ITALIE | G7: I, IK | H7: 15.33 | I7: 28.37
E8: 2 | F8: ETATS-UNIS D'AMERIQUE | G8: W-K | H8: 3,4,5 | I8: 6,7,8
E9: 3 | F9: BRESIL | G9: PY | H9: 11 | I9: 12,13,15
E10: 4 | F10: ARGENTINE | G10: LU | H10: 13 | I10: 14.16
E11: 5 | F11: VENEZUELA | G11: YV | H11: 9 | I11: 12
E12: 6 | F12: COLOMBIE | G12: HK | H12: 9 | I12: 12
E13: 7 | F13: NETHERLANDS ANTILLES | G13: PJ | H13: 9 | I13: 11
E14: 8 | F14: PEROU | G14: OA | H14: 10 | I14: 12
E15: 9 | F15: CANADA | G15: VE | H15: 1,2,3,4,5 | I15: 2,3,4,9,75
E16: 10 | F16: MEXIQUE | G16: XE | H16: 6 | I16: 10
E17: 11 | F17: PUERTO RICO | G17: KP4 | H17: 8 | I17: 11
E18: 12 | F18: URUGUAY | G18: CX | H18: 13 | I18: 14
E19: 13 | F19: ALLEMAGNE | G19: DL,DJ | H19: 14 | I19: 28
E20: 14 | F20: FRANCE | G20: F | H20: 14 | I20: 27
E21: 15 | F21: SUISSE | G21: HB,HE | H21: 14 | I21: 28
E22: 16 | F22: BELGIQUE | G22: ON | H22: 14 | I22: 27
E23: 17 | F23: HAWAIIAN ISLANDS | G23: KH6 | H23: 31 | I23: 61
E24: 18 | F24: GRECE | G24: SV | H24: 20 | I24: 28
E25: 19 | F25: PAYS-BAS | G25: PA | H25: 14 | I25: 27
E26: 20 | F26: NORVEGE | G26: LA | H26: 14 | I26: 18
E27: 21 | F27: SUEDE | G27: SM | H27: 14 | I27: 18
... E48: 42 | F48: LIBERIA | G48: EL | H48: 35 | I48: 46
E49: 43 | F49: AUSTRALIE | G49: VK | H49: 29.3 | I49: 55,58,59
E50: 44 | F50: AFRIQUE DU SUD | G50: ZS | H50: 38 | I50: 57
E51: 45 | F51: YOUGOSLAVIE | G51: YU | H51: 15 | I51: 28
E52: 46 | F52: ALLEMAGNE DE L'EST | G52: Y2 | H52: 14 | I52: 28
E53: 47 | F53: DENMARK | G53: OZ | H53: 14 | I53: 18
E54: 48 | F54: ARABIE SAOUDITE | G54: HZ | H54: 20 | I54: 39
E55: 49 | F55: LES BALEARES | G55: EA6 | H55: 14 | I55: 37
E56: 50 | F56: EUROPEAN RUSSIA | G56: UA1-6 | H56: 16 | I56: 19,20,29,30
E57: 51 | F57: ANDORRA | G57: C3 | H57: 14 | I57: 27
E58: 52 | F58: FAROER ISLANDS | G58: OY | H58: 14 | I58: 18
E59: 53 | F59: EL SALVADOR | G59: YS | H59: 7 | I59: 11
E60: 54 | F60: LUXEMBOURG | G60: LX | H60: 14 | I60: 27
E61: 55 | F61: GIBRALTAR | G61: ZB | H61: 14 | I61: 37
E62: 56 | F62: FINLAND | G62: OH | H62: 15 | I62: 18
E63: 57 | F63: INDE | G63: VU | H63: 22 | I63: 41
E64: 58 | F64: EAST MALAYSIA | G64: 9M6,9M8 | H64: 28 | I64: 54
E65: 59 | F65: DODECANESE ISLANDS | G65: SV9 | H65: 20 | I65: 28
E66: 60 | F66: HONG KONG | G66: VS6 | H66: 24 | I66: 44
E67: 61 | F67: EQUATEUR | G67: HC | H67: 10 | I67: 12
E68: 62 | F68: GUAM ISLAND | G68: KH2 | H68: 27 | I68: 64
... E145: 139 | F145: SOUTHERN YEMEN | G145: 7O | H145: 21 | I145: 39
E146: 140 | F146: ANTARCTICA | G146: FB8Y | H146: 12,13,29,30,32 | I146: 67,69,70,71,72
E147: 141 | F147: ST. PIERRE & MIQUELON | G147: FP | H147: 5 | I147: 9
E148: 142 | F148: LESOTHO | G148: 7P | H148: 38 | I148: 57
E149: 143 | F149: ST. LUCIA ISLAND | G149: J6 | H149: 8 | I149: 11
E150: 144 | F150: EASTER ISLAND | G150: CE0A | H150: 12 | I150: 63
E151: 145 | F151: GALAPAGOS ISLANDS | G151: HC8 | H151: 10 | I151: 12
E152: 146 | F152: ALGERIA | G152: 7X | H152: 33 | I152: 37
E153: 147 | F153: TUNISIA | G153: 3V | H153: 33 | I153: 37
E154: 148 | F154: ASCENSION ISLAND | G154: ZD8 | H154: 36 | I154: 66
E155: 149 | F155: LACCADIVE ISLANDS | G155: VU7 | H155: 22 | I155: 41
E156: 150 | F156: BAHREIN | G156: A9 | H156: 21 | I156: 39
E157: 151 | F157: IRAQ | G157: YI | H157: 22 | I157: 39
E158: 152 | F158: MALDIVE ISLANDS | G158: 8Q | H158: 22 | I158: 41
... E307: 301 | F307: ARMENIA | G307: UG | H307: 21 | I307: 29
E308: 302 | F308: ASIATIC RUSSIA | G308: UA9-UA0 | H308: 16,17,18,19,23 | I308: 19-26,29-37,75
E309: 303 | F309: AZERBAIJAN | G309: UD | H309: 21 | I309: 29
E310: 304 | F310: ESTONIA | G310: UR | H310: 15 | I310: 29
E311: 305 | F311: FRANZ JOSEF LAND | G311: UA1 | H311: 40 | I311: 75
E312: 306 | F312: GEORGIA | G312: UF | H312: 21 | I312: 29
E313: 307 | F313: KALININGRADSK | G313: UA2 | H313: 16 | I313: 29
E314: 308 | F314: KAZAKH | G314: UL7 | H314: 17 | I314: 29,30,31,
E315: 309 | F315: KIRGHIZ | G315: UM | H315: 17 | I315: 30.31
E316: 310 | F316: LATVIA | G316: UQ | H316: 15 | I316: 29
E317: 311 | F317: LITHUANIA | G317: UP | H317: 15 | I317: 29
E318: 312 | F318: MOLDAVIA | G318: UO | H318: 16 | I318: 29
E319: 313 | F319: TADZHIK | G319: UJ | H319: 17 | I319: 30
E320: 314 | F320: TURKOMAN | G320: UH | H320: 17 | I320: 30
E321: 315 | F321: UKRAINE | G321: UB | H321: 16 | I321: 29
E322: 316 | F322: UZBEK | G322: UI | H322: 17 | I322: 30
E323: 317 | F323: WHITE RUSSIA | G323: UC | H323: 16 | I323: 29
E324: 318 | F324: SURVEY MILITARY OF MALTA | G324: 1A | H324: 15 | I324: 28
E325: 319 | F325: UNITED NATIONS NEW YORK | G325: 4U | H325: 5 | I325: 8
E326: 320 | F326: BANABA ISLAND | G326: T33 | H326: 31 | I326: 65
... E349: 343 | F349: DUCIE ISLAND | G349: VP6D | H349: 32 | I349: 63
