Workbook

Sheet liste ds auteurs
C1: Participants | D1: =IF(SUM(D2:D10)>0,COLUMN()-3,"") -> 1 | E1: =IF(SUM(E2:E10)>0,COLUMN()-3,"") | F1: =IF(SUM(F2:F10)>0,COLUMN()-3,"") -> 3 | G1: =IF(SUM(G2:G10)>0,COLUMN()-3,"") -> 4
B2: auteur 1 | C2: pete fromm | D2: =IFERROR(MATCH($C2,'états - auteurs'!A$1:A$20,0),"") | E2: =IFERROR(MATCH($C2,'états - auteurs'!B$1:B$20,0),"") | F2: =IFERROR(MATCH($C2,'états - auteurs'!C$1:C$20,0),"") | G2: =IFERROR(MATCH($C2,'états - auteurs'!D$1:D$20,0),"")
B3: auteur 2 | C3: david vann | D3: =IFERROR(MATCH($C3,'états - auteurs'!A$1:A$20,0),"") | E3: =IFERROR(MATCH($C3,'états - auteurs'!B$1:B$20,0),"") | F3: =IFERROR(MATCH($C3,'états - auteurs'!C$1:C$20,0),"") | G3: =IFERROR(MATCH($C3,'états - auteurs'!D$1:D$20,0),"") -> 2
B4: auteur 3 | C4: chris offut | D4: =IFERROR(MATCH($C4,'états - auteurs'!A$1:A$20,0),"") | E4: =IFERROR(MATCH($C4,'états - auteurs'!B$1:B$20,0),"") | F4: =IFERROR(MATCH($C4,'états - auteurs'!C$1:C$20,0),"") | G4: =IFERROR(MATCH($C4,'états - auteurs'!D$1:D$20,0),"")
B5: auteur 4 | C5: trevanian | D5: =IFERROR(MATCH($C5,'états - auteurs'!A$1:A$20,0),"") | E5: =IFERROR(MATCH($C5,'états - auteurs'!B$1:B$20,0),"") | F5: =IFERROR(MATCH($C5,'états - auteurs'!C$1:C$20,0),"") -> 2 | G5: =IFERROR(MATCH($C5,'états - auteurs'!D$1:D$20,0),"")
D6: =IFERROR(MATCH($C6,'états - auteurs'!A$1:A$20,0),"") | E6: =IFERROR(MATCH($C6,'états - auteurs'!B$1:B$20,0),"") | F6: =IFERROR(MATCH($C6,'états - auteurs'!C$1:C$20,0),"") | G6: =IFERROR(MATCH($C6,'états - auteurs'!D$1:D$20,0),"")
B7: auteur 1 | C7: pete fromm | D7: =IFERROR(MATCH($C7,'états - auteurs'!A$1:A$20,0),"") | E7: =IFERROR(MATCH($C7,'états - auteurs'!B$1:B$20,0),"") | F7: =IFERROR(MATCH($C7,'états - auteurs'!C$1:C$20,0),"") | G7: =IFERROR(MATCH($C7,'états - auteurs'!D$1:D$20,0),"")
B8: auteur 2 | C8: david vann | D8: =IFERROR(MATCH($C8,'états - auteurs'!A$1:A$20,0),"") | E8: =IFERROR(MATCH($C8,'états - auteurs'!B$1:B$20,0),"") | F8: =IFERROR(MATCH($C8,'états - auteurs'!C$1:C$20,0),"") | G8: =IFERROR(MATCH($C8,'états - auteurs'!D$1:D$20,0),"") -> 2
B9: auteur 3 | C9: chris offutt | D9: =IFERROR(MATCH($C9,'états - auteurs'!A$1:A$20,0),"") -> 2 | E9: =IFERROR(MATCH($C9,'états - auteurs'!B$1:B$20,0),"") | F9: =IFERROR(MATCH($C9,'états - auteurs'!C$1:C$20,0),"") | G9: =IFERROR(MATCH($C9,'états - auteurs'!D$1:D$20,0),"")
B10: auteur 4 | C10: trevanian | D10: =IFERROR(MATCH($C10,'états - auteurs'!A$1:A$20,0),"") | E10: =IFERROR(MATCH($C10,'états - auteurs'!B$1:B$20,0),"") | F10: =IFERROR(MATCH($C10,'états - auteurs'!C$1:C$20,0),"") -> 2 | G10: =IFERROR(MATCH($C10,'états - auteurs'!D$1:D$20,0),"")

Sheet états - auteurs
A1: Montana | B1: Idaho | C1: Californie | D1: alaska
A2: chris offutt | B2: emily ruskovich | C2: trevanian | D2: david vann
A3: larry brown

Sheet challenge
A2: Montana | B2: =IF(ISNUMBER(MATCH(MATCH(A2,'états - auteurs'!A$1:D$1,0),'liste ds auteurs'!$1:$1,0)),"OK","") -> OK
A3: idaho | B3: =IF(ISNUMBER(MATCH(MATCH(A3,'états - auteurs'!A$1:D$1,0),'liste ds auteurs'!$1:$1,0)),"OK","")
A4: californie | B4: =IF(ISNUMBER(MATCH(MATCH(A4,'états - auteurs'!A$1:D$1,0),'liste ds auteurs'!$1:$1,0)),"OK","") -> OK
A5: alaska | B5: =IF(ISNUMBER(MATCH(MATCH(A5,'états - auteurs'!A$1:D$1,0),'liste ds auteurs'!$1:$1,0)),"OK","") -> OK
