Workbook

Sheet TDB
C2: Janvier | D2: Février | E2: Mars | F2: Avril | G2: Mai | H2: Juin | I2: Juillet | J2: Août | K2: Septembre | L2: Octobre | M2: Novembre | N2: Décembre
B3: a payer | C3: =SUMIFS(Tableau1[Janvier],Tableau1[ETAT],TDB!$B3,Tableau1[Affaire],TDB!$C$8) -> 0 | D3: =SUMIFS(Tableau1[Février],Tableau1[ETAT],TDB!$B3,Tableau1[Affaire],TDB!$C$8) -> 0 | E3: =SUMIFS(Tableau1[Mars],Tableau1[ETAT],TDB!$B3,Tableau1[Affaire],TDB!$C$8) -> 0 | F3: =SUMIFS(Tableau1[Avril],Tableau1[ETAT],TDB!$B3,Tableau1[Affaire],TDB!$C$8) -> 0 | G3: =SUMIFS(Tableau1[Mai],Tableau1[ETAT],TDB!$B3,Tableau1[Affaire],TDB!$C$8) -> 0 | H3: =SUMIFS(Tableau1[Juin],Tableau1[ETAT],TDB!$B3,Tableau1[Affaire],TDB!$C$8) -> 0 | I3: =SUMIFS(Tableau1[Juillet],Tableau1[ETAT],TDB!$B3,Tableau1[Affaire],TDB!$C$8) -> 0 | J3: =SUMIFS(Tableau1[Août],Tableau1[ETAT],TDB!$B3,Tableau1[Affaire],TDB!$C$8) -> 0 | K3: =SUMIFS(Tableau1[Septembre],Tableau1[ETAT],TDB!$B3,Tableau1[Affaire],TDB!$C$8) -> 0 | L3: =SUMIFS(Tableau1[Octobre],Tableau1[ETAT],TDB!$B3,Tableau1[Affaire],TDB!$C$8) -> 0 | M3: =SUMIFS(Tableau1[Novembre],Tableau1[ETAT],TDB!$B3,Tableau1[Affaire],TDB!$C$8) -> 0 | N3: =SUMIFS(Tableau1[Décembre],Tableau1[ETAT],TDB!$B3,Tableau1[Affaire],TDB!$C$8) -> 0
B4: en attente | C4: =SUMIFS(Tableau1[Janvier],Tableau1[ETAT],TDB!$B4,Tableau1[Affaire],TDB!$C$8) -> 0 | D4: =SUMIFS(Tableau1[Février],Tableau1[ETAT],TDB!$B4,Tableau1[Affaire],TDB!$C$8) -> 0 | E4: =SUMIFS(Tableau1[Mars],Tableau1[ETAT],TDB!$B4,Tableau1[Affaire],TDB!$C$8) -> 0 | F4: =SUMIFS(Tableau1[Avril],Tableau1[ETAT],TDB!$B4,Tableau1[Affaire],TDB!$C$8) -> 0 | G4: =SUMIFS(Tableau1[Mai],Tableau1[ETAT],TDB!$B4,Tableau1[Affaire],TDB!$C$8) -> 0 | H4: =SUMIFS(Tableau1[Juin],Tableau1[ETAT],TDB!$B4,Tableau1[Affaire],TDB!$C$8) -> 0 | I4: =SUMIFS(Tableau1[Juillet],Tableau1[ETAT],TDB!$B4,Tableau1[Affaire],TDB!$C$8) -> 0 | J4: =SUMIFS(Tableau1[Août],Tableau1[ETAT],TDB!$B4,Tableau1[Affaire],TDB!$C$8) -> 0 | K4: =SUMIFS(Tableau1[Septembre],Tableau1[ETAT],TDB!$B4,Tableau1[Affaire],TDB!$C$8) -> 0 | L4: =SUMIFS(Tableau1[Octobre],Tableau1[ETAT],TDB!$B4,Tableau1[Affaire],TDB!$C$8) -> 0 | M4: =SUMIFS(Tableau1[Novembre],Tableau1[ETAT],TDB!$B4,Tableau1[Affaire],TDB!$C$8) -> 0 | N4: =SUMIFS(Tableau1[Décembre],Tableau1[ETAT],TDB!$B4,Tableau1[Affaire],TDB!$C$8) -> 0
B5: non | C5: =SUMIFS(Tableau1[Janvier],Tableau1[ETAT],TDB!$B5,Tableau1[Affaire],TDB!$C$8) -> 0.25 | D5: =SUMIFS(Tableau1[Février],Tableau1[ETAT],TDB!$B5,Tableau1[Affaire],TDB!$C$8) -> 0 | E5: =SUMIFS(Tableau1[Mars],Tableau1[ETAT],TDB!$B5,Tableau1[Affaire],TDB!$C$8) -> 0 | F5: =SUMIFS(Tableau1[Avril],Tableau1[ETAT],TDB!$B5,Tableau1[Affaire],TDB!$C$8) -> 0.25 | G5: =SUMIFS(Tableau1[Mai],Tableau1[ETAT],TDB!$B5,Tableau1[Affaire],TDB!$C$8) -> 0 | H5: =SUMIFS(Tableau1[Juin],Tableau1[ETAT],TDB!$B5,Tableau1[Affaire],TDB!$C$8) -> 0 | I5: =SUMIFS(Tableau1[Juillet],Tableau1[ETAT],TDB!$B5,Tableau1[Affaire],TDB!$C$8) -> 0.25 | J5: =SUMIFS(Tableau1[Août],Tableau1[ETAT],TDB!$B5,Tableau1[Affaire],TDB!$C$8) -> 0 | K5: =SUMIFS(Tableau1[Septembre],Tableau1[ETAT],TDB!$B5,Tableau1[Affaire],TDB!$C$8) -> 0 | L5: =SUMIFS(Tableau1[Octobre],Tableau1[ETAT],TDB!$B5,Tableau1[Affaire],TDB!$C$8) -> 0.25 | M5: =SUMIFS(Tableau1[Novembre],Tableau1[ETAT],TDB!$B5,Tableau1[Affaire],TDB!$C$8) -> 0 | N5: =SUMIFS(Tableau1[Décembre],Tableau1[ETAT],TDB!$B5,Tableau1[Affaire],TDB!$C$8) -> 0
B8: Affaire | C8: F | F8: Facture | G8: =SUMIFS(Tableau1[Facture],Tableau1[Affaire],TDB!$C$8) -> 21546
F10: HT | G10: HT RECALCULER | H10: Mois
F11: =G8 -> 21546 | G11: =F11-(F11*SUM(INDIRECT(CONCATENATE("C",MATCH(INDIRECT("données!Q"&MATCH($C$8,données!A:A,0),1),$B$1:$B$5,0),":",ADDRESS(MATCH(INDIRECT("données!Q"&MATCH($C$8,données!A:A,0),1),$B$1:$B$5,0),MATCH(H11,$A$2:$N$2,0),4,1)),1))) -> 0 | H11: Octobre

Sheet données
A1: Affaire | B1: Début contrat | C1: Fin contract | D1: Facture | E1: Janvier | F1: Février | G1: Mars | H1: Avril | I1: Mai | J1: Juin | K1: Juillet | L1: Août | M1: Septembre | N1: Octobre | O1: Novembre | P1: Décembre | Q1: ETAT
A2: A | B2: 42005 | C2: 42369 | D2: 2564 | E2: 0 | F2: 0.25 | G2: 0 | H2: 0 | I2: 0.25 | J2: 0 | K2: 0 | L2: 0.25 | M2: 0 | N2: 0 | O2: 0.25 | P2: 0 | Q2: a payer
A3: B | B3: 41640 | C3: 42735 | D3: 2124 | E3: 0 | F3: 0.25 | G3: 0 | H3: 0 | I3: 0.25 | J3: 0 | K3: 0 | L3: 0.25 | M3: 0 | N3: 0 | O3: 0.25 | P3: 0 | Q3: en attente
A4: C | B4: 41275 | C4: 43100 | D4: 654 | E4: 0.25 | F4: 0 | G4: 0 | H4: 0.25 | I4: 0 | J4: 0 | K4: 0.25 | L4: 0 | M4: 0 | N4: 0.25 | O4: 0 | P4: 0 | Q4: non
A5: D | B5: 40909 | C5: 43465 | D5: 98651 | E5: 0.25 | F5: 0 | G5: 0 | H5: 0.25 | I5: 0 | J5: 0 | K5: 0.25 | L5: 0 | M5: 0 | N5: 0.25 | O5: 0 | P5: 0 | Q5: a payer
A6: E | B6: 40544 | C6: 43830 | D6: 2125 | E6: 0 | F6: 0 | G6: 0 | H6: 0 | I6: 0 | J6: 0 | K6: 0 | L6: 0 | M6: 0 | N6: 0 | O6: 0 | P6: 0 | Q6: en attente
A7: F | B7: 40179 | C7: 44196 | D7: 21546 | E7: 0.25 | F7: 0 | G7: 0 | H7: 0.25 | I7: 0 | J7: 0 | K7: 0.25 | L7: 0 | M7: 0 | N7: 0.25 | O7: 0 | P7: 0 | Q7: non
A8: G | B8: 39814 | C8: 44561 | D8: 2218 | E8: 0 | F8: 0 | G8: 0 | H8: 0 | I8: 0 | J8: 0 | K8: 0 | L8: 0 | M8: 0 | N8: 0 | O8: 0 | P8: 0 | Q8: a payer
A9: H | B9: 39448 | C9: 44926 | D9: 2326 | E9: 0 | F9: 0 | G9: 0 | H9: 0 | I9: 0 | J9: 1 | K9: 0 | L9: 0 | M9: 0 | N9: 0 | O9: 0 | P9: 0 | Q9: en attente
A10: I | B10: 42736 | C10: 45291 | D10: 32 | E10: 0.25 | F10: 0 | G10: 0 | H10: 0.25 | I10: 0 | J10: 0 | K10: 0.25 | L10: 0 | M10: 0 | N10: 0.25 | O10: 0 | P10: 0 | Q10: non
A11: J | B11: 38718 | C11: 45657 | D11: 165 | E11: 0.25 | F11: 0 | G11: 0 | H11: 0.25 | I11: 0 | J11: 0 | K11: 0.25 | L11: 0 | M11: 0 | N11: 0.25 | O11: 0 | P11: 0 | Q11: a payer
A12: K | B12: 42005 | C12: 46022 | D12: 23 | E12: 0.0833 | F12: 0.0833 | G12: 0.0833 | H12: 0.0833 | I12: 0.0833 | J12: 0.0833 | K12: 0.0833 | L12: 0.0833 | M12: 0.0833 | N12: 0.0833 | O12: 0.0833 | P12: 0.0833 | Q12: en attente
A13: L | B13: 37987 | C13: 46387 | D13: 56335 | E13: 0 | F13: 0 | G13: 0 | H13: 0 | I13: 1 | J13: 0 | K13: 0 | L13: 0 | M13: 0 | N13: 0 | O13: 0 | P13: 0 | Q13: non
A14: M | B14: 41275 | C14: 46752 | D14: 543265 | E14: 0 | F14: 0 | G14: 0 | H14: 0 | I14: 1 | J14: 0 | K14: 0 | L14: 0 | M14: 0 | N14: 0 | O14: 0 | P14: 0 | Q14: a payer

Sheet Correspondance
A1: Mois
A2: Janvier
A3: Février
A4: Mars
A5: Avril
A6: Mai
A7: Juin
A8: Juillet
A9: Août
A10: Septembre
A11: Octobre
A12: Novembre
A13: Décembre
