Workbook

Sheet Données
A1: Qualité Silos Trimouns
B3: T01 | C3: T02 | D3: T03 | E3: T04 | F3: T05 | G3: T06 | H3: T07 | I3: T08 | J3: T09 | K3: T10 | L3: T11 | M3: T12
A4: Tonnage de départ Silo | B4: 9521 | C4: 4250 | D4: 14241 | E4: 2861 | F4: 8493 | G4: 1690 | H4: 4807 | I4: 8259 | J4: 33463 | K4: 8957 | L4: 1130 | M4: 1016
A5: Entrée | B5: =SUMIF(Piles[Destination],B15,Piles[tons])+SUM(Melanges_tele[Transfert entrée]) -> 42361.664
A6: Sortie | B6: =SUMIF(Melanges_tele[origin],B15,Melanges_tele[tons])+SUM(Melanges_tele[origin],B15,Melanges_tele[Transfert sortie]) -> 36676.333
A8: Tonnage de départ Silo | B8: T13 | C8: T14 | D8: T15 | E8: T16 | F8: T19 | G8: T20 | H8: T21 | I8: T26 | J8: T27 | K8: T29 | L8: T36 | M8: Total
A9: Entrée | B9: 1357 | C9: 1372 | D9: 1332 | E9: 1791 | F9: 12130 | G9: 21716 | H9: 10864 | I9: 2811 | J9: 2157 | K9: 5038 | L9: 11691 | M9: =SUM(B4:M4)+SUM(B9:L9) -> 170947
A10: Sortie
A12: Nb de dernière valeurs prise en compte | B12: 10
B15: T01 | C15: T02 | D15: T03 | E15: T04 | F15: T05 | G15: T06 | H15: T07 | I15: T08 | J15: T09 | K15: T10 | L15: T11 | M15: T12
A16: Minerai | B16: 2EME TO
A17: Moyenne Tonnage Pile entrante | B17: =AVERAGEIFS(Piles[tons],Piles[Destination],B15,Piles[tons],"<>0") -> 199.61973
A18: Moyenne pondérée Y Pile entrante | B18: =SUMPRODUCT((Piles[Destination]=B15)*(Piles[GradeDest]=B16)*Piles[Y]*Piles[tons])/SUMPRODUCT((Piles[Destination]=B15)*(Piles[GradeDest]=B16)*Piles[tons]) -> 80.242309
A19: Moyenne pondérée Y sortie | B19: =SUMPRODUCT((Melanges_tele[origin]=B15)*(Melanges_tele[DestProduct]=B16)*Melanges_tele[Y],Melanges_tele[tons])/SUMPRODUCT((Melanges_tele[origin]=B15)*(Melanges_tele[DestProduct]=B16)*Melanges_tele[tons]) -> 79.738146
A21: Tonnage des 10 dernière valeurs | B21: =SUM(OFFSET('Base données'!E3,COUNTA(Piles[tons])-Données!B12+1,,Données!B12,)) -> #VALUE!
A22: Moyenne pondéré des dernières valeurs | B22: =SUMPRODUCT(OFFSET('Base données'!G3,COUNTA(Piles[Y])-Données!B12+1,,Données!B12,),OFFSET('Base données'!E3,COUNTA(Piles[tons])-Données!B12+1,,Données!B12,)/SUM(OFFSET('Base données'!E3,COUNTA(Piles[tons])-Données!B12+1,,Données!B12,))) -> #VALUE!
A24: Tonnage actuel Silo | B24: =B4+B5-B6 -> 15206.331
A25: Pondéré actuel silo | B25: =((B5*B18)+(B6*B19))/SUM(B5:B6) -> 80.00836
B29: T13 | C29: T14 | D29: T15 | E29: T16 | F29: T19 | G29: T20 | H29: T21 | I29: T26 | J29: T27 | K29: T29 | L29: T36
A30: Minerai
A31: Moyenne Tonnage Pile entrante
A32: Moyenne Y Pile entrante
A34: Tonnage des 10 dernière valeurs
A35: Moyenne pondéré des dernières valeurs
A37: Tonnage actuel Silo
A38: Pondéré actuel silo

Sheet Descente télé
A1: Analyses descentes télé
A3: tons | B3: X | C3: Y | D3: Z | E3: Al2O3 | F3: Fe2O3 | G3: MgO | H3: CaOX | I3: pk | J3: wo_number | K3: time | L3: DestProduct | M3: S
A4: 400 | B4: 79.8 | C4: 84.1 | D4: 90.8 | E4: 2.86 | F4: 0.67 | G4: 31.48 | H4: 0.89 | I4: 2658972 | J4: 019/108/003 | K4: 43573.842 | L4: OXO TO | M4: 0.048
A5: 400 | B5: 80.6 | C5: 85 | D5: 91.5 | E5: 2.66 | F5: 0.69 | G5: 31.45 | H5: 0.7 | I5: 2658973 | J5: 019/108/003 | K5: 43573.842 | L5: OXO TO | M5: 0.046
A6: 261 | B6: 80.2 | C6: 84.5 | D6: 91.2 | E6: 2.14 | F6: 0.69 | G6: 31.43 | H6: 0.87 | I6: 2658974 | J6: 019/108/003 | K6: 43573.842 | L6: OXO TO | M6: 0.044
A7: 300 | B7: 80.1 | C7: 84.6 | D7: 89.6 | E7: 11.22 | F7: 1.21 | G7: 32.55 | H7: 0.72 | I7: 2677225 | J7: 019/122/002 | K7: 43588.019 | L7: 1 ERE BLANCHE | M7: 0.024
A8: 300 | B8: 80 | C8: 84.4 | D8: 89.1 | E8: 14.64 | F8: 1.39 | G8: 32.9 | H8: 0.58 | I8: 2677226 | J8: 019/122/002 | K8: 43588.019 | L8: 1 ERE BLANCHE | M8: 0.032
A9: 300 | B9: 79.5 | C9: 83.9 | D9: 88.4 | E9: 14.34 | F9: 1.38 | G9: 32.96 | H9: 0.48 | I9: 2677227 | J9: 019/122/002 | K9: 43588.019 | L9: 1 ERE BLANCHE | M9: 0.024
A10: 300 | B10: 77.2 | C10: 81.4 | D10: 87.9 | E10: 2.98 | F10: 0.87 | G10: 31.5 | H10: 1.27 | I10: 2659372 | J10: 019/108/004 | K10: 43574.059 | L10: 2EME TALQUEUSE | M10: 0.068
A11: 300 | B11: 75.4 | C11: 79.5 | D11: 85.8 | E11: 2.72 | F11: 0.81 | G11: 31.42 | H11: 1.88 | I11: 2659373 | J11: 019/108/004 | K11: 43574.059 | L11: 2EME TALQUEUSE | M11: 0.043
A12: 300 | B12: 75.6 | C12: 79.7 | D12: 86.2 | E12: 2.45 | F12: 0.82 | G12: 31.37 | H12: 1.42 | I12: 2659374 | J12: 019/108/004 | K12: 43574.059 | L12: 2EME TALQUEUSE | M12: 0.068
A13: 300 | B13: 74.9 | C13: 78.9 | D13: 85.4 | E13: 2.98 | F13: 0.85 | G13: 31.31 | H13: 1.23 | I13: 2659642 | J13: 019/109/001 | K13: 43574.191 | L13: 2EME TALQUEUSE | M13: 0.061
A14: 263 | B14: 75.8 | C14: 79.9 | D14: 86.6 | E14: 2.34 | F14: 0.75 | G14: 31.46 | H14: 1.74 | I14: 2659643 | J14: 019/109/001 | K14: 43574.191 | L14: 2EME TALQUEUSE | M14: 0.053
A15: 400 | B15: 80.4 | C15: 84.8 | D15: 91.5 | E15: 2.44 | F15: 0.68 | G15: 31.48 | H15: 0.79 | I15: 2659950 | J15: 019/109/002 | K15: 43574.38 | L15: OXO TO | M15: 0.066
... A1300: 243 | B1300: 73.9 | C1300: 77.9 | D1300: 83.1 | E1300: 9.49 | F1300: 1.51 | G1300: 32.03 | H1300: 1.12 | I1300: 2941502 | J1300: 019/298/001 | K1300: 43763.294 | L1300: 1ERE MS | M1300: 0.139

Sheet Base données
A1: Piles direction T01 | AQ1: =MATCH(AQ2,3:3,0) -> 7 | AR1: =MATCH(AR2,3:3,0) -> 5 | AS1: =MATCH(AS2,3:3,0) -> 13
S2: T01 | AQ2: Y | AR2: tons | AS2: minTime
A3: Pile | B3: GradePile | C3: Destination | D3: GradeDest | E3: tons | F3: X | G3: Y | H3: Z | I3: Al2O3 | J3: Fe2O3 | K3: MgO | L3: CaOX | M3: minTime | N3: maxTime | O3: Chantier | S3: 2EME TO | W3: wo_number | X3: time | Y3: tons | Z3: OriginProduct | AA3: origin | AB3: DestProduct | AC3: year | AD3: month | AE3: Destination | AF3: Y | AG3: Al203 | AH3: Fe203 | AI3: MgO | AJ3: CaOX | AK3: S | AL3: Transfert entrée | AM3: Transfert sortie
A4: A5155 | B4: 3 EME | C4: T19 | D4: 3 EME | E4: 0 | F4: 72.5 | G4: 76.5 | H4: 82.3 | I4: 5.55 | J4: 1.28 | K4: 31.64 | L4: 1.02 | M4: 43781.421 | N4: 43781.421 | O4: A1615 | W4: 019/298/001 | X4: 43763.294 | Y4: 162 | Z4: 1ERE | AA4: T26 | AB4: 1ERE MS | AC4: 2019 | AD4: 10 | AF4: =IFERROR(SUMPRODUCT(--(tbl_bd_descente[wo_number]=W4),tbl_bd_descente[Y],tbl_bd_descente[tons])/SUMIF(tbl_bd_descente[wo_number],W4,tbl_bd_descente[tons]),0) -> 77.9 | AG4: =IFERROR(SUMPRODUCT(--(tbl_bd_descente[wo_number]=W4),tbl_bd_descente[Al2O3],tbl_bd_descente[tons])/SUMIF(tbl_bd_descente[wo_number],W4,tbl_bd_descente[tons]),0) -> 9.49 | AH4: =IFERROR(SUMPRODUCT(--(tbl_bd_descente[wo_number]=W4),tbl_bd_descente[Fe2O3],tbl_bd_descente[tons])/SUMIF(tbl_bd_descente[wo_number],W4,tbl_bd_descente[tons]),0) -> 1.51 | AI4: =IFERROR(SUMPRODUCT(--(tbl_bd_descente[wo_number]=W4),tbl_bd_descente[MgO],tbl_bd_descente[tons])/SUMIF(tbl_bd_descente[wo_number],W4,tbl_bd_descente[tons]),0) -> 32.03 | AJ4: =IFERROR(SUMPRODUCT(--(tbl_bd_descente[wo_number]=W4),tbl_bd_descente[CaOX],tbl_bd_descente[tons])/SUMIF(tbl_bd_descente[wo_number],W4,tbl_bd_descente[tons]),0) -> 1.12 | AK4: =IFERROR(SUMPRODUCT(--(tbl_bd_descente[wo_number]=W4),tbl_bd_descente[S],tbl_bd_descente[tons])/SUMIF(tbl_bd_descente[wo_number],W4,tbl_bd_descente[tons]),0) -> 0.139 | AO4: =IF(AND(C4=S$2,D4=S$3,COUNTIF(AO$1:AO3,">"&1)<10),ROW(),"") | AP4: =SMALL(AO:AO,ROW()-3) -> 7 | AQ4: =INDIRECT(ADDRESS($AP4,AQ$1),1) -> 82.2 | AR4: =INDIRECT(ADDRESS($AP4,AR$1),1)*1 -> 0 | AS4: =INDIRECT(ADDRESS($AP4,AS$1),1) -> 43781.421
A5: A5151 | B5: 1ERE TO | C5: T14 | D5: 1ERE TO | E5: 0 | F5: 81 | G5: 85.5 | H5: 91.2 | I5: 8.11 | J5: 0.96 | K5: 31.89 | L5: 0.6 | M5: 43781.421 | N5: 43781.421 | O5: A1615 | W5: 019/298/001 | X5: 43763.294 | Y5: 81 | Z5: 1ERE | AA5: T27 | AB5: 1ERE MS | AC5: 2019 | AD5: 10 | AF5: =IFERROR(SUMPRODUCT(--(tbl_bd_descente[wo_number]=W5),tbl_bd_descente[Y],tbl_bd_descente[tons])/SUMIF(tbl_bd_descente[wo_number],W5,tbl_bd_descente[tons]),0) -> 77.9 | AG5: =IFERROR(SUMPRODUCT(--(tbl_bd_descente[wo_number]=W5),tbl_bd_descente[Al2O3],tbl_bd_descente[tons])/SUMIF(tbl_bd_descente[wo_number],W5,tbl_bd_descente[tons]),0) -> 9.49 | AH5: =IFERROR(SUMPRODUCT(--(tbl_bd_descente[wo_number]=W5),tbl_bd_descente[Fe2O3],tbl_bd_descente[tons])/SUMIF(tbl_bd_descente[wo_number],W5,tbl_bd_descente[tons]),0) -> 1.51 | AI5: =IFERROR(SUMPRODUCT(--(tbl_bd_descente[wo_number]=W5),tbl_bd_descente[MgO],tbl_bd_descente[tons])/SUMIF(tbl_bd_descente[wo_number],W5,tbl_bd_descente[tons]),0) -> 32.03 | AJ5: =IFERROR(SUMPRODUCT(--(tbl_bd_descente[wo_number]=W5),tbl_bd_descente[CaOX],tbl_bd_descente[tons])/SUMIF(tbl_bd_descente[wo_number],W5,tbl_bd_descente[tons]),0) -> 1.12 | AK5: =IFERROR(SUMPRODUCT(--(tbl_bd_descente[wo_number]=W5),tbl_bd_descente[S],tbl_bd_descente[tons])/SUMIF(tbl_bd_descente[wo_number],W5,tbl_bd_descente[tons]),0) -> 0.139 | AO5: =IF(AND(C5=S$2,D5=S$3,COUNTIF(AO$1:AO4,">"&1)<10),ROW(),"") | AP5: =SMALL(AO:AO,ROW()-3) -> 11 | AQ5: =INDIRECT(ADDRESS($AP5,AQ$1),1) -> 82.5 | AR5: =INDIRECT(ADDRESS($AP5,AR$1),1)*1 -> 326.905 | AS5: =INDIRECT(ADDRESS($AP5,AS$1),1) -> 43776.686
A6: A5147 | B6: 1ERE TO | C6: T06 | D6: 1ERE TO | E6: 0 | F6: 79.2 | G6: 83.6 | H6: 89.5 | I6: 5.95 | J6: 0.91 | K6: 31.71 | L6: 0.73 | M6: 43781.421 | N6: 43781.421 | O6: A1615 | S6: Pondéré pile silo T01 : | U6: =SUMPRODUCT((Piles[Destination]=Données!B15)*(Piles[GradeDest]=Données!B16)*Piles[Y]*Piles[tons])/SUMPRODUCT((Piles[Destination]=Données!B15)*(Piles[GradeDest]=Données!B16)*Piles[tons]) -> 80.242309 | W6: 019/297/003 | X6: 43763.137 | Y6: 890 | Z6: OXO TO | AA6: T05 | AB6: OXO TO | AC6: 2019 | AD6: 10 | AE6: 1 H | AF6: =IFERROR(SUMPRODUCT(--(tbl_bd_descente[wo_number]=W6),tbl_bd_descente[Y],tbl_bd_descente[tons])/SUMIF(tbl_bd_descente[wo_number],W6,tbl_bd_descente[tons]),0) -> 83.770787 | AG6: =IFERROR(SUMPRODUCT(--(tbl_bd_descente[wo_number]=W6),tbl_bd_descente[Al2O3],tbl_bd_descente[tons])/SUMIF(tbl_bd_descente[wo_number],W6,tbl_bd_descente[tons]),0) -> 1.4819101 | AH6: =IFERROR(SUMPRODUCT(--(tbl_bd_descente[wo_number]=W6),tbl_bd_descente[Fe2O3],tbl_bd_descente[tons])/SUMIF(tbl_bd_descente[wo_number],W6,tbl_bd_descente[tons]),0) -> 0.75797753 | AI6: =IFERROR(SUMPRODUCT(--(tbl_bd_descente[wo_number]=W6),tbl_bd_descente[MgO],tbl_bd_descente[tons])/SUMIF(tbl_bd_descente[wo_number],W6,tbl_bd_descente[tons]),0) -> 31.116517 | AJ6: =IFERROR(SUMPRODUCT(--(tbl_bd_descente[wo_number]=W6),tbl_bd_descente[CaOX],tbl_bd_descente[tons])/SUMIF(tbl_bd_descente[wo_number],W6,tbl_bd_descente[tons]),0) -> 1.2476404 | AK6: =IFERROR(SUMPRODUCT(--(tbl_bd_descente[wo_number]=W6),tbl_bd_descente[S],tbl_bd_descente[tons])/SUMIF(tbl_bd_descente[wo_number],W6,tbl_bd_descente[tons]),0) -> 0.06588764 | AO6: =IF(AND(C6=S$2,D6=S$3,COUNTIF(AO$1:AO5,">"&1)<10),ROW(),"") | AP6: =SMALL(AO:AO,ROW()-3) -> 24 | AQ6: =INDIRECT(ADDRESS($AP6,AQ$1),1) -> 81.6 | AR6: =INDIRECT(ADDRESS($AP6,AR$1),1)*1 -> 328.245 | AS6: =INDIRECT(ADDRESS($AP6,AS$1),1) -> 43775.765
A7: A5153 | B7: 2EME TO | C7: T01 | D7: 2EME TO | E7: 0 | F7: 77.9 | G7: 82.2 | H7: 88.6 | I7: 3.11 | J7: 1.14 | K7: 31.41 | L7: 0.86 | M7: 43781.421 | N7: 43781.421 | O7: A1615 | T7: Tonnes : | U7: =Données!B5 -> 42361.664 | W7: 019/297/002 | X7: 43762.844 | Y7: 912 | Z7: OXO TO | AA7: T14 | AB7: OXO TO | AC7: 2019 | AD7: 10 | AE7: STT | AF7: =IFERROR(SUMPRODUCT(--(tbl_bd_descente[wo_number]=W7),tbl_bd_descente[Y],tbl_bd_descente[tons])/SUMIF(tbl_bd_descente[wo_number],W7,tbl_bd_descente[tons]),0) -> 87.022807 | AG7: =IFERROR(SUMPRODUCT(--(tbl_bd_descente[wo_number]=W7),tbl_bd_descente[Al2O3],tbl_bd_descente[tons])/SUMIF(tbl_bd_descente[wo_number],W7,tbl_bd_descente[tons]),0) -> 3.6507018 | AH7: =IFERROR(SUMPRODUCT(--(tbl_bd_descente[wo_number]=W7),tbl_bd_descente[Fe2O3],tbl_bd_descente[tons])/SUMIF(tbl_bd_descente[wo_number],W7,tbl_bd_descente[tons]),0) -> 0.67824561 | AI7: =IFERROR(SUMPRODUCT(--(tbl_bd_descente[wo_number]=W7),tbl_bd_descente[MgO],tbl_bd_descente[tons])/SUMIF(tbl_bd_descente[wo_number],W7,tbl_bd_descente[tons]),0) -> 31.523684 | AJ7: =IFERROR(SUMPRODUCT(--(tbl_bd_descente[wo_number]=W7),tbl_bd_descente[CaOX],tbl_bd_descente[tons])/SUMIF(tbl_bd_descente[wo_number],W7,tbl_bd_descente[tons]),0) -> 0.97438596 | AK7: =IFERROR(SUMPRODUCT(--(tbl_bd_descente[wo_number]=W7),tbl_bd_descente[S],tbl_bd_descente[tons])/SUMIF(tbl_bd_descente[wo_number],W7,tbl_bd_descente[tons]),0) -> 0.010877193 | AO7: =IF(AND(C7=S$2,D7=S$3,COUNTIF(AO$1:AO6,">"&1)<10),ROW(),"") -> 7 | AP7: =SMALL(AO:AO,ROW()-3) -> 26 | AQ7: =INDIRECT(ADDRESS($AP7,AQ$1),1) -> 81.9 | AR7: =INDIRECT(ADDRESS($AP7,AR$1),1)*1 -> 254.875 | AS7: =INDIRECT(ADDRESS($AP7,AS$1),1) -> 43775.683
A8: C4294 | B8: 3 EME | C8: T19 | D8: 3 EME | E8: 0 | F8: 67.1 | G8: 70.7 | H8: 76.1 | I8: 10.48 | J8: 1.59 | K8: 32.1 | L8: 0.43 | M8: 43781.421 | N8: 43781.421 | O8: C1625 | W8: 019/297/001 | X8: 43762.463 | Y8: 866 | Z8: 2EME TO | AA8: T12 | AB8: 2EME TO | AC8: 2019 | AD8: 10 | AE8: 1 H | AF8: =IFERROR(SUMPRODUCT(--(tbl_bd_descente[wo_number]=W8),tbl_bd_descente[Y],tbl_bd_descente[tons])/SUMIF(tbl_bd_descente[wo_number],W8,tbl_bd_descente[tons]),0) -> 79.63903 | AG8: =IFERROR(SUMPRODUCT(--(tbl_bd_descente[wo_number]=W8),tbl_bd_descente[Al2O3],tbl_bd_descente[tons])/SUMIF(tbl_bd_descente[wo_number],W8,tbl_bd_descente[tons]),0) -> 4.0095612 | AH8: =IFERROR(SUMPRODUCT(--(tbl_bd_descente[wo_number]=W8),tbl_bd_descente[Fe2O3],tbl_bd_descente[tons])/SUMIF(tbl_bd_descente[wo_number],W8,tbl_bd_descente[tons]),0) -> 0.99771363 | AI8: =IFERROR(SUMPRODUCT(--(tbl_bd_descente[wo_number]=W8),tbl_bd_descente[MgO],tbl_bd_descente[tons])/SUMIF(tbl_bd_descente[wo_number],W8,tbl_bd_descente[tons]),0) -> 31.555427 | AJ8: =IFERROR(SUMPRODUCT(--(tbl_bd_descente[wo_number]=W8),tbl_bd_descente[CaOX],tbl_bd_descente[tons])/SUMIF(tbl_bd_descente[wo_number],W8,tbl_bd_descente[tons]),0) -> 1.0292841 | AK8: =IFERROR(SUMPRODUCT(--(tbl_bd_descente[wo_number]=W8),tbl_bd_descente[S],tbl_bd_descente[tons])/SUMIF(tbl_bd_descente[wo_number],W8,tbl_bd_descente[tons]),0) -> 0.08682448 | AO8: =IF(AND(C8=S$2,D8=S$3,COUNTIF(AO$1:AO7,">"&1)<10),ROW(),"") | AP8: =SMALL(AO:AO,ROW()-3) -> 31 | AQ8: =INDIRECT(ADDRESS($AP8,AQ$1),1) -> 76.9 | AR8: =INDIRECT(ADDRESS($AP8,AR$1),1)*1 -> 254.775 | AS8: =INDIRECT(ADDRESS($AP8,AS$1),1) -> 43775.52
A9: C4295 | B9: 3 EME | C9: T11 | D9: 3 EME | E9: 0 | F9: 67.2 | G9: 70.9 | H9: 76.4 | I9: 10.37 | J9: 1.51 | K9: 32.08 | L9: 0.41 | M9: 43781.421 | N9: 43781.421 | O9: C1615 | W9: 019/296/003 | X9: 43762.227 | Y9: 582 | Z9: 1ERE | AA9: T27 | AB9: 1ERE MS | AC9: 2019 | AD9: 10 | AE9: 1 H | AF9: =IFERROR(SUMPRODUCT(--(tbl_bd_descente[wo_number]=W9),tbl_bd_descente[Y],tbl_bd_descente[tons])/SUMIF(tbl_bd_descente[wo_number],W9,tbl_bd_descente[tons]),0) -> 79.857732 | AG9: =IFERROR(SUMPRODUCT(--(tbl_bd_descente[wo_number]=W9),tbl_bd_descente[Al2O3],tbl_bd_descente[tons])/SUMIF(tbl_bd_descente[wo_number],W9,tbl_bd_descente[tons]),0) -> 11.677835 | AH9: =IFERROR(SUMPRODUCT(--(tbl_bd_descente[wo_number]=W9),tbl_bd_descente[Fe2O3],tbl_bd_descente[tons])/SUMIF(tbl_bd_descente[wo_number],W9,tbl_bd_descente[tons]),0) -> 1.6362887 | AI9: =IFERROR(SUMPRODUCT(--(tbl_bd_descente[wo_number]=W9),tbl_bd_descente[MgO],tbl_bd_descente[tons])/SUMIF(tbl_bd_descente[wo_number],W9,tbl_bd_descente[tons]),0) -> 32.417835 | AJ9: =IFERROR(SUMPRODUCT(--(tbl_bd_descente[wo_number]=W9),tbl_bd_descente[CaOX],tbl_bd_descente[tons])/SUMIF(tbl_bd_descente[wo_number],W9,tbl_bd_descente[tons]),0) -> 0.8085567 | AK9: =IFERROR(SUMPRODUCT(--(tbl_bd_descente[wo_number]=W9),tbl_bd_descente[S],tbl_bd_descente[tons])/SUMIF(tbl_bd_descente[wo_number],W9,tbl_bd_descente[tons]),0) -> 0.051639175 | AO9: =IF(AND(C9=S$2,D9=S$3,COUNTIF(AO$1:AO8,">"&1)<10),ROW(),"") | AP9: =SMALL(AO:AO,ROW()-3) -> 33 | AQ9: =INDIRECT(ADDRESS($AP9,AQ$1),1) -> 75.8 | AR9: =INDIRECT(ADDRESS($AP9,AR$1),1)*1 -> 292.675 | AS9: =INDIRECT(ADDRESS($AP9,AS$1),1) -> 43775.472
A10: C4290 | B10: 3 EME | C10: T19 | D10: 3 EME | E10: 0 | F10: 67.1 | G10: 70.7 | H10: 76.2 | I10: 10.03 | J10: 1.49 | K10: 31.84 | L10: 0.53 | M10: 43781.421 | N10: 43781.421 | O10: C1630 | S10: Pondéré sortie silo T01 : | U10: =SUMPRODUCT((Melanges_tele[origin]=Données!B15)*(Melanges_tele[DestProduct]=Données!B16)*Melanges_tele[Y],Melanges_tele[tons])/SUMPRODUCT((Melanges_tele[origin]=Données!B15)*(Melanges_tele[DestProduct]=Données!B16)*Melanges_tele[tons]) -> 79.738146 | W10: 019/296/003 | X10: 43762.227 | Y10: 582 | Z10: 1ERE | AA10: T26 | AB10: 1ERE MS | AC10: 2019 | AD10: 10 | AE10: 2 A | AF10: =IFERROR(SUMPRODUCT(--(tbl_bd_descente[wo_number]=W10),tbl_bd_descente[Y],tbl_bd_descente[tons])/SUMIF(tbl_bd_descente[wo_number],W10,tbl_bd_descente[tons]),0) -> 79.857732 | AG10: =IFERROR(SUMPRODUCT(--(tbl_bd_descente[wo_number]=W10),tbl_bd_descente[Al2O3],tbl_bd_descente[tons])/SUMIF(tbl_bd_descente[wo_number],W10,tbl_bd_descente[tons]),0) -> 11.677835 | AH10: =IFERROR(SUMPRODUCT(--(tbl_bd_descente[wo_number]=W10),tbl_bd_descente[Fe2O3],tbl_bd_descente[tons])/SUMIF(tbl_bd_descente[wo_number],W10,tbl_bd_descente[tons]),0) -> 1.6362887 | AI10: =IFERROR(SUMPRODUCT(--(tbl_bd_descente[wo_number]=W10),tbl_bd_descente[MgO],tbl_bd_descente[tons])/SUMIF(tbl_bd_descente[wo_number],W10,tbl_bd_descente[tons]),0) -> 32.417835 | AJ10: =IFERROR(SUMPRODUCT(--(tbl_bd_descente[wo_number]=W10),tbl_bd_descente[CaOX],tbl_bd_descente[tons])/SUMIF(tbl_bd_descente[wo_number],W10,tbl_bd_descente[tons]),0) -> 0.8085567 | AK10: =IFERROR(SUMPRODUCT(--(tbl_bd_descente[wo_number]=W10),tbl_bd_descente[S],tbl_bd_descente[tons])/SUMIF(tbl_bd_descente[wo_number],W10,tbl_bd_descente[tons]),0) -> 0.051639175 | AO10: =IF(AND(C10=S$2,D10=S$3,COUNTIF(AO$1:AO9,">"&1)<10),ROW(),"") | AP10: =SMALL(AO:AO,ROW()-3) -> 34 | AQ10: =INDIRECT(ADDRESS($AP10,AQ$1),1) -> 77 | AR10: =INDIRECT(ADDRESS($AP10,AR$1),1)*1 -> 292.09 | AS10: =INDIRECT(ADDRESS($AP10,AS$1),1) -> 43775.442
A11: C4280 | B11: 2EME TO | C11: T01 | D11: 2EME TO | E11: 326.905 | F11: 78.3 | G11: 82.5 | H11: 89.2 | I11: 3.4 | J11: 0.76 | K11: 31.49 | L11: 0.8 | M11: 43776.686 | N11: 43776.725 | O11: C1615 | T11: Tonnes : | U11: =Données!B6 -> 36676.333 | W11: 019/296/002 | X11: 43761.918 | Y11: 403 | Z11: 1 ERE BLANCHE | AA11: T29 | AB11: 1 ERE BLANCHE | AC11: 2019 | AD11: 10 | AE11: STT | AF11: =IFERROR(SUMPRODUCT(--(tbl_bd_descente[wo_number]=W11),tbl_bd_descente[Y],tbl_bd_descente[tons])/SUMIF(tbl_bd_descente[wo_number],W11,tbl_bd_descente[tons]),0) -> 84.3 | AG11: =IFERROR(SUMPRODUCT(--(tbl_bd_descente[wo_number]=W11),tbl_bd_descente[Al2O3],tbl_bd_descente[tons])/SUMIF(tbl_bd_descente[wo_number],W11,tbl_bd_descente[tons]),0) -> 7.95 | AH11: =IFERROR(SUMPRODUCT(--(tbl_bd_descente[wo_number]=W11),tbl_bd_descente[Fe2O3],tbl_bd_descente[tons])/SUMIF(tbl_bd_descente[wo_number],W11,tbl_bd_descente[tons]),0) -> 1.14 | AI11: =IFERROR(SUMPRODUCT(--(tbl_bd_descente[wo_number]=W11),tbl_bd_descente[MgO],tbl_bd_descente[tons])/SUMIF(tbl_bd_descente[wo_number],W11,tbl_bd_descente[tons]),0) -> 31.97 | AJ11: =IFERROR(SUMPRODUCT(--(tbl_bd_descente[wo_number]=W11),tbl_bd_descente[CaOX],tbl_bd_descente[tons])/SUMIF(tbl_bd_descente[wo_number],W11,tbl_bd_descente[tons]),0) -> 0.65 | AK11: =IFERROR(SUMPRODUCT(--(tbl_bd_descente[wo_number]=W11),tbl_bd_descente[S],tbl_bd_descente[tons])/SUMIF(tbl_bd_descente[wo_number],W11,tbl_bd_descente[tons]),0) -> 0.033 | AO11: =IF(AND(C11=S$2,D11=S$3,COUNTIF(AO$1:AO10,">"&1)<10),ROW(),"") -> 11 | AP11: =SMALL(AO:AO,ROW()-3) -> 40 | AQ11: =INDIRECT(ADDRESS($AP11,AQ$1),1) -> 74.3 | AR11: =INDIRECT(ADDRESS($AP11,AR$1),1)*1 -> 220.06 | AS11: =INDIRECT(ADDRESS($AP11,AS$1),1) -> 43775.285
A12: C4281 | B12: 2EME TALQUEUSE | C12: T02 | D12: 2EME TALQUEUSE | E12: 218.86 | F12: 73.4 | G12: 77.4 | H12: 84.2 | I12: 2.49 | J12: 0.68 | K12: 31.18 | L12: 1.43 | M12: 43776.667 | N12: 43776.683 | O12: C1615 | W12: 019/296/001 | X12: 43761.82 | Y12: 980 | Z12: OXO TO | AA12: T05 | AB12: OXO TO | AC12: 2019 | AD12: 10 | AE12: STT | AF12: =IFERROR(SUMPRODUCT(--(tbl_bd_descente[wo_number]=W12),tbl_bd_descente[Y],tbl_bd_descente[tons])/SUMIF(tbl_bd_descente[wo_number],W12,tbl_bd_descente[tons]),0) -> 83.565306 | AG12: =IFERROR(SUMPRODUCT(--(tbl_bd_descente[wo_number]=W12),tbl_bd_descente[Al2O3],tbl_bd_descente[tons])/SUMIF(tbl_bd_descente[wo_number],W12,tbl_bd_descente[tons]),0) -> 1.762449 | AH12: =IFERROR(SUMPRODUCT(--(tbl_bd_descente[wo_number]=W12),tbl_bd_descente[Fe2O3],tbl_bd_descente[tons])/SUMIF(tbl_bd_descente[wo_number],W12,tbl_bd_descente[tons]),0) -> 0.79857143 | AI12: =IFERROR(SUMPRODUCT(--(tbl_bd_descente[wo_number]=W12),tbl_bd_descente[MgO],tbl_bd_descente[tons])/SUMIF(tbl_bd_descente[wo_number],W12,tbl_bd_descente[tons]),0) -> 31.317347 | AJ12: =IFERROR(SUMPRODUCT(--(tbl_bd_descente[wo_number]=W12),tbl_bd_descente[CaOX],tbl_bd_descente[tons])/SUMIF(tbl_bd_descente[wo_number],W12,tbl_bd_descente[tons]),0) -> 0.74571429 | AK12: =IFERROR(SUMPRODUCT(--(tbl_bd_descente[wo_number]=W12),tbl_bd_descente[S],tbl_bd_descente[tons])/SUMIF(tbl_bd_descente[wo_number],W12,tbl_bd_descente[tons]),0) -> 0.04744898 | AO12: =IF(AND(C12=S$2,D12=S$3,COUNTIF(AO$1:AO11,">"&1)<10),ROW(),"") | AP12: =SMALL(AO:AO,ROW()-3) -> 41 | AQ12: =INDIRECT(ADDRESS($AP12,AQ$1),1) -> 78.2 | AR12: =INDIRECT(ADDRESS($AP12,AR$1),1)*1 -> 220.06 | AS12: =INDIRECT(ADDRESS($AP12,AS$1),1) -> 43775.26
A13: C4286 | B13: 2 EME | C13: T08 | D13: 3 EME | E13: 290.875 | F13: 74.7 | G13: 78.8 | H13: 84.7 | I13: 7.88 | J13: 1.25 | K13: 31.87 | L13: 0.41 | M13: 43776.642 | N13: 43777.233 | O13: C1615 | W13: 019/295/006 | X13: 43761.291 | Y13: 262 | Z13: 3 EME | AA13: T19 | AB13: 3 EME | AC13: 2019 | AD13: 10 | AE13: 2 A | AF13: =IFERROR(SUMPRODUCT(--(tbl_bd_descente[wo_number]=W13),tbl_bd_descente[Y],tbl_bd_descente[tons])/SUMIF(tbl_bd_descente[wo_number],W13,tbl_bd_descente[tons]),0) -> 70.3 | AG13: =IFERROR(SUMPRODUCT(--(tbl_bd_descente[wo_number]=W13),tbl_bd_descente[Al2O3],tbl_bd_descente[tons])/SUMIF(tbl_bd_descente[wo_number],W13,tbl_bd_descente[tons]),0) -> 8.46 | AH13: =IFERROR(SUMPRODUCT(--(tbl_bd_descente[wo_number]=W13),tbl_bd_descente[Fe2O3],tbl_bd_descente[tons])/SUMIF(tbl_bd_descente[wo_number],W13,tbl_bd_descente[tons]),0) -> 1.4 | AI13: =IFERROR(SUMPRODUCT(--(tbl_bd_descente[wo_number]=W13),tbl_bd_descente[MgO],tbl_bd_descente[tons])/SUMIF(tbl_bd_descente[wo_number],W13,tbl_bd_descente[tons]),0) -> 32.06 | AJ13: =IFERROR(SUMPRODUCT(--(tbl_bd_descente[wo_number]=W13),tbl_bd_descente[CaOX],tbl_bd_descente[tons])/SUMIF(tbl_bd_descente[wo_number],W13,tbl_bd_descente[tons]),0) -> 1.01 | AK13: =IFERROR(SUMPRODUCT(--(tbl_bd_descente[wo_number]=W13),tbl_bd_descente[S],tbl_bd_descente[tons])/SUMIF(tbl_bd_descente[wo_number],W13,tbl_bd_descente[tons]),0) -> 0.068 | AO13: =IF(AND(C13=S$2,D13=S$3,COUNTIF(AO$1:AO12,">"&1)<10),ROW(),"") | AP13: =SMALL(AO:AO,ROW()-3) -> 42 | AQ13: =INDIRECT(ADDRESS($AP13,AQ$1),1) -> 76.3 | AR13: =INDIRECT(ADDRESS($AP13,AR$1),1)*1 -> 182.06 | AS13: =INDIRECT(ADDRESS($AP13,AS$1),1) -> 43775.238
A14: C4283 | B14: 3 EME | C14: T19 | D14: 3 EME | E14: 582.94999 | F14: 70.6 | G14: 74.4 | H14: 80.6 | I14: 6.14 | J14: 1.11 | K14: 31.73 | L14: 0.38 | M14: 43776.566 | N14: 43776.64 | O14: C1615 | T14: Moyenne dernière valeur : NB en U15 | U14: =AVERAGE(OFFSET(G3,COUNTA(Piles[Y])-Données!B12+1,,Données!B12,)) -> #VALUE! | W14: 019/295/006 | X14: 43761.291 | Y14: 131 | Z14: 3 EME | AA14: T09 | AB14: 3 EME | AC14: 2019 | AD14: 10 | AE14: 2 A | AF14: =IFERROR(SUMPRODUCT(--(tbl_bd_descente[wo_number]=W14),tbl_bd_descente[Y],tbl_bd_descente[tons])/SUMIF(tbl_bd_descente[wo_number],W14,tbl_bd_descente[tons]),0) -> 70.3 | AG14: =IFERROR(SUMPRODUCT(--(tbl_bd_descente[wo_number]=W14),tbl_bd_descente[Al2O3],tbl_bd_descente[tons])/SUMIF(tbl_bd_descente[wo_number],W14,tbl_bd_descente[tons]),0) -> 8.46 | AH14: =IFERROR(SUMPRODUCT(--(tbl_bd_descente[wo_number]=W14),tbl_bd_descente[Fe2O3],tbl_bd_descente[tons])/SUMIF(tbl_bd_descente[wo_number],W14,tbl_bd_descente[tons]),0) -> 1.4 | AI14: =IFERROR(SUMPRODUCT(--(tbl_bd_descente[wo_number]=W14),tbl_bd_descente[MgO],tbl_bd_descente[tons])/SUMIF(tbl_bd_descente[wo_number],W14,tbl_bd_descente[tons]),0) -> 32.06 | AJ14: =IFERROR(SUMPRODUCT(--(tbl_bd_descente[wo_number]=W14),tbl_bd_descente[CaOX],tbl_bd_descente[tons])/SUMIF(tbl_bd_descente[wo_number],W14,tbl_bd_descente[tons]),0) -> 1.01 | AK14: =IFERROR(SUMPRODUCT(--(tbl_bd_descente[wo_number]=W14),tbl_bd_descente[S],tbl_bd_descente[tons])/SUMIF(tbl_bd_descente[wo_number],W14,tbl_bd_descente[tons]),0) -> 0.068 | AO14: =IF(AND(C14=S$2,D14=S$3,COUNTIF(AO$1:AO13,">"&1)<10),ROW(),"")
A15: C4282 | B15: 3 EME | C15: T19 | D15: 3 EME | E15: 401.62 | F15: 66.9 | G15: 70.5 | H15: 76.5 | I15: 4.83 | J15: 1.06 | K15: 31.58 | L15: 0.31 | M15: 43776.516 | N15: 43776.562 | O15: C1615 | U15: 10 | W15: 019/295/005 | X15: 43760.964 | Y15: 313 | Z15: 1 ERE BLANCHE | AA15: T29 | AB15: 1 ERE BLANCHE | AC15: 2019 | AD15: 10 | AE15: 2 A | AF15: =IFERROR(SUMPRODUCT(--(tbl_bd_descente[wo_number]=W15),tbl_bd_descente[Y],tbl_bd_descente[tons])/SUMIF(tbl_bd_descente[wo_number],W15,tbl_bd_descente[tons]),0) -> 83 | AG15: =IFERROR(SUMPRODUCT(--(tbl_bd_descente[wo_number]=W15),tbl_bd_descente[Al2O3],tbl_bd_descente[tons])/SUMIF(tbl_bd_descente[wo_number],W15,tbl_bd_descente[tons]),0) -> 8.02 | AH15: =IFERROR(SUMPRODUCT(--(tbl_bd_descente[wo_number]=W15),tbl_bd_descente[Fe2O3],tbl_bd_descente[tons])/SUMIF(tbl_bd_descente[wo_number],W15,tbl_bd_descente[tons]),0) -> 1.12 | AI15: =IFERROR(SUMPRODUCT(--(tbl_bd_descente[wo_number]=W15),tbl_bd_descente[MgO],tbl_bd_descente[tons])/SUMIF(tbl_bd_descente[wo_number],W15,tbl_bd_descente[tons]),0) -> 32 | AJ15: =IFERROR(SUMPRODUCT(--(tbl_bd_descente[wo_number]=W15),tbl_bd_descente[CaOX],tbl_bd_descente[tons])/SUMIF(tbl_bd_descente[wo_number],W15,tbl_bd_descente[tons]),0) -> 1.03 | AK15: =IFERROR(SUMPRODUCT(--(tbl_bd_descente[wo_number]=W15),tbl_bd_descente[S],tbl_bd_descente[tons])/SUMIF(tbl_bd_descente[wo_number],W15,tbl_bd_descente[tons]),0) -> 0.031 | AO15: =IF(AND(C15=S$2,D15=S$3,COUNTIF(AO$1:AO14,">"&1)<10),ROW(),"") | AQ15: =SUMIF(AR4:AR13,">"&0,AQ4:AQ13)/COUNTIF(AR4:AR13,">"&0) -> 78.277778 | AR15: =SUM(AR4:AR13)/COUNTIF(AR4:AR13,">"&0) -> 263.52722
A16: C4279 | B16: 2EME TALQUEUSE | C16: T02 | D16: 2EME TALQUEUSE | E16: 328.273 | F16: 72.4 | G16: 76.3 | H16: 82.5 | I16: 4.37 | J16: 1.11 | K16: 31.6 | L16: 1.07 | M16: 43776.479 | N16: 43776.509 | O16: C1615 | W16: 019/295/004 | X16: 43760.878 | Y16: 1122 | Z16: 1ERE TO | AA16: T06 | AB16: 1ERE TO | AC16: 2019 | AD16: 10 | AE16: STT | AF16: =IFERROR(SUMPRODUCT(--(tbl_bd_descente[wo_number]=W16),tbl_bd_descente[Y],tbl_bd_descente[tons])/SUMIF(tbl_bd_descente[wo_number],W16,tbl_bd_descente[tons]),0) -> 82.482531 | AG16: =IFERROR(SUMPRODUCT(--(tbl_bd_descente[wo_number]=W16),tbl_bd_descente[Al2O3],tbl_bd_descente[tons])/SUMIF(tbl_bd_descente[wo_number],W16,tbl_bd_descente[tons]),0) -> 8.3200891 | AH16: =IFERROR(SUMPRODUCT(--(tbl_bd_descente[wo_number]=W16),tbl_bd_descente[Fe2O3],tbl_bd_descente[tons])/SUMIF(tbl_bd_descente[wo_number],W16,tbl_bd_descente[tons]),0) -> 1.2282709 | AI16: =IFERROR(SUMPRODUCT(--(tbl_bd_descente[wo_number]=W16),tbl_bd_descente[MgO],tbl_bd_descente[tons])/SUMIF(tbl_bd_descente[wo_number],W16,tbl_bd_descente[tons]),0) -> 32.072442 | AJ16: =IFERROR(SUMPRODUCT(--(tbl_bd_descente[wo_number]=W16),tbl_bd_descente[CaOX],tbl_bd_descente[tons])/SUMIF(tbl_bd_descente[wo_number],W16,tbl_bd_descente[tons]),0) -> 0.63991087 | AK16: =IFERROR(SUMPRODUCT(--(tbl_bd_descente[wo_number]=W16),tbl_bd_descente[S],tbl_bd_descente[tons])/SUMIF(tbl_bd_descente[wo_number],W16,tbl_bd_descente[tons]),0) -> 0.041331551 | AO16: =IF(AND(C16=S$2,D16=S$3,COUNTIF(AO$1:AO15,">"&1)<10),ROW(),"")
A17: C4285 | B17: 3 EME | C17: T19 | D17: 3 EME | E17: 256.06 | F17: 70.4 | G17: 74.3 | H17: 80.5 | I17: 5.09 | J17: 1.06 | K17: 31.62 | L17: 0.33 | M17: 43776.365 | N17: 43776.392 | O17: C1625 | W17: 019/295/003 | X17: 43760.535 | Y17: 129 | Z17: OXO TO | AA17: T07 | AB17: OXO TO | AC17: 2019 | AD17: 10 | AE17: STT | AF17: =IFERROR(SUMPRODUCT(--(tbl_bd_descente[wo_number]=W17),tbl_bd_descente[Y],tbl_bd_descente[tons])/SUMIF(tbl_bd_descente[wo_number],W17,tbl_bd_descente[tons]),0) -> 84.6 | AG17: =IFERROR(SUMPRODUCT(--(tbl_bd_descente[wo_number]=W17),tbl_bd_descente[Al2O3],tbl_bd_descente[tons])/SUMIF(tbl_bd_descente[wo_number],W17,tbl_bd_descente[tons]),0) -> 2.69 | AH17: =IFERROR(SUMPRODUCT(--(tbl_bd_descente[wo_number]=W17),tbl_bd_descente[Fe2O3],tbl_bd_descente[tons])/SUMIF(tbl_bd_descente[wo_number],W17,tbl_bd_descente[tons]),0) -> 0.78 | AI17: =IFERROR(SUMPRODUCT(--(tbl_bd_descente[wo_number]=W17),tbl_bd_descente[MgO],tbl_bd_descente[tons])/SUMIF(tbl_bd_descente[wo_number],W17,tbl_bd_descente[tons]),0) -> 31.53 | AJ17: =IFERROR(SUMPRODUCT(--(tbl_bd_descente[wo_number]=W17),tbl_bd_descente[CaOX],tbl_bd_descente[tons])/SUMIF(tbl_bd_descente[wo_number],W17,tbl_bd_descente[tons]),0) -> 0.32 | AK17: =IFERROR(SUMPRODUCT(--(tbl_bd_descente[wo_number]=W17),tbl_bd_descente[S],tbl_bd_descente[tons])/SUMIF(tbl_bd_descente[wo_number],W17,tbl_bd_descente[tons]),0) -> 0.05 | AO17: =IF(AND(C17=S$2,D17=S$3,COUNTIF(AO$1:AO16,">"&1)<10),ROW(),"")
A18: C4284 | B18: 3 EME | C18: T19 | D18: 3 EME | E18: 586.31799 | F18: 66.3 | G18: 70 | H18: 75.2 | I18: 13.23 | J18: 1.57 | K18: 32.4 | L18: 0.38 | M18: 43776.294 | N18: 43776.347 | O18: C1630 | T18: Moyenne Pondéré dernière valeur : NB en U15 | U18: =SUMPRODUCT(OFFSET(G3,COUNTA(Piles[Y])-U15+1,,U15,),OFFSET(E3,COUNTA(Piles[tons])-U15+1,,U15,)/SUM(OFFSET(E3,COUNTA(Piles[tons])-U15+1,,U15,))) -> #VALUE! | W18: 019/295/003 | X18: 43760.535 | Y18: 129 | Z18: 00 TO | AA18: T15 | AB18: OXO TO | AC18: 2019 | AD18: 10 | AE18: 2 A | AF18: =IFERROR(SUMPRODUCT(--(tbl_bd_descente[wo_number]=W18),tbl_bd_descente[Y],tbl_bd_descente[tons])/SUMIF(tbl_bd_descente[wo_number],W18,tbl_bd_descente[tons]),0) -> 84.6 | AG18: =IFERROR(SUMPRODUCT(--(tbl_bd_descente[wo_number]=W18),tbl_bd_descente[Al2O3],tbl_bd_descente[tons])/SUMIF(tbl_bd_descente[wo_number],W18,tbl_bd_descente[tons]),0) -> 2.69 | AH18: =IFERROR(SUMPRODUCT(--(tbl_bd_descente[wo_number]=W18),tbl_bd_descente[Fe2O3],tbl_bd_descente[tons])/SUMIF(tbl_bd_descente[wo_number],W18,tbl_bd_descente[tons]),0) -> 0.78 | AI18: =IFERROR(SUMPRODUCT(--(tbl_bd_descente[wo_number]=W18),tbl_bd_descente[MgO],tbl_bd_descente[tons])/SUMIF(tbl_bd_descente[wo_number],W18,tbl_bd_descente[tons]),0) -> 31.53 | AJ18: =IFERROR(SUMPRODUCT(--(tbl_bd_descente[wo_number]=W18),tbl_bd_descente[CaOX],tbl_bd_descente[tons])/SUMIF(tbl_bd_descente[wo_number],W18,tbl_bd_descente[tons]),0) -> 0.32 | AK18: =IFERROR(SUMPRODUCT(--(tbl_bd_descente[wo_number]=W18),tbl_bd_descente[S],tbl_bd_descente[tons])/SUMIF(tbl_bd_descente[wo_number],W18,tbl_bd_descente[tons]),0) -> 0.05 | AO18: =IF(AND(C18=S$2,D18=S$3,COUNTIF(AO$1:AO17,">"&1)<10),ROW(),"")
A19: C4287 | B19: 3 EME | C19: T19 | D19: 3 EME | E19: 404.105 | F19: 66.2 | G19: 69.8 | H19: 75.1 | I19: 8.76 | J19: 1.41 | K19: 31.9 | L19: 0.57 | M19: 43776.239 | N19: 43776.753 | O19: C1625 | U19: =COUNTIF(AA:AA,S2) -> 38 | W19: 019/295/002 | X19: 43760.455 | Y19: 686.66667 | Z19: OXO TO | AA19: T07 | AB19: OXO TO | AC19: 2019 | AD19: 10 | AE19: 2 A | AF19: =IFERROR(SUMPRODUCT(--(tbl_bd_descente[wo_number]=W19),tbl_bd_descente[Y],tbl_bd_descente[tons])/SUMIF(tbl_bd_descente[wo_number],W19,tbl_bd_descente[tons]),0) -> 85.937864 | AG19: =IFERROR(SUMPRODUCT(--(tbl_bd_descente[wo_number]=W19),tbl_bd_descente[Al2O3],tbl_bd_descente[tons])/SUMIF(tbl_bd_descente[wo_number],W19,tbl_bd_descente[tons]),0) -> 2.9746602 | AH19: =IFERROR(SUMPRODUCT(--(tbl_bd_descente[wo_number]=W19),tbl_bd_descente[Fe2O3],tbl_bd_descente[tons])/SUMIF(tbl_bd_descente[wo_number],W19,tbl_bd_descente[tons]),0) -> 0.79165049 | AI19: =IFERROR(SUMPRODUCT(--(tbl_bd_descente[wo_number]=W19),tbl_bd_descente[MgO],tbl_bd_descente[tons])/SUMIF(tbl_bd_descente[wo_number],W19,tbl_bd_descente[tons]),0) -> 31.294757 | AJ19: =IFERROR(SUMPRODUCT(--(tbl_bd_descente[wo_number]=W19),tbl_bd_descente[CaOX],tbl_bd_descente[tons])/SUMIF(tbl_bd_descente[wo_number],W19,tbl_bd_descente[tons]),0) -> 0.53174757 | AK19: =IFERROR(SUMPRODUCT(--(tbl_bd_descente[wo_number]=W19),tbl_bd_descente[S],tbl_bd_descente[tons])/SUMIF(tbl_bd_descente[wo_number],W19,tbl_bd_descente[tons]),0) -> 0.043281553 | AO19: =IF(AND(C19=S$2,D19=S$3,COUNTIF(AO$1:AO18,">"&1)<10),ROW(),"")
A20: A5144 | B20: 1ERE TO | C20: T14 | D20: 1ERE TO | E20: 182.245 | F20: 81.3 | G20: 85.7 | H20: 92.5 | I20: 5.95 | J20: 0.84 | K20: 31.9 | L20: 0.59 | M20: 43775.855 | N20: 43775.869 | O20: A1615 | W20: 019/295/002 | X20: 43760.455 | Y20: 343.33333 | Z20: 00 TO | AA20: T15 | AB20: OXO TO | AC20: 2019 | AD20: 10 | AE20: 2 A | AF20: =IFERROR(SUMPRODUCT(--(tbl_bd_descente[wo_number]=W20),tbl_bd_descente[Y],tbl_bd_descente[tons])/SUMIF(tbl_bd_descente[wo_number],W20,tbl_bd_descente[tons]),0) -> 85.937864 | AG20: =IFERROR(SUMPRODUCT(--(tbl_bd_descente[wo_number]=W20),tbl_bd_descente[Al2O3],tbl_bd_descente[tons])/SUMIF(tbl_bd_descente[wo_number],W20,tbl_bd_descente[tons]),0) -> 2.9746602 | AH20: =IFERROR(SUMPRODUCT(--(tbl_bd_descente[wo_number]=W20),tbl_bd_descente[Fe2O3],tbl_bd_descente[tons])/SUMIF(tbl_bd_descente[wo_number],W20,tbl_bd_descente[tons]),0) -> 0.79165049 | AI20: =IFERROR(SUMPRODUCT(--(tbl_bd_descente[wo_number]=W20),tbl_bd_descente[MgO],tbl_bd_descente[tons])/SUMIF(tbl_bd_descente[wo_number],W20,tbl_bd_descente[tons]),0) -> 31.294757 | AJ20: =IFERROR(SUMPRODUCT(--(tbl_bd_descente[wo_number]=W20),tbl_bd_descente[CaOX],tbl_bd_descente[tons])/SUMIF(tbl_bd_descente[wo_number],W20,tbl_bd_descente[tons]),0) -> 0.53174757 | AK20: =IFERROR(SUMPRODUCT(--(tbl_bd_descente[wo_number]=W20),tbl_bd_descente[S],tbl_bd_descente[tons])/SUMIF(tbl_bd_descente[wo_number],W20,tbl_bd_descente[tons]),0) -> 0.043281553 | AO20: =IF(AND(C20=S$2,D20=S$3,COUNTIF(AO$1:AO19,">"&1)<10),ROW(),"")
A21: A5136 | B21: 1ERE TO | C21: T06 | D21: 1ERE TO | E21: 181.46 | F21: 78.4 | G21: 82.6 | H21: 89.6 | I21: 4.64 | J21: 0.79 | K21: 31.66 | L21: 0.7 | M21: 43775.835 | N21: 43775.851 | O21: A1615 | R21: =SUM(IF(Piles[Destination]=S2,,OFFSET(E3,COUNTA(Piles[tons])>0-U15+1,,U15,))) -> #VALUE! | T21: =SUMPRODUCT((Piles[Destination]=S2)*(Piles[GradeDest]=S3,OFFSET(G3,COUNTA(Piles[Y])-U15+1,,U15,),OFFSET(E3,COUNTA(Piles[tons])-U15+1,,U15,))) -> #VALUE! | W21: 019/295/001 | X21: 43760.179 | Y21: 300 | Z21: 3 EME | AA21: T19 | AB21: 3 EME | AC21: 2019 | AD21: 10 | AE21: STT | AF21: =IFERROR(SUMPRODUCT(--(tbl_bd_descente[wo_number]=W21),tbl_bd_descente[Y],tbl_bd_descente[tons])/SUMIF(tbl_bd_descente[wo_number],W21,tbl_bd_descente[tons]),0) -> 74.833333 | AG21: =IFERROR(SUMPRODUCT(--(tbl_bd_descente[wo_number]=W21),tbl_bd_descente[Al2O3],tbl_bd_descente[tons])/SUMIF(tbl_bd_descente[wo_number],W21,tbl_bd_descente[tons]),0) -> 8.12 | AH21: =IFERROR(SUMPRODUCT(--(tbl_bd_descente[wo_number]=W21),tbl_bd_descente[Fe2O3],tbl_bd_descente[tons])/SUMIF(tbl_bd_descente[wo_number],W21,tbl_bd_descente[tons]),0) -> 1.54 | AI21: =IFERROR(SUMPRODUCT(--(tbl_bd_descente[wo_number]=W21),tbl_bd_descente[MgO],tbl_bd_descente[tons])/SUMIF(tbl_bd_descente[wo_number],W21,tbl_bd_descente[tons]),0) -> 31.69 | AJ21: =IFERROR(SUMPRODUCT(--(tbl_bd_descente[wo_number]=W21),tbl_bd_descente[CaOX],tbl_bd_descente[tons])/SUMIF(tbl_bd_descente[wo_number],W21,tbl_bd_descente[tons]),0) -> 1.7333333 | AK21: =IFERROR(SUMPRODUCT(--(tbl_bd_descente[wo_number]=W21),tbl_bd_descente[S],tbl_bd_descente[tons])/SUMIF(tbl_bd_descente[wo_number],W21,tbl_bd_descente[tons]),0) -> 0.10666667 | AO21: =IF(AND(C21=S$2,D21=S$3,COUNTIF(AO$1:AO20,">"&1)<10),ROW(),"")
A22: A5135 | B22: 2EME TO | C22: T04 | D22: 2EME TO | E22: 182.645 | F22: 79.7 | G22: 83.9 | H22: 91.1 | I22: 2.32 | J22: 0.67 | K22: 31.5 | L22: 0.96 | M22: 43775.82 | N22: 43775.832 | O22: A1615 | W22: 019/295/001 | X22: 43760.179 | Y22: 150 | Z22: 3 EME | AA22: T09 | AB22: 3 EME | AC22: 2019 | AD22: 10 | AE22: 2 A | AF22: =IFERROR(SUMPRODUCT(--(tbl_bd_descente[wo_number]=W22),tbl_bd_descente[Y],tbl_bd_descente[tons])/SUMIF(tbl_bd_descente[wo_number],W22,tbl_bd_descente[tons]),0) -> 74.833333 | AG22: =IFERROR(SUMPRODUCT(--(tbl_bd_descente[wo_number]=W22),tbl_bd_descente[Al2O3],tbl_bd_descente[tons])/SUMIF(tbl_bd_descente[wo_number],W22,tbl_bd_descente[tons]),0) -> 8.12 | AH22: =IFERROR(SUMPRODUCT(--(tbl_bd_descente[wo_number]=W22),tbl_bd_descente[Fe2O3],tbl_bd_descente[tons])/SUMIF(tbl_bd_descente[wo_number],W22,tbl_bd_descente[tons]),0) -> 1.54 | AI22: =IFERROR(SUMPRODUCT(--(tbl_bd_descente[wo_number]=W22),tbl_bd_descente[MgO],tbl_bd_descente[tons])/SUMIF(tbl_bd_descente[wo_number],W22,tbl_bd_descente[tons]),0) -> 31.69 | AJ22: =IFERROR(SUMPRODUCT(--(tbl_bd_descente[wo_number]=W22),tbl_bd_descente[CaOX],tbl_bd_descente[tons])/SUMIF(tbl_bd_descente[wo_number],W22,tbl_bd_descente[tons]),0) -> 1.7333333 | AK22: =IFERROR(SUMPRODUCT(--(tbl_bd_descente[wo_number]=W22),tbl_bd_descente[S],tbl_bd_descente[tons])/SUMIF(tbl_bd_descente[wo_number],W22,tbl_bd_descente[tons]),0) -> 0.10666667 | AO22: =IF(AND(C22=S$2,D22=S$3,COUNTIF(AO$1:AO21,">"&1)<10),ROW(),"")
A23: A5134 | B23: 1ERE TO | C23: T06 | D23: 1ERE TO | E23: 182.245 | F23: 77.3 | G23: 81.5 | H23: 88.5 | I23: 1.86 | J23: 0.58 | K23: 31.32 | L23: 2.6 | M23: 43775.801 | N23: 43775.815 | O23: A1615 | W23: 019/294/006 | X23: 43760.073 | Y23: 600 | Z23: 3 EME | AA23: T19 | AB23: 3 EME | AC23: 2019 | AD23: 10 | AE23: 2 A | AF23: =IFERROR(SUMPRODUCT(--(tbl_bd_descente[wo_number]=W23),tbl_bd_descente[Y],tbl_bd_descente[tons])/SUMIF(tbl_bd_descente[wo_number],W23,tbl_bd_descente[tons]),0) -> 75.1 | AG23: =IFERROR(SUMPRODUCT(--(tbl_bd_descente[wo_number]=W23),tbl_bd_descente[Al2O3],tbl_bd_descente[tons])/SUMIF(tbl_bd_descente[wo_number],W23,tbl_bd_descente[tons]),0) -> 7.4933333 | AH23: =IFERROR(SUMPRODUCT(--(tbl_bd_descente[wo_number]=W23),tbl_bd_descente[Fe2O3],tbl_bd_descente[tons])/SUMIF(tbl_bd_descente[wo_number],W23,tbl_bd_descente[tons]),0) -> 1.44 | AI23: =IFERROR(SUMPRODUCT(--(tbl_bd_descente[wo_number]=W23),tbl_bd_descente[MgO],tbl_bd_descente[tons])/SUMIF(tbl_bd_descente[wo_number],W23,tbl_bd_descente[tons]),0) -> 31.693333 | AJ23: =IFERROR(SUMPRODUCT(--(tbl_bd_descente[wo_number]=W23),tbl_bd_descente[CaOX],tbl_bd_descente[tons])/SUMIF(tbl_bd_descente[wo_number],W23,tbl_bd_descente[tons]),0) -> 0.83333333 | AK23: =IFERROR(SUMPRODUCT(--(tbl_bd_descente[wo_number]=W23),tbl_bd_descente[S],tbl_bd_descente[tons])/SUMIF(tbl_bd_descente[wo_number],W23,tbl_bd_descente[tons]),0) -> 0.10833333 | AO23: =IF(AND(C23=S$2,D23=S$3,COUNTIF(AO$1:AO22,">"&1)<10),ROW(),"")
A24: A5141 | B24: 2EME TO | C24: T01 | D24: 2EME TO | E24: 328.245 | F24: 77.3 | G24: 81.6 | H24: 88.5 | I24: 2 | J24: 0.72 | K24: 31.37 | L24: 0.45 | M24: 43775.765 | N24: 43775.796 | O24: A1615 | R24: =SUMPRODUCT((Piles[Destination]=Données!B15)*(Piles[tons]<=0)*OFFSET(G3,COUNTA(Piles[Y])-Données!B12+1,,Données!B12,),OFFSET(E3,COUNTA(Piles[tons])-Données!B12+1,,Données!B12,)) -> #VALUE! | W24: 019/294/006 | X24: 43760.073 | Y24: 300 | Z24: 3 EME | AA24: T09 | AB24: 3 EME | AC24: 2019 | AD24: 10 | AE24: 2 A | AF24: =IFERROR(SUMPRODUCT(--(tbl_bd_descente[wo_number]=W24),tbl_bd_descente[Y],tbl_bd_descente[tons])/SUMIF(tbl_bd_descente[wo_number],W24,tbl_bd_descente[tons]),0) -> 75.1 | AG24: =IFERROR(SUMPRODUCT(--(tbl_bd_descente[wo_number]=W24),tbl_bd_descente[Al2O3],tbl_bd_descente[tons])/SUMIF(tbl_bd_descente[wo_number],W24,tbl_bd_descente[tons]),0) -> 7.4933333 | AH24: =IFERROR(SUMPRODUCT(--(tbl_bd_descente[wo_number]=W24),tbl_bd_descente[Fe2O3],tbl_bd_descente[tons])/SUMIF(tbl_bd_descente[wo_number],W24,tbl_bd_descente[tons]),0) -> 1.44 | AI24: =IFERROR(SUMPRODUCT(--(tbl_bd_descente[wo_number]=W24),tbl_bd_descente[MgO],tbl_bd_descente[tons])/SUMIF(tbl_bd_descente[wo_number],W24,tbl_bd_descente[tons]),0) -> 31.693333 | AJ24: =IFERROR(SUMPRODUCT(--(tbl_bd_descente[wo_number]=W24),tbl_bd_descente[CaOX],tbl_bd_descente[tons])/SUMIF(tbl_bd_descente[wo_number],W24,tbl_bd_descente[tons]),0) -> 0.83333333 | AK24: =IFERROR(SUMPRODUCT(--(tbl_bd_descente[wo_number]=W24),tbl_bd_descente[S],tbl_bd_descente[tons])/SUMIF(tbl_bd_descente[wo_number],W24,tbl_bd_descente[tons]),0) -> 0.10833333 | AO24: =IF(AND(C24=S$2,D24=S$3,COUNTIF(AO$1:AO23,">"&1)<10),ROW(),"") -> 24
A25: A5139 | B25: 1ERE TO | C25: T06 | D25: 1ERE TO | E25: 255.475 | F25: 79.7 | G25: 84 | H25: 91 | I25: 3.36 | J25: 0.61 | K25: 31.52 | L25: 0.42 | M25: 43775.707 | N25: 43775.731 | O25: A1615 | R25: =IF(OR(Piles[Destination]=Données!B15),(Piles[GradeDest]=Données!B16),SUM(OFFSET(E3,COUNTA(Piles[tons])-Données!B12+1,,Données!B12,))) -> #VALUE! | T25: 3358 | W25: 019/294/005 | X25: 43759.847 | Y25: 485.33333 | Z25: 3 EME | AA25: T09 | AB25: 3 EME | AC25: 2019 | AD25: 10 | AE25: STT | AF25: =IFERROR(SUMPRODUCT(--(tbl_bd_descente[wo_number]=W25),tbl_bd_descente[Y],tbl_bd_descente[tons])/SUMIF(tbl_bd_descente[wo_number],W25,tbl_bd_descente[tons]),0) -> 74.01978 | AG25: =IFERROR(SUMPRODUCT(--(tbl_bd_descente[wo_number]=W25),tbl_bd_descente[Al2O3],tbl_bd_descente[tons])/SUMIF(tbl_bd_descente[wo_number],W25,tbl_bd_descente[tons]),0) -> 8.9432967 | AH25: =IFERROR(SUMPRODUCT(--(tbl_bd_descente[wo_number]=W25),tbl_bd_descente[Fe2O3],tbl_bd_descente[tons])/SUMIF(tbl_bd_descente[wo_number],W25,tbl_bd_descente[tons]),0) -> 1.6045055 | AI25: =IFERROR(SUMPRODUCT(--(tbl_bd_descente[wo_number]=W25),tbl_bd_descente[MgO],tbl_bd_descente[tons])/SUMIF(tbl_bd_descente[wo_number],W25,tbl_bd_descente[tons]),0) -> 31.849011 | AJ25: =IFERROR(SUMPRODUCT(--(tbl_bd_descente[wo_number]=W25),tbl_bd_descente[CaOX],tbl_bd_descente[tons])/SUMIF(tbl_bd_descente[wo_number],W25,tbl_bd_descente[tons]),0) -> 0.79043956 | AK25: =IFERROR(SUMPRODUCT(--(tbl_bd_descente[wo_number]=W25),tbl_bd_descente[S],tbl_bd_descente[tons])/SUMIF(tbl_bd_descente[wo_number],W25,tbl_bd_descente[tons]),0) -> 0.099989011 | AO25: =IF(AND(C25=S$2,D25=S$3,COUNTIF(AO$1:AO24,">"&1)<10),ROW(),"")
A26: A5138 | B26: 2EME TO | C26: T01 | D26: 2EME TO | E26: 254.875 | F26: 77.7 | G26: 81.9 | H26: 88.9 | I26: 1.66 | J26: 0.71 | K26: 31.34 | L26: 0.56 | M26: 43775.683 | N26: 43775.706 | O26: A1615 | W26: 019/294/005 | X26: 43759.847 | Y26: 242.66667 | Z26: 3 EME | AA26: T19 | AB26: 3 EME | AC26: 2019 | AD26: 10 | AE26: STT | AF26: =IFERROR(SUMPRODUCT(--(tbl_bd_descente[wo_number]=W26),tbl_bd_descente[Y],tbl_bd_descente[tons])/SUMIF(tbl_bd_descente[wo_number],W26,tbl_bd_descente[tons]),0) -> 74.01978 | AG26: =IFERROR(SUMPRODUCT(--(tbl_bd_descente[wo_number]=W26),tbl_bd_descente[Al2O3],tbl_bd_descente[tons])/SUMIF(tbl_bd_descente[wo_number],W26,tbl_bd_descente[tons]),0) -> 8.9432967 | AH26: =IFERROR(SUMPRODUCT(--(tbl_bd_descente[wo_number]=W26),tbl_bd_descente[Fe2O3],tbl_bd_descente[tons])/SUMIF(tbl_bd_descente[wo_number],W26,tbl_bd_descente[tons]),0) -> 1.6045055 | AI26: =IFERROR(SUMPRODUCT(--(tbl_bd_descente[wo_number]=W26),tbl_bd_descente[MgO],tbl_bd_descente[tons])/SUMIF(tbl_bd_descente[wo_number],W26,tbl_bd_descente[tons]),0) -> 31.849011 | AJ26: =IFERROR(SUMPRODUCT(--(tbl_bd_descente[wo_number]=W26),tbl_bd_descente[CaOX],tbl_bd_descente[tons])/SUMIF(tbl_bd_descente[wo_number],W26,tbl_bd_descente[tons]),0) -> 0.79043956 | AK26: =IFERROR(SUMPRODUCT(--(tbl_bd_descente[wo_number]=W26),tbl_bd_descente[S],tbl_bd_descente[tons])/SUMIF(tbl_bd_descente[wo_number],W26,tbl_bd_descente[tons]),0) -> 0.099989011 | AO26: =IF(AND(C26=S$2,D26=S$3,COUNTIF(AO$1:AO25,">"&1)<10),ROW(),"") -> 26
A27: A5137 | B27: OXO TO | C27: T13 | D27: OXO TO | E27: 217.86 | F27: 80 | G27: 84.3 | H27: 91.6 | I27: 0.97 | J27: 0.51 | K27: 31.32 | L27: 0.32 | M27: 43775.659 | N27: 43775.674 | O27: A1615 | W27: 019/294/004 | X27: 43759.654 | Y27: 109.33333 | Z27: 3 EME | AA27: T09 | AB27: 3 EME | AC27: 2019 | AD27: 10 | AE27: 2 A | AF27: =IFERROR(SUMPRODUCT(--(tbl_bd_descente[wo_number]=W27),tbl_bd_descente[Y],tbl_bd_descente[tons])/SUMIF(tbl_bd_descente[wo_number],W27,tbl_bd_descente[tons]),0) -> 75.5 | AG27: =IFERROR(SUMPRODUCT(--(tbl_bd_descente[wo_number]=W27),tbl_bd_descente[Al2O3],tbl_bd_descente[tons])/SUMIF(tbl_bd_descente[wo_number],W27,tbl_bd_descente[tons]),0) -> 7.96 | AH27: =IFERROR(SUMPRODUCT(--(tbl_bd_descente[wo_number]=W27),tbl_bd_descente[Fe2O3],tbl_bd_descente[tons])/SUMIF(tbl_bd_descente[wo_number],W27,tbl_bd_descente[tons]),0) -> 1.45 | AI27: =IFERROR(SUMPRODUCT(--(tbl_bd_descente[wo_number]=W27),tbl_bd_descente[MgO],tbl_bd_descente[tons])/SUMIF(tbl_bd_descente[wo_number],W27,tbl_bd_descente[tons]),0) -> 31.86 | AJ27: =IFERROR(SUMPRODUCT(--(tbl_bd_descente[wo_number]=W27),tbl_bd_descente[CaOX],tbl_bd_descente[tons])/SUMIF(tbl_bd_descente[wo_number],W27,tbl_bd_descente[tons]),0) -> 0.72 | AK27: =IFERROR(SUMPRODUCT(--(tbl_bd_descente[wo_number]=W27),tbl_bd_descente[S],tbl_bd_descente[tons])/SUMIF(tbl_bd_descente[wo_number],W27,tbl_bd_descente[tons]),0) -> 0.094 | AO27: =IF(AND(C27=S$2,D27=S$3,COUNTIF(AO$1:AO26,">"&1)<10),ROW(),"")
A28: A5133 | B28: 1 ERE BLANCHE | C28: T29 | D28: 1 ERE BLANCHE | E28: 472.02 | F28: 80.5 | G28: 84.9 | H28: 91.4 | I28: 9.16 | J28: 0.87 | K28: 32.25 | L28: 0.8 | M28: 43775.595 | N28: 43775.643 | O28: A1615 | Q28: Je cherche à réaliser une moyenne pondéré sur le nombre de valeurs noté en U15 ici en jaune mais uniquement avec destination T01 (colonne C) et un gradedest qui est 2EME TO (colonne D), de plus il y a des valeurs nulles qu'il ne faut pas prendre en compte. Sur les deux cases en vert j'ai fait des essais : je récupère bien les 10 dernière valeurs mais pas avec les conditions que je souhaite. Sur les deux écriture rouge, j'ai également essayer des pistes qui ne sont pas concluante. Si je baisse la valeurs de la cases jaune à 5 la valeur de U18 devient "#DIV/0!" car il ya des valeurs nulles dans la colonne tons (colonne E). Je ne supprime pas les lignes car c'est une base automatique et les lignes reviendrons à chaque mise à jour | W28: 019/294/004 | X28: 43759.654 | Y28: 54.666667 | Z28: 3 EME | AA28: T19 | AB28: 3 EME | AC28: 2019 | AD28: 10 | AE28: 2 A | AF28: =IFERROR(SUMPRODUCT(--(tbl_bd_descente[wo_number]=W28),tbl_bd_descente[Y],tbl_bd_descente[tons])/SUMIF(tbl_bd_descente[wo_number],W28,tbl_bd_descente[tons]),0) -> 75.5 | AG28: =IFERROR(SUMPRODUCT(--(tbl_bd_descente[wo_number]=W28),tbl_bd_descente[Al2O3],tbl_bd_descente[tons])/SUMIF(tbl_bd_descente[wo_number],W28,tbl_bd_descente[tons]),0) -> 7.96 | AH28: =IFERROR(SUMPRODUCT(--(tbl_bd_descente[wo_number]=W28),tbl_bd_descente[Fe2O3],tbl_bd_descente[tons])/SUMIF(tbl_bd_descente[wo_number],W28,tbl_bd_descente[tons]),0) -> 1.45 | AI28: =IFERROR(SUMPRODUCT(--(tbl_bd_descente[wo_number]=W28),tbl_bd_descente[MgO],tbl_bd_descente[tons])/SUMIF(tbl_bd_descente[wo_number],W28,tbl_bd_descente[tons]),0) -> 31.86 | AJ28: =IFERROR(SUMPRODUCT(--(tbl_bd_descente[wo_number]=W28),tbl_bd_descente[CaOX],tbl_bd_descente[tons])/SUMIF(tbl_bd_descente[wo_number],W28,tbl_bd_descente[tons]),0) -> 0.72 | AK28: =IFERROR(SUMPRODUCT(--(tbl_bd_descente[wo_number]=W28),tbl_bd_descente[S],tbl_bd_descente[tons])/SUMIF(tbl_bd_descente[wo_number],W28,tbl_bd_descente[tons]),0) -> 0.094 | AO28: =IF(AND(C28=S$2,D28=S$3,COUNTIF(AO$1:AO27,">"&1)<10),ROW(),"")
A29: A5123 | B29: 1ERE TALQUEUSE | C29: T13 | D29: OXO TO | E29: 144.43 | F29: 79.5 | G29: 83.5 | H29: 91.3 | I29: 2.5 | J29: 0.67 | K29: 31.44 | L29: 0.4 | M29: 43775.578 | N29: 43775.654 | O29: A1615 | W29: 019/294/003 | X29: 43759.556 | Y29: 900 | Z29: 3 EME | AA29: T08 | AB29: 3 EME | AC29: 2019 | AD29: 10 | AE29: STT | AF29: =IFERROR(SUMPRODUCT(--(tbl_bd_descente[wo_number]=W29),tbl_bd_descente[Y],tbl_bd_descente[tons])/SUMIF(tbl_bd_descente[wo_number],W29,tbl_bd_descente[tons]),0) -> 75.233333 | AG29: =IFERROR(SUMPRODUCT(--(tbl_bd_descente[wo_number]=W29),tbl_bd_descente[Al2O3],tbl_bd_descente[tons])/SUMIF(tbl_bd_descente[wo_number],W29,tbl_bd_descente[tons]),0) -> 6.35 | AH29: =IFERROR(SUMPRODUCT(--(tbl_bd_descente[wo_number]=W29),tbl_bd_descente[Fe2O3],tbl_bd_descente[tons])/SUMIF(tbl_bd_descente[wo_number],W29,tbl_bd_descente[tons]),0) -> 1.3166667 | AI29: =IFERROR(SUMPRODUCT(--(tbl_bd_descente[wo_number]=W29),tbl_bd_descente[MgO],tbl_bd_descente[tons])/SUMIF(tbl_bd_descente[wo_number],W29,tbl_bd_descente[tons]),0) -> 31.603333 | AJ29: =IFERROR(SUMPRODUCT(--(tbl_bd_descente[wo_number]=W29),tbl_bd_descente[CaOX],tbl_bd_descente[tons])/SUMIF(tbl_bd_descente[wo_number],W29,tbl_bd_descente[tons]),0) -> 1.63 | AK29: =IFERROR(SUMPRODUCT(--(tbl_bd_descente[wo_number]=W29),tbl_bd_descente[S],tbl_bd_descente[tons])/SUMIF(tbl_bd_descente[wo_number],W29,tbl_bd_descente[tons]),0) -> 0.099666667 | AO29: =IF(AND(C29=S$2,D29=S$3,COUNTIF(AO$1:AO28,">"&1)<10),ROW(),"")
A30: A5132 | B30: OXO TO | C30: T13 | D30: OXO TO | E30: 146.13 | F30: 78.9 | G30: 83.1 | H30: 90.2 | I30: 2.46 | J30: 0.66 | K30: 31.43 | L30: 1.4 | M30: 43775.557 | N30: 43775.573 | O30: A1615 | W30: 019/294/002 | X30: 43759.347 | Y30: 628 | Z30: OXO TO | AA30: T07 | AB30: OXO TO | AC30: 2019 | AD30: 10 | AE30: STT | AF30: =IFERROR(SUMPRODUCT(--(tbl_bd_descente[wo_number]=W30),tbl_bd_descente[Y],tbl_bd_descente[tons])/SUMIF(tbl_bd_descente[wo_number],W30,tbl_bd_descente[tons]),0) -> 85.328025 | AG30: =IFERROR(SUMPRODUCT(--(tbl_bd_descente[wo_number]=W30),tbl_bd_descente[Al2O3],tbl_bd_descente[tons])/SUMIF(tbl_bd_descente[wo_number],W30,tbl_bd_descente[tons]),0) -> 4.5463057 | AH30: =IFERROR(SUMPRODUCT(--(tbl_bd_descente[wo_number]=W30),tbl_bd_descente[Fe2O3],tbl_bd_descente[tons])/SUMIF(tbl_bd_descente[wo_number],W30,tbl_bd_descente[tons]),0) -> 0.9755414 | AI30: =IFERROR(SUMPRODUCT(--(tbl_bd_descente[wo_number]=W30),tbl_bd_descente[MgO],tbl_bd_descente[tons])/SUMIF(tbl_bd_descente[wo_number],W30,tbl_bd_descente[tons]),0) -> 31.486497 | AJ30: =IFERROR(SUMPRODUCT(--(tbl_bd_descente[wo_number]=W30),tbl_bd_descente[CaOX],tbl_bd_descente[tons])/SUMIF(tbl_bd_descente[wo_number],W30,tbl_bd_descente[tons]),0) -> 0.71993631 | AK30: =IFERROR(SUMPRODUCT(--(tbl_bd_descente[wo_number]=W30),tbl_bd_descente[S],tbl_bd_descente[tons])/SUMIF(tbl_bd_descente[wo_number],W30,tbl_bd_descente[tons]),0) -> 0.053267516 | AO30: =IF(AND(C30=S$2,D30=S$3,COUNTIF(AO$1:AO29,">"&1)<10),ROW(),"")
A31: A5125 | B31: 2EME TO | C31: T01 | D31: 2EME TO | E31: 254.775 | F31: 72.9 | G31: 76.9 | H31: 84 | I31: 2.07 | J31: 0.68 | K31: 31.23 | L31: 0.76 | M31: 43775.52 | N31: 43775.553 | O31: A1615 | W31: 019/294/001 | X31: 43759.185 | Y31: 293.33333 | Z31: 3 EME | AA31: T09 | AB31: 3 EME | AC31: 2019 | AD31: 10 | AE31: 2 A | AF31: =IFERROR(SUMPRODUCT(--(tbl_bd_descente[wo_number]=W31),tbl_bd_descente[Y],tbl_bd_descente[tons])/SUMIF(tbl_bd_descente[wo_number],W31,tbl_bd_descente[tons]),0) -> 72.945455 | AG31: =IFERROR(SUMPRODUCT(--(tbl_bd_descente[wo_number]=W31),tbl_bd_descente[Al2O3],tbl_bd_descente[tons])/SUMIF(tbl_bd_descente[wo_number],W31,tbl_bd_descente[tons]),0) -> 9.3827273 | AH31: =IFERROR(SUMPRODUCT(--(tbl_bd_descente[wo_number]=W31),tbl_bd_descente[Fe2O3],tbl_bd_descente[tons])/SUMIF(tbl_bd_descente[wo_number],W31,tbl_bd_descente[tons]),0) -> 1.615 | AI31: =IFERROR(SUMPRODUCT(--(tbl_bd_descente[wo_number]=W31),tbl_bd_descente[MgO],tbl_bd_descente[tons])/SUMIF(tbl_bd_descente[wo_number],W31,tbl_bd_descente[tons]),0) -> 31.841818 | AJ31: =IFERROR(SUMPRODUCT(--(tbl_bd_descente[wo_number]=W31),tbl_bd_descente[CaOX],tbl_bd_descente[tons])/SUMIF(tbl_bd_descente[wo_number],W31,tbl_bd_descente[tons]),0) -> 1.4677273 | AK31: =IFERROR(SUMPRODUCT(--(tbl_bd_descente[wo_number]=W31),tbl_bd_descente[S],tbl_bd_descente[tons])/SUMIF(tbl_bd_descente[wo_number],W31,tbl_bd_descente[tons]),0) -> 0.10886364 | AO31: =IF(AND(C31=S$2,D31=S$3,COUNTIF(AO$1:AO30,">"&1)<10),ROW(),"") -> 31
A32: A5126 | B32: 1ERE TO | C32: T06 | D32: 1ERE TO | E32: 72.029999 | F32: 80.8 | G32: 85.1 | H32: 92.6 | I32: 2.12 | J32: 0.66 | K32: 31.34 | L32: 0.78 | M32: 43775.507 | N32: 43775.515 | O32: A1615 | W32: 019/294/001 | X32: 43759.185 | Y32: 146.66667 | Z32: 3 EME | AA32: T19 | AB32: 3 EME | AC32: 2019 | AD32: 10 | AE32: STT | AF32: =IFERROR(SUMPRODUCT(--(tbl_bd_descente[wo_number]=W32),tbl_bd_descente[Y],tbl_bd_descente[tons])/SUMIF(tbl_bd_descente[wo_number],W32,tbl_bd_descente[tons]),0) -> 72.945455 | AG32: =IFERROR(SUMPRODUCT(--(tbl_bd_descente[wo_number]=W32),tbl_bd_descente[Al2O3],tbl_bd_descente[tons])/SUMIF(tbl_bd_descente[wo_number],W32,tbl_bd_descente[tons]),0) -> 9.3827273 | AH32: =IFERROR(SUMPRODUCT(--(tbl_bd_descente[wo_number]=W32),tbl_bd_descente[Fe2O3],tbl_bd_descente[tons])/SUMIF(tbl_bd_descente[wo_number],W32,tbl_bd_descente[tons]),0) -> 1.615 | AI32: =IFERROR(SUMPRODUCT(--(tbl_bd_descente[wo_number]=W32),tbl_bd_descente[MgO],tbl_bd_descente[tons])/SUMIF(tbl_bd_descente[wo_number],W32,tbl_bd_descente[tons]),0) -> 31.841818 | AJ32: =IFERROR(SUMPRODUCT(--(tbl_bd_descente[wo_number]=W32),tbl_bd_descente[CaOX],tbl_bd_descente[tons])/SUMIF(tbl_bd_descente[wo_number],W32,tbl_bd_descente[tons]),0) -> 1.4677273 | AK32: =IFERROR(SUMPRODUCT(--(tbl_bd_descente[wo_number]=W32),tbl_bd_descente[S],tbl_bd_descente[tons])/SUMIF(tbl_bd_descente[wo_number],W32,tbl_bd_descente[tons]),0) -> 0.10886364 | AO32: =IF(AND(C32=S$2,D32=S$3,COUNTIF(AO$1:AO31,">"&1)<10),ROW(),"")
A33: A5131 | B33: 2EME TO | C33: T01 | D33: 2EME TO | E33: 292.675 | F33: 71.9 | G33: 75.8 | H33: 82.7 | I33: 1.34 | J33: 0.67 | K33: 31.25 | L33: 0.59 | M33: 43775.472 | N33: 43775.503 | O33: A1615 | W33: 019/293/005 | X33: 43759.081 | Y33: 600 | Z33: 3 EME | AA33: T09 | AB33: 3 EME | AC33: 2019 | AD33: 10 | AE33: 2 A | AF33: =IFERROR(SUMPRODUCT(--(tbl_bd_descente[wo_number]=W33),tbl_bd_descente[Y],tbl_bd_descente[tons])/SUMIF(tbl_bd_descente[wo_number],W33,tbl_bd_descente[tons]),0) -> 73.2 | AG33: =IFERROR(SUMPRODUCT(--(tbl_bd_descente[wo_number]=W33),tbl_bd_descente[Al2O3],tbl_bd_descente[tons])/SUMIF(tbl_bd_descente[wo_number],W33,tbl_bd_descente[tons]),0) -> 8.96 | AH33: =IFERROR(SUMPRODUCT(--(tbl_bd_descente[wo_number]=W33),tbl_bd_descente[Fe2O3],tbl_bd_descente[tons])/SUMIF(tbl_bd_descente[wo_number],W33,tbl_bd_descente[tons]),0) -> 1.6266667 | AI33: =IFERROR(SUMPRODUCT(--(tbl_bd_descente[wo_number]=W33),tbl_bd_descente[MgO],tbl_bd_descente[tons])/SUMIF(tbl_bd_descente[wo_number],W33,tbl_bd_descente[tons]),0) -> 31.84 | AJ33: =IFERROR(SUMPRODUCT(--(tbl_bd_descente[wo_number]=W33),tbl_bd_descente[CaOX],tbl_bd_descente[tons])/SUMIF(tbl_bd_descente[wo_number],W33,tbl_bd_descente[tons]),0) -> 1.15 | AK33: =IFERROR(SUMPRODUCT(--(tbl_bd_descente[wo_number]=W33),tbl_bd_descente[S],tbl_bd_descente[tons])/SUMIF(tbl_bd_descente[wo_number],W33,tbl_bd_descente[tons]),0) -> 0.11 | AO33: =IF(AND(C33=S$2,D33=S$3,COUNTIF(AO$1:AO32,">"&1)<10),ROW(),"") -> 33
A34: A5130 | B34: 2EME TO | C34: T01 | D34: 2EME TO | E34: 292.09 | F34: 73 | G34: 77 | H34: 84 | I34: 1.61 | J34: 0.73 | K34: 31.36 | L34: 0.76 | M34: 43775.442 | N34: 43775.469 | O34: A1615 | W34: 019/293/005 | X34: 43759.081 | Y34: 300 | Z34: 3 EME | AA34: T19 | AB34: 3 EME | AC34: 2019 | AD34: 10 | AE34: 6 C | AF34: =IFERROR(SUMPRODUCT(--(tbl_bd_descente[wo_number]=W34),tbl_bd_descente[Y],tbl_bd_descente[tons])/SUMIF(tbl_bd_descente[wo_number],W34,tbl_bd_descente[tons]),0) -> 73.2 | AG34: =IFERROR(SUMPRODUCT(--(tbl_bd_descente[wo_number]=W34),tbl_bd_descente[Al2O3],tbl_bd_descente[tons])/SUMIF(tbl_bd_descente[wo_number],W34,tbl_bd_descente[tons]),0) -> 8.96 | AH34: =IFERROR(SUMPRODUCT(--(tbl_bd_descente[wo_number]=W34),tbl_bd_descente[Fe2O3],tbl_bd_descente[tons])/SUMIF(tbl_bd_descente[wo_number],W34,tbl_bd_descente[tons]),0) -> 1.6266667 | AI34: =IFERROR(SUMPRODUCT(--(tbl_bd_descente[wo_number]=W34),tbl_bd_descente[MgO],tbl_bd_descente[tons])/SUMIF(tbl_bd_descente[wo_number],W34,tbl_bd_descente[tons]),0) -> 31.84 | AJ34: =IFERROR(SUMPRODUCT(--(tbl_bd_descente[wo_number]=W34),tbl_bd_descente[CaOX],tbl_bd_descente[tons])/SUMIF(tbl_bd_descente[wo_number],W34,tbl_bd_descente[tons]),0) -> 1.15 | AK34: =IFERROR(SUMPRODUCT(--(tbl_bd_descente[wo_number]=W34),tbl_bd_descente[S],tbl_bd_descente[tons])/SUMIF(tbl_bd_descente[wo_number],W34,tbl_bd_descente[tons]),0) -> 0.11 | AO34: =IF(AND(C34=S$2,D34=S$3,COUNTIF(AO$1:AO33,">"&1)<10),ROW(),"") -> 34
A35: A5127 | B35: 2EME TALQUEUSE | C35: T02 | D35: 2EME TALQUEUSE | E35: 245.37 | F35: 74.1 | G35: 78.1 | H35: 85.1 | I35: 2.66 | J35: 1.02 | K35: 31.29 | L35: 0.92 | M35: 43775.386 | N35: 43775.436 | O35: A1615 | W35: 019/293/004 | X35: 43758.865 | Y35: 294 | Z35: 3EME TALQUEUSE | AA35: T36 | AB35: 3EME TALQUEUSE | AC35: 2019 | AD35: 10 | AE35: STT | AF35: =IFERROR(SUMPRODUCT(--(tbl_bd_descente[wo_number]=W35),tbl_bd_descente[Y],tbl_bd_descente[tons])/SUMIF(tbl_bd_descente[wo_number],W35,tbl_bd_descente[tons]),0) -> 74.4 | AG35: =IFERROR(SUMPRODUCT(--(tbl_bd_descente[wo_number]=W35),tbl_bd_descente[Al2O3],tbl_bd_descente[tons])/SUMIF(tbl_bd_descente[wo_number],W35,tbl_bd_descente[tons]),0) -> 3.12 | AH35: =IFERROR(SUMPRODUCT(--(tbl_bd_descente[wo_number]=W35),tbl_bd_descente[Fe2O3],tbl_bd_descente[tons])/SUMIF(tbl_bd_descente[wo_number],W35,tbl_bd_descente[tons]),0) -> 1.11 | AI35: =IFERROR(SUMPRODUCT(--(tbl_bd_descente[wo_number]=W35),tbl_bd_descente[MgO],tbl_bd_descente[tons])/SUMIF(tbl_bd_descente[wo_number],W35,tbl_bd_descente[tons]),0) -> 31.24 | AJ35: =IFERROR(SUMPRODUCT(--(tbl_bd_descente[wo_number]=W35),tbl_bd_descente[CaOX],tbl_bd_descente[tons])/SUMIF(tbl_bd_descente[wo_number],W35,tbl_bd_descente[tons]),0) -> 1.81 | AK35: =IFERROR(SUMPRODUCT(--(tbl_bd_descente[wo_number]=W35),tbl_bd_descente[S],tbl_bd_descente[tons])/SUMIF(tbl_bd_descente[wo_number],W35,tbl_bd_descente[tons]),0) -> 0.088 | AO35: =IF(AND(C35=S$2,D35=S$3,COUNTIF(AO$1:AO34,">"&1)<10),ROW(),"")
A36: A5142 | B36: 3 EME | C36: T19 | D36: 3 EME | E36: 290.105 | F36: 65.3 | G36: 68.9 | H36: 74.9 | I36: 4.76 | J36: 1.33 | K36: 31.65 | L36: 0.72 | M36: 43775.35 | N36: 43775.382 | O36: A1615 | W36: 019/293/003 | X36: 43758.797 | Y36: 1150 | Z36: 2EME TO | AA36: T04 | AB36: 2EME TO | AC36: 2019 | AD36: 10 | AE36: 3 A | AF36: =IFERROR(SUMPRODUCT(--(tbl_bd_descente[wo_number]=W36),tbl_bd_descente[Y],tbl_bd_descente[tons])/SUMIF(tbl_bd_descente[wo_number],W36,tbl_bd_descente[tons]),0) -> 79.134783 | AG36: =IFERROR(SUMPRODUCT(--(tbl_bd_descente[wo_number]=W36),tbl_bd_descente[Al2O3],tbl_bd_descente[tons])/SUMIF(tbl_bd_descente[wo_number],W36,tbl_bd_descente[tons]),0) -> 5.3178261 | AH36: =IFERROR(SUMPRODUCT(--(tbl_bd_descente[wo_number]=W36),tbl_bd_descente[Fe2O3],tbl_bd_descente[tons])/SUMIF(tbl_bd_descente[wo_number],W36,tbl_bd_descente[tons]),0) -> 1.0647826 | AI36: =IFERROR(SUMPRODUCT(--(tbl_bd_descente[wo_number]=W36),tbl_bd_descente[MgO],tbl_bd_descente[tons])/SUMIF(tbl_bd_descente[wo_number],W36,tbl_bd_descente[tons]),0) -> 31.707826 | AJ36: =IFERROR(SUMPRODUCT(--(tbl_bd_descente[wo_number]=W36),tbl_bd_descente[CaOX],tbl_bd_descente[tons])/SUMIF(tbl_bd_descente[wo_number],W36,tbl_bd_descente[tons]),0) -> 0.92608696 | AK36: =IFERROR(SUMPRODUCT(--(tbl_bd_descente[wo_number]=W36),tbl_bd_descente[S],tbl_bd_descente[tons])/SUMIF(tbl_bd_descente[wo_number],W36,tbl_bd_descente[tons]),0) -> 0.10043478 | AO36: =IF(AND(C36=S$2,D36=S$3,COUNTIF(AO$1:AO35,">"&1)<10),ROW(),"")
