Workbook

Sheet Données
A1: Qualité Silos Trimouns
B3: T01 | C3: T02 | D3: T03 | E3: T04 | F3: T05 | G3: T06 | H3: T07 | I3: T08 | J3: T09 | K3: T10 | L3: T11 | M3: T12
A4: Tonnage de départ Silo | B4: 9521 | C4: 4250 | D4: 14241 | E4: 2861 | F4: 8493 | G4: 1690 | H4: 4807 | I4: 8259 | J4: 33463 | K4: 8957 | L4: 1130 | M4: 1016
A5: Entrée | B5: =SUMIF(Piles[Destination],B15,Piles[tons])+SUM(Melanges_tele[Transfert entrée]) -> 42361.664
A6: Sortie | B6: =SUMIF(Melanges_tele[origin],B15,Melanges_tele[tons])+SUM(Melanges_tele[origin],B15,Melanges_tele[Transfert sortie]) -> 36676.333
A8: Tonnage de départ Silo | B8: T13 | C8: T14 | D8: T15 | E8: T16 | F8: T19 | G8: T20 | H8: T21 | I8: T26 | J8: T27 | K8: T29 | L8: T36 | M8: Total
A9: Entrée | B9: 1357 | C9: 1372 | D9: 1332 | E9: 1791 | F9: 12130 | G9: 21716 | H9: 10864 | I9: 2811 | J9: 2157 | K9: 5038 | L9: 11691 | M9: =SUM(B4:M4)+SUM(B9:L9) -> 170947
A10: Sortie
A12: Nb de dernière valeurs prise en compte | B12: 10
B15: T01 | C15: T02 | D15: T03 | E15: T04 | F15: T05 | G15: T06 | H15: T07 | I15: T08 | J15: T09 | K15: T10 | L15: T11 | M15: T12
A16: Minerai | B16: 2EME TO
A17: Moyenne Tonnage Pile entrante | B17: =AVERAGEIFS(Piles[tons],Piles[Destination],B15,Piles[tons],"<>0") -> 199.61973
A18: Moyenne pondérée Y Pile entrante | B18: =SUMPRODUCT((Piles[Destination]=B15)*(Piles[GradeDest]=B16)*Piles[Y]*Piles[tons])/SUMPRODUCT((Piles[Destination]=B15)*(Piles[GradeDest]=B16)*Piles[tons]) -> 80.242309
A19: Moyenne pondérée Y sortie | B19: =SUMPRODUCT((Melanges_tele[origin]=B15)*(Melanges_tele[DestProduct]=B16)*Melanges_tele[Y],Melanges_tele[tons])/SUMPRODUCT((Melanges_tele[origin]=B15)*(Melanges_tele[DestProduct]=B16)*Melanges_tele[tons]) -> 79.738146
A21: Tonnage des 10 dernière valeurs | B21: =SUM(OFFSET('Base données'!E3,COUNTA(Piles[tons])-Données!B12+1,,Données!B12,)) -> #VALUE!
A22: Moyenne pondéré des dernières valeurs | B22: =SUMPRODUCT(OFFSET('Base données'!G3,COUNTA(Piles[Y])-Données!B12+1,,Données!B12,),OFFSET('Base données'!E3,COUNTA(Piles[tons])-Données!B12+1,,Données!B12,)/SUM(OFFSET('Base données'!E3,COUNTA(Piles[tons])-Données!B12+1,,Données!B12,))) -> #VALUE!
A24: Tonnage actuel Silo | B24: =B4+B5-B6 -> 15206.331
A25: Pondéré actuel silo | B25: =((B5*B18)+(B6*B19))/SUM(B5:B6) -> 80.00836
B29: T13 | C29: T14 | D29: T15 | E29: T16 | F29: T19 | G29: T20 | H29: T21 | I29: T26 | J29: T27 | K29: T29 | L29: T36
A30: Minerai
A31: Moyenne Tonnage Pile entrante
A32: Moyenne Y Pile entrante
A34: Tonnage des 10 dernière valeurs
A35: Moyenne pondéré des dernières valeurs
A37: Tonnage actuel Silo
A38: Pondéré actuel silo

Sheet Descente télé
A1: Analyses descentes télé
A3: tons | B3: X | C3: Y | D3: Z | E3: Al2O3 | F3: Fe2O3 | G3: MgO | H3: CaOX | I3: pk | J3: wo_number | K3: time | L3: DestProduct | M3: S
A4: 400 | B4: 79.8 | C4: 84.1 | D4: 90.8 | E4: 2.86 | F4: 0.67 | G4: 31.48 | H4: 0.89 | I4: 2658972 | J4: 019/108/003 | K4: 43573.842 | L4: OXO TO | M4: 0.048
A5: 400 | B5: 80.6 | C5: 85 | D5: 91.5 | E5: 2.66 | F5: 0.69 | G5: 31.45 | H5: 0.7 | I5: 2658973 | J5: 019/108/003 | K5: 43573.842 | L5: OXO TO | M5: 0.046
A6: 261 | B6: 80.2 | C6: 84.5 | D6: 91.2 | E6: 2.14 | F6: 0.69 | G6: 31.43 | H6: 0.87 | I6: 2658974 | J6: 019/108/003 | K6: 43573.842 | L6: OXO TO | M6: 0.044
A7: 300 | B7: 80.1 | C7: 84.6 | D7: 89.6 | E7: 11.22 | F7: 1.21 | G7: 32.55 | H7: 0.72 | I7: 2677225 | J7: 019/122/002 | K7: 43588.019 | L7: 1 ERE BLANCHE | M7: 0.024
A8: 300 | B8: 80 | C8: 84.4 | D8: 89.1 | E8: 14.64 | F8: 1.39 | G8: 32.9 | H8: 0.58 | I8: 2677226 | J8: 019/122/002 | K8: 43588.019 | L8: 1 ERE BLANCHE | M8: 0.032
A9: 300 | B9: 79.5 | C9: 83.9 | D9: 88.4 | E9: 14.34 | F9: 1.38 | G9: 32.96 | H9: 0.48 | I9: 2677227 | J9: 019/122/002 | K9: 43588.019 | L9: 1 ERE BLANCHE | M9: 0.024
A10: 300 | B10: 77.2 | C10: 81.4 | D10: 87.9 | E10: 2.98 | F10: 0.87 | G10: 31.5 | H10: 1.27 | I10: 2659372 | J10: 019/108/004 | K10: 43574.059 | L10: 2EME TALQUEUSE | M10: 0.068
A11: 300 | B11: 75.4 | C11: 79.5 | D11: 85.8 | E11: 2.72 | F11: 0.81 | G11: 31.42 | H11: 1.88 | I11: 2659373 | J11: 019/108/004 | K11: 43574.059 | L11: 2EME TALQUEUSE | M11: 0.043
A12: 300 | B12: 75.6 | C12: 79.7 | D12: 86.2 | E12: 2.45 | F12: 0.82 | G12: 31.37 | H12: 1.42 | I12: 2659374 | J12: 019/108/004 | K12: 43574.059 | L12: 2EME TALQUEUSE | M12: 0.068
A13: 300 | B13: 74.9 | C13: 78.9 | D13: 85.4 | E13: 2.98 | F13: 0.85 | G13: 31.31 | H13: 1.23 | I13: 2659642 | J13: 019/109/001 | K13: 43574.191 | L13: 2EME TALQUEUSE | M13: 0.061
A14: 263 | B14: 75.8 | C14: 79.9 | D14: 86.6 | E14: 2.34 | F14: 0.75 | G14: 31.46 | H14: 1.74 | I14: 2659643 | J14: 019/109/001 | K14: 43574.191 | L14: 2EME TALQUEUSE | M14: 0.053
A15: 400 | B15: 80.4 | C15: 84.8 | D15: 91.5 | E15: 2.44 | F15: 0.68 | G15: 31.48 | H15: 0.79 | I15: 2659950 | J15: 019/109/002 | K15: 43574.38 | L15: OXO TO | M15: 0.066
... A1300: 243 | B1300: 73.9 | C1300: 77.9 | D1300: 83.1 | E1300: 9.49 | F1300: 1.51 | G1300: 32.03 | H1300: 1.12 | I1300: 2941502 | J1300: 019/298/001 | K1300: 43763.294 | L1300: 1ERE MS | M1300: 0.139

Sheet Base données
A1: Piles direction T01 | AQ1: =MATCH(AQ2,3:3,0) -> 7 | AR1: =MATCH(AR2,3:3,0) -> 5 | AS1: =MATCH(AS2,3:3,0) -> 13
S2: T01 | AQ2: Y | AR2: tons | AS2: minTime
A3: Pile | B3: GradePile | C3: Destination | D3: GradeDest | E3: tons | F3: X | G3: Y | H3: Z | I3: Al2O3 | J3: Fe2O3 | K3: MgO | L3: CaOX | M3: minTime | N3: maxTime | O3: Chantier | S3: 2EME TO | W3: wo_number | X3: time | Y3: tons | Z3: OriginProduct | AA3: origin | AB3: DestProduct | AC3: year | AD3: month | AE3: Destination | AF3: Y | AG3: Al203 | AH3: Fe203 | AI3: MgO | AJ3: CaOX | AK3: S | AL3: Transfert entrée | AM3: Transfert sortie
A4: A5155 | B4: 3 EME | C4: T19 | D4: 3 EME | E4: 0 | F4: 72.5 | G4: 76.5 | H4: 82.3 | I4: 5.55 | J4: 1.28 | K4: 31.64 | L4: 1.02 | M4: 43781.421 | N4: 43781.421 | O4: A1615 | W4: 019/298/001 | X4: 43763.294 | Y4: 162 | Z4: 1ERE | AA4: T26 | AB4: 1ERE MS | AC4: 2019 | AD4: 10 | AF4: =IFERROR(SUMPRODUCT(--(tbl_bd_descente[wo_number]=W4),tbl_bd_descente[Y],tbl_bd_descente[tons])/SUMIF(tbl_bd_descente[wo_number],W4,tbl_bd_descente[tons]),0) -> 77.9 | AG4: =IFERROR(SUMPRODUCT(--(tbl_bd_descente[wo_number]=W4),tbl_bd_descente[Al2O3],tbl_bd_descente[tons])/SUMIF(tbl_bd_descente[wo_number],W4,tbl_bd_descente[tons]),0) -> 9.49 | AH4: =IFERROR(SUMPRODUCT(--(tbl_bd_descente[wo_number]=W4),tbl_bd_descente[Fe2O3],tbl_bd_descente[tons])/SUMIF(tbl_bd_descente[wo_number],W4,tbl_bd_descente[tons]),0) -> 1.51 | AI4: =IFERROR(SUMPRODUCT(--(tbl_bd_descente[wo_number]=W4),tbl_bd_descente[MgO],tbl_bd_descente[tons])/SUMIF(tbl_bd_descente[wo_number],W4,tbl_bd_descente[tons]),0) -> 32.03 | AJ4: =IFERROR(SUMPRODUCT(--(tbl_bd_descente[wo_number]=W4),tbl_bd_descente[CaOX],tbl_bd_descente[tons])/SUMIF(tbl_bd_descente[wo_number],W4,tbl_bd_descente[tons]),0) -> 1.12 | AK4: =IFERROR(SUMPRODUCT(--(tbl_bd_descente[wo_number]=W4),tbl_bd_descente[S],tbl_bd_descente[tons])/SUMIF(tbl_bd_descente[wo_number],W4,tbl_bd_descente[tons]),0) -> 0.139 | AO4: =IF(AND(C4=S$2,D4=S$3,COUNTIF(AO$1:AO3,">"&1)<10),ROW(),"") | AP4: =SMALL(AO:AO,ROW()-3) -> 7 | AQ4: =INDIRECT(ADDRESS($AP4,AQ$1),1) -> 82.2 | AR4: =INDIRECT(ADDRESS($AP4,AR$1),1)*1 -> 0 | AS4: =INDIRECT(ADDRESS($AP4,AS$1),1) -> 43781.421
A5: A5151 | B5: 1ERE TO | C5: T14 | D5: 1ERE TO | E5: 0 | F5: 81 | G5: 85.5 | H5: 91.2 | I5: 8.11 | J5: 0.96 | K5: 31.89 | L5: 0.6 | M5: 43781.421 | N5: 43781.421 | O5: A1615 | W5: 019/298/001 | X5: 43763.294 | Y5: 81 | Z5: 1ERE | AA5: T27 | AB5: 1ERE MS | AC5: 2019 | AD5: 10 | AF5: =IFERROR(SUMPRODUCT(--(tbl_bd_descente[wo_number]=W5),tbl_bd_descente[Y],tbl_bd_descente[tons])/SUMIF(tbl_bd_descente[wo_number],W5,tbl_bd_descente[tons]),0) -> 77.9 | AG5: =IFERROR(SUMPRODUCT(--(tbl_bd_descente[wo_number]=W5),tbl_bd_descente[Al2O3],tbl_bd_descente[tons])/SUMIF(tbl_bd_descente[wo_number],W5,tbl_bd_descente[tons]),0) -> 9.49 | AH5: =IFERROR(SUMPRODUCT(--(tbl_bd_descente[wo_number]=W5),tbl_bd_descente[Fe2O3],tbl_bd_descente[tons])/SUMIF(tbl_bd_descente[wo_number],W5,tbl_bd_descente[tons]),0) -> 1.51 | AI5: =IFERROR(SUMPRODUCT(--(tbl_bd_descente[wo_number]=W5),tbl_bd_descente[MgO],tbl_bd_descente[tons])/SUMIF(tbl_bd_descente[wo_number],W5,tbl_bd_descente[tons]),0) -> 32.03 | AJ5: =IFERROR(SUMPRODUCT(--(tbl_bd_descente[wo_number]=W5),tbl_bd_descente[CaOX],tbl_bd_descente[tons])/SUMIF(tbl_bd_descente[wo_number],W5,tbl_bd_descente[tons]),0) -> 1.12 | AK5: =IFERROR(SUMPRODUCT(--(tbl_bd_descente[wo_number]=W5),tbl_bd_descente[S],tbl_bd_descente[tons])/SUMIF(tbl_bd_descente[wo_number],W5,tbl_bd_descente[tons]),0) -> 0.139 | AO5: =IF(AND(C5=S$2,D5=S$3,COUNTIF(AO$1:AO4,">"&1)<10),ROW(),"") | AP5: =SMALL(AO:AO,ROW()-3) -> 11 | AQ5: =INDIRECT(ADDRESS($AP5,AQ$1),1) -> 82.5 | AR5: =INDIRECT(ADDRESS($AP5,AR$1),1)*1 -> 326.905 | AS5: =INDIRECT(ADDRESS($AP5,AS$1),1) -> 43776.686
A6: A5147 | B6: 1ERE TO | C6: T06 | D6: 1ERE TO | E6: 0 | F6: 79.2 | G6: 83.6 | H6: 89.5 | I6: 5.95 | J6: 0.91 | K6: 31.71 | L6: 0.73 | M6: 43781.421 | N6: 43781.421 | O6: A1615 | S6: Pondéré pile silo T01 : | U6: =SUMPRODUCT((Piles[Destination]=Données!B15)*(Piles[GradeDest]=Données!B16)*Piles[Y]*Piles[tons])/SUMPRODUCT((Piles[Destination]=Données!B15)*(Piles[GradeDest]=Données!B16)*Piles[tons]) -> 80.242309 | W6: 019/297/003 | X6: 43763.137 | Y6: 890 | Z6: OXO TO | AA6: T05 | AB6: OXO TO | AC6: 2019 | AD6: 10 | AE6: 1 H | AF6: =IFERROR(SUMPRODUCT(--(tbl_bd_descente[wo_number]=W6),tbl_bd_descente[Y],tbl_bd_descente[tons])/SUMIF(tbl_bd_descente[wo_number],W6,tbl_bd_descente[tons]),0) -> 83.770787 | AG6: =IFERROR(SUMPRODUCT(--(tbl_bd_descente[wo_number]=W6),tbl_bd_descente[Al2O3],tbl_bd_descente[tons])/SUMIF(tbl_bd_descente[wo_number],W6,tbl_bd_descente[tons]),0) -> 1.4819101 | AH6: =IFERROR(SUMPRODUCT(--(tbl_bd_descente[wo_number]=W6),tbl_bd_descente[Fe2O3],tbl_bd_descente[tons])/SUMIF(tbl_bd_descente[wo_number],W6,tbl_bd_descente[tons]),0) -> 0.75797753 | AI6: =IFERROR(SUMPRODUCT(--(tbl_bd_descente[wo_number]=W6),tbl_bd_descente[MgO],tbl_bd_descente[tons])/SUMIF(tbl_bd_descente[wo_number],W6,tbl_bd_descente[tons]),0) -> 31.116517 | AJ6: =IFERROR(SUMPRODUCT(--(tbl_bd_descente[wo_number]=W6),tbl_bd_descente[CaOX],tbl_bd_descente[tons])/SUMIF(tbl_bd_descente[wo_number],W6,tbl_bd_descente[tons]),0) -> 1.2476404 | AK6: =IFERROR(SUMPRODUCT(--(tbl_bd_descente[wo_number]=W6),tbl_bd_descente[S],tbl_bd_descente[tons])/SUMIF(tbl_bd_descente[wo_number],W6,tbl_bd_descente[tons]),0) -> 0.06588764 | AO6: =IF(AND(C6=S$2,D6=S$3,COUNTIF(AO$1:AO5,">"&1)<10),ROW(),"") | AP6: =SMALL(AO:AO,ROW()-3) -> 24 | AQ6: =INDIRECT(ADDRESS($AP6,AQ$1),1) -> 81.6 | AR6: =INDIRECT(ADDRESS($AP6,AR$1),1)*1 -> 328.245 | AS6: =INDIRECT(ADDRESS($AP6,AS$1),1) -> 43775.765
A7: A5153 | B7: 2EME TO | C7: T01 | D7: 2EME TO | E7: 0 | F7: 77.9 | G7: 82.2 | H7: 88.6 | I7: 3.11 | J7: 1.14 | K7: 31.41 | L7: 0.86 | M7: 43781.421 | N7: 43781.421 | O7: A1615 | T7: Tonnes : | U7: =Données!B5 -> 42361.664 | W7: 019/297/002 | X7: 43762.844 | Y7: 912 | Z7: OXO TO | AA7: T14 | AB7: OXO TO | AC7: 2019 | AD7: 10 | AE7: STT | AF7: =IFERROR(SUMPRODUCT(--(tbl_bd_descente[wo_number]=W7),tbl_bd_descente[Y],tbl_bd_descente[tons])/SUMIF(tbl_bd_descente[wo_number],W7,tbl_bd_descente[tons]),0) -> 87.022807 | AG7: =IFERROR(SUMPRODUCT(--(tbl_bd_descente[wo_number]=W7),tbl_bd_descente[Al2O3],tbl_bd_descente[tons])/SUMIF(tbl_bd_descente[wo_number],W7,tbl_bd_descente[tons]),0) -> 3.6507018 | AH7: =IFERROR(SUMPRODUCT(--(tbl_bd_descente[wo_number]=W7),tbl_bd_descente[Fe2O3],tbl_bd_descente[tons])/SUMIF(tbl_bd_descente[wo_number],W7,tbl_bd_descente[tons]),0) -> 0.67824561 | AI7: =IFERROR(SUMPRODUCT(--(tbl_bd_descente[wo_number]=W7),tbl_bd_descente[MgO],tbl_bd_descente[tons])/SUMIF(tbl_bd_descente[wo_number],W7,tbl_bd_descente[tons]),0) -> 31.523684 | AJ7: =IFERROR(SUMPRODUCT(--(tbl_bd_descente[wo_number]=W7),tbl_bd_descente[CaOX],tbl_bd_descente[tons])/SUMIF(tbl_bd_descente[wo_number],W7,tbl_bd_descente[tons]),0) -> 0.97438596 | AK7: =IFERROR(SUMPRODUCT(--(tbl_bd_descente[wo_number]=W7),tbl_bd_descente[S],tbl_bd_descente[tons])/SUMIF(tbl_bd_descente[wo_number],W7,tbl_bd_descente[tons]),0) -> 0.010877193 | AO7: =IF(AND(C7=S$2,D7=S$3,COUNTIF(AO$1:AO6,">"&1)<10),ROW(),"") -> 7 | AP7: =SMALL(AO:AO,ROW()-3) -> 26 | AQ7: =INDIRECT(ADDRESS($AP7,AQ$1),1) -> 81.9 | AR7: =INDIRECT(ADDRESS($AP7,AR$1),1)*1 -> 254.875 | AS7: =INDIRECT(ADDRESS($AP7,AS$1),1) -> 43775.683
A8: C4294 | B8: 3 EME | C8: T19 | D8: 3 EME | E8: 0 | F8: 67.1 | G8: 70.7 | H8: 76.1 | I8: 10.48 | J8: 1.59 | K8: 32.1 | L8: 0.43 | M8: 43781.421 | N8: 43781.421 | O8: C1625 | W8: 019/297/001 | X8: 43762.463 | Y8: 866 | Z8: 2EME TO | AA8: T12 | AB8: 2EME TO | AC8: 2019 | AD8: 10 | AE8: 1 H | AF8: =IFERROR(SUMPRODUCT(--(tbl_bd_descente[wo_number]=W8),tbl_bd_descente[Y],tbl_bd_descente[tons])/SUMIF(tbl_bd_descente[wo_number],W8,tbl_bd_descente[tons]),0) -> 79.63903 | AG8: =IFERROR(SUMPRODUCT(--(tbl_bd_descente[wo_number]=W8),tbl_bd_descente[Al2O3],tbl_bd_descente[tons])/SUMIF(tbl_bd_descente[wo_number],W8,tbl_bd_descente[tons]),0) -> 4.0095612 | AH8: =IFERROR(SUMPRODUCT(--(tbl_bd_descente[wo_number]=W8),tbl_bd_descente[Fe2O3],tbl_bd_descente[tons])/SUMIF(tbl_bd_descente[wo_number],W8,tbl_bd_descente[tons]),0) -> 0.99771363 | AI8: =IFERROR(SUMPRODUCT(--(tbl_bd_descente[wo_number]=W8),tbl_bd_descente[MgO],tbl_bd_descente[tons])/SUMIF(tbl_bd_descente[wo_number],W8,tbl_bd_descente[tons]),0) -> 31.555427 | AJ8: =IFERROR(SUMPRODUCT(--(tbl_bd_descente[wo_number]=W8),tbl_bd_descente[CaOX],tbl_bd_descente[tons])/SUMIF(tbl_bd_descente[wo_number],W8,tbl_bd_descente[tons]),0) -> 1.0292841 | AK8: =IFERROR(SUMPRODUCT(--(tbl_bd_descente[wo_number]=W8),tbl_bd_descente[S],tbl_bd_descente[tons])/SUMIF(tbl_bd_descente[wo_number],W8,tbl_bd_descente[tons]),0) -> 0.08682448 | AO8: =IF(AND(C8=S$2,D8=S$3,COUNTIF(AO$1:AO7,">"&1)<10),ROW(),"") | AP8: =SMALL(AO:AO,ROW()-3) -> 31 | AQ8: =INDIRECT(ADDRESS($AP8,AQ$1),1) -> 76.9 | AR8: =INDIRECT(ADDRESS($AP8,AR$1),1)*1 -> 254.775 | AS8: =INDIRECT(ADDRESS($AP8,AS$1),1) -> 43775.52
A9: C4295 | B9: 3 EME | C9: T11 | D9: 3 EME | E9: 0 | F9: 67.2 | G9: 70.9 | H9: 76.4 | I9: 10.37 | J9: 1.51 | K9: 32.08 | L9: 0.41 | M9: 43781.421 | N9: 43781.421 | O9: C1615 | W9: 019/296/003 | X9: 43762.227 | Y9: 582 | Z9: 1ERE | AA9: T27 | AB9: 1ERE MS | AC9: 2019 | AD9: 10 | AE9: 1 H | AF9: =IFERROR(SUMPRODUCT(--(tbl_bd_descente[wo_number]=W9),tbl_bd_descente[Y],tbl_bd_descente[tons])/SUMIF(tbl_bd_descente[wo_number],W9,tbl_bd_descente[tons]),0) -> 79.857732 | AG9: =IFERROR(SUMPRODUCT(--(tbl_bd_descente[wo_number]=W9),tbl_bd_descente[Al2O3],tbl_bd_descente[tons])/SUMIF(tbl_bd_descente[wo_number],W9,tbl_bd_descente[tons]),0) -> 11.677835 | AH9: =IFERROR(SUMPRODUCT(--(tbl_bd_descente[wo_number]=W9),tbl_bd_descente[Fe2O3],tbl_bd_descente[tons])/SUMIF(tbl_bd_descente[wo_number],W9,tbl_bd_descente[tons]),0) -> 1.6362887 | AI9: =IFERROR(SUMPRODUCT(--(tbl_bd_descente[wo_number]=W9),tbl_bd_descente[MgO],tbl_bd_descente[tons])/SUMIF(tbl_bd_descente[wo_number],W9,tbl_bd_descente[tons]),0) -> 32.417835 | AJ9: =IFERROR(SUMPRODUCT(--(tbl_bd_descente[wo_number]=W9),tbl_bd_descente[CaOX],tbl_bd_descente[tons])/SUMIF(tbl_bd_descente[wo_number],W9,tbl_bd_descente[tons]),0) -> 0.8085567 | AK9: =IFERROR(SUMPRODUCT(--(tbl_bd_descente[wo_number]=W9),tbl_bd_descente[S],tbl_bd_descente[tons])/SUMIF(tbl_bd_descente[wo_number],W9,tbl_bd_descente[tons]),0) -> 0.051639175 | AO9: =IF(AND(C9=S$2,D9=S$3,COUNTIF(AO$1:AO8,">"&1)<10),ROW(),"") | AP9: =SMALL(AO:AO,ROW()-3) -> 33 | AQ9: =INDIRECT(ADDRESS($AP9,AQ$1),1) -> 75.8 | AR9: =INDIRECT(ADDRESS($AP9,AR$1),1)*1 -> 292.675 | AS9: =INDIRECT(ADDRESS($AP9,AS$1),1) -> 43775.472
A10: C4290 | B10: 3 EME | C10: T19 | D10: 3 EME | E10: 0 | F10: 67.1 | G10: 70.7 | H10: 76.2 | I10: 10.03 | J10: 1.49 | K10: 31.84 | L10: 0.53 | M10: 43781.421 | N10: 43781.421 | O10: C1630 | S10: Pondéré sortie silo T01 : | U10: =SUMPRODUCT((Melanges_tele[origin]=Données!B15)*(Melanges_tele[DestProduct]=Données!B16)*Melanges_tele[Y],Melanges_tele[tons])/SUMPRODUCT((Melanges_tele[origin]=Données!B15)*(Melanges_tele[DestProduct]=Données!B16)*Melanges_tele[tons]) -> 79.738146 | W10: 019/296/003 | X10: 43762.227 | Y10: 582 | Z10: 1ERE | AA10: T26 | AB10: 1ERE MS | AC10: 2019 | AD10: 10 | AE10: 2 A | AF10: =IFERROR(SUMPRODUCT(--(tbl_bd_descente[wo_number]=W10),tbl_bd_descente[Y],tbl_bd_descente[tons])/SUMIF(tbl_bd_descente[wo_number],W10,tbl_bd_descente[tons]),0) -> 79.857732 | AG10: =IFERROR(SUMPRODUCT(--(tbl_bd_descente[wo_number]=W10),tbl_bd_descente[Al2O3],tbl_bd_descente[tons])/SUMIF(tbl_bd_descente[wo_number],W10,tbl_bd_descente[tons]),0) -> 11.677835 | AH10: =IFERROR(SUMPRODUCT(--(tbl_bd_descente[wo_number]=W10),tbl_bd_descente[Fe2O3],tbl_bd_descente[tons])/SUMIF(tbl_bd_descente[wo_number],W10,tbl_bd_descente[tons]),0) -> 1.6362887 | AI10: =IFERROR(SUMPRODUCT(--(tbl_bd_descente[wo_number]=W10),tbl_bd_descente[MgO],tbl_bd_descente[tons])/SUMIF(tbl_bd_descente[wo_number],W10,tbl_bd_descente[tons]),0) -> 32.417835 | AJ10: =IFERROR(SUMPRODUCT(--(tbl_bd_descente[wo_number]=W10),tbl_bd_descente[CaOX],tbl_bd_descente[tons])/SUMIF(tbl_bd_descente[wo_number],W10,tbl_bd_descente[tons]),0) -> 0.8085567 | AK10: =IFERROR(SUMPRODUCT(--(tbl_bd_descente[wo_number]=W10),tbl_bd_descente[S],tbl_bd_descente[tons])/SUMIF(tbl_bd_descente[wo_number],W10,tbl_bd_descente[tons]),0) -> 0.051639175 | AO10: =IF(AND(C10=S$2,D10=S$3,COUNTIF(AO$1:AO9,">"&1)<10),ROW(),"") | AP10: =SMALL(AO:AO,ROW()-3) -> 34 | AQ10: =INDIRECT(ADDRESS($AP10,AQ$1),1) -> 77 | AR10: =INDIRECT(ADDRESS($AP10,AR$1),1)*1 -> 292.09 | AS10: =INDIRECT(ADDRESS($AP10,AS$1),1) -> 43775.442
A11: C4280 | B11: 2EME TO | C11: T01 | D11: 2EME TO | E11: 326.905 | F11: 78.3 | G11: 82.5 | H11: 89.2 | I11: 3.4 | J11: 0.76 | K11: 31.49 | L11: 0.8 | M11: 43776.686 | N11: 43776.725 | O11: C1615 | T11: Tonnes : | U11: =Données!B6 -> 36676.333 | W11: 019/296/002 | X11: 43761.918 | Y11: 403 | Z11: 1 ERE BLANCHE | AA11: T29 | AB11: 1 ERE BLANCHE | AC11: 2019 | AD11: 10 | AE11: STT | AF11: =IFERROR(SUMPRODUCT(--(tbl_bd_descente[wo_number]=W11),tbl_bd_descente[Y],tbl_bd_descente[tons])/SUMIF(tbl_bd_descente[wo_number],W11,tbl_bd_descente[tons]),0) -> 84.3 | AG11: =IFERROR(SUMPRODUCT(--(tbl_bd_descente[wo_number]=W11),tbl_bd_descente[Al2O3],tbl_bd_descente[tons])/SUMIF(tbl_bd_descente[wo_number],W11,tbl_bd_descente[tons]),0) -> 7.95 | AH11: =IFERROR(SUMPRODUCT(--(tbl_bd_descente[wo_number]=W11),tbl_bd_descente[Fe2O3],tbl_bd_descente[tons])/SUMIF(tbl_bd_descente[wo_number],W11,tbl_bd_descente[tons]),0) -> 1.14 | AI11: =IFERROR(SUMPRODUCT(--(tbl_bd_descente[wo_number]=W11),tbl_bd_descente[MgO],tbl_bd_descente[tons])/SUMIF(tbl_bd_descente[wo_number],W11,tbl_bd_descente[tons]),0) -> 31.97 | AJ11: =IFERROR(SUMPRODUCT(--(tbl_bd_descente[wo_number]=W11),tbl_bd_descente[CaOX],tbl_bd_descente[tons])/SUMIF(tbl_bd_descente[wo_number],W11,tbl_bd_descente[tons]),0) -> 0.65 | AK11: =IFERROR(SUMPRODUCT(--(tbl_bd_descente[wo_number]=W11),tbl_bd_descente[S],tbl_bd_descente[tons])/SUMIF(tbl_bd_descente[wo_number],W11,tbl_bd_descente[tons]),0) -> 0.033 | AO11: =IF(AND(C11=S$2,D11=S$3,COUNTIF(AO$1:AO10,">"&1)<10),ROW(),"") -> 11 | AP11: =SMALL(AO:AO,ROW()-3) -> 40 | AQ11: =INDIRECT(ADDRESS($AP11,AQ$1),1) -> 74.3 | AR11: =INDIRECT(ADDRESS($AP11,AR$1),1)*1 -> 220.06 | AS11: =INDIRECT(ADDRESS($AP11,AS$1),1) -> 43775.285
A12: C4281 | B12: 2EME TALQUEUSE | C12: T02 | D12: 2EME TALQUEUSE | E12: 218.86 | F12: 73.4 | G12: 77.4 | H12: 84.2 | I12: 2.49 | J12: 0.68 | K12: 31.18 | L12: 1.43 | M12: 43776.667 | N12: 43776.683 | O12: C1615 | W12: 019/296/001 | X12: 43761.82 | Y12: 980 | Z12: OXO TO | AA12: T05 | AB12: OXO TO | AC12: 2019 | AD12: 10 | AE12: STT | AF12: =IFERROR(SUMPRODUCT(--(tbl_bd_descente[wo_number]=W12),tbl_bd_descente[Y],tbl_bd_descente[tons])/SUMIF(tbl_bd_descente[wo_number],W12,tbl_bd_descente[tons]),0) -> 83.565306 | AG12: =IFERROR(SUMPRODUCT(--(tbl_bd_descente[wo_number]=W12),tbl_bd_descente[Al2O3],tbl_bd_descente[tons])/SUMIF(tbl_bd_descente[wo_number],W12,tbl_bd_descente[tons]),0) -> 1.762449 | AH12: =IFERROR(SUMPRODUCT(--(tbl_bd_descente[wo_number]=W12),tbl_bd_descente[Fe2O3],tbl_bd_descente[tons])/SUMIF(tbl_bd_descente[wo_number],W12,tbl_bd_descente[tons]),0) -> 0.79857143 | AI12: =IFERROR(SUMPRODUCT(--(tbl_bd_descente[wo_number]=W12),tbl_bd_descente[MgO],tbl_bd_descente[tons])/SUMIF(tbl_bd_descente[wo_number],W12,tbl_bd_descente[tons]),0) -> 31.317347 | AJ12: =IFERROR(SUMPRODUCT(--(tbl_bd_descente[wo_number]=W12),tbl_bd_descente[CaOX],tbl_bd_descente[tons])/SUMIF(tbl_bd_descente[wo_number],W12,tbl_bd_descente[tons]),0) -> 0.74571429 | AK12: =IFERROR(SUMPRODUCT(--(tbl_bd_descente[wo_number]=W12),tbl_bd_descente[S],tbl_bd_descente[tons])/SUMIF(tbl_bd_descente[wo_number],W12,tbl_bd_descente[tons]),0) -> 0.04744898 | AO12: =IF(AND(C12=S$2,D12=S$3,COUNTIF(AO$1:AO11,">"&1)<10),ROW(),"") | AP12: =SMALL(AO:AO,ROW()-3) -> 41 | AQ12: =INDIRECT(ADDRESS($AP12,AQ$1),1) -> 78.2 | AR12: =INDIRECT(ADDRESS($AP12,AR$1),1)*1 -> 220.06 | AS12: =INDIRECT(ADDRESS($AP12,AS$1),1) -> 43775.26
A13: C4286 | B13: 2 EME | C13: T08 | D13: 3 EME | E13: 290.875 | F13: 74.7 | G13: 78.8 | H13: 84.7 | I13: 7.88 | J13: 1.25 | K13: 31.87 | L13: 0.41 | M13: 43776.642 | N13: 43777.233 | O13: C1615 | W13: 019/295/006 | X13: 43761.291 | Y13: 262 | Z13: 3 EME | AA13: T19 | AB13: 3 EME | AC13: 2019 | AD13: 10 | AE13: 2 A | AF13: =IFERROR(SUMPRODUCT(--(tbl_bd_descente[wo_number]=W13),tbl_bd_descente[Y],tbl_bd_descente[tons])/SUMIF(tbl_bd_descente[wo_number],W13,tbl_bd_descente[tons]),0) -> 70.3 | AG13: =IFERROR(SUMPRODUCT(--(tbl_bd_descente[wo_number]=W13),tbl_bd_descente[Al2O3],tbl_bd_descente[tons])/SUMIF(tbl_bd_descente[wo_number],W13,tbl_bd_descente[tons]),0) -> 8.46 | AH13: =IFERROR(SUMPRODUCT(--(tbl_bd_descente[wo_number]=W13),tbl_bd_descente[Fe2O3],tbl_bd_descente[tons])/SUMIF(tbl_bd_descente[wo_number],W13,tbl_bd_descente[tons]),0) -> 1.4 | AI13: =IFERROR(SUMPRODUCT(--(tbl_bd_descente[wo_number]=W13),tbl_bd_descente[MgO],tbl_bd_descente[tons])/SUMIF(tbl_bd_descente[wo_number],W13,tbl_bd_descente[tons]),0) -> 32.06 | AJ13: =IFERROR(SUMPRODUCT(--(tbl_bd_descente[wo_number]=W13),tbl_bd_descente[CaOX],tbl_bd_descente[tons])/SUMIF(tbl_bd_descente[wo_number],W13,tbl_bd_descente[tons]),0) -> 1.01 | AK13: =IFERROR(SUMPRODUCT(--(tbl_bd_descente[wo_number]=W13),tbl_bd_descente[S],tbl_bd_descente[tons])/SUMIF(tbl_bd_descente[wo_number],W13,tbl_bd_descente[tons]),0) -> 0.068 | AO13: =IF(AND(C13=S$2,D13=S$3,COUNTIF(AO$1:AO12,">"&1)<10),ROW(),"") | AP13: =SMALL(AO:AO,ROW()-3) -> 42 | AQ13: =INDIRECT(ADDRESS($AP13,AQ$1),1) -> 76.3 | AR13: =INDIRECT(ADDRESS($AP13,AR$1),1)*1 -> 182.06 | AS13: =INDIRECT(ADDRESS($AP13,AS$1),1) -> 43775.238
A14: C4283 | B14: 3 EME | C14: T19 | D14: 3 EME | E14: 582.94999 | F14: 70.6 | G14: 74.4 | H14: 80.6 | I14: 6.14 | J14: 1.11 | K14: 31.73 | L14: 0.38 | M14: 43776.566 | N14: 43776.64 | O14: C1615 | T14: Moyenne dernière valeur : NB en U15 | U14: =AVERAGE(OFFSET(G3,COUNTA(Piles[Y])-Données!B12+1,,Données!B12,)) -> #VALUE! | W14: 019/295/006 | X14: 43761.291 | Y14: 131 | Z14: 3 EME | AA14: T09 | AB14: 3 EME | AC14: 2019 | AD14: 10 | AE14: 2 A | AF14: =IFERROR(SUMPRODUCT(--(tbl_bd_descente[wo_number]=W14),tbl_bd_descente[Y],tbl_bd_descente[tons])/SUMIF(tbl_bd_descente[wo_number],W14,tbl_bd_descente[tons]),0) -> 70.3 | AG14: =IFERROR(SUMPRODUCT(--(tbl_bd_descente[wo_number]=W14),tbl_bd_descente[Al2O3],tbl_bd_descente[tons])/SUMIF(tbl_bd_descente[wo_number],W14,tbl_bd_descente[tons]),0) -> 8.46 | AH14: =IFERROR(SUMPRODUCT(--(tbl_bd_descente[wo_number]=W14),tbl_bd_descente[Fe2O3],tbl_bd_descente[tons])/SUMIF(tbl_bd_descente[wo_number],W14,tbl_bd_descente[tons]),0) -> 1.4 | AI14: =IFERROR(SUMPRODUCT(--(tbl_bd_descente[wo_number]=W14),tbl_bd_descente[MgO],tbl_bd_descente[tons])/SUMIF(tbl_bd_descente[wo_number],W14,tbl_bd_descente[tons]),0) -> 32.06 | AJ14: =IFERROR(SUMPRODUCT(--(tbl_bd_descente[wo_number]=W14),tbl_bd_descente[CaOX],tbl_bd_descente[tons])/SUMIF(tbl_bd_descente[wo_number],W14,tbl_bd_descente[tons]),0) -> 1.01 | AK14: =IFERROR(SUMPRODUCT(--(tbl_bd_descente[wo_number]=W14),tbl_bd_descente[S],tbl_bd_descente[tons])/SUMIF(tbl_bd_descente[wo_number],W14,tbl_bd_descente[tons]),0) -> 0.068 | AO14: =IF(AND(C14=S$2,D14=S$3,COUNTIF(AO$1:AO13,">"&1)<10),ROW(),"")
A15: C4282 | B15: 3 EME | C15: T19 | D15: 3 EME | E15: 401.62 | F15: 66.9 | G15: 70.5 | H15: 76.5 | I15: 4.83 | J15: 1.06 | K15: 31.58 | L15: 0.31 | M15: 43776.516 | N15: 43776.562 | O15: C1615 | U15: 10 | W15: 019/295/005 | X15: 43760.964 | Y15: 313 | Z15: 1 ERE BLANCHE | AA15: T29 | AB15: 1 ERE BLANCHE | AC15: 2019 | AD15: 10 | AE15: 2 A | AF15: =IFERROR(SUMPRODUCT(--(tbl_bd_descente[wo_number]=W15),tbl_bd_descente[Y],tbl_bd_descente[tons])/SUMIF(tbl_bd_descente[wo_number],W15,tbl_bd_descente[tons]),0) -> 83 | AG15: =IFERROR(SUMPRODUCT(--(tbl_bd_descente[wo_number]=W15),tbl_bd_descente[Al2O3],tbl_bd_descente[tons])/SUMIF(tbl_bd_descente[wo_number],W15,tbl_bd_descente[tons]),0) -> 8.02 | AH15: =IFERROR(SUMPRODUCT(--(tbl_bd_descente[wo_number]=W15),tbl_bd_descente[Fe2O3],tbl_bd_descente[tons])/SUMIF(tbl_bd_descente[wo_number],W15,tbl_bd_descente[tons]),0) -> 1.12 | AI15: =IFERROR(SUMPRODUCT(--(tbl_bd_descente[wo_number]=W15),tbl_bd_descente[MgO],tbl_bd_descente[tons])/SUMIF(tbl_bd_descente[wo_number],W15,tbl_bd_descente[tons]),0) -> 32 | AJ15: =IFERROR(SUMPRODUCT(--(tbl_bd_descente[wo_number]=W15),tbl_bd_descente[CaOX],tbl_bd_descente[tons])/SUMIF(tbl_bd_descente[wo_number],W15,tbl_bd_descente[tons]),0) -> 1.03 | AK15: =IFERROR(SUMPRODUCT(--(tbl_bd_descente[wo_number]=W15),tbl_bd_descente[S],tbl_bd_descente[tons])/SUMIF(tbl_bd_descente[wo_number],W15,tbl_bd_descente[tons]),0) -> 0.031 | AO15: =IF(AND(C15=S$2,D15=S$3,COUNTIF(AO$1:AO14,">"&1)<10),ROW(),"") | AQ15: =SUMIF(AR4:AR13,">"&0,AQ4:AQ13)/COUNTIF(AR4:AR13,">"&0) -> 78.277778 | AR15: =SUM(AR4:AR13)/COUNTIF(AR4:AR13,">"&0) -> 263.52722
A16: C4279 | B16: 2EME TALQUEUSE | C16: T02 | D16: 2EME TALQUEUSE | E16: 328.273 | F16: 72.4 | G16: 76.3 | H16: 82.5 | I16: 4.37 | J16: 1.11 | K16: 31.6 | L16: 1.07 | M16: 43776.479 | N16: 43776.509 | O16: C1615 | W16: 019/295/004 | X16: 43760.878 | Y16: 1122 | Z16: 1ERE TO | AA16: T06 | AB16: 1ERE TO | AC16: 2019 | AD16: 10 | AE16: STT | AF16: =IFERROR(SUMPRODUCT(--(tbl_bd_descente[wo_number]=W16),tbl_bd_descente[Y],tbl_bd_descente[tons])/SUMIF(tbl_bd_descente[wo_number],W16,tbl_bd_descente[tons]),0) -> 82.482531 | AG16: =IFERROR(SUMPRODUCT(--(tbl_bd_descente[wo_number]=W16),tbl_bd_descente[Al2O3],tbl_bd_descente[tons])/SUMIF(tbl_bd_descente[wo_number],W16,tbl_bd_descente[tons]),0) -> 8.3200891 | AH16: =IFERROR(SUMPRODUCT(--(tbl_bd_descente[wo_number]=W16),tbl_bd_descente[Fe2O3],tbl_bd_descente[tons])/SUMIF(tbl_bd_descente[wo_number],W16,tbl_bd_descente[tons]),0) -> 1.2282709 | AI16: =IFERROR(SUMPRODUCT(--(tbl_bd_descente[wo_number]=W16),tbl_bd_descente[MgO],tbl_bd_descente[tons])/SUMIF(tbl_bd_descente[wo_number],W16,tbl_bd_descente[tons]),0) -> 32.072442 | AJ16: =IFERROR(SUMPRODUCT(--(tbl_bd_descente[wo_number]=W16),tbl_bd_descente[CaOX],tbl_bd_descente[tons])/SUMIF(tbl_bd_descente[wo_number],W16,tbl_bd_descente[tons]),0) -> 0.63991087 | AK16: =IFERROR(SUMPRODUCT(--(tbl_bd_descente[wo_number]=W16),tbl_bd_descente[S],tbl_bd_descente[tons])/SUMIF(tbl_bd_descente[wo_number],W16,tbl_bd_descente[tons]),0) -> 0.041331551 | AO16: =IF(AND(C16=S$2,D16=S$3,COUNTIF(AO$1:AO15,">"&1)<10),ROW(),"")
A17: C4285 | B17: 3 EME | C17: T19 | D17: 3 EME | E17: 256.06 | F17: 70.4 | G17: 74.3 | H17: 80.5 | I17: 5.09 | J17: 1.06 | K17: 31.62 | L17: 0.33 | M17: 43776.365 | N17: 43776.392 | O17: C1625 | W17: 019/295/003 | X17: 43760.535 | Y17: 129 | Z17: OXO TO | AA17: T07 | AB17: OXO TO | AC17: 2019 | AD17: 10 | AE17: STT | AF17: =IFERROR(SUMPRODUCT(--(tbl_bd_descente[wo_number]=W17),tbl_bd_descente[Y],tbl_bd_descente[tons])/SUMIF(tbl_bd_descente[wo_number],W17,tbl_bd_descente[tons]),0) -> 84.6 | AG17: =IFERROR(SUMPRODUCT(--(tbl_bd_descente[wo_number]=W17),tbl_bd_descente[Al2O3],tbl_bd_descente[tons])/SUMIF(tbl_bd_descente[wo_number],W17,tbl_bd_descente[tons]),0) -> 2.69 | AH17: =IFERROR(SUMPRODUCT(--(tbl_bd_descente[wo_number]=W17),tbl_bd_descente[Fe2O3],tbl_bd_descente[tons])/SUMIF(tbl_bd_descente[wo_number],W17,tbl_bd_descente[tons]),0) -> 0.78 | AI17: =IFERROR(SUMPRODUCT(--(tbl_bd_descente[wo_number]=W17),tbl_bd_descente[MgO],tbl_bd_descente[tons])/SUMIF(tbl_bd_descente[wo_number],W17,tbl_bd_descente[tons]),0) -> 31.53 | AJ17: =IFERROR(SUMPRODUCT(--(tbl_bd_descente[wo_number]=W17),tbl_bd_descente[CaOX],tbl_bd_descente[tons])/SUMIF(tbl_bd_descente[wo_number],W17,tbl_bd_descente[tons]),0) -> 0.32 | AK17: =IFERROR(SUMPRODUCT(--(tbl_bd_descente[wo_number]=W17),tbl_bd_descente[S],tbl_bd_descente[tons])/SUMIF(tbl_bd_descente[wo_number],W17,tbl_bd_descente[tons]),0) -> 0.05 | AO17: =IF(AND(C17=S$2,D17=S$3,COUNTIF(AO$1:AO16,">"&1)<10),ROW(),"")
A18: C4284 | B18: 3 EME | C18: T19 | D18: 3 EME | E18: 586.31799 | F18: 66.3 | G18: 70 | H18: 75.2 | I18: 13.23 | J18: 1.57 | K18: 32.4 | L18: 0.38 | M18: 43776.294 | N18: 43776.347 | O18: C1630 | T18: Moyenne Pondéré dernière valeur : NB en U15 | U18: =SUMPRODUCT(OFFSET(G3,COUNTA(Piles[Y])-U15+1,,U15,),OFFSET(E3,COUNTA(Piles[tons])-U15+1,,U15,)/SUM(OFFSET(E3,COUNTA(Piles[tons])-U15+1,,U15,))) -> #VALUE! | W18: 019/295/003 | X18: 43760.535 | Y18: 129 | Z18: 00 TO | AA18: T15 | AB18: OXO TO | AC18: 2019 | AD18: 10 | AE18: 2 A | AF18: =IFERROR(SUMPRODUCT(--(tbl_bd_descente[wo_number]=W18),tbl_bd_descente[Y],tbl_bd_descente[tons])/SUMIF(tbl_bd_descente[wo_number],W18,tbl_bd_descente[tons]),0) -> 84.6 | AG18: =IFERROR(SUMPRODUCT(--(tbl_bd_descente[wo_number]=W18),tbl_bd_descente[Al2O3],tbl_bd_descente[tons])/SUMIF(tbl_bd_descente[wo_number],W18,tbl_bd_descente[tons]),0) -> 2.69 | AH18: =IFERROR(SUMPRODUCT(--(tbl_bd_descente[wo_number]=W18),tbl_bd_descente[Fe2O3],tbl_bd_descente[tons])/SUMIF(tbl_bd_descente[wo_number],W18,tbl_bd_descente[tons]),0) -> 0.78 | AI18: =IFERROR(SUMPRODUCT(--(tbl_bd_descente[wo_number]=W18),tbl_bd_descente[MgO],tbl_bd_descente[tons])/SUMIF(tbl_bd_descente[wo_number],W18,tbl_bd_descente[tons]),0) -> 31.53 | AJ18: =IFERROR(SUMPRODUCT(--(tbl_bd_descente[wo_number]=W18),tbl_bd_descente[CaOX],tbl_bd_descente[tons])/SUMIF(tbl_bd_descente[wo_number],W18,tbl_bd_descente[tons]),0) -> 0.32 | AK18: =IFERROR(SUMPRODUCT(--(tbl_bd_descente[wo_number]=W18),tbl_bd_descente[S],tbl_bd_descente[tons])/SUMIF(tbl_bd_descente[wo_number],W18,tbl_bd_descente[tons]),0) -> 0.05 | AO18: =IF(AND(C18=S$2,D18=S$3,COUNTIF(AO$1:AO17,">"&1)<10),ROW(),"")
A19: C4287 | B19: 3 EME | C19: T19 | D19: 3 EME | E19: 404.105 | F19: 66.2 | G19: 69.8 | H19: 75.1 | I19: 8.76 | J19: 1.41 | K19: 31.9 | L19: 0.57 | M19: 43776.239 | N19: 43776.753 | O19: C1625 | U19: =COUNTIF(AA:AA,S2) -> 38 | W19: 019/295/002 | X19: 43760.455 | Y19: 686.66667 | Z19: OXO TO | AA19: T07 | AB19: OXO TO | AC19: 2019 | AD19: 10 | AE19: 2 A | AF19: =IFERROR(SUMPRODUCT(--(tbl_bd_descente[wo_number]=W19),tbl_bd_descente[Y],tbl_bd_descente[tons])/SUMIF(tbl_bd_descente[wo_number],W19,tbl_bd_descente[tons]),0) -> 85.937864 | AG19: =IFERROR(SUMPRODUCT(--(tbl_bd_descente[wo_number]=W19),tbl_bd_descente[Al2O3],tbl_bd_descente[tons])/SUMIF(tbl_bd_descente[wo_number],W19,tbl_bd_descente[tons]),0) -> 2.9746602 | AH19: =IFERROR(SUMPRODUCT(--(tbl_bd_descente[wo_number]=W19),tbl_bd_descente[Fe2O3],tbl_bd_descente[tons])/SUMIF(tbl_bd_descente[wo_number],W19,tbl_bd_descente[tons]),0) -> 0.79165049 | AI19: =IFERROR(SUMPRODUCT(--(tbl_bd_descente[wo_number]=W19),tbl_bd_descente[MgO],tbl_bd_descente[tons])/SUMIF(tbl_bd_descente[wo_number],W19,tbl_bd_descente[tons]),0) -> 31.294757 | AJ19: =IFERROR(SUMPRODUCT(--(tbl_bd_descente[wo_number]=W19),tbl_bd_descente[CaOX],tbl_bd_descente[tons])/SUMIF(tbl_bd_descente[wo_number],W19,tbl_bd_descente[tons]),0) -> 0.53174757 | AK19: =IFERROR(SUMPRODUCT(--(tbl_bd_descente[wo_number]=W19),tbl_bd_descente[S],tbl_bd_descente[tons])/SUMIF(tbl_bd_descente[wo_number],W19,tbl_bd_descente[tons]),0) -> 0.043281553 | AO19: =IF(AND(C19=S$2,D19=S$3,COUNTIF(AO$1:AO18,">"&1)<10),ROW(),"")
A20: A5144 | B20: 1ERE TO | C20: T14 | D20: 1ERE TO | E20: 182.245 | F20: 81.3 | G20: 85.7 | H20: 92.5 | I20: 5.95 | J20: 0.84 | K20: 31.9 | L20: 0.59 | M20: 43775.855 | N20: 43775.869 | O20: A1615 | W20: 019/295/002 | X20: 43760.455 | Y20: 343.33333 | Z20: 00 TO | AA20: T15 | AB20: OXO TO | AC20: 2019 | AD20: 10 | AE20: 2 A | AF20: =IFERROR(SUMPRODUCT(--(tbl_bd_descente[wo_number]=W20),tbl_bd_descente[Y],tbl_bd_descente[tons])/SUMIF(tbl_bd_descente[wo_number],W20,tbl_bd_descente[tons]),0) -> 85.937864 | AG20: =IFERROR(SUMPRODUCT(--(tbl_bd_descente[wo_number]=W20),tbl_bd_descente[Al2O3],tbl_bd_descente[tons])/SUMIF(tbl_bd_descente[wo_number],W20,tbl_bd_descente[tons]),0) -> 2.9746602 | AH20: =IFERROR(SUMPRODUCT(--(tbl_bd_descente[wo_number]=W20),tbl_bd_descente[Fe2O3],tbl_bd_descente[tons])/SUMIF(tbl_bd_descente[wo_number],W20,tbl_bd_descente[tons]),0) -> 0.79165049 | AI20: =IFERROR(SUMPRODUCT(--(tbl_bd_descente[wo_number]=W20),tbl_bd_descente[MgO],tbl_bd_descente[tons])/SUMIF(tbl_bd_descente[wo_number],W20,tbl_bd_descente[tons]),0) -> 31.294757 | AJ20: =IFERROR(SUMPRODUCT(--(tbl_bd_descente[wo_number]=W20),tbl_bd_descente[CaOX],tbl_bd_descente[tons])/SUMIF(tbl_bd_descente[wo_number],W20,tbl_bd_descente[tons]),0) -> 0.53174757 | AK20: =IFERROR(SUMPRODUCT(--(tbl_bd_descente[wo_number]=W20),tbl_bd_descente[S],tbl_bd_descente[tons])/SUMIF(tbl_bd_descente[wo_number],W20,tbl_bd_descente[tons]),0) -> 0.043281553 | AO20: =IF(AND(C20=S$2,D20=S$3,COUNTIF(AO$1:AO19,">"&1)<10),ROW(),"")
A21: A5136 | B21: 1ERE TO | C21: T06 | D21: 1ERE TO | E21: 181.46 | F21: 78.4 | G21: 82.6 | H21: 89.6 | I21: 4.64 | J21: 0.79 | K21: 31.66 | L21: 0.7 | M21: 43775.835 | N21: 43775.851 | O21: A1615 | R21: =SUM(IF(Piles[Destination]=S2,,OFFSET(E3,COUNTA(Piles[tons])>0-U15+1,,U15,))) -> #VALUE! | T21: =SUMPRODUCT((Piles[Destination]=S2)*(Piles[GradeDest]=S3,OFFSET(G3,COUNTA(Piles[Y])-U15+1,,U15,),OFFSET(E3,COUNTA(Piles[tons])-U15+1,,U15,))) -> #VALUE! | W21: 019/295/001 | X21: 43760.179 | Y21: 300 | Z21: 3 EME | AA21: T19 | AB21: 3 EME | AC21: 2019 | AD21: 10 | AE21: STT | AF21: =IFERROR(SUMPRODUCT(--(tbl_bd_descente[wo_number]=W21),tbl_bd_descente[Y],tbl_bd_descente[tons])/SUMIF(tbl_bd_descente[wo_number],W21,tbl_bd_descente[tons]),0) -> 74.833333 | AG21: =IFERROR(SUMPRODUCT(--(tbl_bd_descente[wo_number]=W21),tbl_bd_descente[Al2O3],tbl_bd_descente[tons])/SUMIF(tbl_bd_descente[wo_number],W21,tbl_bd_descente[tons]),0) -> 8.12 | AH21: =IFERROR(SUMPRODUCT(--(tbl_bd_descente[wo_number]=W21),tbl_bd_descente[Fe2O3],tbl_bd_descente[tons])/SUMIF(tbl_bd_descente[wo_number],W21,tbl_bd_descente[tons]),0) -> 1.54 | AI21: =IFERROR(SUMPRODUCT(--(tbl_bd_descente[wo_number]=W21),tbl_bd_descente[MgO],tbl_bd_descente[tons])/SUMIF(tbl_bd_descente[wo_number],W21,tbl_bd_descente[tons]),0) -> 31.69 | AJ21: =IFERROR(SUMPRODUCT(--(tbl_bd_descente[wo_number]=W21),tbl_bd_descente[CaOX],tbl_bd_descente[tons])/SUMIF(tbl_bd_descente[wo_number],W21,tbl_bd_descente[tons]),0) -> 1.7333333 | AK21: =IFERROR(SUMPRODUCT(--(tbl_bd_descente[wo_number]=W21),tbl_bd_descente[S],tbl_bd_descente[tons])/SUMIF(tbl_bd_descente[wo_number],W21,tbl_bd_descente[tons]),0) -> 0.10666667 | AO21: =IF(AND(C21=S$2,D21=S$3,COUNTIF(AO$1:AO20,">"&1)<10),ROW(),"")
A22: A5135 | B22: 2EME TO | C22: T04 | D22: 2EME TO | E22: 182.645 | F22: 79.7 | G22: 83.9 | H22: 91.1 | I22: 2.32 | J22: 0.67 | K22: 31.5 | L22: 0.96 | M22: 43775.82 | N22: 43775.832 | O22: A1615 | W22: 019/295/001 | X22: 43760.179 | Y22: 150 | Z22: 3 EME | AA22: T09 | AB22: 3 EME | AC22: 2019 | AD22: 10 | AE22: 2 A | AF22: =IFERROR(SUMPRODUCT(--(tbl_bd_descente[wo_number]=W22),tbl_bd_descente[Y],tbl_bd_descente[tons])/SUMIF(tbl_bd_descente[wo_number],W22,tbl_bd_descente[tons]),0) -> 74.833333 | AG22: =IFERROR(SUMPRODUCT(--(tbl_bd_descente[wo_number]=W22),tbl_bd_descente[Al2O3],tbl_bd_descente[tons])/SUMIF(tbl_bd_descente[wo_number],W22,tbl_bd_descente[tons]),0) -> 8.12 | AH22: =IFERROR(SUMPRODUCT(--(tbl_bd_descente[wo_number]=W22),tbl_bd_descente[Fe2O3],tbl_bd_descente[tons])/SUMIF(tbl_bd_descente[wo_number],W22,tbl_bd_descente[tons]),0) -> 1.54 | AI22: =IFERROR(SUMPRODUCT(--(tbl_bd_descente[wo_number]=W22),tbl_bd_descente[MgO],tbl_bd_descente[tons])/SUMIF(tbl_bd_descente[wo_number],W22,tbl_bd_descente[tons]),0) -> 31.69 | AJ22: =IFERROR(SUMPRODUCT(--(tbl_bd_descente[wo_number]=W22),tbl_bd_descente[CaOX],tbl_bd_descente[tons])/SUMIF(tbl_bd_descente[wo_number],W22,tbl_bd_descente[tons]),0) -> 1.7333333 | AK22: =IFERROR(SUMPRODUCT(--(tbl_bd_descente[wo_number]=W22),tbl_bd_descente[S],tbl_bd_descente[tons])/SUMIF(tbl_bd_descente[wo_number],W22,tbl_bd_descente[tons]),0) -> 0.10666667 | AO22: =IF(AND(C22=S$2,D22=S$3,COUNTIF(AO$1:AO21,">"&1)<10),ROW(),"")
A23: A5134 | B23: 1ERE TO | C23: T06 | D23: 1ERE TO | E23: 182.245 | F23: 77.3 | G23: 81.5 | H23: 88.5 | I23: 1.86 | J23: 0.58 | K23: 31.32 | L23: 2.6 | M23: 43775.801 | N23: 43775.815 | O23: A1615 | W23: 019/294/006 | X23: 43760.073 | Y23: 600 | Z23: 3 EME | AA23: T19 | AB23: 3 EME | AC23: 2019 | AD23: 10 | AE23: 2 A | AF23: =IFERROR(SUMPRODUCT(--(tbl_bd_descente[wo_number]=W23),tbl_bd_descente[Y],tbl_bd_descente[tons])/SUMIF(tbl_bd_descente[wo_number],W23,tbl_bd_descente[tons]),0) -> 75.1 | AG23: =IFERROR(SUMPRODUCT(--(tbl_bd_descente[wo_number]=W23),tbl_bd_descente[Al2O3],tbl_bd_descente[tons])/SUMIF(tbl_bd_descente[wo_number],W23,tbl_bd_descente[tons]),0) -> 7.4933333 | AH23: =IFERROR(SUMPRODUCT(--(tbl_bd_descente[wo_number]=W23),tbl_bd_descente[Fe2O3],tbl_bd_descente[tons])/SUMIF(tbl_bd_descente[wo_number],W23,tbl_bd_descente[tons]),0) -> 1.44 | AI23: =IFERROR(SUMPRODUCT(--(tbl_bd_descente[wo_number]=W23),tbl_bd_descente[MgO],tbl_bd_descente[tons])/SUMIF(tbl_bd_descente[wo_number],W23,tbl_bd_descente[tons]),0) -> 31.693333 | AJ23: =IFERROR(SUMPRODUCT(--(tbl_bd_descente[wo_number]=W23),tbl_bd_descente[CaOX],tbl_bd_descente[tons])/SUMIF(tbl_bd_descente[wo_number],W23,tbl_bd_descente[tons]),0) -> 0.83333333 | AK23: =IFERROR(SUMPRODUCT(--(tbl_bd_descente[wo_number]=W23),tbl_bd_descente[S],tbl_bd_descente[tons])/SUMIF(tbl_bd_descente[wo_number],W23,tbl_bd_descente[tons]),0) -> 0.10833333 | AO23: =IF(AND(C23=S$2,D23=S$3,COUNTIF(AO$1:AO22,">"&1)<10),ROW(),"")
A24: A5141 | B24: 2EME TO | C24: T01 | D24: 2EME TO | E24: 328.245 | F24: 77.3 | G24: 81.6 | H24: 88.5 | I24: 2 | J24: 0.72 | K24: 31.37 | L24: 0.45 | M24: 43775.765 | N24: 43775.796 | O24: A1615 | R24: =SUMPRODUCT((Piles[Destination]=Données!B15)*(Piles[tons]<=0)*OFFSET(G3,COUNTA(Piles[Y])-Données!B12+1,,Données!B12,),OFFSET(E3,COUNTA(Piles[tons])-Données!B12+1,,Données!B12,)) -> #VALUE! | W24: 019/294/006 | X24: 43760.073 | Y24: 300 | Z24: 3 EME | AA24: T09 | AB24: 3 EME | AC24: 2019 | AD24: 10 | AE24: 2 A | AF24: =IFERROR(SUMPRODUCT(--(tbl_bd_descente[wo_number]=W24),tbl_bd_descente[Y],tbl_bd_descente[tons])/SUMIF(tbl_bd_descente[wo_number],W24,tbl_bd_descente[tons]),0) -> 75.1 | AG24: =IFERROR(SUMPRODUCT(--(tbl_bd_descente[wo_number]=W24),tbl_bd_descente[Al2O3],tbl_bd_descente[tons])/SUMIF(tbl_bd_descente[wo_number],W24,tbl_bd_descente[tons]),0) -> 7.4933333 | AH24: =IFERROR(SUMPRODUCT(--(tbl_bd_descente[wo_number]=W24),tbl_bd_descente[Fe2O3],tbl_bd_descente[tons])/SUMIF(tbl_bd_descente[wo_number],W24,tbl_bd_descente[tons]),0) -> 1.44 | AI24: =IFERROR(SUMPRODUCT(--(tbl_bd_descente[wo_number]=W24),tbl_bd_descente[MgO],tbl_bd_descente[tons])/SUMIF(tbl_bd_descente[wo_number],W24,tbl_bd_descente[tons]),0) -> 31.693333 | AJ24: =IFERROR(SUMPRODUCT(--(tbl_bd_descente[wo_number]=W24),tbl_bd_descente[CaOX],tbl_bd_descente[tons])/SUMIF(tbl_bd_descente[wo_number],W24,tbl_bd_descente[tons]),0) -> 0.83333333 | AK24: =IFERROR(SUMPRODUCT(--(tbl_bd_descente[wo_number]=W24),tbl_bd_descente[S],tbl_bd_descente[tons])/SUMIF(tbl_bd_descente[wo_number],W24,tbl_bd_descente[tons]),0) -> 0.10833333 | AO24: =IF(AND(C24=S$2,D24=S$3,COUNTIF(AO$1:AO23,">"&1)<10),ROW(),"") -> 24
A25: A5139 | B25: 1ERE TO | C25: T06 | D25: 1ERE TO | E25: 255.475 | F25: 79.7 | G25: 84 | H25: 91 | I25: 3.36 | J25: 0.61 | K25: 31.52 | L25: 0.42 | M25: 43775.707 | N25: 43775.731 | O25: A1615 | R25: =IF(OR(Piles[Destination]=Données!B15),(Piles[GradeDest]=Données!B16),SUM(OFFSET(E3,COUNTA(Piles[tons])-Données!B12+1,,Données!B12,))) -> #VALUE! | T25: 3358 | W25: 019/294/005 | X25: 43759.847 | Y25: 485.33333 | Z25: 3 EME | AA25: T09 | AB25: 3 EME | AC25: 2019 | AD25: 10 | AE25: STT | AF25: =IFERROR(SUMPRODUCT(--(tbl_bd_descente[wo_number]=W25),tbl_bd_descente[Y],tbl_bd_descente[tons])/SUMIF(tbl_bd_descente[wo_number],W25,tbl_bd_descente[tons]),0) -> 74.01978 | AG25: =IFERROR(SUMPRODUCT(--(tbl_bd_descente[wo_number]=W25),tbl_bd_descente[Al2O3],tbl_bd_descente[tons])/SUMIF(tbl_bd_descente[wo_number],W25,tbl_bd_descente[tons]),0) -> 8.9432967 | AH25: =IFERROR(SUMPRODUCT(--(tbl_bd_descente[wo_number]=W25),tbl_bd_descente[Fe2O3],tbl_bd_descente[tons])/SUMIF(tbl_bd_descente[wo_number],W25,tbl_bd_descente[tons]),0) -> 1.6045055 | AI25: =IFERROR(SUMPRODUCT(--(tbl_bd_descente[wo_number]=W25),tbl_bd_descente[MgO],tbl_bd_descente[tons])/SUMIF(tbl_bd_descente[wo_number],W25,tbl_bd_descente[tons]),0) -> 31.849011 | AJ25: =IFERROR(SUMPRODUCT(--(tbl_bd_descente[wo_number]=W25),tbl_bd_descente[CaOX],tbl_bd_descente[tons])/SUMIF(tbl_bd_descente[wo_number],W25,tbl_bd_descente[tons]),0) -> 0.79043956 | AK25: =IFERROR(SUMPRODUCT(--(tbl_bd_descente[wo_number]=W25),tbl_bd_descente[S],tbl_bd_descente[tons])/SUMIF(tbl_bd_descente[wo_number],W25,tbl_bd_descente[tons]),0) -> 0.099989011 | AO25: =IF(AND(C25=S$2,D25=S$3,COUNTIF(AO$1:AO24,">"&1)<10),ROW(),"")
A26: A5138 | B26: 2EME TO | C26: T01 | D26: 2EME TO | E26: 254.875 | F26: 77.7 | G26: 81.9 | H26: 88.9 | I26: 1.66 | J26: 0.71 | K26: 31.34 | L26: 0.56 | M26: 43775.683 | N26: 43775.706 | O26: A1615 | W26: 019/294/005 | X26: 43759.847 | Y26: 242.66667 | Z26: 3 EME | AA26: T19 | AB26: 3 EME | AC26: 2019 | AD26: 10 | AE26: STT | AF26: =IFERROR(SUMPRODUCT(--(tbl_bd_descente[wo_number]=W26),tbl_bd_descente[Y],tbl_bd_descente[tons])/SUMIF(tbl_bd_descente[wo_number],W26,tbl_bd_descente[tons]),0) -> 74.01978 | AG26: =IFERROR(SUMPRODUCT(--(tbl_bd_descente[wo_number]=W26),tbl_bd_descente[Al2O3],tbl_bd_descente[tons])/SUMIF(tbl_bd_descente[wo_number],W26,tbl_bd_descente[tons]),0) -> 8.9432967 | AH26: =IFERROR(SUMPRODUCT(--(tbl_bd_descente[wo_number]=W26),tbl_bd_descente[Fe2O3],tbl_bd_descente[tons])/SUMIF(tbl_bd_descente[wo_number],W26,tbl_bd_descente[tons]),0) -> 1.6045055 | AI26: =IFERROR(SUMPRODUCT(--(tbl_bd_descente[wo_number]=W26),tbl_bd_descente[MgO],tbl_bd_descente[tons])/SUMIF(tbl_bd_descente[wo_number],W26,tbl_bd_descente[tons]),0) -> 31.849011 | AJ26: =IFERROR(SUMPRODUCT(--(tbl_bd_descente[wo_number]=W26),tbl_bd_descente[CaOX],tbl_bd_descente[tons])/SUMIF(tbl_bd_descente[wo_number],W26,tbl_bd_descente[tons]),0) -> 0.79043956 | AK26: =IFERROR(SUMPRODUCT(--(tbl_bd_descente[wo_number]=W26),tbl_bd_descente[S],tbl_bd_descente[tons])/SUMIF(tbl_bd_descente[wo_number],W26,tbl_bd_descente[tons]),0) -> 0.099989011 | AO26: =IF(AND(C26=S$2,D26=S$3,COUNTIF(AO$1:AO25,">"&1)<10),ROW(),"") -> 26
A27: A5137 | B27: OXO TO | C27: T13 | D27: OXO TO | E27: 217.86 | F27: 80 | G27: 84.3 | H27: 91.6 | I27: 0.97 | J27: 0.51 | K27: 31.32 | L27: 0.32 | M27: 43775.659 | N27: 43775.674 | O27: A1615 | W27: 019/294/004 | X27: 43759.654 | Y27: 109.33333 | Z27: 3 EME | AA27: T09 | AB27: 3 EME | AC27: 2019 | AD27: 10 | AE27: 2 A | AF27: =IFERROR(SUMPRODUCT(--(tbl_bd_descente[wo_number]=W27),tbl_bd_descente[Y],tbl_bd_descente[tons])/SUMIF(tbl_bd_descente[wo_number],W27,tbl_bd_descente[tons]),0) -> 75.5 | AG27: =IFERROR(SUMPRODUCT(--(tbl_bd_descente[wo_number]=W27),tbl_bd_descente[Al2O3],tbl_bd_descente[tons])/SUMIF(tbl_bd_descente[wo_number],W27,tbl_bd_descente[tons]),0) -> 7.96 | AH27: =IFERROR(SUMPRODUCT(--(tbl_bd_descente[wo_number]=W27),tbl_bd_descente[Fe2O3],tbl_bd_descente[tons])/SUMIF(tbl_bd_descente[wo_number],W27,tbl_bd_descente[tons]),0) -> 1.45 | AI27: =IFERROR(SUMPRODUCT(--(tbl_bd_descente[wo_number]=W27),tbl_bd_descente[MgO],tbl_bd_descente[tons])/SUMIF(tbl_bd_descente[wo_number],W27,tbl_bd_descente[tons]),0) -> 31.86 | AJ27: =IFERROR(SUMPRODUCT(--(tbl_bd_descente[wo_number]=W27),tbl_bd_descente[CaOX],tbl_bd_descente[tons])/SUMIF(tbl_bd_descente[wo_number],W27,tbl_bd_descente[tons]),0) -> 0.72 | AK27: =IFERROR(SUMPRODUCT(--(tbl_bd_descente[wo_number]=W27),tbl_bd_descente[S],tbl_bd_descente[tons])/SUMIF(tbl_bd_descente[wo_number],W27,tbl_bd_descente[tons]),0) -> 0.094 | AO27: =IF(AND(C27=S$2,D27=S$3,COUNTIF(AO$1:AO26,">"&1)<10),ROW(),"")
A28: A5133 | B28: 1 ERE BLANCHE | C28: T29 | D28: 1 ERE BLANCHE | E28: 472.02 | F28: 80.5 | G28: 84.9 | H28: 91.4 | I28: 9.16 | J28: 0.87 | K28: 32.25 | L28: 0.8 | M28: 43775.595 | N28: 43775.643 | O28: A1615 | Q28: Je cherche à réaliser une moyenne pondéré sur le nombre de valeurs noté en U15 ici en jaune mais uniquement avec destination T01 (colonne C) et un gradedest qui est 2EME TO (colonne D), de plus il y a des valeurs nulles qu'il ne faut pas prendre en compte. Sur les deux cases en vert j'ai fait des essais : je récupère bien les 10 dernière valeurs mais pas avec les conditions que je souhaite. Sur les deux écriture rouge, j'ai également essayer des pistes qui ne sont pas concluante. Si je baisse la valeurs de la cases jaune à 5 la valeur de U18 devient "#DIV/0!" car il ya des valeurs nulles dans la colonne tons (colonne E). Je ne supprime pas les lignes car c'est une base automatique et les lignes reviendrons à chaque mise à jour | W28: 019/294/004 | X28: 43759.654 | Y28: 54.666667 | Z28: 3 EME | AA28: T19 | AB28: 3 EME | AC28: 2019 | AD28: 10 | AE28: 2 A | AF28: =IFERROR(SUMPRODUCT(--(tbl_bd_descente[wo_number]=W28),tbl_bd_descente[Y],tbl_bd_descente[tons])/SUMIF(tbl_bd_descente[wo_number],W28,tbl_bd_descente[tons]),0) -> 75.5 | AG28: =IFERROR(SUMPRODUCT(--(tbl_bd_descente[wo_number]=W28),tbl_bd_descente[Al2O3],tbl_bd_descente[tons])/SUMIF(tbl_bd_descente[wo_number],W28,tbl_bd_descente[tons]),0) -> 7.96 | AH28: =IFERROR(SUMPRODUCT(--(tbl_bd_descente[wo_number]=W28),tbl_bd_descente[Fe2O3],tbl_bd_descente[tons])/SUMIF(tbl_bd_descente[wo_number],W28,tbl_bd_descente[tons]),0) -> 1.45 | AI28: =IFERROR(SUMPRODUCT(--(tbl_bd_descente[wo_number]=W28),tbl_bd_descente[MgO],tbl_bd_descente[tons])/SUMIF(tbl_bd_descente[wo_number],W28,tbl_bd_descente[tons]),0) -> 31.86 | AJ28: =IFERROR(SUMPRODUCT(--(tbl_bd_descente[wo_number]=W28),tbl_bd_descente[CaOX],tbl_bd_descente[tons])/SUMIF(tbl_bd_descente[wo_number],W28,tbl_bd_descente[tons]),0) -> 0.72 | AK28: =IFERROR(SUMPRODUCT(--(tbl_bd_descente[wo_number]=W28),tbl_bd_descente[S],tbl_bd_descente[tons])/SUMIF(tbl_bd_descente[wo_number],W28,tbl_bd_descente[tons]),0) -> 0.094 | AO28: =IF(AND(C28=S$2,D28=S$3,COUNTIF(AO$1:AO27,">"&1)<10),ROW(),"")
A29: A5123 | B29: 1ERE TALQUEUSE | C29: T13 | D29: OXO TO | E29: 144.43 | F29: 79.5 | G29: 83.5 | H29: 91.3 | I29: 2.5 | J29: 0.67 | K29: 31.44 | L29: 0.4 | M29: 43775.578 | N29: 43775.654 | O29: A1615 | W29: 019/294/003 | X29: 43759.556 | Y29: 900 | Z29: 3 EME | AA29: T08 | AB29: 3 EME | AC29: 2019 | AD29: 10 | AE29: STT | AF29: =IFERROR(SUMPRODUCT(--(tbl_bd_descente[wo_number]=W29),tbl_bd_descente[Y],tbl_bd_descente[tons])/SUMIF(tbl_bd_descente[wo_number],W29,tbl_bd_descente[tons]),0) -> 75.233333 | AG29: =IFERROR(SUMPRODUCT(--(tbl_bd_descente[wo_number]=W29),tbl_bd_descente[Al2O3],tbl_bd_descente[tons])/SUMIF(tbl_bd_descente[wo_number],W29,tbl_bd_descente[tons]),0) -> 6.35 | AH29: =IFERROR(SUMPRODUCT(--(tbl_bd_descente[wo_number]=W29),tbl_bd_descente[Fe2O3],tbl_bd_descente[tons])/SUMIF(tbl_bd_descente[wo_number],W29,tbl_bd_descente[tons]),0) -> 1.3166667 | AI29: =IFERROR(SUMPRODUCT(--(tbl_bd_descente[wo_number]=W29),tbl_bd_descente[MgO],tbl_bd_descente[tons])/SUMIF(tbl_bd_descente[wo_number],W29,tbl_bd_descente[tons]),0) -> 31.603333 | AJ29: =IFERROR(SUMPRODUCT(--(tbl_bd_descente[wo_number]=W29),tbl_bd_descente[CaOX],tbl_bd_descente[tons])/SUMIF(tbl_bd_descente[wo_number],W29,tbl_bd_descente[tons]),0) -> 1.63 | AK29: =IFERROR(SUMPRODUCT(--(tbl_bd_descente[wo_number]=W29),tbl_bd_descente[S],tbl_bd_descente[tons])/SUMIF(tbl_bd_descente[wo_number],W29,tbl_bd_descente[tons]),0) -> 0.099666667 | AO29: =IF(AND(C29=S$2,D29=S$3,COUNTIF(AO$1:AO28,">"&1)<10),ROW(),"")
A30: A5132 | B30: OXO TO | C30: T13 | D30: OXO TO | E30: 146.13 | F30: 78.9 | G30: 83.1 | H30: 90.2 | I30: 2.46 | J30: 0.66 | K30: 31.43 | L30: 1.4 | M30: 43775.557 | N30: 43775.573 | O30: A1615 | W30: 019/294/002 | X30: 43759.347 | Y30: 628 | Z30: OXO TO | AA30: T07 | AB30: OXO TO | AC30: 2019 | AD30: 10 | AE30: STT | AF30: =IFERROR(SUMPRODUCT(--(tbl_bd_descente[wo_number]=W30),tbl_bd_descente[Y],tbl_bd_descente[tons])/SUMIF(tbl_bd_descente[wo_number],W30,tbl_bd_descente[tons]),0) -> 85.328025 | AG30: =IFERROR(SUMPRODUCT(--(tbl_bd_descente[wo_number]=W30),tbl_bd_descente[Al2O3],tbl_bd_descente[tons])/SUMIF(tbl_bd_descente[wo_number],W30,tbl_bd_descente[tons]),0) -> 4.5463057 | AH30: =IFERROR(SUMPRODUCT(--(tbl_bd_descente[wo_number]=W30),tbl_bd_descente[Fe2O3],tbl_bd_descente[tons])/SUMIF(tbl_bd_descente[wo_number],W30,tbl_bd_descente[tons]),0) -> 0.9755414 | AI30: =IFERROR(SUMPRODUCT(--(tbl_bd_descente[wo_number]=W30),tbl_bd_descente[MgO],tbl_bd_descente[tons])/SUMIF(tbl_bd_descente[wo_number],W30,tbl_bd_descente[tons]),0) -> 31.486497 | AJ30: =IFERROR(SUMPRODUCT(--(tbl_bd_descente[wo_number]=W30),tbl_bd_descente[CaOX],tbl_bd_descente[tons])/SUMIF(tbl_bd_descente[wo_number],W30,tbl_bd_descente[tons]),0) -> 0.71993631 | AK30: =IFERROR(SUMPRODUCT(--(tbl_bd_descente[wo_number]=W30),tbl_bd_descente[S],tbl_bd_descente[tons])/SUMIF(tbl_bd_descente[wo_number],W30,tbl_bd_descente[tons]),0) -> 0.053267516 | AO30: =IF(AND(C30=S$2,D30=S$3,COUNTIF(AO$1:AO29,">"&1)<10),ROW(),"")
A31: A5125 | B31: 2EME TO | C31: T01 | D31: 2EME TO | E31: 254.775 | F31: 72.9 | G31: 76.9 | H31: 84 | I31: 2.07 | J31: 0.68 | K31: 31.23 | L31: 0.76 | M31: 43775.52 | N31: 43775.553 | O31: A1615 | W31: 019/294/001 | X31: 43759.185 | Y31: 293.33333 | Z31: 3 EME | AA31: T09 | AB31: 3 EME | AC31: 2019 | AD31: 10 | AE31: 2 A | AF31: =IFERROR(SUMPRODUCT(--(tbl_bd_descente[wo_number]=W31),tbl_bd_descente[Y],tbl_bd_descente[tons])/SUMIF(tbl_bd_descente[wo_number],W31,tbl_bd_descente[tons]),0) -> 72.945455 | AG31: =IFERROR(SUMPRODUCT(--(tbl_bd_descente[wo_number]=W31),tbl_bd_descente[Al2O3],tbl_bd_descente[tons])/SUMIF(tbl_bd_descente[wo_number],W31,tbl_bd_descente[tons]),0) -> 9.3827273 | AH31: =IFERROR(SUMPRODUCT(--(tbl_bd_descente[wo_number]=W31),tbl_bd_descente[Fe2O3],tbl_bd_descente[tons])/SUMIF(tbl_bd_descente[wo_number],W31,tbl_bd_descente[tons]),0) -> 1.615 | AI31: =IFERROR(SUMPRODUCT(--(tbl_bd_descente[wo_number]=W31),tbl_bd_descente[MgO],tbl_bd_descente[tons])/SUMIF(tbl_bd_descente[wo_number],W31,tbl_bd_descente[tons]),0) -> 31.841818 | AJ31: =IFERROR(SUMPRODUCT(--(tbl_bd_descente[wo_number]=W31),tbl_bd_descente[CaOX],tbl_bd_descente[tons])/SUMIF(tbl_bd_descente[wo_number],W31,tbl_bd_descente[tons]),0) -> 1.4677273 | AK31: =IFERROR(SUMPRODUCT(--(tbl_bd_descente[wo_number]=W31),tbl_bd_descente[S],tbl_bd_descente[tons])/SUMIF(tbl_bd_descente[wo_number],W31,tbl_bd_descente[tons]),0) -> 0.10886364 | AO31: =IF(AND(C31=S$2,D31=S$3,COUNTIF(AO$1:AO30,">"&1)<10),ROW(),"") -> 31
A32: A5126 | B32: 1ERE TO | C32: T06 | D32: 1ERE TO | E32: 72.029999 | F32: 80.8 | G32: 85.1 | H32: 92.6 | I32: 2.12 | J32: 0.66 | K32: 31.34 | L32: 0.78 | M32: 43775.507 | N32: 43775.515 | O32: A1615 | W32: 019/294/001 | X32: 43759.185 | Y32: 146.66667 | Z32: 3 EME | AA32: T19 | AB32: 3 EME | AC32: 2019 | AD32: 10 | AE32: STT | AF32: =IFERROR(SUMPRODUCT(--(tbl_bd_descente[wo_number]=W32),tbl_bd_descente[Y],tbl_bd_descente[tons])/SUMIF(tbl_bd_descente[wo_number],W32,tbl_bd_descente[tons]),0) -> 72.945455 | AG32: =IFERROR(SUMPRODUCT(--(tbl_bd_descente[wo_number]=W32),tbl_bd_descente[Al2O3],tbl_bd_descente[tons])/SUMIF(tbl_bd_descente[wo_number],W32,tbl_bd_descente[tons]),0) -> 9.3827273 | AH32: =IFERROR(SUMPRODUCT(--(tbl_bd_descente[wo_number]=W32),tbl_bd_descente[Fe2O3],tbl_bd_descente[tons])/SUMIF(tbl_bd_descente[wo_number],W32,tbl_bd_descente[tons]),0) -> 1.615 | AI32: =IFERROR(SUMPRODUCT(--(tbl_bd_descente[wo_number]=W32),tbl_bd_descente[MgO],tbl_bd_descente[tons])/SUMIF(tbl_bd_descente[wo_number],W32,tbl_bd_descente[tons]),0) -> 31.841818 | AJ32: =IFERROR(SUMPRODUCT(--(tbl_bd_descente[wo_number]=W32),tbl_bd_descente[CaOX],tbl_bd_descente[tons])/SUMIF(tbl_bd_descente[wo_number],W32,tbl_bd_descente[tons]),0) -> 1.4677273 | AK32: =IFERROR(SUMPRODUCT(--(tbl_bd_descente[wo_number]=W32),tbl_bd_descente[S],tbl_bd_descente[tons])/SUMIF(tbl_bd_descente[wo_number],W32,tbl_bd_descente[tons]),0) -> 0.10886364 | AO32: =IF(AND(C32=S$2,D32=S$3,COUNTIF(AO$1:AO31,">"&1)<10),ROW(),"")
A33: A5131 | B33: 2EME TO | C33: T01 | D33: 2EME TO | E33: 292.675 | F33: 71.9 | G33: 75.8 | H33: 82.7 | I33: 1.34 | J33: 0.67 | K33: 31.25 | L33: 0.59 | M33: 43775.472 | N33: 43775.503 | O33: A1615 | W33: 019/293/005 | X33: 43759.081 | Y33: 600 | Z33: 3 EME | AA33: T09 | AB33: 3 EME | AC33: 2019 | AD33: 10 | AE33: 2 A | AF33: =IFERROR(SUMPRODUCT(--(tbl_bd_descente[wo_number]=W33),tbl_bd_descente[Y],tbl_bd_descente[tons])/SUMIF(tbl_bd_descente[wo_number],W33,tbl_bd_descente[tons]),0) -> 73.2 | AG33: =IFERROR(SUMPRODUCT(--(tbl_bd_descente[wo_number]=W33),tbl_bd_descente[Al2O3],tbl_bd_descente[tons])/SUMIF(tbl_bd_descente[wo_number],W33,tbl_bd_descente[tons]),0) -> 8.96 | AH33: =IFERROR(SUMPRODUCT(--(tbl_bd_descente[wo_number]=W33),tbl_bd_descente[Fe2O3],tbl_bd_descente[tons])/SUMIF(tbl_bd_descente[wo_number],W33,tbl_bd_descente[tons]),0) -> 1.6266667 | AI33: =IFERROR(SUMPRODUCT(--(tbl_bd_descente[wo_number]=W33),tbl_bd_descente[MgO],tbl_bd_descente[tons])/SUMIF(tbl_bd_descente[wo_number],W33,tbl_bd_descente[tons]),0) -> 31.84 | AJ33: =IFERROR(SUMPRODUCT(--(tbl_bd_descente[wo_number]=W33),tbl_bd_descente[CaOX],tbl_bd_descente[tons])/SUMIF(tbl_bd_descente[wo_number],W33,tbl_bd_descente[tons]),0) -> 1.15 | AK33: =IFERROR(SUMPRODUCT(--(tbl_bd_descente[wo_number]=W33),tbl_bd_descente[S],tbl_bd_descente[tons])/SUMIF(tbl_bd_descente[wo_number],W33,tbl_bd_descente[tons]),0) -> 0.11 | AO33: =IF(AND(C33=S$2,D33=S$3,COUNTIF(AO$1:AO32,">"&1)<10),ROW(),"") -> 33
A34: A5130 | B34: 2EME TO | C34: T01 | D34: 2EME TO | E34: 292.09 | F34: 73 | G34: 77 | H34: 84 | I34: 1.61 | J34: 0.73 | K34: 31.36 | L34: 0.76 | M34: 43775.442 | N34: 43775.469 | O34: A1615 | W34: 019/293/005 | X34: 43759.081 | Y34: 300 | Z34: 3 EME | AA34: T19 | AB34: 3 EME | AC34: 2019 | AD34: 10 | AE34: 6 C | AF34: =IFERROR(SUMPRODUCT(--(tbl_bd_descente[wo_number]=W34),tbl_bd_descente[Y],tbl_bd_descente[tons])/SUMIF(tbl_bd_descente[wo_number],W34,tbl_bd_descente[tons]),0) -> 73.2 | AG34: =IFERROR(SUMPRODUCT(--(tbl_bd_descente[wo_number]=W34),tbl_bd_descente[Al2O3],tbl_bd_descente[tons])/SUMIF(tbl_bd_descente[wo_number],W34,tbl_bd_descente[tons]),0) -> 8.96 | AH34: =IFERROR(SUMPRODUCT(--(tbl_bd_descente[wo_number]=W34),tbl_bd_descente[Fe2O3],tbl_bd_descente[tons])/SUMIF(tbl_bd_descente[wo_number],W34,tbl_bd_descente[tons]),0) -> 1.6266667 | AI34: =IFERROR(SUMPRODUCT(--(tbl_bd_descente[wo_number]=W34),tbl_bd_descente[MgO],tbl_bd_descente[tons])/SUMIF(tbl_bd_descente[wo_number],W34,tbl_bd_descente[tons]),0) -> 31.84 | AJ34: =IFERROR(SUMPRODUCT(--(tbl_bd_descente[wo_number]=W34),tbl_bd_descente[CaOX],tbl_bd_descente[tons])/SUMIF(tbl_bd_descente[wo_number],W34,tbl_bd_descente[tons]),0) -> 1.15 | AK34: =IFERROR(SUMPRODUCT(--(tbl_bd_descente[wo_number]=W34),tbl_bd_descente[S],tbl_bd_descente[tons])/SUMIF(tbl_bd_descente[wo_number],W34,tbl_bd_descente[tons]),0) -> 0.11 | AO34: =IF(AND(C34=S$2,D34=S$3,COUNTIF(AO$1:AO33,">"&1)<10),ROW(),"") -> 34
A35: A5127 | B35: 2EME TALQUEUSE | C35: T02 | D35: 2EME TALQUEUSE | E35: 245.37 | F35: 74.1 | G35: 78.1 | H35: 85.1 | I35: 2.66 | J35: 1.02 | K35: 31.29 | L35: 0.92 | M35: 43775.386 | N35: 43775.436 | O35: A1615 | W35: 019/293/004 | X35: 43758.865 | Y35: 294 | Z35: 3EME TALQUEUSE | AA35: T36 | AB35: 3EME TALQUEUSE | AC35: 2019 | AD35: 10 | AE35: STT | AF35: =IFERROR(SUMPRODUCT(--(tbl_bd_descente[wo_number]=W35),tbl_bd_descente[Y],tbl_bd_descente[tons])/SUMIF(tbl_bd_descente[wo_number],W35,tbl_bd_descente[tons]),0) -> 74.4 | AG35: =IFERROR(SUMPRODUCT(--(tbl_bd_descente[wo_number]=W35),tbl_bd_descente[Al2O3],tbl_bd_descente[tons])/SUMIF(tbl_bd_descente[wo_number],W35,tbl_bd_descente[tons]),0) -> 3.12 | AH35: =IFERROR(SUMPRODUCT(--(tbl_bd_descente[wo_number]=W35),tbl_bd_descente[Fe2O3],tbl_bd_descente[tons])/SUMIF(tbl_bd_descente[wo_number],W35,tbl_bd_descente[tons]),0) -> 1.11 | AI35: =IFERROR(SUMPRODUCT(--(tbl_bd_descente[wo_number]=W35),tbl_bd_descente[MgO],tbl_bd_descente[tons])/SUMIF(tbl_bd_descente[wo_number],W35,tbl_bd_descente[tons]),0) -> 31.24 | AJ35: =IFERROR(SUMPRODUCT(--(tbl_bd_descente[wo_number]=W35),tbl_bd_descente[CaOX],tbl_bd_descente[tons])/SUMIF(tbl_bd_descente[wo_number],W35,tbl_bd_descente[tons]),0) -> 1.81 | AK35: =IFERROR(SUMPRODUCT(--(tbl_bd_descente[wo_number]=W35),tbl_bd_descente[S],tbl_bd_descente[tons])/SUMIF(tbl_bd_descente[wo_number],W35,tbl_bd_descente[tons]),0) -> 0.088 | AO35: =IF(AND(C35=S$2,D35=S$3,COUNTIF(AO$1:AO34,">"&1)<10),ROW(),"")
A36: A5142 | B36: 3 EME | C36: T19 | D36: 3 EME | E36: 290.105 | F36: 65.3 | G36: 68.9 | H36: 74.9 | I36: 4.76 | J36: 1.33 | K36: 31.65 | L36: 0.72 | M36: 43775.35 | N36: 43775.382 | O36: A1615 | W36: 019/293/003 | X36: 43758.797 | Y36: 1150 | Z36: 2EME TO | AA36: T04 | AB36: 2EME TO | AC36: 2019 | AD36: 10 | AE36: 3 A | AF36: =IFERROR(SUMPRODUCT(--(tbl_bd_descente[wo_number]=W36),tbl_bd_descente[Y],tbl_bd_descente[tons])/SUMIF(tbl_bd_descente[wo_number],W36,tbl_bd_descente[tons]),0) -> 79.134783 | AG36: =IFERROR(SUMPRODUCT(--(tbl_bd_descente[wo_number]=W36),tbl_bd_descente[Al2O3],tbl_bd_descente[tons])/SUMIF(tbl_bd_descente[wo_number],W36,tbl_bd_descente[tons]),0) -> 5.3178261 | AH36: =IFERROR(SUMPRODUCT(--(tbl_bd_descente[wo_number]=W36),tbl_bd_descente[Fe2O3],tbl_bd_descente[tons])/SUMIF(tbl_bd_descente[wo_number],W36,tbl_bd_descente[tons]),0) -> 1.0647826 | AI36: =IFERROR(SUMPRODUCT(--(tbl_bd_descente[wo_number]=W36),tbl_bd_descente[MgO],tbl_bd_descente[tons])/SUMIF(tbl_bd_descente[wo_number],W36,tbl_bd_descente[tons]),0) -> 31.707826 | AJ36: =IFERROR(SUMPRODUCT(--(tbl_bd_descente[wo_number]=W36),tbl_bd_descente[CaOX],tbl_bd_descente[tons])/SUMIF(tbl_bd_descente[wo_number],W36,tbl_bd_descente[tons]),0) -> 0.92608696 | AK36: =IFERROR(SUMPRODUCT(--(tbl_bd_descente[wo_number]=W36),tbl_bd_descente[S],tbl_bd_descente[tons])/SUMIF(tbl_bd_descente[wo_number],W36,tbl_bd_descente[tons]),0) -> 0.10043478 | AO36: =IF(AND(C36=S$2,D36=S$3,COUNTIF(AO$1:AO35,">"&1)<10),ROW(),"")
A37: A5129 | B37: 1ERE TALQUEUSE | C37: T13 | D37: OXO TO | E37: 146.045 | F37: 78.6 | G37: 82.8 | H37: 89.9 | I37: 1.37 | J37: 0.73 | K37: 31.21 | L37: 1.07 | M37: 43775.332 | N37: 43775.344 | O37: A1615 | W37: 019/293/002 | X37: 43758.465 | Y37: 1200 | Z37: 2EME TO | AA37: T04 | AB37: 2EME TO | AC37: 2019 | AD37: 10 | AE37: 6 C | AF37: =IFERROR(SUMPRODUCT(--(tbl_bd_descente[wo_number]=W37),tbl_bd_descente[Y],tbl_bd_descente[tons])/SUMIF(tbl_bd_descente[wo_number],W37,tbl_bd_descente[tons]),0) -> 79.666667 | AG37: =IFERROR(SUMPRODUCT(--(tbl_bd_descente[wo_number]=W37),tbl_bd_descente[Al2O3],tbl_bd_descente[tons])/SUMIF(tbl_bd_descente[wo_number],W37,tbl_bd_descente[tons]),0) -> 5.1166667 | AH37: =IFERROR(SUMPRODUCT(--(tbl_bd_descente[wo_number]=W37),tbl_bd_descente[Fe2O3],tbl_bd_descente[tons])/SUMIF(tbl_bd_descente[wo_number],W37,tbl_bd_descente[tons]),0) -> 1.03 | AI37: =IFERROR(SUMPRODUCT(--(tbl_bd_descente[wo_number]=W37),tbl_bd_descente[MgO],tbl_bd_descente[tons])/SUMIF(tbl_bd_descente[wo_number],W37,tbl_bd_descente[tons]),0) -> 31.676667 | AJ37: =IFERROR(SUMPRODUCT(--(tbl_bd_descente[wo_number]=W37),tbl_bd_descente[CaOX],tbl_bd_descente[tons])/SUMIF(tbl_bd_descente[wo_number],W37,tbl_bd_descente[tons]),0) -> 1.2 | AK37: =IFERROR(SUMPRODUCT(--(tbl_bd_descente[wo_number]=W37),tbl_bd_descente[S],tbl_bd_descente[tons])/SUMIF(tbl_bd_descente[wo_number],W37,tbl_bd_descente[tons]),0) -> 0.11033333 | AO37: =IF(AND(C37=S$2,D37=S$3,COUNTIF(AO$1:AO36,">"&1)<10),ROW(),"")
A38: A5129 | B38: 1ERE TALQUEUSE | C38: T05 | D38: OXO TO | E38: 36.014999 | F38: 78.6 | G38: 82.8 | H38: 89.9 | I38: 1.37 | J38: 0.73 | K38: 31.21 | L38: 1.07 | M38: 43775.328 | N38: 43775.328 | O38: A1615 | W38: 019/293/001 | X38: 43758.176 | Y38: 650 | Z38: 3EME TALQUEUSE | AA38: T36 | AB38: 3EME TALQUEUSE | AC38: 2019 | AD38: 10 | AE38: STT | AF38: =IFERROR(SUMPRODUCT(--(tbl_bd_descente[wo_number]=W38),tbl_bd_descente[Y],tbl_bd_descente[tons])/SUMIF(tbl_bd_descente[wo_number],W38,tbl_bd_descente[tons]),0) -> 73.492308 | AG38: =IFERROR(SUMPRODUCT(--(tbl_bd_descente[wo_number]=W38),tbl_bd_descente[Al2O3],tbl_bd_descente[tons])/SUMIF(tbl_bd_descente[wo_number],W38,tbl_bd_descente[tons]),0) -> 2.8715385 | AH38: =IFERROR(SUMPRODUCT(--(tbl_bd_descente[wo_number]=W38),tbl_bd_descente[Fe2O3],tbl_bd_descente[tons])/SUMIF(tbl_bd_descente[wo_number],W38,tbl_bd_descente[tons]),0) -> 1.1746154 | AI38: =IFERROR(SUMPRODUCT(--(tbl_bd_descente[wo_number]=W38),tbl_bd_descente[MgO],tbl_bd_descente[tons])/SUMIF(tbl_bd_descente[wo_number],W38,tbl_bd_descente[tons]),0) -> 31.318462 | AJ38: =IFERROR(SUMPRODUCT(--(tbl_bd_descente[wo_number]=W38),tbl_bd_descente[CaOX],tbl_bd_descente[tons])/SUMIF(tbl_bd_descente[wo_number],W38,tbl_bd_descente[tons]),0) -> 1.6253846 | AK38: =IFERROR(SUMPRODUCT(--(tbl_bd_descente[wo_number]=W38),tbl_bd_descente[S],tbl_bd_descente[tons])/SUMIF(tbl_bd_descente[wo_number],W38,tbl_bd_descente[tons]),0) -> 0.15738462 | AO38: =IF(AND(C38=S$2,D38=S$3,COUNTIF(AO$1:AO37,">"&1)<10),ROW(),"")
A39: A5128 | B39: 2 EME | C39: T26 | D39: 1ERE | E39: 135.612 | F39: 75.1 | G39: 79.2 | H39: 85.7 | I39: 3.49 | J39: 1.11 | K39: 31.45 | L39: 0.44 | M39: 43775.31 | N39: 43775.321 | O39: A1615 | W39: 019/292/004 | X39: 43758.021 | Y39: 900 | Z39: 3EME TALQUEUSE | AA39: T36 | AB39: 3EME TALQUEUSE | AC39: 2019 | AD39: 10 | AE39: 3 A | AF39: =IFERROR(SUMPRODUCT(--(tbl_bd_descente[wo_number]=W39),tbl_bd_descente[Y],tbl_bd_descente[tons])/SUMIF(tbl_bd_descente[wo_number],W39,tbl_bd_descente[tons]),0) -> 73.933333 | AG39: =IFERROR(SUMPRODUCT(--(tbl_bd_descente[wo_number]=W39),tbl_bd_descente[Al2O3],tbl_bd_descente[tons])/SUMIF(tbl_bd_descente[wo_number],W39,tbl_bd_descente[tons]),0) -> 2.89 | AH39: =IFERROR(SUMPRODUCT(--(tbl_bd_descente[wo_number]=W39),tbl_bd_descente[Fe2O3],tbl_bd_descente[tons])/SUMIF(tbl_bd_descente[wo_number],W39,tbl_bd_descente[tons]),0) -> 1.15 | AI39: =IFERROR(SUMPRODUCT(--(tbl_bd_descente[wo_number]=W39),tbl_bd_descente[MgO],tbl_bd_descente[tons])/SUMIF(tbl_bd_descente[wo_number],W39,tbl_bd_descente[tons]),0) -> 31.31 | AJ39: =IFERROR(SUMPRODUCT(--(tbl_bd_descente[wo_number]=W39),tbl_bd_descente[CaOX],tbl_bd_descente[tons])/SUMIF(tbl_bd_descente[wo_number],W39,tbl_bd_descente[tons]),0) -> 2.0133333 | AK39: =IFERROR(SUMPRODUCT(--(tbl_bd_descente[wo_number]=W39),tbl_bd_descente[S],tbl_bd_descente[tons])/SUMIF(tbl_bd_descente[wo_number],W39,tbl_bd_descente[tons]),0) -> 0.109 | AO39: =IF(AND(C39=S$2,D39=S$3,COUNTIF(AO$1:AO38,">"&1)<10),ROW(),"")
A40: A5122 | B40: 2EME TO | C40: T01 | D40: 2EME TO | E40: 220.06 | F40: 70.5 | G40: 74.3 | H40: 80.8 | I40: 2.72 | J40: 0.78 | K40: 31.17 | L40: 0.53 | M40: 43775.285 | N40: 43775.304 | O40: A1615 | W40: 019/292/003 | X40: 43757.801 | Y40: 1099 | Z40: OXO TO | AA40: T05 | AB40: OXO TO | AC40: 2019 | AD40: 10 | AE40: STT | AF40: =IFERROR(SUMPRODUCT(--(tbl_bd_descente[wo_number]=W40),tbl_bd_descente[Y],tbl_bd_descente[tons])/SUMIF(tbl_bd_descente[wo_number],W40,tbl_bd_descente[tons]),0) -> 82.981256 | AG40: =IFERROR(SUMPRODUCT(--(tbl_bd_descente[wo_number]=W40),tbl_bd_descente[Al2O3],tbl_bd_descente[tons])/SUMIF(tbl_bd_descente[wo_number],W40,tbl_bd_descente[tons]),0) -> 2.1030482 | AH40: =IFERROR(SUMPRODUCT(--(tbl_bd_descente[wo_number]=W40),tbl_bd_descente[Fe2O3],tbl_bd_descente[tons])/SUMIF(tbl_bd_descente[wo_number],W40,tbl_bd_descente[tons]),0) -> 0.74636033 | AI40: =IFERROR(SUMPRODUCT(--(tbl_bd_descente[wo_number]=W40),tbl_bd_descente[MgO],tbl_bd_descente[tons])/SUMIF(tbl_bd_descente[wo_number],W40,tbl_bd_descente[tons]),0) -> 31.330992 | AJ40: =IFERROR(SUMPRODUCT(--(tbl_bd_descente[wo_number]=W40),tbl_bd_descente[CaOX],tbl_bd_descente[tons])/SUMIF(tbl_bd_descente[wo_number],W40,tbl_bd_descente[tons]),0) -> 1.1347771 | AK40: =IFERROR(SUMPRODUCT(--(tbl_bd_descente[wo_number]=W40),tbl_bd_descente[S],tbl_bd_descente[tons])/SUMIF(tbl_bd_descente[wo_number],W40,tbl_bd_descente[tons]),0) -> 0.057187443 | AO40: =IF(AND(C40=S$2,D40=S$3,COUNTIF(AO$1:AO39,">"&1)<10),ROW(),"") -> 40
A41: A5124 | B41: 2EME TO | C41: T01 | D41: 2EME TO | E41: 220.06 | F41: 74.2 | G41: 78.2 | H41: 85.4 | I41: 1.76 | J41: 0.71 | K41: 31.27 | L41: 1.03 | M41: 43775.26 | N41: 43775.281 | O41: A1615 | W41: 019/292/002 | X41: 43757.508 | Y41: 1200 | Z41: OXO TO | AA41: T05 | AB41: OXO TO | AC41: 2019 | AD41: 10 | AE41: STT | AF41: =IFERROR(SUMPRODUCT(--(tbl_bd_descente[wo_number]=W41),tbl_bd_descente[Y],tbl_bd_descente[tons])/SUMIF(tbl_bd_descente[wo_number],W41,tbl_bd_descente[tons]),0) -> 82.866667 | AG41: =IFERROR(SUMPRODUCT(--(tbl_bd_descente[wo_number]=W41),tbl_bd_descente[Al2O3],tbl_bd_descente[tons])/SUMIF(tbl_bd_descente[wo_number],W41,tbl_bd_descente[tons]),0) -> 2.13 | AH41: =IFERROR(SUMPRODUCT(--(tbl_bd_descente[wo_number]=W41),tbl_bd_descente[Fe2O3],tbl_bd_descente[tons])/SUMIF(tbl_bd_descente[wo_number],W41,tbl_bd_descente[tons]),0) -> 0.84666667 | AI41: =IFERROR(SUMPRODUCT(--(tbl_bd_descente[wo_number]=W41),tbl_bd_descente[MgO],tbl_bd_descente[tons])/SUMIF(tbl_bd_descente[wo_number],W41,tbl_bd_descente[tons]),0) -> 31.296667 | AJ41: =IFERROR(SUMPRODUCT(--(tbl_bd_descente[wo_number]=W41),tbl_bd_descente[CaOX],tbl_bd_descente[tons])/SUMIF(tbl_bd_descente[wo_number],W41,tbl_bd_descente[tons]),0) -> 1.1766667 | AK41: =IFERROR(SUMPRODUCT(--(tbl_bd_descente[wo_number]=W41),tbl_bd_descente[S],tbl_bd_descente[tons])/SUMIF(tbl_bd_descente[wo_number],W41,tbl_bd_descente[tons]),0) -> 0.087666667 | AO41: =IF(AND(C41=S$2,D41=S$3,COUNTIF(AO$1:AO40,">"&1)<10),ROW(),"") -> 41
A42: A5140 | B42: 2EME TO | C42: T01 | D42: 2EME TO | E42: 182.06 | F42: 72.4 | G42: 76.3 | H42: 83.3 | I42: 0.96 | J42: 0.66 | K42: 31.25 | L42: 0.87 | M42: 43775.238 | N42: 43775.257 | O42: A1615 | W42: 019/292/001 | X42: 43757.188 | Y42: 769 | Z42: 3EME TALQUEUSE | AA42: T36 | AB42: 3EME TALQUEUSE | AC42: 2019 | AD42: 10 | AF42: =IFERROR(SUMPRODUCT(--(tbl_bd_descente[wo_number]=W42),tbl_bd_descente[Y],tbl_bd_descente[tons])/SUMIF(tbl_bd_descente[wo_number],W42,tbl_bd_descente[tons]),0) -> 73.731339 | AG42: =IFERROR(SUMPRODUCT(--(tbl_bd_descente[wo_number]=W42),tbl_bd_descente[Al2O3],tbl_bd_descente[tons])/SUMIF(tbl_bd_descente[wo_number],W42,tbl_bd_descente[tons]),0) -> 3.0363719 | AH42: =IFERROR(SUMPRODUCT(--(tbl_bd_descente[wo_number]=W42),tbl_bd_descente[Fe2O3],tbl_bd_descente[tons])/SUMIF(tbl_bd_descente[wo_number],W42,tbl_bd_descente[tons]),0) -> 1.1826918 | AI42: =IFERROR(SUMPRODUCT(--(tbl_bd_descente[wo_number]=W42),tbl_bd_descente[MgO],tbl_bd_descente[tons])/SUMIF(tbl_bd_descente[wo_number],W42,tbl_bd_descente[tons]),0) -> 31.359285 | AJ42: =IFERROR(SUMPRODUCT(--(tbl_bd_descente[wo_number]=W42),tbl_bd_descente[CaOX],tbl_bd_descente[tons])/SUMIF(tbl_bd_descente[wo_number],W42,tbl_bd_descente[tons]),0) -> 1.4106112 | AK42: =IFERROR(SUMPRODUCT(--(tbl_bd_descente[wo_number]=W42),tbl_bd_descente[S],tbl_bd_descente[tons])/SUMIF(tbl_bd_descente[wo_number],W42,tbl_bd_descente[tons]),0) -> 0.13227438 | AO42: =IF(AND(C42=S$2,D42=S$3,COUNTIF(AO$1:AO41,">"&1)<10),ROW(),"") -> 42
A43: F3057 | B43: 3 EME | C43: T19 | D43: 3 EME | E43: 181.06 | F43: 72.5 | G43: 76.4 | H43: 82.2 | I43: 9.04 | J43: 1.41 | K43: 32 | L43: 0.72 | M43: 43774.505 | N43: 43774.521 | O43: F1620 | W43: 019/291/004 | X43: 43757.009 | Y43: 900 | Z43: 3EME TALQUEUSE | AA43: T36 | AB43: 3EME TALQUEUSE | AC43: 2019 | AD43: 10 | AE43: 3 A | AF43: =IFERROR(SUMPRODUCT(--(tbl_bd_descente[wo_number]=W43),tbl_bd_descente[Y],tbl_bd_descente[tons])/SUMIF(tbl_bd_descente[wo_number],W43,tbl_bd_descente[tons]),0) -> 74.366667 | AG43: =IFERROR(SUMPRODUCT(--(tbl_bd_descente[wo_number]=W43),tbl_bd_descente[Al2O3],tbl_bd_descente[tons])/SUMIF(tbl_bd_descente[wo_number],W43,tbl_bd_descente[tons]),0) -> 2.5966667 | AH43: =IFERROR(SUMPRODUCT(--(tbl_bd_descente[wo_number]=W43),tbl_bd_descente[Fe2O3],tbl_bd_descente[tons])/SUMIF(tbl_bd_descente[wo_number],W43,tbl_bd_descente[tons]),0) -> 1.1066667 | AI43: =IFERROR(SUMPRODUCT(--(tbl_bd_descente[wo_number]=W43),tbl_bd_descente[MgO],tbl_bd_descente[tons])/SUMIF(tbl_bd_descente[wo_number],W43,tbl_bd_descente[tons]),0) -> 31.363333 | AJ43: =IFERROR(SUMPRODUCT(--(tbl_bd_descente[wo_number]=W43),tbl_bd_descente[CaOX],tbl_bd_descente[tons])/SUMIF(tbl_bd_descente[wo_number],W43,tbl_bd_descente[tons]),0) -> 1.33 | AK43: =IFERROR(SUMPRODUCT(--(tbl_bd_descente[wo_number]=W43),tbl_bd_descente[S],tbl_bd_descente[tons])/SUMIF(tbl_bd_descente[wo_number],W43,tbl_bd_descente[tons]),0) -> 0.095666667 | AO43: =IF(AND(C43=S$2,D43=S$3,COUNTIF(AO$1:AO42,">"&1)<10),ROW(),"")
A44: F3056 | B44: OXO TO | C44: T05 | D44: OXO TO | E44: 109.03 | F44: 80.9 | G44: 85.2 | H44: 92.4 | I44: 2.76 | J44: 0.65 | K44: 31.17 | L44: 0.32 | M44: 43774.486 | N44: 43774.498 | O44: F1620 | W44: 019/291/003 | X44: 43756.8 | Y44: 1164 | Z44: 2EME TO | AA44: T04 | AB44: 2EME TO | AC44: 2019 | AD44: 10 | AF44: =IFERROR(SUMPRODUCT(--(tbl_bd_descente[wo_number]=W44),tbl_bd_descente[Y],tbl_bd_descente[tons])/SUMIF(tbl_bd_descente[wo_number],W44,tbl_bd_descente[tons]),0) -> 79.209622 | AG44: =IFERROR(SUMPRODUCT(--(tbl_bd_descente[wo_number]=W44),tbl_bd_descente[Al2O3],tbl_bd_descente[tons])/SUMIF(tbl_bd_descente[wo_number],W44,tbl_bd_descente[tons]),0) -> 5.0714777 | AH44: =IFERROR(SUMPRODUCT(--(tbl_bd_descente[wo_number]=W44),tbl_bd_descente[Fe2O3],tbl_bd_descente[tons])/SUMIF(tbl_bd_descente[wo_number],W44,tbl_bd_descente[tons]),0) -> 1.0143643 | AI44: =IFERROR(SUMPRODUCT(--(tbl_bd_descente[wo_number]=W44),tbl_bd_descente[MgO],tbl_bd_descente[tons])/SUMIF(tbl_bd_descente[wo_number],W44,tbl_bd_descente[tons]),0) -> 31.639381 | AJ44: =IFERROR(SUMPRODUCT(--(tbl_bd_descente[wo_number]=W44),tbl_bd_descente[CaOX],tbl_bd_descente[tons])/SUMIF(tbl_bd_descente[wo_number],W44,tbl_bd_descente[tons]),0) -> 1.2712371 | AK44: =IFERROR(SUMPRODUCT(--(tbl_bd_descente[wo_number]=W44),tbl_bd_descente[S],tbl_bd_descente[tons])/SUMIF(tbl_bd_descente[wo_number],W44,tbl_bd_descente[tons]),0) -> 0.12652577 | AO44: =IF(AND(C44=S$2,D44=S$3,COUNTIF(AO$1:AO43,">"&1)<10),ROW(),"")
A45: F3055 | B45: 1ERE TO | C45: T06 | D45: 1ERE TO | E45: 326.35799 | F45: 80 | G45: 84.4 | H45: 90.5 | I45: 8.68 | J45: 1.04 | K45: 31.91 | L45: 0.4 | M45: 43774.446 | N45: 43774.481 | O45: F1620 | W45: 019/291/002 | X45: 43756.512 | Y45: 1200 | Z45: 2EME TO | AA45: T04 | AB45: 2EME TO | AC45: 2019 | AD45: 10 | AF45: =IFERROR(SUMPRODUCT(--(tbl_bd_descente[wo_number]=W45),tbl_bd_descente[Y],tbl_bd_descente[tons])/SUMIF(tbl_bd_descente[wo_number],W45,tbl_bd_descente[tons]),0) -> 79.033333 | AG45: =IFERROR(SUMPRODUCT(--(tbl_bd_descente[wo_number]=W45),tbl_bd_descente[Al2O3],tbl_bd_descente[tons])/SUMIF(tbl_bd_descente[wo_number],W45,tbl_bd_descente[tons]),0) -> 5.5633333 | AH45: =IFERROR(SUMPRODUCT(--(tbl_bd_descente[wo_number]=W45),tbl_bd_descente[Fe2O3],tbl_bd_descente[tons])/SUMIF(tbl_bd_descente[wo_number],W45,tbl_bd_descente[tons]),0) -> 1.0733333 | AI45: =IFERROR(SUMPRODUCT(--(tbl_bd_descente[wo_number]=W45),tbl_bd_descente[MgO],tbl_bd_descente[tons])/SUMIF(tbl_bd_descente[wo_number],W45,tbl_bd_descente[tons]),0) -> 31.526667 | AJ45: =IFERROR(SUMPRODUCT(--(tbl_bd_descente[wo_number]=W45),tbl_bd_descente[CaOX],tbl_bd_descente[tons])/SUMIF(tbl_bd_descente[wo_number],W45,tbl_bd_descente[tons]),0) -> 0.99666667 | AK45: =IFERROR(SUMPRODUCT(--(tbl_bd_descente[wo_number]=W45),tbl_bd_descente[S],tbl_bd_descente[tons])/SUMIF(tbl_bd_descente[wo_number],W45,tbl_bd_descente[tons]),0) -> 0.115 | AO45: =IF(AND(C45=S$2,D45=S$3,COUNTIF(AO$1:AO44,">"&1)<10),ROW(),"")
A46: F3058 | B46: 2EME TO | C46: T01 | D46: 2EME TO | E46: 109.03 | F46: 78.5 | G46: 82.7 | H46: 89.7 | I46: 1.61 | J46: 0.83 | K46: 31.15 | L46: 0.23 | M46: 43774.434 | N46: 43774.443 | O46: F1620 | W46: 019/291/001 | X46: 43756.208 | Y46: 412.66667 | Z46: 3 EME | AA46: T09 | AB46: 3 EME | AC46: 2019 | AD46: 10 | AF46: =IFERROR(SUMPRODUCT(--(tbl_bd_descente[wo_number]=W46),tbl_bd_descente[Y],tbl_bd_descente[tons])/SUMIF(tbl_bd_descente[wo_number],W46,tbl_bd_descente[tons]),0) -> 74.496931 | AG46: =IFERROR(SUMPRODUCT(--(tbl_bd_descente[wo_number]=W46),tbl_bd_descente[Al2O3],tbl_bd_descente[tons])/SUMIF(tbl_bd_descente[wo_number],W46,tbl_bd_descente[tons]),0) -> 9.8082068 | AH46: =IFERROR(SUMPRODUCT(--(tbl_bd_descente[wo_number]=W46),tbl_bd_descente[Fe2O3],tbl_bd_descente[tons])/SUMIF(tbl_bd_descente[wo_number],W46,tbl_bd_descente[tons]),0) -> 1.7269305 | AI46: =IFERROR(SUMPRODUCT(--(tbl_bd_descente[wo_number]=W46),tbl_bd_descente[MgO],tbl_bd_descente[tons])/SUMIF(tbl_bd_descente[wo_number],W46,tbl_bd_descente[tons]),0) -> 31.996624 | AJ46: =IFERROR(SUMPRODUCT(--(tbl_bd_descente[wo_number]=W46),tbl_bd_descente[CaOX],tbl_bd_descente[tons])/SUMIF(tbl_bd_descente[wo_number],W46,tbl_bd_descente[tons]),0) -> 1.3198223 | AK46: =IFERROR(SUMPRODUCT(--(tbl_bd_descente[wo_number]=W46),tbl_bd_descente[S],tbl_bd_descente[tons])/SUMIF(tbl_bd_descente[wo_number],W46,tbl_bd_descente[tons]),0) -> 0.11809208 | AO46: =IF(AND(C46=S$2,D46=S$3,COUNTIF(AO$1:AO45,">"&1)<10),ROW(),"")
A47: F3061 | B47: 3 EME | C47: T09 | D47: 3 EME | E47: 324.09 | F47: 70.9 | G47: 74.8 | H47: 80.2 | I47: 12.57 | J47: 1.73 | K47: 32.35 | L47: 1.26 | M47: 43774.34 | N47: 43774.368 | O47: F1625 | W47: 019/291/001 | X47: 43756.208 | Y47: 206.33333 | Z47: 3 EME | AA47: T19 | AB47: 3 EME | AC47: 2019 | AD47: 10 | AF47: =IFERROR(SUMPRODUCT(--(tbl_bd_descente[wo_number]=W47),tbl_bd_descente[Y],tbl_bd_descente[tons])/SUMIF(tbl_bd_descente[wo_number],W47,tbl_bd_descente[tons]),0) -> 74.496931 | AG47: =IFERROR(SUMPRODUCT(--(tbl_bd_descente[wo_number]=W47),tbl_bd_descente[Al2O3],tbl_bd_descente[tons])/SUMIF(tbl_bd_descente[wo_number],W47,tbl_bd_descente[tons]),0) -> 9.8082068 | AH47: =IFERROR(SUMPRODUCT(--(tbl_bd_descente[wo_number]=W47),tbl_bd_descente[Fe2O3],tbl_bd_descente[tons])/SUMIF(tbl_bd_descente[wo_number],W47,tbl_bd_descente[tons]),0) -> 1.7269305 | AI47: =IFERROR(SUMPRODUCT(--(tbl_bd_descente[wo_number]=W47),tbl_bd_descente[MgO],tbl_bd_descente[tons])/SUMIF(tbl_bd_descente[wo_number],W47,tbl_bd_descente[tons]),0) -> 31.996624 | AJ47: =IFERROR(SUMPRODUCT(--(tbl_bd_descente[wo_number]=W47),tbl_bd_descente[CaOX],tbl_bd_descente[tons])/SUMIF(tbl_bd_descente[wo_number],W47,tbl_bd_descente[tons]),0) -> 1.3198223 | AK47: =IFERROR(SUMPRODUCT(--(tbl_bd_descente[wo_number]=W47),tbl_bd_descente[S],tbl_bd_descente[tons])/SUMIF(tbl_bd_descente[wo_number],W47,tbl_bd_descente[tons]),0) -> 0.11809208 | AO47: =IF(AND(C47=S$2,D47=S$3,COUNTIF(AO$1:AO46,">"&1)<10),ROW(),"")
A48: F3062 | B48: 3 EME | C48: T19 | D48: 3 EME | E48: 373.894 | F48: 73.5 | G48: 77.4 | H48: 82.8 | I48: 9.45 | J48: 1.48 | K48: 31.28 | L48: 0.43 | M48: 43774.326 | N48: 43774.395 | O48: F1625 | W48: 019/290/005 | X48: 43756.062 | Y48: 600 | Z48: 3 EME | AA48: T09 | AB48: 3 EME | AC48: 2019 | AD48: 10 | AF48: =IFERROR(SUMPRODUCT(--(tbl_bd_descente[wo_number]=W48),tbl_bd_descente[Y],tbl_bd_descente[tons])/SUMIF(tbl_bd_descente[wo_number],W48,tbl_bd_descente[tons]),0) -> 73.966667 | AG48: =IFERROR(SUMPRODUCT(--(tbl_bd_descente[wo_number]=W48),tbl_bd_descente[Al2O3],tbl_bd_descente[tons])/SUMIF(tbl_bd_descente[wo_number],W48,tbl_bd_descente[tons]),0) -> 9.5066667 | AH48: =IFERROR(SUMPRODUCT(--(tbl_bd_descente[wo_number]=W48),tbl_bd_descente[Fe2O3],tbl_bd_descente[tons])/SUMIF(tbl_bd_descente[wo_number],W48,tbl_bd_descente[tons]),0) -> 1.7133333 | AI48: =IFERROR(SUMPRODUCT(--(tbl_bd_descente[wo_number]=W48),tbl_bd_descente[MgO],tbl_bd_descente[tons])/SUMIF(tbl_bd_descente[wo_number],W48,tbl_bd_descente[tons]),0) -> 31.913333 | AJ48: =IFERROR(SUMPRODUCT(--(tbl_bd_descente[wo_number]=W48),tbl_bd_descente[CaOX],tbl_bd_descente[tons])/SUMIF(tbl_bd_descente[wo_number],W48,tbl_bd_descente[tons]),0) -> 1.5333333 | AK48: =IFERROR(SUMPRODUCT(--(tbl_bd_descente[wo_number]=W48),tbl_bd_descente[S],tbl_bd_descente[tons])/SUMIF(tbl_bd_descente[wo_number],W48,tbl_bd_descente[tons]),0) -> 0.10266667 | AO48: =IF(AND(C48=S$2,D48=S$3,COUNTIF(AO$1:AO47,">"&1)<10),ROW(),"")
A49: F3060 | B49: 3 EME | C49: T09 | D49: 3 EME | E49: 73.114999 | F49: 70.6 | G49: 74.5 | H49: 79.9 | I49: 10.5 | J49: 1.64 | K49: 32.2 | L49: 1.93 | M49: 43774.317 | N49: 43774.32 | O49: F1625 | W49: 019/290/005 | X49: 43756.062 | Y49: 300 | Z49: 3 EME | AA49: T19 | AB49: 3 EME | AC49: 2019 | AD49: 10 | AF49: =IFERROR(SUMPRODUCT(--(tbl_bd_descente[wo_number]=W49),tbl_bd_descente[Y],tbl_bd_descente[tons])/SUMIF(tbl_bd_descente[wo_number],W49,tbl_bd_descente[tons]),0) -> 73.966667 | AG49: =IFERROR(SUMPRODUCT(--(tbl_bd_descente[wo_number]=W49),tbl_bd_descente[Al2O3],tbl_bd_descente[tons])/SUMIF(tbl_bd_descente[wo_number],W49,tbl_bd_descente[tons]),0) -> 9.5066667 | AH49: =IFERROR(SUMPRODUCT(--(tbl_bd_descente[wo_number]=W49),tbl_bd_descente[Fe2O3],tbl_bd_descente[tons])/SUMIF(tbl_bd_descente[wo_number],W49,tbl_bd_descente[tons]),0) -> 1.7133333 | AI49: =IFERROR(SUMPRODUCT(--(tbl_bd_descente[wo_number]=W49),tbl_bd_descente[MgO],tbl_bd_descente[tons])/SUMIF(tbl_bd_descente[wo_number],W49,tbl_bd_descente[tons]),0) -> 31.913333 | AJ49: =IFERROR(SUMPRODUCT(--(tbl_bd_descente[wo_number]=W49),tbl_bd_descente[CaOX],tbl_bd_descente[tons])/SUMIF(tbl_bd_descente[wo_number],W49,tbl_bd_descente[tons]),0) -> 1.5333333 | AK49: =IFERROR(SUMPRODUCT(--(tbl_bd_descente[wo_number]=W49),tbl_bd_descente[S],tbl_bd_descente[tons])/SUMIF(tbl_bd_descente[wo_number],W49,tbl_bd_descente[tons]),0) -> 0.10266667 | AO49: =IF(AND(C49=S$2,D49=S$3,COUNTIF(AO$1:AO48,">"&1)<10),ROW(),"")
A50: F3063 | B50: 3 EME | C50: T09 | D50: 3 EME | E50: 270.275 | F50: 66.2 | G50: 69.8 | H50: 74.9 | I50: 9.8 | J50: 1.59 | K50: 32 | L50: 4.26 | M50: 43774.287 | N50: 43774.312 | O50: F1620 | W50: 019/290/004 | X50: 43755.838 | Y50: 625 | Z50: 1ERE TO | AA50: T06 | AB50: 1ERE TO | AC50: 2019 | AD50: 10 | AF50: =IFERROR(SUMPRODUCT(--(tbl_bd_descente[wo_number]=W50),tbl_bd_descente[Y],tbl_bd_descente[tons])/SUMIF(tbl_bd_descente[wo_number],W50,tbl_bd_descente[tons]),0) -> 82.84 | AG50: =IFERROR(SUMPRODUCT(--(tbl_bd_descente[wo_number]=W50),tbl_bd_descente[Al2O3],tbl_bd_descente[tons])/SUMIF(tbl_bd_descente[wo_number],W50,tbl_bd_descente[tons]),0) -> 6.786 | AH50: =IFERROR(SUMPRODUCT(--(tbl_bd_descente[wo_number]=W50),tbl_bd_descente[Fe2O3],tbl_bd_descente[tons])/SUMIF(tbl_bd_descente[wo_number],W50,tbl_bd_descente[tons]),0) -> 1.0444 | AI50: =IFERROR(SUMPRODUCT(--(tbl_bd_descente[wo_number]=W50),tbl_bd_descente[MgO],tbl_bd_descente[tons])/SUMIF(tbl_bd_descente[wo_number],W50,tbl_bd_descente[tons]),0) -> 31.9428 | AJ50: =IFERROR(SUMPRODUCT(--(tbl_bd_descente[wo_number]=W50),tbl_bd_descente[CaOX],tbl_bd_descente[tons])/SUMIF(tbl_bd_descente[wo_number],W50,tbl_bd_descente[tons]),0) -> 0.624 | AK50: =IFERROR(SUMPRODUCT(--(tbl_bd_descente[wo_number]=W50),tbl_bd_descente[S],tbl_bd_descente[tons])/SUMIF(tbl_bd_descente[wo_number],W50,tbl_bd_descente[tons]),0) -> 0.0546 | AO50: =IF(AND(C50=S$2,D50=S$3,COUNTIF(AO$1:AO49,">"&1)<10),ROW(),"")
A51: F3059 | B51: 3 EME | C51: T09 | D51: 3 EME | E51: 307.375 | F51: 64.7 | G51: 68.2 | H51: 73.8 | I51: 9.23 | J51: 1.74 | K51: 32.09 | L51: 0.36 | M51: 43774.231 | N51: 43774.262 | O51: F1620 | W51: 019/290/003 | X51: 43755.674 | Y51: 1200 | Z51: 1ERE TO | AA51: T06 | AB51: 1ERE TO | AC51: 2019 | AD51: 10 | AF51: =IFERROR(SUMPRODUCT(--(tbl_bd_descente[wo_number]=W51),tbl_bd_descente[Y],tbl_bd_descente[tons])/SUMIF(tbl_bd_descente[wo_number],W51,tbl_bd_descente[tons]),0) -> 81.566667 | AG51: =IFERROR(SUMPRODUCT(--(tbl_bd_descente[wo_number]=W51),tbl_bd_descente[Al2O3],tbl_bd_descente[tons])/SUMIF(tbl_bd_descente[wo_number],W51,tbl_bd_descente[tons]),0) -> 6.0933333 | AH51: =IFERROR(SUMPRODUCT(--(tbl_bd_descente[wo_number]=W51),tbl_bd_descente[Fe2O3],tbl_bd_descente[tons])/SUMIF(tbl_bd_descente[wo_number],W51,tbl_bd_descente[tons]),0) -> 1.01 | AI51: =IFERROR(SUMPRODUCT(--(tbl_bd_descente[wo_number]=W51),tbl_bd_descente[MgO],tbl_bd_descente[tons])/SUMIF(tbl_bd_descente[wo_number],W51,tbl_bd_descente[tons]),0) -> 31.8 | AJ51: =IFERROR(SUMPRODUCT(--(tbl_bd_descente[wo_number]=W51),tbl_bd_descente[CaOX],tbl_bd_descente[tons])/SUMIF(tbl_bd_descente[wo_number],W51,tbl_bd_descente[tons]),0) -> 0.61333333 | AK51: =IFERROR(SUMPRODUCT(--(tbl_bd_descente[wo_number]=W51),tbl_bd_descente[S],tbl_bd_descente[tons])/SUMIF(tbl_bd_descente[wo_number],W51,tbl_bd_descente[tons]),0) -> 0.061 | AO51: =IF(AND(C51=S$2,D51=S$3,COUNTIF(AO$1:AO50,">"&1)<10),ROW(),"")
A52: C4278 | B52: 1ERE | C52: T27 | D52: 1ERE | E52: 288.12 | F52: 80.3 | G52: 84.8 | H52: 89.6 | I52: 11.84 | J52: 1.59 | K52: 32.23 | L52: 0.54 | M52: 43769.648 | N52: 43769.679 | O52: C1615 | W52: 019/290/002 | X52: 43755.335 | Y52: 125 | Z52: 1 ERE BLANCHE | AA52: T29 | AB52: 1 ERE BLANCHE | AC52: 2019 | AD52: 10 | AF52: =IFERROR(SUMPRODUCT(--(tbl_bd_descente[wo_number]=W52),tbl_bd_descente[Y],tbl_bd_descente[tons])/SUMIF(tbl_bd_descente[wo_number],W52,tbl_bd_descente[tons]),0) -> 83.8 | AG52: =IFERROR(SUMPRODUCT(--(tbl_bd_descente[wo_number]=W52),tbl_bd_descente[Al2O3],tbl_bd_descente[tons])/SUMIF(tbl_bd_descente[wo_number],W52,tbl_bd_descente[tons]),0) -> 5.76 | AH52: =IFERROR(SUMPRODUCT(--(tbl_bd_descente[wo_number]=W52),tbl_bd_descente[Fe2O3],tbl_bd_descente[tons])/SUMIF(tbl_bd_descente[wo_number],W52,tbl_bd_descente[tons]),0) -> 0.92 | AI52: =IFERROR(SUMPRODUCT(--(tbl_bd_descente[wo_number]=W52),tbl_bd_descente[MgO],tbl_bd_descente[tons])/SUMIF(tbl_bd_descente[wo_number],W52,tbl_bd_descente[tons]),0) -> 31.84 | AJ52: =IFERROR(SUMPRODUCT(--(tbl_bd_descente[wo_number]=W52),tbl_bd_descente[CaOX],tbl_bd_descente[tons])/SUMIF(tbl_bd_descente[wo_number],W52,tbl_bd_descente[tons]),0) -> 0.58 | AK52: =IFERROR(SUMPRODUCT(--(tbl_bd_descente[wo_number]=W52),tbl_bd_descente[S],tbl_bd_descente[tons])/SUMIF(tbl_bd_descente[wo_number],W52,tbl_bd_descente[tons]),0) -> 0.017 | AO52: =IF(AND(C52=S$2,D52=S$3,COUNTIF(AO$1:AO51,">"&1)<10),ROW(),"")
A53: C4272 | B53: 1ERE | C53: T27 | D53: 1ERE | E53: 252.105 | F53: 78 | G53: 82.4 | H53: 87 | I53: 14.56 | J53: 1.75 | K53: 32.63 | L53: 0.61 | M53: 43769.615 | N53: 43769.642 | O53: C1615 | W53: 019/290/002 | X53: 43755.335 | Y53: 250 | Z53: 1ERE TO | AA53: T13 | AB53: 1 ERE BLANCHE | AC53: 2019 | AD53: 10 | AF53: =IFERROR(SUMPRODUCT(--(tbl_bd_descente[wo_number]=W53),tbl_bd_descente[Y],tbl_bd_descente[tons])/SUMIF(tbl_bd_descente[wo_number],W53,tbl_bd_descente[tons]),0) -> 83.8 | AG53: =IFERROR(SUMPRODUCT(--(tbl_bd_descente[wo_number]=W53),tbl_bd_descente[Al2O3],tbl_bd_descente[tons])/SUMIF(tbl_bd_descente[wo_number],W53,tbl_bd_descente[tons]),0) -> 5.76 | AH53: =IFERROR(SUMPRODUCT(--(tbl_bd_descente[wo_number]=W53),tbl_bd_descente[Fe2O3],tbl_bd_descente[tons])/SUMIF(tbl_bd_descente[wo_number],W53,tbl_bd_descente[tons]),0) -> 0.92 | AI53: =IFERROR(SUMPRODUCT(--(tbl_bd_descente[wo_number]=W53),tbl_bd_descente[MgO],tbl_bd_descente[tons])/SUMIF(tbl_bd_descente[wo_number],W53,tbl_bd_descente[tons]),0) -> 31.84 | AJ53: =IFERROR(SUMPRODUCT(--(tbl_bd_descente[wo_number]=W53),tbl_bd_descente[CaOX],tbl_bd_descente[tons])/SUMIF(tbl_bd_descente[wo_number],W53,tbl_bd_descente[tons]),0) -> 0.58 | AK53: =IFERROR(SUMPRODUCT(--(tbl_bd_descente[wo_number]=W53),tbl_bd_descente[S],tbl_bd_descente[tons])/SUMIF(tbl_bd_descente[wo_number],W53,tbl_bd_descente[tons]),0) -> 0.017 | AO53: =IF(AND(C53=S$2,D53=S$3,COUNTIF(AO$1:AO52,">"&1)<10),ROW(),"")
A54: C4274 | B54: 1ERE | C54: T27 | D54: 1ERE | E54: 221.17 | F54: 78.8 | G54: 83.3 | H54: 87.8 | I54: 13.3 | J54: 1.8 | K54: 32.42 | L54: 0.45 | M54: 43769.561 | N54: 43769.61 | O54: C1615 | W54: 019/290/001 | X54: 43755.106 | Y54: 116.66667 | Z54: 1 ERE BLANCHE | AA54: T29 | AB54: 1 ERE BLANCHE | AC54: 2019 | AD54: 10 | AF54: =IFERROR(SUMPRODUCT(--(tbl_bd_descente[wo_number]=W54),tbl_bd_descente[Y],tbl_bd_descente[tons])/SUMIF(tbl_bd_descente[wo_number],W54,tbl_bd_descente[tons]),0) -> 85 | AG54: =IFERROR(SUMPRODUCT(--(tbl_bd_descente[wo_number]=W54),tbl_bd_descente[Al2O3],tbl_bd_descente[tons])/SUMIF(tbl_bd_descente[wo_number],W54,tbl_bd_descente[tons]),0) -> 5.74 | AH54: =IFERROR(SUMPRODUCT(--(tbl_bd_descente[wo_number]=W54),tbl_bd_descente[Fe2O3],tbl_bd_descente[tons])/SUMIF(tbl_bd_descente[wo_number],W54,tbl_bd_descente[tons]),0) -> 0.94 | AI54: =IFERROR(SUMPRODUCT(--(tbl_bd_descente[wo_number]=W54),tbl_bd_descente[MgO],tbl_bd_descente[tons])/SUMIF(tbl_bd_descente[wo_number],W54,tbl_bd_descente[tons]),0) -> 31.79 | AJ54: =IFERROR(SUMPRODUCT(--(tbl_bd_descente[wo_number]=W54),tbl_bd_descente[CaOX],tbl_bd_descente[tons])/SUMIF(tbl_bd_descente[wo_number],W54,tbl_bd_descente[tons]),0) -> 0.7 | AK54: =IFERROR(SUMPRODUCT(--(tbl_bd_descente[wo_number]=W54),tbl_bd_descente[S],tbl_bd_descente[tons])/SUMIF(tbl_bd_descente[wo_number],W54,tbl_bd_descente[tons]),0) -> 0.026 | AO54: =IF(AND(C54=S$2,D54=S$3,COUNTIF(AO$1:AO53,">"&1)<10),ROW(),"")
A55: C4277 | B55: 3 EME | C55: T09 | D55: 3 EME | E55: 296.136 | F55: 73.2 | G55: 77.2 | H55: 82.1 | I55: 10.76 | J55: 1.71 | K55: 31.98 | L55: 0.36 | M55: 43769.525 | N55: 43769.554 | O55: C1615 | W55: 019/290/001 | X55: 43755.106 | Y55: 233.33333 | Z55: 1ERE TO | AA55: T12 | AB55: 1 ERE BLANCHE | AC55: 2019 | AD55: 10 | AF55: =IFERROR(SUMPRODUCT(--(tbl_bd_descente[wo_number]=W55),tbl_bd_descente[Y],tbl_bd_descente[tons])/SUMIF(tbl_bd_descente[wo_number],W55,tbl_bd_descente[tons]),0) -> 85 | AG55: =IFERROR(SUMPRODUCT(--(tbl_bd_descente[wo_number]=W55),tbl_bd_descente[Al2O3],tbl_bd_descente[tons])/SUMIF(tbl_bd_descente[wo_number],W55,tbl_bd_descente[tons]),0) -> 5.74 | AH55: =IFERROR(SUMPRODUCT(--(tbl_bd_descente[wo_number]=W55),tbl_bd_descente[Fe2O3],tbl_bd_descente[tons])/SUMIF(tbl_bd_descente[wo_number],W55,tbl_bd_descente[tons]),0) -> 0.94 | AI55: =IFERROR(SUMPRODUCT(--(tbl_bd_descente[wo_number]=W55),tbl_bd_descente[MgO],tbl_bd_descente[tons])/SUMIF(tbl_bd_descente[wo_number],W55,tbl_bd_descente[tons]),0) -> 31.79 | AJ55: =IFERROR(SUMPRODUCT(--(tbl_bd_descente[wo_number]=W55),tbl_bd_descente[CaOX],tbl_bd_descente[tons])/SUMIF(tbl_bd_descente[wo_number],W55,tbl_bd_descente[tons]),0) -> 0.7 | AK55: =IFERROR(SUMPRODUCT(--(tbl_bd_descente[wo_number]=W55),tbl_bd_descente[S],tbl_bd_descente[tons])/SUMIF(tbl_bd_descente[wo_number],W55,tbl_bd_descente[tons]),0) -> 0.026 | AO55: =IF(AND(C55=S$2,D55=S$3,COUNTIF(AO$1:AO54,">"&1)<10),ROW(),"")
... A69: S3011 | B69: 2EME TO | C69: T01 | D69: 2EME TO | E69: 181.445 | F69: 76 | G69: 80.1 | H69: 86.7 | I69: 3.32 | J69: 0.84 | K69: 31.41 | L69: 0.34 | M69: 43767.917 | N69: 43767.939 | O69: S1615 | W69: 019/275/001 | X69: 43740.814 | Y69: 1221 | Z69: 2EME TO | AA69: T01 | AB69: 2EME TO | AC69: 2019 | AD69: 10 | AF69: =IFERROR(SUMPRODUCT(--(tbl_bd_descente[wo_number]=W69),tbl_bd_descente[Y],tbl_bd_descente[tons])/SUMIF(tbl_bd_descente[wo_number],W69,tbl_bd_descente[tons]),0) -> 80.02932 | AG69: =IFERROR(SUMPRODUCT(--(tbl_bd_descente[wo_number]=W69),tbl_bd_descente[Al2O3],tbl_bd_descente[tons])/SUMIF(tbl_bd_descente[wo_number],W69,tbl_bd_descente[tons]),0) -> 2.8022359 | AH69: =IFERROR(SUMPRODUCT(--(tbl_bd_descente[wo_number]=W69),tbl_bd_descente[Fe2O3],tbl_bd_descente[tons])/SUMIF(tbl_bd_descente[wo_number],W69,tbl_bd_descente[tons]),0) -> 0.84758395 | AI69: =IFERROR(SUMPRODUCT(--(tbl_bd_descente[wo_number]=W69),tbl_bd_descente[MgO],tbl_bd_descente[tons])/SUMIF(tbl_bd_descente[wo_number],W69,tbl_bd_descente[tons]),0) -> 31.437412 | AJ69: =IFERROR(SUMPRODUCT(--(tbl_bd_descente[wo_number]=W69),tbl_bd_descente[CaOX],tbl_bd_descente[tons])/SUMIF(tbl_bd_descente[wo_number],W69,tbl_bd_descente[tons]),0) -> 1.0200082 | AK69: =IFERROR(SUMPRODUCT(--(tbl_bd_descente[wo_number]=W69),tbl_bd_descente[S],tbl_bd_descente[tons])/SUMIF(tbl_bd_descente[wo_number],W69,tbl_bd_descente[tons]),0) -> 0.055241605 | AO69: =IF(AND(C69=S$2,D69=S$3,COUNTIF(AO$1:AO68,">"&1)<10),ROW(),"")
A70: S3010 | B70: 3 EME | C70: T19 | D70: 3 EME | E70: 107.785 | F70: 72 | G70: 75.9 | H70: 81.6 | I70: 5.97 | J70: 1.19 | K70: 31.73 | L70: 0.33 | M70: 43767.906 | N70: 43767.912 | O70: S1615 | W70: 019/274/002 | X70: 43740.471 | Y70: 1200 | Z70: 2EME TO | AA70: T01 | AB70: 2EME TO | AC70: 2019 | AD70: 10 | AF70: =IFERROR(SUMPRODUCT(--(tbl_bd_descente[wo_number]=W70),tbl_bd_descente[Y],tbl_bd_descente[tons])/SUMIF(tbl_bd_descente[wo_number],W70,tbl_bd_descente[tons]),0) -> 79.766667 | AG70: =IFERROR(SUMPRODUCT(--(tbl_bd_descente[wo_number]=W70),tbl_bd_descente[Al2O3],tbl_bd_descente[tons])/SUMIF(tbl_bd_descente[wo_number],W70,tbl_bd_descente[tons]),0) -> 2.7533333 | AH70: =IFERROR(SUMPRODUCT(--(tbl_bd_descente[wo_number]=W70),tbl_bd_descente[Fe2O3],tbl_bd_descente[tons])/SUMIF(tbl_bd_descente[wo_number],W70,tbl_bd_descente[tons]),0) -> 0.80333333 | AI70: =IFERROR(SUMPRODUCT(--(tbl_bd_descente[wo_number]=W70),tbl_bd_descente[MgO],tbl_bd_descente[tons])/SUMIF(tbl_bd_descente[wo_number],W70,tbl_bd_descente[tons]),0) -> 31.503333 | AJ70: =IFERROR(SUMPRODUCT(--(tbl_bd_descente[wo_number]=W70),tbl_bd_descente[CaOX],tbl_bd_descente[tons])/SUMIF(tbl_bd_descente[wo_number],W70,tbl_bd_descente[tons]),0) -> 1.2433333 | AK70: =IFERROR(SUMPRODUCT(--(tbl_bd_descente[wo_number]=W70),tbl_bd_descente[S],tbl_bd_descente[tons])/SUMIF(tbl_bd_descente[wo_number],W70,tbl_bd_descente[tons]),0) -> 0.057 | AL70: 1240 | AO70: =IF(AND(C70=S$2,D70=S$3,COUNTIF(AO$1:AO69,">"&1)<10),ROW(),"")
A71: S3008 | B71: 3 EME | C71: T19 | D71: 3 EME | E71: 181.945 | F71: 71.4 | G71: 75.2 | H71: 81.3 | I71: 7.61 | J71: 1.35 | K71: 31.94 | L71: 0.37 | M71: 43767.883 | N71: 43767.9 | O71: S1615 | W71: 019/274/001 | X71: 43739.399 | Y71: 612.66667 | Z71: 3 EME | AA71: T19 | AB71: 3 EME | AC71: 2019 | AD71: 10 | AF71: =IFERROR(SUMPRODUCT(--(tbl_bd_descente[wo_number]=W71),tbl_bd_descente[Y],tbl_bd_descente[tons])/SUMIF(tbl_bd_descente[wo_number],W71,tbl_bd_descente[tons]),0) -> 73.618172 | AG71: =IFERROR(SUMPRODUCT(--(tbl_bd_descente[wo_number]=W71),tbl_bd_descente[Al2O3],tbl_bd_descente[tons])/SUMIF(tbl_bd_descente[wo_number],W71,tbl_bd_descente[tons]),0) -> 9.2648749 | AH71: =IFERROR(SUMPRODUCT(--(tbl_bd_descente[wo_number]=W71),tbl_bd_descente[Fe2O3],tbl_bd_descente[tons])/SUMIF(tbl_bd_descente[wo_number],W71,tbl_bd_descente[tons]),0) -> 1.5702067 | AI71: =IFERROR(SUMPRODUCT(--(tbl_bd_descente[wo_number]=W71),tbl_bd_descente[MgO],tbl_bd_descente[tons])/SUMIF(tbl_bd_descente[wo_number],W71,tbl_bd_descente[tons]),0) -> 32.105288 | AJ71: =IFERROR(SUMPRODUCT(--(tbl_bd_descente[wo_number]=W71),tbl_bd_descente[CaOX],tbl_bd_descente[tons])/SUMIF(tbl_bd_descente[wo_number],W71,tbl_bd_descente[tons]),0) -> 1.8577367 | AK71: =IFERROR(SUMPRODUCT(--(tbl_bd_descente[wo_number]=W71),tbl_bd_descente[S],tbl_bd_descente[tons])/SUMIF(tbl_bd_descente[wo_number],W71,tbl_bd_descente[tons]),0) -> 0.13651687 | AO71: =IF(AND(C71=S$2,D71=S$3,COUNTIF(AO$1:AO70,">"&1)<10),ROW(),"")
A72: C4261 | B72: OXO TO | C72: T05 | D72: OXO TO | E72: 206.266 | F72: 78.2 | G72: 82.5 | H72: 89.4 | I72: 3.01 | J72: 0.78 | K72: 31.39 | L72: 0.28 | M72: 43767.852 | N72: 43767.876 | O72: C1615 | W72: 019/274/001 | X72: 43739.399 | Y72: 306.33333 | Z72: 3 EME | AA72: T09 | AB72: 3 EME | AC72: 2019 | AD72: 10 | AF72: =IFERROR(SUMPRODUCT(--(tbl_bd_descente[wo_number]=W72),tbl_bd_descente[Y],tbl_bd_descente[tons])/SUMIF(tbl_bd_descente[wo_number],W72,tbl_bd_descente[tons]),0) -> 73.618172 | AG72: =IFERROR(SUMPRODUCT(--(tbl_bd_descente[wo_number]=W72),tbl_bd_descente[Al2O3],tbl_bd_descente[tons])/SUMIF(tbl_bd_descente[wo_number],W72,tbl_bd_descente[tons]),0) -> 9.2648749 | AH72: =IFERROR(SUMPRODUCT(--(tbl_bd_descente[wo_number]=W72),tbl_bd_descente[Fe2O3],tbl_bd_descente[tons])/SUMIF(tbl_bd_descente[wo_number],W72,tbl_bd_descente[tons]),0) -> 1.5702067 | AI72: =IFERROR(SUMPRODUCT(--(tbl_bd_descente[wo_number]=W72),tbl_bd_descente[MgO],tbl_bd_descente[tons])/SUMIF(tbl_bd_descente[wo_number],W72,tbl_bd_descente[tons]),0) -> 32.105288 | AJ72: =IFERROR(SUMPRODUCT(--(tbl_bd_descente[wo_number]=W72),tbl_bd_descente[CaOX],tbl_bd_descente[tons])/SUMIF(tbl_bd_descente[wo_number],W72,tbl_bd_descente[tons]),0) -> 1.8577367 | AK72: =IFERROR(SUMPRODUCT(--(tbl_bd_descente[wo_number]=W72),tbl_bd_descente[S],tbl_bd_descente[tons])/SUMIF(tbl_bd_descente[wo_number],W72,tbl_bd_descente[tons]),0) -> 0.13651687 | AO72: =IF(AND(C72=S$2,D72=S$3,COUNTIF(AO$1:AO71,">"&1)<10),ROW(),"")
A73: C4268 | B73: 3EME TALQUEUSE | C73: T36 | D73: 3EME TALQUEUSE | E73: 133.026 | F73: 71.5 | G73: 75.4 | H73: 81.9 | I73: 2.55 | J73: 0.82 | K73: 31.45 | L73: 0.41 | M73: 43767.828 | N73: 43767.845 | O73: C1615 | W73: 019/273/003 | X73: 43738.87 | Y73: 990 | Z73: 3 EME | AA73: T08 | AB73: 3 EME | AC73: 2019 | AD73: 9 | AF73: =IFERROR(SUMPRODUCT(--(tbl_bd_descente[wo_number]=W73),tbl_bd_descente[Y],tbl_bd_descente[tons])/SUMIF(tbl_bd_descente[wo_number],W73,tbl_bd_descente[tons]),0) -> 77.534343 | AG73: =IFERROR(SUMPRODUCT(--(tbl_bd_descente[wo_number]=W73),tbl_bd_descente[Al2O3],tbl_bd_descente[tons])/SUMIF(tbl_bd_descente[wo_number],W73,tbl_bd_descente[tons]),0) -> 8.6222222 | AH73: =IFERROR(SUMPRODUCT(--(tbl_bd_descente[wo_number]=W73),tbl_bd_descente[Fe2O3],tbl_bd_descente[tons])/SUMIF(tbl_bd_descente[wo_number],W73,tbl_bd_descente[tons]),0) -> 1.3623232 | AI73: =IFERROR(SUMPRODUCT(--(tbl_bd_descente[wo_number]=W73),tbl_bd_descente[MgO],tbl_bd_descente[tons])/SUMIF(tbl_bd_descente[wo_number],W73,tbl_bd_descente[tons]),0) -> 32.045758 | AJ73: =IFERROR(SUMPRODUCT(--(tbl_bd_descente[wo_number]=W73),tbl_bd_descente[CaOX],tbl_bd_descente[tons])/SUMIF(tbl_bd_descente[wo_number],W73,tbl_bd_descente[tons]),0) -> 1.0369697 | AK73: =IFERROR(SUMPRODUCT(--(tbl_bd_descente[wo_number]=W73),tbl_bd_descente[S],tbl_bd_descente[tons])/SUMIF(tbl_bd_descente[wo_number],W73,tbl_bd_descente[tons]),0) -> 0.1999596 | AO73: =IF(AND(C73=S$2,D73=S$3,COUNTIF(AO$1:AO72,">"&1)<10),ROW(),"")
A74: C4269 | B74: 2EME TO | C74: T04 | D74: 2EME TO | E74: 146.33 | F74: 77.7 | G74: 82 | H74: 87.8 | I74: 6.64 | J74: 1.19 | K74: 31.79 | L74: 0.37 | M74: 43767.81 | N74: 43767.824 | O74: C1615 | W74: 019/273/002 | X74: 43738.64 | Y74: 1200 | Z74: 3 EME | AA74: T08 | AB74: 3 EME | AC74: 2019 | AD74: 9 | AF74: =IFERROR(SUMPRODUCT(--(tbl_bd_descente[wo_number]=W74),tbl_bd_descente[Y],tbl_bd_descente[tons])/SUMIF(tbl_bd_descente[wo_number],W74,tbl_bd_descente[tons]),0) -> 77.066667 | AG74: =IFERROR(SUMPRODUCT(--(tbl_bd_descente[wo_number]=W74),tbl_bd_descente[Al2O3],tbl_bd_descente[tons])/SUMIF(tbl_bd_descente[wo_number],W74,tbl_bd_descente[tons]),0) -> 8.3433333 | AH74: =IFERROR(SUMPRODUCT(--(tbl_bd_descente[wo_number]=W74),tbl_bd_descente[Fe2O3],tbl_bd_descente[tons])/SUMIF(tbl_bd_descente[wo_number],W74,tbl_bd_descente[tons]),0) -> 1.3266667 | AI74: =IFERROR(SUMPRODUCT(--(tbl_bd_descente[wo_number]=W74),tbl_bd_descente[MgO],tbl_bd_descente[tons])/SUMIF(tbl_bd_descente[wo_number],W74,tbl_bd_descente[tons]),0) -> 32.106667 | AJ74: =IFERROR(SUMPRODUCT(--(tbl_bd_descente[wo_number]=W74),tbl_bd_descente[CaOX],tbl_bd_descente[tons])/SUMIF(tbl_bd_descente[wo_number],W74,tbl_bd_descente[tons]),0) -> 1.09 | AK74: =IFERROR(SUMPRODUCT(--(tbl_bd_descente[wo_number]=W74),tbl_bd_descente[S],tbl_bd_descente[tons])/SUMIF(tbl_bd_descente[wo_number],W74,tbl_bd_descente[tons]),0) -> 0.179 | AO74: =IF(AND(C74=S$2,D74=S$3,COUNTIF(AO$1:AO73,">"&1)<10),ROW(),"")
A75: C4267 | B75: 1ERE | C75: T26 | D75: 1ERE | E75: 361.42 | F75: 77.6 | G75: 81.9 | H75: 86.3 | I75: 14.5 | J75: 1.7 | K75: 32.65 | L75: 0.48 | M75: 43767.769 | N75: 43767.805 | O75: C1615 | W75: 019/273/001 | X75: 43738.341 | Y75: 354 | Z75: 3 EME | AA75: T09 | AB75: 3 EME | AC75: 2019 | AD75: 9 | AF75: =IFERROR(SUMPRODUCT(--(tbl_bd_descente[wo_number]=W75),tbl_bd_descente[Y],tbl_bd_descente[tons])/SUMIF(tbl_bd_descente[wo_number],W75,tbl_bd_descente[tons]),0) -> 73.7 | AG75: =IFERROR(SUMPRODUCT(--(tbl_bd_descente[wo_number]=W75),tbl_bd_descente[Al2O3],tbl_bd_descente[tons])/SUMIF(tbl_bd_descente[wo_number],W75,tbl_bd_descente[tons]),0) -> 9.91 | AH75: =IFERROR(SUMPRODUCT(--(tbl_bd_descente[wo_number]=W75),tbl_bd_descente[Fe2O3],tbl_bd_descente[tons])/SUMIF(tbl_bd_descente[wo_number],W75,tbl_bd_descente[tons]),0) -> 1.65 | AI75: =IFERROR(SUMPRODUCT(--(tbl_bd_descente[wo_number]=W75),tbl_bd_descente[MgO],tbl_bd_descente[tons])/SUMIF(tbl_bd_descente[wo_number],W75,tbl_bd_descente[tons]),0) -> 32.18 | AJ75: =IFERROR(SUMPRODUCT(--(tbl_bd_descente[wo_number]=W75),tbl_bd_descente[CaOX],tbl_bd_descente[tons])/SUMIF(tbl_bd_descente[wo_number],W75,tbl_bd_descente[tons]),0) -> 2.02 | AK75: =IFERROR(SUMPRODUCT(--(tbl_bd_descente[wo_number]=W75),tbl_bd_descente[S],tbl_bd_descente[tons])/SUMIF(tbl_bd_descente[wo_number],W75,tbl_bd_descente[tons]),0) -> 0.145 | AO75: =IF(AND(C75=S$2,D75=S$3,COUNTIF(AO$1:AO74,">"&1)<10),ROW(),"")
A76: C4262 | B76: OXO TO | C76: T05 | D76: OXO TO | E76: 362.305 | F76: 78.1 | G76: 82.3 | H76: 89.2 | I76: 3.54 | J76: 0.8 | K76: 31.47 | L76: 0.7 | M76: 43767.701 | N76: 43767.76 | O76: C1615 | W76: 019/271/001 | X76: 43738.259 | Y76: 389.5 | Z76: OXO TO | AA76: T05 | AB76: OXO TO | AC76: 2019 | AD76: 9 | AF76: =IFERROR(SUMPRODUCT(--(tbl_bd_descente[wo_number]=W76),tbl_bd_descente[Y],tbl_bd_descente[tons])/SUMIF(tbl_bd_descente[wo_number],W76,tbl_bd_descente[tons]),0) -> 83.751348 | AG76: =IFERROR(SUMPRODUCT(--(tbl_bd_descente[wo_number]=W76),tbl_bd_descente[Al2O3],tbl_bd_descente[tons])/SUMIF(tbl_bd_descente[wo_number],W76,tbl_bd_descente[tons]),0) -> 4.8586393 | AH76: =IFERROR(SUMPRODUCT(--(tbl_bd_descente[wo_number]=W76),tbl_bd_descente[Fe2O3],tbl_bd_descente[tons])/SUMIF(tbl_bd_descente[wo_number],W76,tbl_bd_descente[tons]),0) -> 0.86 | AI76: =IFERROR(SUMPRODUCT(--(tbl_bd_descente[wo_number]=W76),tbl_bd_descente[MgO],tbl_bd_descente[tons])/SUMIF(tbl_bd_descente[wo_number],W76,tbl_bd_descente[tons]),0) -> 31.76 | AJ76: =IFERROR(SUMPRODUCT(--(tbl_bd_descente[wo_number]=W76),tbl_bd_descente[CaOX],tbl_bd_descente[tons])/SUMIF(tbl_bd_descente[wo_number],W76,tbl_bd_descente[tons]),0) -> 0.98919127 | AK76: =IFERROR(SUMPRODUCT(--(tbl_bd_descente[wo_number]=W76),tbl_bd_descente[S],tbl_bd_descente[tons])/SUMIF(tbl_bd_descente[wo_number],W76,tbl_bd_descente[tons]),0) -> 0.033865212 | AO76: =IF(AND(C76=S$2,D76=S$3,COUNTIF(AO$1:AO75,">"&1)<10),ROW(),"")
A77: C4264 | B77: OXO TO | C77: T05 | D77: OXO TO | E77: 308.775 | F77: 80.9 | G77: 85.2 | H77: 92.3 | I77: 1.79 | J77: 0.64 | K77: 31.32 | L77: 0.45 | M77: 43767.652 | N77: 43767.695 | O77: C1615 | W77: 019/271/001 | X77: 43738.259 | Y77: 389.5 | Z77: 1ERE TO | AA77: T06 | AB77: OXO TO | AC77: 2019 | AD77: 9 | AF77: =IFERROR(SUMPRODUCT(--(tbl_bd_descente[wo_number]=W77),tbl_bd_descente[Y],tbl_bd_descente[tons])/SUMIF(tbl_bd_descente[wo_number],W77,tbl_bd_descente[tons]),0) -> 83.751348 | AG77: =IFERROR(SUMPRODUCT(--(tbl_bd_descente[wo_number]=W77),tbl_bd_descente[Al2O3],tbl_bd_descente[tons])/SUMIF(tbl_bd_descente[wo_number],W77,tbl_bd_descente[tons]),0) -> 4.8586393 | AH77: =IFERROR(SUMPRODUCT(--(tbl_bd_descente[wo_number]=W77),tbl_bd_descente[Fe2O3],tbl_bd_descente[tons])/SUMIF(tbl_bd_descente[wo_number],W77,tbl_bd_descente[tons]),0) -> 0.86 | AI77: =IFERROR(SUMPRODUCT(--(tbl_bd_descente[wo_number]=W77),tbl_bd_descente[MgO],tbl_bd_descente[tons])/SUMIF(tbl_bd_descente[wo_number],W77,tbl_bd_descente[tons]),0) -> 31.76 | AJ77: =IFERROR(SUMPRODUCT(--(tbl_bd_descente[wo_number]=W77),tbl_bd_descente[CaOX],tbl_bd_descente[tons])/SUMIF(tbl_bd_descente[wo_number],W77,tbl_bd_descente[tons]),0) -> 0.98919127 | AK77: =IFERROR(SUMPRODUCT(--(tbl_bd_descente[wo_number]=W77),tbl_bd_descente[S],tbl_bd_descente[tons])/SUMIF(tbl_bd_descente[wo_number],W77,tbl_bd_descente[tons]),0) -> 0.033865212 | AO77: =IF(AND(C77=S$2,D77=S$3,COUNTIF(AO$1:AO76,">"&1)<10),ROW(),"")
A78: C4270 | B78: 3 EME | C78: T19 | D78: 3 EME | E78: 304.12 | F78: 72 | G78: 75.9 | H78: 81.5 | I78: 6.25 | J78: 1.12 | K78: 30.71 | L78: 1.55 | M78: 43767.601 | N78: 43767.642 | O78: C1615 | W78: 019/270/002 | X78: 43736.067 | Y78: 600 | Z78: OXO TO | AA78: T05 | AB78: OXO TO | AC78: 2019 | AD78: 9 | AF78: =IFERROR(SUMPRODUCT(--(tbl_bd_descente[wo_number]=W78),tbl_bd_descente[Y],tbl_bd_descente[tons])/SUMIF(tbl_bd_descente[wo_number],W78,tbl_bd_descente[tons]),0) -> 83.5 | AG78: =IFERROR(SUMPRODUCT(--(tbl_bd_descente[wo_number]=W78),tbl_bd_descente[Al2O3],tbl_bd_descente[tons])/SUMIF(tbl_bd_descente[wo_number],W78,tbl_bd_descente[tons]),0) -> 5.1266667 | AH78: =IFERROR(SUMPRODUCT(--(tbl_bd_descente[wo_number]=W78),tbl_bd_descente[Fe2O3],tbl_bd_descente[tons])/SUMIF(tbl_bd_descente[wo_number],W78,tbl_bd_descente[tons]),0) -> 0.92333333 | AI78: =IFERROR(SUMPRODUCT(--(tbl_bd_descente[wo_number]=W78),tbl_bd_descente[MgO],tbl_bd_descente[tons])/SUMIF(tbl_bd_descente[wo_number],W78,tbl_bd_descente[tons]),0) -> 31.793333 | AJ78: =IFERROR(SUMPRODUCT(--(tbl_bd_descente[wo_number]=W78),tbl_bd_descente[CaOX],tbl_bd_descente[tons])/SUMIF(tbl_bd_descente[wo_number],W78,tbl_bd_descente[tons]),0) -> 0.61 | AK78: =IFERROR(SUMPRODUCT(--(tbl_bd_descente[wo_number]=W78),tbl_bd_descente[S],tbl_bd_descente[tons])/SUMIF(tbl_bd_descente[wo_number],W78,tbl_bd_descente[tons]),0) -> 0.038333333 | AO78: =IF(AND(C78=S$2,D78=S$3,COUNTIF(AO$1:AO77,">"&1)<10),ROW(),"")
A79: C4271 | B79: 3 EME | C79: T19 | D79: 3 EME | E79: 89.014999 | F79: 71.3 | G79: 75.2 | H79: 81 | I79: 5.26 | J79: 1.13 | K79: 31.55 | L79: 1.55 | M79: 43767.573 | N79: 43767.598 | O79: C1615 | W79: 019/270/002 | X79: 43736.067 | Y79: 600 | Z79: 1ERE TO | AA79: T06 | AB79: OXO TO | AC79: 2019 | AD79: 9 | AF79: =IFERROR(SUMPRODUCT(--(tbl_bd_descente[wo_number]=W79),tbl_bd_descente[Y],tbl_bd_descente[tons])/SUMIF(tbl_bd_descente[wo_number],W79,tbl_bd_descente[tons]),0) -> 83.5 | AG79: =IFERROR(SUMPRODUCT(--(tbl_bd_descente[wo_number]=W79),tbl_bd_descente[Al2O3],tbl_bd_descente[tons])/SUMIF(tbl_bd_descente[wo_number],W79,tbl_bd_descente[tons]),0) -> 5.1266667 | AH79: =IFERROR(SUMPRODUCT(--(tbl_bd_descente[wo_number]=W79),tbl_bd_descente[Fe2O3],tbl_bd_descente[tons])/SUMIF(tbl_bd_descente[wo_number],W79,tbl_bd_descente[tons]),0) -> 0.92333333 | AI79: =IFERROR(SUMPRODUCT(--(tbl_bd_descente[wo_number]=W79),tbl_bd_descente[MgO],tbl_bd_descente[tons])/SUMIF(tbl_bd_descente[wo_number],W79,tbl_bd_descente[tons]),0) -> 31.793333 | AJ79: =IFERROR(SUMPRODUCT(--(tbl_bd_descente[wo_number]=W79),tbl_bd_descente[CaOX],tbl_bd_descente[tons])/SUMIF(tbl_bd_descente[wo_number],W79,tbl_bd_descente[tons]),0) -> 0.61 | AK79: =IFERROR(SUMPRODUCT(--(tbl_bd_descente[wo_number]=W79),tbl_bd_descente[S],tbl_bd_descente[tons])/SUMIF(tbl_bd_descente[wo_number],W79,tbl_bd_descente[tons]),0) -> 0.038333333 | AO79: =IF(AND(C79=S$2,D79=S$3,COUNTIF(AO$1:AO78,">"&1)<10),ROW(),"")
A80: A5113 | B80: 2EME TO | C80: T01 | D80: 2EME TO | E80: 36.014999 | F80: 74.2 | G80: 78.3 | H80: 84.5 | I80: 3.52 | J80: 1.02 | K80: 31.42 | L80: 0.75 | M80: 43767.566 | N80: 43767.566 | O80: A1615 | W80: 019/270/001 | X80: 43735.485 | Y80: 600 | Z80: OXO TO | AA80: T05 | AB80: OXO TO | AC80: 2019 | AD80: 9 | AF80: =IFERROR(SUMPRODUCT(--(tbl_bd_descente[wo_number]=W80),tbl_bd_descente[Y],tbl_bd_descente[tons])/SUMIF(tbl_bd_descente[wo_number],W80,tbl_bd_descente[tons]),0) -> 83.466667 | AG80: =IFERROR(SUMPRODUCT(--(tbl_bd_descente[wo_number]=W80),tbl_bd_descente[Al2O3],tbl_bd_descente[tons])/SUMIF(tbl_bd_descente[wo_number],W80,tbl_bd_descente[tons]),0) -> 5.1833333 | AH80: =IFERROR(SUMPRODUCT(--(tbl_bd_descente[wo_number]=W80),tbl_bd_descente[Fe2O3],tbl_bd_descente[tons])/SUMIF(tbl_bd_descente[wo_number],W80,tbl_bd_descente[tons]),0) -> 0.89333333 | AI80: =IFERROR(SUMPRODUCT(--(tbl_bd_descente[wo_number]=W80),tbl_bd_descente[MgO],tbl_bd_descente[tons])/SUMIF(tbl_bd_descente[wo_number],W80,tbl_bd_descente[tons]),0) -> 31.656667 | AJ80: =IFERROR(SUMPRODUCT(--(tbl_bd_descente[wo_number]=W80),tbl_bd_descente[CaOX],tbl_bd_descente[tons])/SUMIF(tbl_bd_descente[wo_number],W80,tbl_bd_descente[tons]),0) -> 0.94666667 | AK80: =IFERROR(SUMPRODUCT(--(tbl_bd_descente[wo_number]=W80),tbl_bd_descente[S],tbl_bd_descente[tons])/SUMIF(tbl_bd_descente[wo_number],W80,tbl_bd_descente[tons]),0) -> 0.038333333 | AO80: =IF(AND(C80=S$2,D80=S$3,COUNTIF(AO$1:AO79,">"&1)<10),ROW(),"")
A81: A5114 | B81: 3 EME | C81: T09 | D81: 3 EME | E81: 417.04899 | F81: 69.1 | G81: 72.9 | H81: 78 | I81: 9.81 | J81: 1.87 | K81: 31.54 | L81: 0.84 | M81: 43767.51 | N81: 43767.56 | O81: A1615 | W81: 019/270/001 | X81: 43735.485 | Y81: 600 | Z81: 1ERE TO | AA81: T06 | AB81: OXO TO | AC81: 2019 | AD81: 9 | AF81: =IFERROR(SUMPRODUCT(--(tbl_bd_descente[wo_number]=W81),tbl_bd_descente[Y],tbl_bd_descente[tons])/SUMIF(tbl_bd_descente[wo_number],W81,tbl_bd_descente[tons]),0) -> 83.466667 | AG81: =IFERROR(SUMPRODUCT(--(tbl_bd_descente[wo_number]=W81),tbl_bd_descente[Al2O3],tbl_bd_descente[tons])/SUMIF(tbl_bd_descente[wo_number],W81,tbl_bd_descente[tons]),0) -> 5.1833333 | AH81: =IFERROR(SUMPRODUCT(--(tbl_bd_descente[wo_number]=W81),tbl_bd_descente[Fe2O3],tbl_bd_descente[tons])/SUMIF(tbl_bd_descente[wo_number],W81,tbl_bd_descente[tons]),0) -> 0.89333333 | AI81: =IFERROR(SUMPRODUCT(--(tbl_bd_descente[wo_number]=W81),tbl_bd_descente[MgO],tbl_bd_descente[tons])/SUMIF(tbl_bd_descente[wo_number],W81,tbl_bd_descente[tons]),0) -> 31.656667 | AJ81: =IFERROR(SUMPRODUCT(--(tbl_bd_descente[wo_number]=W81),tbl_bd_descente[CaOX],tbl_bd_descente[tons])/SUMIF(tbl_bd_descente[wo_number],W81,tbl_bd_descente[tons]),0) -> 0.94666667 | AK81: =IFERROR(SUMPRODUCT(--(tbl_bd_descente[wo_number]=W81),tbl_bd_descente[S],tbl_bd_descente[tons])/SUMIF(tbl_bd_descente[wo_number],W81,tbl_bd_descente[tons]),0) -> 0.038333333 | AO81: =IF(AND(C81=S$2,D81=S$3,COUNTIF(AO$1:AO80,">"&1)<10),ROW(),"")
A82: A5104 | B82: 3EME TALQUEUSE | C82: T36 | D82: 3EME TALQUEUSE | E82: 144.06 | F82: 70.9 | G82: 74.7 | H82: 81.4 | I82: 1.59 | J82: 0.67 | K82: 31.32 | L82: 0.95 | M82: 43767.489 | N82: 43767.503 | O82: A1615 | W82: 019/269/002 | X82: 43735.169 | Y82: 600 | Z82: OXO TO | AA82: T05 | AB82: OXO TO | AC82: 2019 | AD82: 9 | AF82: =IFERROR(SUMPRODUCT(--(tbl_bd_descente[wo_number]=W82),tbl_bd_descente[Y],tbl_bd_descente[tons])/SUMIF(tbl_bd_descente[wo_number],W82,tbl_bd_descente[tons]),0) -> 83.433333 | AG82: =IFERROR(SUMPRODUCT(--(tbl_bd_descente[wo_number]=W82),tbl_bd_descente[Al2O3],tbl_bd_descente[tons])/SUMIF(tbl_bd_descente[wo_number],W82,tbl_bd_descente[tons]),0) -> 5.161 | AH82: =IFERROR(SUMPRODUCT(--(tbl_bd_descente[wo_number]=W82),tbl_bd_descente[Fe2O3],tbl_bd_descente[tons])/SUMIF(tbl_bd_descente[wo_number],W82,tbl_bd_descente[tons]),0) -> 0.86666667 | AI82: =IFERROR(SUMPRODUCT(--(tbl_bd_descente[wo_number]=W82),tbl_bd_descente[MgO],tbl_bd_descente[tons])/SUMIF(tbl_bd_descente[wo_number],W82,tbl_bd_descente[tons]),0) -> 31.756667 | AJ82: =IFERROR(SUMPRODUCT(--(tbl_bd_descente[wo_number]=W82),tbl_bd_descente[CaOX],tbl_bd_descente[tons])/SUMIF(tbl_bd_descente[wo_number],W82,tbl_bd_descente[tons]),0) -> 0.99 | AK82: =IFERROR(SUMPRODUCT(--(tbl_bd_descente[wo_number]=W82),tbl_bd_descente[S],tbl_bd_descente[tons])/SUMIF(tbl_bd_descente[wo_number],W82,tbl_bd_descente[tons]),0) -> 0.047 | AO82: =IF(AND(C82=S$2,D82=S$3,COUNTIF(AO$1:AO81,">"&1)<10),ROW(),"")
... A85: C4265 | B85: 3 EME | C85: T19 | D85: 3 EME | E85: 511.284 | F85: 67 | G85: 70.7 | H85: 75.9 | I85: 9.79 | J85: 1.66 | K85: 31.96 | L85: 0.49 | M85: 43767.305 | N85: 43767.358 | O85: C1625 | W85: 019/268/003 | X85: 43734.287 | Y85: 1634 | Z85: 2EME TO | AA85: T01 | AB85: 2EME TO | AC85: 2019 | AD85: 9 | AF85: =IFERROR(SUMPRODUCT(--(tbl_bd_descente[wo_number]=W85),tbl_bd_descente[Y],tbl_bd_descente[tons])/SUMIF(tbl_bd_descente[wo_number],W85,tbl_bd_descente[tons]),0) -> 78.656793 | AG85: =IFERROR(SUMPRODUCT(--(tbl_bd_descente[wo_number]=W85),tbl_bd_descente[Al2O3],tbl_bd_descente[tons])/SUMIF(tbl_bd_descente[wo_number],W85,tbl_bd_descente[tons]),0) -> 3.3294859 | AH85: =IFERROR(SUMPRODUCT(--(tbl_bd_descente[wo_number]=W85),tbl_bd_descente[Fe2O3],tbl_bd_descente[tons])/SUMIF(tbl_bd_descente[wo_number],W85,tbl_bd_descente[tons]),0) -> 0.91796818 | AI85: =IFERROR(SUMPRODUCT(--(tbl_bd_descente[wo_number]=W85),tbl_bd_descente[MgO],tbl_bd_descente[tons])/SUMIF(tbl_bd_descente[wo_number],W85,tbl_bd_descente[tons]),0) -> 31.417968 | AJ85: =IFERROR(SUMPRODUCT(--(tbl_bd_descente[wo_number]=W85),tbl_bd_descente[CaOX],tbl_bd_descente[tons])/SUMIF(tbl_bd_descente[wo_number],W85,tbl_bd_descente[tons]),0) -> 1.3216646 | AK85: =IFERROR(SUMPRODUCT(--(tbl_bd_descente[wo_number]=W85),tbl_bd_descente[S],tbl_bd_descente[tons])/SUMIF(tbl_bd_descente[wo_number],W85,tbl_bd_descente[tons]),0) -> 0.10885924 | AO85: =IF(AND(C85=S$2,D85=S$3,COUNTIF(AO$1:AO84,">"&1)<10),ROW(),"")
A86: A5099 | B86: 1ERE TO | C86: T14 | D86: 1ERE TO | E86: 214.709 | F86: 80.5 | G86: 85 | H86: 91.3 | I86: 6.48 | J86: 0.92 | K86: 31.8 | L86: 0.75 | M86: 43767.276 | N86: 43767.298 | O86: A1615 | W86: 019/268/002 | X86: 43733.893 | Y86: 650 | Z86: 2EME TO | AA86: T01 | AB86: 2EME TO | AC86: 2019 | AD86: 9 | AF86: =IFERROR(SUMPRODUCT(--(tbl_bd_descente[wo_number]=W86),tbl_bd_descente[Y],tbl_bd_descente[tons])/SUMIF(tbl_bd_descente[wo_number],W86,tbl_bd_descente[tons]),0) -> 79.4 | AG86: =IFERROR(SUMPRODUCT(--(tbl_bd_descente[wo_number]=W86),tbl_bd_descente[Al2O3],tbl_bd_descente[tons])/SUMIF(tbl_bd_descente[wo_number],W86,tbl_bd_descente[tons]),0) -> 3.7276923 | AH86: =IFERROR(SUMPRODUCT(--(tbl_bd_descente[wo_number]=W86),tbl_bd_descente[Fe2O3],tbl_bd_descente[tons])/SUMIF(tbl_bd_descente[wo_number],W86,tbl_bd_descente[tons]),0) -> 0.89307692 | AI86: =IFERROR(SUMPRODUCT(--(tbl_bd_descente[wo_number]=W86),tbl_bd_descente[MgO],tbl_bd_descente[tons])/SUMIF(tbl_bd_descente[wo_number],W86,tbl_bd_descente[tons]),0) -> 31.43 | AJ86: =IFERROR(SUMPRODUCT(--(tbl_bd_descente[wo_number]=W86),tbl_bd_descente[CaOX],tbl_bd_descente[tons])/SUMIF(tbl_bd_descente[wo_number],W86,tbl_bd_descente[tons]),0) -> 1.4084615 | AK86: =IFERROR(SUMPRODUCT(--(tbl_bd_descente[wo_number]=W86),tbl_bd_descente[S],tbl_bd_descente[tons])/SUMIF(tbl_bd_descente[wo_number],W86,tbl_bd_descente[tons]),0) -> 0.079461538 | AM86: 5029 | AO86: =IF(AND(C86=S$2,D86=S$3,COUNTIF(AO$1:AO85,">"&1)<10),ROW(),"")
A87: A5111 | B87: 3EME TALQUEUSE | C87: T36 | D87: 3EME TALQUEUSE | E87: 235.515 | F87: 72.2 | G87: 76.1 | H87: 82.8 | I87: 2.41 | J87: 0.73 | K87: 31.25 | L87: 1.51 | M87: 43767.243 | N87: 43767.27 | O87: A1615 | W87: 019/268/002 | X87: 43733.893 | Y87: 650 | Z87: 2EME TALQUEUSE | AA87: T02 | AB87: 2EME TO | AC87: 2019 | AD87: 9 | AF87: =IFERROR(SUMPRODUCT(--(tbl_bd_descente[wo_number]=W87),tbl_bd_descente[Y],tbl_bd_descente[tons])/SUMIF(tbl_bd_descente[wo_number],W87,tbl_bd_descente[tons]),0) -> 79.4 | AG87: =IFERROR(SUMPRODUCT(--(tbl_bd_descente[wo_number]=W87),tbl_bd_descente[Al2O3],tbl_bd_descente[tons])/SUMIF(tbl_bd_descente[wo_number],W87,tbl_bd_descente[tons]),0) -> 3.7276923 | AH87: =IFERROR(SUMPRODUCT(--(tbl_bd_descente[wo_number]=W87),tbl_bd_descente[Fe2O3],tbl_bd_descente[tons])/SUMIF(tbl_bd_descente[wo_number],W87,tbl_bd_descente[tons]),0) -> 0.89307692 | AI87: =IFERROR(SUMPRODUCT(--(tbl_bd_descente[wo_number]=W87),tbl_bd_descente[MgO],tbl_bd_descente[tons])/SUMIF(tbl_bd_descente[wo_number],W87,tbl_bd_descente[tons]),0) -> 31.43 | AJ87: =IFERROR(SUMPRODUCT(--(tbl_bd_descente[wo_number]=W87),tbl_bd_descente[CaOX],tbl_bd_descente[tons])/SUMIF(tbl_bd_descente[wo_number],W87,tbl_bd_descente[tons]),0) -> 1.4084615 | AK87: =IFERROR(SUMPRODUCT(--(tbl_bd_descente[wo_number]=W87),tbl_bd_descente[S],tbl_bd_descente[tons])/SUMIF(tbl_bd_descente[wo_number],W87,tbl_bd_descente[tons]),0) -> 0.079461538 | AO87: =IF(AND(C87=S$2,D87=S$3,COUNTIF(AO$1:AO86,">"&1)<10),ROW(),"")
A88: A5100 | B88: 2EME TO | C88: T01 | D88: 2EME TO | E88: 142.495 | F88: 73.8 | G88: 77.7 | H88: 84.4 | I88: 2.63 | J88: 0.82 | K88: 31.41 | L88: 0.7 | M88: 43767.224 | N88: 43767.239 | O88: A1615 | W88: 019/268/001 | X88: 43733.258 | Y88: 562 | Z88: OXO TO | AA88: T07 | AB88: OXO TO | AC88: 2019 | AD88: 9 | AF88: =IFERROR(SUMPRODUCT(--(tbl_bd_descente[wo_number]=W88),tbl_bd_descente[Y],tbl_bd_descente[tons])/SUMIF(tbl_bd_descente[wo_number],W88,tbl_bd_descente[tons]),0) -> 86.527046 | AG88: =IFERROR(SUMPRODUCT(--(tbl_bd_descente[wo_number]=W88),tbl_bd_descente[Al2O3],tbl_bd_descente[tons])/SUMIF(tbl_bd_descente[wo_number],W88,tbl_bd_descente[tons]),0) -> 2.3491815 | AH88: =IFERROR(SUMPRODUCT(--(tbl_bd_descente[wo_number]=W88),tbl_bd_descente[Fe2O3],tbl_bd_descente[tons])/SUMIF(tbl_bd_descente[wo_number],W88,tbl_bd_descente[tons]),0) -> 0.63729537 | AI88: =IFERROR(SUMPRODUCT(--(tbl_bd_descente[wo_number]=W88),tbl_bd_descente[MgO],tbl_bd_descente[tons])/SUMIF(tbl_bd_descente[wo_number],W88,tbl_bd_descente[tons]),0) -> 31.49 | AJ88: =IFERROR(SUMPRODUCT(--(tbl_bd_descente[wo_number]=W88),tbl_bd_descente[CaOX],tbl_bd_descente[tons])/SUMIF(tbl_bd_descente[wo_number],W88,tbl_bd_descente[tons]),0) -> 0.42711744 | AK88: =IFERROR(SUMPRODUCT(--(tbl_bd_descente[wo_number]=W88),tbl_bd_descente[S],tbl_bd_descente[tons])/SUMIF(tbl_bd_descente[wo_number],W88,tbl_bd_descente[tons]),0) -> 0.037629893 | AO88: =IF(AND(C88=S$2,D88=S$3,COUNTIF(AO$1:AO87,">"&1)<10),ROW(),"")
A89: A5097 | B89: OXO TO | C89: T05 | D89: OXO TO | E89: 368.47 | F89: 80.7 | G89: 85 | H89: 92.3 | I89: 1.34 | J89: 0.69 | K89: 31.15 | L89: 1.03 | M89: 43766.9 | N89: 43766.941 | O89: A1615 | W89: 019/267/004 | X89: 43733.126 | Y89: 1200 | Z89: OXO TO | AA89: T07 | AB89: OXO TO | AC89: 2019 | AD89: 9 | AF89: =IFERROR(SUMPRODUCT(--(tbl_bd_descente[wo_number]=W89),tbl_bd_descente[Y],tbl_bd_descente[tons])/SUMIF(tbl_bd_descente[wo_number],W89,tbl_bd_descente[tons]),0) -> 85.433333 | AG89: =IFERROR(SUMPRODUCT(--(tbl_bd_descente[wo_number]=W89),tbl_bd_descente[Al2O3],tbl_bd_descente[tons])/SUMIF(tbl_bd_descente[wo_number],W89,tbl_bd_descente[tons]),0) -> 2.53 | AH89: =IFERROR(SUMPRODUCT(--(tbl_bd_descente[wo_number]=W89),tbl_bd_descente[Fe2O3],tbl_bd_descente[tons])/SUMIF(tbl_bd_descente[wo_number],W89,tbl_bd_descente[tons]),0) -> 0.65333333 | AI89: =IFERROR(SUMPRODUCT(--(tbl_bd_descente[wo_number]=W89),tbl_bd_descente[MgO],tbl_bd_descente[tons])/SUMIF(tbl_bd_descente[wo_number],W89,tbl_bd_descente[tons]),0) -> 31.476667 | AJ89: =IFERROR(SUMPRODUCT(--(tbl_bd_descente[wo_number]=W89),tbl_bd_descente[CaOX],tbl_bd_descente[tons])/SUMIF(tbl_bd_descente[wo_number],W89,tbl_bd_descente[tons]),0) -> 0.49 | AK89: =IFERROR(SUMPRODUCT(--(tbl_bd_descente[wo_number]=W89),tbl_bd_descente[S],tbl_bd_descente[tons])/SUMIF(tbl_bd_descente[wo_number],W89,tbl_bd_descente[tons]),0) -> 0.035333333 | AO89: =IF(AND(C89=S$2,D89=S$3,COUNTIF(AO$1:AO88,">"&1)<10),ROW(),"")
A90: A5108 | B90: 2EME TO | C90: T01 | D90: 2EME TO | E90: 183.663 | F90: 77.6 | G90: 81.8 | H90: 88.8 | I90: 2.04 | J90: 0.75 | K90: 31.4 | L90: 1.04 | M90: 43766.873 | N90: 43766.894 | O90: A1615 | W90: 019/267/003 | X90: 43732.504 | Y90: 183 | Z90: 2EME TALQUEUSE | AA90: T02 | AB90: 2EME TALQUEUSE | AC90: 2019 | AD90: 9 | AF90: =IFERROR(SUMPRODUCT(--(tbl_bd_descente[wo_number]=W90),tbl_bd_descente[Y],tbl_bd_descente[tons])/SUMIF(tbl_bd_descente[wo_number],W90,tbl_bd_descente[tons]),0) -> 81.2 | AG90: =IFERROR(SUMPRODUCT(--(tbl_bd_descente[wo_number]=W90),tbl_bd_descente[Al2O3],tbl_bd_descente[tons])/SUMIF(tbl_bd_descente[wo_number],W90,tbl_bd_descente[tons]),0) -> 2.68 | AH90: =IFERROR(SUMPRODUCT(--(tbl_bd_descente[wo_number]=W90),tbl_bd_descente[Fe2O3],tbl_bd_descente[tons])/SUMIF(tbl_bd_descente[wo_number],W90,tbl_bd_descente[tons]),0) -> 0.81 | AI90: =IFERROR(SUMPRODUCT(--(tbl_bd_descente[wo_number]=W90),tbl_bd_descente[MgO],tbl_bd_descente[tons])/SUMIF(tbl_bd_descente[wo_number],W90,tbl_bd_descente[tons]),0) -> 31.52 | AJ90: =IFERROR(SUMPRODUCT(--(tbl_bd_descente[wo_number]=W90),tbl_bd_descente[CaOX],tbl_bd_descente[tons])/SUMIF(tbl_bd_descente[wo_number],W90,tbl_bd_descente[tons]),0) -> 0.67 | AK90: =IFERROR(SUMPRODUCT(--(tbl_bd_descente[wo_number]=W90),tbl_bd_descente[S],tbl_bd_descente[tons])/SUMIF(tbl_bd_descente[wo_number],W90,tbl_bd_descente[tons]),0) -> 0.049 | AO90: =IF(AND(C90=S$2,D90=S$3,COUNTIF(AO$1:AO89,">"&1)<10),ROW(),"")
A91: A5109 | B91: 1ERE | C91: T27 | D91: 1ERE | E91: 95.797998 | F91: 78.1 | G91: 82.5 | H91: 88.4 | I91: 7.1 | J91: 1.22 | K91: 31.85 | L91: 1.02 | M91: 43766.856 | N91: 43766.865 | O91: A1615 | W91: 019/267/002 | X91: 43732.447 | Y91: 196 | Z91: 2EME TO | AA91: T01 | AB91: 2EME TO | AC91: 2019 | AD91: 9 | AF91: =IFERROR(SUMPRODUCT(--(tbl_bd_descente[wo_number]=W91),tbl_bd_descente[Y],tbl_bd_descente[tons])/SUMIF(tbl_bd_descente[wo_number],W91,tbl_bd_descente[tons]),0) -> 79.7 | AG91: =IFERROR(SUMPRODUCT(--(tbl_bd_descente[wo_number]=W91),tbl_bd_descente[Al2O3],tbl_bd_descente[tons])/SUMIF(tbl_bd_descente[wo_number],W91,tbl_bd_descente[tons]),0) -> 3.15 | AH91: =IFERROR(SUMPRODUCT(--(tbl_bd_descente[wo_number]=W91),tbl_bd_descente[Fe2O3],tbl_bd_descente[tons])/SUMIF(tbl_bd_descente[wo_number],W91,tbl_bd_descente[tons]),0) -> 0.85 | AI91: =IFERROR(SUMPRODUCT(--(tbl_bd_descente[wo_number]=W91),tbl_bd_descente[MgO],tbl_bd_descente[tons])/SUMIF(tbl_bd_descente[wo_number],W91,tbl_bd_descente[tons]),0) -> 31.51 | AJ91: =IFERROR(SUMPRODUCT(--(tbl_bd_descente[wo_number]=W91),tbl_bd_descente[CaOX],tbl_bd_descente[tons])/SUMIF(tbl_bd_descente[wo_number],W91,tbl_bd_descente[tons]),0) -> 1.63 | AK91: =IFERROR(SUMPRODUCT(--(tbl_bd_descente[wo_number]=W91),tbl_bd_descente[S],tbl_bd_descente[tons])/SUMIF(tbl_bd_descente[wo_number],W91,tbl_bd_descente[tons]),0) -> 0.055 | AO91: =IF(AND(C91=S$2,D91=S$3,COUNTIF(AO$1:AO90,">"&1)<10),ROW(),"")
A92: A5105 | B92: 3EME TALQUEUSE | C92: T36 | D92: 3EME TALQUEUSE | E92: 223.437 | F92: 72.6 | G92: 76.5 | H92: 83 | I92: 1.96 | J92: 1.06 | K92: 31.28 | L92: 0.77 | M92: 43766.841 | N92: 43766.852 | O92: A1615 | W92: 019/267/002 | X92: 43732.447 | Y92: 196 | Z92: 2EME TALQUEUSE | AA92: T02 | AB92: 2EME TO | AC92: 2019 | AD92: 9 | AF92: =IFERROR(SUMPRODUCT(--(tbl_bd_descente[wo_number]=W92),tbl_bd_descente[Y],tbl_bd_descente[tons])/SUMIF(tbl_bd_descente[wo_number],W92,tbl_bd_descente[tons]),0) -> 79.7 | AG92: =IFERROR(SUMPRODUCT(--(tbl_bd_descente[wo_number]=W92),tbl_bd_descente[Al2O3],tbl_bd_descente[tons])/SUMIF(tbl_bd_descente[wo_number],W92,tbl_bd_descente[tons]),0) -> 3.15 | AH92: =IFERROR(SUMPRODUCT(--(tbl_bd_descente[wo_number]=W92),tbl_bd_descente[Fe2O3],tbl_bd_descente[tons])/SUMIF(tbl_bd_descente[wo_number],W92,tbl_bd_descente[tons]),0) -> 0.85 | AI92: =IFERROR(SUMPRODUCT(--(tbl_bd_descente[wo_number]=W92),tbl_bd_descente[MgO],tbl_bd_descente[tons])/SUMIF(tbl_bd_descente[wo_number],W92,tbl_bd_descente[tons]),0) -> 31.51 | AJ92: =IFERROR(SUMPRODUCT(--(tbl_bd_descente[wo_number]=W92),tbl_bd_descente[CaOX],tbl_bd_descente[tons])/SUMIF(tbl_bd_descente[wo_number],W92,tbl_bd_descente[tons]),0) -> 1.63 | AK92: =IFERROR(SUMPRODUCT(--(tbl_bd_descente[wo_number]=W92),tbl_bd_descente[S],tbl_bd_descente[tons])/SUMIF(tbl_bd_descente[wo_number],W92,tbl_bd_descente[tons]),0) -> 0.055 | AO92: =IF(AND(C92=S$2,D92=S$3,COUNTIF(AO$1:AO91,">"&1)<10),ROW(),"")
A93: A5112 | B93: 2EME TO | C93: T01 | D93: 2EME TO | E93: 510.956 | F93: 76.9 | G93: 81 | H93: 88 | I93: 2.16 | J93: 0.7 | K93: 31.23 | L93: 0.76 | M93: 43766.715 | N93: 43766.816 | O93: A1615 | W93: 019/267/001 | X93: 43732.346 | Y93: 630 | Z93: 2EME TO | AA93: T01 | AB93: 2EME TO | AC93: 2019 | AD93: 9 | AF93: =IFERROR(SUMPRODUCT(--(tbl_bd_descente[wo_number]=W93),tbl_bd_descente[Y],tbl_bd_descente[tons])/SUMIF(tbl_bd_descente[wo_number],W93,tbl_bd_descente[tons]),0) -> 79.25873 | AG93: =IFERROR(SUMPRODUCT(--(tbl_bd_descente[wo_number]=W93),tbl_bd_descente[Al2O3],tbl_bd_descente[tons])/SUMIF(tbl_bd_descente[wo_number],W93,tbl_bd_descente[tons]),0) -> 3.0828571 | AH93: =IFERROR(SUMPRODUCT(--(tbl_bd_descente[wo_number]=W93),tbl_bd_descente[Fe2O3],tbl_bd_descente[tons])/SUMIF(tbl_bd_descente[wo_number],W93,tbl_bd_descente[tons]),0) -> 0.8631746 | AI93: =IFERROR(SUMPRODUCT(--(tbl_bd_descente[wo_number]=W93),tbl_bd_descente[MgO],tbl_bd_descente[tons])/SUMIF(tbl_bd_descente[wo_number],W93,tbl_bd_descente[tons]),0) -> 31.514921 | AJ93: =IFERROR(SUMPRODUCT(--(tbl_bd_descente[wo_number]=W93),tbl_bd_descente[CaOX],tbl_bd_descente[tons])/SUMIF(tbl_bd_descente[wo_number],W93,tbl_bd_descente[tons]),0) -> 1.3315873 | AK93: =IFERROR(SUMPRODUCT(--(tbl_bd_descente[wo_number]=W93),tbl_bd_descente[S],tbl_bd_descente[tons])/SUMIF(tbl_bd_descente[wo_number],W93,tbl_bd_descente[tons]),0) -> 0.073174603 | AO93: =IF(AND(C93=S$2,D93=S$3,COUNTIF(AO$1:AO92,">"&1)<10),ROW(),"")
A94: A5110 | B94: 2EME TO | C94: T01 | D94: 2EME TO | E94: 236.056 | F94: 77.8 | G94: 82 | H94: 89 | I94: 2.26 | J94: 0.69 | K94: 31.4 | L94: 0.4 | M94: 43766.629 | N94: 43766.668 | O94: A1615 | W94: 019/267/001 | X94: 43732.346 | Y94: 630 | Z94: 2EME TALQUEUSE | AA94: T02 | AB94: 2EME TO | AC94: 2019 | AD94: 9 | AF94: =IFERROR(SUMPRODUCT(--(tbl_bd_descente[wo_number]=W94),tbl_bd_descente[Y],tbl_bd_descente[tons])/SUMIF(tbl_bd_descente[wo_number],W94,tbl_bd_descente[tons]),0) -> 79.25873 | AG94: =IFERROR(SUMPRODUCT(--(tbl_bd_descente[wo_number]=W94),tbl_bd_descente[Al2O3],tbl_bd_descente[tons])/SUMIF(tbl_bd_descente[wo_number],W94,tbl_bd_descente[tons]),0) -> 3.0828571 | AH94: =IFERROR(SUMPRODUCT(--(tbl_bd_descente[wo_number]=W94),tbl_bd_descente[Fe2O3],tbl_bd_descente[tons])/SUMIF(tbl_bd_descente[wo_number],W94,tbl_bd_descente[tons]),0) -> 0.8631746 | AI94: =IFERROR(SUMPRODUCT(--(tbl_bd_descente[wo_number]=W94),tbl_bd_descente[MgO],tbl_bd_descente[tons])/SUMIF(tbl_bd_descente[wo_number],W94,tbl_bd_descente[tons]),0) -> 31.514921 | AJ94: =IFERROR(SUMPRODUCT(--(tbl_bd_descente[wo_number]=W94),tbl_bd_descente[CaOX],tbl_bd_descente[tons])/SUMIF(tbl_bd_descente[wo_number],W94,tbl_bd_descente[tons]),0) -> 1.3315873 | AK94: =IFERROR(SUMPRODUCT(--(tbl_bd_descente[wo_number]=W94),tbl_bd_descente[S],tbl_bd_descente[tons])/SUMIF(tbl_bd_descente[wo_number],W94,tbl_bd_descente[tons]),0) -> 0.073174603 | AO94: =IF(AND(C94=S$2,D94=S$3,COUNTIF(AO$1:AO93,">"&1)<10),ROW(),"")
A95: A5101 | B95: OXO TO | C95: T07 | D95: OXO TO | E95: 138.707 | F95: 81.7 | G95: 86 | H95: 93.1 | I95: 1.49 | J95: 0.56 | K95: 31.28 | L95: 0.66 | M95: 43766.607 | N95: 43766.625 | O95: A1615 | W95: 019/266/002 | X95: 43732.052 | Y95: 600 | Z95: 2EME TO | AA95: T01 | AB95: 2EME TO | AC95: 2019 | AD95: 9 | AF95: =IFERROR(SUMPRODUCT(--(tbl_bd_descente[wo_number]=W95),tbl_bd_descente[Y],tbl_bd_descente[tons])/SUMIF(tbl_bd_descente[wo_number],W95,tbl_bd_descente[tons]),0) -> 78.3 | AG95: =IFERROR(SUMPRODUCT(--(tbl_bd_descente[wo_number]=W95),tbl_bd_descente[Al2O3],tbl_bd_descente[tons])/SUMIF(tbl_bd_descente[wo_number],W95,tbl_bd_descente[tons]),0) -> 3.65 | AH95: =IFERROR(SUMPRODUCT(--(tbl_bd_descente[wo_number]=W95),tbl_bd_descente[Fe2O3],tbl_bd_descente[tons])/SUMIF(tbl_bd_descente[wo_number],W95,tbl_bd_descente[tons]),0) -> 0.91333333 | AI95: =IFERROR(SUMPRODUCT(--(tbl_bd_descente[wo_number]=W95),tbl_bd_descente[MgO],tbl_bd_descente[tons])/SUMIF(tbl_bd_descente[wo_number],W95,tbl_bd_descente[tons]),0) -> 31.553333 | AJ95: =IFERROR(SUMPRODUCT(--(tbl_bd_descente[wo_number]=W95),tbl_bd_descente[CaOX],tbl_bd_descente[tons])/SUMIF(tbl_bd_descente[wo_number],W95,tbl_bd_descente[tons]),0) -> 1.59 | AK95: =IFERROR(SUMPRODUCT(--(tbl_bd_descente[wo_number]=W95),tbl_bd_descente[S],tbl_bd_descente[tons])/SUMIF(tbl_bd_descente[wo_number],W95,tbl_bd_descente[tons]),0) -> 0.067333333 | AO95: =IF(AND(C95=S$2,D95=S$3,COUNTIF(AO$1:AO94,">"&1)<10),ROW(),"")
A96: A5106 | B96: 1ERE TO | C96: T14 | D96: 1ERE TO | E96: 93.109999 | F96: 81.3 | G96: 85.7 | H96: 92.6 | I96: 4.39 | J96: 0.7 | K96: 31.58 | L96: 0.74 | M96: 43766.593 | N96: 43766.602 | O96: A1615 | W96: 019/266/002 | X96: 43732.052 | Y96: 600 | Z96: 2EME TALQUEUSE | AA96: T02 | AB96: 2EME TO | AC96: 2019 | AD96: 9 | AF96: =IFERROR(SUMPRODUCT(--(tbl_bd_descente[wo_number]=W96),tbl_bd_descente[Y],tbl_bd_descente[tons])/SUMIF(tbl_bd_descente[wo_number],W96,tbl_bd_descente[tons]),0) -> 78.3 | AG96: =IFERROR(SUMPRODUCT(--(tbl_bd_descente[wo_number]=W96),tbl_bd_descente[Al2O3],tbl_bd_descente[tons])/SUMIF(tbl_bd_descente[wo_number],W96,tbl_bd_descente[tons]),0) -> 3.65 | AH96: =IFERROR(SUMPRODUCT(--(tbl_bd_descente[wo_number]=W96),tbl_bd_descente[Fe2O3],tbl_bd_descente[tons])/SUMIF(tbl_bd_descente[wo_number],W96,tbl_bd_descente[tons]),0) -> 0.91333333 | AI96: =IFERROR(SUMPRODUCT(--(tbl_bd_descente[wo_number]=W96),tbl_bd_descente[MgO],tbl_bd_descente[tons])/SUMIF(tbl_bd_descente[wo_number],W96,tbl_bd_descente[tons]),0) -> 31.553333 | AJ96: =IFERROR(SUMPRODUCT(--(tbl_bd_descente[wo_number]=W96),tbl_bd_descente[CaOX],tbl_bd_descente[tons])/SUMIF(tbl_bd_descente[wo_number],W96,tbl_bd_descente[tons]),0) -> 1.59 | AK96: =IFERROR(SUMPRODUCT(--(tbl_bd_descente[wo_number]=W96),tbl_bd_descente[S],tbl_bd_descente[tons])/SUMIF(tbl_bd_descente[wo_number],W96,tbl_bd_descente[tons]),0) -> 0.067333333 | AO96: =IF(AND(C96=S$2,D96=S$3,COUNTIF(AO$1:AO95,">"&1)<10),ROW(),"")
A97: A5102 | B97: 2EME TO | C97: T01 | D97: 2EME TO | E97: 163.87 | F97: 77.3 | G97: 81.4 | H97: 88.3 | I97: 2.62 | J97: 0.65 | K97: 31.45 | L97: 1.23 | M97: 43766.556 | N97: 43766.574 | O97: A1615 | W97: 019/266/001 | X97: 43731.47 | Y97: 1200 | Z97: 2EME TO | AA97: T01 | AB97: 2EME TO | AC97: 2019 | AD97: 9 | AF97: =IFERROR(SUMPRODUCT(--(tbl_bd_descente[wo_number]=W97),tbl_bd_descente[Y],tbl_bd_descente[tons])/SUMIF(tbl_bd_descente[wo_number],W97,tbl_bd_descente[tons]),0) -> 79.4 | AG97: =IFERROR(SUMPRODUCT(--(tbl_bd_descente[wo_number]=W97),tbl_bd_descente[Al2O3],tbl_bd_descente[tons])/SUMIF(tbl_bd_descente[wo_number],W97,tbl_bd_descente[tons]),0) -> 3.7266667 | AH97: =IFERROR(SUMPRODUCT(--(tbl_bd_descente[wo_number]=W97),tbl_bd_descente[Fe2O3],tbl_bd_descente[tons])/SUMIF(tbl_bd_descente[wo_number],W97,tbl_bd_descente[tons]),0) -> 0.91666667 | AI97: =IFERROR(SUMPRODUCT(--(tbl_bd_descente[wo_number]=W97),tbl_bd_descente[MgO],tbl_bd_descente[tons])/SUMIF(tbl_bd_descente[wo_number],W97,tbl_bd_descente[tons]),0) -> 31.42 | AJ97: =IFERROR(SUMPRODUCT(--(tbl_bd_descente[wo_number]=W97),tbl_bd_descente[CaOX],tbl_bd_descente[tons])/SUMIF(tbl_bd_descente[wo_number],W97,tbl_bd_descente[tons]),0) -> 1.34 | AK97: =IFERROR(SUMPRODUCT(--(tbl_bd_descente[wo_number]=W97),tbl_bd_descente[S],tbl_bd_descente[tons])/SUMIF(tbl_bd_descente[wo_number],W97,tbl_bd_descente[tons]),0) -> 0.087 | AO97: =IF(AND(C97=S$2,D97=S$3,COUNTIF(AO$1:AO96,">"&1)<10),ROW(),"")
A98: A5098 | B98: OXO TO | C98: T05 | D98: OXO TO | E98: 161.045 | F98: 79.8 | G98: 84 | H98: 91.1 | I98: 2.68 | J98: 0.6 | K98: 31.26 | L98: 1.07 | M98: 43766.532 | N98: 43766.55 | O98: A1615 | W98: 019/264/001 | X98: 43729.697 | Y98: 700 | Z98: 3EME TALQUEUSE | AA98: T36 | AB98: 3EME TALQUEUSE | AC98: 2019 | AD98: 9 | AF98: =IFERROR(SUMPRODUCT(--(tbl_bd_descente[wo_number]=W98),tbl_bd_descente[Y],tbl_bd_descente[tons])/SUMIF(tbl_bd_descente[wo_number],W98,tbl_bd_descente[tons]),0) -> 73.569565 | AG98: =IFERROR(SUMPRODUCT(--(tbl_bd_descente[wo_number]=W98),tbl_bd_descente[Al2O3],tbl_bd_descente[tons])/SUMIF(tbl_bd_descente[wo_number],W98,tbl_bd_descente[tons]),0) -> 4.4247826 | AH98: =IFERROR(SUMPRODUCT(--(tbl_bd_descente[wo_number]=W98),tbl_bd_descente[Fe2O3],tbl_bd_descente[tons])/SUMIF(tbl_bd_descente[wo_number],W98,tbl_bd_descente[tons]),0) -> 1.1986957 | AI98: =IFERROR(SUMPRODUCT(--(tbl_bd_descente[wo_number]=W98),tbl_bd_descente[MgO],tbl_bd_descente[tons])/SUMIF(tbl_bd_descente[wo_number],W98,tbl_bd_descente[tons]),0) -> 31.407391 | AJ98: =IFERROR(SUMPRODUCT(--(tbl_bd_descente[wo_number]=W98),tbl_bd_descente[CaOX],tbl_bd_descente[tons])/SUMIF(tbl_bd_descente[wo_number],W98,tbl_bd_descente[tons]),0) -> 1.4917391 | AK98: =IFERROR(SUMPRODUCT(--(tbl_bd_descente[wo_number]=W98),tbl_bd_descente[S],tbl_bd_descente[tons])/SUMIF(tbl_bd_descente[wo_number],W98,tbl_bd_descente[tons]),0) -> 0.16 | AO98: =IF(AND(C98=S$2,D98=S$3,COUNTIF(AO$1:AO97,">"&1)<10),ROW(),"")
... A721: F2956 | B721: 2 EME | C721: T08 | D721: 3 EME | E721: 291.838 | F721: 74.3 | G721: 78.3 | H721: 84.2 | I721: 8.1 | J721: 1.34 | K721: 31.93 | L721: 0.76 | M721: 43699.532 | N721: 43699.573 | O721: F1620 | W721: 019/093/002 | X721: 43558.799 | Y721: 600 | Z721: 3 EME | AA721: T19 | AB721: 3 EME | AC721: 2019 | AD721: 4 | AF721: =IFERROR(SUMPRODUCT(--(tbl_bd_descente[wo_number]=W721),tbl_bd_descente[Y],tbl_bd_descente[tons])/SUMIF(tbl_bd_descente[wo_number],W721,tbl_bd_descente[tons]),0) -> 70.533333 | AG721: =IFERROR(SUMPRODUCT(--(tbl_bd_descente[wo_number]=W721),tbl_bd_descente[Al2O3],tbl_bd_descente[tons])/SUMIF(tbl_bd_descente[wo_number],W721,tbl_bd_descente[tons]),0) -> 8.16 | AH721: =IFERROR(SUMPRODUCT(--(tbl_bd_descente[wo_number]=W721),tbl_bd_descente[Fe2O3],tbl_bd_descente[tons])/SUMIF(tbl_bd_descente[wo_number],W721,tbl_bd_descente[tons]),0) -> 1.5266667 | AI721: =IFERROR(SUMPRODUCT(--(tbl_bd_descente[wo_number]=W721),tbl_bd_descente[MgO],tbl_bd_descente[tons])/SUMIF(tbl_bd_descente[wo_number],W721,tbl_bd_descente[tons]),0) -> 31.926667 | AJ721: =IFERROR(SUMPRODUCT(--(tbl_bd_descente[wo_number]=W721),tbl_bd_descente[CaOX],tbl_bd_descente[tons])/SUMIF(tbl_bd_descente[wo_number],W721,tbl_bd_descente[tons]),0) -> 1.1966667 | AK721: =IFERROR(SUMPRODUCT(--(tbl_bd_descente[wo_number]=W721),tbl_bd_descente[S],tbl_bd_descente[tons])/SUMIF(tbl_bd_descente[wo_number],W721,tbl_bd_descente[tons]),0) -> 0.304 | AO721: =IF(AND(C721=S$2,D721=S$3,COUNTIF(AO$1:AO720,">"&1)<10),ROW(),"")
A722: F2958 | B722: 1ERE | C722: T26 | D722: 1ERE | E722: 252.664 | F722: 75.5 | G722: 79.6 | H722: 85.2 | I722: 9.72 | J722: 1.39 | K722: 32.11 | L722: 0.83 | M722: 43699.486 | N722: 43699.524 | O722: F1620 | W722: 019/093/002 | X722: 43558.799 | Y722: 300 | Z722: 3 EME | AA722: T09 | AB722: 3 EME | AC722: 2019 | AD722: 4 | AE722: 3 A | AF722: =IFERROR(SUMPRODUCT(--(tbl_bd_descente[wo_number]=W722),tbl_bd_descente[Y],tbl_bd_descente[tons])/SUMIF(tbl_bd_descente[wo_number],W722,tbl_bd_descente[tons]),0) -> 70.533333 | AG722: =IFERROR(SUMPRODUCT(--(tbl_bd_descente[wo_number]=W722),tbl_bd_descente[Al2O3],tbl_bd_descente[tons])/SUMIF(tbl_bd_descente[wo_number],W722,tbl_bd_descente[tons]),0) -> 8.16 | AH722: =IFERROR(SUMPRODUCT(--(tbl_bd_descente[wo_number]=W722),tbl_bd_descente[Fe2O3],tbl_bd_descente[tons])/SUMIF(tbl_bd_descente[wo_number],W722,tbl_bd_descente[tons]),0) -> 1.5266667 | AI722: =IFERROR(SUMPRODUCT(--(tbl_bd_descente[wo_number]=W722),tbl_bd_descente[MgO],tbl_bd_descente[tons])/SUMIF(tbl_bd_descente[wo_number],W722,tbl_bd_descente[tons]),0) -> 31.926667 | AJ722: =IFERROR(SUMPRODUCT(--(tbl_bd_descente[wo_number]=W722),tbl_bd_descente[CaOX],tbl_bd_descente[tons])/SUMIF(tbl_bd_descente[wo_number],W722,tbl_bd_descente[tons]),0) -> 1.1966667 | AK722: =IFERROR(SUMPRODUCT(--(tbl_bd_descente[wo_number]=W722),tbl_bd_descente[S],tbl_bd_descente[tons])/SUMIF(tbl_bd_descente[wo_number],W722,tbl_bd_descente[tons]),0) -> 0.304 | AO722: =IF(AND(C722=S$2,D722=S$3,COUNTIF(AO$1:AO721,">"&1)<10),ROW(),"")
A723: F2959 | B723: 3 EME | C723: T19 | D723: 3 EME | E723: 185.501 | F723: 71.3 | G723: 75.1 | H723: 81.7 | I723: 4.48 | J723: 1 | K723: 31.4 | L723: 3.14 | M723: 43699.455 | N723: 43699.484 | O723: F1620 | W723: 019/093/001 | X723: 43558.485 | Y723: 1003 | Z723: 3 EME | AA723: T19 | AB723: 3 EME | AC723: 2019 | AD723: 4 | AF723: =IFERROR(SUMPRODUCT(--(tbl_bd_descente[wo_number]=W723),tbl_bd_descente[Y],tbl_bd_descente[tons])/SUMIF(tbl_bd_descente[wo_number],W723,tbl_bd_descente[tons]),0) -> 71.165603 | AG723: =IFERROR(SUMPRODUCT(--(tbl_bd_descente[wo_number]=W723),tbl_bd_descente[Al2O3],tbl_bd_descente[tons])/SUMIF(tbl_bd_descente[wo_number],W723,tbl_bd_descente[tons]),0) -> 7.6596112 | AH723: =IFERROR(SUMPRODUCT(--(tbl_bd_descente[wo_number]=W723),tbl_bd_descente[Fe2O3],tbl_bd_descente[tons])/SUMIF(tbl_bd_descente[wo_number],W723,tbl_bd_descente[tons]),0) -> 1.4262512 | AI723: =IFERROR(SUMPRODUCT(--(tbl_bd_descente[wo_number]=W723),tbl_bd_descente[MgO],tbl_bd_descente[tons])/SUMIF(tbl_bd_descente[wo_number],W723,tbl_bd_descente[tons]),0) -> 31.894556 | AJ723: =IFERROR(SUMPRODUCT(--(tbl_bd_descente[wo_number]=W723),tbl_bd_descente[CaOX],tbl_bd_descente[tons])/SUMIF(tbl_bd_descente[wo_number],W723,tbl_bd_descente[tons]),0) -> 1.3736989 | AK723: =IFERROR(SUMPRODUCT(--(tbl_bd_descente[wo_number]=W723),tbl_bd_descente[S],tbl_bd_descente[tons])/SUMIF(tbl_bd_descente[wo_number],W723,tbl_bd_descente[tons]),0) -> 0.21158026 | AO723: =IF(AND(C723=S$2,D723=S$3,COUNTIF(AO$1:AO722,">"&1)<10),ROW(),"")
A724: F2957 | B724: 2EME TALQUEUSE | C724: T02 | D724: 2EME TALQUEUSE | E724: 360.114 | F724: 73.5 | G724: 77.5 | H724: 84.3 | I724: 2.8 | J724: 0.97 | K724: 31.48 | L724: 0.31 | M724: 43699.359 | N724: 43699.45 | O724: F1620 | W724: 019/092/001 | X724: 43557.727 | Y724: 111 | Z724: 3 EME | AA724: T36 | AB724: 3EME TALQUEUSE | AC724: 2019 | AD724: 4 | AF724: =IFERROR(SUMPRODUCT(--(tbl_bd_descente[wo_number]=W724),tbl_bd_descente[Y],tbl_bd_descente[tons])/SUMIF(tbl_bd_descente[wo_number],W724,tbl_bd_descente[tons]),0) -> 74.3 | AG724: =IFERROR(SUMPRODUCT(--(tbl_bd_descente[wo_number]=W724),tbl_bd_descente[Al2O3],tbl_bd_descente[tons])/SUMIF(tbl_bd_descente[wo_number],W724,tbl_bd_descente[tons]),0) -> 3.16 | AH724: =IFERROR(SUMPRODUCT(--(tbl_bd_descente[wo_number]=W724),tbl_bd_descente[Fe2O3],tbl_bd_descente[tons])/SUMIF(tbl_bd_descente[wo_number],W724,tbl_bd_descente[tons]),0) -> 1.06 | AI724: =IFERROR(SUMPRODUCT(--(tbl_bd_descente[wo_number]=W724),tbl_bd_descente[MgO],tbl_bd_descente[tons])/SUMIF(tbl_bd_descente[wo_number],W724,tbl_bd_descente[tons]),0) -> 31.45 | AJ724: =IFERROR(SUMPRODUCT(--(tbl_bd_descente[wo_number]=W724),tbl_bd_descente[CaOX],tbl_bd_descente[tons])/SUMIF(tbl_bd_descente[wo_number],W724,tbl_bd_descente[tons]),0) -> 1.81 | AK724: =IFERROR(SUMPRODUCT(--(tbl_bd_descente[wo_number]=W724),tbl_bd_descente[S],tbl_bd_descente[tons])/SUMIF(tbl_bd_descente[wo_number],W724,tbl_bd_descente[tons]),0) -> 0.179 | AO724: =IF(AND(C724=S$2,D724=S$3,COUNTIF(AO$1:AO723,">"&1)<10),ROW(),"")
A725: F2961 | B725: OXO TO | C725: T05 | D725: OXO TO | E725: 136.615 | F725: 79.6 | G725: 83.9 | H725: 91 | I725: 2.69 | J725: 0.6 | K725: 31.43 | L725: 0.33 | M725: 43699.333 | N725: 43699.354 | O725: F1620 | W725: 019/091/001 | X725: 43557.647 | Y725: 1016 | Z725: 3 EME | AA725: T36 | AB725: 3EME TALQUEUSE | AC725: 2019 | AD725: 4 | AF725: =IFERROR(SUMPRODUCT(--(tbl_bd_descente[wo_number]=W725),tbl_bd_descente[Y],tbl_bd_descente[tons])/SUMIF(tbl_bd_descente[wo_number],W725,tbl_bd_descente[tons]),0) -> 75.401969 | AG725: =IFERROR(SUMPRODUCT(--(tbl_bd_descente[wo_number]=W725),tbl_bd_descente[Al2O3],tbl_bd_descente[tons])/SUMIF(tbl_bd_descente[wo_number],W725,tbl_bd_descente[tons]),0) -> 3.2672835 | AH725: =IFERROR(SUMPRODUCT(--(tbl_bd_descente[wo_number]=W725),tbl_bd_descente[Fe2O3],tbl_bd_descente[tons])/SUMIF(tbl_bd_descente[wo_number],W725,tbl_bd_descente[tons]),0) -> 1.0170472 | AI725: =IFERROR(SUMPRODUCT(--(tbl_bd_descente[wo_number]=W725),tbl_bd_descente[MgO],tbl_bd_descente[tons])/SUMIF(tbl_bd_descente[wo_number],W725,tbl_bd_descente[tons]),0) -> 31.393425 | AJ725: =IFERROR(SUMPRODUCT(--(tbl_bd_descente[wo_number]=W725),tbl_bd_descente[CaOX],tbl_bd_descente[tons])/SUMIF(tbl_bd_descente[wo_number],W725,tbl_bd_descente[tons]),0) -> 1.3534646 | AK725: =IFERROR(SUMPRODUCT(--(tbl_bd_descente[wo_number]=W725),tbl_bd_descente[S],tbl_bd_descente[tons])/SUMIF(tbl_bd_descente[wo_number],W725,tbl_bd_descente[tons]),0) -> 0.13712205 | AO725: =IF(AND(C725=S$2,D725=S$3,COUNTIF(AO$1:AO724,">"&1)<10),ROW(),"")
A726: F2960 | B726: 1ERE TO | C726: T06 | D726: 1ERE TO | E726: 253.13 | F726: 79.7 | G726: 84.2 | H726: 90 | I726: 8 | J726: 0.98 | K726: 32.01 | L726: 0.74 | M726: 43699.29 | N726: 43699.328 | O726: F1620 | W726: 019/087/001 | X726: 43556.366 | Y726: 749 | Z726: 3 EME | AA726: T36 | AB726: 3EME TALQUEUSE | AC726: 2019 | AD726: 4 | AF726: =IFERROR(SUMPRODUCT(--(tbl_bd_descente[wo_number]=W726),tbl_bd_descente[Y],tbl_bd_descente[tons])/SUMIF(tbl_bd_descente[wo_number],W726,tbl_bd_descente[tons]),0) -> 76.099199 | AG726: =IFERROR(SUMPRODUCT(--(tbl_bd_descente[wo_number]=W726),tbl_bd_descente[Al2O3],tbl_bd_descente[tons])/SUMIF(tbl_bd_descente[wo_number],W726,tbl_bd_descente[tons]),0) -> 4.6654206 | AH726: =IFERROR(SUMPRODUCT(--(tbl_bd_descente[wo_number]=W726),tbl_bd_descente[Fe2O3],tbl_bd_descente[tons])/SUMIF(tbl_bd_descente[wo_number],W726,tbl_bd_descente[tons]),0) -> 1.1401335 | AI726: =IFERROR(SUMPRODUCT(--(tbl_bd_descente[wo_number]=W726),tbl_bd_descente[MgO],tbl_bd_descente[tons])/SUMIF(tbl_bd_descente[wo_number],W726,tbl_bd_descente[tons]),0) -> 31.588144 | AJ726: =IFERROR(SUMPRODUCT(--(tbl_bd_descente[wo_number]=W726),tbl_bd_descente[CaOX],tbl_bd_descente[tons])/SUMIF(tbl_bd_descente[wo_number],W726,tbl_bd_descente[tons]),0) -> 2.4545394 | AK726: =IFERROR(SUMPRODUCT(--(tbl_bd_descente[wo_number]=W726),tbl_bd_descente[S],tbl_bd_descente[tons])/SUMIF(tbl_bd_descente[wo_number],W726,tbl_bd_descente[tons]),0) -> 0.12079573 | AO726: =IF(AND(C726=S$2,D726=S$3,COUNTIF(AO$1:AO725,">"&1)<10),ROW(),"")
A727: A4947 | B727: 3 EME | C727: T09 | D727: 3 EME | E727: 138.03 | F727: 70.1 | G727: 74 | H727: 79 | I727: 13.73 | J727: 1.87 | K727: 32.54 | L727: 0.39 | M727: 43699.26 | N727: 43699.277 | O727: A1620 | W727: 019/084/001 | X727: 43556.081 | Y727: 180 | Z727: 3 EME | AA727: T19 | AB727: 3 EME | AC727: 2019 | AD727: 4 | AF727: =IFERROR(SUMPRODUCT(--(tbl_bd_descente[wo_number]=W727),tbl_bd_descente[Y],tbl_bd_descente[tons])/SUMIF(tbl_bd_descente[wo_number],W727,tbl_bd_descente[tons]),0) -> 70.8 | AG727: =IFERROR(SUMPRODUCT(--(tbl_bd_descente[wo_number]=W727),tbl_bd_descente[Al2O3],tbl_bd_descente[tons])/SUMIF(tbl_bd_descente[wo_number],W727,tbl_bd_descente[tons]),0) -> 7.83 | AH727: =IFERROR(SUMPRODUCT(--(tbl_bd_descente[wo_number]=W727),tbl_bd_descente[Fe2O3],tbl_bd_descente[tons])/SUMIF(tbl_bd_descente[wo_number],W727,tbl_bd_descente[tons]),0) -> 1.43 | AI727: =IFERROR(SUMPRODUCT(--(tbl_bd_descente[wo_number]=W727),tbl_bd_descente[MgO],tbl_bd_descente[tons])/SUMIF(tbl_bd_descente[wo_number],W727,tbl_bd_descente[tons]),0) -> 31.74 | AJ727: =IFERROR(SUMPRODUCT(--(tbl_bd_descente[wo_number]=W727),tbl_bd_descente[CaOX],tbl_bd_descente[tons])/SUMIF(tbl_bd_descente[wo_number],W727,tbl_bd_descente[tons]),0) -> 1.82 | AK727: =IFERROR(SUMPRODUCT(--(tbl_bd_descente[wo_number]=W727),tbl_bd_descente[S],tbl_bd_descente[tons])/SUMIF(tbl_bd_descente[wo_number],W727,tbl_bd_descente[tons]),0) -> 0.174 | AO727: =IF(AND(C727=S$2,D727=S$3,COUNTIF(AO$1:AO726,">"&1)<10),ROW(),"")
A728: A4944 | B728: 3 EME | C728: T09 | D728: 3 EME | E728: 467.09799 | F728: 68.4 | G728: 72.1 | H728: 77.5 | I728: 12.59 | J728: 1.52 | K728: 32.44 | L728: 0.45 | M728: 43698.921 | N728: 43699.255 | O728: A1620 | AO728: =IF(AND(C728=S$2,D728=S$3,COUNTIF(AO$1:AO727,">"&1)<10),ROW(),"")
A729: C3997 | B729: 2EME TO | C729: T04 | D729: 2EME TO | E729: 290.65899 | F729: 76.7 | G729: 80.8 | H729: 87.3 | I729: 4.66 | J729: 0.69 | K729: 31.67 | L729: 1.42 | M729: 43698.87 | N729: 43698.903 | O729: C1620 | AO729: =IF(AND(C729=S$2,D729=S$3,COUNTIF(AO$1:AO728,">"&1)<10),ROW(),"")
A730: C3998 | B730: 2EME TO | C730: T04 | D730: 2EME TO | E730: 257.276 | F730: 76.3 | G730: 80.4 | H730: 86.7 | I730: 6.04 | J730: 0.9 | K730: 31.82 | L730: 0.91 | M730: 43698.838 | N730: 43698.867 | O730: C1620 | AO730: =IF(AND(C730=S$2,D730=S$3,COUNTIF(AO$1:AO729,">"&1)<10),ROW(),"")
A731: C4000 | B731: 2EME TO | C731: T04 | D731: 2EME TO | E731: 221.351 | F731: 77.8 | G731: 81.9 | H731: 88.4 | I731: 5.21 | J731: 0.95 | K731: 31.66 | L731: 0.36 | M731: 43698.807 | N731: 43698.828 | O731: C1620 | AO731: =IF(AND(C731=S$2,D731=S$3,COUNTIF(AO$1:AO730,">"&1)<10),ROW(),"")
A732: C4012 | B732: 1ERE | C732: T26 | D732: 1ERE | E732: 127.458 | F732: 77.6 | G732: 81.8 | H732: 87.9 | I732: 9.7 | J732: 1.19 | K732: 32.15 | L732: 0.61 | M732: 43698.656 | N732: 43698.671 | O732: C1620 | AO732: =IF(AND(C732=S$2,D732=S$3,COUNTIF(AO$1:AO731,">"&1)<10),ROW(),"")
A733: C4013 | B733: 1ERE TO | C733: T06 | D733: 1ERE TO | E733: 236.38899 | F733: 79.9 | G733: 84.2 | H733: 91 | I733: 5.3 | J733: 0.87 | K733: 31.69 | L733: 0.45 | M733: 43698.621 | N733: 43698.652 | O733: C1620 | AO733: =IF(AND(C733=S$2,D733=S$3,COUNTIF(AO$1:AO732,">"&1)<10),ROW(),"")
A734: C4014 | B734: 1ERE | C734: T27 | D734: 1ERE | E734: 111.946 | F734: 78.6 | G734: 82.8 | H734: 89.1 | I734: 9.73 | J734: 1.15 | K734: 32.22 | L734: 0.73 | M734: 43698.608 | N734: 43698.617 | O734: C1620 | AO734: =IF(AND(C734=S$2,D734=S$3,COUNTIF(AO$1:AO733,">"&1)<10),ROW(),"")
A735: C4008 | B735: 3 EME | C735: T09 | D735: 3 EME | E735: 372.396 | F735: 69.4 | G735: 73.1 | H735: 78.9 | I735: 9.74 | J735: 1.48 | K735: 32.12 | L735: 0.69 | M735: 43698.54 | N735: 43698.603 | O735: C1620 | AO735: =IF(AND(C735=S$2,D735=S$3,COUNTIF(AO$1:AO734,">"&1)<10),ROW(),"")
A736: C4006 | B736: 2EME TO | C736: T04 | D736: 2EME TO | E736: 185.278 | F736: 76.8 | G736: 80.9 | H736: 87.6 | I736: 5.21 | J736: 0.94 | K736: 31.58 | L736: 1.54 | M736: 43698.511 | N736: 43698.53 | O736: C1615 | AO736: =IF(AND(C736=S$2,D736=S$3,COUNTIF(AO$1:AO735,">"&1)<10),ROW(),"")
A737: C3996 | B737: OXO TO | C737: T07 | D737: OXO TO | E737: 179.348 | F737: 82.4 | G737: 86.8 | H737: 93.8 | I737: 1.98 | J737: 0.59 | K737: 31.52 | L737: 0.53 | M737: 43698.483 | N737: 43698.502 | O737: C1615 | AO737: =IF(AND(C737=S$2,D737=S$3,COUNTIF(AO$1:AO736,">"&1)<10),ROW(),"")
...
