Workbook

Sheet BASE
A1: Fiche | B1: NOM | C1: 43101 | D1: 43132 | E1: 43160 | F1: 43191 | G1: 43221 | H1: 43252 | I1: 43282 | J1: 43313 | K1: 43344 | L1: 43374 | M1: 43405 | N1: 43435 | O1: 43466 | P1: 43497 | Q1: 43525 | R1: 43556 | S1: 43586 | T1: 43617 | U1: 43647 | V1: 43678 | W1: 43709
A2: =IF(B2=wanted!$A$1,ROW(),"") | B2: MATIN | K2: 21079.45 | W2: 0
A3: =IF(B3=wanted!$A$1,ROW(),"") | B3: ROBERT | K3: 717.3 | L3: 493.62 | Q3: 493.62 | W3: 0
A4: =IF(B4=wanted!$A$1,ROW(),"") | B4: JEAN | H4: 87.68 | R4: 213.72 | W4: 0
A5: =IF(B5=wanted!$A$1,ROW(),"") | B5: PIERRE | G5: 98.73 | L5: 98.7 | Q5: 98.7 | W5: 0
A6: =IF(B6=wanted!$A$1,ROW(),"") | B6: ANDRES | I6: 708 | N6: 692 | O6: 829.89 | Q6: 1000.84 | T6: 598.17 | U6: 867.63 | W6: 0
A7: =IF(B7=wanted!$A$1,ROW(),"") | B7: JEAN-LUC | N7: 63.64 | S7: 61.52 | W7: 0
A8: =IF(B8=wanted!$A$1,ROW(),"") | B8: JULIE | G8: 2597.36 | W8: 0
A9: =IF(B9=wanted!$A$1,ROW(),"") | B9: ANTOINE | Q9: 2099.1 | W9: 0
A10: =IF(B10=wanted!$A$1,ROW(),"") | B10: FRANCK | G10: 1546.56 | W10: 0
A11: =IF(B11=wanted!$A$1,ROW(),"") -> 11 | B11: REMOND | F11: 419.4 | G11: 425.7 | J11: 268.14 | K11: 419.4 | L11: 425.7 | O11: 268.14 | P11: 419.4 | Q11: 425.7 | V11: 419.4 | W11: 0
C12: =IF(ISNUMBER(INDIRECT(ADDRESS(MIN($A$2:$A$11),COLUMN()),1)),COLUMN(),"") | D12: =IF(ISNUMBER(INDIRECT(ADDRESS(MIN($A$2:$A$11),COLUMN()),1)),COLUMN(),"") | E12: =IF(ISNUMBER(INDIRECT(ADDRESS(MIN($A$2:$A$11),COLUMN()),1)),COLUMN(),"") | F12: =IF(ISNUMBER(INDIRECT(ADDRESS(MIN($A$2:$A$11),COLUMN()),1)),COLUMN(),"") -> 6 | G12: =IF(ISNUMBER(INDIRECT(ADDRESS(MIN($A$2:$A$11),COLUMN()),1)),COLUMN(),"") -> 7 | H12: =IF(ISNUMBER(INDIRECT(ADDRESS(MIN($A$2:$A$11),COLUMN()),1)),COLUMN(),"") | I12: =IF(ISNUMBER(INDIRECT(ADDRESS(MIN($A$2:$A$11),COLUMN()),1)),COLUMN(),"") | J12: =IF(ISNUMBER(INDIRECT(ADDRESS(MIN($A$2:$A$11),COLUMN()),1)),COLUMN(),"") -> 10 | ... W12: =IF(ISNUMBER(INDIRECT(ADDRESS(MIN($A$2:$A$11),COLUMN()),1)),COLUMN(),"") -> 23

Sheet wanted
A1: REMOND
B4: RESULTAT
B5: =IF(ISNUMBER(SMALL(BASE!$A$12:$W$12,ROW()-4)),TEXT(INDIRECT(ADDRESS(1,SMALL(BASE!$A$12:$W$12,ROW()-4),4,1,"BASE"),1),"jj/mm/aaaa")&" - "&INDIRECT(ADDRESS(MIN(BASE!$A$2:$A$11),SMALL(BASE!$A$12:$W$12,ROW()-4),4,1,"BASE"),1)&" €","") -> 01/04/2018 - 419,4 €
B6: =IF(ISNUMBER(SMALL(BASE!$A$12:$W$12,ROW()-4)),TEXT(INDIRECT(ADDRESS(1,SMALL(BASE!$A$12:$W$12,ROW()-4),4,1,"BASE"),1),"jj/mm/aaaa")&" - "&INDIRECT(ADDRESS(MIN(BASE!$A$2:$A$11),SMALL(BASE!$A$12:$W$12,ROW()-4),4,1,"BASE"),1)&" €","") -> 01/05/2018 - 425,7 €
B7: =IF(ISNUMBER(SMALL(BASE!$A$12:$W$12,ROW()-4)),TEXT(INDIRECT(ADDRESS(1,SMALL(BASE!$A$12:$W$12,ROW()-4),4,1,"BASE"),1),"jj/mm/aaaa")&" - "&INDIRECT(ADDRESS(MIN(BASE!$A$2:$A$11),SMALL(BASE!$A$12:$W$12,ROW()-4),4,1,"BASE"),1)&" €","") -> 01/08/2018 - 268,14 €
B8: =IF(ISNUMBER(SMALL(BASE!$A$12:$W$12,ROW()-4)),TEXT(INDIRECT(ADDRESS(1,SMALL(BASE!$A$12:$W$12,ROW()-4),4,1,"BASE"),1),"jj/mm/aaaa")&" - "&INDIRECT(ADDRESS(MIN(BASE!$A$2:$A$11),SMALL(BASE!$A$12:$W$12,ROW()-4),4,1,"BASE"),1)&" €","") -> 01/09/2018 - 419,4 €
B9: =IF(ISNUMBER(SMALL(BASE!$A$12:$W$12,ROW()-4)),TEXT(INDIRECT(ADDRESS(1,SMALL(BASE!$A$12:$W$12,ROW()-4),4,1,"BASE"),1),"jj/mm/aaaa")&" - "&INDIRECT(ADDRESS(MIN(BASE!$A$2:$A$11),SMALL(BASE!$A$12:$W$12,ROW()-4),4,1,"BASE"),1)&" €","") -> 01/10/2018 - 425,7 €
B10: =IF(ISNUMBER(SMALL(BASE!$A$12:$W$12,ROW()-4)),TEXT(INDIRECT(ADDRESS(1,SMALL(BASE!$A$12:$W$12,ROW()-4),4,1,"BASE"),1),"jj/mm/aaaa")&" - "&INDIRECT(ADDRESS(MIN(BASE!$A$2:$A$11),SMALL(BASE!$A$12:$W$12,ROW()-4),4,1,"BASE"),1)&" €","") -> 01/01/2019 - 268,14 €
B11: =IF(ISNUMBER(SMALL(BASE!$A$12:$W$12,ROW()-4)),TEXT(INDIRECT(ADDRESS(1,SMALL(BASE!$A$12:$W$12,ROW()-4),4,1,"BASE"),1),"jj/mm/aaaa")&" - "&INDIRECT(ADDRESS(MIN(BASE!$A$2:$A$11),SMALL(BASE!$A$12:$W$12,ROW()-4),4,1,"BASE"),1)&" €","") -> 01/02/2019 - 419,4 €
B12: =IF(ISNUMBER(SMALL(BASE!$A$12:$W$12,ROW()-4)),TEXT(INDIRECT(ADDRESS(1,SMALL(BASE!$A$12:$W$12,ROW()-4),4,1,"BASE"),1),"jj/mm/aaaa")&" - "&INDIRECT(ADDRESS(MIN(BASE!$A$2:$A$11),SMALL(BASE!$A$12:$W$12,ROW()-4),4,1,"BASE"),1)&" €","") -> 01/03/2019 - 425,7 €
B13: =IF(ISNUMBER(SMALL(BASE!$A$12:$W$12,ROW()-4)),TEXT(INDIRECT(ADDRESS(1,SMALL(BASE!$A$12:$W$12,ROW()-4),4,1,"BASE"),1),"jj/mm/aaaa")&" - "&INDIRECT(ADDRESS(MIN(BASE!$A$2:$A$11),SMALL(BASE!$A$12:$W$12,ROW()-4),4,1,"BASE"),1)&" €","") -> 01/08/2019 - 419,4 €
B14: =IF(ISNUMBER(SMALL(BASE!$A$12:$W$12,ROW()-4)),TEXT(INDIRECT(ADDRESS(1,SMALL(BASE!$A$12:$W$12,ROW()-4),4,1,"BASE"),1),"jj/mm/aaaa")&" - "&INDIRECT(ADDRESS(MIN(BASE!$A$2:$A$11),SMALL(BASE!$A$12:$W$12,ROW()-4),4,1,"BASE"),1)&" €","") -> 01/09/2019 - 0 €
B15: =IF(ISNUMBER(SMALL(BASE!$A$12:$W$12,ROW()-4)),TEXT(INDIRECT(ADDRESS(1,SMALL(BASE!$A$12:$W$12,ROW()-4),4,1,"BASE"),1),"jj/mm/aaaa")&" - "&INDIRECT(ADDRESS(MIN(BASE!$A$2:$A$11),SMALL(BASE!$A$12:$W$12,ROW()-4),4,1,"BASE"),1)&" €","")
B16: =IF(ISNUMBER(SMALL(BASE!$A$12:$W$12,ROW()-4)),TEXT(INDIRECT(ADDRESS(1,SMALL(BASE!$A$12:$W$12,ROW()-4),4,1,"BASE"),1),"jj/mm/aaaa")&" - "&INDIRECT(ADDRESS(MIN(BASE!$A$2:$A$11),SMALL(BASE!$A$12:$W$12,ROW()-4),4,1,"BASE"),1)&" €","")
