Workbook

Sheet base
A1: MOTIF | B1: HEURE | E1: J | H1: Année | I1: 2020
A2: CP | B2: 7.5 | E2: M
A3: AT | B3: 7.5 | E3: S | H3: Jour férié | I3: Calcul | J3: férié
A4: MA | B4: 7.5 | E4: N | H4: Jour de l'an | I4: =DATE(I1,1,1) -> 43831 | J4: F
A5: CE | B5: 7.5 | H5: Lundi de Pâques | I5: =(ROUND(DATE(I1,4,MOD(234-11*MOD(I1,19),30))/7,)*7-6)+1 -> 43934 | J5: F
A6: ABS | B6: 7.5 | H6: Fête du Travail | I6: =DATE(I1,5,1) -> 43952 | J6: F
A7: R | B7: 0 | H7: Victoire des alliés | I7: =DATE(I1,5,8) -> 43959 | J7: F
A8: cs | B8: 7.5 | H8: Jeudi de l'Ascension | I8: =I5+38 -> 43972 | J8: F
H9: Lundi de Pentecôte | I9: =I5+49 -> 43983 | J9: F
H10: Fête nationale | I10: =DATE(I1,7,14) -> 44026 | J10: F
H11: Assomption | I11: =DATE(I1,8,15) -> 44058 | J11: F
H12: La Toussaint | I12: =DATE(I1,11,1) -> 44136 | J12: F
A13: 1 | B13: 0 | H13: Armistice | I13: =DATE(I1,11,11) -> 44146 | J13: F
A14: 2 | B14: 7.5 | H14: Noël | I14: =DATE(I1,12,25) -> 44190 | J14: F
A15: 3 | B15: 7.5
A16: 4 | B16: 7.5
A17: 5 | B17: 7.5
A18: 6 | B18: 7.5
A19: 7 | B19: 0
A22: =FALSE() -> 0 | B22: 0
A23: =TRUE() -> 1 | B23: 1
A27: base heure | B27: 44

Sheet RECAP
F1: =IF(INDIRECT(ADDRESS(2,COLUMN()+8),1)="CP",COLUMN(),"") -> 6 | G1: =IF(INDIRECT(ADDRESS(2,COLUMN()+8),1)="CP",COLUMN(),"") | H1: =IF(INDIRECT(ADDRESS(2,COLUMN()+8),1)="CP",COLUMN(),"") | I1: =IF(INDIRECT(ADDRESS(2,COLUMN()+8),1)="CP",COLUMN(),"") | J1: =IF(INDIRECT(ADDRESS(2,COLUMN()+8),1)="CP",COLUMN(),"") | K1: =IF(INDIRECT(ADDRESS(2,COLUMN()+8),1)="CP",COLUMN(),"") | L1: =IF(INDIRECT(ADDRESS(2,COLUMN()+8),1)="CP",COLUMN(),"") | M1: =IF(INDIRECT(ADDRESS(2,COLUMN()+8),1)="CP",COLUMN(),"") | ... BV1: =IF(INDIRECT(ADDRESS(2,COLUMN()+8),1)="CP",COLUMN(),"") | CE1: =IF(INDIRECT(ADDRESS(2,COLUMN()+8),1)="CP",COLUMN(),"") -> 83 | CF1: =IF(INDIRECT(ADDRESS(2,COLUMN()+8),1)="CP",COLUMN(),"") | CG1: =IF(INDIRECT(ADDRESS(2,COLUMN()+8),1)="CP",COLUMN(),"") | CH1: =IF(INDIRECT(ADDRESS(2,COLUMN()+8),1)="CP",COLUMN(),"") | CI1: =IF(INDIRECT(ADDRESS(2,COLUMN()+8),1)="CP",COLUMN(),"") | CJ1: =IF(INDIRECT(ADDRESS(2,COLUMN()+8),1)="CP",COLUMN(),"") | CK1: =IF(INDIRECT(ADDRESS(2,COLUMN()+8),1)="CP",COLUMN(),"") | CL1: =IF(INDIRECT(ADDRESS(2,COLUMN()+8),1)="CP",COLUMN(),"") | ... CU1: =IF(INDIRECT(ADDRESS(2,COLUMN()+8),1)="CP",COLUMN(),"") | DD1: =IF(INDIRECT(ADDRESS(2,COLUMN()+8),1)="CP",COLUMN(),"") -> 108 | DE1: =IF(INDIRECT(ADDRESS(2,COLUMN()+8),1)="CP",COLUMN(),"") | DF1: =IF(INDIRECT(ADDRESS(2,COLUMN()+8),1)="CP",COLUMN(),"") | DG1: =IF(INDIRECT(ADDRESS(2,COLUMN()+8),1)="CP",COLUMN(),"") | DH1: =IF(INDIRECT(ADDRESS(2,COLUMN()+8),1)="CP",COLUMN(),"") | DI1: =IF(INDIRECT(ADDRESS(2,COLUMN()+8),1)="CP",COLUMN(),"") | DJ1: =IF(INDIRECT(ADDRESS(2,COLUMN()+8),1)="CP",COLUMN(),"") | DK1: =IF(INDIRECT(ADDRESS(2,COLUMN()+8),1)="CP",COLUMN(),"") | ... DT1: =IF(INDIRECT(ADDRESS(2,COLUMN()+8),1)="CP",COLUMN(),"") | EC1: =IF(INDIRECT(ADDRESS(2,COLUMN()+8),1)="CP",COLUMN(),"") -> 133 | ED1: =IF(INDIRECT(ADDRESS(2,COLUMN()+8),1)="CP",COLUMN(),"") | EE1: =IF(INDIRECT(ADDRESS(2,COLUMN()+8),1)="CP",COLUMN(),"") | EF1: =IF(INDIRECT(ADDRESS(2,COLUMN()+8),1)="CP",COLUMN(),"") | EG1: =IF(INDIRECT(ADDRESS(2,COLUMN()+8),1)="CP",COLUMN(),"") | EH1: =IF(INDIRECT(ADDRESS(2,COLUMN()+8),1)="CP",COLUMN(),"") | EI1: =IF(INDIRECT(ADDRESS(2,COLUMN()+8),1)="CP",COLUMN(),"") | EJ1: =IF(INDIRECT(ADDRESS(2,COLUMN()+8),1)="CP",COLUMN(),"") | ... ES1: =IF(INDIRECT(ADDRESS(2,COLUMN()+8),1)="CP",COLUMN(),"") | FB1: =IF(INDIRECT(ADDRESS(2,COLUMN()+8),1)="CP",COLUMN(),"") -> 158 | FC1: =IF(INDIRECT(ADDRESS(2,COLUMN()+8),1)="CP",COLUMN(),"") | FD1: =IF(INDIRECT(ADDRESS(2,COLUMN()+8),1)="CP",COLUMN(),"") | FE1: =IF(INDIRECT(ADDRESS(2,COLUMN()+8),1)="CP",COLUMN(),"") | FF1: =IF(INDIRECT(ADDRESS(2,COLUMN()+8),1)="CP",COLUMN(),"") | FG1: =IF(INDIRECT(ADDRESS(2,COLUMN()+8),1)="CP",COLUMN(),"") | FH1: =IF(INDIRECT(ADDRESS(2,COLUMN()+8),1)="CP",COLUMN(),"") | FI1: =IF(INDIRECT(ADDRESS(2,COLUMN()+8),1)="CP",COLUMN(),"") | ... FR1: =IF(INDIRECT(ADDRESS(2,COLUMN()+8),1)="CP",COLUMN(),"") | GA1: =IF(INDIRECT(ADDRESS(2,COLUMN()+8),1)="CP",COLUMN(),"") -> 183 | GB1: =IF(INDIRECT(ADDRESS(2,COLUMN()+8),1)="CP",COLUMN(),"") | GC1: =IF(INDIRECT(ADDRESS(2,COLUMN()+8),1)="CP",COLUMN(),"") | GD1: =IF(INDIRECT(ADDRESS(2,COLUMN()+8),1)="CP",COLUMN(),"") | GE1: =IF(INDIRECT(ADDRESS(2,COLUMN()+8),1)="CP",COLUMN(),"") | GF1: =IF(INDIRECT(ADDRESS(2,COLUMN()+8),1)="CP",COLUMN(),"") | GG1: =IF(INDIRECT(ADDRESS(2,COLUMN()+8),1)="CP",COLUMN(),"") | GH1: =IF(INDIRECT(ADDRESS(2,COLUMN()+8),1)="CP",COLUMN(),"") | ... GQ1: =IF(INDIRECT(ADDRESS(2,COLUMN()+8),1)="CP",COLUMN(),"") | GZ1: =IF(INDIRECT(ADDRESS(2,COLUMN()+8),1)="CP",COLUMN(),"") -> 208 | HA1: =IF(INDIRECT(ADDRESS(2,COLUMN()+8),1)="CP",COLUMN(),"") | HB1: =IF(INDIRECT(ADDRESS(2,COLUMN()+8),1)="CP",COLUMN(),"") | HC1: =IF(INDIRECT(ADDRESS(2,COLUMN()+8),1)="CP",COLUMN(),"") | HD1: =IF(INDIRECT(ADDRESS(2,COLUMN()+8),1)="CP",COLUMN(),"") | HE1: =IF(INDIRECT(ADDRESS(2,COLUMN()+8),1)="CP",COLUMN(),"") | HF1: =IF(INDIRECT(ADDRESS(2,COLUMN()+8),1)="CP",COLUMN(),"") | HG1: =IF(INDIRECT(ADDRESS(2,COLUMN()+8),1)="CP",COLUMN(),"") | ... HP1: =IF(INDIRECT(ADDRESS(2,COLUMN()+8),1)="CP",COLUMN(),"") | HY1: =IF(INDIRECT(ADDRESS(2,COLUMN()+8),1)="CP",COLUMN(),"") -> 233 | HZ1: =IF(INDIRECT(ADDRESS(2,COLUMN()+8),1)="CP",COLUMN(),"") | IA1: =IF(INDIRECT(ADDRESS(2,COLUMN()+8),1)="CP",COLUMN(),"") | IB1: =IF(INDIRECT(ADDRESS(2,COLUMN()+8),1)="CP",COLUMN(),"") | IC1: =IF(INDIRECT(ADDRESS(2,COLUMN()+8),1)="CP",COLUMN(),"") | ID1: =IF(INDIRECT(ADDRESS(2,COLUMN()+8),1)="CP",COLUMN(),"") | IE1: =IF(INDIRECT(ADDRESS(2,COLUMN()+8),1)="CP",COLUMN(),"") | IF1: =IF(INDIRECT(ADDRESS(2,COLUMN()+8),1)="CP",COLUMN(),"") | ... IO1: =IF(INDIRECT(ADDRESS(2,COLUMN()+8),1)="CP",COLUMN(),"") | IX1: =IF(INDIRECT(ADDRESS(2,COLUMN()+8),1)="CP",COLUMN(),"") -> 258 | IY1: =IF(INDIRECT(ADDRESS(2,COLUMN()+8),1)="CP",COLUMN(),"") | IZ1: =IF(INDIRECT(ADDRESS(2,COLUMN()+8),1)="CP",COLUMN(),"") | JA1: =IF(INDIRECT(ADDRESS(2,COLUMN()+8),1)="CP",COLUMN(),"") | JB1: =IF(INDIRECT(ADDRESS(2,COLUMN()+8),1)="CP",COLUMN(),"") | JC1: =IF(INDIRECT(ADDRESS(2,COLUMN()+8),1)="CP",COLUMN(),"") | JD1: =IF(INDIRECT(ADDRESS(2,COLUMN()+8),1)="CP",COLUMN(),"") | JE1: =IF(INDIRECT(ADDRESS(2,COLUMN()+8),1)="CP",COLUMN(),"") | ... JN1: =IF(INDIRECT(ADDRESS(2,COLUMN()+8),1)="CP",COLUMN(),"") | JW1: =IF(INDIRECT(ADDRESS(2,COLUMN()+8),1)="CP",COLUMN(),"") -> 283 | JX1: =IF(INDIRECT(ADDRESS(2,COLUMN()+8),1)="CP",COLUMN(),"") | JY1: =IF(INDIRECT(ADDRESS(2,COLUMN()+8),1)="CP",COLUMN(),"") | JZ1: =IF(INDIRECT(ADDRESS(2,COLUMN()+8),1)="CP",COLUMN(),"") | KA1: =IF(INDIRECT(ADDRESS(2,COLUMN()+8),1)="CP",COLUMN(),"") | KB1: =IF(INDIRECT(ADDRESS(2,COLUMN()+8),1)="CP",COLUMN(),"") | KC1: =IF(INDIRECT(ADDRESS(2,COLUMN()+8),1)="CP",COLUMN(),"") | KD1: =IF(INDIRECT(ADDRESS(2,COLUMN()+8),1)="CP",COLUMN(),"") | ... KM1: =IF(INDIRECT(ADDRESS(2,COLUMN()+8),1)="CP",COLUMN(),"") | KV1: =IF(INDIRECT(ADDRESS(2,COLUMN()+8),1)="CP",COLUMN(),"") -> 308 | KW1: =IF(INDIRECT(ADDRESS(2,COLUMN()+8),1)="CP",COLUMN(),"") | KX1: =IF(INDIRECT(ADDRESS(2,COLUMN()+8),1)="CP",COLUMN(),"") | KY1: =IF(INDIRECT(ADDRESS(2,COLUMN()+8),1)="CP",COLUMN(),"") | KZ1: =IF(INDIRECT(ADDRESS(2,COLUMN()+8),1)="CP",COLUMN(),"") | LA1: =IF(INDIRECT(ADDRESS(2,COLUMN()+8),1)="CP",COLUMN(),"") | LB1: =IF(INDIRECT(ADDRESS(2,COLUMN()+8),1)="CP",COLUMN(),"") | LC1: =IF(INDIRECT(ADDRESS(2,COLUMN()+8),1)="CP",COLUMN(),"") | ... LL1: =IF(INDIRECT(ADDRESS(2,COLUMN()+8),1)="CP",COLUMN(),"") | LU1: =IF(INDIRECT(ADDRESS(2,COLUMN()+8),1)="CP",COLUMN(),"") -> 333 | LV1: =IF(INDIRECT(ADDRESS(2,COLUMN()+8),1)="CP",COLUMN(),"") | LW1: =IF(INDIRECT(ADDRESS(2,COLUMN()+8),1)="CP",COLUMN(),"") | LX1: =IF(INDIRECT(ADDRESS(2,COLUMN()+8),1)="CP",COLUMN(),"") | LY1: =IF(INDIRECT(ADDRESS(2,COLUMN()+8),1)="CP",COLUMN(),"") | LZ1: =IF(INDIRECT(ADDRESS(2,COLUMN()+8),1)="CP",COLUMN(),"") | MA1: =IF(INDIRECT(ADDRESS(2,COLUMN()+8),1)="CP",COLUMN(),"") | MB1: =IF(INDIRECT(ADDRESS(2,COLUMN()+8),1)="CP",COLUMN(),"") | ... MK1: =IF(INDIRECT(ADDRESS(2,COLUMN()+8),1)="CP",COLUMN(),"") | MT1: =IF(INDIRECT(ADDRESS(2,COLUMN()+8),1)="CP",COLUMN(),"") -> 358 | MU1: =IF(INDIRECT(ADDRESS(2,COLUMN()+8),1)="CP",COLUMN(),"") | MV1: =IF(INDIRECT(ADDRESS(2,COLUMN()+8),1)="CP",COLUMN(),"") | MW1: =IF(INDIRECT(ADDRESS(2,COLUMN()+8),1)="CP",COLUMN(),"") | MX1: =IF(INDIRECT(ADDRESS(2,COLUMN()+8),1)="CP",COLUMN(),"") | MY1: =IF(INDIRECT(ADDRESS(2,COLUMN()+8),1)="CP",COLUMN(),"") | MZ1: =IF(INDIRECT(ADDRESS(2,COLUMN()+8),1)="CP",COLUMN(),"") | NA1: =IF(INDIRECT(ADDRESS(2,COLUMN()+8),1)="CP",COLUMN(),"") | ... NJ1: =IF(INDIRECT(ADDRESS(2,COLUMN()+8),1)="CP",COLUMN(),"") | NS1: =IF(INDIRECT(ADDRESS(2,COLUMN()+8),1)="CP",COLUMN(),"") -> 383 | NT1: =IF(INDIRECT(ADDRESS(2,COLUMN()+8),1)="CP",COLUMN(),"") | NU1: =IF(INDIRECT(ADDRESS(2,COLUMN()+8),1)="CP",COLUMN(),"") | NV1: =IF(INDIRECT(ADDRESS(2,COLUMN()+8),1)="CP",COLUMN(),"") | NW1: =IF(INDIRECT(ADDRESS(2,COLUMN()+8),1)="CP",COLUMN(),"") | NX1: =IF(INDIRECT(ADDRESS(2,COLUMN()+8),1)="CP",COLUMN(),"") | NY1: =IF(INDIRECT(ADDRESS(2,COLUMN()+8),1)="CP",COLUMN(),"") | NZ1: =IF(INDIRECT(ADDRESS(2,COLUMN()+8),1)="CP",COLUMN(),"") | ... OI1: =IF(INDIRECT(ADDRESS(2,COLUMN()+8),1)="CP",COLUMN(),"") | OR1: =IF(INDIRECT(ADDRESS(2,COLUMN()+8),1)="CP",COLUMN(),"") -> 408 | OS1: =IF(INDIRECT(ADDRESS(2,COLUMN()+8),1)="CP",COLUMN(),"") | OT1: =IF(INDIRECT(ADDRESS(2,COLUMN()+8),1)="CP",COLUMN(),"") | OU1: =IF(INDIRECT(ADDRESS(2,COLUMN()+8),1)="CP",COLUMN(),"") | OV1: =IF(INDIRECT(ADDRESS(2,COLUMN()+8),1)="CP",COLUMN(),"") | OW1: =IF(INDIRECT(ADDRESS(2,COLUMN()+8),1)="CP",COLUMN(),"") | OX1: =IF(INDIRECT(ADDRESS(2,COLUMN()+8),1)="CP",COLUMN(),"") | OY1: =IF(INDIRECT(ADDRESS(2,COLUMN()+8),1)="CP",COLUMN(),"") | ... PH1: =IF(INDIRECT(ADDRESS(2,COLUMN()+8),1)="CP",COLUMN(),"") | PQ1: =IF(INDIRECT(ADDRESS(2,COLUMN()+8),1)="CP",COLUMN(),"") -> 433 | PR1: =IF(INDIRECT(ADDRESS(2,COLUMN()+8),1)="CP",COLUMN(),"") | PS1: =IF(INDIRECT(ADDRESS(2,COLUMN()+8),1)="CP",COLUMN(),"") | PT1: =IF(INDIRECT(ADDRESS(2,COLUMN()+8),1)="CP",COLUMN(),"") | PU1: =IF(INDIRECT(ADDRESS(2,COLUMN()+8),1)="CP",COLUMN(),"") | PV1: =IF(INDIRECT(ADDRESS(2,COLUMN()+8),1)="CP",COLUMN(),"") | PW1: =IF(INDIRECT(ADDRESS(2,COLUMN()+8),1)="CP",COLUMN(),"") | PX1: =IF(INDIRECT(ADDRESS(2,COLUMN()+8),1)="CP",COLUMN(),"") | ... QG1: =IF(INDIRECT(ADDRESS(2,COLUMN()+8),1)="CP",COLUMN(),"") | QP1: =IF(INDIRECT(ADDRESS(2,COLUMN()+8),1)="CP",COLUMN(),"") -> 458 | QQ1: =IF(INDIRECT(ADDRESS(2,COLUMN()+8),1)="CP",COLUMN(),"") | QR1: =IF(INDIRECT(ADDRESS(2,COLUMN()+8),1)="CP",COLUMN(),"") | QS1: =IF(INDIRECT(ADDRESS(2,COLUMN()+8),1)="CP",COLUMN(),"") | QT1: =IF(INDIRECT(ADDRESS(2,COLUMN()+8),1)="CP",COLUMN(),"") | QU1: =IF(INDIRECT(ADDRESS(2,COLUMN()+8),1)="CP",COLUMN(),"") | QV1: =IF(INDIRECT(ADDRESS(2,COLUMN()+8),1)="CP",COLUMN(),"") | QW1: =IF(INDIRECT(ADDRESS(2,COLUMN()+8),1)="CP",COLUMN(),"") | ... RW1: =IF(INDIRECT(ADDRESS(2,COLUMN()+8),1)="CP",COLUMN(),"") | SF1: =IF(INDIRECT(ADDRESS(2,COLUMN()+8),1)="CP",COLUMN(),"") -> 500 | SG1: =IF(INDIRECT(ADDRESS(2,COLUMN()+8),1)="CP",COLUMN(),"") | SH1: =IF(INDIRECT(ADDRESS(2,COLUMN()+8),1)="CP",COLUMN(),"") | SI1: =IF(INDIRECT(ADDRESS(2,COLUMN()+8),1)="CP",COLUMN(),"") | SJ1: =IF(INDIRECT(ADDRESS(2,COLUMN()+8),1)="CP",COLUMN(),"") | SK1: =IF(INDIRECT(ADDRESS(2,COLUMN()+8),1)="CP",COLUMN(),"") | SL1: =IF(INDIRECT(ADDRESS(2,COLUMN()+8),1)="CP",COLUMN(),"") | SM1: =IF(INDIRECT(ADDRESS(2,COLUMN()+8),1)="CP",COLUMN(),"") | ... SV1: =IF(INDIRECT(ADDRESS(2,COLUMN()+8),1)="CP",COLUMN(),"") | TE1: =IF(INDIRECT(ADDRESS(2,COLUMN()+8),1)="CP",COLUMN(),"") -> 525 | TF1: =IF(INDIRECT(ADDRESS(2,COLUMN()+8),1)="CP",COLUMN(),"") | TG1: =IF(INDIRECT(ADDRESS(2,COLUMN()+8),1)="CP",COLUMN(),"") | TH1: =IF(INDIRECT(ADDRESS(2,COLUMN()+8),1)="CP",COLUMN(),"") | TI1: =IF(INDIRECT(ADDRESS(2,COLUMN()+8),1)="CP",COLUMN(),"") | TJ1: =IF(INDIRECT(ADDRESS(2,COLUMN()+8),1)="CP",COLUMN(),"") | TK1: =IF(INDIRECT(ADDRESS(2,COLUMN()+8),1)="CP",COLUMN(),"") | TL1: =IF(INDIRECT(ADDRESS(2,COLUMN()+8),1)="CP",COLUMN(),"") | ... TU1: =IF(INDIRECT(ADDRESS(2,COLUMN()+8),1)="CP",COLUMN(),"") | UD1: =IF(INDIRECT(ADDRESS(2,COLUMN()+8),1)="CP",COLUMN(),"") -> 550 | UE1: =IF(INDIRECT(ADDRESS(2,COLUMN()+8),1)="CP",COLUMN(),"") | UF1: =IF(INDIRECT(ADDRESS(2,COLUMN()+8),1)="CP",COLUMN(),"") | UG1: =IF(INDIRECT(ADDRESS(2,COLUMN()+8),1)="CP",COLUMN(),"") | UH1: =IF(INDIRECT(ADDRESS(2,COLUMN()+8),1)="CP",COLUMN(),"") | UI1: =IF(INDIRECT(ADDRESS(2,COLUMN()+8),1)="CP",COLUMN(),"") | UJ1: =IF(INDIRECT(ADDRESS(2,COLUMN()+8),1)="CP",COLUMN(),"") | UK1: =IF(INDIRECT(ADDRESS(2,COLUMN()+8),1)="CP",COLUMN(),"") | ... UT1: =IF(INDIRECT(ADDRESS(2,COLUMN()+8),1)="CP",COLUMN(),"") | VC1: =IF(INDIRECT(ADDRESS(2,COLUMN()+8),1)="CP",COLUMN(),"") -> 575 | VD1: =IF(INDIRECT(ADDRESS(2,COLUMN()+8),1)="CP",COLUMN(),"") | VE1: =IF(INDIRECT(ADDRESS(2,COLUMN()+8),1)="CP",COLUMN(),"") | VF1: =IF(INDIRECT(ADDRESS(2,COLUMN()+8),1)="CP",COLUMN(),"") | VG1: =IF(INDIRECT(ADDRESS(2,COLUMN()+8),1)="CP",COLUMN(),"") | VH1: =IF(INDIRECT(ADDRESS(2,COLUMN()+8),1)="CP",COLUMN(),"") | VI1: =IF(INDIRECT(ADDRESS(2,COLUMN()+8),1)="CP",COLUMN(),"") | VJ1: =IF(INDIRECT(ADDRESS(2,COLUMN()+8),1)="CP",COLUMN(),"") | ... VS1: =IF(INDIRECT(ADDRESS(2,COLUMN()+8),1)="CP",COLUMN(),"") | WB1: =IF(INDIRECT(ADDRESS(2,COLUMN()+8),1)="CP",COLUMN(),"") -> 600 | WC1: =IF(INDIRECT(ADDRESS(2,COLUMN()+8),1)="CP",COLUMN(),"") | WD1: =IF(INDIRECT(ADDRESS(2,COLUMN()+8),1)="CP",COLUMN(),"") | WE1: =IF(INDIRECT(ADDRESS(2,COLUMN()+8),1)="CP",COLUMN(),"") | WF1: =IF(INDIRECT(ADDRESS(2,COLUMN()+8),1)="CP",COLUMN(),"") | WG1: =IF(INDIRECT(ADDRESS(2,COLUMN()+8),1)="CP",COLUMN(),"") | WH1: =IF(INDIRECT(ADDRESS(2,COLUMN()+8),1)="CP",COLUMN(),"") | WI1: =IF(INDIRECT(ADDRESS(2,COLUMN()+8),1)="CP",COLUMN(),"") | ... WR1: =IF(INDIRECT(ADDRESS(2,COLUMN()+8),1)="CP",COLUMN(),"") | XA1: =IF(INDIRECT(ADDRESS(2,COLUMN()+8),1)="CP",COLUMN(),"") -> 625 | XB1: =IF(INDIRECT(ADDRESS(2,COLUMN()+8),1)="CP",COLUMN(),"") | XC1: =IF(INDIRECT(ADDRESS(2,COLUMN()+8),1)="CP",COLUMN(),"") | XD1: =IF(INDIRECT(ADDRESS(2,COLUMN()+8),1)="CP",COLUMN(),"") | XE1: =IF(INDIRECT(ADDRESS(2,COLUMN()+8),1)="CP",COLUMN(),"") | XF1: =IF(INDIRECT(ADDRESS(2,COLUMN()+8),1)="CP",COLUMN(),"") | XG1: =IF(INDIRECT(ADDRESS(2,COLUMN()+8),1)="CP",COLUMN(),"") | XH1: =IF(INDIRECT(ADDRESS(2,COLUMN()+8),1)="CP",COLUMN(),"") | ... XQ1: =IF(INDIRECT(ADDRESS(2,COLUMN()+8),1)="CP",COLUMN(),"") | XZ1: =IF(INDIRECT(ADDRESS(2,COLUMN()+8),1)="CP",COLUMN(),"") -> 650 | YA1: =IF(INDIRECT(ADDRESS(2,COLUMN()+8),1)="CP",COLUMN(),"") | YB1: =IF(INDIRECT(ADDRESS(2,COLUMN()+8),1)="CP",COLUMN(),"") | YC1: =IF(INDIRECT(ADDRESS(2,COLUMN()+8),1)="CP",COLUMN(),"") | YD1: =IF(INDIRECT(ADDRESS(2,COLUMN()+8),1)="CP",COLUMN(),"") | YE1: =IF(INDIRECT(ADDRESS(2,COLUMN()+8),1)="CP",COLUMN(),"") | YF1: =IF(INDIRECT(ADDRESS(2,COLUMN()+8),1)="CP",COLUMN(),"") | YG1: =IF(INDIRECT(ADDRESS(2,COLUMN()+8),1)="CP",COLUMN(),"") | ... YP1: =IF(INDIRECT(ADDRESS(2,COLUMN()+8),1)="CP",COLUMN(),"") | YY1: =IF(INDIRECT(ADDRESS(2,COLUMN()+8),1)="CP",COLUMN(),"") -> 675 | YZ1: =IF(INDIRECT(ADDRESS(2,COLUMN()+8),1)="CP",COLUMN(),"") | ZA1: =IF(INDIRECT(ADDRESS(2,COLUMN()+8),1)="CP",COLUMN(),"") | ZB1: =IF(INDIRECT(ADDRESS(2,COLUMN()+8),1)="CP",COLUMN(),"") | ZC1: =IF(INDIRECT(ADDRESS(2,COLUMN()+8),1)="CP",COLUMN(),"") | ZD1: =IF(INDIRECT(ADDRESS(2,COLUMN()+8),1)="CP",COLUMN(),"") | ZE1: =IF(INDIRECT(ADDRESS(2,COLUMN()+8),1)="CP",COLUMN(),"") | ZF1: =IF(INDIRECT(ADDRESS(2,COLUMN()+8),1)="CP",COLUMN(),"") | ... ZO1: =IF(INDIRECT(ADDRESS(2,COLUMN()+8),1)="CP",COLUMN(),"") | ZX1: =IF(INDIRECT(ADDRESS(2,COLUMN()+8),1)="CP",COLUMN(),"") -> 700 | ZY1: =IF(INDIRECT(ADDRESS(2,COLUMN()+8),1)="CP",COLUMN(),"") | ZZ1: =IF(INDIRECT(ADDRESS(2,COLUMN()+8),1)="CP",COLUMN(),"") | AAA1: =IF(INDIRECT(ADDRESS(2,COLUMN()+8),1)="CP",COLUMN(),"") | AAB1: =IF(INDIRECT(ADDRESS(2,COLUMN()+8),1)="CP",COLUMN(),"") | AAC1: =IF(INDIRECT(ADDRESS(2,COLUMN()+8),1)="CP",COLUMN(),"") | AAD1: =IF(INDIRECT(ADDRESS(2,COLUMN()+8),1)="CP",COLUMN(),"") | AAE1: =IF(INDIRECT(ADDRESS(2,COLUMN()+8),1)="CP",COLUMN(),"") | ... AAN1: =IF(INDIRECT(ADDRESS(2,COLUMN()+8),1)="CP",COLUMN(),"") | AAW1: =IF(INDIRECT(ADDRESS(2,COLUMN()+8),1)="CP",COLUMN(),"") -> 725 | AAX1: =IF(INDIRECT(ADDRESS(2,COLUMN()+8),1)="CP",COLUMN(),"") | AAY1: =IF(INDIRECT(ADDRESS(2,COLUMN()+8),1)="CP",COLUMN(),"") | AAZ1: =IF(INDIRECT(ADDRESS(2,COLUMN()+8),1)="CP",COLUMN(),"") | ABA1: =IF(INDIRECT(ADDRESS(2,COLUMN()+8),1)="CP",COLUMN(),"") | ABB1: =IF(INDIRECT(ADDRESS(2,COLUMN()+8),1)="CP",COLUMN(),"") | ABC1: =IF(INDIRECT(ADDRESS(2,COLUMN()+8),1)="CP",COLUMN(),"") | ABD1: =IF(INDIRECT(ADDRESS(2,COLUMN()+8),1)="CP",COLUMN(),"") | ... ABM1: =IF(INDIRECT(ADDRESS(2,COLUMN()+8),1)="CP",COLUMN(),"")
F2: TARTENPION | N2: CP | O2: CE | P2: AM | Q2: AT | R2: ABS | S2: =BH -> 44 | U2: 25 | V2: 100 | AF2: JEAN NEYMAR | AN2: CP | AO2: CE | AP2: AM | AQ2: AT | AR2: ABS | AS2: 44 | AU2: 25 | AV2: 100 | BF2: OLIVE | BN2: CP | BO2: CE | BP2: AM | BQ2: AT | BR2: ABS | BS2: 44 | BU2: 25 | BV2: 100 | CE2: 4 | CM2: CP | CN2: CE | CO2: AM | CP2: AT | CQ2: ABS | CR2: =BH -> 44 | CT2: 25 | CU2: 100 | DD2: 5 | DL2: CP | DM2: CE | DN2: AM | DO2: AT | DP2: ABS | DQ2: =BH -> 44 | DS2: 25 | DT2: 100 | EC2: 6 | EK2: CP | EL2: CE | EM2: AM | EN2: AT | EO2: ABS | EP2: =BH -> 44 | ER2: 25 | ES2: 100 | FB2: 7 | FJ2: CP | FK2: CE | FL2: AM | FM2: AT | FN2: ABS | FO2: =BH -> 44 | FQ2: 25 | FR2: 100 | GA2: 8 | GI2: CP | GJ2: CE | GK2: AM | GL2: AT | GM2: ABS | GN2: =BH -> 44 | GP2: 25 | GQ2: 100 | GZ2: 9 | HH2: CP | HI2: CE | HJ2: AM | HK2: AT | HL2: ABS | HM2: =BH -> 44 | HO2: 25 | HP2: 100 | HY2: =_xlfn.MAXIFS($A$2:HX$2,$A$1:HX$1,">"&1)+1 -> 10 | IG2: CP | IH2: CE | II2: AM | IJ2: AT | IK2: ABS | IL2: =BH -> 44 | IN2: 25 | IO2: 100 | IX2: =_xlfn.MAXIFS($A$2:IW$2,$A$1:IW$1,">"&1)+1 -> 11 | JF2: CP | JG2: CE | JH2: AM | JI2: AT | JJ2: ABS | JK2: =BH -> 44 | JM2: 25 | JN2: 100 | JW2: =_xlfn.MAXIFS($A$2:JV$2,$A$1:JV$1,">"&1)+1 -> 12 | KE2: CP | KF2: CE | KG2: AM | KH2: AT | KI2: ABS | KJ2: =BH -> 44 | KL2: 25 | KM2: 100 | KV2: =_xlfn.MAXIFS($A$2:KU$2,$A$1:KU$1,">"&1)+1 -> 13 | LD2: CP | LE2: CE | LF2: AM | LG2: AT | LH2: ABS | LI2: =BH -> 44 | LK2: 25 | LL2: 100 | LU2: =_xlfn.MAXIFS($A$2:LT$2,$A$1:LT$1,">"&1)+1 -> 14 | MC2: CP | MD2: CE | ME2: AM | MF2: AT | MG2: ABS | MH2: =BH -> 44 | MJ2: 25 | MK2: 100 | MT2: =_xlfn.MAXIFS($A$2:MS$2,$A$1:MS$1,">"&1)+1 -> 15 | NB2: CP | NC2: CE | ND2: AM | NE2: AT | NF2: ABS | NG2: =BH -> 44 | NI2: 25 | NJ2: 100 | NS2: =_xlfn.MAXIFS($A$2:NR$2,$A$1:NR$1,">"&1)+1 -> 16 | OA2: CP | OB2: CE | OC2: AM | OD2: AT | OE2: ABS | OF2: =BH -> 44 | OH2: 25 | OI2: 100 | OR2: =_xlfn.MAXIFS($A$2:OQ$2,$A$1:OQ$1,">"&1)+1 -> 17 | OZ2: CP | PA2: CE | PB2: AM | PC2: AT | PD2: ABS | PE2: =BH -> 44 | PG2: 25 | PH2: 100 | PQ2: =_xlfn.MAXIFS($A$2:PP$2,$A$1:PP$1,">"&1)+1 -> 18 | PY2: CP | PZ2: CE | QA2: AM | QB2: AT | QC2: ABS | QD2: =BH -> 44 | QF2: 25 | QG2: 100 | QP2: =_xlfn.MAXIFS($A$2:QO$2,$A$1:QO$1,">"&1)+1 -> 19 | QX2: CP | QY2: CE | QZ2: AM | RA2: AT | RB2: ABS | RC2: =BH -> 44 | RE2: 25 | RF2: 100 | RG2: =_xlfn.MAXIFS($A$2:RF$2,$A$1:RF$1,">"&1)+1 -> 20 | RO2: CP | RP2: CE | RQ2: AM | RR2: AT | RS2: ABS | RT2: =BH -> 44 | RV2: 25 | RW2: 100 | SF2: =_xlfn.MAXIFS($A$2:SE$2,$A$1:SE$1,">"&1)+1 -> 21 | SN2: CP | SO2: CE | SP2: AM | SQ2: AT | SR2: ABS | SS2: =BH -> 44 | SU2: 25 | SV2: 100 | TE2: =_xlfn.MAXIFS($A$2:TD$2,$A$1:TD$1,">"&1)+1 -> 22 | TM2: CP | TN2: CE | TO2: AM | TP2: AT | TQ2: ABS | TR2: =BH -> 44 | TT2: 25 | TU2: 100 | UD2: =_xlfn.MAXIFS($A$2:UC$2,$A$1:UC$1,">"&1)+1 -> 23 | UL2: CP | UM2: CE | UN2: AM | UO2: AT | UP2: ABS | UQ2: =BH -> 44 | US2: 25 | UT2: 100 | VC2: =_xlfn.MAXIFS($A$2:VB$2,$A$1:VB$1,">"&1)+1 -> 24 | VK2: CP | VL2: CE | VM2: AM | VN2: AT | VO2: ABS | VP2: =BH -> 44 | VR2: 25 | VS2: 100 | WB2: =_xlfn.MAXIFS($A$2:WA$2,$A$1:WA$1,">"&1)+1 -> 25 | WJ2: CP | WK2: CE | WL2: AM | WM2: AT | WN2: ABS | WO2: =BH -> 44 | WQ2: 25 | WR2: 100 | XA2: =_xlfn.MAXIFS($A$2:WZ$2,$A$1:WZ$1,">"&1)+1 -> 26 | XI2: CP | XJ2: CE | XK2: AM | XL2: AT | XM2: ABS | XN2: =BH -> 44 | XP2: 25 | XQ2: 100 | XZ2: =_xlfn.MAXIFS($A$2:XY$2,$A$1:XY$1,">"&1)+1 -> 27 | YH2: CP | YI2: CE | YJ2: AM | YK2: AT | YL2: ABS | YM2: =BH -> 44 | YO2: 25 | YP2: 100 | YY2: =_xlfn.MAXIFS($A$2:YX$2,$A$1:YX$1,">"&1)+1 -> 28 | ZG2: CP | ZH2: CE | ZI2: AM | ZJ2: AT | ZK2: ABS | ZL2: =BH -> 44 | ZN2: 25 | ZO2: 100 | ZX2: =_xlfn.MAXIFS($A$2:ZW$2,$A$1:ZW$1,">"&1)+1 -> 29 | AAF2: CP | AAG2: CE | AAH2: AM | AAI2: AT | AAJ2: ABS | AAK2: =BH -> 44 | AAM2: 25 | AAN2: 100 | AAW2: =_xlfn.MAXIFS($A$2:AAV$2,$A$1:AAV$1,">"&1)+1 -> 30 | ABE2: CP | ABF2: CE | ABG2: AM | ABH2: AT | ABI2: ABS | ABJ2: =BH -> 44 | ABL2: 25 | ABM2: 100
A3: Jours | B3: ferié | C3: semaine | D3: mois | E3: date | F3: service | G3: poste | H3: CYCLE | I3: heure | J3: dont nuit | K3: H Banque | L3: H Dimanche | M3: H Fériés | N3: CP pris | O3: Congés Except pris | P3: Maladie | Q3: accident travail | R3: Absences | S3: H sup EXONEREES | T3: Prime SD 17,5€ | U3: cumul conges | V3: cumul bh | AF3: SERVICE | AG3: poste | AH3: CYCLE | AI3: heure | AJ3: dont nuit | AK3: H Banque | AL3: H Dimanche | AM3: H Fériés | AN3: CP pris | AO3: Congés Except pris | AP3: Maladie | AQ3: accident travail | AR3: Absences | AS3: H sup EXONEREES | AT3: Prime SD 17,5€ | AU3: cumul conges | AV3: cumul bh | BF3: SERVICE | BG3: poste | BH3: CYCLE | BI3: heure | BJ3: dont nuit | BK3: H Banque | BL3: H Dimanche | BM3: H Fériés | BN3: CP pris | BO3: Congés Except pris | BP3: Maladie | BQ3: accident travail | BR3: Absences | BS3: H sup EXONEREES | BT3: Prime SD 17,5€ | BU3: cumul conges | BV3: cumul bh | CE3: service | CF3: poste | CG3: CYCLE | CH3: heure | CI3: dont nuit | CJ3: H Banque | CK3: H Dimanche | CL3: H Fériés | CM3: CP pris | CN3: Congés Except pris | CO3: Maladie | CP3: accident travail | CQ3: Absences | CR3: H sup EXONEREES | CS3: Prime SD 17,5€ | CT3: cumul conges | CU3: cumul bh | DD3: service | DE3: poste | DF3: CYCLE | DG3: heure | DH3: dont nuit | DI3: H Banque | DJ3: H Dimanche | DK3: H Fériés | DL3: CP pris | DM3: Congés Except pris | DN3: Maladie | DO3: accident travail | DP3: Absences | DQ3: H sup EXONEREES | DR3: Prime SD 17,5€ | DS3: cumul conges | DT3: cumul bh | EC3: service | ED3: poste | EE3: CYCLE | EF3: heure | EG3: dont nuit | EH3: H Banque | EI3: H Dimanche | EJ3: H Fériés | EK3: CP pris | EL3: Congés Except pris | EM3: Maladie | EN3: accident travail | EO3: Absences | EP3: H sup EXONEREES | EQ3: Prime SD 17,5€ | ER3: cumul conges | ES3: cumul bh | FB3: service | FC3: poste | FD3: CYCLE | FE3: heure | FF3: dont nuit | FG3: H Banque | FH3: H Dimanche | FI3: H Fériés | FJ3: CP pris | FK3: Congés Except pris | FL3: Maladie | FM3: accident travail | FN3: Absences | FO3: H sup EXONEREES | FP3: Prime SD 17,5€ | FQ3: cumul conges | FR3: cumul bh | GA3: service | GB3: poste | GC3: CYCLE | GD3: heure | GE3: dont nuit | GF3: H Banque | GG3: H Dimanche | GH3: H Fériés | GI3: CP pris | GJ3: Congés Except pris | GK3: Maladie | GL3: accident travail | GM3: Absences | GN3: H sup EXONEREES | GO3: Prime SD 17,5€ | GP3: cumul conges | GQ3: cumul bh | GZ3: service | HA3: poste | HB3: CYCLE | HC3: heure | HD3: dont nuit | HE3: H Banque | HF3: H Dimanche | HG3: H Fériés | HH3: CP pris | HI3: Congés Except pris | HJ3: Maladie | HK3: accident travail | HL3: Absences | HM3: H sup EXONEREES | HN3: Prime SD 17,5€ | HO3: cumul conges | HP3: cumul bh | HY3: service | HZ3: poste | IA3: CYCLE | IB3: heure | IC3: dont nuit | ID3: H Banque | IE3: H Dimanche | IF3: H Fériés | IG3: CP pris | IH3: Congés Except pris | II3: Maladie | IJ3: accident travail | IK3: Absences | IL3: H sup EXONEREES | IM3: Prime SD 17,5€ | IN3: cumul conges | IO3: cumul bh | IX3: service | IY3: poste | IZ3: CYCLE | JA3: heure | JB3: dont nuit | JC3: H Banque | JD3: H Dimanche | JE3: H Fériés | JF3: CP pris | JG3: Congés Except pris | JH3: Maladie | JI3: accident travail | JJ3: Absences | JK3: H sup EXONEREES | JL3: Prime SD 17,5€ | JM3: cumul conges | JN3: cumul bh | JW3: service | JX3: poste | JY3: CYCLE | JZ3: heure | KA3: dont nuit | KB3: H Banque | KC3: H Dimanche | KD3: H Fériés | KE3: CP pris | KF3: Congés Except pris | KG3: Maladie | KH3: accident travail | KI3: Absences | KJ3: H sup EXONEREES | KK3: Prime SD 17,5€ | KL3: cumul conges | KM3: cumul bh | KV3: service | KW3: poste | KX3: CYCLE | KY3: heure | KZ3: dont nuit | LA3: H Banque | LB3: H Dimanche | LC3: H Fériés | LD3: CP pris | LE3: Congés Except pris | LF3: Maladie | LG3: accident travail | LH3: Absences | LI3: H sup EXONEREES | LJ3: Prime SD 17,5€ | LK3: cumul conges | LL3: cumul bh | LU3: service | LV3: poste | LW3: CYCLE | LX3: heure | LY3: dont nuit | LZ3: H Banque | MA3: H Dimanche | MB3: H Fériés | MC3: CP pris | MD3: Congés Except pris | ME3: Maladie | MF3: accident travail | MG3: Absences | MH3: H sup EXONEREES | MI3: Prime SD 17,5€ | MJ3: cumul conges | MK3: cumul bh | MT3: service | MU3: poste | MV3: CYCLE | MW3: heure | MX3: dont nuit | MY3: H Banque | MZ3: H Dimanche | NA3: H Fériés | NB3: CP pris | NC3: Congés Except pris | ND3: Maladie | NE3: accident travail | NF3: Absences | NG3: H sup EXONEREES | NH3: Prime SD 17,5€ | NI3: cumul conges | NJ3: cumul bh | NS3: service | NT3: poste | NU3: CYCLE | NV3: heure | NW3: dont nuit | NX3: H Banque | NY3: H Dimanche | NZ3: H Fériés | OA3: CP pris | OB3: Congés Except pris | OC3: Maladie | OD3: accident travail | OE3: Absences | OF3: H sup EXONEREES | OG3: Prime SD 17,5€ | OH3: cumul conges | OI3: cumul bh | OR3: service | OS3: poste | OT3: CYCLE | OU3: heure | OV3: dont nuit | OW3: H Banque | OX3: H Dimanche | OY3: H Fériés | OZ3: CP pris | PA3: Congés Except pris | PB3: Maladie | PC3: accident travail | PD3: Absences | PE3: H sup EXONEREES | PF3: Prime SD 17,5€ | PG3: cumul conges | PH3: cumul bh | PQ3: service | PR3: poste | PS3: CYCLE | PT3: heure | PU3: dont nuit | PV3: H Banque | PW3: H Dimanche | PX3: H Fériés | PY3: CP pris | PZ3: Congés Except pris | QA3: Maladie | QB3: accident travail | QC3: Absences | QD3: H sup EXONEREES | QE3: Prime SD 17,5€ | QF3: cumul conges | QG3: cumul bh | QP3: service | QQ3: poste | QR3: CYCLE | QS3: heure | QT3: dont nuit | QU3: H Banque | QV3: H Dimanche | QW3: H Fériés | QX3: CP pris | QY3: Congés Except pris | QZ3: Maladie | RA3: accident travail | RB3: Absences | RC3: H sup EXONEREES | RD3: Prime SD 17,5€ | RE3: cumul conges | RF3: cumul bh | RG3: service | RH3: poste | RI3: CYCLE | RJ3: heure | RK3: dont nuit | RL3: H Banque | RM3: H Dimanche | RN3: H Fériés | RO3: CP pris | RP3: Congés Except pris | RQ3: Maladie | RR3: accident travail | RS3: Absences | RT3: H sup EXONEREES | RU3: Prime SD 17,5€ | RV3: cumul conges | RW3: cumul bh | SF3: service | SG3: poste | SH3: CYCLE | SI3: heure | SJ3: dont nuit | SK3: H Banque | SL3: H Dimanche | SM3: H Fériés | SN3: CP pris | SO3: Congés Except pris | SP3: Maladie | SQ3: accident travail | SR3: Absences | SS3: H sup EXONEREES | ST3: Prime SD 17,5€ | SU3: cumul conges | SV3: cumul bh | TE3: service | TF3: poste | TG3: CYCLE | TH3: heure | TI3: dont nuit | TJ3: H Banque | TK3: H Dimanche | TL3: H Fériés | TM3: CP pris | TN3: Congés Except pris | TO3: Maladie | TP3: accident travail | TQ3: Absences | TR3: H sup EXONEREES | TS3: Prime SD 17,5€ | TT3: cumul conges | TU3: cumul bh | UD3: service | UE3: poste | UF3: CYCLE | UG3: heure | UH3: dont nuit | UI3: H Banque | UJ3: H Dimanche | UK3: H Fériés | UL3: CP pris | UM3: Congés Except pris | UN3: Maladie | UO3: accident travail | UP3: Absences | UQ3: H sup EXONEREES | UR3: Prime SD 17,5€ | US3: cumul conges | UT3: cumul bh | VC3: service | VD3: poste | VE3: CYCLE | VF3: heure | VG3: dont nuit | VH3: H Banque | VI3: H Dimanche | VJ3: H Fériés | VK3: CP pris | VL3: Congés Except pris | VM3: Maladie | VN3: accident travail | VO3: Absences | VP3: H sup EXONEREES | VQ3: Prime SD 17,5€ | VR3: cumul conges | VS3: cumul bh | WB3: service | WC3: poste | WD3: CYCLE | WE3: heure | WF3: dont nuit | WG3: H Banque | WH3: H Dimanche | WI3: H Fériés | WJ3: CP pris | WK3: Congés Except pris | WL3: Maladie | WM3: accident travail | WN3: Absences | WO3: H sup EXONEREES | WP3: Prime SD 17,5€ | WQ3: cumul conges | WR3: cumul bh | XA3: service | XB3: poste | XC3: CYCLE | XD3: heure | XE3: dont nuit | XF3: H Banque | XG3: H Dimanche | XH3: H Fériés | XI3: CP pris | XJ3: Congés Except pris | XK3: Maladie | XL3: accident travail | XM3: Absences | XN3: H sup EXONEREES | XO3: Prime SD 17,5€ | XP3: cumul conges | XQ3: cumul bh | XZ3: service | YA3: poste | YB3: CYCLE | YC3: heure | YD3: dont nuit | YE3: H Banque | YF3: H Dimanche | YG3: H Fériés | YH3: CP pris | YI3: Congés Except pris | YJ3: Maladie | YK3: accident travail | YL3: Absences | YM3: H sup EXONEREES | YN3: Prime SD 17,5€ | YO3: cumul conges | YP3: cumul bh | YY3: service | YZ3: poste | ZA3: CYCLE | ZB3: heure | ZC3: dont nuit | ZD3: H Banque | ZE3: H Dimanche | ZF3: H Fériés | ZG3: CP pris | ZH3: Congés Except pris | ZI3: Maladie | ZJ3: accident travail | ZK3: Absences | ZL3: H sup EXONEREES | ZM3: Prime SD 17,5€ | ZN3: cumul conges | ZO3: cumul bh | ZX3: service | ZY3: poste | ZZ3: CYCLE | AAA3: heure | AAB3: dont nuit | AAC3: H Banque | AAD3: H Dimanche | AAE3: H Fériés | AAF3: CP pris | AAG3: Congés Except pris | AAH3: Maladie | AAI3: accident travail | AAJ3: Absences | AAK3: H sup EXONEREES | AAL3: Prime SD 17,5€ | AAM3: cumul conges | AAN3: cumul bh | AAW3: service | AAX3: poste | AAY3: CYCLE | AAZ3: heure | ABA3: dont nuit | ABB3: H Banque | ABC3: H Dimanche | ABD3: H Fériés | ABE3: CP pris | ABF3: Congés Except pris | ABG3: Maladie | ABH3: accident travail | ABI3: Absences | ABJ3: H sup EXONEREES | ABK3: Prime SD 17,5€ | ABL3: cumul conges | ABM3: cumul bh
A4: =WEEKDAY(E4) -> 1 | B4: =ISERROR(VLOOKUP(E4,ferie,2,FALSE())) -> 0 | C4: =WEEKNUM(E4,2) -> 44 | D4: =MONTH(E4) -> 11 | E4: 44136 | F4: FAB | H4: J | I4: cp | K4: =IF(I4>"0",VLOOKUP(I4,MOTIF2,2,TRUE()),I4) -> 7.5 | L4: =IF(M4="",IF($A4=1,IF(ISNUMBER(I4),I4,""),""),"") | M4: =IF(B4=FALSE(),IF(ISNUMBER(I4),I4,""),"") | N4: =IF(I4=N$2,1,"") -> 1 | O4: =IF(I4=O$2,1,"") | P4: =IF(I4=P$2,1,"") | Q4: =IF(I4=Q$2,1,"") | R4: =IF(I4=R$2,1,"") | S4: =IF(($A4=1)*(SUMIF(s,$C4,hb)>$S$2),(SUMIF(s,$C4,hb)-$S$2),0) -> 0 | T4: =IF(ISNUMBER(I4),IF(A4=7,1,""),"") | U4: 25 | V4: 100 | AG4: FO | AH4: J | AI4: 5 | AK4: =IF(AI4>"0",VLOOKUP(AI4,MOTIF2,2,TRUE()),AI4) -> 5 | AL4: =IF(AM4="",IF($A4=1,IF(ISNUMBER(AI4),AI4,""),""),"") -> 5 | AM4: =IF(T4=FALSE(),IF(ISNUMBER(AI4),AI4,""),"") | AN4: =IF(AI4=AN$2,1,"") | AO4: =IF(AI4=AO$2,1,"") | AP4: =IF(AI4=AP$2,1,"") | AQ4: =IF(AI4=AQ$2,1,"") | AR4: =IF(AI4=AR$2,1,"") | AS4: =IF(($A4=1)*(SUMIF(s,$C4,AK$4:AK$48)>$S$2),(SUMIF(s,$C4,AK$4:AK$48)-$S$2),0) -> 0 | AT4: =IF(ISNUMBER(AI4),IF(S4=7,1,""),"") | AU4: 25 | AV4: 100 | BG4: FO | BH4: J | BI4: 5 | BK4: =IF(BI4>"0",VLOOKUP(BI4,MOTIF2,2,TRUE()),BI4) -> 5 | BL4: =IF(BM4="",IF($A4=1,IF(ISNUMBER(BI4),BI4,""),""),"") -> 5 | BM4: =IF(AT4=FALSE(),IF(ISNUMBER(BI4),BI4,""),"") | BN4: =IF(BI4=BN$2,1,"") | BO4: =IF(BI4=BO$2,1,"") | BP4: =IF(BI4=BP$2,1,"") | BQ4: =IF(BI4=BQ$2,1,"") | BR4: =IF(BI4=BR$2,1,"") | BS4: =IF(($A4=1)*(SUMIF(s,$C4,BK$4:BK$48)>$S$2),(SUMIF(s,$C4,BK$4:BK$48)-$S$2),0) -> 0 | BT4: =IF(ISNUMBER(BI4),IF(AS4=7,1,""),"") | BU4: 25 | BV4: 100
A5: =WEEKDAY(E5) -> 2 | B5: =ISERROR(VLOOKUP(E5,ferie,2,FALSE())) -> 1 | C5: =WEEKNUM(E5,2) -> 45 | D5: =MONTH(E5) -> 11 | E5: 44137 | F5: FAB | G5: FO | H5: M | I5: 7.5 | K5: =IF(I5>"0",VLOOKUP(I5,MOTIF2,2,TRUE()),I5) -> 7.5 | L5: =IF(M5="",IF($A5=1,IF(ISNUMBER(I5),I5,""),""),"") | M5: =IF(B5=FALSE(),IF(ISNUMBER(I5),I5,""),"") | N5: =IF(I5=N$2,1,"") | O5: =IF(I5=O$2,1,"") | P5: =IF(I5=P$2,1,"") | Q5: =IF(I5=Q$2,1,"") | R5: =IF(I5=R$2,1,"") | S5: =IF(($A5=1)*(SUMIF(s,$C5,hb)>$S$2),(SUMIF(s,$C5,hb)-$S$2),0) -> 0 | T5: =IF(ISNUMBER(I5),IF(A5=7,1,""),"") | U5: =IF(N4=1,U4-N4,U4) -> 24 | V5: =+V4+K5-(VLOOKUP($A5,base!$A$13:$B$19,2,FALSE())*(VLOOKUP($B5,ffff,2,FALSE()))) -> 100 | AG5: past | AH5: M | AI5: 75 | AK5: =IF(AI5>"0",VLOOKUP(AI5,MOTIF2,2,TRUE()),AI5) -> 75 | AL5: =IF(AM5="",IF($A5=1,IF(ISNUMBER(AI5),AI5,""),""),"") | AM5: =IF(T5=FALSE(),IF(ISNUMBER(AI5),AI5,""),"") | AN5: =IF(AI5=AN$2,1,"") | AO5: =IF(AI5=AO$2,1,"") | AP5: =IF(AI5=AP$2,1,"") | AQ5: =IF(AI5=AQ$2,1,"") | AR5: =IF(AI5=AR$2,1,"") | AS5: =IF(($A5=1)*(SUMIF(s,$C5,AK$4:AK$48)>$S$2),(SUMIF(s,$C5,AK$4:AK$48)-$S$2),0) -> 0 | AT5: =IF(ISNUMBER(AI5),IF(S5=7,1,""),"") | AU5: =IF(AN4=1,AU4-AN4,AU4) -> 25 | AV5: =+AV4+AK5-(VLOOKUP($A5,base!$A$13:$B$19,2,FALSE())*(VLOOKUP($B5,ffff,2,FALSE()))) -> 167.5 | BG5: past | BH5: M | BI5: 55 | BK5: =IF(BI5>"0",VLOOKUP(BI5,MOTIF2,2,TRUE()),BI5) -> 55 | BL5: =IF(BM5="",IF($A5=1,IF(ISNUMBER(BI5),BI5,""),""),"") | BM5: =IF(AT5=FALSE(),IF(ISNUMBER(BI5),BI5,""),"") | BN5: =IF(BI5=BN$2,1,"") | BO5: =IF(BI5=BO$2,1,"") | BP5: =IF(BI5=BP$2,1,"") | BQ5: =IF(BI5=BQ$2,1,"") | BR5: =IF(BI5=BR$2,1,"") | BS5: =IF(($A5=1)*(SUMIF(s,$C5,BK$4:BK$48)>$S$2),(SUMIF(s,$C5,BK$4:BK$48)-$S$2),0) -> 0 | BT5: =IF(ISNUMBER(BI5),IF(AS5=7,1,""),"") | BU5: =IF(BN4=1,BU4-BN4,BU4) -> 25 | BV5: =+BV4+BK5-(VLOOKUP($A5,base!$A$13:$B$19,2,FALSE())*(VLOOKUP($B5,ffff,2,FALSE()))) -> 147.5
A6: =WEEKDAY(E6) -> 3 | B6: =ISERROR(VLOOKUP(E6,ferie,2,FALSE())) -> 1 | C6: =WEEKNUM(E6,2) -> 45 | D6: =MONTH(E6) -> 11 | E6: 44138 | F6: FAB | G6: past | I6: 7.5 | K6: =IF(I6>"0",VLOOKUP(I6,MOTIF2,2,TRUE()),I6) -> 7.5 | L6: =IF(M6="",IF($A6=1,IF(ISNUMBER(I6),I6,""),""),"") | M6: =IF(B6=FALSE(),IF(ISNUMBER(I6),I6,""),"") | N6: =IF(I6=N$2,1,"") | O6: =IF(I6=O$2,1,"") | P6: =IF(I6=P$2,1,"") | Q6: =IF(I6=Q$2,1,"") | R6: =IF(I6=R$2,1,"") | S6: =IF(($A6=1)*(SUMIF(s,$C6,hb)>$S$2),(SUMIF(s,$C6,hb)-$S$2),0) -> 0 | T6: =IF(ISNUMBER(I6),IF(A6=7,1,""),"") | U6: =IF(N5=1,U5-N5,U5) -> 24 | V6: =+V5+K6-(VLOOKUP($A6,base!$A$13:$B$19,2,FALSE())*(VLOOKUP($B6,ffff,2,FALSE()))) -> 100 | AG6: past | AI6: 7.5 | AK6: =IF(AI6>"0",VLOOKUP(AI6,MOTIF2,2,TRUE()),AI6) -> 7.5 | AL6: =IF(AM6="",IF($A6=1,IF(ISNUMBER(AI6),AI6,""),""),"") | AM6: =IF(T6=FALSE(),IF(ISNUMBER(AI6),AI6,""),"") | AN6: =IF(AI6=AN$2,1,"") | AO6: =IF(AI6=AO$2,1,"") | AP6: =IF(AI6=AP$2,1,"") | AQ6: =IF(AI6=AQ$2,1,"") | AR6: =IF(AI6=AR$2,1,"") | AS6: =IF(($A6=1)*(SUMIF(s,$C6,AK$4:AK$48)>$S$2),(SUMIF(s,$C6,AK$4:AK$48)-$S$2),0) -> 0 | AT6: =IF(ISNUMBER(AI6),IF(S6=7,1,""),"") | AU6: =IF(AN5=1,AU5-AN5,AU5) -> 25 | AV6: =+AV5+AK6-(VLOOKUP($A6,base!$A$13:$B$19,2,FALSE())*(VLOOKUP($B6,ffff,2,FALSE()))) -> 167.5 | BG6: past | BI6: 7.5 | BK6: =IF(BI6>"0",VLOOKUP(BI6,MOTIF2,2,TRUE()),BI6) -> 7.5 | BL6: =IF(BM6="",IF($A6=1,IF(ISNUMBER(BI6),BI6,""),""),"") | BM6: =IF(AT6=FALSE(),IF(ISNUMBER(BI6),BI6,""),"") | BN6: =IF(BI6=BN$2,1,"") | BO6: =IF(BI6=BO$2,1,"") | BP6: =IF(BI6=BP$2,1,"") | BQ6: =IF(BI6=BQ$2,1,"") | BR6: =IF(BI6=BR$2,1,"") | BS6: =IF(($A6=1)*(SUMIF(s,$C6,BK$4:BK$48)>$S$2),(SUMIF(s,$C6,BK$4:BK$48)-$S$2),0) -> 0 | BT6: =IF(ISNUMBER(BI6),IF(AS6=7,1,""),"") | BU6: =IF(BN5=1,BU5-BN5,BU5) -> 25 | BV6: =+BV5+BK6-(VLOOKUP($A6,base!$A$13:$B$19,2,FALSE())*(VLOOKUP($B6,ffff,2,FALSE()))) -> 147.5
A7: =WEEKDAY(E7) -> 4 | B7: =ISERROR(VLOOKUP(E7,ferie,2,FALSE())) -> 1 | C7: =WEEKNUM(E7,2) -> 45 | D7: =MONTH(E7) -> 11 | E7: 44139 | F7: FAB | G7: past | I7: 8 | K7: =IF(I7>"0",VLOOKUP(I7,MOTIF2,2,TRUE()),I7) -> 8 | L7: =IF(M7="",IF($A7=1,IF(ISNUMBER(I7),I7,""),""),"") | M7: =IF(B7=FALSE(),IF(ISNUMBER(I7),I7,""),"") | N7: =IF(I7=N$2,1,"") | O7: =IF(I7=O$2,1,"") | P7: =IF(I7=P$2,1,"") | Q7: =IF(I7=Q$2,1,"") | R7: =IF(I7=R$2,1,"") | S7: =IF(($A7=1)*(SUMIF(s,$C7,hb)>$S$2),(SUMIF(s,$C7,hb)-$S$2),0) -> 0 | T7: =IF(ISNUMBER(I7),IF(A7=7,1,""),"") | U7: =IF(N6=1,U6-N6,U6) -> 24 | V7: =+V6+K7-(VLOOKUP($A7,base!$A$13:$B$19,2,FALSE())*(VLOOKUP($B7,ffff,2,FALSE()))) -> 100.5 | AG7: FO | AI7: 7.5 | AK7: =IF(AI7>"0",VLOOKUP(AI7,MOTIF2,2,TRUE()),AI7) -> 7.5 | AL7: =IF(AM7="",IF($A7=1,IF(ISNUMBER(AI7),AI7,""),""),"") | AM7: =IF(T7=FALSE(),IF(ISNUMBER(AI7),AI7,""),"") | AN7: =IF(AI7=AN$2,1,"") | AO7: =IF(AI7=AO$2,1,"") | AP7: =IF(AI7=AP$2,1,"") | AQ7: =IF(AI7=AQ$2,1,"") | AR7: =IF(AI7=AR$2,1,"") | AS7: =IF(($A7=1)*(SUMIF(s,$C7,AK$4:AK$48)>$S$2),(SUMIF(s,$C7,AK$4:AK$48)-$S$2),0) -> 0 | AT7: =IF(ISNUMBER(AI7),IF(S7=7,1,""),"") | AU7: =IF(AN6=1,AU6-AN6,AU6) -> 25 | AV7: =+AV6+AK7-(VLOOKUP($A7,base!$A$13:$B$19,2,FALSE())*(VLOOKUP($B7,ffff,2,FALSE()))) -> 167.5 | BG7: FO | BI7: 7.5 | BK7: =IF(BI7>"0",VLOOKUP(BI7,MOTIF2,2,TRUE()),BI7) -> 7.5 | BL7: =IF(BM7="",IF($A7=1,IF(ISNUMBER(BI7),BI7,""),""),"") | BM7: =IF(AT7=FALSE(),IF(ISNUMBER(BI7),BI7,""),"") | BN7: =IF(BI7=BN$2,1,"") | BO7: =IF(BI7=BO$2,1,"") | BP7: =IF(BI7=BP$2,1,"") | BQ7: =IF(BI7=BQ$2,1,"") | BR7: =IF(BI7=BR$2,1,"") | BS7: =IF(($A7=1)*(SUMIF(s,$C7,BK$4:BK$48)>$S$2),(SUMIF(s,$C7,BK$4:BK$48)-$S$2),0) -> 0 | BT7: =IF(ISNUMBER(BI7),IF(AS7=7,1,""),"") | BU7: =IF(BN6=1,BU6-BN6,BU6) -> 25 | BV7: =+BV6+BK7-(VLOOKUP($A7,base!$A$13:$B$19,2,FALSE())*(VLOOKUP($B7,ffff,2,FALSE()))) -> 147.5
A8: =WEEKDAY(E8) -> 5 | B8: =ISERROR(VLOOKUP(E8,ferie,2,FALSE())) -> 1 | C8: =WEEKNUM(E8,2) -> 45 | D8: =MONTH(E8) -> 11 | E8: 44140 | F8: FAB | G8: past | I8: 10 | K8: =IF(I8>"0",VLOOKUP(I8,MOTIF2,2,TRUE()),I8) -> 10 | L8: =IF(M8="",IF($A8=1,IF(ISNUMBER(I8),I8,""),""),"") | M8: =IF(B8=FALSE(),IF(ISNUMBER(I8),I8,""),"") | N8: =IF(I8=N$2,1,"") | O8: =IF(I8=O$2,1,"") | P8: =IF(I8=P$2,1,"") | Q8: =IF(I8=Q$2,1,"") | R8: =IF(I8=R$2,1,"") | S8: =IF(($A8=1)*(SUMIF(s,$C8,hb)>$S$2),(SUMIF(s,$C8,hb)-$S$2),0) -> 0 | T8: =IF(ISNUMBER(I8),IF(A8=7,1,""),"") | U8: =IF(N7=1,U7-N7,U7) -> 24 | V8: =+V7+K8-(VLOOKUP($A8,base!$A$13:$B$19,2,FALSE())*(VLOOKUP($B8,ffff,2,FALSE()))) -> 103 | AG8: CP | AI8: 20 | AK8: =IF(AI8>"0",VLOOKUP(AI8,MOTIF2,2,TRUE()),AI8) -> 20 | AL8: =IF(AM8="",IF($A8=1,IF(ISNUMBER(AI8),AI8,""),""),"") | AM8: =IF(T8=FALSE(),IF(ISNUMBER(AI8),AI8,""),"") | AN8: =IF(AI8=AN$2,1,"") | AO8: =IF(AI8=AO$2,1,"") | AP8: =IF(AI8=AP$2,1,"") | AQ8: =IF(AI8=AQ$2,1,"") | AR8: =IF(AI8=AR$2,1,"") | AS8: =IF(($A8=1)*(SUMIF(s,$C8,AK$4:AK$48)>$S$2),(SUMIF(s,$C8,AK$4:AK$48)-$S$2),0) -> 0 | AT8: =IF(ISNUMBER(AI8),IF(S8=7,1,""),"") | AU8: =IF(AN7=1,AU7-AN7,AU7) -> 25 | AV8: =+AV7+AK8-(VLOOKUP($A8,base!$A$13:$B$19,2,FALSE())*(VLOOKUP($B8,ffff,2,FALSE()))) -> 180 | BG8: CP | BI8: 10 | BK8: =IF(BI8>"0",VLOOKUP(BI8,MOTIF2,2,TRUE()),BI8) -> 10 | BL8: =IF(BM8="",IF($A8=1,IF(ISNUMBER(BI8),BI8,""),""),"") | BM8: =IF(AT8=FALSE(),IF(ISNUMBER(BI8),BI8,""),"") | BN8: =IF(BI8=BN$2,1,"") | BO8: =IF(BI8=BO$2,1,"") | BP8: =IF(BI8=BP$2,1,"") | BQ8: =IF(BI8=BQ$2,1,"") | BR8: =IF(BI8=BR$2,1,"") | BS8: =IF(($A8=1)*(SUMIF(s,$C8,BK$4:BK$48)>$S$2),(SUMIF(s,$C8,BK$4:BK$48)-$S$2),0) -> 0 | BT8: =IF(ISNUMBER(BI8),IF(AS8=7,1,""),"") | BU8: =IF(BN7=1,BU7-BN7,BU7) -> 25 | BV8: =+BV7+BK8-(VLOOKUP($A8,base!$A$13:$B$19,2,FALSE())*(VLOOKUP($B8,ffff,2,FALSE()))) -> 150
A9: =WEEKDAY(E9) -> 6 | B9: =ISERROR(VLOOKUP(E9,ferie,2,FALSE())) -> 1 | C9: =WEEKNUM(E9,2) -> 45 | D9: =MONTH(E9) -> 11 | E9: 44141 | F9: FAB | G9: past | I9: 20 | K9: =IF(I9>"0",VLOOKUP(I9,MOTIF2,2,TRUE()),I9) -> 20 | L9: =IF(M9="",IF($A9=1,IF(ISNUMBER(I9),I9,""),""),"") | M9: =IF(B9=FALSE(),IF(ISNUMBER(I9),I9,""),"") | N9: =IF(I9=N$2,1,"") | O9: =IF(I9=O$2,1,"") | P9: =IF(I9=P$2,1,"") | Q9: =IF(I9=Q$2,1,"") | R9: =IF(I9=R$2,1,"") | S9: =IF(($A9=1)*(SUMIF(s,$C9,hb)>$S$2),(SUMIF(s,$C9,hb)-$S$2),0) -> 0 | T9: =IF(ISNUMBER(I9),IF(A9=7,1,""),"") | U9: =IF(N8=1,U8-N8,U8) -> 24 | V9: =+V8+K9-(VLOOKUP($A9,base!$A$13:$B$19,2,FALSE())*(VLOOKUP($B9,ffff,2,FALSE()))) -> 115.5 | AI9: 20 | AK9: =IF(AI9>"0",VLOOKUP(AI9,MOTIF2,2,TRUE()),AI9) -> 20 | AL9: =IF(AM9="",IF($A9=1,IF(ISNUMBER(AI9),AI9,""),""),"") | AM9: =IF(T9=FALSE(),IF(ISNUMBER(AI9),AI9,""),"") | AN9: =IF(AI9=AN$2,1,"") | AO9: =IF(AI9=AO$2,1,"") | AP9: =IF(AI9=AP$2,1,"") | AQ9: =IF(AI9=AQ$2,1,"") | AR9: =IF(AI9=AR$2,1,"") | AS9: =IF(($A9=1)*(SUMIF(s,$C9,AK$4:AK$48)>$S$2),(SUMIF(s,$C9,AK$4:AK$48)-$S$2),0) -> 0 | AT9: =IF(ISNUMBER(AI9),IF(S9=7,1,""),"") | AU9: =IF(AN8=1,AU8-AN8,AU8) -> 25 | AV9: =+AV8+AK9-(VLOOKUP($A9,base!$A$13:$B$19,2,FALSE())*(VLOOKUP($B9,ffff,2,FALSE()))) -> 192.5 | BI9: 20 | BK9: =IF(BI9>"0",VLOOKUP(BI9,MOTIF2,2,TRUE()),BI9) -> 20 | BL9: =IF(BM9="",IF($A9=1,IF(ISNUMBER(BI9),BI9,""),""),"") | BM9: =IF(AT9=FALSE(),IF(ISNUMBER(BI9),BI9,""),"") | BN9: =IF(BI9=BN$2,1,"") | BO9: =IF(BI9=BO$2,1,"") | BP9: =IF(BI9=BP$2,1,"") | BQ9: =IF(BI9=BQ$2,1,"") | BR9: =IF(BI9=BR$2,1,"") | BS9: =IF(($A9=1)*(SUMIF(s,$C9,BK$4:BK$48)>$S$2),(SUMIF(s,$C9,BK$4:BK$48)-$S$2),0) -> 0 | BT9: =IF(ISNUMBER(BI9),IF(AS9=7,1,""),"") | BU9: =IF(BN8=1,BU8-BN8,BU8) -> 25 | BV9: =+BV8+BK9-(VLOOKUP($A9,base!$A$13:$B$19,2,FALSE())*(VLOOKUP($B9,ffff,2,FALSE()))) -> 162.5
A10: =WEEKDAY(E10) -> 7 | B10: =ISERROR(VLOOKUP(E10,ferie,2,FALSE())) -> 1 | C10: =WEEKNUM(E10,2) -> 45 | D10: =MONTH(E10) -> 11 | E10: 44142 | F10: FAB | I10: r | K10: =IF(I10>"0",VLOOKUP(I10,MOTIF2,2,TRUE()),I10) -> 0 | L10: =IF(M10="",IF($A10=1,IF(ISNUMBER(I10),I10,""),""),"") | M10: =IF(B10=FALSE(),IF(ISNUMBER(I10),I10,""),"") | N10: =IF(I10=N$2,1,"") | O10: =IF(I10=O$2,1,"") | P10: =IF(I10=P$2,1,"") | Q10: =IF(I10=Q$2,1,"") | R10: =IF(I10=R$2,1,"") | S10: =IF(($A10=1)*(SUMIF(s,$C10,hb)>$S$2),(SUMIF(s,$C10,hb)-$S$2),0) -> 0 | T10: =IF(ISNUMBER(I10),IF(A10=7,1,""),"") | U10: =IF(N9=1,U9-N9,U9) -> 24 | V10: =+V9+K10-(VLOOKUP($A10,base!$A$13:$B$19,2,FALSE())*(VLOOKUP($B10,ffff,2,FALSE()))) -> 115.5 | AI10: r | AK10: =IF(AI10>"0",VLOOKUP(AI10,MOTIF2,2,TRUE()),AI10) -> 0 | AL10: =IF(AM10="",IF($A10=1,IF(ISNUMBER(AI10),AI10,""),""),"") | AM10: =IF(T10=FALSE(),IF(ISNUMBER(AI10),AI10,""),"") | AN10: =IF(AI10=AN$2,1,"") | AO10: =IF(AI10=AO$2,1,"") | AP10: =IF(AI10=AP$2,1,"") | AQ10: =IF(AI10=AQ$2,1,"") | AR10: =IF(AI10=AR$2,1,"") | AS10: =IF(($A10=1)*(SUMIF(s,$C10,AK$4:AK$48)>$S$2),(SUMIF(s,$C10,AK$4:AK$48)-$S$2),0) -> 0 | AT10: =IF(ISNUMBER(AI10),IF(S10=7,1,""),"") | AU10: =IF(AN9=1,AU9-AN9,AU9) -> 25 | AV10: =+AV9+AK10-(VLOOKUP($A10,base!$A$13:$B$19,2,FALSE())*(VLOOKUP($B10,ffff,2,FALSE()))) -> 192.5 | BI10: r | BK10: =IF(BI10>"0",VLOOKUP(BI10,MOTIF2,2,TRUE()),BI10) -> 0 | BL10: =IF(BM10="",IF($A10=1,IF(ISNUMBER(BI10),BI10,""),""),"") | BM10: =IF(AT10=FALSE(),IF(ISNUMBER(BI10),BI10,""),"") | BN10: =IF(BI10=BN$2,1,"") | BO10: =IF(BI10=BO$2,1,"") | BP10: =IF(BI10=BP$2,1,"") | BQ10: =IF(BI10=BQ$2,1,"") | BR10: =IF(BI10=BR$2,1,"") | BS10: =IF(($A10=1)*(SUMIF(s,$C10,BK$4:BK$48)>$S$2),(SUMIF(s,$C10,BK$4:BK$48)-$S$2),0) -> 0 | BT10: =IF(ISNUMBER(BI10),IF(AS10=7,1,""),"") | BU10: =IF(BN9=1,BU9-BN9,BU9) -> 25 | BV10: =+BV9+BK10-(VLOOKUP($A10,base!$A$13:$B$19,2,FALSE())*(VLOOKUP($B10,ffff,2,FALSE()))) -> 162.5
A11: =WEEKDAY(E11) -> 1 | B11: =ISERROR(VLOOKUP(E11,ferie,2,FALSE())) -> 1 | C11: =WEEKNUM(E11,2) -> 45 | D11: =MONTH(E11) -> 11 | E11: 44143 | F11: FAB | H11: M | I11: R | K11: =IF(I11>"0",VLOOKUP(I11,MOTIF2,2,TRUE()),I11) -> 0 | L11: =IF(M11="",IF($A11=1,IF(ISNUMBER(I11),I11,""),""),"") | M11: =IF(B11=FALSE(),IF(ISNUMBER(I11),I11,""),"") | N11: =IF(I11=N$2,1,"") | O11: =IF(I11=O$2,1,"") | P11: =IF(I11=P$2,1,"") | Q11: =IF(I11=Q$2,1,"") | R11: =IF(I11=R$2,1,"") | S11: =IF(($A11=1)*(SUMIF(s,$C11,hb)>$S$2),(SUMIF(s,$C11,hb)-$S$2),0) -> 9 | T11: =IF(ISNUMBER(I11),IF(A11=7,1,""),"") | U11: =IF(N10=1,U10-N10,U10) -> 24 | V11: =+V10+K11-(VLOOKUP($A11,base!$A$13:$B$19,2,FALSE())*(VLOOKUP($B11,ffff,2,FALSE()))) -> 115.5 | AH11: M | AI11: 2 | AK11: =IF(AI11>"0",VLOOKUP(AI11,MOTIF2,2,TRUE()),AI11) -> 2 | AL11: =IF(AM11="",IF($A11=1,IF(ISNUMBER(AI11),AI11,""),""),"") -> 2 | AM11: =IF(T11=FALSE(),IF(ISNUMBER(AI11),AI11,""),"") | AN11: =IF(AI11=AN$2,1,"") | AO11: =IF(AI11=AO$2,1,"") | AP11: =IF(AI11=AP$2,1,"") | AQ11: =IF(AI11=AQ$2,1,"") | AR11: =IF(AI11=AR$2,1,"") | AS11: =IF(($A11=1)*(SUMIF(s,$C11,AK$4:AK$48)>$S$2),(SUMIF(s,$C11,AK$4:AK$48)-$S$2),0) -> 88 | AT11: =IF(ISNUMBER(AI11),IF(S11=7,1,""),"") | AU11: =IF(AN10=1,AU10-AN10,AU10) -> 25 | AV11: =+AV10+AK11-(VLOOKUP($A11,base!$A$13:$B$19,2,FALSE())*(VLOOKUP($B11,ffff,2,FALSE()))) -> 194.5 | BH11: M | BI11: 2 | BK11: =IF(BI11>"0",VLOOKUP(BI11,MOTIF2,2,TRUE()),BI11) -> 2 | BL11: =IF(BM11="",IF($A11=1,IF(ISNUMBER(BI11),BI11,""),""),"") -> 2 | BM11: =IF(AT11=FALSE(),IF(ISNUMBER(BI11),BI11,""),"") | BN11: =IF(BI11=BN$2,1,"") | BO11: =IF(BI11=BO$2,1,"") | BP11: =IF(BI11=BP$2,1,"") | BQ11: =IF(BI11=BQ$2,1,"") | BR11: =IF(BI11=BR$2,1,"") | BS11: =IF(($A11=1)*(SUMIF(s,$C11,BK$4:BK$48)>$S$2),(SUMIF(s,$C11,BK$4:BK$48)-$S$2),0) -> 58 | BT11: =IF(ISNUMBER(BI11),IF(AS11=7,1,""),"") | BU11: =IF(BN10=1,BU10-BN10,BU10) -> 25 | BV11: =+BV10+BK11-(VLOOKUP($A11,base!$A$13:$B$19,2,FALSE())*(VLOOKUP($B11,ffff,2,FALSE()))) -> 164.5
A12: =WEEKDAY(E12) -> 2 | B12: =ISERROR(VLOOKUP(E12,ferie,2,FALSE())) -> 1 | C12: =WEEKNUM(E12,2) -> 46 | D12: =MONTH(E12) -> 11 | E12: 44144 | F12: FAB | G12: cp | I12: 1 | K12: =IF(I12>"0",VLOOKUP(I12,MOTIF2,2,TRUE()),I12) -> 1 | L12: =IF(M12="",IF($A12=1,IF(ISNUMBER(I12),I12,""),""),"") | M12: =IF(B12=FALSE(),IF(ISNUMBER(I12),I12,""),"") | N12: =IF(I12=N$2,1,"") | O12: =IF(I12=O$2,1,"") | P12: =IF(I12=P$2,1,"") | Q12: =IF(I12=Q$2,1,"") | R12: =IF(I12=R$2,1,"") | S12: =IF(($A12=1)*(SUMIF(s,$C12,hb)>$S$2),(SUMIF(s,$C12,hb)-$S$2),0) -> 0 | T12: =IF(ISNUMBER(I12),IF(A12=7,1,""),"") | U12: =IF(N11=1,U11-N11,U11) -> 24 | V12: =+V11+K12-(VLOOKUP($A12,base!$A$13:$B$19,2,FALSE())*(VLOOKUP($B12,ffff,2,FALSE()))) -> 109 | AI12: 2 | AK12: =IF(AI12>"0",VLOOKUP(AI12,MOTIF2,2,TRUE()),AI12) -> 2 | AL12: =IF(AM12="",IF($A12=1,IF(ISNUMBER(AI12),AI12,""),""),"") | AM12: =IF(T12=FALSE(),IF(ISNUMBER(AI12),AI12,""),"") | AN12: =IF(AI12=AN$2,1,"") | AO12: =IF(AI12=AO$2,1,"") | AP12: =IF(AI12=AP$2,1,"") | AQ12: =IF(AI12=AQ$2,1,"") | AR12: =IF(AI12=AR$2,1,"") | AS12: =IF(($A12=1)*(SUMIF(s,$C12,AK$4:AK$48)>$S$2),(SUMIF(s,$C12,AK$4:AK$48)-$S$2),0) -> 0 | AT12: =IF(ISNUMBER(AI12),IF(S12=7,1,""),"") | AU12: =IF(AN11=1,AU11-AN11,AU11) -> 25 | AV12: =+AV11+AK12-(VLOOKUP($A12,base!$A$13:$B$19,2,FALSE())*(VLOOKUP($B12,ffff,2,FALSE()))) -> 189 | BI12: 2 | BK12: =IF(BI12>"0",VLOOKUP(BI12,MOTIF2,2,TRUE()),BI12) -> 2 | BL12: =IF(BM12="",IF($A12=1,IF(ISNUMBER(BI12),BI12,""),""),"") | BM12: =IF(AT12=FALSE(),IF(ISNUMBER(BI12),BI12,""),"") | BN12: =IF(BI12=BN$2,1,"") | BO12: =IF(BI12=BO$2,1,"") | BP12: =IF(BI12=BP$2,1,"") | BQ12: =IF(BI12=BQ$2,1,"") | BR12: =IF(BI12=BR$2,1,"") | BS12: =IF(($A12=1)*(SUMIF(s,$C12,BK$4:BK$48)>$S$2),(SUMIF(s,$C12,BK$4:BK$48)-$S$2),0) -> 0 | BT12: =IF(ISNUMBER(BI12),IF(AS12=7,1,""),"") | BU12: =IF(BN11=1,BU11-BN11,BU11) -> 25 | BV12: =+BV11+BK12-(VLOOKUP($A12,base!$A$13:$B$19,2,FALSE())*(VLOOKUP($B12,ffff,2,FALSE()))) -> 159
A13: =WEEKDAY(E13) -> 3 | B13: =ISERROR(VLOOKUP(E13,ferie,2,FALSE())) -> 1 | C13: =WEEKNUM(E13,2) -> 46 | D13: =MONTH(E13) -> 11 | E13: 44145 | F13: FAB | G13: past | I13: 2 | K13: =IF(I13>"0",VLOOKUP(I13,MOTIF2,2,TRUE()),I13) -> 2 | L13: =IF(M13="",IF($A13=1,IF(ISNUMBER(I13),I13,""),""),"") | M13: =IF(B13=FALSE(),IF(ISNUMBER(I13),I13,""),"") | N13: =IF(I13=N$2,1,"") | O13: =IF(I13=O$2,1,"") | P13: =IF(I13=P$2,1,"") | Q13: =IF(I13=Q$2,1,"") | R13: =IF(I13=R$2,1,"") | S13: =IF(($A13=1)*(SUMIF(s,$C13,hb)>$S$2),(SUMIF(s,$C13,hb)-$S$2),0) -> 0 | T13: =IF(ISNUMBER(I13),IF(A13=7,1,""),"") | U13: =IF(N12=1,U12-N12,U12) -> 24 | V13: =+V12+K13-(VLOOKUP($A13,base!$A$13:$B$19,2,FALSE())*(VLOOKUP($B13,ffff,2,FALSE()))) -> 103.5 | AI13: cp | AK13: =IF(AI13>"0",VLOOKUP(AI13,MOTIF2,2,TRUE()),AI13) -> 7.5 | AL13: =IF(AM13="",IF($A13=1,IF(ISNUMBER(AI13),AI13,""),""),"") | AM13: =IF(T13=FALSE(),IF(ISNUMBER(AI13),AI13,""),"") | AN13: =IF(AI13=AN$2,1,"") -> 1 | AO13: =IF(AI13=AO$2,1,"") | AP13: =IF(AI13=AP$2,1,"") | AQ13: =IF(AI13=AQ$2,1,"") | AR13: =IF(AI13=AR$2,1,"") | AS13: =IF(($A13=1)*(SUMIF(s,$C13,AK$4:AK$48)>$S$2),(SUMIF(s,$C13,AK$4:AK$48)-$S$2),0) -> 0 | AT13: =IF(ISNUMBER(AI13),IF(S13=7,1,""),"") | AU13: =IF(AN12=1,AU12-AN12,AU12) -> 25 | AV13: =+AV12+AK13-(VLOOKUP($A13,base!$A$13:$B$19,2,FALSE())*(VLOOKUP($B13,ffff,2,FALSE()))) -> 189 | BI13: cp | BK13: =IF(BI13>"0",VLOOKUP(BI13,MOTIF2,2,TRUE()),BI13) -> 7.5 | BL13: =IF(BM13="",IF($A13=1,IF(ISNUMBER(BI13),BI13,""),""),"") | BM13: =IF(AT13=FALSE(),IF(ISNUMBER(BI13),BI13,""),"") | BN13: =IF(BI13=BN$2,1,"") -> 1 | BO13: =IF(BI13=BO$2,1,"") | BP13: =IF(BI13=BP$2,1,"") | BQ13: =IF(BI13=BQ$2,1,"") | BR13: =IF(BI13=BR$2,1,"") | BS13: =IF(($A13=1)*(SUMIF(s,$C13,BK$4:BK$48)>$S$2),(SUMIF(s,$C13,BK$4:BK$48)-$S$2),0) -> 0 | BT13: =IF(ISNUMBER(BI13),IF(AS13=7,1,""),"") | BU13: =IF(BN12=1,BU12-BN12,BU12) -> 25 | BV13: =+BV12+BK13-(VLOOKUP($A13,base!$A$13:$B$19,2,FALSE())*(VLOOKUP($B13,ffff,2,FALSE()))) -> 159
A14: =WEEKDAY(E14) -> 4 | B14: =ISERROR(VLOOKUP(E14,ferie,2,FALSE())) -> 0 | C14: =WEEKNUM(E14,2) -> 46 | D14: =MONTH(E14) -> 11 | E14: 44146 | F14: FAB | G14: fo | I14: 4 | K14: =IF(I14>"0",VLOOKUP(I14,MOTIF2,2,TRUE()),I14) -> 4 | L14: =IF(M14="",IF($A14=1,IF(ISNUMBER(I14),I14,""),""),"") | M14: =IF(B14=FALSE(),IF(ISNUMBER(I14),I14,""),"") -> 4 | N14: =IF(I14=N$2,1,"") | O14: =IF(I14=O$2,1,"") | P14: =IF(I14=P$2,1,"") | Q14: =IF(I14=Q$2,1,"") | R14: =IF(I14=R$2,1,"") | S14: =IF(($A14=1)*(SUMIF(s,$C14,hb)>$S$2),(SUMIF(s,$C14,hb)-$S$2),0) -> 0 | T14: =IF(ISNUMBER(I14),IF(A14=7,1,""),"") | U14: =IF(N13=1,U13-N13,U13) -> 24 | V14: =+V13+K14-(VLOOKUP($A14,base!$A$13:$B$19,2,FALSE())*(VLOOKUP($B14,ffff,2,FALSE()))) -> 107.5 | AI14: 60 | AK14: =IF(AI14>"0",VLOOKUP(AI14,MOTIF2,2,TRUE()),AI14) -> 60 | AL14: =IF(AM14="",IF($A14=1,IF(ISNUMBER(AI14),AI14,""),""),"") | AM14: =IF(T14=FALSE(),IF(ISNUMBER(AI14),AI14,""),"") | AN14: =IF(AI14=AN$2,1,"") | AO14: =IF(AI14=AO$2,1,"") | AP14: =IF(AI14=AP$2,1,"") | AQ14: =IF(AI14=AQ$2,1,"") | AR14: =IF(AI14=AR$2,1,"") | AS14: =IF(($A14=1)*(SUMIF(s,$C14,AK$4:AK$48)>$S$2),(SUMIF(s,$C14,AK$4:AK$48)-$S$2),0) -> 0 | AT14: =IF(ISNUMBER(AI14),IF(S14=7,1,""),"") | AU14: =IF(AN13=1,AU13-AN13,AU13) -> 24 | AV14: =+AV13+AK14-(VLOOKUP($A14,base!$A$13:$B$19,2,FALSE())*(VLOOKUP($B14,ffff,2,FALSE()))) -> 249 | BI14: 60 | BK14: =IF(BI14>"0",VLOOKUP(BI14,MOTIF2,2,TRUE()),BI14) -> 60 | BL14: =IF(BM14="",IF($A14=1,IF(ISNUMBER(BI14),BI14,""),""),"") | BM14: =IF(AT14=FALSE(),IF(ISNUMBER(BI14),BI14,""),"") | BN14: =IF(BI14=BN$2,1,"") | BO14: =IF(BI14=BO$2,1,"") | BP14: =IF(BI14=BP$2,1,"") | BQ14: =IF(BI14=BQ$2,1,"") | BR14: =IF(BI14=BR$2,1,"") | BS14: =IF(($A14=1)*(SUMIF(s,$C14,BK$4:BK$48)>$S$2),(SUMIF(s,$C14,BK$4:BK$48)-$S$2),0) -> 0 | BT14: =IF(ISNUMBER(BI14),IF(AS14=7,1,""),"") | BU14: =IF(BN13=1,BU13-BN13,BU13) -> 24 | BV14: =+BV13+BK14-(VLOOKUP($A14,base!$A$13:$B$19,2,FALSE())*(VLOOKUP($B14,ffff,2,FALSE()))) -> 219
A15: =WEEKDAY(E15) -> 5 | B15: =ISERROR(VLOOKUP(E15,ferie,2,FALSE())) -> 1 | C15: =WEEKNUM(E15,2) -> 46 | D15: =MONTH(E15) -> 11 | E15: 44147 | F15: FAB | G15: past | I15: 5 | K15: =IF(I15>"0",VLOOKUP(I15,MOTIF2,2,TRUE()),I15) -> 5 | L15: =IF(M15="",IF($A15=1,IF(ISNUMBER(I15),I15,""),""),"") | M15: =IF(B15=FALSE(),IF(ISNUMBER(I15),I15,""),"") | N15: =IF(I15=N$2,1,"") | O15: =IF(I15=O$2,1,"") | P15: =IF(I15=P$2,1,"") | Q15: =IF(I15=Q$2,1,"") | R15: =IF(I15=R$2,1,"") | S15: =IF(($A15=1)*(SUMIF(s,$C15,hb)>$S$2),(SUMIF(s,$C15,hb)-$S$2),0) -> 0 | T15: =IF(ISNUMBER(I15),IF(A15=7,1,""),"") | U15: =IF(N14=1,U14-N14,U14) -> 24 | V15: =+V14+K15-(VLOOKUP($A15,base!$A$13:$B$19,2,FALSE())*(VLOOKUP($B15,ffff,2,FALSE()))) -> 105 | AI15: 5 | AK15: =IF(AI15>"0",VLOOKUP(AI15,MOTIF2,2,TRUE()),AI15) -> 5 | AL15: =IF(AM15="",IF($A15=1,IF(ISNUMBER(AI15),AI15,""),""),"") | AM15: =IF(T15=FALSE(),IF(ISNUMBER(AI15),AI15,""),"") | AN15: =IF(AI15=AN$2,1,"") | AO15: =IF(AI15=AO$2,1,"") | AP15: =IF(AI15=AP$2,1,"") | AQ15: =IF(AI15=AQ$2,1,"") | AR15: =IF(AI15=AR$2,1,"") | AS15: =IF(($A15=1)*(SUMIF(s,$C15,AK$4:AK$48)>$S$2),(SUMIF(s,$C15,AK$4:AK$48)-$S$2),0) -> 0 | AT15: =IF(ISNUMBER(AI15),IF(S15=7,1,""),"") | AU15: =IF(AN14=1,AU14-AN14,AU14) -> 24 | AV15: =+AV14+AK15-(VLOOKUP($A15,base!$A$13:$B$19,2,FALSE())*(VLOOKUP($B15,ffff,2,FALSE()))) -> 246.5 | BI15: 5 | BK15: =IF(BI15>"0",VLOOKUP(BI15,MOTIF2,2,TRUE()),BI15) -> 5 | BL15: =IF(BM15="",IF($A15=1,IF(ISNUMBER(BI15),BI15,""),""),"") | BM15: =IF(AT15=FALSE(),IF(ISNUMBER(BI15),BI15,""),"") | BN15: =IF(BI15=BN$2,1,"") | BO15: =IF(BI15=BO$2,1,"") | BP15: =IF(BI15=BP$2,1,"") | BQ15: =IF(BI15=BQ$2,1,"") | BR15: =IF(BI15=BR$2,1,"") | BS15: =IF(($A15=1)*(SUMIF(s,$C15,BK$4:BK$48)>$S$2),(SUMIF(s,$C15,BK$4:BK$48)-$S$2),0) -> 0 | BT15: =IF(ISNUMBER(BI15),IF(AS15=7,1,""),"") | BU15: =IF(BN14=1,BU14-BN14,BU14) -> 24 | BV15: =+BV14+BK15-(VLOOKUP($A15,base!$A$13:$B$19,2,FALSE())*(VLOOKUP($B15,ffff,2,FALSE()))) -> 216.5
A16: =WEEKDAY(E16) -> 6 | B16: =ISERROR(VLOOKUP(E16,ferie,2,FALSE())) -> 1 | C16: =WEEKNUM(E16,2) -> 46 | D16: =MONTH(E16) -> 11 | E16: 44148 | F16: FAB | G16: past | I16: 6 | K16: =IF(I16>"0",VLOOKUP(I16,MOTIF2,2,TRUE()),I16) -> 6 | L16: =IF(M16="",IF($A16=1,IF(ISNUMBER(I16),I16,""),""),"") | M16: =IF(B16=FALSE(),IF(ISNUMBER(I16),I16,""),"") | N16: =IF(I16=N$2,1,"") | O16: =IF(I16=O$2,1,"") | P16: =IF(I16=P$2,1,"") | Q16: =IF(I16=Q$2,1,"") | R16: =IF(I16=R$2,1,"") | S16: =IF(($A16=1)*(SUMIF(s,$C16,hb)>$S$2),(SUMIF(s,$C16,hb)-$S$2),0) -> 0 | T16: =IF(ISNUMBER(I16),IF(A16=7,1,""),"") | U16: =IF(N15=1,U15-N15,U15) -> 24 | V16: =+V15+K16-(VLOOKUP($A16,base!$A$13:$B$19,2,FALSE())*(VLOOKUP($B16,ffff,2,FALSE()))) -> 103.5 | AK16: =IF(AI16>"0",VLOOKUP(AI16,MOTIF2,2,TRUE()),AI16) -> 0 | AL16: =IF(AM16="",IF($A16=1,IF(ISNUMBER(AI16),AI16,""),""),"") | AM16: =IF(T16=FALSE(),IF(ISNUMBER(AI16),AI16,""),"") | AN16: =IF(AI16=AN$2,1,"") | AO16: =IF(AI16=AO$2,1,"") | AP16: =IF(AI16=AP$2,1,"") | AQ16: =IF(AI16=AQ$2,1,"") | AR16: =IF(AI16=AR$2,1,"") | AS16: =IF(($A16=1)*(SUMIF(s,$C16,AK$4:AK$48)>$S$2),(SUMIF(s,$C16,AK$4:AK$48)-$S$2),0) -> 0 | AT16: =IF(ISNUMBER(AI16),IF(S16=7,1,""),"") | AU16: =IF(AN15=1,AU15-AN15,AU15) -> 24 | AV16: =+AV15+AK16-(VLOOKUP($A16,base!$A$13:$B$19,2,FALSE())*(VLOOKUP($B16,ffff,2,FALSE()))) -> 239 | BK16: =IF(BI16>"0",VLOOKUP(BI16,MOTIF2,2,TRUE()),BI16) -> 0 | BL16: =IF(BM16="",IF($A16=1,IF(ISNUMBER(BI16),BI16,""),""),"") | BM16: =IF(AT16=FALSE(),IF(ISNUMBER(BI16),BI16,""),"") | BN16: =IF(BI16=BN$2,1,"") | BO16: =IF(BI16=BO$2,1,"") | BP16: =IF(BI16=BP$2,1,"") | BQ16: =IF(BI16=BQ$2,1,"") | BR16: =IF(BI16=BR$2,1,"") | BS16: =IF(($A16=1)*(SUMIF(s,$C16,BK$4:BK$48)>$S$2),(SUMIF(s,$C16,BK$4:BK$48)-$S$2),0) -> 0 | BT16: =IF(ISNUMBER(BI16),IF(AS16=7,1,""),"") | BU16: =IF(BN15=1,BU15-BN15,BU15) -> 24 | BV16: =+BV15+BK16-(VLOOKUP($A16,base!$A$13:$B$19,2,FALSE())*(VLOOKUP($B16,ffff,2,FALSE()))) -> 209
A17: =WEEKDAY(E17) -> 7 | B17: =ISERROR(VLOOKUP(E17,ferie,2,FALSE())) -> 1 | C17: =WEEKNUM(E17,2) -> 46 | D17: =MONTH(E17) -> 11 | E17: 44149 | F17: FAB | K17: =IF(I17>"0",VLOOKUP(I17,MOTIF2,2,TRUE()),I17) -> 0 | L17: =IF(M17="",IF($A17=1,IF(ISNUMBER(I17),I17,""),""),"") | M17: =IF(B17=FALSE(),IF(ISNUMBER(I17),I17,""),"") | N17: =IF(I17=N$2,1,"") | O17: =IF(I17=O$2,1,"") | P17: =IF(I17=P$2,1,"") | Q17: =IF(I17=Q$2,1,"") | R17: =IF(I17=R$2,1,"") | S17: =IF(($A17=1)*(SUMIF(s,$C17,hb)>$S$2),(SUMIF(s,$C17,hb)-$S$2),0) -> 0 | T17: =IF(ISNUMBER(I17),IF(A17=7,1,""),"") | U17: =IF(N16=1,U16-N16,U16) -> 24 | V17: =+V16+K17-(VLOOKUP($A17,base!$A$13:$B$19,2,FALSE())*(VLOOKUP($B17,ffff,2,FALSE()))) -> 103.5 | AK17: =IF(AI17>"0",VLOOKUP(AI17,MOTIF2,2,TRUE()),AI17) -> 0 | AL17: =IF(AM17="",IF($A17=1,IF(ISNUMBER(AI17),AI17,""),""),"") | AM17: =IF(T17=FALSE(),IF(ISNUMBER(AI17),AI17,""),"") | AN17: =IF(AI17=AN$2,1,"") | AO17: =IF(AI17=AO$2,1,"") | AP17: =IF(AI17=AP$2,1,"") | AQ17: =IF(AI17=AQ$2,1,"") | AR17: =IF(AI17=AR$2,1,"") | AS17: =IF(($A17=1)*(SUMIF(s,$C17,AK$4:AK$48)>$S$2),(SUMIF(s,$C17,AK$4:AK$48)-$S$2),0) -> 0 | AT17: =IF(ISNUMBER(AI17),IF(S17=7,1,""),"") | AU17: =IF(AN16=1,AU16-AN16,AU16) -> 24 | AV17: =+AV16+AK17-(VLOOKUP($A17,base!$A$13:$B$19,2,FALSE())*(VLOOKUP($B17,ffff,2,FALSE()))) -> 239 | BK17: =IF(BI17>"0",VLOOKUP(BI17,MOTIF2,2,TRUE()),BI17) -> 0 | BL17: =IF(BM17="",IF($A17=1,IF(ISNUMBER(BI17),BI17,""),""),"") | BM17: =IF(AT17=FALSE(),IF(ISNUMBER(BI17),BI17,""),"") | BN17: =IF(BI17=BN$2,1,"") | BO17: =IF(BI17=BO$2,1,"") | BP17: =IF(BI17=BP$2,1,"") | BQ17: =IF(BI17=BQ$2,1,"") | BR17: =IF(BI17=BR$2,1,"") | BS17: =IF(($A17=1)*(SUMIF(s,$C17,BK$4:BK$48)>$S$2),(SUMIF(s,$C17,BK$4:BK$48)-$S$2),0) -> 0 | BT17: =IF(ISNUMBER(BI17),IF(AS17=7,1,""),"") | BU17: =IF(BN16=1,BU16-BN16,BU16) -> 24 | BV17: =+BV16+BK17-(VLOOKUP($A17,base!$A$13:$B$19,2,FALSE())*(VLOOKUP($B17,ffff,2,FALSE()))) -> 209
A18: =WEEKDAY(E18) -> 1 | B18: =ISERROR(VLOOKUP(E18,ferie,2,FALSE())) -> 1 | C18: =WEEKNUM(E18,2) -> 46 | D18: =MONTH(E18) -> 11 | E18: 44150 | F18: FAB | K18: =IF(I18>"0",VLOOKUP(I18,MOTIF2,2,TRUE()),I18) -> 0 | L18: =IF(M18="",IF($A18=1,IF(ISNUMBER(I18),I18,""),""),"") | M18: =IF(B18=FALSE(),IF(ISNUMBER(I18),I18,""),"") | N18: =IF(I18=N$2,1,"") | O18: =IF(I18=O$2,1,"") | P18: =IF(I18=P$2,1,"") | Q18: =IF(I18=Q$2,1,"") | R18: =IF(I18=R$2,1,"") | S18: =IF(($A18=1)*(SUMIF(s,$C18,hb)>$S$2),(SUMIF(s,$C18,hb)-$S$2),0) -> 0 | T18: =IF(ISNUMBER(I18),IF(A18=7,1,""),"") | U18: =IF(N17=1,U17-N17,U17) -> 24 | V18: =+V17+K18-(VLOOKUP($A18,base!$A$13:$B$19,2,FALSE())*(VLOOKUP($B18,ffff,2,FALSE()))) -> 103.5 | AK18: =IF(AI18>"0",VLOOKUP(AI18,MOTIF2,2,TRUE()),AI18) -> 0 | AL18: =IF(AM18="",IF($A18=1,IF(ISNUMBER(AI18),AI18,""),""),"") | AM18: =IF(T18=FALSE(),IF(ISNUMBER(AI18),AI18,""),"") | AN18: =IF(AI18=AN$2,1,"") | AO18: =IF(AI18=AO$2,1,"") | AP18: =IF(AI18=AP$2,1,"") | AQ18: =IF(AI18=AQ$2,1,"") | AR18: =IF(AI18=AR$2,1,"") | AS18: =IF(($A18=1)*(SUMIF(s,$C18,AK$4:AK$48)>$S$2),(SUMIF(s,$C18,AK$4:AK$48)-$S$2),0) -> 30.5 | AT18: =IF(ISNUMBER(AI18),IF(S18=7,1,""),"") | AU18: =IF(AN17=1,AU17-AN17,AU17) -> 24 | AV18: =+AV17+AK18-(VLOOKUP($A18,base!$A$13:$B$19,2,FALSE())*(VLOOKUP($B18,ffff,2,FALSE()))) -> 239 | BK18: =IF(BI18>"0",VLOOKUP(BI18,MOTIF2,2,TRUE()),BI18) -> 0 | BL18: =IF(BM18="",IF($A18=1,IF(ISNUMBER(BI18),BI18,""),""),"") | BM18: =IF(AT18=FALSE(),IF(ISNUMBER(BI18),BI18,""),"") | BN18: =IF(BI18=BN$2,1,"") | BO18: =IF(BI18=BO$2,1,"") | BP18: =IF(BI18=BP$2,1,"") | BQ18: =IF(BI18=BQ$2,1,"") | BR18: =IF(BI18=BR$2,1,"") | BS18: =IF(($A18=1)*(SUMIF(s,$C18,BK$4:BK$48)>$S$2),(SUMIF(s,$C18,BK$4:BK$48)-$S$2),0) -> 30.5 | BT18: =IF(ISNUMBER(BI18),IF(AS18=7,1,""),"") | BU18: =IF(BN17=1,BU17-BN17,BU17) -> 24 | BV18: =+BV17+BK18-(VLOOKUP($A18,base!$A$13:$B$19,2,FALSE())*(VLOOKUP($B18,ffff,2,FALSE()))) -> 209
A19: =WEEKDAY(E19) -> 2 | B19: =ISERROR(VLOOKUP(E19,ferie,2,FALSE())) -> 1 | C19: =WEEKNUM(E19,2) -> 47 | D19: =MONTH(E19) -> 11 | E19: 44151 | F19: FAB | G19: frpp | I19: 20 | K19: =IF(I19>"0",VLOOKUP(I19,MOTIF2,2,TRUE()),I19) -> 20 | L19: =IF(M19="",IF($A19=1,IF(ISNUMBER(I19),I19,""),""),"") | M19: =IF(B19=FALSE(),IF(ISNUMBER(I19),I19,""),"") | N19: =IF(I19=N$2,1,"") | O19: =IF(I19=O$2,1,"") | P19: =IF(I19=P$2,1,"") | Q19: =IF(I19=Q$2,1,"") | R19: =IF(I19=R$2,1,"") | S19: =IF(($A19=1)*(SUMIF(s,$C19,hb)>$S$2),(SUMIF(s,$C19,hb)-$S$2),0) -> 0 | T19: =IF(ISNUMBER(I19),IF(A19=7,1,""),"") | U19: =IF(N18=1,U18-N18,U18) -> 24 | V19: =+V18+K19-(VLOOKUP($A19,base!$A$13:$B$19,2,FALSE())*(VLOOKUP($B19,ffff,2,FALSE()))) -> 116 | AI19: 20 | AK19: =IF(AI19>"0",VLOOKUP(AI19,MOTIF2,2,TRUE()),AI19) -> 20 | AL19: =IF(AM19="",IF($A19=1,IF(ISNUMBER(AI19),AI19,""),""),"") | AM19: =IF(T19=FALSE(),IF(ISNUMBER(AI19),AI19,""),"") | AN19: =IF(AI19=AN$2,1,"") | AO19: =IF(AI19=AO$2,1,"") | AP19: =IF(AI19=AP$2,1,"") | AQ19: =IF(AI19=AQ$2,1,"") | AR19: =IF(AI19=AR$2,1,"") | AS19: =IF(($A19=1)*(SUMIF(s,$C19,AK$4:AK$48)>$S$2),(SUMIF(s,$C19,AK$4:AK$48)-$S$2),0) -> 0 | AT19: =IF(ISNUMBER(AI19),IF(S19=7,1,""),"") | AU19: =IF(AN18=1,AU18-AN18,AU18) -> 24 | AV19: =+AV18+AK19-(VLOOKUP($A19,base!$A$13:$B$19,2,FALSE())*(VLOOKUP($B19,ffff,2,FALSE()))) -> 251.5 | BI19: 20 | BK19: =IF(BI19>"0",VLOOKUP(BI19,MOTIF2,2,TRUE()),BI19) -> 20 | BL19: =IF(BM19="",IF($A19=1,IF(ISNUMBER(BI19),BI19,""),""),"") | BM19: =IF(AT19=FALSE(),IF(ISNUMBER(BI19),BI19,""),"") | BN19: =IF(BI19=BN$2,1,"") | BO19: =IF(BI19=BO$2,1,"") | BP19: =IF(BI19=BP$2,1,"") | BQ19: =IF(BI19=BQ$2,1,"") | BR19: =IF(BI19=BR$2,1,"") | BS19: =IF(($A19=1)*(SUMIF(s,$C19,BK$4:BK$48)>$S$2),(SUMIF(s,$C19,BK$4:BK$48)-$S$2),0) -> 0 | BT19: =IF(ISNUMBER(BI19),IF(AS19=7,1,""),"") | BU19: =IF(BN18=1,BU18-BN18,BU18) -> 24 | BV19: =+BV18+BK19-(VLOOKUP($A19,base!$A$13:$B$19,2,FALSE())*(VLOOKUP($B19,ffff,2,FALSE()))) -> 221.5
A20: =WEEKDAY(E20) -> 3 | B20: =ISERROR(VLOOKUP(E20,ferie,2,FALSE())) -> 1 | C20: =WEEKNUM(E20,2) -> 47 | D20: =MONTH(E20) -> 11 | E20: 44152 | F20: FAB | G20: frpp | I20: 20 | K20: =IF(I20>"0",VLOOKUP(I20,MOTIF2,2,TRUE()),I20) -> 20 | L20: =IF(M20="",IF($A20=1,IF(ISNUMBER(I20),I20,""),""),"") | M20: =IF(B20=FALSE(),IF(ISNUMBER(I20),I20,""),"") | N20: =IF(I20=N$2,1,"") | O20: =IF(I20=O$2,1,"") | P20: =IF(I20=P$2,1,"") | Q20: =IF(I20=Q$2,1,"") | R20: =IF(I20=R$2,1,"") | S20: =IF(($A20=1)*(SUMIF(s,$C20,hb)>$S$2),(SUMIF(s,$C20,hb)-$S$2),0) -> 0 | T20: =IF(ISNUMBER(I20),IF(A20=7,1,""),"") | U20: =IF(N19=1,U19-N19,U19) -> 24 | V20: =+V19+K20-(VLOOKUP($A20,base!$A$13:$B$19,2,FALSE())*(VLOOKUP($B20,ffff,2,FALSE()))) -> 128.5 | AI20: 20 | AK20: =IF(AI20>"0",VLOOKUP(AI20,MOTIF2,2,TRUE()),AI20) -> 20 | AL20: =IF(AM20="",IF($A20=1,IF(ISNUMBER(AI20),AI20,""),""),"") | AM20: =IF(T20=FALSE(),IF(ISNUMBER(AI20),AI20,""),"") | AN20: =IF(AI20=AN$2,1,"") | AO20: =IF(AI20=AO$2,1,"") | AP20: =IF(AI20=AP$2,1,"") | AQ20: =IF(AI20=AQ$2,1,"") | AR20: =IF(AI20=AR$2,1,"") | AS20: =IF(($A20=1)*(SUMIF(s,$C20,AK$4:AK$48)>$S$2),(SUMIF(s,$C20,AK$4:AK$48)-$S$2),0) -> 0 | AT20: =IF(ISNUMBER(AI20),IF(S20=7,1,""),"") | AU20: =IF(AN19=1,AU19-AN19,AU19) -> 24 | AV20: =+AV19+AK20-(VLOOKUP($A20,base!$A$13:$B$19,2,FALSE())*(VLOOKUP($B20,ffff,2,FALSE()))) -> 264 | BI20: 20 | BK20: =IF(BI20>"0",VLOOKUP(BI20,MOTIF2,2,TRUE()),BI20) -> 20 | BL20: =IF(BM20="",IF($A20=1,IF(ISNUMBER(BI20),BI20,""),""),"") | BM20: =IF(AT20=FALSE(),IF(ISNUMBER(BI20),BI20,""),"") | BN20: =IF(BI20=BN$2,1,"") | BO20: =IF(BI20=BO$2,1,"") | BP20: =IF(BI20=BP$2,1,"") | BQ20: =IF(BI20=BQ$2,1,"") | BR20: =IF(BI20=BR$2,1,"") | BS20: =IF(($A20=1)*(SUMIF(s,$C20,BK$4:BK$48)>$S$2),(SUMIF(s,$C20,BK$4:BK$48)-$S$2),0) -> 0 | BT20: =IF(ISNUMBER(BI20),IF(AS20=7,1,""),"") | BU20: =IF(BN19=1,BU19-BN19,BU19) -> 24 | BV20: =+BV19+BK20-(VLOOKUP($A20,base!$A$13:$B$19,2,FALSE())*(VLOOKUP($B20,ffff,2,FALSE()))) -> 234
A21: =WEEKDAY(E21) -> 4 | B21: =ISERROR(VLOOKUP(E21,ferie,2,FALSE())) -> 1 | C21: =WEEKNUM(E21,2) -> 47 | D21: =MONTH(E21) -> 11 | E21: 44153 | F21: FAB | G21: frpp | I21: 20 | K21: =IF(I21>"0",VLOOKUP(I21,MOTIF2,2,TRUE()),I21) -> 20 | L21: =IF(M21="",IF($A21=1,IF(ISNUMBER(I21),I21,""),""),"") | M21: =IF(B21=FALSE(),IF(ISNUMBER(I21),I21,""),"") | N21: =IF(I21=N$2,1,"") | O21: =IF(I21=O$2,1,"") | P21: =IF(I21=P$2,1,"") | Q21: =IF(I21=Q$2,1,"") | R21: =IF(I21=R$2,1,"") | S21: =IF(($A21=1)*(SUMIF(s,$C21,hb)>$S$2),(SUMIF(s,$C21,hb)-$S$2),0) -> 0 | T21: =IF(ISNUMBER(I21),IF(A21=7,1,""),"") | U21: =IF(N20=1,U20-N20,U20) -> 24 | V21: =+V20+K21-(VLOOKUP($A21,base!$A$13:$B$19,2,FALSE())*(VLOOKUP($B21,ffff,2,FALSE()))) -> 141 | AI21: 20 | AK21: =IF(AI21>"0",VLOOKUP(AI21,MOTIF2,2,TRUE()),AI21) -> 20 | AL21: =IF(AM21="",IF($A21=1,IF(ISNUMBER(AI21),AI21,""),""),"") | AM21: =IF(T21=FALSE(),IF(ISNUMBER(AI21),AI21,""),"") | AN21: =IF(AI21=AN$2,1,"") | AO21: =IF(AI21=AO$2,1,"") | AP21: =IF(AI21=AP$2,1,"") | AQ21: =IF(AI21=AQ$2,1,"") | AR21: =IF(AI21=AR$2,1,"") | AS21: =IF(($A21=1)*(SUMIF(s,$C21,AK$4:AK$48)>$S$2),(SUMIF(s,$C21,AK$4:AK$48)-$S$2),0) -> 0 | AT21: =IF(ISNUMBER(AI21),IF(S21=7,1,""),"") | AU21: =IF(AN20=1,AU20-AN20,AU20) -> 24 | AV21: =+AV20+AK21-(VLOOKUP($A21,base!$A$13:$B$19,2,FALSE())*(VLOOKUP($B21,ffff,2,FALSE()))) -> 276.5 | BI21: 20 | BK21: =IF(BI21>"0",VLOOKUP(BI21,MOTIF2,2,TRUE()),BI21) -> 20 | BL21: =IF(BM21="",IF($A21=1,IF(ISNUMBER(BI21),BI21,""),""),"") | BM21: =IF(AT21=FALSE(),IF(ISNUMBER(BI21),BI21,""),"") | BN21: =IF(BI21=BN$2,1,"") | BO21: =IF(BI21=BO$2,1,"") | BP21: =IF(BI21=BP$2,1,"") | BQ21: =IF(BI21=BQ$2,1,"") | BR21: =IF(BI21=BR$2,1,"") | BS21: =IF(($A21=1)*(SUMIF(s,$C21,BK$4:BK$48)>$S$2),(SUMIF(s,$C21,BK$4:BK$48)-$S$2),0) -> 0 | BT21: =IF(ISNUMBER(BI21),IF(AS21=7,1,""),"") | BU21: =IF(BN20=1,BU20-BN20,BU20) -> 24 | BV21: =+BV20+BK21-(VLOOKUP($A21,base!$A$13:$B$19,2,FALSE())*(VLOOKUP($B21,ffff,2,FALSE()))) -> 246.5
A22: =WEEKDAY(E22) -> 5 | B22: =ISERROR(VLOOKUP(E22,ferie,2,FALSE())) -> 1 | C22: =WEEKNUM(E22,2) -> 47 | D22: =MONTH(E22) -> 11 | E22: 44154 | F22: FAB | G22: frpp | K22: =IF(I22>"0",VLOOKUP(I22,MOTIF2,2,TRUE()),I22) -> 0 | L22: =IF(M22="",IF($A22=1,IF(ISNUMBER(I22),I22,""),""),"") | M22: =IF(B22=FALSE(),IF(ISNUMBER(I22),I22,""),"") | N22: =IF(I22=N$2,1,"") | O22: =IF(I22=O$2,1,"") | P22: =IF(I22=P$2,1,"") | Q22: =IF(I22=Q$2,1,"") | R22: =IF(I22=R$2,1,"") | S22: =IF(($A22=1)*(SUMIF(s,$C22,hb)>$S$2),(SUMIF(s,$C22,hb)-$S$2),0) -> 0 | T22: =IF(ISNUMBER(I22),IF(A22=7,1,""),"") | U22: =IF(N21=1,U21-N21,U21) -> 24 | V22: =+V21+K22-(VLOOKUP($A22,base!$A$13:$B$19,2,FALSE())*(VLOOKUP($B22,ffff,2,FALSE()))) -> 133.5 | AK22: =IF(AI22>"0",VLOOKUP(AI22,MOTIF2,2,TRUE()),AI22) -> 0 | AL22: =IF(AM22="",IF($A22=1,IF(ISNUMBER(AI22),AI22,""),""),"") | AM22: =IF(T22=FALSE(),IF(ISNUMBER(AI22),AI22,""),"") | AN22: =IF(AI22=AN$2,1,"") | AO22: =IF(AI22=AO$2,1,"") | AP22: =IF(AI22=AP$2,1,"") | AQ22: =IF(AI22=AQ$2,1,"") | AR22: =IF(AI22=AR$2,1,"") | AS22: =IF(($A22=1)*(SUMIF(s,$C22,AK$4:AK$48)>$S$2),(SUMIF(s,$C22,AK$4:AK$48)-$S$2),0) -> 0 | AT22: =IF(ISNUMBER(AI22),IF(S22=7,1,""),"") | AU22: =IF(AN21=1,AU21-AN21,AU21) -> 24 | AV22: =+AV21+AK22-(VLOOKUP($A22,base!$A$13:$B$19,2,FALSE())*(VLOOKUP($B22,ffff,2,FALSE()))) -> 269 | BK22: =IF(BI22>"0",VLOOKUP(BI22,MOTIF2,2,TRUE()),BI22) -> 0 | BL22: =IF(BM22="",IF($A22=1,IF(ISNUMBER(BI22),BI22,""),""),"") | BM22: =IF(AT22=FALSE(),IF(ISNUMBER(BI22),BI22,""),"") | BN22: =IF(BI22=BN$2,1,"") | BO22: =IF(BI22=BO$2,1,"") | BP22: =IF(BI22=BP$2,1,"") | BQ22: =IF(BI22=BQ$2,1,"") | BR22: =IF(BI22=BR$2,1,"") | BS22: =IF(($A22=1)*(SUMIF(s,$C22,BK$4:BK$48)>$S$2),(SUMIF(s,$C22,BK$4:BK$48)-$S$2),0) -> 0 | BT22: =IF(ISNUMBER(BI22),IF(AS22=7,1,""),"") | BU22: =IF(BN21=1,BU21-BN21,BU21) -> 24 | BV22: =+BV21+BK22-(VLOOKUP($A22,base!$A$13:$B$19,2,FALSE())*(VLOOKUP($B22,ffff,2,FALSE()))) -> 239
A23: =WEEKDAY(E23) -> 6 | B23: =ISERROR(VLOOKUP(E23,ferie,2,FALSE())) -> 1 | C23: =WEEKNUM(E23,2) -> 47 | D23: =MONTH(E23) -> 11 | E23: 44155 | F23: FAB | I23: CP | K23: =IF(I23>"0",VLOOKUP(I23,MOTIF2,2,TRUE()),I23) -> 7.5 | L23: =IF(M23="",IF($A23=1,IF(ISNUMBER(I23),I23,""),""),"") | M23: =IF(B23=FALSE(),IF(ISNUMBER(I23),I23,""),"") | N23: =IF(I23=N$2,1,"") -> 1 | O23: =IF(I23=O$2,1,"") | P23: =IF(I23=P$2,1,"") | Q23: =IF(I23=Q$2,1,"") | R23: =IF(I23=R$2,1,"") | S23: =IF(($A23=1)*(SUMIF(s,$C23,hb)>$S$2),(SUMIF(s,$C23,hb)-$S$2),0) -> 0 | T23: =IF(ISNUMBER(I23),IF(A23=7,1,""),"") | U23: =IF(N22=1,U22-N22,U22) -> 24 | V23: =+V22+K23-(VLOOKUP($A23,base!$A$13:$B$19,2,FALSE())*(VLOOKUP($B23,ffff,2,FALSE()))) -> 133.5 | AI23: CP | AK23: =IF(AI23>"0",VLOOKUP(AI23,MOTIF2,2,TRUE()),AI23) -> 7.5 | AL23: =IF(AM23="",IF($A23=1,IF(ISNUMBER(AI23),AI23,""),""),"") | AM23: =IF(T23=FALSE(),IF(ISNUMBER(AI23),AI23,""),"") | AN23: =IF(AI23=AN$2,1,"") -> 1 | AO23: =IF(AI23=AO$2,1,"") | AP23: =IF(AI23=AP$2,1,"") | AQ23: =IF(AI23=AQ$2,1,"") | AR23: =IF(AI23=AR$2,1,"") | AS23: =IF(($A23=1)*(SUMIF(s,$C23,AK$4:AK$48)>$S$2),(SUMIF(s,$C23,AK$4:AK$48)-$S$2),0) -> 0 | AT23: =IF(ISNUMBER(AI23),IF(S23=7,1,""),"") | AU23: =IF(AN22=1,AU22-AN22,AU22) -> 24 | AV23: =+AV22+AK23-(VLOOKUP($A23,base!$A$13:$B$19,2,FALSE())*(VLOOKUP($B23,ffff,2,FALSE()))) -> 269 | BI23: CP | BK23: =IF(BI23>"0",VLOOKUP(BI23,MOTIF2,2,TRUE()),BI23) -> 7.5 | BL23: =IF(BM23="",IF($A23=1,IF(ISNUMBER(BI23),BI23,""),""),"") | BM23: =IF(AT23=FALSE(),IF(ISNUMBER(BI23),BI23,""),"") | BN23: =IF(BI23=BN$2,1,"") -> 1 | BO23: =IF(BI23=BO$2,1,"") | BP23: =IF(BI23=BP$2,1,"") | BQ23: =IF(BI23=BQ$2,1,"") | BR23: =IF(BI23=BR$2,1,"") | BS23: =IF(($A23=1)*(SUMIF(s,$C23,BK$4:BK$48)>$S$2),(SUMIF(s,$C23,BK$4:BK$48)-$S$2),0) -> 0 | BT23: =IF(ISNUMBER(BI23),IF(AS23=7,1,""),"") | BU23: =IF(BN22=1,BU22-BN22,BU22) -> 24 | BV23: =+BV22+BK23-(VLOOKUP($A23,base!$A$13:$B$19,2,FALSE())*(VLOOKUP($B23,ffff,2,FALSE()))) -> 239
A24: =WEEKDAY(E24) -> 7 | B24: =ISERROR(VLOOKUP(E24,ferie,2,FALSE())) -> 1 | C24: =WEEKNUM(E24,2) -> 47 | D24: =MONTH(E24) -> 11 | E24: 44156 | F24: FAB | G24: past | K24: =IF(I24>"0",VLOOKUP(I24,MOTIF2,2,TRUE()),I24) -> 0 | L24: =IF(M24="",IF($A24=1,IF(ISNUMBER(I24),I24,""),""),"") | M24: =IF(B24=FALSE(),IF(ISNUMBER(I24),I24,""),"") | N24: =IF(I24=N$2,1,"") | O24: =IF(I24=O$2,1,"") | P24: =IF(I24=P$2,1,"") | Q24: =IF(I24=Q$2,1,"") | R24: =IF(I24=R$2,1,"") | S24: =IF(($A24=1)*(SUMIF(s,$C24,hb)>$S$2),(SUMIF(s,$C24,hb)-$S$2),0) -> 0 | T24: =IF(ISNUMBER(I24),IF(A24=7,1,""),"") | U24: =IF(N23=1,U23-N23,U23) -> 23 | V24: =+V23+K24-(VLOOKUP($A24,base!$A$13:$B$19,2,FALSE())*(VLOOKUP($B24,ffff,2,FALSE()))) -> 133.5 | AK24: =IF(AI24>"0",VLOOKUP(AI24,MOTIF2,2,TRUE()),AI24) -> 0 | AL24: =IF(AM24="",IF($A24=1,IF(ISNUMBER(AI24),AI24,""),""),"") | AM24: =IF(T24=FALSE(),IF(ISNUMBER(AI24),AI24,""),"") | AN24: =IF(AI24=AN$2,1,"") | AO24: =IF(AI24=AO$2,1,"") | AP24: =IF(AI24=AP$2,1,"") | AQ24: =IF(AI24=AQ$2,1,"") | AR24: =IF(AI24=AR$2,1,"") | AS24: =IF(($A24=1)*(SUMIF(s,$C24,AK$4:AK$48)>$S$2),(SUMIF(s,$C24,AK$4:AK$48)-$S$2),0) -> 0 | AT24: =IF(ISNUMBER(AI24),IF(S24=7,1,""),"") | AU24: =IF(AN23=1,AU23-AN23,AU23) -> 23 | AV24: =+AV23+AK24-(VLOOKUP($A24,base!$A$13:$B$19,2,FALSE())*(VLOOKUP($B24,ffff,2,FALSE()))) -> 269 | BK24: =IF(BI24>"0",VLOOKUP(BI24,MOTIF2,2,TRUE()),BI24) -> 0 | BL24: =IF(BM24="",IF($A24=1,IF(ISNUMBER(BI24),BI24,""),""),"") | BM24: =IF(AT24=FALSE(),IF(ISNUMBER(BI24),BI24,""),"") | BN24: =IF(BI24=BN$2,1,"") | BO24: =IF(BI24=BO$2,1,"") | BP24: =IF(BI24=BP$2,1,"") | BQ24: =IF(BI24=BQ$2,1,"") | BR24: =IF(BI24=BR$2,1,"") | BS24: =IF(($A24=1)*(SUMIF(s,$C24,BK$4:BK$48)>$S$2),(SUMIF(s,$C24,BK$4:BK$48)-$S$2),0) -> 0 | BT24: =IF(ISNUMBER(BI24),IF(AS24=7,1,""),"") | BU24: =IF(BN23=1,BU23-BN23,BU23) -> 23 | BV24: =+BV23+BK24-(VLOOKUP($A24,base!$A$13:$B$19,2,FALSE())*(VLOOKUP($B24,ffff,2,FALSE()))) -> 239
A25: =WEEKDAY(E25) -> 1 | B25: =ISERROR(VLOOKUP(E25,ferie,2,FALSE())) -> 1 | C25: =WEEKNUM(E25,2) -> 47 | D25: =MONTH(E25) -> 11 | E25: 44157 | F25: FAB | G25: past | K25: =IF(I25>"0",VLOOKUP(I25,MOTIF2,2,TRUE()),I25) -> 0 | L25: =IF(M25="",IF($A25=1,IF(ISNUMBER(I25),I25,""),""),"") | M25: =IF(B25=FALSE(),IF(ISNUMBER(I25),I25,""),"") | N25: =IF(I25=N$2,1,"") | O25: =IF(I25=O$2,1,"") | P25: =IF(I25=P$2,1,"") | Q25: =IF(I25=Q$2,1,"") | R25: =IF(I25=R$2,1,"") | S25: =IF(($A25=1)*(SUMIF(s,$C25,hb)>$S$2),(SUMIF(s,$C25,hb)-$S$2),0) -> 23.5 | T25: =IF(ISNUMBER(I25),IF(A25=7,1,""),"") | U25: =IF(N24=1,U24-N24,U24) -> 23 | V25: =+V24+K25-(VLOOKUP($A25,base!$A$13:$B$19,2,FALSE())*(VLOOKUP($B25,ffff,2,FALSE()))) -> 133.5 | AK25: =IF(AI25>"0",VLOOKUP(AI25,MOTIF2,2,TRUE()),AI25) -> 0 | AL25: =IF(AM25="",IF($A25=1,IF(ISNUMBER(AI25),AI25,""),""),"") | AM25: =IF(T25=FALSE(),IF(ISNUMBER(AI25),AI25,""),"") | AN25: =IF(AI25=AN$2,1,"") | AO25: =IF(AI25=AO$2,1,"") | AP25: =IF(AI25=AP$2,1,"") | AQ25: =IF(AI25=AQ$2,1,"") | AR25: =IF(AI25=AR$2,1,"") | AS25: =IF(($A25=1)*(SUMIF(s,$C25,AK$4:AK$48)>$S$2),(SUMIF(s,$C25,AK$4:AK$48)-$S$2),0) -> 23.5 | AT25: =IF(ISNUMBER(AI25),IF(S25=7,1,""),"") | AU25: =IF(AN24=1,AU24-AN24,AU24) -> 23 | AV25: =+AV24+AK25-(VLOOKUP($A25,base!$A$13:$B$19,2,FALSE())*(VLOOKUP($B25,ffff,2,FALSE()))) -> 269 | BK25: =IF(BI25>"0",VLOOKUP(BI25,MOTIF2,2,TRUE()),BI25) -> 0 | BL25: =IF(BM25="",IF($A25=1,IF(ISNUMBER(BI25),BI25,""),""),"") | BM25: =IF(AT25=FALSE(),IF(ISNUMBER(BI25),BI25,""),"") | BN25: =IF(BI25=BN$2,1,"") | BO25: =IF(BI25=BO$2,1,"") | BP25: =IF(BI25=BP$2,1,"") | BQ25: =IF(BI25=BQ$2,1,"") | BR25: =IF(BI25=BR$2,1,"") | BS25: =IF(($A25=1)*(SUMIF(s,$C25,BK$4:BK$48)>$S$2),(SUMIF(s,$C25,BK$4:BK$48)-$S$2),0) -> 23.5 | BT25: =IF(ISNUMBER(BI25),IF(AS25=7,1,""),"") | BU25: =IF(BN24=1,BU24-BN24,BU24) -> 23 | BV25: =+BV24+BK25-(VLOOKUP($A25,base!$A$13:$B$19,2,FALSE())*(VLOOKUP($B25,ffff,2,FALSE()))) -> 239
A26: =WEEKDAY(E26) -> 2 | B26: =ISERROR(VLOOKUP(E26,ferie,2,FALSE())) -> 1 | C26: =WEEKNUM(E26,2) -> 48 | D26: =MONTH(E26) -> 11 | E26: 44158 | F26: FAB | K26: =IF(I26>"0",VLOOKUP(I26,MOTIF2,2,TRUE()),I26) -> 0 | L26: =IF(M26="",IF($A26=1,IF(ISNUMBER(I26),I26,""),""),"") | M26: =IF(B26=FALSE(),IF(ISNUMBER(I26),I26,""),"") | N26: =IF(I26=N$2,1,"") | O26: =IF(I26=O$2,1,"") | P26: =IF(I26=P$2,1,"") | Q26: =IF(I26=Q$2,1,"") | R26: =IF(I26=R$2,1,"") | S26: =IF(($A26=1)*(SUMIF(s,$C26,hb)>$S$2),(SUMIF(s,$C26,hb)-$S$2),0) -> 0 | T26: =IF(ISNUMBER(I26),IF(A26=7,1,""),"") | U26: =IF(N25=1,U25-N25,U25) -> 23 | V26: =+V25+K26-(VLOOKUP($A26,base!$A$13:$B$19,2,FALSE())*(VLOOKUP($B26,ffff,2,FALSE()))) -> 126 | AK26: =IF(AI26>"0",VLOOKUP(AI26,MOTIF2,2,TRUE()),AI26) -> 0 | AL26: =IF(AM26="",IF($A26=1,IF(ISNUMBER(AI26),AI26,""),""),"") | AM26: =IF(T26=FALSE(),IF(ISNUMBER(AI26),AI26,""),"") | AN26: =IF(AI26=AN$2,1,"") | AO26: =IF(AI26=AO$2,1,"") | AP26: =IF(AI26=AP$2,1,"") | AQ26: =IF(AI26=AQ$2,1,"") | AR26: =IF(AI26=AR$2,1,"") | AS26: =IF(($A26=1)*(SUMIF(s,$C26,AK$4:AK$48)>$S$2),(SUMIF(s,$C26,AK$4:AK$48)-$S$2),0) -> 0 | AT26: =IF(ISNUMBER(AI26),IF(S26=7,1,""),"") | AU26: =IF(AN25=1,AU25-AN25,AU25) -> 23 | AV26: =+AV25+AK26-(VLOOKUP($A26,base!$A$13:$B$19,2,FALSE())*(VLOOKUP($B26,ffff,2,FALSE()))) -> 261.5 | BK26: =IF(BI26>"0",VLOOKUP(BI26,MOTIF2,2,TRUE()),BI26) -> 0 | BL26: =IF(BM26="",IF($A26=1,IF(ISNUMBER(BI26),BI26,""),""),"") | BM26: =IF(AT26=FALSE(),IF(ISNUMBER(BI26),BI26,""),"") | BN26: =IF(BI26=BN$2,1,"") | BO26: =IF(BI26=BO$2,1,"") | BP26: =IF(BI26=BP$2,1,"") | BQ26: =IF(BI26=BQ$2,1,"") | BR26: =IF(BI26=BR$2,1,"") | BS26: =IF(($A26=1)*(SUMIF(s,$C26,BK$4:BK$48)>$S$2),(SUMIF(s,$C26,BK$4:BK$48)-$S$2),0) -> 0 | BT26: =IF(ISNUMBER(BI26),IF(AS26=7,1,""),"") | BU26: =IF(BN25=1,BU25-BN25,BU25) -> 23 | BV26: =+BV25+BK26-(VLOOKUP($A26,base!$A$13:$B$19,2,FALSE())*(VLOOKUP($B26,ffff,2,FALSE()))) -> 231.5
A27: =WEEKDAY(E27) -> 3 | B27: =ISERROR(VLOOKUP(E27,ferie,2,FALSE())) -> 1 | C27: =WEEKNUM(E27,2) -> 48 | D27: =MONTH(E27) -> 11 | E27: 44159 | F27: FAB | K27: =IF(I27>"0",VLOOKUP(I27,MOTIF2,2,TRUE()),I27) -> 0 | L27: =IF(M27="",IF($A27=1,IF(ISNUMBER(I27),I27,""),""),"") | M27: =IF(B27=FALSE(),IF(ISNUMBER(I27),I27,""),"") | N27: =IF(I27=N$2,1,"") | O27: =IF(I27=O$2,1,"") | P27: =IF(I27=P$2,1,"") | Q27: =IF(I27=Q$2,1,"") | R27: =IF(I27=R$2,1,"") | S27: =IF(($A27=1)*(SUMIF(s,$C27,hb)>$S$2),(SUMIF(s,$C27,hb)-$S$2),0) -> 0 | T27: =IF(ISNUMBER(I27),IF(A27=7,1,""),"") | U27: =IF(N26=1,U26-N26,U26) -> 23 | V27: =+V26+K27-(VLOOKUP($A27,base!$A$13:$B$19,2,FALSE())*(VLOOKUP($B27,ffff,2,FALSE()))) -> 118.5 | AK27: =IF(AI27>"0",VLOOKUP(AI27,MOTIF2,2,TRUE()),AI27) -> 0 | AL27: =IF(AM27="",IF($A27=1,IF(ISNUMBER(AI27),AI27,""),""),"") | AM27: =IF(T27=FALSE(),IF(ISNUMBER(AI27),AI27,""),"") | AN27: =IF(AI27=AN$2,1,"") | AO27: =IF(AI27=AO$2,1,"") | AP27: =IF(AI27=AP$2,1,"") | AQ27: =IF(AI27=AQ$2,1,"") | AR27: =IF(AI27=AR$2,1,"") | AS27: =IF(($A27=1)*(SUMIF(s,$C27,AK$4:AK$48)>$S$2),(SUMIF(s,$C27,AK$4:AK$48)-$S$2),0) -> 0 | AT27: =IF(ISNUMBER(AI27),IF(S27=7,1,""),"") | AU27: =IF(AN26=1,AU26-AN26,AU26) -> 23 | AV27: =+AV26+AK27-(VLOOKUP($A27,base!$A$13:$B$19,2,FALSE())*(VLOOKUP($B27,ffff,2,FALSE()))) -> 254 | BK27: =IF(BI27>"0",VLOOKUP(BI27,MOTIF2,2,TRUE()),BI27) -> 0 | BL27: =IF(BM27="",IF($A27=1,IF(ISNUMBER(BI27),BI27,""),""),"") | BM27: =IF(AT27=FALSE(),IF(ISNUMBER(BI27),BI27,""),"") | BN27: =IF(BI27=BN$2,1,"") | BO27: =IF(BI27=BO$2,1,"") | BP27: =IF(BI27=BP$2,1,"") | BQ27: =IF(BI27=BQ$2,1,"") | BR27: =IF(BI27=BR$2,1,"") | BS27: =IF(($A27=1)*(SUMIF(s,$C27,BK$4:BK$48)>$S$2),(SUMIF(s,$C27,BK$4:BK$48)-$S$2),0) -> 0 | BT27: =IF(ISNUMBER(BI27),IF(AS27=7,1,""),"") | BU27: =IF(BN26=1,BU26-BN26,BU26) -> 23 | BV27: =+BV26+BK27-(VLOOKUP($A27,base!$A$13:$B$19,2,FALSE())*(VLOOKUP($B27,ffff,2,FALSE()))) -> 224
A28: =WEEKDAY(E28) -> 4 | B28: =ISERROR(VLOOKUP(E28,ferie,2,FALSE())) -> 1 | C28: =WEEKNUM(E28,2) -> 48 | D28: =MONTH(E28) -> 11 | E28: 44160 | F28: FAB | K28: =IF(I28>"0",VLOOKUP(I28,MOTIF2,2,TRUE()),I28) -> 0 | L28: =IF(M28="",IF($A28=1,IF(ISNUMBER(I28),I28,""),""),"") | M28: =IF(B28=FALSE(),IF(ISNUMBER(I28),I28,""),"") | N28: =IF(I28=N$2,1,"") | O28: =IF(I28=O$2,1,"") | P28: =IF(I28=P$2,1,"") | Q28: =IF(I28=Q$2,1,"") | R28: =IF(I28=R$2,1,"") | S28: =IF(($A28=1)*(SUMIF(s,$C28,hb)>$S$2),(SUMIF(s,$C28,hb)-$S$2),0) -> 0 | T28: =IF(ISNUMBER(I28),IF(A28=7,1,""),"") | U28: =IF(N27=1,U27-N27,U27) -> 23 | V28: =+V27+K28-(VLOOKUP($A28,base!$A$13:$B$19,2,FALSE())*(VLOOKUP($B28,ffff,2,FALSE()))) -> 111 | AK28: =IF(AI28>"0",VLOOKUP(AI28,MOTIF2,2,TRUE()),AI28) -> 0 | AL28: =IF(AM28="",IF($A28=1,IF(ISNUMBER(AI28),AI28,""),""),"") | AM28: =IF(T28=FALSE(),IF(ISNUMBER(AI28),AI28,""),"") | AN28: =IF(AI28=AN$2,1,"") | AO28: =IF(AI28=AO$2,1,"") | AP28: =IF(AI28=AP$2,1,"") | AQ28: =IF(AI28=AQ$2,1,"") | AR28: =IF(AI28=AR$2,1,"") | AS28: =IF(($A28=1)*(SUMIF(s,$C28,AK$4:AK$48)>$S$2),(SUMIF(s,$C28,AK$4:AK$48)-$S$2),0) -> 0 | AT28: =IF(ISNUMBER(AI28),IF(S28=7,1,""),"") | AU28: =IF(AN27=1,AU27-AN27,AU27) -> 23 | AV28: =+AV27+AK28-(VLOOKUP($A28,base!$A$13:$B$19,2,FALSE())*(VLOOKUP($B28,ffff,2,FALSE()))) -> 246.5 | BK28: =IF(BI28>"0",VLOOKUP(BI28,MOTIF2,2,TRUE()),BI28) -> 0 | BL28: =IF(BM28="",IF($A28=1,IF(ISNUMBER(BI28),BI28,""),""),"") | BM28: =IF(AT28=FALSE(),IF(ISNUMBER(BI28),BI28,""),"") | BN28: =IF(BI28=BN$2,1,"") | BO28: =IF(BI28=BO$2,1,"") | BP28: =IF(BI28=BP$2,1,"") | BQ28: =IF(BI28=BQ$2,1,"") | BR28: =IF(BI28=BR$2,1,"") | BS28: =IF(($A28=1)*(SUMIF(s,$C28,BK$4:BK$48)>$S$2),(SUMIF(s,$C28,BK$4:BK$48)-$S$2),0) -> 0 | BT28: =IF(ISNUMBER(BI28),IF(AS28=7,1,""),"") | BU28: =IF(BN27=1,BU27-BN27,BU27) -> 23 | BV28: =+BV27+BK28-(VLOOKUP($A28,base!$A$13:$B$19,2,FALSE())*(VLOOKUP($B28,ffff,2,FALSE()))) -> 216.5
A29: =WEEKDAY(E29) -> 5 | B29: =ISERROR(VLOOKUP(E29,ferie,2,FALSE())) -> 1 | C29: =WEEKNUM(E29,2) -> 48 | D29: =MONTH(E29) -> 11 | E29: 44161 | F29: FAB | K29: =IF(I29>"0",VLOOKUP(I29,MOTIF2,2,TRUE()),I29) -> 0 | L29: =IF(M29="",IF($A29=1,IF(ISNUMBER(I29),I29,""),""),"") | M29: =IF(B29=FALSE(),IF(ISNUMBER(I29),I29,""),"") | N29: =IF(I29=N$2,1,"") | O29: =IF(I29=O$2,1,"") | P29: =IF(I29=P$2,1,"") | Q29: =IF(I29=Q$2,1,"") | R29: =IF(I29=R$2,1,"") | S29: =IF(($A29=1)*(SUMIF(s,$C29,hb)>$S$2),(SUMIF(s,$C29,hb)-$S$2),0) -> 0 | T29: =IF(ISNUMBER(I29),IF(A29=7,1,""),"") | U29: =IF(N28=1,U28-N28,U28) -> 23 | V29: =+V28+K29-(VLOOKUP($A29,base!$A$13:$B$19,2,FALSE())*(VLOOKUP($B29,ffff,2,FALSE()))) -> 103.5 | AK29: =IF(AI29>"0",VLOOKUP(AI29,MOTIF2,2,TRUE()),AI29) -> 0 | AL29: =IF(AM29="",IF($A29=1,IF(ISNUMBER(AI29),AI29,""),""),"") | AM29: =IF(T29=FALSE(),IF(ISNUMBER(AI29),AI29,""),"") | AN29: =IF(AI29=AN$2,1,"") | AO29: =IF(AI29=AO$2,1,"") | AP29: =IF(AI29=AP$2,1,"") | AQ29: =IF(AI29=AQ$2,1,"") | AR29: =IF(AI29=AR$2,1,"") | AS29: =IF(($A29=1)*(SUMIF(s,$C29,AK$4:AK$48)>$S$2),(SUMIF(s,$C29,AK$4:AK$48)-$S$2),0) -> 0 | AT29: =IF(ISNUMBER(AI29),IF(S29=7,1,""),"") | AU29: =IF(AN28=1,AU28-AN28,AU28) -> 23 | AV29: =+AV28+AK29-(VLOOKUP($A29,base!$A$13:$B$19,2,FALSE())*(VLOOKUP($B29,ffff,2,FALSE()))) -> 239 | BK29: =IF(BI29>"0",VLOOKUP(BI29,MOTIF2,2,TRUE()),BI29) -> 0 | BL29: =IF(BM29="",IF($A29=1,IF(ISNUMBER(BI29),BI29,""),""),"") | BM29: =IF(AT29=FALSE(),IF(ISNUMBER(BI29),BI29,""),"") | BN29: =IF(BI29=BN$2,1,"") | BO29: =IF(BI29=BO$2,1,"") | BP29: =IF(BI29=BP$2,1,"") | BQ29: =IF(BI29=BQ$2,1,"") | BR29: =IF(BI29=BR$2,1,"") | BS29: =IF(($A29=1)*(SUMIF(s,$C29,BK$4:BK$48)>$S$2),(SUMIF(s,$C29,BK$4:BK$48)-$S$2),0) -> 0 | BT29: =IF(ISNUMBER(BI29),IF(AS29=7,1,""),"") | BU29: =IF(BN28=1,BU28-BN28,BU28) -> 23 | BV29: =+BV28+BK29-(VLOOKUP($A29,base!$A$13:$B$19,2,FALSE())*(VLOOKUP($B29,ffff,2,FALSE()))) -> 209
A30: =WEEKDAY(E30) -> 6 | B30: =ISERROR(VLOOKUP(E30,ferie,2,FALSE())) -> 1 | C30: =WEEKNUM(E30,2) -> 48 | D30: =MONTH(E30) -> 11 | E30: 44162 | F30: FAB | K30: =IF(I30>"0",VLOOKUP(I30,MOTIF2,2,TRUE()),I30) -> 0 | L30: =IF(M30="",IF($A30=1,IF(ISNUMBER(I30),I30,""),""),"") | M30: =IF(B30=FALSE(),IF(ISNUMBER(I30),I30,""),"") | N30: =IF(I30=N$2,1,"") | O30: =IF(I30=O$2,1,"") | P30: =IF(I30=P$2,1,"") | Q30: =IF(I30=Q$2,1,"") | R30: =IF(I30=R$2,1,"") | S30: =IF(($A30=1)*(SUMIF(s,$C30,hb)>$S$2),(SUMIF(s,$C30,hb)-$S$2),0) -> 0 | T30: =IF(ISNUMBER(I30),IF(A30=7,1,""),"") | U30: =IF(N29=1,U29-N29,U29) -> 23 | V30: =+V29+K30-(VLOOKUP($A30,base!$A$13:$B$19,2,FALSE())*(VLOOKUP($B30,ffff,2,FALSE()))) -> 96 | AK30: =IF(AI30>"0",VLOOKUP(AI30,MOTIF2,2,TRUE()),AI30) -> 0 | AL30: =IF(AM30="",IF($A30=1,IF(ISNUMBER(AI30),AI30,""),""),"") | AM30: =IF(T30=FALSE(),IF(ISNUMBER(AI30),AI30,""),"") | AN30: =IF(AI30=AN$2,1,"") | AO30: =IF(AI30=AO$2,1,"") | AP30: =IF(AI30=AP$2,1,"") | AQ30: =IF(AI30=AQ$2,1,"") | AR30: =IF(AI30=AR$2,1,"") | AS30: =IF(($A30=1)*(SUMIF(s,$C30,AK$4:AK$48)>$S$2),(SUMIF(s,$C30,AK$4:AK$48)-$S$2),0) -> 0 | AT30: =IF(ISNUMBER(AI30),IF(S30=7,1,""),"") | AU30: =IF(AN29=1,AU29-AN29,AU29) -> 23 | AV30: =+AV29+AK30-(VLOOKUP($A30,base!$A$13:$B$19,2,FALSE())*(VLOOKUP($B30,ffff,2,FALSE()))) -> 231.5 | BK30: =IF(BI30>"0",VLOOKUP(BI30,MOTIF2,2,TRUE()),BI30) -> 0 | BL30: =IF(BM30="",IF($A30=1,IF(ISNUMBER(BI30),BI30,""),""),"") | BM30: =IF(AT30=FALSE(),IF(ISNUMBER(BI30),BI30,""),"") | BN30: =IF(BI30=BN$2,1,"") | BO30: =IF(BI30=BO$2,1,"") | BP30: =IF(BI30=BP$2,1,"") | BQ30: =IF(BI30=BQ$2,1,"") | BR30: =IF(BI30=BR$2,1,"") | BS30: =IF(($A30=1)*(SUMIF(s,$C30,BK$4:BK$48)>$S$2),(SUMIF(s,$C30,BK$4:BK$48)-$S$2),0) -> 0 | BT30: =IF(ISNUMBER(BI30),IF(AS30=7,1,""),"") | BU30: =IF(BN29=1,BU29-BN29,BU29) -> 23 | BV30: =+BV29+BK30-(VLOOKUP($A30,base!$A$13:$B$19,2,FALSE())*(VLOOKUP($B30,ffff,2,FALSE()))) -> 201.5
A31: =WEEKDAY(E31) -> 7 | B31: =ISERROR(VLOOKUP(E31,ferie,2,FALSE())) -> 1 | C31: =WEEKNUM(E31,2) -> 48 | D31: =MONTH(E31) -> 11 | E31: 44163 | F31: FAB | K31: =IF(I31>"0",VLOOKUP(I31,MOTIF2,2,TRUE()),I31) -> 0 | L31: =IF(M31="",IF($A31=1,IF(ISNUMBER(I31),I31,""),""),"") | M31: =IF(B31=FALSE(),IF(ISNUMBER(I31),I31,""),"") | N31: =IF(I31=N$2,1,"") | O31: =IF(I31=O$2,1,"") | P31: =IF(I31=P$2,1,"") | Q31: =IF(I31=Q$2,1,"") | R31: =IF(I31=R$2,1,"") | S31: =IF(($A31=1)*(SUMIF(s,$C31,hb)>$S$2),(SUMIF(s,$C31,hb)-$S$2),0) -> 0 | T31: =IF(ISNUMBER(I31),IF(A31=7,1,""),"") | U31: =IF(N30=1,U30-N30,U30) -> 23 | V31: =+V30+K31-(VLOOKUP($A31,base!$A$13:$B$19,2,FALSE())*(VLOOKUP($B31,ffff,2,FALSE()))) -> 96 | AK31: =IF(AI31>"0",VLOOKUP(AI31,MOTIF2,2,TRUE()),AI31) -> 0 | AL31: =IF(AM31="",IF($A31=1,IF(ISNUMBER(AI31),AI31,""),""),"") | AM31: =IF(T31=FALSE(),IF(ISNUMBER(AI31),AI31,""),"") | AN31: =IF(AI31=AN$2,1,"") | AO31: =IF(AI31=AO$2,1,"") | AP31: =IF(AI31=AP$2,1,"") | AQ31: =IF(AI31=AQ$2,1,"") | AR31: =IF(AI31=AR$2,1,"") | AS31: =IF(($A31=1)*(SUMIF(s,$C31,AK$4:AK$48)>$S$2),(SUMIF(s,$C31,AK$4:AK$48)-$S$2),0) -> 0 | AT31: =IF(ISNUMBER(AI31),IF(S31=7,1,""),"") | AU31: =IF(AN30=1,AU30-AN30,AU30) -> 23 | AV31: =+AV30+AK31-(VLOOKUP($A31,base!$A$13:$B$19,2,FALSE())*(VLOOKUP($B31,ffff,2,FALSE()))) -> 231.5 | BK31: =IF(BI31>"0",VLOOKUP(BI31,MOTIF2,2,TRUE()),BI31) -> 0 | BL31: =IF(BM31="",IF($A31=1,IF(ISNUMBER(BI31),BI31,""),""),"") | BM31: =IF(AT31=FALSE(),IF(ISNUMBER(BI31),BI31,""),"") | BN31: =IF(BI31=BN$2,1,"") | BO31: =IF(BI31=BO$2,1,"") | BP31: =IF(BI31=BP$2,1,"") | BQ31: =IF(BI31=BQ$2,1,"") | BR31: =IF(BI31=BR$2,1,"") | BS31: =IF(($A31=1)*(SUMIF(s,$C31,BK$4:BK$48)>$S$2),(SUMIF(s,$C31,BK$4:BK$48)-$S$2),0) -> 0 | BT31: =IF(ISNUMBER(BI31),IF(AS31=7,1,""),"") | BU31: =IF(BN30=1,BU30-BN30,BU30) -> 23 | BV31: =+BV30+BK31-(VLOOKUP($A31,base!$A$13:$B$19,2,FALSE())*(VLOOKUP($B31,ffff,2,FALSE()))) -> 201.5
A32: =WEEKDAY(E32) -> 1 | B32: =ISERROR(VLOOKUP(E32,ferie,2,FALSE())) -> 1 | C32: =WEEKNUM(E32,2) -> 48 | D32: =MONTH(E32) -> 11 | E32: 44164 | F32: FAB | K32: =IF(I32>"0",VLOOKUP(I32,MOTIF2,2,TRUE()),I32) -> 0 | L32: =IF(M32="",IF($A32=1,IF(ISNUMBER(I32),I32,""),""),"") | M32: =IF(B32=FALSE(),IF(ISNUMBER(I32),I32,""),"") | N32: =IF(I32=N$2,1,"") | O32: =IF(I32=O$2,1,"") | P32: =IF(I32=P$2,1,"") | Q32: =IF(I32=Q$2,1,"") | R32: =IF(I32=R$2,1,"") | S32: =IF(($A32=1)*(SUMIF(s,$C32,hb)>$S$2),(SUMIF(s,$C32,hb)-$S$2),0) -> 0 | T32: =IF(ISNUMBER(I32),IF(A32=7,1,""),"") | U32: =IF(N31=1,U31-N31,U31) -> 23 | V32: =+V31+K32-(VLOOKUP($A32,base!$A$13:$B$19,2,FALSE())*(VLOOKUP($B32,ffff,2,FALSE()))) -> 96 | AK32: =IF(AI32>"0",VLOOKUP(AI32,MOTIF2,2,TRUE()),AI32) -> 0 | AL32: =IF(AM32="",IF($A32=1,IF(ISNUMBER(AI32),AI32,""),""),"") | AM32: =IF(T32=FALSE(),IF(ISNUMBER(AI32),AI32,""),"") | AN32: =IF(AI32=AN$2,1,"") | AO32: =IF(AI32=AO$2,1,"") | AP32: =IF(AI32=AP$2,1,"") | AQ32: =IF(AI32=AQ$2,1,"") | AR32: =IF(AI32=AR$2,1,"") | AS32: =IF(($A32=1)*(SUMIF(s,$C32,AK$4:AK$48)>$S$2),(SUMIF(s,$C32,AK$4:AK$48)-$S$2),0) -> 0 | AT32: =IF(ISNUMBER(AI32),IF(S32=7,1,""),"") | AU32: =IF(AN31=1,AU31-AN31,AU31) -> 23 | AV32: =+AV31+AK32-(VLOOKUP($A32,base!$A$13:$B$19,2,FALSE())*(VLOOKUP($B32,ffff,2,FALSE()))) -> 231.5 | BK32: =IF(BI32>"0",VLOOKUP(BI32,MOTIF2,2,TRUE()),BI32) -> 0 | BL32: =IF(BM32="",IF($A32=1,IF(ISNUMBER(BI32),BI32,""),""),"") | BM32: =IF(AT32=FALSE(),IF(ISNUMBER(BI32),BI32,""),"") | BN32: =IF(BI32=BN$2,1,"") | BO32: =IF(BI32=BO$2,1,"") | BP32: =IF(BI32=BP$2,1,"") | BQ32: =IF(BI32=BQ$2,1,"") | BR32: =IF(BI32=BR$2,1,"") | BS32: =IF(($A32=1)*(SUMIF(s,$C32,BK$4:BK$48)>$S$2),(SUMIF(s,$C32,BK$4:BK$48)-$S$2),0) -> 0 | BT32: =IF(ISNUMBER(BI32),IF(AS32=7,1,""),"") | BU32: =IF(BN31=1,BU31-BN31,BU31) -> 23 | BV32: =+BV31+BK32-(VLOOKUP($A32,base!$A$13:$B$19,2,FALSE())*(VLOOKUP($B32,ffff,2,FALSE()))) -> 201.5
A33: =WEEKDAY(E33) -> 2 | B33: =ISERROR(VLOOKUP(E33,ferie,2,FALSE())) -> 1 | C33: =WEEKNUM(E33,2) -> 49 | D33: =MONTH(E33) -> 11 | E33: 44165 | F33: FAB | K33: =IF(I33>"0",VLOOKUP(I33,MOTIF2,2,TRUE()),I33) -> 0 | L33: =IF(M33="",IF($A33=1,IF(ISNUMBER(I33),I33,""),""),"") | M33: =IF(B33=FALSE(),IF(ISNUMBER(I33),I33,""),"") | N33: =IF(I33=N$2,1,"") | O33: =IF(I33=O$2,1,"") | P33: =IF(I33=P$2,1,"") | Q33: =IF(I33=Q$2,1,"") | R33: =IF(I33=R$2,1,"") | S33: =IF(($A33=1)*(SUMIF(s,$C33,hb)>$S$2),(SUMIF(s,$C33,hb)-$S$2),0) -> 0 | T33: =IF(ISNUMBER(I33),IF(A33=7,1,""),"") | U33: =IF(N32=1,U32-N32,U32) -> 23 | V33: =+V32+K33-(VLOOKUP($A33,base!$A$13:$B$19,2,FALSE())*(VLOOKUP($B33,ffff,2,FALSE()))) -> 88.5 | AK33: =IF(AI33>"0",VLOOKUP(AI33,MOTIF2,2,TRUE()),AI33) -> 0 | AL33: =IF(AM33="",IF($A33=1,IF(ISNUMBER(AI33),AI33,""),""),"") | AM33: =IF(T33=FALSE(),IF(ISNUMBER(AI33),AI33,""),"") | AN33: =IF(AI33=AN$2,1,"") | AO33: =IF(AI33=AO$2,1,"") | AP33: =IF(AI33=AP$2,1,"") | AQ33: =IF(AI33=AQ$2,1,"") | AR33: =IF(AI33=AR$2,1,"") | AS33: =IF(($A33=1)*(SUMIF(s,$C33,AK$4:AK$48)>$S$2),(SUMIF(s,$C33,AK$4:AK$48)-$S$2),0) -> 0 | AT33: =IF(ISNUMBER(AI33),IF(S33=7,1,""),"") | AU33: =IF(AN32=1,AU32-AN32,AU32) -> 23 | AV33: =+AV32+AK33-(VLOOKUP($A33,base!$A$13:$B$19,2,FALSE())*(VLOOKUP($B33,ffff,2,FALSE()))) -> 224 | BK33: =IF(BI33>"0",VLOOKUP(BI33,MOTIF2,2,TRUE()),BI33) -> 0 | BL33: =IF(BM33="",IF($A33=1,IF(ISNUMBER(BI33),BI33,""),""),"") | BM33: =IF(AT33=FALSE(),IF(ISNUMBER(BI33),BI33,""),"") | BN33: =IF(BI33=BN$2,1,"") | BO33: =IF(BI33=BO$2,1,"") | BP33: =IF(BI33=BP$2,1,"") | BQ33: =IF(BI33=BQ$2,1,"") | BR33: =IF(BI33=BR$2,1,"") | BS33: =IF(($A33=1)*(SUMIF(s,$C33,BK$4:BK$48)>$S$2),(SUMIF(s,$C33,BK$4:BK$48)-$S$2),0) -> 0 | BT33: =IF(ISNUMBER(BI33),IF(AS33=7,1,""),"") | BU33: =IF(BN32=1,BU32-BN32,BU32) -> 23 | BV33: =+BV32+BK33-(VLOOKUP($A33,base!$A$13:$B$19,2,FALSE())*(VLOOKUP($B33,ffff,2,FALSE()))) -> 194
A34: =WEEKDAY(E34) -> 3 | B34: =ISERROR(VLOOKUP(E34,ferie,2,FALSE())) -> 1 | C34: =WEEKNUM(E34,2) -> 49 | D34: =MONTH(E34) -> 12 | E34: 44166 | F34: FAB | K34: =IF(I34>"0",VLOOKUP(I34,MOTIF2,2,TRUE()),I34) -> 0 | L34: =IF(M34="",IF($A34=1,IF(ISNUMBER(I34),I34,""),""),"") | M34: =IF(B34=FALSE(),IF(ISNUMBER(I34),I34,""),"") | N34: =IF(I34=N$2,1,"") | O34: =IF(I34=O$2,1,"") | P34: =IF(I34=P$2,1,"") | Q34: =IF(I34=Q$2,1,"") | R34: =IF(I34=R$2,1,"") | S34: =IF(($A34=1)*(SUMIF(s,$C34,hb)>$S$2),(SUMIF(s,$C34,hb)-$S$2),0) -> 0 | T34: =IF(ISNUMBER(I34),IF(A34=7,1,""),"") | U34: =IF(N33=1,U33-N33,U33) -> 23 | V34: =+V33+K34-(VLOOKUP($A34,base!$A$13:$B$19,2,FALSE())*(VLOOKUP($B34,ffff,2,FALSE()))) -> 81 | AK34: =IF(AI34>"0",VLOOKUP(AI34,MOTIF2,2,TRUE()),AI34) -> 0 | AL34: =IF(AM34="",IF($A34=1,IF(ISNUMBER(AI34),AI34,""),""),"") | AM34: =IF(T34=FALSE(),IF(ISNUMBER(AI34),AI34,""),"") | AN34: =IF(AI34=AN$2,1,"") | AO34: =IF(AI34=AO$2,1,"") | AP34: =IF(AI34=AP$2,1,"") | AQ34: =IF(AI34=AQ$2,1,"") | AR34: =IF(AI34=AR$2,1,"") | AS34: =IF(($A34=1)*(SUMIF(s,$C34,AK$4:AK$48)>$S$2),(SUMIF(s,$C34,AK$4:AK$48)-$S$2),0) -> 0 | AT34: =IF(ISNUMBER(AI34),IF(S34=7,1,""),"") | AU34: =IF(AN33=1,AU33-AN33,AU33) -> 23 | AV34: =+AV33+AK34-(VLOOKUP($A34,base!$A$13:$B$19,2,FALSE())*(VLOOKUP($B34,ffff,2,FALSE()))) -> 216.5 | BK34: =IF(BI34>"0",VLOOKUP(BI34,MOTIF2,2,TRUE()),BI34) -> 0 | BL34: =IF(BM34="",IF($A34=1,IF(ISNUMBER(BI34),BI34,""),""),"") | BM34: =IF(AT34=FALSE(),IF(ISNUMBER(BI34),BI34,""),"") | BN34: =IF(BI34=BN$2,1,"") | BO34: =IF(BI34=BO$2,1,"") | BP34: =IF(BI34=BP$2,1,"") | BQ34: =IF(BI34=BQ$2,1,"") | BR34: =IF(BI34=BR$2,1,"") | BS34: =IF(($A34=1)*(SUMIF(s,$C34,BK$4:BK$48)>$S$2),(SUMIF(s,$C34,BK$4:BK$48)-$S$2),0) -> 0 | BT34: =IF(ISNUMBER(BI34),IF(AS34=7,1,""),"") | BU34: =IF(BN33=1,BU33-BN33,BU33) -> 23 | BV34: =+BV33+BK34-(VLOOKUP($A34,base!$A$13:$B$19,2,FALSE())*(VLOOKUP($B34,ffff,2,FALSE()))) -> 186.5
A35: =WEEKDAY(E35) -> 4 | B35: =ISERROR(VLOOKUP(E35,ferie,2,FALSE())) -> 1 | C35: =WEEKNUM(E35,2) -> 49 | D35: =MONTH(E35) -> 12 | E35: 44167 | F35: FAB | K35: =IF(I35>"0",VLOOKUP(I35,MOTIF2,2,TRUE()),I35) -> 0 | L35: =IF(M35="",IF($A35=1,IF(ISNUMBER(I35),I35,""),""),"") | M35: =IF(B35=FALSE(),IF(ISNUMBER(I35),I35,""),"") | N35: =IF(I35=N$2,1,"") | O35: =IF(I35=O$2,1,"") | P35: =IF(I35=P$2,1,"") | Q35: =IF(I35=Q$2,1,"") | R35: =IF(I35=R$2,1,"") | S35: =IF(($A35=1)*(SUMIF(s,$C35,hb)>$S$2),(SUMIF(s,$C35,hb)-$S$2),0) -> 0 | T35: =IF(ISNUMBER(I35),IF(A35=7,1,""),"") | U35: =IF(N34=1,U34-N34,U34) -> 23 | V35: =+V34+K35-(VLOOKUP($A35,base!$A$13:$B$19,2,FALSE())*(VLOOKUP($B35,ffff,2,FALSE()))) -> 73.5 | AK35: =IF(AI35>"0",VLOOKUP(AI35,MOTIF2,2,TRUE()),AI35) -> 0 | AL35: =IF(AM35="",IF($A35=1,IF(ISNUMBER(AI35),AI35,""),""),"") | AM35: =IF(T35=FALSE(),IF(ISNUMBER(AI35),AI35,""),"") | AN35: =IF(AI35=AN$2,1,"") | AO35: =IF(AI35=AO$2,1,"") | AP35: =IF(AI35=AP$2,1,"") | AQ35: =IF(AI35=AQ$2,1,"") | AR35: =IF(AI35=AR$2,1,"") | AS35: =IF(($A35=1)*(SUMIF(s,$C35,AK$4:AK$48)>$S$2),(SUMIF(s,$C35,AK$4:AK$48)-$S$2),0) -> 0 | AT35: =IF(ISNUMBER(AI35),IF(S35=7,1,""),"") | AU35: =IF(AN34=1,AU34-AN34,AU34) -> 23 | AV35: =+AV34+AK35-(VLOOKUP($A35,base!$A$13:$B$19,2,FALSE())*(VLOOKUP($B35,ffff,2,FALSE()))) -> 209 | BK35: =IF(BI35>"0",VLOOKUP(BI35,MOTIF2,2,TRUE()),BI35) -> 0 | BL35: =IF(BM35="",IF($A35=1,IF(ISNUMBER(BI35),BI35,""),""),"") | BM35: =IF(AT35=FALSE(),IF(ISNUMBER(BI35),BI35,""),"") | BN35: =IF(BI35=BN$2,1,"") | BO35: =IF(BI35=BO$2,1,"") | BP35: =IF(BI35=BP$2,1,"") | BQ35: =IF(BI35=BQ$2,1,"") | BR35: =IF(BI35=BR$2,1,"") | BS35: =IF(($A35=1)*(SUMIF(s,$C35,BK$4:BK$48)>$S$2),(SUMIF(s,$C35,BK$4:BK$48)-$S$2),0) -> 0 | BT35: =IF(ISNUMBER(BI35),IF(AS35=7,1,""),"") | BU35: =IF(BN34=1,BU34-BN34,BU34) -> 23 | BV35: =+BV34+BK35-(VLOOKUP($A35,base!$A$13:$B$19,2,FALSE())*(VLOOKUP($B35,ffff,2,FALSE()))) -> 179
A36: =WEEKDAY(E36) -> 5 | B36: =ISERROR(VLOOKUP(E36,ferie,2,FALSE())) -> 1 | C36: =WEEKNUM(E36,2) -> 49 | D36: =MONTH(E36) -> 12 | E36: 44168 | F36: FAB | K36: =IF(I36>"0",VLOOKUP(I36,MOTIF2,2,TRUE()),I36) -> 0 | L36: =IF(M36="",IF($A36=1,IF(ISNUMBER(I36),I36,""),""),"") | M36: =IF(B36=FALSE(),IF(ISNUMBER(I36),I36,""),"") | N36: =IF(I36=N$2,1,"") | O36: =IF(I36=O$2,1,"") | P36: =IF(I36=P$2,1,"") | Q36: =IF(I36=Q$2,1,"") | R36: =IF(I36=R$2,1,"") | S36: =IF(($A36=1)*(SUMIF(s,$C36,hb)>$S$2),(SUMIF(s,$C36,hb)-$S$2),0) -> 0 | T36: =IF(ISNUMBER(I36),IF(A36=7,1,""),"") | U36: =IF(N35=1,U35-N35,U35) -> 23 | V36: =+V35+K36-(VLOOKUP($A36,base!$A$13:$B$19,2,FALSE())*(VLOOKUP($B36,ffff,2,FALSE()))) -> 66 | AK36: =IF(AI36>"0",VLOOKUP(AI36,MOTIF2,2,TRUE()),AI36) -> 0 | AL36: =IF(AM36="",IF($A36=1,IF(ISNUMBER(AI36),AI36,""),""),"") | AM36: =IF(T36=FALSE(),IF(ISNUMBER(AI36),AI36,""),"") | AN36: =IF(AI36=AN$2,1,"") | AO36: =IF(AI36=AO$2,1,"") | AP36: =IF(AI36=AP$2,1,"") | AQ36: =IF(AI36=AQ$2,1,"") | AR36: =IF(AI36=AR$2,1,"") | AS36: =IF(($A36=1)*(SUMIF(s,$C36,AK$4:AK$48)>$S$2),(SUMIF(s,$C36,AK$4:AK$48)-$S$2),0) -> 0 | AT36: =IF(ISNUMBER(AI36),IF(S36=7,1,""),"") | AU36: =IF(AN35=1,AU35-AN35,AU35) -> 23 | AV36: =+AV35+AK36-(VLOOKUP($A36,base!$A$13:$B$19,2,FALSE())*(VLOOKUP($B36,ffff,2,FALSE()))) -> 201.5 | BK36: =IF(BI36>"0",VLOOKUP(BI36,MOTIF2,2,TRUE()),BI36) -> 0 | BL36: =IF(BM36="",IF($A36=1,IF(ISNUMBER(BI36),BI36,""),""),"") | BM36: =IF(AT36=FALSE(),IF(ISNUMBER(BI36),BI36,""),"") | BN36: =IF(BI36=BN$2,1,"") | BO36: =IF(BI36=BO$2,1,"") | BP36: =IF(BI36=BP$2,1,"") | BQ36: =IF(BI36=BQ$2,1,"") | BR36: =IF(BI36=BR$2,1,"") | BS36: =IF(($A36=1)*(SUMIF(s,$C36,BK$4:BK$48)>$S$2),(SUMIF(s,$C36,BK$4:BK$48)-$S$2),0) -> 0 | BT36: =IF(ISNUMBER(BI36),IF(AS36=7,1,""),"") | BU36: =IF(BN35=1,BU35-BN35,BU35) -> 23 | BV36: =+BV35+BK36-(VLOOKUP($A36,base!$A$13:$B$19,2,FALSE())*(VLOOKUP($B36,ffff,2,FALSE()))) -> 171.5
A37: =WEEKDAY(E37) -> 6 | B37: =ISERROR(VLOOKUP(E37,ferie,2,FALSE())) -> 1 | C37: =WEEKNUM(E37,2) -> 49 | D37: =MONTH(E37) -> 12 | E37: 44169 | F37: FAB | K37: =IF(I37>"0",VLOOKUP(I37,MOTIF2,2,TRUE()),I37) -> 0 | L37: =IF(M37="",IF($A37=1,IF(ISNUMBER(I37),I37,""),""),"") | M37: =IF(B37=FALSE(),IF(ISNUMBER(I37),I37,""),"") | N37: =IF(I37=N$2,1,"") | O37: =IF(I37=O$2,1,"") | P37: =IF(I37=P$2,1,"") | Q37: =IF(I37=Q$2,1,"") | R37: =IF(I37=R$2,1,"") | S37: =IF(($A37=1)*(SUMIF(s,$C37,hb)>$S$2),(SUMIF(s,$C37,hb)-$S$2),0) -> 0 | T37: =IF(ISNUMBER(I37),IF(A37=7,1,""),"") | U37: =IF(N36=1,U36-N36,U36) -> 23 | V37: =+V36+K37-(VLOOKUP($A37,base!$A$13:$B$19,2,FALSE())*(VLOOKUP($B37,ffff,2,FALSE()))) -> 58.5 | AK37: =IF(AI37>"0",VLOOKUP(AI37,MOTIF2,2,TRUE()),AI37) -> 0 | AL37: =IF(AM37="",IF($A37=1,IF(ISNUMBER(AI37),AI37,""),""),"") | AM37: =IF(T37=FALSE(),IF(ISNUMBER(AI37),AI37,""),"") | AN37: =IF(AI37=AN$2,1,"") | AO37: =IF(AI37=AO$2,1,"") | AP37: =IF(AI37=AP$2,1,"") | AQ37: =IF(AI37=AQ$2,1,"") | AR37: =IF(AI37=AR$2,1,"") | AS37: =IF(($A37=1)*(SUMIF(s,$C37,AK$4:AK$48)>$S$2),(SUMIF(s,$C37,AK$4:AK$48)-$S$2),0) -> 0 | AT37: =IF(ISNUMBER(AI37),IF(S37=7,1,""),"") | AU37: =IF(AN36=1,AU36-AN36,AU36) -> 23 | AV37: =+AV36+AK37-(VLOOKUP($A37,base!$A$13:$B$19,2,FALSE())*(VLOOKUP($B37,ffff,2,FALSE()))) -> 194 | BK37: =IF(BI37>"0",VLOOKUP(BI37,MOTIF2,2,TRUE()),BI37) -> 0 | BL37: =IF(BM37="",IF($A37=1,IF(ISNUMBER(BI37),BI37,""),""),"") | BM37: =IF(AT37=FALSE(),IF(ISNUMBER(BI37),BI37,""),"") | BN37: =IF(BI37=BN$2,1,"") | BO37: =IF(BI37=BO$2,1,"") | BP37: =IF(BI37=BP$2,1,"") | BQ37: =IF(BI37=BQ$2,1,"") | BR37: =IF(BI37=BR$2,1,"") | BS37: =IF(($A37=1)*(SUMIF(s,$C37,BK$4:BK$48)>$S$2),(SUMIF(s,$C37,BK$4:BK$48)-$S$2),0) -> 0 | BT37: =IF(ISNUMBER(BI37),IF(AS37=7,1,""),"") | BU37: =IF(BN36=1,BU36-BN36,BU36) -> 23 | BV37: =+BV36+BK37-(VLOOKUP($A37,base!$A$13:$B$19,2,FALSE())*(VLOOKUP($B37,ffff,2,FALSE()))) -> 164
... A48: =WEEKDAY(E48) -> 3 | B48: =ISERROR(VLOOKUP(E48,ferie,2,FALSE())) -> 1 | C48: =WEEKNUM(E48,2) -> 51 | D48: =MONTH(E48) -> 12 | E48: 44180 | F48: FAB | K48: =IF(I48>"0",VLOOKUP(I48,MOTIF2,2,TRUE()),I48) -> 0 | L48: =IF(M48="",IF($A48=1,IF(ISNUMBER(I48),I48,""),""),"") | M48: =IF(B48=FALSE(),IF(ISNUMBER(I48),I48,""),"") | N48: =IF(I48=N$2,1,"") | O48: =IF(I48=O$2,1,"") | P48: =IF(I48=P$2,1,"") | Q48: =IF(I48=Q$2,1,"") | R48: =IF(I48=R$2,1,"") | S48: =IF(($A48=1)*(SUMIF(s,$C48,hb)>$S$2),(SUMIF(s,$C48,hb)-$S$2),0) -> 0 | T48: =IF(ISNUMBER(I48),IF(A48=7,1,""),"") | U48: =IF(N47=1,U47-N47,U47) -> 23 | V48: =+V47+K48-(VLOOKUP($A48,base!$A$13:$B$19,2,FALSE())*(VLOOKUP($B48,ffff,2,FALSE()))) -> 6 | AK48: =IF(AI48>"0",VLOOKUP(AI48,MOTIF2,2,TRUE()),AI48) -> 0 | AL48: =IF(AM48="",IF($A48=1,IF(ISNUMBER(AI48),AI48,""),""),"") | AM48: =IF(T48=FALSE(),IF(ISNUMBER(AI48),AI48,""),"") | AN48: =IF(AI48=AN$2,1,"") | AO48: =IF(AI48=AO$2,1,"") | AP48: =IF(AI48=AP$2,1,"") | AQ48: =IF(AI48=AQ$2,1,"") | AR48: =IF(AI48=AR$2,1,"") | AS48: =IF(($A48=1)*(SUMIF(s,$C48,AK$4:AK$48)>$S$2),(SUMIF(s,$C48,AK$4:AK$48)-$S$2),0) -> 0 | AT48: =IF(ISNUMBER(AI48),IF(S48=7,1,""),"") | AU48: =IF(AN47=1,AU47-AN47,AU47) -> 23 | AV48: =+AV47+AK48-(VLOOKUP($A48,base!$A$13:$B$19,2,FALSE())*(VLOOKUP($B48,ffff,2,FALSE()))) -> 141.5 | BK48: =IF(BI48>"0",VLOOKUP(BI48,MOTIF2,2,TRUE()),BI48) -> 0 | BL48: =IF(BM48="",IF($A48=1,IF(ISNUMBER(BI48),BI48,""),""),"") | BM48: =IF(AT48=FALSE(),IF(ISNUMBER(BI48),BI48,""),"") | BN48: =IF(BI48=BN$2,1,"") | BO48: =IF(BI48=BO$2,1,"") | BP48: =IF(BI48=BP$2,1,"") | BQ48: =IF(BI48=BQ$2,1,"") | BR48: =IF(BI48=BR$2,1,"") | BS48: =IF(($A48=1)*(SUMIF(s,$C48,BK$4:BK$48)>$S$2),(SUMIF(s,$C48,BK$4:BK$48)-$S$2),0) -> 0 | BT48: =IF(ISNUMBER(BI48),IF(AS48=7,1,""),"") | BU48: =IF(BN47=1,BU47-BN47,BU47) -> 23 | BV48: =+BV47+BK48-(VLOOKUP($A48,base!$A$13:$B$19,2,FALSE())*(VLOOKUP($B48,ffff,2,FALSE()))) -> 111.5
A49: =WEEKDAY(E49) -> 4 | B49: =ISERROR(VLOOKUP(E49,ferie,2,FALSE())) -> 1 | C49: =WEEKNUM(E49,2) -> 51 | D49: =MONTH(E49) -> 12 | E49: 44181 | F49: FAB | K49: =IF(I49>"0",VLOOKUP(I49,MOTIF2,2,TRUE()),I49) -> 0 | L49: =IF(M49="",IF($A49=1,IF(ISNUMBER(I49),I49,""),""),"") | M49: =IF(B49=FALSE(),IF(ISNUMBER(I49),I49,""),"") | N49: =IF(I49=N$2,1,"") | O49: =IF(I49=O$2,1,"") | P49: =IF(I49=P$2,1,"") | Q49: =IF(I49=Q$2,1,"") | R49: =IF(I49=R$2,1,"") | S49: =IF(($A49=1)*(SUMIF(s,$C49,hb)>$S$2),(SUMIF(s,$C49,hb)-$S$2),0) -> 0 | T49: =IF(ISNUMBER(I49),IF(A49=7,1,""),"") | V49: =+V48+K49-(VLOOKUP($A49,base!$A$13:$B$19,2,FALSE())*(VLOOKUP($B49,ffff,2,FALSE()))) -> -1.5

Sheet indic
G1: ="Récapitulatif des heures de la semaine "&$B$3 -> Récapitulatif des heures de la semaine 44
E2: Colonne de base | F2: Agent | G2: cp | H2: fo | I2: frpp | J2: past
A3: semaine | B3: 44 | E3: =IF(ISERROR(SMALL(RECAP!$1:$1,ROW()-2)),"",SMALL(RECAP!$1:$1,ROW()-2)) -> 6 | F3: =IF(ISERROR(SMALL(RECAP!$1:$1,ROW()-2)),"",INDIRECT(ADDRESS(2,SMALL(RECAP!$1:$1,ROW()-2),4,1,"RECAP"),1)) -> TARTENPION | G3: =SUMIFS(INDIRECT(CONCATENATE(ADDRESS(4,$E3+5,4,1,"recap"),":",ADDRESS(49,$E3+5,4,1,"recap")),1),INDIRECT(CONCATENATE(ADDRESS(4,$E3+1,4,1,"recap"),":",ADDRESS(49,$E3+1,4,1,"recap")),1),G$2,RECAP!$C$4:$C$49,$B$3) -> 0 | H3: =SUMIFS(INDIRECT(CONCATENATE(ADDRESS(4,$E3+5,4,1,"recap"),":",ADDRESS(49,$E3+5,4,1,"recap")),1),INDIRECT(CONCATENATE(ADDRESS(4,$E3+1,4,1,"recap"),":",ADDRESS(49,$E3+1,4,1,"recap")),1),H$2,RECAP!$C$4:$C$49,$B$3) -> 0 | I3: =SUMIFS(INDIRECT(CONCATENATE(ADDRESS(4,$E3+5,4,1,"recap"),":",ADDRESS(49,$E3+5,4,1,"recap")),1),INDIRECT(CONCATENATE(ADDRESS(4,$E3+1,4,1,"recap"),":",ADDRESS(49,$E3+1,4,1,"recap")),1),I$2,RECAP!$C$4:$C$49,$B$3) -> 0 | J3: =SUMIFS(INDIRECT(CONCATENATE(ADDRESS(4,$E3+5,4,1,"recap"),":",ADDRESS(49,$E3+5,4,1,"recap")),1),INDIRECT(CONCATENATE(ADDRESS(4,$E3+1,4,1,"recap"),":",ADDRESS(49,$E3+1,4,1,"recap")),1),J$2,RECAP!$C$4:$C$49,$B$3) -> 0
E4: =IF(ISERROR(SMALL(RECAP!$1:$1,ROW()-2)),"",SMALL(RECAP!$1:$1,ROW()-2)) -> 32 | F4: =IF(ISERROR(SMALL(RECAP!$1:$1,ROW()-2)),"",INDIRECT(ADDRESS(2,SMALL(RECAP!$1:$1,ROW()-2),4,1,"RECAP"),1)) -> JEAN NEYMAR | G4: =SUMIFS(INDIRECT(CONCATENATE(ADDRESS(4,$E4+5,4,1,"recap"),":",ADDRESS(49,$E4+5,4,1,"recap")),1),INDIRECT(CONCATENATE(ADDRESS(4,$E4+1,4,1,"recap"),":",ADDRESS(49,$E4+1,4,1,"recap")),1),G$2,RECAP!$C$4:$C$49,$B$3) -> 0 | H4: =SUMIFS(INDIRECT(CONCATENATE(ADDRESS(4,$E4+5,4,1,"recap"),":",ADDRESS(49,$E4+5,4,1,"recap")),1),INDIRECT(CONCATENATE(ADDRESS(4,$E4+1,4,1,"recap"),":",ADDRESS(49,$E4+1,4,1,"recap")),1),H$2,RECAP!$C$4:$C$49,$B$3) -> 5 | I4: =SUMIFS(INDIRECT(CONCATENATE(ADDRESS(4,$E4+5,4,1,"recap"),":",ADDRESS(49,$E4+5,4,1,"recap")),1),INDIRECT(CONCATENATE(ADDRESS(4,$E4+1,4,1,"recap"),":",ADDRESS(49,$E4+1,4,1,"recap")),1),I$2,RECAP!$C$4:$C$49,$B$3) -> 0 | J4: =SUMIFS(INDIRECT(CONCATENATE(ADDRESS(4,$E4+5,4,1,"recap"),":",ADDRESS(49,$E4+5,4,1,"recap")),1),INDIRECT(CONCATENATE(ADDRESS(4,$E4+1,4,1,"recap"),":",ADDRESS(49,$E4+1,4,1,"recap")),1),J$2,RECAP!$C$4:$C$49,$B$3) -> 0
E5: =IF(ISERROR(SMALL(RECAP!$1:$1,ROW()-2)),"",SMALL(RECAP!$1:$1,ROW()-2)) -> 58 | F5: =IF(ISERROR(SMALL(RECAP!$1:$1,ROW()-2)),"",INDIRECT(ADDRESS(2,SMALL(RECAP!$1:$1,ROW()-2),4,1,"RECAP"),1)) -> OLIVE | G5: =SUMIFS(INDIRECT(CONCATENATE(ADDRESS(4,$E5+5,4,1,"recap"),":",ADDRESS(49,$E5+5,4,1,"recap")),1),INDIRECT(CONCATENATE(ADDRESS(4,$E5+1,4,1,"recap"),":",ADDRESS(49,$E5+1,4,1,"recap")),1),G$2,RECAP!$C$4:$C$49,$B$3) -> 0 | H5: =SUMIFS(INDIRECT(CONCATENATE(ADDRESS(4,$E5+5,4,1,"recap"),":",ADDRESS(49,$E5+5,4,1,"recap")),1),INDIRECT(CONCATENATE(ADDRESS(4,$E5+1,4,1,"recap"),":",ADDRESS(49,$E5+1,4,1,"recap")),1),H$2,RECAP!$C$4:$C$49,$B$3) -> 5 | I5: =SUMIFS(INDIRECT(CONCATENATE(ADDRESS(4,$E5+5,4,1,"recap"),":",ADDRESS(49,$E5+5,4,1,"recap")),1),INDIRECT(CONCATENATE(ADDRESS(4,$E5+1,4,1,"recap"),":",ADDRESS(49,$E5+1,4,1,"recap")),1),I$2,RECAP!$C$4:$C$49,$B$3) -> 0 | J5: =SUMIFS(INDIRECT(CONCATENATE(ADDRESS(4,$E5+5,4,1,"recap"),":",ADDRESS(49,$E5+5,4,1,"recap")),1),INDIRECT(CONCATENATE(ADDRESS(4,$E5+1,4,1,"recap"),":",ADDRESS(49,$E5+1,4,1,"recap")),1),J$2,RECAP!$C$4:$C$49,$B$3) -> 0
E6: =IF(ISERROR(SMALL(RECAP!$1:$1,ROW()-2)),"",SMALL(RECAP!$1:$1,ROW()-2)) -> 83 | F6: =IF(ISERROR(SMALL(RECAP!$1:$1,ROW()-2)),"",INDIRECT(ADDRESS(2,SMALL(RECAP!$1:$1,ROW()-2),4,1,"RECAP"),1)) -> 4 | G6: =SUMIFS(INDIRECT(CONCATENATE(ADDRESS(4,$E6+5,4,1,"recap"),":",ADDRESS(49,$E6+5,4,1,"recap")),1),INDIRECT(CONCATENATE(ADDRESS(4,$E6+1,4,1,"recap"),":",ADDRESS(49,$E6+1,4,1,"recap")),1),G$2,RECAP!$C$4:$C$49,$B$3) -> 0 | H6: =SUMIFS(INDIRECT(CONCATENATE(ADDRESS(4,$E6+5,4,1,"recap"),":",ADDRESS(49,$E6+5,4,1,"recap")),1),INDIRECT(CONCATENATE(ADDRESS(4,$E6+1,4,1,"recap"),":",ADDRESS(49,$E6+1,4,1,"recap")),1),H$2,RECAP!$C$4:$C$49,$B$3) -> 0 | I6: =SUMIFS(INDIRECT(CONCATENATE(ADDRESS(4,$E6+5,4,1,"recap"),":",ADDRESS(49,$E6+5,4,1,"recap")),1),INDIRECT(CONCATENATE(ADDRESS(4,$E6+1,4,1,"recap"),":",ADDRESS(49,$E6+1,4,1,"recap")),1),I$2,RECAP!$C$4:$C$49,$B$3) -> 0 | J6: =SUMIFS(INDIRECT(CONCATENATE(ADDRESS(4,$E6+5,4,1,"recap"),":",ADDRESS(49,$E6+5,4,1,"recap")),1),INDIRECT(CONCATENATE(ADDRESS(4,$E6+1,4,1,"recap"),":",ADDRESS(49,$E6+1,4,1,"recap")),1),J$2,RECAP!$C$4:$C$49,$B$3) -> 0
E7: =IF(ISERROR(SMALL(RECAP!$1:$1,ROW()-2)),"",SMALL(RECAP!$1:$1,ROW()-2)) -> 108 | F7: =IF(ISERROR(SMALL(RECAP!$1:$1,ROW()-2)),"",INDIRECT(ADDRESS(2,SMALL(RECAP!$1:$1,ROW()-2),4,1,"RECAP"),1)) -> 5 | G7: =SUMIFS(INDIRECT(CONCATENATE(ADDRESS(4,$E7+5,4,1,"recap"),":",ADDRESS(49,$E7+5,4,1,"recap")),1),INDIRECT(CONCATENATE(ADDRESS(4,$E7+1,4,1,"recap"),":",ADDRESS(49,$E7+1,4,1,"recap")),1),G$2,RECAP!$C$4:$C$49,$B$3) -> 0 | H7: =SUMIFS(INDIRECT(CONCATENATE(ADDRESS(4,$E7+5,4,1,"recap"),":",ADDRESS(49,$E7+5,4,1,"recap")),1),INDIRECT(CONCATENATE(ADDRESS(4,$E7+1,4,1,"recap"),":",ADDRESS(49,$E7+1,4,1,"recap")),1),H$2,RECAP!$C$4:$C$49,$B$3) -> 0 | I7: =SUMIFS(INDIRECT(CONCATENATE(ADDRESS(4,$E7+5,4,1,"recap"),":",ADDRESS(49,$E7+5,4,1,"recap")),1),INDIRECT(CONCATENATE(ADDRESS(4,$E7+1,4,1,"recap"),":",ADDRESS(49,$E7+1,4,1,"recap")),1),I$2,RECAP!$C$4:$C$49,$B$3) -> 0 | J7: =SUMIFS(INDIRECT(CONCATENATE(ADDRESS(4,$E7+5,4,1,"recap"),":",ADDRESS(49,$E7+5,4,1,"recap")),1),INDIRECT(CONCATENATE(ADDRESS(4,$E7+1,4,1,"recap"),":",ADDRESS(49,$E7+1,4,1,"recap")),1),J$2,RECAP!$C$4:$C$49,$B$3) -> 0
E8: =IF(ISERROR(SMALL(RECAP!$1:$1,ROW()-2)),"",SMALL(RECAP!$1:$1,ROW()-2)) -> 133 | F8: =IF(ISERROR(SMALL(RECAP!$1:$1,ROW()-2)),"",INDIRECT(ADDRESS(2,SMALL(RECAP!$1:$1,ROW()-2),4,1,"RECAP"),1)) -> 6 | G8: =SUMIFS(INDIRECT(CONCATENATE(ADDRESS(4,$E8+5,4,1,"recap"),":",ADDRESS(49,$E8+5,4,1,"recap")),1),INDIRECT(CONCATENATE(ADDRESS(4,$E8+1,4,1,"recap"),":",ADDRESS(49,$E8+1,4,1,"recap")),1),G$2,RECAP!$C$4:$C$49,$B$3) -> 0 | H8: =SUMIFS(INDIRECT(CONCATENATE(ADDRESS(4,$E8+5,4,1,"recap"),":",ADDRESS(49,$E8+5,4,1,"recap")),1),INDIRECT(CONCATENATE(ADDRESS(4,$E8+1,4,1,"recap"),":",ADDRESS(49,$E8+1,4,1,"recap")),1),H$2,RECAP!$C$4:$C$49,$B$3) -> 0 | I8: =SUMIFS(INDIRECT(CONCATENATE(ADDRESS(4,$E8+5,4,1,"recap"),":",ADDRESS(49,$E8+5,4,1,"recap")),1),INDIRECT(CONCATENATE(ADDRESS(4,$E8+1,4,1,"recap"),":",ADDRESS(49,$E8+1,4,1,"recap")),1),I$2,RECAP!$C$4:$C$49,$B$3) -> 0 | J8: =SUMIFS(INDIRECT(CONCATENATE(ADDRESS(4,$E8+5,4,1,"recap"),":",ADDRESS(49,$E8+5,4,1,"recap")),1),INDIRECT(CONCATENATE(ADDRESS(4,$E8+1,4,1,"recap"),":",ADDRESS(49,$E8+1,4,1,"recap")),1),J$2,RECAP!$C$4:$C$49,$B$3) -> 0
E9: =IF(ISERROR(SMALL(RECAP!$1:$1,ROW()-2)),"",SMALL(RECAP!$1:$1,ROW()-2)) -> 158 | F9: =IF(ISERROR(SMALL(RECAP!$1:$1,ROW()-2)),"",INDIRECT(ADDRESS(2,SMALL(RECAP!$1:$1,ROW()-2),4,1,"RECAP"),1)) -> 7 | G9: =SUMIFS(INDIRECT(CONCATENATE(ADDRESS(4,$E9+5,4,1,"recap"),":",ADDRESS(49,$E9+5,4,1,"recap")),1),INDIRECT(CONCATENATE(ADDRESS(4,$E9+1,4,1,"recap"),":",ADDRESS(49,$E9+1,4,1,"recap")),1),G$2,RECAP!$C$4:$C$49,$B$3) -> 0 | H9: =SUMIFS(INDIRECT(CONCATENATE(ADDRESS(4,$E9+5,4,1,"recap"),":",ADDRESS(49,$E9+5,4,1,"recap")),1),INDIRECT(CONCATENATE(ADDRESS(4,$E9+1,4,1,"recap"),":",ADDRESS(49,$E9+1,4,1,"recap")),1),H$2,RECAP!$C$4:$C$49,$B$3) -> 0 | I9: =SUMIFS(INDIRECT(CONCATENATE(ADDRESS(4,$E9+5,4,1,"recap"),":",ADDRESS(49,$E9+5,4,1,"recap")),1),INDIRECT(CONCATENATE(ADDRESS(4,$E9+1,4,1,"recap"),":",ADDRESS(49,$E9+1,4,1,"recap")),1),I$2,RECAP!$C$4:$C$49,$B$3) -> 0 | J9: =SUMIFS(INDIRECT(CONCATENATE(ADDRESS(4,$E9+5,4,1,"recap"),":",ADDRESS(49,$E9+5,4,1,"recap")),1),INDIRECT(CONCATENATE(ADDRESS(4,$E9+1,4,1,"recap"),":",ADDRESS(49,$E9+1,4,1,"recap")),1),J$2,RECAP!$C$4:$C$49,$B$3) -> 0
E10: =IF(ISERROR(SMALL(RECAP!$1:$1,ROW()-2)),"",SMALL(RECAP!$1:$1,ROW()-2)) -> 183 | F10: =IF(ISERROR(SMALL(RECAP!$1:$1,ROW()-2)),"",INDIRECT(ADDRESS(2,SMALL(RECAP!$1:$1,ROW()-2),4,1,"RECAP"),1)) -> 8 | G10: =SUMIFS(INDIRECT(CONCATENATE(ADDRESS(4,$E10+5,4,1,"recap"),":",ADDRESS(49,$E10+5,4,1,"recap")),1),INDIRECT(CONCATENATE(ADDRESS(4,$E10+1,4,1,"recap"),":",ADDRESS(49,$E10+1,4,1,"recap")),1),G$2,RECAP!$C$4:$C$49,$B$3) -> 0 | H10: =SUMIFS(INDIRECT(CONCATENATE(ADDRESS(4,$E10+5,4,1,"recap"),":",ADDRESS(49,$E10+5,4,1,"recap")),1),INDIRECT(CONCATENATE(ADDRESS(4,$E10+1,4,1,"recap"),":",ADDRESS(49,$E10+1,4,1,"recap")),1),H$2,RECAP!$C$4:$C$49,$B$3) -> 0 | I10: =SUMIFS(INDIRECT(CONCATENATE(ADDRESS(4,$E10+5,4,1,"recap"),":",ADDRESS(49,$E10+5,4,1,"recap")),1),INDIRECT(CONCATENATE(ADDRESS(4,$E10+1,4,1,"recap"),":",ADDRESS(49,$E10+1,4,1,"recap")),1),I$2,RECAP!$C$4:$C$49,$B$3) -> 0 | J10: =SUMIFS(INDIRECT(CONCATENATE(ADDRESS(4,$E10+5,4,1,"recap"),":",ADDRESS(49,$E10+5,4,1,"recap")),1),INDIRECT(CONCATENATE(ADDRESS(4,$E10+1,4,1,"recap"),":",ADDRESS(49,$E10+1,4,1,"recap")),1),J$2,RECAP!$C$4:$C$49,$B$3) -> 0
E11: =IF(ISERROR(SMALL(RECAP!$1:$1,ROW()-2)),"",SMALL(RECAP!$1:$1,ROW()-2)) -> 208 | F11: =IF(ISERROR(SMALL(RECAP!$1:$1,ROW()-2)),"",INDIRECT(ADDRESS(2,SMALL(RECAP!$1:$1,ROW()-2),4,1,"RECAP"),1)) -> 9 | G11: =SUMIFS(INDIRECT(CONCATENATE(ADDRESS(4,$E11+5,4,1,"recap"),":",ADDRESS(49,$E11+5,4,1,"recap")),1),INDIRECT(CONCATENATE(ADDRESS(4,$E11+1,4,1,"recap"),":",ADDRESS(49,$E11+1,4,1,"recap")),1),G$2,RECAP!$C$4:$C$49,$B$3) -> 0 | H11: =SUMIFS(INDIRECT(CONCATENATE(ADDRESS(4,$E11+5,4,1,"recap"),":",ADDRESS(49,$E11+5,4,1,"recap")),1),INDIRECT(CONCATENATE(ADDRESS(4,$E11+1,4,1,"recap"),":",ADDRESS(49,$E11+1,4,1,"recap")),1),H$2,RECAP!$C$4:$C$49,$B$3) -> 0 | I11: =SUMIFS(INDIRECT(CONCATENATE(ADDRESS(4,$E11+5,4,1,"recap"),":",ADDRESS(49,$E11+5,4,1,"recap")),1),INDIRECT(CONCATENATE(ADDRESS(4,$E11+1,4,1,"recap"),":",ADDRESS(49,$E11+1,4,1,"recap")),1),I$2,RECAP!$C$4:$C$49,$B$3) -> 0 | J11: =SUMIFS(INDIRECT(CONCATENATE(ADDRESS(4,$E11+5,4,1,"recap"),":",ADDRESS(49,$E11+5,4,1,"recap")),1),INDIRECT(CONCATENATE(ADDRESS(4,$E11+1,4,1,"recap"),":",ADDRESS(49,$E11+1,4,1,"recap")),1),J$2,RECAP!$C$4:$C$49,$B$3) -> 0
E12: =IF(ISERROR(SMALL(RECAP!$1:$1,ROW()-2)),"",SMALL(RECAP!$1:$1,ROW()-2)) -> 233 | F12: =IF(ISERROR(SMALL(RECAP!$1:$1,ROW()-2)),"",INDIRECT(ADDRESS(2,SMALL(RECAP!$1:$1,ROW()-2),4,1,"RECAP"),1)) -> 10 | G12: =SUMIFS(INDIRECT(CONCATENATE(ADDRESS(4,$E12+5,4,1,"recap"),":",ADDRESS(49,$E12+5,4,1,"recap")),1),INDIRECT(CONCATENATE(ADDRESS(4,$E12+1,4,1,"recap"),":",ADDRESS(49,$E12+1,4,1,"recap")),1),G$2,RECAP!$C$4:$C$49,$B$3) -> 0 | H12: =SUMIFS(INDIRECT(CONCATENATE(ADDRESS(4,$E12+5,4,1,"recap"),":",ADDRESS(49,$E12+5,4,1,"recap")),1),INDIRECT(CONCATENATE(ADDRESS(4,$E12+1,4,1,"recap"),":",ADDRESS(49,$E12+1,4,1,"recap")),1),H$2,RECAP!$C$4:$C$49,$B$3) -> 0 | I12: =SUMIFS(INDIRECT(CONCATENATE(ADDRESS(4,$E12+5,4,1,"recap"),":",ADDRESS(49,$E12+5,4,1,"recap")),1),INDIRECT(CONCATENATE(ADDRESS(4,$E12+1,4,1,"recap"),":",ADDRESS(49,$E12+1,4,1,"recap")),1),I$2,RECAP!$C$4:$C$49,$B$3) -> 0 | J12: =SUMIFS(INDIRECT(CONCATENATE(ADDRESS(4,$E12+5,4,1,"recap"),":",ADDRESS(49,$E12+5,4,1,"recap")),1),INDIRECT(CONCATENATE(ADDRESS(4,$E12+1,4,1,"recap"),":",ADDRESS(49,$E12+1,4,1,"recap")),1),J$2,RECAP!$C$4:$C$49,$B$3) -> 0
E13: =IF(ISERROR(SMALL(RECAP!$1:$1,ROW()-2)),"",SMALL(RECAP!$1:$1,ROW()-2)) -> 258 | F13: =IF(ISERROR(SMALL(RECAP!$1:$1,ROW()-2)),"",INDIRECT(ADDRESS(2,SMALL(RECAP!$1:$1,ROW()-2),4,1,"RECAP"),1)) -> 11 | G13: =SUMIFS(INDIRECT(CONCATENATE(ADDRESS(4,$E13+5,4,1,"recap"),":",ADDRESS(49,$E13+5,4,1,"recap")),1),INDIRECT(CONCATENATE(ADDRESS(4,$E13+1,4,1,"recap"),":",ADDRESS(49,$E13+1,4,1,"recap")),1),G$2,RECAP!$C$4:$C$49,$B$3) -> 0 | H13: =SUMIFS(INDIRECT(CONCATENATE(ADDRESS(4,$E13+5,4,1,"recap"),":",ADDRESS(49,$E13+5,4,1,"recap")),1),INDIRECT(CONCATENATE(ADDRESS(4,$E13+1,4,1,"recap"),":",ADDRESS(49,$E13+1,4,1,"recap")),1),H$2,RECAP!$C$4:$C$49,$B$3) -> 0 | I13: =SUMIFS(INDIRECT(CONCATENATE(ADDRESS(4,$E13+5,4,1,"recap"),":",ADDRESS(49,$E13+5,4,1,"recap")),1),INDIRECT(CONCATENATE(ADDRESS(4,$E13+1,4,1,"recap"),":",ADDRESS(49,$E13+1,4,1,"recap")),1),I$2,RECAP!$C$4:$C$49,$B$3) -> 0 | J13: =SUMIFS(INDIRECT(CONCATENATE(ADDRESS(4,$E13+5,4,1,"recap"),":",ADDRESS(49,$E13+5,4,1,"recap")),1),INDIRECT(CONCATENATE(ADDRESS(4,$E13+1,4,1,"recap"),":",ADDRESS(49,$E13+1,4,1,"recap")),1),J$2,RECAP!$C$4:$C$49,$B$3) -> 0
E14: =IF(ISERROR(SMALL(RECAP!$1:$1,ROW()-2)),"",SMALL(RECAP!$1:$1,ROW()-2)) -> 283 | F14: =IF(ISERROR(SMALL(RECAP!$1:$1,ROW()-2)),"",INDIRECT(ADDRESS(2,SMALL(RECAP!$1:$1,ROW()-2),4,1,"RECAP"),1)) -> 12 | G14: =SUMIFS(INDIRECT(CONCATENATE(ADDRESS(4,$E14+5,4,1,"recap"),":",ADDRESS(49,$E14+5,4,1,"recap")),1),INDIRECT(CONCATENATE(ADDRESS(4,$E14+1,4,1,"recap"),":",ADDRESS(49,$E14+1,4,1,"recap")),1),G$2,RECAP!$C$4:$C$49,$B$3) -> 0 | H14: =SUMIFS(INDIRECT(CONCATENATE(ADDRESS(4,$E14+5,4,1,"recap"),":",ADDRESS(49,$E14+5,4,1,"recap")),1),INDIRECT(CONCATENATE(ADDRESS(4,$E14+1,4,1,"recap"),":",ADDRESS(49,$E14+1,4,1,"recap")),1),H$2,RECAP!$C$4:$C$49,$B$3) -> 0 | I14: =SUMIFS(INDIRECT(CONCATENATE(ADDRESS(4,$E14+5,4,1,"recap"),":",ADDRESS(49,$E14+5,4,1,"recap")),1),INDIRECT(CONCATENATE(ADDRESS(4,$E14+1,4,1,"recap"),":",ADDRESS(49,$E14+1,4,1,"recap")),1),I$2,RECAP!$C$4:$C$49,$B$3) -> 0 | J14: =SUMIFS(INDIRECT(CONCATENATE(ADDRESS(4,$E14+5,4,1,"recap"),":",ADDRESS(49,$E14+5,4,1,"recap")),1),INDIRECT(CONCATENATE(ADDRESS(4,$E14+1,4,1,"recap"),":",ADDRESS(49,$E14+1,4,1,"recap")),1),J$2,RECAP!$C$4:$C$49,$B$3) -> 0
E15: =IF(ISERROR(SMALL(RECAP!$1:$1,ROW()-2)),"",SMALL(RECAP!$1:$1,ROW()-2)) -> 308 | F15: =IF(ISERROR(SMALL(RECAP!$1:$1,ROW()-2)),"",INDIRECT(ADDRESS(2,SMALL(RECAP!$1:$1,ROW()-2),4,1,"RECAP"),1)) -> 13 | G15: =SUMIFS(INDIRECT(CONCATENATE(ADDRESS(4,$E15+5,4,1,"recap"),":",ADDRESS(49,$E15+5,4,1,"recap")),1),INDIRECT(CONCATENATE(ADDRESS(4,$E15+1,4,1,"recap"),":",ADDRESS(49,$E15+1,4,1,"recap")),1),G$2,RECAP!$C$4:$C$49,$B$3) -> 0 | H15: =SUMIFS(INDIRECT(CONCATENATE(ADDRESS(4,$E15+5,4,1,"recap"),":",ADDRESS(49,$E15+5,4,1,"recap")),1),INDIRECT(CONCATENATE(ADDRESS(4,$E15+1,4,1,"recap"),":",ADDRESS(49,$E15+1,4,1,"recap")),1),H$2,RECAP!$C$4:$C$49,$B$3) -> 0 | I15: =SUMIFS(INDIRECT(CONCATENATE(ADDRESS(4,$E15+5,4,1,"recap"),":",ADDRESS(49,$E15+5,4,1,"recap")),1),INDIRECT(CONCATENATE(ADDRESS(4,$E15+1,4,1,"recap"),":",ADDRESS(49,$E15+1,4,1,"recap")),1),I$2,RECAP!$C$4:$C$49,$B$3) -> 0 | J15: =SUMIFS(INDIRECT(CONCATENATE(ADDRESS(4,$E15+5,4,1,"recap"),":",ADDRESS(49,$E15+5,4,1,"recap")),1),INDIRECT(CONCATENATE(ADDRESS(4,$E15+1,4,1,"recap"),":",ADDRESS(49,$E15+1,4,1,"recap")),1),J$2,RECAP!$C$4:$C$49,$B$3) -> 0
... E32: =IF(ISERROR(SMALL(RECAP!$1:$1,ROW()-2)),"",SMALL(RECAP!$1:$1,ROW()-2)) -> 725 | F32: =IF(ISERROR(SMALL(RECAP!$1:$1,ROW()-2)),"",INDIRECT(ADDRESS(2,SMALL(RECAP!$1:$1,ROW()-2),4,1,"RECAP"),1)) -> 30 | G32: =SUMIFS(INDIRECT(CONCATENATE(ADDRESS(4,$E32+5,4,1,"recap"),":",ADDRESS(49,$E32+5,4,1,"recap")),1),INDIRECT(CONCATENATE(ADDRESS(4,$E32+1,4,1,"recap"),":",ADDRESS(49,$E32+1,4,1,"recap")),1),G$2,RECAP!$C$4:$C$49,$B$3) -> 0 | H32: =SUMIFS(INDIRECT(CONCATENATE(ADDRESS(4,$E32+5,4,1,"recap"),":",ADDRESS(49,$E32+5,4,1,"recap")),1),INDIRECT(CONCATENATE(ADDRESS(4,$E32+1,4,1,"recap"),":",ADDRESS(49,$E32+1,4,1,"recap")),1),H$2,RECAP!$C$4:$C$49,$B$3) -> 0 | I32: =SUMIFS(INDIRECT(CONCATENATE(ADDRESS(4,$E32+5,4,1,"recap"),":",ADDRESS(49,$E32+5,4,1,"recap")),1),INDIRECT(CONCATENATE(ADDRESS(4,$E32+1,4,1,"recap"),":",ADDRESS(49,$E32+1,4,1,"recap")),1),I$2,RECAP!$C$4:$C$49,$B$3) -> 0 | J32: =SUMIFS(INDIRECT(CONCATENATE(ADDRESS(4,$E32+5,4,1,"recap"),":",ADDRESS(49,$E32+5,4,1,"recap")),1),INDIRECT(CONCATENATE(ADDRESS(4,$E32+1,4,1,"recap"),":",ADDRESS(49,$E32+1,4,1,"recap")),1),J$2,RECAP!$C$4:$C$49,$B$3) -> 0
