Workbook

Sheet Data v2
A1: Year | B1: Quarter | C1: Sold By Name | D1: Transaction Type (SNS or B2B) | E1: LOB | F1: Grouped LOBs | G1: CS / ES | H1: Affinity ID-GCC | I1: Reseller Name | J1: Reseller Type | K1: Reseller Type Updated | L1: Reseller type updated 2 | M1: Reseller Type Group | N1: Sales Units
A2: 2017 | B2: Q2 | C2: TECH DATA_GCC | D2: SNS | E2: CLOUD CLIENT | F2: THIN CLIENT | G2: Enterprise Solutions | H2: 2033016660 | I2: HOLLAND COMPUTER SYSTEMS B,V, | J2: - | K2: =IFERROR(VLOOKUP(H2*1,'Merkleinc Datafeeds FY19Q2 wk12'!$A$1:$B$28527,2,1),"") -> AUTHORIZED RESELLER | L2: =IFERROR(VLOOKUP(H2*1,'Merkleinc Datafeeds FY19Q2 wk12'!$A$1:$E$28527,5,1),"") -> GOLD | M2: Not authorized / null / unlknown / - | N2: 50
A3: 2017 | B3: Q2 | C3: TECH DATA_GCC | D3: SNS | E3: CLOUD CLIENT | F3: THIN CLIENT | G3: Enterprise Solutions | H3: - | I3: RSE TELECOM WINSCHOTEN B.V. | J3: - | K3: =IFERROR(VLOOKUP(H3*1,'Merkleinc Datafeeds FY19Q2 wk12'!$A$1:$B$28527,2,1),"") | L3: =IFERROR(VLOOKUP(H3*1,'Merkleinc Datafeeds FY19Q2 wk12'!$A$1:$E$28527,5,1),"") | M3: Not authorized / null / unlknown / - | N3: 1
A4: 2017 | B4: Q2 | C4: Copaco | D4: B2B | E4: IMAGING | F4: CS SOFTWARE AND PERIPHERALS | G4: Client Solutions | H4: 2695160799 | I4: BBD Investments B.V. | J4: - | K4: =IFERROR(VLOOKUP(H4*1,'Merkleinc Datafeeds FY19Q2 wk12'!$A$1:$B$28527,2,1),"") -> AUTHORIZED RESELLER | L4: =IFERROR(VLOOKUP(H4*1,'Merkleinc Datafeeds FY19Q2 wk12'!$A$1:$E$28527,5,1),"") -> TITANIUM | M4: Not authorized / null / unlknown / - | N4: 2
A5: 2017 | B5: Q2 | C5: Copaco | D5: B2B | E5: NON SYSTEM OTHER | F5: NON TIED | G5: Enterprise Solutions | H5: 2695160799 | I5: BBD Investments B.V. | J5: - | K5: =IFERROR(VLOOKUP(H5*1,'Merkleinc Datafeeds FY19Q2 wk12'!$A$1:$B$28527,2,1),"") -> AUTHORIZED RESELLER | L5: =IFERROR(VLOOKUP(H5*1,'Merkleinc Datafeeds FY19Q2 wk12'!$A$1:$E$28527,5,1),"") -> TITANIUM | M5: Not authorized / null / unlknown / - | N5: 2
A6: 2017 | B6: Q2 | C6: TECH DATA_GCC | D6: SNS | E6: CLOUD CLIENT | F6: THIN CLIENT | G6: Enterprise Solutions | H6: 2537505060 | I6: THE RENT COMPANY B.V. | J6: Preferred | K6: =IFERROR(VLOOKUP(H6*1,'Merkleinc Datafeeds FY19Q2 wk12'!$A$1:$B$28527,2,1),"") -> TITANIUM | L6: =IFERROR(VLOOKUP(H6*1,'Merkleinc Datafeeds FY19Q2 wk12'!$A$1:$E$28527,5,1),"") -> GOLD | N6: 3500
A7: 2017 | B7: Q2 | C7: Copaco | D7: B2B | E7: LATITUDE | F7: COMMERCIAL | G7: Client Solutions | H7: 2695160799 | I7: BBD Investments B.V. | J7: - | K7: =IFERROR(VLOOKUP(H7*1,'Merkleinc Datafeeds FY19Q2 wk12'!$A$1:$B$28527,2,1),"") -> AUTHORIZED RESELLER | L7: =IFERROR(VLOOKUP(H7*1,'Merkleinc Datafeeds FY19Q2 wk12'!$A$1:$E$28527,5,1),"") -> TITANIUM | M7: Not authorized / null / unlknown / - | N7: 5
A8: 2017 | B8: Q2 | C8: TECH DATA_GCC | D8: SNS | E8: CLOUD CLIENT | F8: THIN CLIENT | G8: Enterprise Solutions | H8: 3326933496 | I8: CONOSCENZA NOORD-NEDERLAND B.V. | J8: Registered | K8: =IFERROR(VLOOKUP(H8*1,'Merkleinc Datafeeds FY19Q2 wk12'!$A$1:$B$28527,2,1),"") -> GOLD | L8: =IFERROR(VLOOKUP(H8*1,'Merkleinc Datafeeds FY19Q2 wk12'!$A$1:$E$28527,5,1),"") -> TITANIUM | M8: Authorized / Autrhorized reseller / Registered | N8: 1
A9: 2017 | B9: Q2 | C9: TECH DATA_GCC | D9: SNS | E9: CLOUD CLIENT | F9: THIN CLIENT | G9: Enterprise Solutions | H9: - | I9: Q PRODUCTS | J9: - | K9: =IFERROR(VLOOKUP(H9*1,'Merkleinc Datafeeds FY19Q2 wk12'!$A$1:$B$28527,2,1),"") | L9: =IFERROR(VLOOKUP(H9*1,'Merkleinc Datafeeds FY19Q2 wk12'!$A$1:$E$28527,5,1),"") | M9: Not authorized / null / unlknown / - | N9: 1
A10: 2017 | B10: Q2 | C10: Copaco | D10: B2B | E10: POWEREDGE | F10: POWEREDGE SERVERS | G10: Enterprise Solutions | H10: 2695160799 | I10: BBD Investments B.V. | J10: - | K10: =IFERROR(VLOOKUP(H10*1,'Merkleinc Datafeeds FY19Q2 wk12'!$A$1:$B$28527,2,1),"") -> AUTHORIZED RESELLER | L10: =IFERROR(VLOOKUP(H10*1,'Merkleinc Datafeeds FY19Q2 wk12'!$A$1:$E$28527,5,1),"") -> TITANIUM | M10: Not authorized / null / unlknown / - | N10: 6
A11: 2017 | B11: Q2 | C11: INGRAM MICRO NETHERLANDS | D11: SNS | E11: CLOUD CLIENT | F11: THIN CLIENT | G11: Enterprise Solutions | H11: 2453322456 | I11: BECHTLE DIRECT B.V. | J11: - | K11: =IFERROR(VLOOKUP(H11*1,'Merkleinc Datafeeds FY19Q2 wk12'!$A$1:$B$28527,2,1),"") -> AUTHORIZED RESELLER | L11: =IFERROR(VLOOKUP(H11*1,'Merkleinc Datafeeds FY19Q2 wk12'!$A$1:$E$28527,5,1),"") -> TITANIUM | M11: Not authorized / null / unlknown / - | N11: 4
A12: 2017 | B12: Q2 | C12: INGRAM MICRO NETHERLANDS | D12: SNS | E12: CLOUD CLIENT | F12: THIN CLIENT | G12: Enterprise Solutions | H12: 2125177266 | I12: CENTRAL POINT NEDERLAND B.V. | J12: Premier | K12: =IFERROR(VLOOKUP(H12*1,'Merkleinc Datafeeds FY19Q2 wk12'!$A$1:$B$28527,2,1),"") -> AUTHORIZED RESELLER | L12: =IFERROR(VLOOKUP(H12*1,'Merkleinc Datafeeds FY19Q2 wk12'!$A$1:$E$28527,5,1),"") -> GOLD | N12: 17
A13: 2017 | B13: Q2 | C13: Copaco | D13: B2B | E13: SUPPORT SERVICES | F13: SUPPORT AND DEPLOYMENT | G13: Enterprise Solutions | H13: 2695160799 | I13: BBD Investments B.V. | J13: - | K13: =IFERROR(VLOOKUP(H13*1,'Merkleinc Datafeeds FY19Q2 wk12'!$A$1:$B$28527,2,1),"") -> AUTHORIZED RESELLER | L13: =IFERROR(VLOOKUP(H13*1,'Merkleinc Datafeeds FY19Q2 wk12'!$A$1:$E$28527,5,1),"") -> TITANIUM | M13: Not authorized / null / unlknown / - | N13: 7
A14: 2017 | B14: Q2 | C14: Copaco | D14: B2B | E14: PERSONAL NOTEBOOKS | F14: CONSUMER | G14: Client Solutions | H14: 2612027353 | I14: ARP Nederland B.V. | J14: - | K14: =IFERROR(VLOOKUP(H14*1,'Merkleinc Datafeeds FY19Q2 wk12'!$A$1:$B$28527,2,1),"") -> AUTHORIZED RESELLER | L14: =IFERROR(VLOOKUP(H14*1,'Merkleinc Datafeeds FY19Q2 wk12'!$A$1:$E$28527,5,1),"") -> TITANIUM | M14: Not authorized / null / unlknown / - | N14: 3
A15: 2017 | B15: Q2 | C15: Copaco | D15: B2B | E15: DISPLAYS | F15: CS SOFTWARE AND PERIPHERALS | G15: Client Solutions | H15: 2612027353 | I15: ARP Nederland B.V. | J15: - | K15: =IFERROR(VLOOKUP(H15*1,'Merkleinc Datafeeds FY19Q2 wk12'!$A$1:$B$28527,2,1),"") -> AUTHORIZED RESELLER | L15: =IFERROR(VLOOKUP(H15*1,'Merkleinc Datafeeds FY19Q2 wk12'!$A$1:$E$28527,5,1),"") -> TITANIUM | M15: Not authorized / null / unlknown / - | N15: 2
A16: 2017 | B16: Q2 | C16: INGRAM MICRO NETHERLANDS | D16: SNS | E16: CLOUD CLIENT | F16: THIN CLIENT | G16: Enterprise Solutions | H16: 2125146042 | I16: MISCO NEDERLAND B.V. | J16: - | K16: =IFERROR(VLOOKUP(H16*1,'Merkleinc Datafeeds FY19Q2 wk12'!$A$1:$B$28527,2,1),"") -> AUTHORIZED RESELLER | L16: =IFERROR(VLOOKUP(H16*1,'Merkleinc Datafeeds FY19Q2 wk12'!$A$1:$E$28527,5,1),"") -> GOLD | M16: Not authorized / null / unlknown / - | N16: 1
A17: 2017 | B17: Q2 | C17: Copaco | D17: B2B | E17: XPS NOTEBOOKS | F17: CONSUMER | G17: Client Solutions | H17: 2612027353 | I17: ARP Nederland B.V. | J17: - | K17: =IFERROR(VLOOKUP(H17*1,'Merkleinc Datafeeds FY19Q2 wk12'!$A$1:$B$28527,2,1),"") -> AUTHORIZED RESELLER | L17: =IFERROR(VLOOKUP(H17*1,'Merkleinc Datafeeds FY19Q2 wk12'!$A$1:$E$28527,5,1),"") -> TITANIUM | M17: Not authorized / null / unlknown / - | N17: 6
A18: 2017 | B18: Q2 | C18: INGRAM MICRO NETHERLANDS | D18: SNS | E18: CLOUD CLIENT | F18: THIN CLIENT | G18: Enterprise Solutions | H18: 1926572838 | I18: SCHOLTEN AWATER B.V. | J18: Premier | K18: =IFERROR(VLOOKUP(H18*1,'Merkleinc Datafeeds FY19Q2 wk12'!$A$1:$B$28527,2,1),"") -> AUTHORIZED RESELLER | L18: =IFERROR(VLOOKUP(H18*1,'Merkleinc Datafeeds FY19Q2 wk12'!$A$1:$E$28527,5,1),"") -> GOLD | N18: 7
A19: 2017 | B19: Q2 | C19: Copaco | D19: B2B | E19: IMAGING | F19: CS SOFTWARE AND PERIPHERALS | G19: Client Solutions | H19: 2612027353 | I19: ARP Nederland B.V. | J19: - | K19: =IFERROR(VLOOKUP(H19*1,'Merkleinc Datafeeds FY19Q2 wk12'!$A$1:$B$28527,2,1),"") -> AUTHORIZED RESELLER | L19: =IFERROR(VLOOKUP(H19*1,'Merkleinc Datafeeds FY19Q2 wk12'!$A$1:$E$28527,5,1),"") -> TITANIUM | M19: Not authorized / null / unlknown / - | N19: 3
A20: 2017 | B20: Q2 | C20: Copaco | D20: B2B | E20: NON SYSTEM OTHER | F20: NON TIED | G20: Enterprise Solutions | H20: 2612027353 | I20: ARP Nederland B.V. | J20: - | K20: =IFERROR(VLOOKUP(H20*1,'Merkleinc Datafeeds FY19Q2 wk12'!$A$1:$B$28527,2,1),"") -> AUTHORIZED RESELLER | L20: =IFERROR(VLOOKUP(H20*1,'Merkleinc Datafeeds FY19Q2 wk12'!$A$1:$E$28527,5,1),"") -> TITANIUM | M20: Not authorized / null / unlknown / - | N20: 596
A21: 2017 | B21: Q2 | C21: INGRAM MICRO NETHERLANDS | D21: SNS | E21: CLOUD CLIENT | F21: THIN CLIENT | G21: Enterprise Solutions | H21: 2609489052 | I21: AZERTY B.V. | J21: - | K21: =IFERROR(VLOOKUP(H21*1,'Merkleinc Datafeeds FY19Q2 wk12'!$A$1:$B$28527,2,1),"") -> AUTHORIZED RESELLER | L21: =IFERROR(VLOOKUP(H21*1,'Merkleinc Datafeeds FY19Q2 wk12'!$A$1:$E$28527,5,1),"") -> GOLD | M21: Not authorized / null / unlknown / - | N21: 10
A22: 2017 | B22: Q2 | C22: Copaco | D22: B2B | E22: LATITUDE | F22: COMMERCIAL | G22: Client Solutions | H22: 2612027353 | I22: ARP Nederland B.V. | J22: - | K22: =IFERROR(VLOOKUP(H22*1,'Merkleinc Datafeeds FY19Q2 wk12'!$A$1:$B$28527,2,1),"") -> AUTHORIZED RESELLER | L22: =IFERROR(VLOOKUP(H22*1,'Merkleinc Datafeeds FY19Q2 wk12'!$A$1:$E$28527,5,1),"") -> TITANIUM | M22: Not authorized / null / unlknown / - | N22: 186
A23: 2017 | B23: Q2 | C23: INGRAM MICRO NETHERLANDS | D23: SNS | E23: CLOUD CLIENT | F23: THIN CLIENT | G23: Enterprise Solutions | H23: 1702775112 | I23: INFOTHEEK GROEP BV | J23: - | K23: =IFERROR(VLOOKUP(H23*1,'Merkleinc Datafeeds FY19Q2 wk12'!$A$1:$B$28527,2,1),"") -> TITANIUM | L23: =IFERROR(VLOOKUP(H23*1,'Merkleinc Datafeeds FY19Q2 wk12'!$A$1:$E$28527,5,1),"") -> TITANIUM | M23: Not authorized / null / unlknown / - | N23: 2
A24: 2017 | B24: Q2 | C24: Copaco | D24: B2B | E24: OPTIPLEX DESKTOPS | F24: COMMERCIAL | G24: Client Solutions | H24: 2612027353 | I24: ARP Nederland B.V. | J24: - | K24: =IFERROR(VLOOKUP(H24*1,'Merkleinc Datafeeds FY19Q2 wk12'!$A$1:$B$28527,2,1),"") -> AUTHORIZED RESELLER | L24: =IFERROR(VLOOKUP(H24*1,'Merkleinc Datafeeds FY19Q2 wk12'!$A$1:$E$28527,5,1),"") -> TITANIUM | M24: Not authorized / null / unlknown / - | N24: 134
A25: 2017 | B25: Q2 | C25: INGRAM MICRO NETHERLANDS | D25: SNS | E25: CLOUD CLIENT | F25: THIN CLIENT | G25: Enterprise Solutions | H25: - | I25: PROJECTSERVE ICT B.V. | J25: - | K25: =IFERROR(VLOOKUP(H25*1,'Merkleinc Datafeeds FY19Q2 wk12'!$A$1:$B$28527,2,1),"") | L25: =IFERROR(VLOOKUP(H25*1,'Merkleinc Datafeeds FY19Q2 wk12'!$A$1:$E$28527,5,1),"") | M25: Not authorized / null / unlknown / - | N25: 2
A26: 2017 | B26: Q2 | C26: INGRAM MICRO NETHERLANDS | D26: SNS | E26: CLOUD CLIENT | F26: THIN CLIENT | G26: Enterprise Solutions | H26: 2473606472 | I26: CASE ELEKTRONICS B.V. | J26: Registered | K26: =IFERROR(VLOOKUP(H26*1,'Merkleinc Datafeeds FY19Q2 wk12'!$A$1:$B$28527,2,1),"") -> AUTHORIZED RESELLER | L26: =IFERROR(VLOOKUP(H26*1,'Merkleinc Datafeeds FY19Q2 wk12'!$A$1:$E$28527,5,1),"") -> GOLD | M26: Authorized / Autrhorized reseller / Registered | N26: 5
A27: 2017 | B27: Q2 | C27: Copaco | D27: B2B | E27: MOBILE WORKSTATIONS | F27: COMMERCIAL | G27: Client Solutions | H27: 2612027353 | I27: ARP Nederland B.V. | J27: - | K27: =IFERROR(VLOOKUP(H27*1,'Merkleinc Datafeeds FY19Q2 wk12'!$A$1:$B$28527,2,1),"") -> AUTHORIZED RESELLER | L27: =IFERROR(VLOOKUP(H27*1,'Merkleinc Datafeeds FY19Q2 wk12'!$A$1:$E$28527,5,1),"") -> TITANIUM | M27: Not authorized / null / unlknown / - | N27: 19
A28: 2017 | B28: Q2 | C28: Copaco | D28: B2B | E28: POWEREDGE | F28: POWEREDGE SERVERS | G28: Enterprise Solutions | H28: 2612027353 | I28: ARP Nederland B.V. | J28: - | K28: =IFERROR(VLOOKUP(H28*1,'Merkleinc Datafeeds FY19Q2 wk12'!$A$1:$B$28527,2,1),"") -> AUTHORIZED RESELLER | L28: =IFERROR(VLOOKUP(H28*1,'Merkleinc Datafeeds FY19Q2 wk12'!$A$1:$E$28527,5,1),"") -> TITANIUM | M28: Not authorized / null / unlknown / - | N28: 2
A29: 2017 | B29: Q2 | C29: Copaco | D29: B2B | E29: FIXED WORKSTATIONS | F29: COMMERCIAL | G29: Client Solutions | H29: 2612027353 | I29: ARP Nederland B.V. | J29: - | K29: =IFERROR(VLOOKUP(H29*1,'Merkleinc Datafeeds FY19Q2 wk12'!$A$1:$B$28527,2,1),"") -> AUTHORIZED RESELLER | L29: =IFERROR(VLOOKUP(H29*1,'Merkleinc Datafeeds FY19Q2 wk12'!$A$1:$E$28527,5,1),"") -> TITANIUM | M29: Not authorized / null / unlknown / - | N29: 28
A30: 2017 | B30: Q2 | C30: Copaco | D30: B2B | E30: CLIENT PERIPHERALS | F30: CS SOFTWARE AND PERIPHERALS | G30: Client Solutions | H30: 2612027353 | I30: ARP Nederland B.V. | J30: - | K30: =IFERROR(VLOOKUP(H30*1,'Merkleinc Datafeeds FY19Q2 wk12'!$A$1:$B$28527,2,1),"") -> AUTHORIZED RESELLER | L30: =IFERROR(VLOOKUP(H30*1,'Merkleinc Datafeeds FY19Q2 wk12'!$A$1:$E$28527,5,1),"") -> TITANIUM | M30: Not authorized / null / unlknown / - | N30: 106
... A77: 2017 | B77: Q2 | C77: Copaco | D77: B2B | E77: CLOUD CLIENT | F77: THIN CLIENT | G77: Enterprise Solutions | H77: 1873073805 | I77: ACES Direct B.V. | J77: - | K77: =IFERROR(VLOOKUP(H77*1,'Merkleinc Datafeeds FY19Q2 wk12'!$A$1:$B$28527,2,1),"") -> AUTHORIZED RESELLER | L77: =IFERROR(VLOOKUP(H77*1,'Merkleinc Datafeeds FY19Q2 wk12'!$A$1:$E$28527,5,1),"") -> GOLD | M77: Not authorized / null / unlknown / - | N77: 12
A78: 2017 | B78: Q2 | C78: Copaco | D78: B2B | E78: NON SYSTEM OTHER | F78: NON TIED | G78: Enterprise Solutions | H78: 2915446282 | I78: Insight Enterprises Netherlands B.V | J78: Preferred | K78: =IFERROR(VLOOKUP(H78*1,'Merkleinc Datafeeds FY19Q2 wk12'!$A$1:$B$28527,2,1),"") -> TITANIUM | L78: =IFERROR(VLOOKUP(H78*1,'Merkleinc Datafeeds FY19Q2 wk12'!$A$1:$E$28527,5,1),"") -> TITANIUM | N78: 44
A79: 2017 | B79: Q2 | C79: Copaco | D79: B2B | E79: LATITUDE | F79: COMMERCIAL | G79: Client Solutions | H79: 2915446282 | I79: Insight Enterprises Netherlands B.V | J79: Preferred | K79: =IFERROR(VLOOKUP(H79*1,'Merkleinc Datafeeds FY19Q2 wk12'!$A$1:$B$28527,2,1),"") -> TITANIUM | L79: =IFERROR(VLOOKUP(H79*1,'Merkleinc Datafeeds FY19Q2 wk12'!$A$1:$E$28527,5,1),"") -> TITANIUM | N79: 30
A80: 2017 | B80: Q2 | C80: Copaco | D80: B2B | E80: MOBILE WORKSTATIONS | F80: COMMERCIAL | G80: Client Solutions | H80: 2915446282 | I80: Insight Enterprises Netherlands B.V | J80: Preferred | K80: =IFERROR(VLOOKUP(H80*1,'Merkleinc Datafeeds FY19Q2 wk12'!$A$1:$B$28527,2,1),"") -> TITANIUM | L80: =IFERROR(VLOOKUP(H80*1,'Merkleinc Datafeeds FY19Q2 wk12'!$A$1:$E$28527,5,1),"") -> TITANIUM | N80: 1
A81: 2017 | B81: Q2 | C81: Copaco | D81: B2B | E81: POWEREDGE | F81: POWEREDGE SERVERS | G81: Enterprise Solutions | H81: 2915446282 | I81: Insight Enterprises Netherlands B.V | J81: Preferred | K81: =IFERROR(VLOOKUP(H81*1,'Merkleinc Datafeeds FY19Q2 wk12'!$A$1:$B$28527,2,1),"") -> TITANIUM | L81: =IFERROR(VLOOKUP(H81*1,'Merkleinc Datafeeds FY19Q2 wk12'!$A$1:$E$28527,5,1),"") -> TITANIUM | N81: 34
A82: 2017 | B82: Q2 | C82: Copaco | D82: B2B | E82: FIXED WORKSTATIONS | F82: COMMERCIAL | G82: Client Solutions | H82: 2915446282 | I82: Insight Enterprises Netherlands B.V | J82: Preferred | K82: =IFERROR(VLOOKUP(H82*1,'Merkleinc Datafeeds FY19Q2 wk12'!$A$1:$B$28527,2,1),"") -> TITANIUM | L82: =IFERROR(VLOOKUP(H82*1,'Merkleinc Datafeeds FY19Q2 wk12'!$A$1:$E$28527,5,1),"") -> TITANIUM | N82: 15
A83: 2017 | B83: Q2 | C83: Copaco | D83: B2B | E83: DELL STORAGE OEM | F83: STORAGE | G83: Enterprise Solutions | H83: 2915446282 | I83: Insight Enterprises Netherlands B.V | J83: Preferred | K83: =IFERROR(VLOOKUP(H83*1,'Merkleinc Datafeeds FY19Q2 wk12'!$A$1:$B$28527,2,1),"") -> TITANIUM | L83: =IFERROR(VLOOKUP(H83*1,'Merkleinc Datafeeds FY19Q2 wk12'!$A$1:$E$28527,5,1),"") -> TITANIUM | N83: -1
A84: 2017 | B84: Q2 | C84: Copaco | D84: B2B | E84: ENTERPRISE PERIPHERALS | F84: ESG SOFTWARE AND PERIPHERALS | G84: Client Solutions | H84: 2915446282 | I84: Insight Enterprises Netherlands B.V | J84: Preferred | K84: =IFERROR(VLOOKUP(H84*1,'Merkleinc Datafeeds FY19Q2 wk12'!$A$1:$B$28527,2,1),"") -> TITANIUM | L84: =IFERROR(VLOOKUP(H84*1,'Merkleinc Datafeeds FY19Q2 wk12'!$A$1:$E$28527,5,1),"") -> TITANIUM | N84: 16
A85: 2017 | B85: Q2 | C85: Copaco | D85: B2B | E85: CLIENT PERIPHERALS | F85: CS SOFTWARE AND PERIPHERALS | G85: Client Solutions | H85: 2915446282 | I85: Insight Enterprises Netherlands B.V | J85: Preferred | K85: =IFERROR(VLOOKUP(H85*1,'Merkleinc Datafeeds FY19Q2 wk12'!$A$1:$B$28527,2,1),"") -> TITANIUM | L85: =IFERROR(VLOOKUP(H85*1,'Merkleinc Datafeeds FY19Q2 wk12'!$A$1:$E$28527,5,1),"") -> TITANIUM | N85: 2
A86: 2017 | B86: Q2 | C86: Copaco | D86: B2B | E86: TABLETS | F86: TABLET DEVICES | G86: Client Solutions | H86: 2915446282 | I86: Insight Enterprises Netherlands B.V | J86: Preferred | K86: =IFERROR(VLOOKUP(H86*1,'Merkleinc Datafeeds FY19Q2 wk12'!$A$1:$B$28527,2,1),"") -> TITANIUM | L86: =IFERROR(VLOOKUP(H86*1,'Merkleinc Datafeeds FY19Q2 wk12'!$A$1:$E$28527,5,1),"") -> TITANIUM | N86: 1
...

Sheet Merkleinc Datafeeds FY19Q2 wk12
A1: affinity_id_gcc | B1: reseller_type | D1: reseller_name | E1: reseller_type
A2: 1702775112 | B2: TITANIUM | D2: 1 | E2: Test | K2: =IFERROR(VLOOKUP(H2*1,'Merkleinc Datafeeds FY19Q2 wk12'!$A$1:$B$20000,2,1),"")
A3: 1702775112 | B3: TITANIUM | D3: CENTRAL POINT NEDERLAND B.V. | E3: TITANIUM | K3: =IFERROR(VLOOKUP(H3*1,'Merkleinc Datafeeds FY19Q2 wk12'!$A$1:$B$20000,2,1),"")
A4: 1702775112 | B4: TITANIUM | D4: CENTRAL POINT NEDERLAND B.V. | E4: TITANIUM | K4: =IFERROR(VLOOKUP(H4*1,'Merkleinc Datafeeds FY19Q2 wk12'!$A$1:$B$20000,2,1),"")
A5: 1702775112 | B5: TITANIUM | D5: CENTRAL POINT NEDERLAND B.V. | E5: TITANIUM | K5: =IFERROR(VLOOKUP(H5*1,'Merkleinc Datafeeds FY19Q2 wk12'!$A$1:$B$20000,2,1),"")
A6: 1702775112 | B6: AUTHORIZED RESELLER | D6: CENTRAL POINT NEDERLAND B.V. | E6: TITANIUM | K6: =IFERROR(VLOOKUP(H6*1,'Merkleinc Datafeeds FY19Q2 wk12'!$A$1:$B$20000,2,1),"")
A7: 1702691963 | B7: AUTHORIZED RESELLER | D7: 4LAUNCH B.V. | E7: AUTHORIZED RESELLER | K7: =IFERROR(VLOOKUP(H7*1,'Merkleinc Datafeeds FY19Q2 wk12'!$A$1:$B$20000,2,1),"")
A8: 1703893874 | B8: GOLD | D8: HAV ADVISOR INTERNATIONAL B.V. | E8: AUTHORIZED RESELLER | K8: =IFERROR(VLOOKUP(H8*1,'Merkleinc Datafeeds FY19Q2 wk12'!$A$1:$B$20000,2,1),"")
A9: 1703893874 | B9: GOLD | D9: ACKNOWLEDGE BENELUX B.V. | E9: GOLD | K9: =IFERROR(VLOOKUP(H9*1,'Merkleinc Datafeeds FY19Q2 wk12'!$A$1:$B$20000,2,1),"")
A10: 2381946499 | B10: AUTHORIZED RESELLER | D10: ACKNOWLEDGE BENELUX B.V. | E10: GOLD | K10: =IFERROR(VLOOKUP(H10*1,'Merkleinc Datafeeds FY19Q2 wk12'!$A$1:$B$20000,2,1),"")
A11: 2612027353 | B11: TITANIUM | D11: TECHNOFARM B.V. | E11: AUTHORIZED RESELLER | K11: =IFERROR(VLOOKUP(H11*1,'Merkleinc Datafeeds FY19Q2 wk12'!$A$1:$B$20000,2,1),"")
A12: 2612027353 | B12: TITANIUM | D12: ARP NEDERLAND B.V. | E12: TITANIUM | K12: =IFERROR(VLOOKUP(H12*1,'Merkleinc Datafeeds FY19Q2 wk12'!$A$1:$B$20000,2,1),"")
A13: 2612027353 | B13: TITANIUM | D13: ARP NEDERLAND B.V. | E13: TITANIUM | K13: =IFERROR(VLOOKUP(H13*1,'Merkleinc Datafeeds FY19Q2 wk12'!$A$1:$B$20000,2,1),"")
A14: 2612027353 | B14: TITANIUM | D14: ARP NEDERLAND B.V. | E14: TITANIUM | K14: =IFERROR(VLOOKUP(H14*1,'Merkleinc Datafeeds FY19Q2 wk12'!$A$1:$B$20000,2,1),"")
... A17: 1902279229 | B17: TITANIUM | D17: ARP NEDERLAND B.V. | E17: TITANIUM | K17: =IFERROR(VLOOKUP(H17*1,'Merkleinc Datafeeds FY19Q2 wk12'!$A$1:$B$20000,2,1),"")
A18: 1902279229 | B18: TITANIUM | D18: E. VAN DEN BRINK | K18: =IFERROR(VLOOKUP(H18*1,'Merkleinc Datafeeds FY19Q2 wk12'!$A$1:$B$20000,2,1),"")
A19: 1902279229 | B19: TITANIUM | D19: MISCO SOLUTIONS B.V. | E19: TITANIUM | K19: =IFERROR(VLOOKUP(H19*1,'Merkleinc Datafeeds FY19Q2 wk12'!$A$1:$B$20000,2,1),"")
A20: 2612027353 | B20: TITANIUM | D20: MISCO SOLUTIONS B.V. | E20: TITANIUM | K20: =IFERROR(VLOOKUP(H20*1,'Merkleinc Datafeeds FY19Q2 wk12'!$A$1:$B$20000,2,1),"")
A21: 2612027353 | B21: TITANIUM | D21: MISCO SOLUTIONS B.V. | E21: TITANIUM | K21: =IFERROR(VLOOKUP(H21*1,'Merkleinc Datafeeds FY19Q2 wk12'!$A$1:$B$20000,2,1),"")
A22: 2612027353 | B22: TITANIUM | D22: ARP NEDERLAND B.V. | E22: TITANIUM | K22: =IFERROR(VLOOKUP(H22*1,'Merkleinc Datafeeds FY19Q2 wk12'!$A$1:$B$20000,2,1),"")
A23: 2612027353 | B23: TITANIUM | D23: ARP NEDERLAND B.V. | E23: TITANIUM | K23: =IFERROR(VLOOKUP(H23*1,'Merkleinc Datafeeds FY19Q2 wk12'!$A$1:$B$20000,2,1),"")
A24: 2612027353 | B24: TITANIUM | D24: ARP NEDERLAND B.V. | E24: TITANIUM | K24: =IFERROR(VLOOKUP(H24*1,'Merkleinc Datafeeds FY19Q2 wk12'!$A$1:$B$20000,2,1),"")
A25: 2612027353 | B25: TITANIUM | D25: ARP NEDERLAND B.V. | E25: TITANIUM | K25: =IFERROR(VLOOKUP(H25*1,'Merkleinc Datafeeds FY19Q2 wk12'!$A$1:$B$20000,2,1),"")
A26: 1702768698 | B26: GOLD | D26: ARP NEDERLAND B.V. | E26: TITANIUM | K26: =IFERROR(VLOOKUP(H26*1,'Merkleinc Datafeeds FY19Q2 wk12'!$A$1:$B$20000,2,1),"")
A27: 3373132652 | B27: AUTHORIZED RESELLER | D27: ARP NEDERLAND B.V. | E27: TITANIUM | K27: =IFERROR(VLOOKUP(H27*1,'Merkleinc Datafeeds FY19Q2 wk12'!$A$1:$B$20000,2,1),"")
A28: 3373132652 | B28: AUTHORIZED RESELLER | D28: H&R AUTOMATISERING B.V. | E28: GOLD | K28: =IFERROR(VLOOKUP(H28*1,'Merkleinc Datafeeds FY19Q2 wk12'!$A$1:$B$20000,2,1),"")
A29: 3373132652 | B29: AUTHORIZED RESELLER | D29: PFISTER WEEGTECHNIEK B.V. | K29: =IFERROR(VLOOKUP(H29*1,'Merkleinc Datafeeds FY19Q2 wk12'!$A$1:$B$20000,2,1),"")
A30: 1702737419 | B30: GOLD | D30: SABRA SOFTWARE B.V. | E30: AUTHORIZED RESELLER | K30: =IFERROR(VLOOKUP(H30*1,'Merkleinc Datafeeds FY19Q2 wk12'!$A$1:$B$20000,2,1),"")
A31: 1702737419 | B31: GOLD | D31: SABRA SOFTWARE B.V. | E31: AUTHORIZED RESELLER | K31: =IFERROR(VLOOKUP(H31*1,'Merkleinc Datafeeds FY19Q2 wk12'!$A$1:$B$20000,2,1),"")
A32: 2399255813 | B32: AUTHORIZED RESELLER | D32: SABRA SOFTWARE B.V. | E32: AUTHORIZED RESELLER | K32: =IFERROR(VLOOKUP(H32*1,'Merkleinc Datafeeds FY19Q2 wk12'!$A$1:$B$20000,2,1),"")
A33: 3380916405 | B33: AUTHORIZED RESELLER | D33: DATABYTE B.V. | E33: GOLD | K33: =IFERROR(VLOOKUP(H33*1,'Merkleinc Datafeeds FY19Q2 wk12'!$A$1:$B$20000,2,1),"")
A34: 1702763957 | B34: AUTHORIZED RESELLER | D34: DATABYTE B.V. | E34: GOLD | K34: =IFERROR(VLOOKUP(H34*1,'Merkleinc Datafeeds FY19Q2 wk12'!$A$1:$B$20000,2,1),"")
A35: 2483502137 | B35: TITANIUM | D35: CERVUS AUTOMATISERING B.V. | E35: AUTHORIZED RESELLER | K35: =IFERROR(VLOOKUP(H35*1,'Merkleinc Datafeeds FY19Q2 wk12'!$A$1:$B$20000,2,1),"")
A36: 2483502137 | B36: TITANIUM | D36: LIBRA SERVICE AUTOMATISERING B.V. | E36: AUTHORIZED RESELLER | K36: =IFERROR(VLOOKUP(H36*1,'Merkleinc Datafeeds FY19Q2 wk12'!$A$1:$B$20000,2,1),"")
A37: 2483502137 | B37: TITANIUM | D37: KNS AUTOMATISERING B.V. | E37: AUTHORIZED RESELLER | K37: =IFERROR(VLOOKUP(H37*1,'Merkleinc Datafeeds FY19Q2 wk12'!$A$1:$B$20000,2,1),"")
A38: 1702731451 | B38: PLATINUM | D38: BUYITDIRECT.COM N.V. | E38: TITANIUM | K38: =IFERROR(VLOOKUP(H38*1,'Merkleinc Datafeeds FY19Q2 wk12'!$A$1:$B$20000,2,1),"")
A39: 1702731451 | B39: PLATINUM | D39: BUYITDIRECT.COM N.V. | E39: TITANIUM | K39: =IFERROR(VLOOKUP(H39*1,'Merkleinc Datafeeds FY19Q2 wk12'!$A$1:$B$20000,2,1),"")
A40: 1702714580 | B40: AUTHORIZED RESELLER | D40: BUYITDIRECT.COM N.V. | E40: TITANIUM | K40: =IFERROR(VLOOKUP(H40*1,'Merkleinc Datafeeds FY19Q2 wk12'!$A$1:$B$20000,2,1),"")
A41: 1702714580 | B41: AUTHORIZED RESELLER | D41: SWITCH IT SOLUTIONS B.V. | E41: PLATINUM | K41: =IFERROR(VLOOKUP(H41*1,'Merkleinc Datafeeds FY19Q2 wk12'!$A$1:$B$20000,2,1),"")
A42: 3378402987 | B42: AUTHORIZED RESELLER | D42: SWITCH IT SOLUTIONS B.V. | E42: PLATINUM | K42: =IFERROR(VLOOKUP(H42*1,'Merkleinc Datafeeds FY19Q2 wk12'!$A$1:$B$20000,2,1),"")
...
