Workbook

Sheet Manquants
A1: N° colis | B1: N° OP | C1: N° ligne OP | D1: Etat | E1: Article | F1: Secteur | G1: Adresse | H1: Manquant saisi le | I1: Société | J1: Unité logistique | K1: Motif manquant | L1: Traitement particulier | M1: Nb relevés | N1: Traçabilité | O1: Manquant saisi par | P1: Préparé le | Q1: Préparé par | R1: Modifié le | S1: Modifié dans | T1: Modifié par | U1: N° colis automate | V1: N° kit | W1: Unité des quantités | X1: Quantité colisée | Y1: Quantité par paquet | Z1: Quantité préparée | AA1: Quantité déjà préparée | AB1: Quantité par kit | AC1: Relevés à faire | AD1: Relevés gérés | AE1: Manquant à vérifier | AF1: Colisage | AG1: Ligne | AH1: N° contrôle | AI1: manquants
A2: 039999900122246452 | B2: 5737275 | C2: 00019 | D2: Préparé | E2: 126690 | F2: SURG | G2: PCS.04.46.01.A | H2: 03/07/2018 09:22:38 | I2: ad001 | J2: UVC | L2: Non | M2: 0 | N2: 0 | O2: ITRAORE | P2: 01/01/1990 12:00:00 | Q2: 0 | R2: 03/07/2018 09:22:38 | S2: 163 | T2: 7689 | U2: 12224645 | X2: 1 | Y2: 1 | Z2: 0 | AA2: 0 | AB2: 0 | AE2: Non | AG2: 4 | AI2: =SUM(X:X-Z:Z) -> 1 | AK2: =SUM(AI:AI) -> 199
A3: 039999900122166583 | B3: 5737067 | C3: 00014 | D3: Préparé | E3: 152468 | F3: G2P_A | G3: PAA.01.01.01.A | H3: 03/07/2018 09:22:30 | I3: ad001 | J3: UVC | K3: Mvt manquant WCS | L3: Non | M3: 0 | N3: 0 | O3: Tâche | P3: 03/07/2018 09:22:29 | Q3: Tâche | R3: 03/07/2018 09:22:30 | S3: 39 | T3: -1 | U3: 12216658 | X3: 1 | Y3: 1 | Z3: 0 | AA3: 0 | AB3: 0 | AD3: Date LC : Traçabilité totale | AE3: Non | AG3: 12 | AH3: 2 | AI3: =SUM(X:X-Z:Z) -> 1
A4: 039999900122247022 | B4: 5737787 | C4: 00045 | D4: Préparé | E4: 85825 | F4: SURG | G4: PCS.04.16.02.A | H4: 03/07/2018 09:22:15 | I4: ad001 | J4: UVC | L4: Non | M4: 0 | N4: 0 | O4: ITRAORE | P4: 01/01/1990 12:00:00 | Q4: 0 | R4: 03/07/2018 09:22:15 | S4: 150 | T4: 7689 | U4: 12224702 | X4: 1 | Y4: 1 | Z4: 0 | AA4: 0 | AB4: 0 | AE4: Non | AG4: 3 | AI4: =SUM(X:X-Z:Z) -> 1
A5: 039999900122186376 | B5: 5739815 | C5: 00002 | D5: Préparé | E5: 152468 | F5: G2P_A | G5: PAA.01.01.01.A | H5: 03/07/2018 09:21:03 | I5: ad001 | J5: UVC | K5: Mvt manquant WCS | L5: Non | M5: 0 | N5: 0 | O5: Tâche | P5: 03/07/2018 09:21:03 | Q5: Tâche | R5: 03/07/2018 09:21:03 | S5: 39 | T5: -1 | U5: 12218637 | X5: 2 | Y5: 1 | Z5: 0 | AA5: 0 | AB5: 0 | AD5: Date LC : Traçabilité totale | AE5: Non | AG5: 2 | AH5: 2 | AI5: =SUM(X:X-Z:Z) -> 2
A6: 039999900122271157 | B6: 5739979 | C6: 00002 | D6: Préparé | E6: 110999 | F6: SURG | G6: PCS.02.39.04.C | H6: 03/07/2018 09:19:22 | I6: ad001 | J6: UVC | L6: Non | M6: 0 | N6: 0 | O6: ITRAORE | P6: 01/01/1990 12:00:00 | Q6: 0 | R6: 03/07/2018 09:19:22 | S6: 1 | T6: -1 | U6: 12227115 | X6: 3 | Y6: 1 | Z6: 0 | AA6: 0 | AB6: 0 | AE6: Non | AG6: 1 | AI6: =SUM(X:X-Z:Z) -> 3
A7: 039999900122245479 | B7: 5737158 | C7: 00018 | D7: Préparé | E7: 205386 | F7: SURG | G7: PCS.03.26.00.B | H7: 03/07/2018 09:18:18 | I7: ad001 | J7: UVC | L7: Non | M7: 0 | N7: 0 | O7: ITRAORE | P7: 01/01/1990 12:00:00 | Q7: 0 | R7: 03/07/2018 09:18:18 | S7: 177 | T7: 7689 | U7: 12224547 | X7: 1 | Y7: 1 | Z7: 0 | AA7: 0 | AB7: 0 | AE7: Non | AG7: 3 | AI7: =SUM(X:X-Z:Z) -> 1
A8: 039999900122209716 | B8: 5735492 | C8: 00018 | D8: Préparé | E8: 177722 | F8: G2P_A | G8: PAA.01.01.01.A | H8: 03/07/2018 09:17:56 | I8: ad001 | J8: UVC | K8: Mvt manquant WCS | L8: Non | M8: 0 | N8: 0 | O8: Tâche | P8: 03/07/2018 09:17:56 | Q8: SGUIDAT | R8: 03/07/2018 09:17:56 | S8: 39 | T8: -1 | U8: 12220971 | X8: 1 | Y8: 1 | Z8: 0 | AA8: 0 | AB8: 0 | AE8: Non | AG8: 14 | AH8: 2 | AI8: =SUM(X:X-Z:Z) -> 1
A9: 039999900122156676 | B9: 5735769 | C9: 00018 | D9: Préparé | E9: 170955 | F9: G2P_A | G9: PAA.01.01.01.A | H9: 03/07/2018 09:17:24 | I9: ad001 | J9: UVC | K9: Mvt manquant WCS | L9: Non | M9: 0 | N9: 0 | O9: Tâche | P9: 03/07/2018 09:17:24 | Q9: Tâche | R9: 03/07/2018 09:17:24 | S9: 39 | T9: -1 | U9: 12215667 | X9: 3 | Y9: 1 | Z9: 0 | AA9: 0 | AB9: 0 | AE9: Non | AG9: 12 | AH9: 2 | AI9: =SUM(X:X-Z:Z) -> 3
A10: 039999900122225211 | B10: 5739547 | C10: 00012 | D10: Préparé | E10: 129753 | F10: SURG | G10: PCS.04.35.03.C | H10: 03/07/2018 09:14:28 | I10: ad001 | J10: UVC | L10: Non | M10: 0 | N10: 0 | O10: ITRAORE | P10: 01/01/1990 12:00:00 | Q10: 0 | R10: 03/07/2018 09:14:28 | S10: 150 | T10: 7689 | U10: 12222521 | X10: 1 | Y10: 1 | Z10: 0 | AA10: 0 | AB10: 0 | AE10: Non | AG10: 2 | AI10: =SUM(X:X-Z:Z) -> 1
A11: 039999900122231083 | B11: 5742447 | C11: 00001 | D11: Préparé | E11: 102170 | F11: SURG | G11: PCS.04.44.03.B | H11: 03/07/2018 09:10:45 | I11: ad001 | J11: UVC | L11: Non | M11: 0 | N11: 0 | O11: ITRAORE | P11: 01/01/1990 12:00:00 | Q11: 0 | R11: 03/07/2018 09:10:45 | S11: 145 | T11: 7689 | U11: 12223108 | X11: 1 | Y11: 1 | Z11: 0 | AA11: 0 | AB11: 0 | AE11: Non | AG11: 3 | AI11: =SUM(X:X-Z:Z) -> 1
A12: 039999900122225969 | B12: 5740522 | C12: 00018 | D12: Préparé | E12: 61848 | F12: G2P_F | G12: PAF.01.01.01.A | H12: 03/07/2018 09:10:39 | I12: ad001 | J12: UVC | K12: Mvt manquant WCS | L12: Non | M12: 0 | N12: 0 | O12: Tâche | P12: 03/07/2018 09:10:39 | Q12: Tâche | R12: 03/07/2018 09:10:39 | S12: 39 | T12: -1 | U12: 12222596 | X12: 1 | Y12: 1 | Z12: 0 | AA12: 0 | AB12: 0 | AE12: Non | AG12: 3 | AH12: 2 | AI12: =SUM(X:X-Z:Z) -> 1
A13: 039999900122263176 | B13: 5732979 | C13: 00029 | D13: Préparé | E13: 89913 | F13: G2P_F | G13: PAF.01.01.01.A | H13: 03/07/2018 09:09:27 | I13: ad001 | J13: UVC | K13: Mvt manquant WCS | L13: Non | M13: 0 | N13: 0 | O13: Tâche | P13: 03/07/2018 09:09:27 | Q13: Tâche | R13: 03/07/2018 09:09:27 | S13: 39 | T13: -1 | U13: 12226317 | X13: 1 | Y13: 1 | Z13: 0 | AA13: 0 | AB13: 0 | AD13: Date LC : Traçabilité totale | AE13: Non | AG13: 9 | AH13: 2 | AI13: =SUM(X:X-Z:Z) -> 1
A14: 039999900122187618 | B14: 5741148 | C14: 00025 | D14: Préparé | E14: 70635 | F14: G2P_A | G14: PAA.01.01.01.A | H14: 03/07/2018 09:08:16 | I14: ad001 | J14: UVC | K14: Mvt manquant WCS | L14: Non | M14: 0 | N14: 0 | O14: Tâche | P14: 03/07/2018 09:08:16 | Q14: Tâche | R14: 03/07/2018 09:08:16 | S14: 39 | T14: -1 | U14: 12218761 | X14: 1 | Y14: 1 | Z14: 0 | AA14: 0 | AB14: 0 | AE14: Non | AG14: 9 | AH14: 2 | AI14: =SUM(X:X-Z:Z) -> 1
A15: 039999900122171785 | B15: 5736104 | C15: 00038 | D15: Préparé | E15: 230481 | F15: G2P_F | G15: PAF.01.01.01.A | H15: 03/07/2018 09:07:58 | I15: ad001 | J15: UVC | K15: Mvt manquant WCS | L15: Non | M15: 0 | N15: 0 | O15: Tâche | P15: 03/07/2018 09:07:58 | Q15: Tâche | R15: 03/07/2018 09:07:58 | S15: 39 | T15: -1 | U15: 12217178 | X15: 1 | Y15: 1 | Z15: 0 | AA15: 0 | AB15: 0 | AD15: Date LC : Traçabilité totale | AE15: Non | AG15: 14 | AH15: 2 | AI15: =SUM(X:X-Z:Z) -> 1
A16: 039999900122268218 | B16: 5739338 | C16: 00025 | D16: Préparé | E16: 57337 | F16: F05 | G16: PFL.02.23.02.D | H16: 03/07/2018 09:06:56 | I16: ad001 | J16: UVC | K16: Stock vide | L16: Non | M16: 0 | N16: 0 | O16: DBARBOSA | P16: 01/01/1990 12:00:00 | Q16: 0 | R16: 03/07/2018 09:06:56 | S16: 125 | T16: 8539 | U16: 12226821 | X16: 1 | Y16: 1 | Z16: 0 | AA16: 0 | AB16: 0 | AE16: Oui | AG16: 3 | AH16: 2 | AI16: =SUM(X:X-Z:Z) -> 1
A17: 039999900122212594 | B17: 5738516 | C17: 00041 | D17: Préparé | E17: 57337 | F17: F05 | G17: PFL.02.23.02.D | H17: 03/07/2018 09:06:37 | I17: ad001 | J17: UVC | K17: Stock vide | L17: Non | M17: 0 | N17: 0 | O17: DBARBOSA | P17: 01/01/1990 12:00:00 | Q17: 0 | R17: 03/07/2018 09:06:37 | S17: 125 | T17: 8539 | U17: 12221259 | X17: 1 | Y17: 1 | Z17: 0 | AA17: 0 | AB17: 0 | AE17: Oui | AG17: 6 | AH17: 2 | AI17: =SUM(X:X-Z:Z) -> 1
A18: 039999900122270457 | B18: 5741915 | C18: 00037 | D18: Préparé | E18: 57337 | F18: F05 | G18: PFL.02.23.02.D | H18: 03/07/2018 09:05:58 | I18: ad001 | J18: UVC | K18: Stock vide | L18: Non | M18: 0 | N18: 0 | O18: DBARBOSA | P18: 01/01/1990 12:00:00 | Q18: 0 | R18: 03/07/2018 09:05:58 | S18: 125 | T18: 8539 | U18: 12227045 | X18: 1 | Y18: 1 | Z18: 0 | AA18: 0 | AB18: 0 | AE18: Oui | AG18: 4 | AH18: 2 | AI18: =SUM(X:X-Z:Z) -> 1
A19: 039999900122239348 | B19: 5735500 | C19: 00052 | D19: Préparé | E19: 88190 | F19: SURG | G19: PCS.01.25.00.E | H19: 03/07/2018 09:05:34 | I19: ad001 | J19: UVC | L19: Non | M19: 0 | N19: 0 | O19: ITRAORE | P19: 01/01/1990 12:00:00 | Q19: 0 | R19: 03/07/2018 09:05:34 | S19: 1 | T19: -1 | U19: 12223934 | X19: 1 | Y19: 1 | Z19: 0 | AA19: 0 | AB19: 0 | AE19: Non | AG19: 1 | AI19: =SUM(X:X-Z:Z) -> 1
A20: 039999900122254013 | B20: 5739571 | C20: 00011 | D20: Préparé | E20: 232315 | F20: SURG | G20: PCS.04.30.04.A | H20: 03/07/2018 09:05:01 | I20: ad001 | J20: UVC | L20: Non | M20: 0 | N20: 0 | O20: ITRAORE | P20: 01/01/1990 12:00:00 | Q20: 0 | R20: 03/07/2018 09:05:02 | S20: 1 | T20: -1 | U20: 12225401 | X20: 1 | Y20: 1 | Z20: 0 | AA20: 0 | AB20: 0 | AE20: Non | AG20: 1 | AI20: =SUM(X:X-Z:Z) -> 1
A21: 039999900122230970 | B21: 5742062 | C21: 00004 | D21: Préparé | E21: 123386 | F21: SURG | G21: PCS.03.47.04.A | H21: 03/07/2018 09:04:17 | I21: ad001 | J21: UVC | L21: Non | M21: 0 | N21: 0 | O21: ITRAORE | P21: 01/01/1990 12:00:00 | Q21: 0 | R21: 03/07/2018 09:04:17 | S21: 150 | T21: 7689 | U21: 12223097 | X21: 3 | Y21: 1 | Z21: 0 | AA21: 0 | AB21: 0 | AE21: Non | AG21: 2 | AI21: =SUM(X:X-Z:Z) -> 3
A22: 039999900122264074 | B22: 5735084 | C22: 00025 | D22: Préparé | E22: 57337 | F22: F05 | G22: PFL.02.23.02.D | H22: 03/07/2018 09:04:11 | I22: ad001 | J22: UVC | K22: Stock vide | L22: Non | M22: 0 | N22: 0 | O22: DBARBOSA | P22: 01/01/1990 12:00:00 | Q22: 0 | R22: 03/07/2018 09:04:11 | S22: 125 | T22: 8539 | U22: 12226407 | X22: 1 | Y22: 1 | Z22: 0 | AA22: 0 | AB22: 0 | AE22: Oui | AG22: 1 | AH22: 2 | AI22: =SUM(X:X-Z:Z) -> 1
A23: 039999900122261943 | B23: 5742193 | C23: 00007 | D23: Préparé | E23: 123386 | F23: SURG | G23: PCS.03.47.04.A | H23: 03/07/2018 09:04:01 | I23: ad001 | J23: UVC | L23: Non | M23: 0 | N23: 0 | O23: ITRAORE | P23: 03/07/2018 09:03:28 | Q23: CMARTIN | R23: 03/07/2018 09:04:01 | S23: 150 | T23: 7689 | U23: 12226194 | X23: 2 | Y23: 1 | Z23: 1 | AA23: 1 | AB23: 0 | AE23: Non | AG23: 2 | AI23: =SUM(X:X-Z:Z) -> 1
A24: 039999900122213867 | B24: 5734561 | C24: 00019 | D24: Préparé | E24: 217122 | F24: SURG | G24: PCS.03.21.03.B | H24: 03/07/2018 09:00:14 | I24: ad001 | J24: UVC | L24: Non | M24: 0 | N24: 0 | O24: ITRAORE | P24: 01/01/1990 12:00:00 | Q24: 0 | R24: 03/07/2018 09:00:14 | S24: 163 | T24: 7689 | U24: 12221386 | X24: 1 | Y24: 1 | Z24: 0 | AA24: 0 | AB24: 0 | AE24: Non | AG24: 2 | AI24: =SUM(X:X-Z:Z) -> 1
A25: 039999900122222227 | B25: 5736399 | C25: 00032 | D25: Préparé | E25: 38416 | F25: G2P_F | G25: PAF.01.01.01.A | H25: 03/07/2018 08:56:09 | I25: ad001 | J25: UVC | K25: Mvt manquant WCS | L25: Non | M25: 0 | N25: 0 | O25: Tâche | P25: 03/07/2018 08:56:09 | Q25: Tâche | R25: 03/07/2018 08:56:09 | S25: 39 | T25: -1 | U25: 12222222 | X25: 1 | Y25: 1 | Z25: 0 | AA25: 0 | AB25: 0 | AD25: Date LC : Traçabilité totale | AE25: Non | AG25: 15 | AH25: 2 | AI25: =SUM(X:X-Z:Z) -> 1
A26: 039999900122231670 | B26: 5738360 | C26: 00011 | D26: Préparé | E26: 140224 | F26: G2P_F | G26: PAF.01.01.01.A | H26: 03/07/2018 08:55:04 | I26: ad001 | J26: UVC | K26: Mvt manquant WCS | L26: Non | M26: 0 | N26: 0 | O26: Tâche | P26: 03/07/2018 08:55:04 | Q26: Tâche | R26: 03/07/2018 08:55:04 | S26: 39 | T26: -1 | U26: 12223167 | X26: 1 | Y26: 1 | Z26: 0 | AA26: 0 | AB26: 0 | AD26: Date LC : Traçabilité totale | AE26: Non | AG26: 4 | AH26: 2 | AI26: =SUM(X:X-Z:Z) -> 1
A27: 039999900122237566 | B27: 5734928 | C27: 00021 | D27: Préparé | E27: 80167 | F27: SURG | G27: PCS.03.11.00.A | H27: 03/07/2018 08:54:16 | I27: ad001 | J27: UVC | L27: Non | M27: 0 | N27: 0 | O27: ITRAORE | P27: 01/01/1990 12:00:00 | Q27: 0 | R27: 03/07/2018 08:54:16 | S27: 145 | T27: 7689 | U27: 12223756 | X27: 1 | Y27: 1 | Z27: 0 | AA27: 0 | AB27: 0 | AE27: Non | AG27: 1 | AI27: =SUM(X:X-Z:Z) -> 1
A28: 039999900122261974 | B28: 5742193 | C28: 00012 | D28: Préparé | E28: 137304 | F28: G2P_A | G28: PAA.01.01.01.A | H28: 03/07/2018 08:50:32 | I28: ad001 | J28: UVC | K28: Mvt manquant WCS | L28: Non | M28: 0 | N28: 0 | O28: Tâche | P28: 03/07/2018 08:50:32 | Q28: Tâche | R28: 03/07/2018 08:50:32 | S28: 39 | T28: -1 | U28: 12226197 | X28: 1 | Y28: 1 | Z28: 0 | AA28: 0 | AB28: 0 | AE28: Non | AG28: 7 | AH28: 2 | AI28: =SUM(X:X-Z:Z) -> 1
A29: 039999900122183443 | B29: 5737859 | C29: 00009 | D29: Préparé | E29: 170955 | F29: G2P_A | G29: PAA.01.01.01.A | H29: 03/07/2018 08:48:05 | I29: ad001 | J29: UVC | K29: Mvt manquant WCS | L29: Non | M29: 0 | N29: 0 | O29: Tâche | P29: 03/07/2018 08:48:05 | Q29: Tâche | R29: 03/07/2018 08:48:05 | S29: 39 | T29: -1 | U29: 12218344 | X29: 1 | Y29: 1 | Z29: 0 | AA29: 0 | AB29: 0 | AE29: Non | AG29: 2 | AH29: 2 | AI29: =SUM(X:X-Z:Z) -> 1
A30: 039999900122253948 | B30: 5739560 | C30: 00002 | D30: Préparé | E30: 156915 | F30: SURG | G30: PCS.03.35.00.B | H30: 03/07/2018 08:46:35 | I30: ad001 | J30: UVC | L30: Non | M30: 0 | N30: 0 | O30: ITRAORE | P30: 01/01/1990 12:00:00 | Q30: 0 | R30: 03/07/2018 08:46:35 | S30: 145 | T30: 7689 | U30: 12225394 | X30: 2 | Y30: 1 | Z30: 0 | AA30: 0 | AB30: 0 | AE30: Non | AG30: 2 | AI30: =SUM(X:X-Z:Z) -> 2
A31: 039999900122169690 | B31: 5739371 | C31: 00042 | D31: Préparé | E31: 94923 | F31: G2P_A | G31: PAA.01.01.01.A | H31: 03/07/2018 08:40:58 | I31: ad001 | J31: UVC | K31: Mvt manquant WCS | L31: Non | M31: 0 | N31: 0 | O31: Tâche | P31: 03/07/2018 08:40:58 | Q31: Tâche | R31: 03/07/2018 08:40:58 | S31: 39 | T31: -1 | U31: 12216969 | X31: 1 | Y31: 1 | Z31: 0 | AA31: 0 | AB31: 0 | AE31: Non | AG31: 20 | AH31: 2 | AI31: =SUM(X:X-Z:Z) -> 1
A32: 039999900122207989 | B32: 5741805 | C32: 00016 | D32: Préparé | E32: 4847 | F32: SURG | G32: PCS.04.39.01.E | H32: 03/07/2018 08:38:52 | I32: ad001 | J32: UVC | L32: Non | M32: 0 | N32: 0 | O32: ITRAORE | P32: 01/01/1990 12:00:00 | Q32: 0 | R32: 03/07/2018 08:38:53 | S32: 1 | T32: -1 | U32: 12220798 | X32: 1 | Y32: 1 | Z32: 0 | AA32: 0 | AB32: 0 | AE32: Non | AG32: 1 | AI32: =SUM(X:X-Z:Z) -> 1
A33: 039999900122167825 | B33: 5737973 | C33: 00024 | D33: Préparé | E33: 242703 | F33: SURG | G33: PCS.03.35.02.A | H33: 03/07/2018 08:35:50 | I33: ad001 | J33: UVC | L33: Non | M33: 0 | N33: 0 | O33: ITRAORE | P33: 01/01/1990 12:00:00 | Q33: 0 | R33: 03/07/2018 08:35:50 | S33: 150 | T33: 7689 | U33: 12216782 | X33: 1 | Y33: 1 | Z33: 0 | AA33: 0 | AB33: 0 | AE33: Non | AG33: 3 | AI33: =SUM(X:X-Z:Z) -> 1
A34: 039999900122210538 | B34: 5737748 | C34: 00010 | D34: Préparé | E34: 126690 | F34: SURG | G34: PCS.04.46.01.A | H34: 03/07/2018 08:04:14 | I34: ad001 | J34: UVC | L34: Non | M34: 0 | N34: 0 | O34: ITRAORE | P34: 01/01/1990 12:00:00 | Q34: 0 | R34: 03/07/2018 08:04:14 | S34: 150 | T34: 7689 | U34: 12221053 | X34: 2 | Y34: 1 | Z34: 0 | AA34: 0 | AB34: 0 | AE34: Non | AG34: 3 | AI34: =SUM(X:X-Z:Z) -> 2
A35: 039999900122223996 | B35: 5736244 | C35: 00052 | D35: Préparé | E35: 236028 | F35: G2P_F | G35: PAF.01.01.01.A | H35: 03/07/2018 08:00:38 | I35: ad001 | J35: UVC | K35: Mvt manquant WCS | L35: Non | M35: 0 | N35: 0 | O35: Tâche | P35: 03/07/2018 08:00:38 | Q35: Tâche | R35: 03/07/2018 08:00:38 | S35: 39 | T35: -1 | U35: 12222399 | X35: 1 | Y35: 1 | Z35: 0 | AA35: 0 | AB35: 0 | AD35: Date LC : Traçabilité totale | AE35: Non | AG35: 25 | AH35: 2 | AI35: =SUM(X:X-Z:Z) -> 1
A36: 039999900122265439 | B36: 5736412 | C36: 00020 | D36: Préparé | E36: 236028 | F36: G2P_F | G36: PAF.01.01.01.A | H36: 03/07/2018 07:58:06 | I36: ad001 | J36: UVC | K36: Mvt manquant WCS | L36: Non | M36: 0 | N36: 0 | O36: Tâche | P36: 03/07/2018 07:58:06 | Q36: Tâche | R36: 03/07/2018 07:58:06 | S36: 39 | T36: -1 | U36: 12226543 | X36: 1 | Y36: 1 | Z36: 0 | AA36: 0 | AB36: 0 | AD36: Date LC : Traçabilité totale | AE36: Non | AG36: 12 | AH36: 2 | AI36: =SUM(X:X-Z:Z) -> 1
A37: 039999900122253832 | B37: 5739536 | C37: 00005 | D37: Préparé | E37: 126690 | F37: SURG | G37: PCS.04.46.01.A | H37: 03/07/2018 07:55:34 | I37: ad001 | J37: UVC | L37: Non | M37: 0 | N37: 0 | O37: ITRAORE | P37: 01/01/1990 12:00:00 | Q37: 0 | R37: 03/07/2018 07:55:34 | S37: 163 | T37: 7689 | U37: 12225383 | X37: 1 | Y37: 1 | Z37: 0 | AA37: 0 | AB37: 0 | AE37: Non | AG37: 4 | AI37: =SUM(X:X-Z:Z) -> 1
A38: 039999900122263299 | B38: 5733616 | C38: 00023 | D38: Préparé | E38: 38416 | F38: G2P_F | G38: PAF.01.01.01.A | H38: 03/07/2018 07:52:51 | I38: ad001 | J38: UVC | K38: Mvt manquant WCS | L38: Non | M38: 0 | N38: 0 | O38: Tâche | P38: 03/07/2018 07:52:51 | Q38: Tâche | R38: 03/07/2018 07:52:51 | S38: 39 | T38: -1 | U38: 12226329 | X38: 1 | Y38: 1 | Z38: 0 | AA38: 0 | AB38: 0 | AD38: Date LC : Traçabilité totale | AE38: Non | AG38: 17 | AH38: 2 | AI38: =SUM(X:X-Z:Z) -> 1
A39: 039999900122182446 | B39: 5736411 | C39: 00014 | D39: Préparé | E39: 205645 | F39: SURG | G39: PCS.02.29.01.A | H39: 03/07/2018 07:52:42 | I39: ad001 | J39: UVC | L39: Non | M39: 0 | N39: 0 | O39: ITRAORE | P39: 01/01/1990 12:00:00 | Q39: 0 | R39: 03/07/2018 07:52:42 | S39: 1 | T39: -1 | U39: 12218244 | X39: 1 | Y39: 1 | Z39: 0 | AA39: 0 | AB39: 0 | AE39: Non | AG39: 1 | AI39: =SUM(X:X-Z:Z) -> 1
A40: 039999900122266092 | B40: 5737058 | C40: 00032 | D40: Préparé | E40: 236028 | F40: G2P_F | G40: PAF.01.01.01.A | H40: 03/07/2018 07:47:48 | I40: ad001 | J40: UVC | K40: Mvt manquant WCS | L40: Non | M40: 0 | N40: 0 | O40: Tâche | P40: 03/07/2018 07:47:48 | Q40: Tâche | R40: 03/07/2018 07:47:48 | S40: 39 | T40: -1 | U40: 12226609 | X40: 1 | Y40: 1 | Z40: 0 | AA40: 0 | AB40: 0 | AD40: Date LC : Traçabilité totale | AE40: Non | AG40: 15 | AH40: 2 | AI40: =SUM(X:X-Z:Z) -> 1
A41: 039999900122172126 | B41: 5737171 | C41: 00038 | D41: Préparé | E41: 240918 | F41: G2P_F | G41: PAF.01.01.01.A | H41: 03/07/2018 07:47:02 | I41: ad001 | J41: UVC | K41: Mvt manquant WCS | L41: Non | M41: 0 | N41: 0 | O41: Tâche | P41: 03/07/2018 07:47:02 | Q41: Tâche | R41: 03/07/2018 07:47:02 | S41: 39 | T41: -1 | U41: 12217212 | X41: 1 | Y41: 1 | Z41: 0 | AA41: 0 | AB41: 0 | AD41: Date LC : Traçabilité totale | AE41: Non | AG41: 17 | AH41: 2 | AI41: =SUM(X:X-Z:Z) -> 1
A42: 039999900122172126 | B42: 5737171 | C42: 00037 | D42: Préparé | E42: 236028 | F42: G2P_F | G42: PAF.01.01.01.A | H42: 03/07/2018 07:47:02 | I42: ad001 | J42: UVC | K42: Mvt manquant WCS | L42: Non | M42: 0 | N42: 0 | O42: Tâche | P42: 03/07/2018 07:47:02 | Q42: Tâche | R42: 03/07/2018 07:47:02 | S42: 39 | T42: -1 | U42: 12217212 | X42: 1 | Y42: 1 | Z42: 0 | AA42: 0 | AB42: 0 | AD42: Date LC : Traçabilité totale | AE42: Non | AG42: 16 | AH42: 2 | AI42: =SUM(X:X-Z:Z) -> 1
A43: 039999900122233117 | B43: 5728542 | C43: 00033 | D43: Préparé | E43: 61486 | F43: SURG | G43: PCS.04.24.01.A | H43: 03/07/2018 07:46:48 | I43: ad001 | J43: UVC | L43: Non | M43: 0 | N43: 0 | O43: ITRAORE | P43: 01/01/1990 12:00:00 | Q43: 0 | R43: 03/07/2018 07:46:48 | S43: 145 | T43: 7689 | U43: 12223311 | X43: 1 | Y43: 1 | Z43: 0 | AA43: 0 | AB43: 0 | AE43: Non | AG43: 2 | AI43: =SUM(X:X-Z:Z) -> 1
A44: 039999900122219029 | B44: 5736748 | C44: 00127 | D44: Préparé | E44: 91019 | F44: SURG | G44: PCS.03.39.00.B | H44: 03/07/2018 07:45:35 | I44: ad001 | J44: UVC | L44: Non | M44: 0 | N44: 0 | O44: ITRAORE | P44: 01/01/1990 12:00:00 | Q44: 0 | R44: 03/07/2018 07:45:35 | S44: 177 | T44: 7689 | U44: 12221902 | X44: 1 | Y44: 1 | Z44: 0 | AA44: 0 | AB44: 0 | AE44: Non | AG44: 3 | AI44: =SUM(X:X-Z:Z) -> 1
A45: 039999900122218688 | B45: 5735781 | C45: 00031 | D45: Préparé | E45: 4919 | F45: SURG | G45: PCS.01.23.00.G | H45: 03/07/2018 07:44:39 | I45: ad001 | J45: UVC | L45: Non | M45: 0 | N45: 0 | O45: ITRAORE | P45: 01/01/1990 12:00:00 | Q45: 0 | R45: 03/07/2018 07:44:39 | S45: 145 | T45: 7689 | U45: 12221868 | X45: 1 | Y45: 1 | Z45: 0 | AA45: 0 | AB45: 0 | AE45: Non | AG45: 1 | AI45: =SUM(X:X-Z:Z) -> 1
A46: 039999900122214864 | B46: 5735982 | C46: 00041 | D46: Préparé | E46: 85921 | F46: G2P_F | G46: PAF.01.01.01.A | H46: 03/07/2018 07:42:20 | I46: ad001 | J46: UVC | K46: Mvt manquant WCS | L46: Non | M46: 0 | N46: 0 | O46: Tâche | P46: 03/07/2018 07:42:20 | Q46: Tâche | R46: 03/07/2018 07:42:20 | S46: 39 | T46: -1 | U46: 12221486 | X46: 1 | Y46: 1 | Z46: 0 | AA46: 0 | AB46: 0 | AD46: Date LC : Traçabilité totale | AE46: Non | AG46: 18 | AH46: 2 | AI46: =SUM(X:X-Z:Z) -> 1
A47: 039999900122210019 | B47: 5736250 | C47: 00017 | D47: Préparé | E47: 148981 | F47: G2P_A | G47: PAA.01.01.01.A | H47: 03/07/2018 07:38:51 | I47: ad001 | J47: UVC | K47: Mvt manquant WCS | L47: Non | M47: 0 | N47: 0 | O47: Tâche | P47: 03/07/2018 07:38:51 | Q47: Tâche | R47: 03/07/2018 07:38:51 | S47: 39 | T47: -1 | U47: 12221001 | X47: 2 | Y47: 1 | Z47: 0 | AA47: 0 | AB47: 0 | AE47: Non | AG47: 14 | AH47: 2 | AI47: =SUM(X:X-Z:Z) -> 2
A48: 039999900122234787 | B48: 5733573 | C48: 00014 | D48: Préparé | E48: 148981 | F48: G2P_A | G48: PAA.01.01.01.A | H48: 03/07/2018 07:35:53 | I48: ad001 | J48: UVC | K48: Mvt manquant WCS | L48: Non | M48: 0 | N48: 0 | O48: Tâche | P48: 03/07/2018 07:35:53 | Q48: Tâche | R48: 03/07/2018 07:35:53 | S48: 39 | T48: -1 | U48: 12223478 | X48: 1 | Y48: 1 | Z48: 0 | AA48: 0 | AB48: 0 | AE48: Non | AG48: 11 | AH48: 2 | AI48: =SUM(X:X-Z:Z) -> 1
A49: 039999900122171365 | B49: 5734421 | C49: 00016 | D49: Préparé | E49: 140224 | F49: G2P_F | G49: PAF.01.01.01.A | H49: 03/07/2018 07:28:56 | I49: ad001 | J49: UVC | K49: Mvt manquant WCS | L49: Non | M49: 0 | N49: 0 | O49: Tâche | P49: 03/07/2018 07:28:56 | Q49: Tâche | R49: 03/07/2018 07:28:56 | S49: 39 | T49: -1 | U49: 12217136 | X49: 1 | Y49: 1 | Z49: 0 | AA49: 0 | AB49: 0 | AD49: Date LC : Traçabilité totale | AE49: Non | AG49: 9 | AH49: 2 | AI49: =SUM(X:X-Z:Z) -> 1
A50: 039999900122187175 | B50: 5740693 | C50: 00012 | D50: Préparé | E50: 152468 | F50: G2P_A | G50: PAA.01.01.01.A | H50: 03/07/2018 07:25:53 | I50: ad001 | J50: UVC | K50: Mvt manquant WCS | L50: Non | M50: 0 | N50: 0 | O50: Tâche | P50: 03/07/2018 07:25:53 | Q50: Tâche | R50: 03/07/2018 07:25:53 | S50: 39 | T50: -1 | U50: 12218717 | X50: 1 | Y50: 1 | Z50: 0 | AA50: 0 | AB50: 0 | AD50: Date LC : Traçabilité totale | AE50: Non | AG50: 6 | AH50: 2 | AI50: =SUM(X:X-Z:Z) -> 1
A51: 039999900122214505 | B51: 5735487 | C51: 00024 | D51: Préparé | E51: 170955 | F51: G2P_A | G51: PAA.01.01.01.A | H51: 03/07/2018 07:21:55 | I51: ad001 | J51: UVC | K51: Mvt manquant WCS | L51: Non | M51: 0 | N51: 0 | O51: Tâche | P51: 03/07/2018 07:21:55 | Q51: Tâche | R51: 03/07/2018 07:21:55 | S51: 39 | T51: -1 | U51: 12221450 | X51: 3 | Y51: 1 | Z51: 0 | AA51: 0 | AB51: 0 | AE51: Non | AG51: 13 | AH51: 2 | AI51: =SUM(X:X-Z:Z) -> 3
A52: 039999900122232981 | B52: 5728462 | C52: 00024 | D52: Préparé | E52: 61486 | F52: SURG | G52: PCS.04.24.01.A | H52: 03/07/2018 07:20:01 | I52: ad001 | J52: UVC | L52: Non | M52: 0 | N52: 0 | O52: ITRAORE | P52: 01/01/1990 12:00:00 | Q52: 0 | R52: 03/07/2018 07:20:01 | S52: 1 | T52: -1 | U52: 12223298 | X52: 1 | Y52: 1 | Z52: 0 | AA52: 0 | AB52: 0 | AE52: Non | AG52: 1 | AI52: =SUM(X:X-Z:Z) -> 1
A53: 039999900122255331 | B53: 5739823 | C53: 00002 | D53: Préparé | E53: 102462 | F53: SURG | G53: PCS.03.27.01.C | H53: 03/07/2018 07:19:07 | I53: ad001 | J53: UVC | L53: Non | M53: 0 | N53: 0 | O53: ITRAORE | P53: 01/01/1990 12:00:00 | Q53: 0 | R53: 03/07/2018 07:19:07 | S53: 85 | T53: 7689 | U53: 12225533 | X53: 1 | Y53: 1 | Z53: 0 | AA53: 0 | AB53: 0 | AE53: Non | AG53: 2 | AI53: =SUM(X:X-Z:Z) -> 1
A54: 039999900122260021 | B54: 5741818 | C54: 00017 | D54: Préparé | E54: 176557 | F54: G2P_A | G54: PAA.01.01.01.A | H54: 03/07/2018 07:17:28 | I54: ad001 | J54: UVC | K54: Mvt manquant WCS | L54: Non | M54: 0 | N54: 0 | O54: Tâche | P54: 03/07/2018 07:17:28 | Q54: Tâche | R54: 03/07/2018 07:17:28 | S54: 39 | T54: -1 | U54: 12226002 | X54: 2 | Y54: 1 | Z54: 0 | AA54: 0 | AB54: 0 | AE54: Non | AG54: 12 | AH54: 2 | AI54: =SUM(X:X-Z:Z) -> 2
A55: 039999900122232356 | B55: 5723725 | C55: 00023 | D55: Préparé | E55: 143182 | F55: G2P_A | G55: PAA.01.01.01.A | H55: 03/07/2018 07:16:46 | I55: ad001 | J55: UVC | K55: Mvt manquant WCS | L55: Non | M55: 0 | N55: 0 | O55: Tâche | P55: 03/07/2018 07:16:46 | Q55: FSAHMIMI | R55: 03/07/2018 07:16:46 | S55: 39 | T55: -1 | U55: 12223235 | X55: 2 | Y55: 1 | Z55: 1 | AA55: 1 | AB55: 0 | AE55: Non | AG55: 14 | AH55: 2 | AI55: =SUM(X:X-Z:Z) -> 1
A56: 039999900122243451 | B56: 5736617 | C56: 00020 | D56: Préparé | E56: 167545 | F56: G2P_A | G56: PAA.01.01.01.A | H56: 03/07/2018 07:16:19 | I56: ad001 | J56: UVC | K56: Mvt manquant WCS | L56: Non | M56: 0 | N56: 0 | O56: Tâche | P56: 03/07/2018 07:16:19 | Q56: FSAHMIMI | R56: 03/07/2018 07:16:19 | S56: 39 | T56: -1 | U56: 12224345 | X56: 1 | Y56: 1 | Z56: 0 | AA56: 0 | AB56: 0 | AE56: Non | AG56: 10 | AH56: 2 | AI56: =SUM(X:X-Z:Z) -> 1
A57: 039999900122159059 | B57: 5732236 | C57: 00008 | D57: Préparé | E57: 163883 | F57: G2P_A | G57: PAA.01.01.01.A | H57: 03/07/2018 07:15:34 | I57: ad001 | J57: UVC | K57: Mvt manquant WCS | L57: Non | M57: 0 | N57: 0 | O57: Tâche | P57: 03/07/2018 07:15:34 | Q57: RODILE | R57: 03/07/2018 07:15:34 | S57: 39 | T57: -1 | U57: 12215905 | X57: 1 | Y57: 1 | Z57: 0 | AA57: 0 | AB57: 0 | AE57: Non | AG57: 3 | AH57: 2 | AI57: =SUM(X:X-Z:Z) -> 1
A58: 039999900122169126 | B58: 5738843 | C58: 00003 | D58: Préparé | E58: 126690 | F58: SURG | G58: PCS.04.46.01.A | H58: 03/07/2018 07:13:56 | I58: ad001 | J58: UVC | L58: Non | M58: 0 | N58: 0 | O58: ITRAORE | P58: 01/01/1990 12:00:00 | Q58: 0 | R58: 03/07/2018 07:13:56 | S58: 145 | T58: 7689 | U58: 12216912 | X58: 1 | Y58: 1 | Z58: 0 | AA58: 0 | AB58: 0 | AE58: Non | AG58: 3 | AI58: =SUM(X:X-Z:Z) -> 1
A59: 039999900122242775 | B59: 5736487 | C59: 00058 | D59: Préparé | E59: 85266 | F59: SURG | G59: PCS.03.43.03.C | H59: 03/07/2018 07:07:48 | I59: ad001 | J59: UVC | L59: Non | M59: 0 | N59: 0 | O59: ITRAORE | P59: 01/01/1990 12:00:00 | Q59: 0 | R59: 03/07/2018 07:07:48 | S59: 163 | T59: 7689 | U59: 12224277 | X59: 1 | Y59: 1 | Z59: 0 | AA59: 0 | AB59: 0 | AE59: Non | AG59: 4 | AI59: =SUM(X:X-Z:Z) -> 1
A60: 039999900122247657 | B60: 5738019 | C60: 00027 | D60: Préparé | E60: 242703 | F60: SURG | G60: PCS.03.35.02.A | H60: 03/07/2018 07:06:35 | I60: ad001 | J60: UVC | L60: Non | M60: 0 | N60: 0 | O60: ITRAORE | P60: 01/01/1990 12:00:00 | Q60: 0 | R60: 03/07/2018 07:06:35 | S60: 163 | T60: 7689 | U60: 12224765 | X60: 1 | Y60: 1 | Z60: 0 | AA60: 0 | AB60: 0 | AE60: Non | AG60: 2 | AI60: =SUM(X:X-Z:Z) -> 1
A61: 039999900122264074 | B61: 5735084 | C61: 00034 | D61: Préparé | E61: 85888 | F61: G2P_F | G61: PAF.01.01.01.A | H61: 03/07/2018 07:06:05 | I61: ad001 | J61: UVC | K61: Mvt manquant WCS | L61: Non | M61: 0 | N61: 0 | O61: Tâche | P61: 03/07/2018 07:06:05 | Q61: Tâche | R61: 03/07/2018 07:06:05 | S61: 39 | T61: -1 | U61: 12226407 | X61: 1 | Y61: 1 | Z61: 0 | AA61: 0 | AB61: 0 | AD61: Date LC : Traçabilité totale | AE61: Non | AG61: 14 | AH61: 2 | AI61: =SUM(X:X-Z:Z) -> 1
A62: 039999900122255539 | B62: 5739842 | C62: 00019 | D62: Préparé | E62: 200404 | F62: G2P_A | G62: PAA.01.01.01.A | H62: 03/07/2018 07:05:08 | I62: ad001 | J62: UVC | K62: Mvt manquant WCS | L62: Non | M62: 0 | N62: 0 | O62: Tâche | P62: 03/07/2018 07:05:08 | Q62: NBROOHM | R62: 03/07/2018 07:05:08 | S62: 39 | T62: -1 | U62: 12225553 | X62: 1 | Y62: 1 | Z62: 0 | AA62: 0 | AB62: 0 | AE62: Non | AG62: 16 | AH62: 2 | AI62: =SUM(X:X-Z:Z) -> 1
A63: 039999900122264999 | B63: 5736079 | C63: 00013 | D63: Préparé | E63: 27563 | F63: G2P_F | G63: PAF.01.01.01.A | H63: 03/07/2018 07:02:31 | I63: ad001 | J63: UVC | K63: Mvt manquant WCS | L63: Non | M63: 0 | N63: 0 | O63: Tâche | P63: 03/07/2018 07:02:31 | Q63: Tâche | R63: 03/07/2018 07:02:31 | S63: 39 | T63: -1 | U63: 12226499 | X63: 1 | Y63: 1 | Z63: 0 | AA63: 0 | AB63: 0 | AD63: Date LC : Traçabilité totale | AE63: Non | AG63: 4 | AH63: 2 | AI63: =SUM(X:X-Z:Z) -> 1
A64: 039999900122214758 | B64: 5735793 | C64: 00010 | D64: Préparé | E64: 152468 | F64: G2P_A | G64: PAA.01.01.01.A | H64: 03/07/2018 07:01:13 | I64: ad001 | J64: UVC | K64: Mvt manquant WCS | L64: Non | M64: 0 | N64: 0 | O64: Tâche | P64: 03/07/2018 07:01:13 | Q64: Tâche | R64: 03/07/2018 07:01:13 | S64: 39 | T64: -1 | U64: 12221475 | X64: 1 | Y64: 1 | Z64: 0 | AA64: 0 | AB64: 0 | AD64: Date LC : Traçabilité totale | AE64: Non | AG64: 6 | AH64: 2 | AI64: =SUM(X:X-Z:Z) -> 1
A65: 039999900122247664 | B65: 5738019 | C65: 00011 | D65: Préparé | E65: 133180 | F65: SURG | G65: PCS.02.19.03.C | H65: 03/07/2018 07:00:28 | I65: ad001 | J65: UVC | L65: Non | M65: 0 | N65: 0 | O65: ITRAORE | P65: 01/01/1990 12:00:00 | Q65: 0 | R65: 03/07/2018 07:00:28 | S65: 1 | T65: -1 | U65: 12224766 | X65: 1 | Y65: 1 | Z65: 0 | AA65: 0 | AB65: 0 | AE65: Non | AG65: 1 | AI65: =SUM(X:X-Z:Z) -> 1
A66: 039999900122182057 | B66: 5735779 | C66: 00021 | D66: Préparé | E66: 49193 | F66: SURG | G66: PCS.03.29.03.B | H66: 03/07/2018 06:58:53 | I66: ad001 | J66: UVC | L66: Non | M66: 0 | N66: 0 | O66: ITRAORE | P66: 01/01/1990 12:00:00 | Q66: 0 | R66: 03/07/2018 06:58:53 | S66: 145 | T66: 7689 | U66: 12218205 | X66: 1 | Y66: 1 | Z66: 0 | AA66: 0 | AB66: 0 | AE66: Non | AG66: 1 | AI66: =SUM(X:X-Z:Z) -> 1
A67: 039999900122156485 | B67: 5735214 | C67: 00017 | D67: Préparé | E67: 152468 | F67: G2P_A | G67: PAA.01.01.01.A | H67: 03/07/2018 06:56:47 | I67: ad001 | J67: UVC | K67: Mvt manquant WCS | L67: Non | M67: 0 | N67: 0 | O67: Tâche | P67: 03/07/2018 06:56:47 | Q67: Tâche | R67: 03/07/2018 06:56:47 | S67: 39 | T67: -1 | U67: 12215648 | X67: 1 | Y67: 1 | Z67: 0 | AA67: 0 | AB67: 0 | AD67: Date LC : Traçabilité totale | AE67: Non | AG67: 10 | AH67: 2 | AI67: =SUM(X:X-Z:Z) -> 1
A68: 039999900122186185 | B68: 5739564 | C68: 00004 | D68: Préparé | E68: 133180 | F68: SURG | G68: PCS.02.19.03.C | H68: 03/07/2018 06:56:18 | I68: ad001 | J68: UVC | L68: Non | M68: 0 | N68: 0 | O68: ITRAORE | P68: 01/01/1990 12:00:00 | Q68: 0 | R68: 03/07/2018 06:56:18 | S68: 1 | T68: -1 | U68: 12218618 | X68: 1 | Y68: 1 | Z68: 0 | AA68: 0 | AB68: 0 | AE68: Non | AG68: 1 | AI68: =SUM(X:X-Z:Z) -> 1
A69: 039999900122173277 | B69: 5724347 | C69: 00019 | D69: Préparé | E69: 4847 | F69: SURG | G69: PCS.04.39.01.E | H69: 03/07/2018 06:54:02 | I69: ad001 | J69: UVC | L69: Non | M69: 0 | N69: 0 | O69: ITRAORE | P69: 01/01/1990 12:00:00 | Q69: 0 | R69: 03/07/2018 06:54:02 | S69: 177 | T69: 7689 | U69: 12217327 | X69: 1 | Y69: 1 | Z69: 0 | AA69: 0 | AB69: 0 | AE69: Non | AG69: 2 | AI69: =SUM(X:X-Z:Z) -> 1
A70: 039999900122237320 | B70: 5734859 | C70: 00025 | D70: Préparé | E70: 85711 | F70: SURG | G70: PCS.04.23.01.F | H70: 03/07/2018 06:51:40 | I70: ad001 | J70: UVC | L70: Non | M70: 0 | N70: 0 | O70: ITRAORE | P70: 01/01/1990 12:00:00 | Q70: 0 | R70: 03/07/2018 06:51:40 | S70: 163 | T70: 7689 | U70: 12223732 | X70: 1 | Y70: 1 | Z70: 0 | AA70: 0 | AB70: 0 | AE70: Non | AG70: 3 | AI70: =SUM(X:X-Z:Z) -> 1
A71: 039999900122230680 | B71: 5741010 | C71: 00016 | D71: Préparé | E71: 127199 | F71: SURG | G71: PCS.03.37.01.A | H71: 03/07/2018 06:41:12 | I71: ad001 | J71: UVC | L71: Non | M71: 0 | N71: 0 | O71: ITRAORE | P71: 01/01/1990 12:00:00 | Q71: 0 | R71: 03/07/2018 06:41:12 | S71: 177 | T71: 7689 | U71: 12223068 | X71: 1 | Y71: 1 | Z71: 0 | AA71: 0 | AB71: 0 | AE71: Non | AG71: 2 | AI71: =SUM(X:X-Z:Z) -> 1
A72: 039999900122267419 | B72: 5738490 | C72: 00021 | D72: Préparé | E72: 61848 | F72: G2P_F | G72: PAF.01.01.01.A | H72: 03/07/2018 06:37:34 | I72: ad001 | J72: UVC | K72: Mvt manquant WCS | L72: Non | M72: 0 | N72: 0 | O72: Tâche | P72: 03/07/2018 06:37:34 | Q72: Tâche | R72: 03/07/2018 06:37:34 | S72: 39 | T72: -1 | U72: 12226741 | X72: 1 | Y72: 1 | Z72: 0 | AA72: 0 | AB72: 0 | AE72: Non | AG72: 8 | AH72: 2 | AI72: =SUM(X:X-Z:Z) -> 1
A73: 039999900122271133 | B73: 5735259 | C73: 00029 | D73: Préparé | E73: 51254 | F73: SURG | G73: PCS.04.48.00.A | H73: 03/07/2018 06:34:45 | I73: ad001 | J73: UVC | L73: Non | M73: 0 | N73: 0 | O73: ITRAORE | P73: 01/01/1990 12:00:00 | Q73: 0 | R73: 03/07/2018 06:34:45 | S73: 150 | T73: 7689 | U73: 12227113 | X73: 1 | Y73: 1 | Z73: 0 | AA73: 0 | AB73: 0 | AE73: Non | AG73: 4 | AI73: =SUM(X:X-Z:Z) -> 1
A74: 039999900122271133 | B74: 5735259 | C74: 00006 | D74: Préparé | E74: 126690 | F74: SURG | G74: PCS.04.46.01.A | H74: 03/07/2018 06:34:28 | I74: ad001 | J74: UVC | L74: Non | M74: 0 | N74: 0 | O74: ITRAORE | P74: 01/01/1990 12:00:00 | Q74: 0 | R74: 03/07/2018 06:34:28 | S74: 150 | T74: 7689 | U74: 12227113 | X74: 1 | Y74: 1 | Z74: 0 | AA74: 0 | AB74: 0 | AE74: Non | AG74: 3 | AI74: =SUM(X:X-Z:Z) -> 1
A75: 039999900122214529 | B75: 5735487 | C75: 00016 | D75: Préparé | E75: 140224 | F75: G2P_F | G75: PAF.01.01.01.A | H75: 03/07/2018 06:24:01 | I75: ad001 | J75: UVC | K75: Mvt manquant WCS | L75: Non | M75: 0 | N75: 0 | O75: Tâche | P75: 03/07/2018 06:24:01 | Q75: Tâche | R75: 03/07/2018 06:24:01 | S75: 39 | T75: -1 | U75: 12221452 | X75: 1 | Y75: 1 | Z75: 0 | AA75: 0 | AB75: 0 | AD75: Date LC : Traçabilité totale | AE75: Non | AG75: 3 | AH75: 2 | AI75: =SUM(X:X-Z:Z) -> 1
A76: 039999900122217148 | B76: 5741925 | C76: 00017 | D76: Préparé | E76: 195735 | F76: SURG | G76: PCS.03.30.00.B | H76: 03/07/2018 06:22:45 | I76: ad001 | J76: UVC | L76: Non | M76: 0 | N76: 0 | O76: ITRAORE | P76: 01/01/1990 12:00:00 | Q76: 0 | R76: 03/07/2018 06:22:45 | S76: 150 | T76: 7689 | U76: 12221714 | X76: 1 | Y76: 1 | Z76: 0 | AA76: 0 | AB76: 0 | AE76: Non | AG76: 2 | AI76: =SUM(X:X-Z:Z) -> 1
A77: 039999900122267006 | B77: 5738129 | C77: 00016 | D77: Préparé | E77: 38416 | F77: G2P_F | G77: PAF.01.01.01.A | H77: 03/07/2018 06:15:39 | I77: ad001 | J77: UVC | K77: Mvt manquant WCS | L77: Non | M77: 0 | N77: 0 | O77: Tâche | P77: 03/07/2018 06:15:39 | Q77: Tâche | R77: 03/07/2018 06:15:39 | S77: 39 | T77: -1 | U77: 12226700 | X77: 1 | Y77: 1 | Z77: 0 | AA77: 0 | AB77: 0 | AD77: Date LC : Traçabilité totale | AE77: Non | AG77: 11 | AH77: 2 | AI77: =SUM(X:X-Z:Z) -> 1
A78: 039999900122267853 | B78: 5739028 | C78: 00017 | D78: Préparé | E78: 38416 | F78: G2P_F | G78: PAF.01.01.01.A | H78: 03/07/2018 06:15:24 | I78: ad001 | J78: UVC | K78: Mvt manquant WCS | L78: Non | M78: 0 | N78: 0 | O78: Tâche | P78: 03/07/2018 06:15:24 | Q78: Tâche | R78: 03/07/2018 06:15:24 | S78: 1 | T78: -1 | U78: 12226785 | X78: 1 | Y78: 1 | Z78: 0 | AA78: 0 | AB78: 0 | AD78: Date LC : Traçabilité totale | AE78: Non | AG78: 1 | AH78: 2 | AI78: =SUM(X:X-Z:Z) -> 1
A79: 039999900122267792 | B79: 5738847 | C79: 00015 | D79: Préparé | E79: 38416 | F79: G2P_F | G79: PAF.01.01.01.A | H79: 03/07/2018 06:15:21 | I79: ad001 | J79: UVC | K79: Mvt manquant WCS | L79: Non | M79: 0 | N79: 0 | O79: Tâche | P79: 03/07/2018 06:15:21 | Q79: Tâche | R79: 03/07/2018 06:15:21 | S79: 39 | T79: -1 | U79: 12226779 | X79: 1 | Y79: 1 | Z79: 0 | AA79: 0 | AB79: 0 | AD79: Date LC : Traçabilité totale | AE79: Non | AG79: 5 | AH79: 2 | AI79: =SUM(X:X-Z:Z) -> 1
A80: 039999900122259216 | B80: 5741610 | C80: 00015 | D80: Préparé | E80: 152468 | F80: G2P_A | G80: PAA.01.01.01.A | H80: 03/07/2018 06:11:48 | I80: ad001 | J80: UVC | K80: Mvt manquant WCS | L80: Non | M80: 0 | N80: 0 | O80: Tâche | P80: 03/07/2018 06:11:48 | Q80: Tâche | R80: 03/07/2018 06:11:48 | S80: 39 | T80: -1 | U80: 12225921 | X80: 1 | Y80: 1 | Z80: 0 | AA80: 0 | AB80: 0 | AD80: Date LC : Traçabilité totale | AE80: Non | AG80: 5 | AH80: 2 | AI80: =SUM(X:X-Z:Z) -> 1
A81: 039999900122215007 | B81: 5736654 | C81: 00020 | D81: Préparé | E81: 236028 | F81: G2P_F | G81: PAF.01.01.01.A | H81: 03/07/2018 06:06:12 | I81: ad001 | J81: UVC | K81: Mvt manquant WCS | L81: Non | M81: 0 | N81: 0 | O81: Tâche | P81: 03/07/2018 06:06:12 | Q81: Tâche | R81: 03/07/2018 06:06:12 | S81: 39 | T81: -1 | U81: 12221500 | X81: 1 | Y81: 1 | Z81: 0 | AA81: 0 | AB81: 0 | AD81: Date LC : Traçabilité totale | AE81: Non | AG81: 7 | AH81: 2 | AI81: =SUM(X:X-Z:Z) -> 1
A82: 039999900122249002 | B82: 5738281 | C82: 00028 | D82: Préparé | E82: 152468 | F82: G2P_A | G82: PAA.01.01.01.A | H82: 03/07/2018 06:03:56 | I82: ad001 | J82: UVC | K82: Mvt manquant WCS | L82: Non | M82: 0 | N82: 0 | O82: Tâche | P82: 03/07/2018 06:03:56 | Q82: Tâche | R82: 03/07/2018 06:03:56 | S82: 39 | T82: -1 | U82: 12224900 | X82: 1 | Y82: 1 | Z82: 0 | AA82: 0 | AB82: 0 | AD82: Date LC : Traçabilité totale | AE82: Non | AG82: 17 | AH82: 2 | AI82: =SUM(X:X-Z:Z) -> 1
A83: 039999900122245684 | B83: 5737179 | C83: 00005 | D83: Préparé | E83: 126690 | F83: SURG | G83: PCS.04.46.01.A | H83: 03/07/2018 06:02:22 | I83: ad001 | J83: UVC | L83: Non | M83: 0 | N83: 0 | O83: ITRAORE | P83: 01/01/1990 12:00:00 | Q83: 0 | R83: 03/07/2018 06:02:22 | S83: 163 | T83: 7689 | U83: 12224568 | X83: 1 | Y83: 1 | Z83: 0 | AA83: 0 | AB83: 0 | AE83: Non | AG83: 2 | AI83: =SUM(X:X-Z:Z) -> 1
A84: 039999900122172317 | B84: 5737901 | C84: 00015 | D84: Préparé | E84: 140224 | F84: G2P_F | G84: PAF.01.01.01.A | H84: 03/07/2018 06:02:02 | I84: ad001 | J84: UVC | K84: Mvt manquant WCS | L84: Non | M84: 0 | N84: 0 | O84: Tâche | P84: 03/07/2018 06:02:02 | Q84: Tâche | R84: 03/07/2018 06:02:02 | S84: 39 | T84: -1 | U84: 12217231 | X84: 1 | Y84: 1 | Z84: 0 | AA84: 0 | AB84: 0 | AD84: Date LC : Traçabilité totale | AE84: Non | AG84: 5 | AH84: 2 | AI84: =SUM(X:X-Z:Z) -> 1
A85: 039999900122230321 | B85: 5739408 | C85: 00009 | D85: Préparé | E85: 131847 | F85: G2P_A | G85: PAA.01.01.01.A | H85: 03/07/2018 06:01:39 | I85: ad001 | J85: UVC | K85: Mvt manquant WCS | L85: Non | M85: 0 | N85: 0 | O85: Tâche | P85: 03/07/2018 06:01:39 | Q85: Tâche | R85: 03/07/2018 06:01:39 | S85: 39 | T85: -1 | U85: 12223032 | X85: 1 | Y85: 1 | Z85: 0 | AA85: 0 | AB85: 0 | AE85: Non | AG85: 5 | AH85: 2 | AI85: =SUM(X:X-Z:Z) -> 1
A86: 039999900122213928 | B86: 5734561 | C86: 00062 | D86: Préparé | E86: 91968 | F86: G2P_F | G86: PAF.01.01.01.A | H86: 03/07/2018 05:58:42 | I86: ad001 | J86: UVC | K86: Mvt manquant WCS | L86: Non | M86: 0 | N86: 0 | O86: Tâche | P86: 03/07/2018 05:58:42 | Q86: Tâche | R86: 03/07/2018 05:58:42 | S86: 39 | T86: -1 | U86: 12221392 | X86: 1 | Y86: 1 | Z86: 0 | AA86: 0 | AB86: 0 | AD86: Date LC : Traçabilité totale | AE86: Non | AG86: 16 | AH86: 2 | AI86: =SUM(X:X-Z:Z) -> 1
A87: 039999900122240788 | B87: 5736021 | C87: 00003 | D87: Préparé | E87: 116258 | F87: SURG | G87: PCS.03.24.02.C | H87: 03/07/2018 05:58:07 | I87: ad001 | J87: UVC | L87: Non | M87: 0 | N87: 0 | O87: ITRAORE | P87: 01/01/1990 12:00:00 | Q87: 0 | R87: 03/07/2018 05:58:07 | S87: 163 | T87: 7689 | U87: 12224078 | X87: 1 | Y87: 1 | Z87: 0 | AA87: 0 | AB87: 0 | AE87: Non | AG87: 1 | AI87: =SUM(X:X-Z:Z) -> 1
A88: 039999900122171204 | B88: 5731094 | C88: 00063 | D88: Préparé | E88: 38416 | F88: G2P_F | G88: PAF.01.01.01.A | H88: 03/07/2018 05:56:38 | I88: ad001 | J88: UVC | K88: Mvt manquant WCS | L88: Non | M88: 0 | N88: 0 | O88: Tâche | P88: 03/07/2018 05:56:38 | Q88: Tâche | R88: 03/07/2018 05:56:38 | S88: 39 | T88: -1 | U88: 12217120 | X88: 1 | Y88: 1 | Z88: 0 | AA88: 0 | AB88: 0 | AD88: Date LC : Traçabilité totale | AE88: Non | AG88: 14 | AH88: 2 | AI88: =SUM(X:X-Z:Z) -> 1
A89: 039999900122260960 | B89: 5742026 | C89: 00034 | D89: Préparé | E89: 231044 | F89: G2P_A | G89: PAA.01.01.01.A | H89: 03/07/2018 05:53:07 | I89: ad001 | J89: UVC | K89: Mvt manquant WCS | L89: Non | M89: 0 | N89: 0 | O89: Tâche | P89: 03/07/2018 05:53:07 | Q89: Tâche | R89: 03/07/2018 05:53:07 | S89: 39 | T89: -1 | U89: 12226096 | X89: 1 | Y89: 1 | Z89: 0 | AA89: 0 | AB89: 0 | AE89: Non | AG89: 24 | AH89: 2 | AI89: =SUM(X:X-Z:Z) -> 1
A90: 039999900122224016 | B90: 5736366 | C90: 00010 | D90: Préparé | E90: 133180 | F90: SURG | G90: PCS.02.19.03.C | H90: 03/07/2018 05:52:24 | I90: ad001 | J90: UVC | L90: Non | M90: 0 | N90: 0 | O90: ITRAORE | P90: 01/01/1990 12:00:00 | Q90: 0 | R90: 03/07/2018 05:52:24 | S90: 1 | T90: -1 | U90: 12222401 | X90: 1 | Y90: 1 | Z90: 0 | AA90: 0 | AB90: 0 | AE90: Non | AG90: 1 | AI90: =SUM(X:X-Z:Z) -> 1
A91: 039999900122184112 | B91: 5738325 | C91: 00007 | D91: Préparé | E91: 127199 | F91: SURG | G91: PCS.03.37.01.A | H91: 03/07/2018 05:51:40 | I91: ad001 | J91: UVC | L91: Non | M91: 0 | N91: 0 | O91: ITRAORE | P91: 01/01/1990 12:00:00 | Q91: 0 | R91: 03/07/2018 05:51:40 | S91: 150 | T91: 7689 | U91: 12218411 | X91: 1 | Y91: 1 | Z91: 0 | AA91: 0 | AB91: 0 | AE91: Non | AG91: 2 | AI91: =SUM(X:X-Z:Z) -> 1
A92: 039999900122212280 | B92: 5735193 | C92: 00041 | D92: Préparé | E92: 61848 | F92: G2P_F | G92: PAF.01.01.01.A | H92: 03/07/2018 05:45:25 | I92: ad001 | J92: UVC | K92: Mvt manquant WCS | L92: Non | M92: 0 | N92: 0 | O92: Tâche | P92: 03/07/2018 05:45:25 | Q92: Tâche | R92: 03/07/2018 05:45:25 | S92: 39 | T92: -1 | U92: 12221228 | X92: 1 | Y92: 1 | Z92: 0 | AA92: 0 | AB92: 0 | AE92: Non | AG92: 7 | AH92: 2 | AI92: =SUM(X:X-Z:Z) -> 1
A93: 039999900122259803 | B93: 5741770 | C93: 00017 | D93: Préparé | E93: 152468 | F93: G2P_A | G93: PAA.01.01.01.A | H93: 03/07/2018 05:43:00 | I93: ad001 | J93: UVC | K93: Mvt manquant WCS | L93: Non | M93: 0 | N93: 0 | O93: Tâche | P93: 03/07/2018 05:43:00 | Q93: Tâche | R93: 03/07/2018 05:43:00 | S93: 39 | T93: -1 | U93: 12225980 | X93: 1 | Y93: 1 | Z93: 0 | AA93: 0 | AB93: 0 | AD93: Date LC : Traçabilité totale | AE93: Non | AG93: 12 | AH93: 2 | AI93: =SUM(X:X-Z:Z) -> 1
A94: 039999900122238495 | B94: 5735228 | C94: 00027 | D94: Préparé | E94: 242703 | F94: SURG | G94: PCS.03.35.02.A | H94: 03/07/2018 05:42:40 | I94: ad001 | J94: UVC | L94: Non | M94: 0 | N94: 0 | O94: ITRAORE | P94: 01/01/1990 12:00:00 | Q94: 0 | R94: 03/07/2018 05:42:40 | S94: 1 | T94: -1 | U94: 12223849 | X94: 1 | Y94: 1 | Z94: 0 | AA94: 0 | AB94: 0 | AE94: Non | AG94: 1 | AI94: =SUM(X:X-Z:Z) -> 1
A95: 039999900122183801 | B95: 5738128 | C95: 00009 | D95: Préparé | E95: 215109 | F95: SURG | G95: PCS.03.20.01.C | H95: 03/07/2018 05:42:25 | I95: ad001 | J95: UVC | L95: Non | M95: 0 | N95: 0 | O95: ITRAORE | P95: 01/01/1990 12:00:00 | Q95: 0 | R95: 03/07/2018 05:42:25 | S95: 150 | T95: 7689 | U95: 12218380 | X95: 1 | Y95: 1 | Z95: 0 | AA95: 0 | AB95: 0 | AE95: Non | AG95: 1 | AI95: =SUM(X:X-Z:Z) -> 1
A96: 039999900122188882 | B96: 5738574 | C96: 00011 | D96: Préparé | E96: 38416 | F96: G2P_F | G96: PAF.01.01.01.A | H96: 03/07/2018 05:42:11 | I96: ad001 | J96: UVC | K96: Mvt manquant WCS | L96: Non | M96: 0 | N96: 0 | O96: Tâche | P96: 03/07/2018 05:42:11 | Q96: Tâche | R96: 03/07/2018 05:42:11 | S96: 39 | T96: -1 | U96: 12218888 | X96: 1 | Y96: 1 | Z96: 0 | AA96: 0 | AB96: 0 | AD96: Date LC : Traçabilité totale | AE96: Non | AG96: 3 | AH96: 2 | AI96: =SUM(X:X-Z:Z) -> 1
A97: 039999900122159189 | B97: 5733036 | C97: 00030 | D97: Préparé | E97: 215109 | F97: SURG | G97: PCS.03.20.01.C | H97: 03/07/2018 05:35:28 | I97: ad001 | J97: UVC | L97: Non | M97: 0 | N97: 0 | O97: ITRAORE | P97: 01/01/1990 12:00:00 | Q97: 0 | R97: 03/07/2018 05:35:28 | S97: 177 | T97: 7689 | U97: 12215918 | X97: 1 | Y97: 1 | Z97: 0 | AA97: 0 | AB97: 0 | AE97: Non | AG97: 2 | AI97: =SUM(X:X-Z:Z) -> 1
A98: 039999900122185584 | B98: 5739252 | C98: 00004 | D98: Préparé | E98: 133180 | F98: SURG | G98: PCS.02.19.03.C | H98: 03/07/2018 05:35:14 | I98: ad001 | J98: UVC | L98: Non | M98: 0 | N98: 0 | O98: ITRAORE | P98: 01/01/1990 12:00:00 | Q98: 0 | R98: 03/07/2018 05:35:14 | S98: 177 | T98: 7689 | U98: 12218558 | X98: 1 | Y98: 1 | Z98: 0 | AA98: 0 | AB98: 0 | AE98: Non | AG98: 1 | AI98: =SUM(X:X-Z:Z) -> 1
A99: 039999900122238389 | B99: 5735203 | C99: 00041 | D99: Préparé | E99: 99204 | F99: G2P_A | G99: PAA.01.01.01.A | H99: 03/07/2018 05:28:13 | I99: ad001 | J99: UVC | K99: Mvt manquant WCS | L99: Non | M99: 0 | N99: 0 | O99: Tâche | P99: 03/07/2018 05:28:13 | Q99: Tâche | R99: 03/07/2018 05:28:13 | S99: 39 | T99: -1 | U99: 12223838 | X99: 1 | Y99: 1 | Z99: 0 | AA99: 0 | AB99: 0 | AE99: Non | AG99: 13 | AH99: 2 | AI99: =SUM(X:X-Z:Z) -> 1
A100: 039999900122184518 | B100: 5738535 | C100: 00011 | D100: Préparé | E100: 137993 | F100: G2P_A | G100: PAA.01.01.01.A | H100: 03/07/2018 05:23:33 | I100: ad001 | J100: UVC | K100: Mvt manquant WCS | L100: Non | M100: 0 | N100: 0 | O100: Tâche | P100: 03/07/2018 05:23:33 | Q100: Tâche | R100: 03/07/2018 05:23:33 | S100: 39 | T100: -1 | U100: 12218451 | X100: 1 | Y100: 1 | Z100: 0 | AA100: 0 | AB100: 0 | AE100: Non | AG100: 7 | AH100: 2 | AI100: =SUM(X:X-Z:Z) -> 1
...

Sheet flash
C1: Flash Manquants 03/07/2018
C8: A01 | E8: A02 | G8: A03 | I8: A04 | K8: A05 | M8: A06
C9: CUG | D9: Nb manquants | E9: CUG | F9: Nb manquants | G9: CUG | H9: Nb manquants | I9: CUG | J9: Nb manquants | K9: CUG | L9: Nb manquants | M9: CUG | N9: Nb manquants
A11: Top 1 | C11: =INDIRECT("F3!"&ADDRESS(ROW()-9,MATCH(C$8,F3!$1:$1,0)+3,4,1),1) | D11: =INDIRECT("F3!"&ADDRESS(ROW()-9,MATCH(C$8,F3!$1:$1,0)+1,4,1),1) | E11: =INDIRECT("F3!"&ADDRESS(ROW()-9,MATCH(E$8,F3!$1:$1,0)+3,4,1),1) | F11: =INDIRECT("F3!"&ADDRESS(ROW()-9,MATCH(E$8,F3!$1:$1,0)+1,4,1),1) | G11: =INDIRECT("F3!"&ADDRESS(ROW()-9,MATCH(G$8,F3!$1:$1,0)+3,4,1),1) | H11: =INDIRECT("F3!"&ADDRESS(ROW()-9,MATCH(G$8,F3!$1:$1,0)+1,4,1),1) | I11: =INDIRECT("F3!"&ADDRESS(ROW()-9,MATCH(I$8,F3!$1:$1,0)+3,4,1),1) | J11: =INDIRECT("F3!"&ADDRESS(ROW()-9,MATCH(I$8,F3!$1:$1,0)+1,4,1),1) | K11: =INDIRECT("F3!"&ADDRESS(ROW()-9,MATCH(K$8,F3!$1:$1,0)+3,4,1),1) | L11: =INDIRECT("F3!"&ADDRESS(ROW()-9,MATCH(K$8,F3!$1:$1,0)+1,4,1),1) | M11: =INDIRECT("F3!"&ADDRESS(ROW()-9,MATCH(M$8,F3!$1:$1,0)+3,4,1),1) | N11: =INDIRECT("F3!"&ADDRESS(ROW()-9,MATCH(M$8,F3!$1:$1,0)+1,4,1),1)
A12: Top 2 | C12: =INDIRECT("F3!"&ADDRESS(ROW()-9,MATCH(C$8,F3!$1:$1,0)+3,4,1),1) | D12: =INDIRECT("F3!"&ADDRESS(ROW()-9,MATCH(C$8,F3!$1:$1,0)+1,4,1),1) | E12: =INDIRECT("F3!"&ADDRESS(ROW()-9,MATCH(E$8,F3!$1:$1,0)+3,4,1),1) | F12: =INDIRECT("F3!"&ADDRESS(ROW()-9,MATCH(E$8,F3!$1:$1,0)+1,4,1),1) | G12: =INDIRECT("F3!"&ADDRESS(ROW()-9,MATCH(G$8,F3!$1:$1,0)+3,4,1),1) | H12: =INDIRECT("F3!"&ADDRESS(ROW()-9,MATCH(G$8,F3!$1:$1,0)+1,4,1),1) | I12: =INDIRECT("F3!"&ADDRESS(ROW()-9,MATCH(I$8,F3!$1:$1,0)+3,4,1),1) | J12: =INDIRECT("F3!"&ADDRESS(ROW()-9,MATCH(I$8,F3!$1:$1,0)+1,4,1),1) | K12: =INDIRECT("F3!"&ADDRESS(ROW()-9,MATCH(K$8,F3!$1:$1,0)+3,4,1),1) | L12: =INDIRECT("F3!"&ADDRESS(ROW()-9,MATCH(K$8,F3!$1:$1,0)+1,4,1),1) | M12: =INDIRECT("F3!"&ADDRESS(ROW()-9,MATCH(M$8,F3!$1:$1,0)+3,4,1),1) | N12: =INDIRECT("F3!"&ADDRESS(ROW()-9,MATCH(M$8,F3!$1:$1,0)+1,4,1),1)
A13: Top 3 | C13: =INDIRECT("F3!"&ADDRESS(ROW()-9,MATCH(C$8,F3!$1:$1,0)+3,4,1),1) | D13: =INDIRECT("F3!"&ADDRESS(ROW()-9,MATCH(C$8,F3!$1:$1,0)+1,4,1),1) | E13: =INDIRECT("F3!"&ADDRESS(ROW()-9,MATCH(E$8,F3!$1:$1,0)+3,4,1),1) | F13: =INDIRECT("F3!"&ADDRESS(ROW()-9,MATCH(E$8,F3!$1:$1,0)+1,4,1),1) | G13: =INDIRECT("F3!"&ADDRESS(ROW()-9,MATCH(G$8,F3!$1:$1,0)+3,4,1),1) | H13: =INDIRECT("F3!"&ADDRESS(ROW()-9,MATCH(G$8,F3!$1:$1,0)+1,4,1),1) | I13: =INDIRECT("F3!"&ADDRESS(ROW()-9,MATCH(I$8,F3!$1:$1,0)+3,4,1),1) | J13: =INDIRECT("F3!"&ADDRESS(ROW()-9,MATCH(I$8,F3!$1:$1,0)+1,4,1),1) | K13: =INDIRECT("F3!"&ADDRESS(ROW()-9,MATCH(K$8,F3!$1:$1,0)+3,4,1),1) | L13: =INDIRECT("F3!"&ADDRESS(ROW()-9,MATCH(K$8,F3!$1:$1,0)+1,4,1),1) | M13: =INDIRECT("F3!"&ADDRESS(ROW()-9,MATCH(M$8,F3!$1:$1,0)+3,4,1),1) | N13: =INDIRECT("F3!"&ADDRESS(ROW()-9,MATCH(M$8,F3!$1:$1,0)+1,4,1),1)
A14: Top 4 | C14: =INDIRECT("F3!"&ADDRESS(ROW()-9,MATCH(C$8,F3!$1:$1,0)+3,4,1),1) | D14: =INDIRECT("F3!"&ADDRESS(ROW()-9,MATCH(C$8,F3!$1:$1,0)+1,4,1),1) | E14: =INDIRECT("F3!"&ADDRESS(ROW()-9,MATCH(E$8,F3!$1:$1,0)+3,4,1),1) | F14: =INDIRECT("F3!"&ADDRESS(ROW()-9,MATCH(E$8,F3!$1:$1,0)+1,4,1),1) | G14: =INDIRECT("F3!"&ADDRESS(ROW()-9,MATCH(G$8,F3!$1:$1,0)+3,4,1),1) | H14: =INDIRECT("F3!"&ADDRESS(ROW()-9,MATCH(G$8,F3!$1:$1,0)+1,4,1),1) | I14: =INDIRECT("F3!"&ADDRESS(ROW()-9,MATCH(I$8,F3!$1:$1,0)+3,4,1),1) | J14: =INDIRECT("F3!"&ADDRESS(ROW()-9,MATCH(I$8,F3!$1:$1,0)+1,4,1),1) | K14: =INDIRECT("F3!"&ADDRESS(ROW()-9,MATCH(K$8,F3!$1:$1,0)+3,4,1),1) | L14: =INDIRECT("F3!"&ADDRESS(ROW()-9,MATCH(K$8,F3!$1:$1,0)+1,4,1),1) | M14: =INDIRECT("F3!"&ADDRESS(ROW()-9,MATCH(M$8,F3!$1:$1,0)+3,4,1),1) | N14: =INDIRECT("F3!"&ADDRESS(ROW()-9,MATCH(M$8,F3!$1:$1,0)+1,4,1),1)
A15: Top 5 | C15: =INDIRECT("F3!"&ADDRESS(ROW()-9,MATCH(C$8,F3!$1:$1,0)+3,4,1),1) | D15: =INDIRECT("F3!"&ADDRESS(ROW()-9,MATCH(C$8,F3!$1:$1,0)+1,4,1),1) | E15: =INDIRECT("F3!"&ADDRESS(ROW()-9,MATCH(E$8,F3!$1:$1,0)+3,4,1),1) | F15: =INDIRECT("F3!"&ADDRESS(ROW()-9,MATCH(E$8,F3!$1:$1,0)+1,4,1),1) | G15: =INDIRECT("F3!"&ADDRESS(ROW()-9,MATCH(G$8,F3!$1:$1,0)+3,4,1),1) | H15: =INDIRECT("F3!"&ADDRESS(ROW()-9,MATCH(G$8,F3!$1:$1,0)+1,4,1),1) | I15: =INDIRECT("F3!"&ADDRESS(ROW()-9,MATCH(I$8,F3!$1:$1,0)+3,4,1),1) | J15: =INDIRECT("F3!"&ADDRESS(ROW()-9,MATCH(I$8,F3!$1:$1,0)+1,4,1),1) | K15: =INDIRECT("F3!"&ADDRESS(ROW()-9,MATCH(K$8,F3!$1:$1,0)+3,4,1),1) | L15: =INDIRECT("F3!"&ADDRESS(ROW()-9,MATCH(K$8,F3!$1:$1,0)+1,4,1),1) | M15: =INDIRECT("F3!"&ADDRESS(ROW()-9,MATCH(M$8,F3!$1:$1,0)+3,4,1),1) | N15: =INDIRECT("F3!"&ADDRESS(ROW()-9,MATCH(M$8,F3!$1:$1,0)+1,4,1),1)
C16: Total Secteur | E16: Total Secteur | G16: Total Secteur | I16: Total Secteur | K16: Total Secteur | M16: Total Secteur
C17: =Manquants!AR1 -> 0 | E17: =Manquants!AV1 -> 0 | G17: =Manquants!AZ1 -> 0 | I17: =Manquants!BC1 -> 0 | K17: =Manquants!BH1 -> 0 | M17: =Manquants!BL1 -> 0
C18: F01 | E18: F02 | G18: F03 | I18: F04 | K18: F05 | M18: SURG
C19: CUG | D19: Nb manquants | E19: CUG | F19: Nb manquants | G19: CUG | H19: Nb manquants | I19: CUG | J19: Nb manquants | K19: CUG | L19: Nb manquants | M19: CUG | N19: Nb manquants
A21: Top 1 | C21: =INDIRECT("F3!"&ADDRESS(ROW()-19,MATCH(C$18,F3!$1:$1,0)+3,4,1),1) -> 181724 | D21: =INDIRECT("F3!"&ADDRESS(ROW()-19,MATCH(C$18,F3!$1:$1,0)+1,4,1),1) -> 8 | E21: =INDIRECT("F3!"&ADDRESS(ROW()-19,MATCH(E$18,F3!$1:$1,0)+3,4,1),1) | F21: =INDIRECT("F3!"&ADDRESS(ROW()-19,MATCH(E$18,F3!$1:$1,0)+1,4,1),1) | G21: =INDIRECT("F3!"&ADDRESS(ROW()-19,MATCH(G$18,F3!$1:$1,0)+3,4,1),1) | H21: =INDIRECT("F3!"&ADDRESS(ROW()-19,MATCH(G$18,F3!$1:$1,0)+1,4,1),1) | I21: =INDIRECT("F3!"&ADDRESS(ROW()-19,MATCH(I$18,F3!$1:$1,0)+3,4,1),1) | J21: =INDIRECT("F3!"&ADDRESS(ROW()-19,MATCH(I$18,F3!$1:$1,0)+1,4,1),1) | K21: =INDIRECT("F3!"&ADDRESS(ROW()-19,MATCH(K$18,F3!$1:$1,0)+3,4,1),1) -> 57337 | L21: =INDIRECT("F3!"&ADDRESS(ROW()-19,MATCH(K$18,F3!$1:$1,0)+1,4,1),1) -> 4 | M21: =INDIRECT("F3!"&ADDRESS(ROW()-19,MATCH(M$18,F3!$1:$1,0)+3,4,1),1) -> 126690 | N21: =INDIRECT("F3!"&ADDRESS(ROW()-19,MATCH(M$18,F3!$1:$1,0)+1,4,1),1) -> 7
A22: Top 2 | C22: =INDIRECT("F3!"&ADDRESS(ROW()-19,MATCH(C$18,F3!$1:$1,0)+3,4,1),1) | D22: =INDIRECT("F3!"&ADDRESS(ROW()-19,MATCH(C$18,F3!$1:$1,0)+1,4,1),1) | E22: =INDIRECT("F3!"&ADDRESS(ROW()-19,MATCH(E$18,F3!$1:$1,0)+3,4,1),1) | F22: =INDIRECT("F3!"&ADDRESS(ROW()-19,MATCH(E$18,F3!$1:$1,0)+1,4,1),1) | G22: =INDIRECT("F3!"&ADDRESS(ROW()-19,MATCH(G$18,F3!$1:$1,0)+3,4,1),1) | H22: =INDIRECT("F3!"&ADDRESS(ROW()-19,MATCH(G$18,F3!$1:$1,0)+1,4,1),1) | I22: =INDIRECT("F3!"&ADDRESS(ROW()-19,MATCH(I$18,F3!$1:$1,0)+3,4,1),1) | J22: =INDIRECT("F3!"&ADDRESS(ROW()-19,MATCH(I$18,F3!$1:$1,0)+1,4,1),1) | K22: =INDIRECT("F3!"&ADDRESS(ROW()-19,MATCH(K$18,F3!$1:$1,0)+3,4,1),1) -> 81346 | L22: =INDIRECT("F3!"&ADDRESS(ROW()-19,MATCH(K$18,F3!$1:$1,0)+1,4,1),1) -> 2 | M22: =INDIRECT("F3!"&ADDRESS(ROW()-19,MATCH(M$18,F3!$1:$1,0)+3,4,1),1) -> 123386 | N22: =INDIRECT("F3!"&ADDRESS(ROW()-19,MATCH(M$18,F3!$1:$1,0)+1,4,1),1) -> 4
A23: Top 3 | C23: =INDIRECT("F3!"&ADDRESS(ROW()-19,MATCH(C$18,F3!$1:$1,0)+3,4,1),1) | D23: =INDIRECT("F3!"&ADDRESS(ROW()-19,MATCH(C$18,F3!$1:$1,0)+1,4,1),1) | E23: =INDIRECT("F3!"&ADDRESS(ROW()-19,MATCH(E$18,F3!$1:$1,0)+3,4,1),1) | F23: =INDIRECT("F3!"&ADDRESS(ROW()-19,MATCH(E$18,F3!$1:$1,0)+1,4,1),1) | G23: =INDIRECT("F3!"&ADDRESS(ROW()-19,MATCH(G$18,F3!$1:$1,0)+3,4,1),1) | H23: =INDIRECT("F3!"&ADDRESS(ROW()-19,MATCH(G$18,F3!$1:$1,0)+1,4,1),1) | I23: =INDIRECT("F3!"&ADDRESS(ROW()-19,MATCH(I$18,F3!$1:$1,0)+3,4,1),1) | J23: =INDIRECT("F3!"&ADDRESS(ROW()-19,MATCH(I$18,F3!$1:$1,0)+1,4,1),1) | K23: =INDIRECT("F3!"&ADDRESS(ROW()-19,MATCH(K$18,F3!$1:$1,0)+3,4,1),1) -> 92477 | L23: =INDIRECT("F3!"&ADDRESS(ROW()-19,MATCH(K$18,F3!$1:$1,0)+1,4,1),1) -> 2 | M23: =INDIRECT("F3!"&ADDRESS(ROW()-19,MATCH(M$18,F3!$1:$1,0)+3,4,1),1) -> 127199 | N23: =INDIRECT("F3!"&ADDRESS(ROW()-19,MATCH(M$18,F3!$1:$1,0)+1,4,1),1) -> 4
A24: Top 4 | C24: =INDIRECT("F3!"&ADDRESS(ROW()-19,MATCH(C$18,F3!$1:$1,0)+3,4,1),1) | D24: =INDIRECT("F3!"&ADDRESS(ROW()-19,MATCH(C$18,F3!$1:$1,0)+1,4,1),1) | E24: =INDIRECT("F3!"&ADDRESS(ROW()-19,MATCH(E$18,F3!$1:$1,0)+3,4,1),1) | F24: =INDIRECT("F3!"&ADDRESS(ROW()-19,MATCH(E$18,F3!$1:$1,0)+1,4,1),1) | G24: =INDIRECT("F3!"&ADDRESS(ROW()-19,MATCH(G$18,F3!$1:$1,0)+3,4,1),1) | H24: =INDIRECT("F3!"&ADDRESS(ROW()-19,MATCH(G$18,F3!$1:$1,0)+1,4,1),1) | I24: =INDIRECT("F3!"&ADDRESS(ROW()-19,MATCH(I$18,F3!$1:$1,0)+3,4,1),1) | J24: =INDIRECT("F3!"&ADDRESS(ROW()-19,MATCH(I$18,F3!$1:$1,0)+1,4,1),1) | K24: =INDIRECT("F3!"&ADDRESS(ROW()-19,MATCH(K$18,F3!$1:$1,0)+3,4,1),1) -> 60147 | L24: =INDIRECT("F3!"&ADDRESS(ROW()-19,MATCH(K$18,F3!$1:$1,0)+1,4,1),1) -> 1 | M24: =INDIRECT("F3!"&ADDRESS(ROW()-19,MATCH(M$18,F3!$1:$1,0)+3,4,1),1) -> 133180 | N24: =INDIRECT("F3!"&ADDRESS(ROW()-19,MATCH(M$18,F3!$1:$1,0)+1,4,1),1) -> 4
A25: Top 5 | C25: =INDIRECT("F3!"&ADDRESS(ROW()-19,MATCH(C$18,F3!$1:$1,0)+3,4,1),1) | D25: =INDIRECT("F3!"&ADDRESS(ROW()-19,MATCH(C$18,F3!$1:$1,0)+1,4,1),1) | E25: =INDIRECT("F3!"&ADDRESS(ROW()-19,MATCH(E$18,F3!$1:$1,0)+3,4,1),1) | F25: =INDIRECT("F3!"&ADDRESS(ROW()-19,MATCH(E$18,F3!$1:$1,0)+1,4,1),1) | G25: =INDIRECT("F3!"&ADDRESS(ROW()-19,MATCH(G$18,F3!$1:$1,0)+3,4,1),1) | H25: =INDIRECT("F3!"&ADDRESS(ROW()-19,MATCH(G$18,F3!$1:$1,0)+1,4,1),1) | I25: =INDIRECT("F3!"&ADDRESS(ROW()-19,MATCH(I$18,F3!$1:$1,0)+3,4,1),1) | J25: =INDIRECT("F3!"&ADDRESS(ROW()-19,MATCH(I$18,F3!$1:$1,0)+1,4,1),1) | K25: =INDIRECT("F3!"&ADDRESS(ROW()-19,MATCH(K$18,F3!$1:$1,0)+3,4,1),1) -> 82409 | L25: =INDIRECT("F3!"&ADDRESS(ROW()-19,MATCH(K$18,F3!$1:$1,0)+1,4,1),1) -> 1 | M25: =INDIRECT("F3!"&ADDRESS(ROW()-19,MATCH(M$18,F3!$1:$1,0)+3,4,1),1) -> 4847 | N25: =INDIRECT("F3!"&ADDRESS(ROW()-19,MATCH(M$18,F3!$1:$1,0)+1,4,1),1) -> 3
C26: Total Secteur | E26: Total Secteur | G26: Total Secteur | I26: Total Secteur | K26: Total Secteur | M26: Total Secteur
C27: =Manquants!BP1 -> 0 | E27: =Manquants!BT1 -> 0 | G27: =Manquants!BX1 -> 0 | I27: =Manquants!CB1 -> 0 | K27: =Manquants!CF1 -> 0 | M27: =Manquants!CJ1 -> 0
C28: G2P_A | E28: G2P_F
C29: CUG | D29: Nb manquants | E29: CUG | F29: Nb manquants | H29: Heure H | I29: Total Manquant
A31: Top 1 | C31: =INDIRECT("F3!"&ADDRESS(ROW()-29,MATCH(C$28,F3!$1:$1,0)+3,4,1),1) -> 152468 | D31: =INDIRECT("F3!"&ADDRESS(ROW()-29,MATCH(C$28,F3!$1:$1,0)+1,4,1),1) -> 17 | E31: =INDIRECT("F3!"&ADDRESS(ROW()-29,MATCH(E$28,F3!$1:$1,0)+3,4,1),1) -> 38416 | F31: =INDIRECT("F3!"&ADDRESS(ROW()-29,MATCH(E$28,F3!$1:$1,0)+1,4,1),1) -> 12 | H31: 09H30 | I31: =Manquants!AK2 -> 199
A32: Top 2 | C32: =INDIRECT("F3!"&ADDRESS(ROW()-29,MATCH(C$28,F3!$1:$1,0)+3,4,1),1) -> 170955 | D32: =INDIRECT("F3!"&ADDRESS(ROW()-29,MATCH(C$28,F3!$1:$1,0)+1,4,1),1) -> 11 | E32: =INDIRECT("F3!"&ADDRESS(ROW()-29,MATCH(E$28,F3!$1:$1,0)+3,4,1),1) -> 236028 | F32: =INDIRECT("F3!"&ADDRESS(ROW()-29,MATCH(E$28,F3!$1:$1,0)+1,4,1),1) -> 7
A33: Top 3 | C33: =INDIRECT("F3!"&ADDRESS(ROW()-29,MATCH(C$28,F3!$1:$1,0)+3,4,1),1) -> 148981 | D33: =INDIRECT("F3!"&ADDRESS(ROW()-29,MATCH(C$28,F3!$1:$1,0)+1,4,1),1) -> 6 | E33: =INDIRECT("F3!"&ADDRESS(ROW()-29,MATCH(E$28,F3!$1:$1,0)+3,4,1),1) -> 61848 | F33: =INDIRECT("F3!"&ADDRESS(ROW()-29,MATCH(E$28,F3!$1:$1,0)+1,4,1),1) -> 4
A34: Top 4 | C34: =INDIRECT("F3!"&ADDRESS(ROW()-29,MATCH(C$28,F3!$1:$1,0)+3,4,1),1) -> 70635 | D34: =INDIRECT("F3!"&ADDRESS(ROW()-29,MATCH(C$28,F3!$1:$1,0)+1,4,1),1) -> 2 | E34: =INDIRECT("F3!"&ADDRESS(ROW()-29,MATCH(E$28,F3!$1:$1,0)+3,4,1),1) -> 140224 | F34: =INDIRECT("F3!"&ADDRESS(ROW()-29,MATCH(E$28,F3!$1:$1,0)+1,4,1),1) -> 4
A35: Top 5 | C35: =INDIRECT("F3!"&ADDRESS(ROW()-29,MATCH(C$28,F3!$1:$1,0)+3,4,1),1) -> 75985 | D35: =INDIRECT("F3!"&ADDRESS(ROW()-29,MATCH(C$28,F3!$1:$1,0)+1,4,1),1) -> 2 | E35: =INDIRECT("F3!"&ADDRESS(ROW()-29,MATCH(E$28,F3!$1:$1,0)+3,4,1),1) -> 27563 | F35: =INDIRECT("F3!"&ADDRESS(ROW()-29,MATCH(E$28,F3!$1:$1,0)+1,4,1),1) -> 3
C36: Total Secteur | E36: Total Secteur
C37: =Manquants!CN1 -> 0 | E37: =Manquants!CR1 -> 0

Sheet F3
A1: Article | B1: =Manquants!F1 -> Secteur | J1: A01 | M1: =SUM(J:J) -> 0 | N1: A02 | Q1: =SUM(N:N) -> 0 | R1: A03 | U1: =SUM(R:R) -> 0 | V1: A04 | Y1: =SUM(V:V) -> 0 | Z1: A05 | AC1: =SUM(Z:Z) -> 0 | AD1: A06 | AG1: =SUM(AD:AD) -> 0 | AH1: F01 | AK1: =SUM(AH:AH) -> 8 | AL1: F02 | AO1: =SUM(AL:AL) -> 0 | AP1: F03 | AS1: =SUM(AP:AP) -> 0 | AT1: F04 | AW1: =SUM(AT:AT) -> 0 | AX1: F05 | BA1: =SUM(AX:AX) -> 12 | BB1: SURG | BE1: =SUM(BB:BB) -> 58 | BF1: G2P_A | BI1: =SUM(BF:BF) -> 68 | BJ1: G2P_F | BM1: =SUM(BJ:BJ) -> 49 | BN1: =COLUMN() -> 66
A2: =IFERROR(IF(SMALL(Manquants!E$2:E$900,ROW()-1)=SMALL(Manquants!E$2:E$900,ROW()),"",SMALL(Manquants!E$2:E$900,ROW()-1)),"") | B2: =IF(A2="","",VLOOKUP(A2,Manquants!E$1:F$900,2,0)) | C2: =IF(A2="","",SUMIFS(Manquants!AI:AI,Manquants!E:E,A2)) | J2: =IF($B2=J$1,$C2,"") | K2: =IFERROR(LARGE(J:J,ROW()-1),"") | L2: =IF(K2="","",IF(K2=K1,MATCH(K2,INDIRECT("J"&CONCATENATE(L1+1,":J900"),1),0)+L1,MATCH(K2,J:J,0))) | M2: =IFERROR(INDIRECT("A"&L2,1),"") | N2: =IF($B2=N$1,$C2,"") | O2: =IFERROR(LARGE(N:N,ROW()-1),"") | P2: =IF(O2="","",IF(O2=O1,MATCH(O2,INDIRECT("N"&CONCATENATE(P1+1,":N900"),1),0)+P1,MATCH(O2,N:N,0))) | Q2: =IFERROR(INDIRECT("A"&P2,1),"") | R2: =IF($B2=R$1,$C2,"") | S2: =IFERROR(LARGE(R:R,ROW()-1),"") | T2: =IF(S2="","",IF(S2=S1,MATCH(S2,INDIRECT("R"&CONCATENATE(T1+1,":R900"),1),0)+T1,MATCH(S2,R:R,0))) | U2: =IFERROR(INDIRECT("A"&T2,1),"") | V2: =IF($B2=V$1,$C2,"") | W2: =IFERROR(LARGE(V:V,ROW()-1),"") | X2: =IF(W2="","",IF(W2=W1,MATCH(W2,INDIRECT("V"&CONCATENATE(X1+1,":V900"),1),0)+X1,MATCH(W2,V:V,0))) | Y2: =IFERROR(INDIRECT("A"&X2,1),"") | Z2: =IF($B2=Z$1,$C2,"") | AA2: =IFERROR(LARGE(Z:Z,ROW()-1),"") | AB2: =IF(AA2="","",IF(AA2=AA1,MATCH(AA2,INDIRECT("Z"&CONCATENATE(AB1+1,":Z900"),1),0)+AB1,MATCH(AA2,Z:Z,0))) | AC2: =IFERROR(INDIRECT("A"&AB2,1),"") | AD2: =IF($B2=AD$1,$C2,"") | AE2: =IFERROR(LARGE(AD:AD,ROW()-1),"") | AF2: =IF(AE2="","",IF(AE2=AE1,MATCH(AE2,INDIRECT("AD"&CONCATENATE(AF1+1,":AD900"),1),0)+AF1,MATCH(AE2,AD:AD,0))) | AG2: =IFERROR(INDIRECT("A"&AF2,1),"") | AH2: =IF($B2=AH$1,$C2,"") | AI2: =IFERROR(LARGE(AH:AH,ROW()-1),"") -> 8 | AJ2: =IF(AI2="","",IF(AI2=AI1,MATCH(AI2,INDIRECT("AH"&CONCATENATE(AJ1+1,":AH900"),1),0)+AJ1,MATCH(AI2,AH:AH,0))) -> 145 | AK2: =IFERROR(INDIRECT("A"&AJ2,1),"") -> 181724 | AL2: =IF($B2=AL$1,$C2,"") | AM2: =IFERROR(LARGE(AL:AL,ROW()-1),"") | AN2: =IF(AM2="","",IF(AM2=AM1,MATCH(AM2,INDIRECT("AL"&CONCATENATE(AN1+1,":AL900"),1),0)+AN1,MATCH(AM2,AL:AL,0))) | AO2: =IFERROR(INDIRECT("A"&AN2,1),"") | AP2: =IF($B2=AP$1,$C2,"") | AQ2: =IFERROR(LARGE(AP:AP,ROW()-1),"") | AR2: =IF(AQ2="","",IF(AQ2=AQ1,MATCH(AQ2,INDIRECT("AP"&CONCATENATE(AR1+1,":AP900"),1),0)+AR1,MATCH(AQ2,AP:AP,0))) | AS2: =IFERROR(INDIRECT("A"&AR2,1),"") | AT2: =IF($B2=AT$1,$C2,"") | AU2: =IFERROR(LARGE(AT:AT,ROW()-1),"") | AV2: =IF(AU2="","",IF(AU2=AU1,MATCH(AU2,INDIRECT("AU"&CONCATENATE(AV1+1,":AU900"),1),0)+AV1,MATCH(AU2,AT:AT,0))) | AW2: =IFERROR(INDIRECT("A"&AV2,1),"") | AX2: =IF($B2=AX$1,$C2,"") | AY2: =IFERROR(LARGE(AX:AX,ROW()-1),"") -> 4 | AZ2: =IF(AY2="","",IF(AY2=AY1,MATCH(AY2,INDIRECT("AX"&CONCATENATE(AZ1+1,":AX900"),1),0)+AZ1,MATCH(AY2,AX:AX,0))) -> 30 | BA2: =IFERROR(INDIRECT("A"&AZ2,1),"") -> 57337 | BB2: =IF($B2=BB$1,$C2,"") | BC2: =IFERROR(LARGE(BB:BB,ROW()-1),"") -> 7 | BD2: =IF(BC2="","",IF(BC2=BC1,MATCH(BC2,INDIRECT("BB"&CONCATENATE(BD1+1,":BB900"),1),0)+BD1,MATCH(BC2,BB:BB,0))) -> 81 | BE2: =IFERROR(INDIRECT("A"&BD2,1),"") -> 126690 | BF2: =IF($B2=BF$1,$C2,"") | BG2: =IFERROR(LARGE(BF:BF,ROW()-1),"") -> 17 | BH2: =IF(BG2="","",IF(BG2=BG1,MATCH(BG2,INDIRECT("BF"&CONCATENATE(BH1+1,":BF900"),1),0)+BH1,MATCH(BG2,BF:BF,0))) -> 122 | BI2: =IFERROR(INDIRECT("A"&BH2,1),"") -> 152468 | BJ2: =IF($B2=BJ$1,$C2,"") | BK2: =IFERROR(LARGE(BJ:BJ,ROW()-1),"") -> 12 | BL2: =IF(BK2="","",IF(BK2=BK1,MATCH(BK2,INDIRECT("BJ"&CONCATENATE(BL1+1,":BJ900"),1),0)+BL1,MATCH(BK2,BJ:BJ,0))) -> 20 | BM2: =IFERROR(INDIRECT("A"&BL2,1),"") -> 38416
A3: =IFERROR(IF(SMALL(Manquants!E$2:E$900,ROW()-1)=SMALL(Manquants!E$2:E$900,ROW()),"",SMALL(Manquants!E$2:E$900,ROW()-1)),"") | B3: =IF(A3="","",VLOOKUP(A3,Manquants!E$1:F$900,2,0)) | C3: =IF(A3="","",SUMIFS(Manquants!AI:AI,Manquants!E:E,A3)) | J3: =IF($B3=J$1,$C3,"") | K3: =IFERROR(LARGE(J:J,ROW()-1),"") | L3: =IF(K3="","",IF(K3=K2,MATCH(K3,INDIRECT("J"&CONCATENATE(L2+1,":J900"),1),0)+L2,MATCH(K3,J:J,0))) | M3: =IFERROR(INDIRECT("A"&L3,1),"") | N3: =IF($B3=N$1,$C3,"") | O3: =IFERROR(LARGE(N:N,ROW()-1),"") | P3: =IF(O3="","",IF(O3=O2,MATCH(O3,INDIRECT("N"&CONCATENATE(P2+1,":N900"),1),0)+P2,MATCH(O3,N:N,0))) | Q3: =IFERROR(INDIRECT("A"&P3,1),"") | R3: =IF($B3=R$1,$C3,"") | S3: =IFERROR(LARGE(R:R,ROW()-1),"") | T3: =IF(S3="","",IF(S3=S2,MATCH(S3,INDIRECT("R"&CONCATENATE(T2+1,":R900"),1),0)+T2,MATCH(S3,R:R,0))) | U3: =IFERROR(INDIRECT("A"&T3,1),"") | V3: =IF($B3=V$1,$C3,"") | W3: =IFERROR(LARGE(V:V,ROW()-1),"") | X3: =IF(W3="","",IF(W3=W2,MATCH(W3,INDIRECT("V"&CONCATENATE(X2+1,":V900"),1),0)+X2,MATCH(W3,V:V,0))) | Y3: =IFERROR(INDIRECT("A"&X3,1),"") | Z3: =IF($B3=Z$1,$C3,"") | AA3: =IFERROR(LARGE(Z:Z,ROW()-1),"") | AB3: =IF(AA3="","",IF(AA3=AA2,MATCH(AA3,INDIRECT("Z"&CONCATENATE(AB2+1,":Z900"),1),0)+AB2,MATCH(AA3,Z:Z,0))) | AC3: =IFERROR(INDIRECT("A"&AB3,1),"") | AD3: =IF($B3=AD$1,$C3,"") | AE3: =IFERROR(LARGE(AD:AD,ROW()-1),"") | AF3: =IF(AE3="","",IF(AE3=AE2,MATCH(AE3,INDIRECT("AD"&CONCATENATE(AF2+1,":AD900"),1),0)+AF2,MATCH(AE3,AD:AD,0))) | AG3: =IFERROR(INDIRECT("A"&AF3,1),"") | AH3: =IF($B3=AH$1,$C3,"") | AI3: =IFERROR(LARGE(AH:AH,ROW()-1),"") | AJ3: =IF(AI3="","",IF(AI3=AI2,MATCH(AI3,INDIRECT("AH"&CONCATENATE(AJ2+1,":AH900"),1),0)+AJ2,MATCH(AI3,AH:AH,0))) | AK3: =IFERROR(INDIRECT("A"&AJ3,1),"") | AL3: =IF($B3=AL$1,$C3,"") | AM3: =IFERROR(LARGE(AL:AL,ROW()-1),"") | AN3: =IF(AM3="","",IF(AM3=AM2,MATCH(AM3,INDIRECT("AL"&CONCATENATE(AN2+1,":AL900"),1),0)+AN2,MATCH(AM3,AL:AL,0))) | AO3: =IFERROR(INDIRECT("A"&AN3,1),"") | AP3: =IF($B3=AP$1,$C3,"") | AQ3: =IFERROR(LARGE(AP:AP,ROW()-1),"") | AR3: =IF(AQ3="","",IF(AQ3=AQ2,MATCH(AQ3,INDIRECT("AP"&CONCATENATE(AR2+1,":AP900"),1),0)+AR2,MATCH(AQ3,AP:AP,0))) | AS3: =IFERROR(INDIRECT("A"&AR3,1),"") | AT3: =IF($B3=AT$1,$C3,"") | AU3: =IFERROR(LARGE(AT:AT,ROW()-1),"") | AV3: =IF(AU3="","",IF(AU3=AU2,MATCH(AU3,INDIRECT("AU"&CONCATENATE(AV2+1,":AU900"),1),0)+AV2,MATCH(AU3,AT:AT,0))) | AW3: =IFERROR(INDIRECT("A"&AV3,1),"") | AX3: =IF($B3=AX$1,$C3,"") | AY3: =IFERROR(LARGE(AX:AX,ROW()-1),"") -> 2 | AZ3: =IF(AY3="","",IF(AY3=AY2,MATCH(AY3,INDIRECT("AX"&CONCATENATE(AZ2+1,":AX900"),1),0)+AZ2,MATCH(AY3,AX:AX,0))) -> 46 | BA3: =IFERROR(INDIRECT("A"&AZ3,1),"") -> 81346 | BB3: =IF($B3=BB$1,$C3,"") | BC3: =IFERROR(LARGE(BB:BB,ROW()-1),"") -> 4 | BD3: =IF(BC3="","",IF(BC3=BC2,MATCH(BC3,INDIRECT("BB"&CONCATENATE(BD2+1,":BB900"),1),0)+BD2,MATCH(BC3,BB:BB,0))) -> 75 | BE3: =IFERROR(INDIRECT("A"&BD3,1),"") -> 123386 | BF3: =IF($B3=BF$1,$C3,"") | BG3: =IFERROR(LARGE(BF:BF,ROW()-1),"") -> 11 | BH3: =IF(BG3="","",IF(BG3=BG2,MATCH(BG3,INDIRECT("BF"&CONCATENATE(BH2+1,":BF900"),1),0)+BH2,MATCH(BG3,BF:BF,0))) -> 138 | BI3: =IFERROR(INDIRECT("A"&BH3,1),"") -> 170955 | BJ3: =IF($B3=BJ$1,$C3,"") | BK3: =IFERROR(LARGE(BJ:BJ,ROW()-1),"") -> 7 | BL3: =IF(BK3="","",IF(BK3=BK2,MATCH(BK3,INDIRECT("BJ"&CONCATENATE(BL2+1,":BJ900"),1),0)+BL2,MATCH(BK3,BJ:BJ,0))) -> 166 | BM3: =IFERROR(INDIRECT("A"&BL3,1),"") -> 236028
A4: =IFERROR(IF(SMALL(Manquants!E$2:E$900,ROW()-1)=SMALL(Manquants!E$2:E$900,ROW()),"",SMALL(Manquants!E$2:E$900,ROW()-1)),"") -> 4847 | B4: =IF(A4="","",VLOOKUP(A4,Manquants!E$1:F$900,2,0)) -> SURG | C4: =IF(A4="","",SUMIFS(Manquants!AI:AI,Manquants!E:E,A4)) -> 3 | J4: =IF($B4=J$1,$C4,"") | K4: =IFERROR(LARGE(J:J,ROW()-1),"") | L4: =IF(K4="","",IF(K4=K3,MATCH(K4,INDIRECT("J"&CONCATENATE(L3+1,":J900"),1),0)+L3,MATCH(K4,J:J,0))) | M4: =IFERROR(INDIRECT("A"&L4,1),"") | N4: =IF($B4=N$1,$C4,"") | O4: =IFERROR(LARGE(N:N,ROW()-1),"") | P4: =IF(O4="","",IF(O4=O3,MATCH(O4,INDIRECT("N"&CONCATENATE(P3+1,":N900"),1),0)+P3,MATCH(O4,N:N,0))) | Q4: =IFERROR(INDIRECT("A"&P4,1),"") | R4: =IF($B4=R$1,$C4,"") | S4: =IFERROR(LARGE(R:R,ROW()-1),"") | T4: =IF(S4="","",IF(S4=S3,MATCH(S4,INDIRECT("R"&CONCATENATE(T3+1,":R900"),1),0)+T3,MATCH(S4,R:R,0))) | U4: =IFERROR(INDIRECT("A"&T4,1),"") | V4: =IF($B4=V$1,$C4,"") | W4: =IFERROR(LARGE(V:V,ROW()-1),"") | X4: =IF(W4="","",IF(W4=W3,MATCH(W4,INDIRECT("V"&CONCATENATE(X3+1,":V900"),1),0)+X3,MATCH(W4,V:V,0))) | Y4: =IFERROR(INDIRECT("A"&X4,1),"") | Z4: =IF($B4=Z$1,$C4,"") | AA4: =IFERROR(LARGE(Z:Z,ROW()-1),"") | AB4: =IF(AA4="","",IF(AA4=AA3,MATCH(AA4,INDIRECT("Z"&CONCATENATE(AB3+1,":Z900"),1),0)+AB3,MATCH(AA4,Z:Z,0))) | AC4: =IFERROR(INDIRECT("A"&AB4,1),"") | AD4: =IF($B4=AD$1,$C4,"") | AE4: =IFERROR(LARGE(AD:AD,ROW()-1),"") | AF4: =IF(AE4="","",IF(AE4=AE3,MATCH(AE4,INDIRECT("AD"&CONCATENATE(AF3+1,":AD900"),1),0)+AF3,MATCH(AE4,AD:AD,0))) | AG4: =IFERROR(INDIRECT("A"&AF4,1),"") | AH4: =IF($B4=AH$1,$C4,"") | AI4: =IFERROR(LARGE(AH:AH,ROW()-1),"") | AJ4: =IF(AI4="","",IF(AI4=AI3,MATCH(AI4,INDIRECT("AH"&CONCATENATE(AJ3+1,":AH900"),1),0)+AJ3,MATCH(AI4,AH:AH,0))) | AK4: =IFERROR(INDIRECT("A"&AJ4,1),"") | AL4: =IF($B4=AL$1,$C4,"") | AM4: =IFERROR(LARGE(AL:AL,ROW()-1),"") | AN4: =IF(AM4="","",IF(AM4=AM3,MATCH(AM4,INDIRECT("AL"&CONCATENATE(AN3+1,":AL900"),1),0)+AN3,MATCH(AM4,AL:AL,0))) | AO4: =IFERROR(INDIRECT("A"&AN4,1),"") | AP4: =IF($B4=AP$1,$C4,"") | AQ4: =IFERROR(LARGE(AP:AP,ROW()-1),"") | AR4: =IF(AQ4="","",IF(AQ4=AQ3,MATCH(AQ4,INDIRECT("AP"&CONCATENATE(AR3+1,":AP900"),1),0)+AR3,MATCH(AQ4,AP:AP,0))) | AS4: =IFERROR(INDIRECT("A"&AR4,1),"") | AT4: =IF($B4=AT$1,$C4,"") | AU4: =IFERROR(LARGE(AT:AT,ROW()-1),"") | AV4: =IF(AU4="","",IF(AU4=AU3,MATCH(AU4,INDIRECT("AU"&CONCATENATE(AV3+1,":AU900"),1),0)+AV3,MATCH(AU4,AT:AT,0))) | AW4: =IFERROR(INDIRECT("A"&AV4,1),"") | AX4: =IF($B4=AX$1,$C4,"") | AY4: =IFERROR(LARGE(AX:AX,ROW()-1),"") -> 2 | AZ4: =IF(AY4="","",IF(AY4=AY3,MATCH(AY4,INDIRECT("AX"&CONCATENATE(AZ3+1,":AX900"),1),0)+AZ3,MATCH(AY4,AX:AX,0))) -> 61 | BA4: =IFERROR(INDIRECT("A"&AZ4,1),"") -> 92477 | BB4: =IF($B4=BB$1,$C4,"") -> 3 | BC4: =IFERROR(LARGE(BB:BB,ROW()-1),"") -> 4 | BD4: =IF(BC4="","",IF(BC4=BC3,MATCH(BC4,INDIRECT("BB"&CONCATENATE(BD3+1,":BB900"),1),0)+BD3,MATCH(BC4,BB:BB,0))) -> 85 | BE4: =IFERROR(INDIRECT("A"&BD4,1),"") -> 127199 | BF4: =IF($B4=BF$1,$C4,"") | BG4: =IFERROR(LARGE(BF:BF,ROW()-1),"") -> 6 | BH4: =IF(BG4="","",IF(BG4=BG3,MATCH(BG4,INDIRECT("BF"&CONCATENATE(BH3+1,":BF900"),1),0)+BH3,MATCH(BG4,BF:BF,0))) -> 107 | BI4: =IFERROR(INDIRECT("A"&BH4,1),"") -> 148981 | BJ4: =IF($B4=BJ$1,$C4,"") | BK4: =IFERROR(LARGE(BJ:BJ,ROW()-1),"") -> 4 | BL4: =IF(BK4="","",IF(BK4=BK3,MATCH(BK4,INDIRECT("BJ"&CONCATENATE(BL3+1,":BJ900"),1),0)+BL3,MATCH(BK4,BJ:BJ,0))) -> 39 | BM4: =IFERROR(INDIRECT("A"&BL4,1),"") -> 61848
A5: =IFERROR(IF(SMALL(Manquants!E$2:E$900,ROW()-1)=SMALL(Manquants!E$2:E$900,ROW()),"",SMALL(Manquants!E$2:E$900,ROW()-1)),"") -> 4919 | B5: =IF(A5="","",VLOOKUP(A5,Manquants!E$1:F$900,2,0)) -> SURG | C5: =IF(A5="","",SUMIFS(Manquants!AI:AI,Manquants!E:E,A5)) -> 1 | J5: =IF($B5=J$1,$C5,"") | K5: =IFERROR(LARGE(J:J,ROW()-1),"") | L5: =IF(K5="","",IF(K5=K4,MATCH(K5,INDIRECT("J"&CONCATENATE(L4+1,":J900"),1),0)+L4,MATCH(K5,J:J,0))) | M5: =IFERROR(INDIRECT("A"&L5,1),"") | N5: =IF($B5=N$1,$C5,"") | O5: =IFERROR(LARGE(N:N,ROW()-1),"") | P5: =IF(O5="","",IF(O5=O4,MATCH(O5,INDIRECT("N"&CONCATENATE(P4+1,":N900"),1),0)+P4,MATCH(O5,N:N,0))) | Q5: =IFERROR(INDIRECT("A"&P5,1),"") | R5: =IF($B5=R$1,$C5,"") | S5: =IFERROR(LARGE(R:R,ROW()-1),"") | T5: =IF(S5="","",IF(S5=S4,MATCH(S5,INDIRECT("R"&CONCATENATE(T4+1,":R900"),1),0)+T4,MATCH(S5,R:R,0))) | U5: =IFERROR(INDIRECT("A"&T5,1),"") | V5: =IF($B5=V$1,$C5,"") | W5: =IFERROR(LARGE(V:V,ROW()-1),"") | X5: =IF(W5="","",IF(W5=W4,MATCH(W5,INDIRECT("V"&CONCATENATE(X4+1,":V900"),1),0)+X4,MATCH(W5,V:V,0))) | Y5: =IFERROR(INDIRECT("A"&X5,1),"") | Z5: =IF($B5=Z$1,$C5,"") | AA5: =IFERROR(LARGE(Z:Z,ROW()-1),"") | AB5: =IF(AA5="","",IF(AA5=AA4,MATCH(AA5,INDIRECT("Z"&CONCATENATE(AB4+1,":Z900"),1),0)+AB4,MATCH(AA5,Z:Z,0))) | AC5: =IFERROR(INDIRECT("A"&AB5,1),"") | AD5: =IF($B5=AD$1,$C5,"") | AE5: =IFERROR(LARGE(AD:AD,ROW()-1),"") | AF5: =IF(AE5="","",IF(AE5=AE4,MATCH(AE5,INDIRECT("AD"&CONCATENATE(AF4+1,":AD900"),1),0)+AF4,MATCH(AE5,AD:AD,0))) | AG5: =IFERROR(INDIRECT("A"&AF5,1),"") | AH5: =IF($B5=AH$1,$C5,"") | AI5: =IFERROR(LARGE(AH:AH,ROW()-1),"") | AJ5: =IF(AI5="","",IF(AI5=AI4,MATCH(AI5,INDIRECT("AH"&CONCATENATE(AJ4+1,":AH900"),1),0)+AJ4,MATCH(AI5,AH:AH,0))) | AK5: =IFERROR(INDIRECT("A"&AJ5,1),"") | AL5: =IF($B5=AL$1,$C5,"") | AM5: =IFERROR(LARGE(AL:AL,ROW()-1),"") | AN5: =IF(AM5="","",IF(AM5=AM4,MATCH(AM5,INDIRECT("AL"&CONCATENATE(AN4+1,":AL900"),1),0)+AN4,MATCH(AM5,AL:AL,0))) | AO5: =IFERROR(INDIRECT("A"&AN5,1),"") | AP5: =IF($B5=AP$1,$C5,"") | AQ5: =IFERROR(LARGE(AP:AP,ROW()-1),"") | AR5: =IF(AQ5="","",IF(AQ5=AQ4,MATCH(AQ5,INDIRECT("AP"&CONCATENATE(AR4+1,":AP900"),1),0)+AR4,MATCH(AQ5,AP:AP,0))) | AS5: =IFERROR(INDIRECT("A"&AR5,1),"") | AT5: =IF($B5=AT$1,$C5,"") | AU5: =IFERROR(LARGE(AT:AT,ROW()-1),"") | AV5: =IF(AU5="","",IF(AU5=AU4,MATCH(AU5,INDIRECT("AU"&CONCATENATE(AV4+1,":AU900"),1),0)+AV4,MATCH(AU5,AT:AT,0))) | AW5: =IFERROR(INDIRECT("A"&AV5,1),"") | AX5: =IF($B5=AX$1,$C5,"") | AY5: =IFERROR(LARGE(AX:AX,ROW()-1),"") -> 1 | AZ5: =IF(AY5="","",IF(AY5=AY4,MATCH(AY5,INDIRECT("AX"&CONCATENATE(AZ4+1,":AX900"),1),0)+AZ4,MATCH(AY5,AX:AX,0))) -> 31 | BA5: =IFERROR(INDIRECT("A"&AZ5,1),"") -> 60147 | BB5: =IF($B5=BB$1,$C5,"") -> 1 | BC5: =IFERROR(LARGE(BB:BB,ROW()-1),"") -> 4 | BD5: =IF(BC5="","",IF(BC5=BC4,MATCH(BC5,INDIRECT("BB"&CONCATENATE(BD4+1,":BB900"),1),0)+BD4,MATCH(BC5,BB:BB,0))) -> 93 | BE5: =IFERROR(INDIRECT("A"&BD5,1),"") -> 133180 | BF5: =IF($B5=BF$1,$C5,"") | BG5: =IFERROR(LARGE(BF:BF,ROW()-1),"") -> 2 | BH5: =IF(BG5="","",IF(BG5=BG4,MATCH(BG5,INDIRECT("BF"&CONCATENATE(BH4+1,":BF900"),1),0)+BH4,MATCH(BG5,BF:BF,0))) -> 41 | BI5: =IFERROR(INDIRECT("A"&BH5,1),"") -> 70635 | BJ5: =IF($B5=BJ$1,$C5,"") | BK5: =IFERROR(LARGE(BJ:BJ,ROW()-1),"") -> 4 | BL5: =IF(BK5="","",IF(BK5=BK4,MATCH(BK5,INDIRECT("BJ"&CONCATENATE(BL4+1,":BJ900"),1),0)+BL4,MATCH(BK5,BJ:BJ,0))) -> 100 | BM5: =IFERROR(INDIRECT("A"&BL5,1),"") -> 140224
A6: =IFERROR(IF(SMALL(Manquants!E$2:E$900,ROW()-1)=SMALL(Manquants!E$2:E$900,ROW()),"",SMALL(Manquants!E$2:E$900,ROW()-1)),"") | B6: =IF(A6="","",VLOOKUP(A6,Manquants!E$1:F$900,2,0)) | C6: =IF(A6="","",SUMIFS(Manquants!AI:AI,Manquants!E:E,A6)) | J6: =IF($B6=J$1,$C6,"") | K6: =IFERROR(LARGE(J:J,ROW()-1),"") | L6: =IF(K6="","",IF(K6=K5,MATCH(K6,INDIRECT("J"&CONCATENATE(L5+1,":J900"),1),0)+L5,MATCH(K6,J:J,0))) | M6: =IFERROR(INDIRECT("A"&L6,1),"") | N6: =IF($B6=N$1,$C6,"") | O6: =IFERROR(LARGE(N:N,ROW()-1),"") | P6: =IF(O6="","",IF(O6=O5,MATCH(O6,INDIRECT("N"&CONCATENATE(P5+1,":N900"),1),0)+P5,MATCH(O6,N:N,0))) | Q6: =IFERROR(INDIRECT("A"&P6,1),"") | R6: =IF($B6=R$1,$C6,"") | S6: =IFERROR(LARGE(R:R,ROW()-1),"") | T6: =IF(S6="","",IF(S6=S5,MATCH(S6,INDIRECT("R"&CONCATENATE(T5+1,":R900"),1),0)+T5,MATCH(S6,R:R,0))) | U6: =IFERROR(INDIRECT("A"&T6,1),"") | V6: =IF($B6=V$1,$C6,"") | W6: =IFERROR(LARGE(V:V,ROW()-1),"") | X6: =IF(W6="","",IF(W6=W5,MATCH(W6,INDIRECT("V"&CONCATENATE(X5+1,":V900"),1),0)+X5,MATCH(W6,V:V,0))) | Y6: =IFERROR(INDIRECT("A"&X6,1),"") | Z6: =IF($B6=Z$1,$C6,"") | AA6: =IFERROR(LARGE(Z:Z,ROW()-1),"") | AB6: =IF(AA6="","",IF(AA6=AA5,MATCH(AA6,INDIRECT("Z"&CONCATENATE(AB5+1,":Z900"),1),0)+AB5,MATCH(AA6,Z:Z,0))) | AC6: =IFERROR(INDIRECT("A"&AB6,1),"") | AD6: =IF($B6=AD$1,$C6,"") | AE6: =IFERROR(LARGE(AD:AD,ROW()-1),"") | AF6: =IF(AE6="","",IF(AE6=AE5,MATCH(AE6,INDIRECT("AD"&CONCATENATE(AF5+1,":AD900"),1),0)+AF5,MATCH(AE6,AD:AD,0))) | AG6: =IFERROR(INDIRECT("A"&AF6,1),"") | AH6: =IF($B6=AH$1,$C6,"") | AI6: =IFERROR(LARGE(AH:AH,ROW()-1),"") | AJ6: =IF(AI6="","",IF(AI6=AI5,MATCH(AI6,INDIRECT("AH"&CONCATENATE(AJ5+1,":AH900"),1),0)+AJ5,MATCH(AI6,AH:AH,0))) | AK6: =IFERROR(INDIRECT("A"&AJ6,1),"") | AL6: =IF($B6=AL$1,$C6,"") | AM6: =IFERROR(LARGE(AL:AL,ROW()-1),"") | AN6: =IF(AM6="","",IF(AM6=AM5,MATCH(AM6,INDIRECT("AL"&CONCATENATE(AN5+1,":AL900"),1),0)+AN5,MATCH(AM6,AL:AL,0))) | AO6: =IFERROR(INDIRECT("A"&AN6,1),"") | AP6: =IF($B6=AP$1,$C6,"") | AQ6: =IFERROR(LARGE(AP:AP,ROW()-1),"") | AR6: =IF(AQ6="","",IF(AQ6=AQ5,MATCH(AQ6,INDIRECT("AP"&CONCATENATE(AR5+1,":AP900"),1),0)+AR5,MATCH(AQ6,AP:AP,0))) | AS6: =IFERROR(INDIRECT("A"&AR6,1),"") | AT6: =IF($B6=AT$1,$C6,"") | AU6: =IFERROR(LARGE(AT:AT,ROW()-1),"") | AV6: =IF(AU6="","",IF(AU6=AU5,MATCH(AU6,INDIRECT("AU"&CONCATENATE(AV5+1,":AU900"),1),0)+AV5,MATCH(AU6,AT:AT,0))) | AW6: =IFERROR(INDIRECT("A"&AV6,1),"") | AX6: =IF($B6=AX$1,$C6,"") | AY6: =IFERROR(LARGE(AX:AX,ROW()-1),"") -> 1 | AZ6: =IF(AY6="","",IF(AY6=AY5,MATCH(AY6,INDIRECT("AX"&CONCATENATE(AZ5+1,":AX900"),1),0)+AZ5,MATCH(AY6,AX:AX,0))) -> 47 | BA6: =IFERROR(INDIRECT("A"&AZ6,1),"") -> 82409 | BB6: =IF($B6=BB$1,$C6,"") | BC6: =IFERROR(LARGE(BB:BB,ROW()-1),"") -> 3 | BD6: =IF(BC6="","",IF(BC6=BC5,MATCH(BC6,INDIRECT("BB"&CONCATENATE(BD5+1,":BB900"),1),0)+BD5,MATCH(BC6,BB:BB,0))) -> 4 | BE6: =IFERROR(INDIRECT("A"&BD6,1),"") -> 4847 | BF6: =IF($B6=BF$1,$C6,"") | BG6: =IFERROR(LARGE(BF:BF,ROW()-1),"") -> 2 | BH6: =IF(BG6="","",IF(BG6=BG5,MATCH(BG6,INDIRECT("BF"&CONCATENATE(BH5+1,":BF900"),1),0)+BH5,MATCH(BG6,BF:BF,0))) -> 43 | BI6: =IFERROR(INDIRECT("A"&BH6,1),"") -> 75985 | BJ6: =IF($B6=BJ$1,$C6,"") | BK6: =IFERROR(LARGE(BJ:BJ,ROW()-1),"") -> 3 | BL6: =IF(BK6="","",IF(BK6=BK5,MATCH(BK6,INDIRECT("BJ"&CONCATENATE(BL5+1,":BJ900"),1),0)+BL5,MATCH(BK6,BJ:BJ,0))) -> 8 | BM6: =IFERROR(INDIRECT("A"&BL6,1),"") -> 27563
A7: =IFERROR(IF(SMALL(Manquants!E$2:E$900,ROW()-1)=SMALL(Manquants!E$2:E$900,ROW()),"",SMALL(Manquants!E$2:E$900,ROW()-1)),"") | B7: =IF(A7="","",VLOOKUP(A7,Manquants!E$1:F$900,2,0)) | C7: =IF(A7="","",SUMIFS(Manquants!AI:AI,Manquants!E:E,A7)) | J7: =IF($B7=J$1,$C7,"") | N7: =IF($B7=N$1,$C7,"") | R7: =IF($B7=R$1,$C7,"") | V7: =IF($B7=V$1,$C7,"") | Z7: =IF($B7=Z$1,$C7,"") | AD7: =IF($B7=AD$1,$C7,"") | AH7: =IF($B7=AH$1,$C7,"") | AL7: =IF($B7=AL$1,$C7,"") | AP7: =IF($B7=AP$1,$C7,"") | AT7: =IF($B7=AT$1,$C7,"") | AX7: =IF($B7=AX$1,$C7,"") | BB7: =IF($B7=BB$1,$C7,"") | BF7: =IF($B7=BF$1,$C7,"") | BJ7: =IF($B7=BJ$1,$C7,"")
A8: =IFERROR(IF(SMALL(Manquants!E$2:E$900,ROW()-1)=SMALL(Manquants!E$2:E$900,ROW()),"",SMALL(Manquants!E$2:E$900,ROW()-1)),"") -> 27563 | B8: =IF(A8="","",VLOOKUP(A8,Manquants!E$1:F$900,2,0)) -> G2P_F | C8: =IF(A8="","",SUMIFS(Manquants!AI:AI,Manquants!E:E,A8)) -> 3 | J8: =IF($B8=J$1,$C8,"") | N8: =IF($B8=N$1,$C8,"") | R8: =IF($B8=R$1,$C8,"") | V8: =IF($B8=V$1,$C8,"") | Z8: =IF($B8=Z$1,$C8,"") | AD8: =IF($B8=AD$1,$C8,"") | AH8: =IF($B8=AH$1,$C8,"") | AL8: =IF($B8=AL$1,$C8,"") | AP8: =IF($B8=AP$1,$C8,"") | AT8: =IF($B8=AT$1,$C8,"") | AX8: =IF($B8=AX$1,$C8,"") | BB8: =IF($B8=BB$1,$C8,"") | BF8: =IF($B8=BF$1,$C8,"") | BJ8: =IF($B8=BJ$1,$C8,"") -> 3
A9: =IFERROR(IF(SMALL(Manquants!E$2:E$900,ROW()-1)=SMALL(Manquants!E$2:E$900,ROW()),"",SMALL(Manquants!E$2:E$900,ROW()-1)),"") | B9: =IF(A9="","",VLOOKUP(A9,Manquants!E$1:F$900,2,0)) | C9: =IF(A9="","",SUMIFS(Manquants!AI:AI,Manquants!E:E,A9)) | J9: =IF($B9=J$1,$C9,"") | N9: =IF($B9=N$1,$C9,"") | R9: =IF($B9=R$1,$C9,"") | V9: =IF($B9=V$1,$C9,"") | Z9: =IF($B9=Z$1,$C9,"") | AD9: =IF($B9=AD$1,$C9,"") | AH9: =IF($B9=AH$1,$C9,"") | AL9: =IF($B9=AL$1,$C9,"") | AP9: =IF($B9=AP$1,$C9,"") | AT9: =IF($B9=AT$1,$C9,"") | AX9: =IF($B9=AX$1,$C9,"") | BB9: =IF($B9=BB$1,$C9,"") | BF9: =IF($B9=BF$1,$C9,"") | BJ9: =IF($B9=BJ$1,$C9,"")
A10: =IFERROR(IF(SMALL(Manquants!E$2:E$900,ROW()-1)=SMALL(Manquants!E$2:E$900,ROW()),"",SMALL(Manquants!E$2:E$900,ROW()-1)),"") -> 27564 | B10: =IF(A10="","",VLOOKUP(A10,Manquants!E$1:F$900,2,0)) -> G2P_F | C10: =IF(A10="","",SUMIFS(Manquants!AI:AI,Manquants!E:E,A10)) -> 3 | J10: =IF($B10=J$1,$C10,"") | N10: =IF($B10=N$1,$C10,"") | R10: =IF($B10=R$1,$C10,"") | V10: =IF($B10=V$1,$C10,"") | Z10: =IF($B10=Z$1,$C10,"") | AD10: =IF($B10=AD$1,$C10,"") | AH10: =IF($B10=AH$1,$C10,"") | AL10: =IF($B10=AL$1,$C10,"") | AP10: =IF($B10=AP$1,$C10,"") | AT10: =IF($B10=AT$1,$C10,"") | AX10: =IF($B10=AX$1,$C10,"") | BB10: =IF($B10=BB$1,$C10,"") | BF10: =IF($B10=BF$1,$C10,"") | BJ10: =IF($B10=BJ$1,$C10,"") -> 3
A11: =IFERROR(IF(SMALL(Manquants!E$2:E$900,ROW()-1)=SMALL(Manquants!E$2:E$900,ROW()),"",SMALL(Manquants!E$2:E$900,ROW()-1)),"") | B11: =IF(A11="","",VLOOKUP(A11,Manquants!E$1:F$900,2,0)) | C11: =IF(A11="","",SUMIFS(Manquants!AI:AI,Manquants!E:E,A11)) | J11: =IF($B11=J$1,$C11,"") | N11: =IF($B11=N$1,$C11,"") | R11: =IF($B11=R$1,$C11,"") | V11: =IF($B11=V$1,$C11,"") | Z11: =IF($B11=Z$1,$C11,"") | AD11: =IF($B11=AD$1,$C11,"") | AH11: =IF($B11=AH$1,$C11,"") | AL11: =IF($B11=AL$1,$C11,"") | AP11: =IF($B11=AP$1,$C11,"") | AT11: =IF($B11=AT$1,$C11,"") | AX11: =IF($B11=AX$1,$C11,"") | BB11: =IF($B11=BB$1,$C11,"") | BF11: =IF($B11=BF$1,$C11,"") | BJ11: =IF($B11=BJ$1,$C11,"")
A12: =IFERROR(IF(SMALL(Manquants!E$2:E$900,ROW()-1)=SMALL(Manquants!E$2:E$900,ROW()),"",SMALL(Manquants!E$2:E$900,ROW()-1)),"") | B12: =IF(A12="","",VLOOKUP(A12,Manquants!E$1:F$900,2,0)) | C12: =IF(A12="","",SUMIFS(Manquants!AI:AI,Manquants!E:E,A12)) | J12: =IF($B12=J$1,$C12,"") | N12: =IF($B12=N$1,$C12,"") | R12: =IF($B12=R$1,$C12,"") | V12: =IF($B12=V$1,$C12,"") | Z12: =IF($B12=Z$1,$C12,"") | AD12: =IF($B12=AD$1,$C12,"") | AH12: =IF($B12=AH$1,$C12,"") | AL12: =IF($B12=AL$1,$C12,"") | AP12: =IF($B12=AP$1,$C12,"") | AT12: =IF($B12=AT$1,$C12,"") | AX12: =IF($B12=AX$1,$C12,"") | BB12: =IF($B12=BB$1,$C12,"") | BF12: =IF($B12=BF$1,$C12,"") | BJ12: =IF($B12=BJ$1,$C12,"")
A13: =IFERROR(IF(SMALL(Manquants!E$2:E$900,ROW()-1)=SMALL(Manquants!E$2:E$900,ROW()),"",SMALL(Manquants!E$2:E$900,ROW()-1)),"") | B13: =IF(A13="","",VLOOKUP(A13,Manquants!E$1:F$900,2,0)) | C13: =IF(A13="","",SUMIFS(Manquants!AI:AI,Manquants!E:E,A13)) | J13: =IF($B13=J$1,$C13,"") | N13: =IF($B13=N$1,$C13,"") | R13: =IF($B13=R$1,$C13,"") | V13: =IF($B13=V$1,$C13,"") | Z13: =IF($B13=Z$1,$C13,"") | AD13: =IF($B13=AD$1,$C13,"") | AH13: =IF($B13=AH$1,$C13,"") | AL13: =IF($B13=AL$1,$C13,"") | AP13: =IF($B13=AP$1,$C13,"") | AT13: =IF($B13=AT$1,$C13,"") | AX13: =IF($B13=AX$1,$C13,"") | BB13: =IF($B13=BB$1,$C13,"") | BF13: =IF($B13=BF$1,$C13,"") | BJ13: =IF($B13=BJ$1,$C13,"")
A14: =IFERROR(IF(SMALL(Manquants!E$2:E$900,ROW()-1)=SMALL(Manquants!E$2:E$900,ROW()),"",SMALL(Manquants!E$2:E$900,ROW()-1)),"") | B14: =IF(A14="","",VLOOKUP(A14,Manquants!E$1:F$900,2,0)) | C14: =IF(A14="","",SUMIFS(Manquants!AI:AI,Manquants!E:E,A14)) | J14: =IF($B14=J$1,$C14,"") | N14: =IF($B14=N$1,$C14,"") | R14: =IF($B14=R$1,$C14,"") | V14: =IF($B14=V$1,$C14,"") | Z14: =IF($B14=Z$1,$C14,"") | AD14: =IF($B14=AD$1,$C14,"") | AH14: =IF($B14=AH$1,$C14,"") | AL14: =IF($B14=AL$1,$C14,"") | AP14: =IF($B14=AP$1,$C14,"") | AT14: =IF($B14=AT$1,$C14,"") | AX14: =IF($B14=AX$1,$C14,"") | BB14: =IF($B14=BB$1,$C14,"") | BF14: =IF($B14=BF$1,$C14,"") | BJ14: =IF($B14=BJ$1,$C14,"")
A15: =IFERROR(IF(SMALL(Manquants!E$2:E$900,ROW()-1)=SMALL(Manquants!E$2:E$900,ROW()),"",SMALL(Manquants!E$2:E$900,ROW()-1)),"") | B15: =IF(A15="","",VLOOKUP(A15,Manquants!E$1:F$900,2,0)) | C15: =IF(A15="","",SUMIFS(Manquants!AI:AI,Manquants!E:E,A15)) | J15: =IF($B15=J$1,$C15,"") | N15: =IF($B15=N$1,$C15,"") | R15: =IF($B15=R$1,$C15,"") | V15: =IF($B15=V$1,$C15,"") | Z15: =IF($B15=Z$1,$C15,"") | AD15: =IF($B15=AD$1,$C15,"") | AH15: =IF($B15=AH$1,$C15,"") | AL15: =IF($B15=AL$1,$C15,"") | AP15: =IF($B15=AP$1,$C15,"") | AT15: =IF($B15=AT$1,$C15,"") | AX15: =IF($B15=AX$1,$C15,"") | BB15: =IF($B15=BB$1,$C15,"") | BF15: =IF($B15=BF$1,$C15,"") | BJ15: =IF($B15=BJ$1,$C15,"")
A16: =IFERROR(IF(SMALL(Manquants!E$2:E$900,ROW()-1)=SMALL(Manquants!E$2:E$900,ROW()),"",SMALL(Manquants!E$2:E$900,ROW()-1)),"") | B16: =IF(A16="","",VLOOKUP(A16,Manquants!E$1:F$900,2,0)) | C16: =IF(A16="","",SUMIFS(Manquants!AI:AI,Manquants!E:E,A16)) | J16: =IF($B16=J$1,$C16,"") | N16: =IF($B16=N$1,$C16,"") | R16: =IF($B16=R$1,$C16,"") | V16: =IF($B16=V$1,$C16,"") | Z16: =IF($B16=Z$1,$C16,"") | AD16: =IF($B16=AD$1,$C16,"") | AH16: =IF($B16=AH$1,$C16,"") | AL16: =IF($B16=AL$1,$C16,"") | AP16: =IF($B16=AP$1,$C16,"") | AT16: =IF($B16=AT$1,$C16,"") | AX16: =IF($B16=AX$1,$C16,"") | BB16: =IF($B16=BB$1,$C16,"") | BF16: =IF($B16=BF$1,$C16,"") | BJ16: =IF($B16=BJ$1,$C16,"")
A17: =IFERROR(IF(SMALL(Manquants!E$2:E$900,ROW()-1)=SMALL(Manquants!E$2:E$900,ROW()),"",SMALL(Manquants!E$2:E$900,ROW()-1)),"") | B17: =IF(A17="","",VLOOKUP(A17,Manquants!E$1:F$900,2,0)) | C17: =IF(A17="","",SUMIFS(Manquants!AI:AI,Manquants!E:E,A17)) | J17: =IF($B17=J$1,$C17,"") | N17: =IF($B17=N$1,$C17,"") | R17: =IF($B17=R$1,$C17,"") | V17: =IF($B17=V$1,$C17,"") | Z17: =IF($B17=Z$1,$C17,"") | AD17: =IF($B17=AD$1,$C17,"") | AH17: =IF($B17=AH$1,$C17,"") | AL17: =IF($B17=AL$1,$C17,"") | AP17: =IF($B17=AP$1,$C17,"") | AT17: =IF($B17=AT$1,$C17,"") | AX17: =IF($B17=AX$1,$C17,"") | BB17: =IF($B17=BB$1,$C17,"") | BF17: =IF($B17=BF$1,$C17,"") | BJ17: =IF($B17=BJ$1,$C17,"")
A18: =IFERROR(IF(SMALL(Manquants!E$2:E$900,ROW()-1)=SMALL(Manquants!E$2:E$900,ROW()),"",SMALL(Manquants!E$2:E$900,ROW()-1)),"") | B18: =IF(A18="","",VLOOKUP(A18,Manquants!E$1:F$900,2,0)) | C18: =IF(A18="","",SUMIFS(Manquants!AI:AI,Manquants!E:E,A18)) | J18: =IF($B18=J$1,$C18,"") | N18: =IF($B18=N$1,$C18,"") | R18: =IF($B18=R$1,$C18,"") | V18: =IF($B18=V$1,$C18,"") | Z18: =IF($B18=Z$1,$C18,"") | AD18: =IF($B18=AD$1,$C18,"") | AH18: =IF($B18=AH$1,$C18,"") | AL18: =IF($B18=AL$1,$C18,"") | AP18: =IF($B18=AP$1,$C18,"") | AT18: =IF($B18=AT$1,$C18,"") | AX18: =IF($B18=AX$1,$C18,"") | BB18: =IF($B18=BB$1,$C18,"") | BF18: =IF($B18=BF$1,$C18,"") | BJ18: =IF($B18=BJ$1,$C18,"")
... A900: =IFERROR(IF(SMALL(Manquants!E$2:E$900,ROW()-1)=SMALL(Manquants!E$2:E$900,ROW()),"",SMALL(Manquants!E$2:E$900,ROW()-1)),"") | B900: =IF(A900="","",VLOOKUP(A900,Manquants!E$1:F$900,2,0)) | C900: =IF(A900="","",SUMIFS(Manquants!AI:AI,Manquants!E:E,A900)) | J900: =IF($B900=J$1,$C900,"") | N900: =IF($B900=N$1,$C900,"") | R900: =IF($B900=R$1,$C900,"") | V900: =IF($B900=V$1,$C900,"") | Z900: =IF($B900=Z$1,$C900,"") | AD900: =IF($B900=AD$1,$C900,"") | AH900: =IF($B900=AH$1,$C900,"") | AL900: =IF($B900=AL$1,$C900,"") | AP900: =IF($B900=AP$1,$C900,"") | AT900: =IF($B900=AT$1,$C900,"") | AX900: =IF($B900=AX$1,$C900,"") | BB900: =IF($B900=BB$1,$C900,"") | BF900: =IF($B900=BF$1,$C900,"") | BJ900: =IF($B900=BJ$1,$C900,"")
