Workbook

Sheet Config.
B3: Année | C3: Agents | D3: Choix | F3: Fériés | I3: Formés | J3: janv.
B4: 2019 | C4: Agent 1 | D4: F | F4: Jour de l’an | G4: 43466 | I4: =IF(ISNUMBER(MATCH(_xlfn.CONCAT(J4:U4),'Récap.'!B$4:B$55,0)),"",_xlfn.CONCAT(J4:U4)) | J4: =IF(ISNUMBER(MATCH($C4,'jan.'!$B$5:$B$24,0)),$C4,"") | K4: =IF(ISNUMBER(MATCH($C4,$J4:J4,0)),"",IF(ISNUMBER(MATCH($C4,'fév.'!$B$5:$B$24,0)),$C4,"")) | L4: =IF(ISNUMBER(MATCH($C4,$J4:K4,0)),"",IF(ISNUMBER(MATCH($C4,mars!$B$5:$B$24,0)),$C4,"")) | M4: =IF(ISNUMBER(MATCH($C4,$J4:L4,0)),"",IF(ISNUMBER(MATCH($C4,'avr.'!$B$5:$B$24,0)),$C4,"")) | N4: =IF(ISNUMBER(MATCH($C4,$J4:M4,0)),"",IF(ISNUMBER(MATCH($C4,mai!$B$5:$B$24,0)),$C4,"")) | O4: =IF(ISNUMBER(MATCH($C4,$J4:N4,0)),"",IF(ISNUMBER(MATCH($C4,juin!$B$5:$B$24,0)),$C4,"")) | P4: =IF(ISNUMBER(MATCH($C4,$J4:O4,0)),"",IF(ISNUMBER(MATCH($C4,'juil.'!$B$5:$B$24,0)),$C4,"")) | Q4: =IF(ISNUMBER(MATCH($C4,$J4:P4,0)),"",IF(ISNUMBER(MATCH($C4,août!$B$5:$B$24,0)),$C4,"")) | R4: =IF(ISNUMBER(MATCH($C4,$J4:Q4,0)),"",IF(ISNUMBER(MATCH($C4,'sept.'!$B$5:$B$24,0)),$C4,"")) | S4: =IF(ISNUMBER(MATCH($C4,$J4:R4,0)),"",IF(ISNUMBER(MATCH($C4,'oct.'!$B$5:$B$24,0)),$C4,"")) | T4: =IF(ISNUMBER(MATCH($C4,$J4:S4,0)),"",IF(ISNUMBER(MATCH($C4,'nov.'!$B$5:$B$24,0)),$C4,"")) | U4: =IF(ISNUMBER(MATCH($C4,$J4:T4,0)),"",IF(ISNUMBER(MATCH($C4,'déc.'!$B$5:$B$24,0)),$C4,""))
B5: 2020 | C5: Agent 2 | F5: Pâques | G5: 43576 | I5: =IF(ISNUMBER(MATCH(_xlfn.CONCAT(J5:U5),'Récap.'!B$4:B$55,0)),"",_xlfn.CONCAT(J5:U5)) | J5: =IF(ISNUMBER(MATCH($C5,'jan.'!$B$5:$B$24,0)),$C5,"") -> Agent 2 | K5: =IF(ISNUMBER(MATCH($C5,$J5:J5,0)),"",IF(ISNUMBER(MATCH($C5,'fév.'!$B$5:$B$24,0)),$C5,"")) | L5: =IF(ISNUMBER(MATCH($C5,$J5:K5,0)),"",IF(ISNUMBER(MATCH($C5,mars!$B$5:$B$24,0)),$C5,"")) | M5: =IF(ISNUMBER(MATCH($C5,$J5:L5,0)),"",IF(ISNUMBER(MATCH($C5,'avr.'!$B$5:$B$24,0)),$C5,"")) | N5: =IF(ISNUMBER(MATCH($C5,$J5:M5,0)),"",IF(ISNUMBER(MATCH($C5,mai!$B$5:$B$24,0)),$C5,"")) | O5: =IF(ISNUMBER(MATCH($C5,$J5:N5,0)),"",IF(ISNUMBER(MATCH($C5,juin!$B$5:$B$24,0)),$C5,"")) | P5: =IF(ISNUMBER(MATCH($C5,$J5:O5,0)),"",IF(ISNUMBER(MATCH($C5,'juil.'!$B$5:$B$24,0)),$C5,"")) | Q5: =IF(ISNUMBER(MATCH($C5,$J5:P5,0)),"",IF(ISNUMBER(MATCH($C5,août!$B$5:$B$24,0)),$C5,"")) | R5: =IF(ISNUMBER(MATCH($C5,$J5:Q5,0)),"",IF(ISNUMBER(MATCH($C5,'sept.'!$B$5:$B$24,0)),$C5,"")) | S5: =IF(ISNUMBER(MATCH($C5,$J5:R5,0)),"",IF(ISNUMBER(MATCH($C5,'oct.'!$B$5:$B$24,0)),$C5,"")) | T5: =IF(ISNUMBER(MATCH($C5,$J5:S5,0)),"",IF(ISNUMBER(MATCH($C5,'nov.'!$B$5:$B$24,0)),$C5,"")) | U5: =IF(ISNUMBER(MATCH($C5,$J5:T5,0)),"",IF(ISNUMBER(MATCH($C5,'déc.'!$B$5:$B$24,0)),$C5,""))
B6: 2021 | C6: Agent 3 | F6: Lundi de Pâques | G6: 43577 | I6: =IF(ISNUMBER(MATCH(_xlfn.CONCAT(J6:U6),'Récap.'!B$4:B$55,0)),"",_xlfn.CONCAT(J6:U6)) | J6: =IF(ISNUMBER(MATCH($C6,'jan.'!$B$5:$B$24,0)),$C6,"") | K6: =IF(ISNUMBER(MATCH($C6,$J6:J6,0)),"",IF(ISNUMBER(MATCH($C6,'fév.'!$B$5:$B$24,0)),$C6,"")) -> Agent 3 | L6: =IF(ISNUMBER(MATCH($C6,$J6:K6,0)),"",IF(ISNUMBER(MATCH($C6,mars!$B$5:$B$24,0)),$C6,"")) | M6: =IF(ISNUMBER(MATCH($C6,$J6:L6,0)),"",IF(ISNUMBER(MATCH($C6,'avr.'!$B$5:$B$24,0)),$C6,"")) | N6: =IF(ISNUMBER(MATCH($C6,$J6:M6,0)),"",IF(ISNUMBER(MATCH($C6,mai!$B$5:$B$24,0)),$C6,"")) | O6: =IF(ISNUMBER(MATCH($C6,$J6:N6,0)),"",IF(ISNUMBER(MATCH($C6,juin!$B$5:$B$24,0)),$C6,"")) | P6: =IF(ISNUMBER(MATCH($C6,$J6:O6,0)),"",IF(ISNUMBER(MATCH($C6,'juil.'!$B$5:$B$24,0)),$C6,"")) | Q6: =IF(ISNUMBER(MATCH($C6,$J6:P6,0)),"",IF(ISNUMBER(MATCH($C6,août!$B$5:$B$24,0)),$C6,"")) | R6: =IF(ISNUMBER(MATCH($C6,$J6:Q6,0)),"",IF(ISNUMBER(MATCH($C6,'sept.'!$B$5:$B$24,0)),$C6,"")) | S6: =IF(ISNUMBER(MATCH($C6,$J6:R6,0)),"",IF(ISNUMBER(MATCH($C6,'oct.'!$B$5:$B$24,0)),$C6,"")) | T6: =IF(ISNUMBER(MATCH($C6,$J6:S6,0)),"",IF(ISNUMBER(MATCH($C6,'nov.'!$B$5:$B$24,0)),$C6,"")) | U6: =IF(ISNUMBER(MATCH($C6,$J6:T6,0)),"",IF(ISNUMBER(MATCH($C6,'déc.'!$B$5:$B$24,0)),$C6,""))
B7: 2022 | C7: Agent 4 | F7: Fête du travail | G7: 43586 | I7: =IF(ISNUMBER(MATCH(_xlfn.CONCAT(J7:U7),'Récap.'!B$4:B$55,0)),"",_xlfn.CONCAT(J7:U7)) | J7: =IF(ISNUMBER(MATCH($C7,'jan.'!$B$5:$B$24,0)),$C7,"") | K7: =IF(ISNUMBER(MATCH($C7,$J7:J7,0)),"",IF(ISNUMBER(MATCH($C7,'fév.'!$B$5:$B$24,0)),$C7,"")) | L7: =IF(ISNUMBER(MATCH($C7,$J7:K7,0)),"",IF(ISNUMBER(MATCH($C7,mars!$B$5:$B$24,0)),$C7,"")) | M7: =IF(ISNUMBER(MATCH($C7,$J7:L7,0)),"",IF(ISNUMBER(MATCH($C7,'avr.'!$B$5:$B$24,0)),$C7,"")) | N7: =IF(ISNUMBER(MATCH($C7,$J7:M7,0)),"",IF(ISNUMBER(MATCH($C7,mai!$B$5:$B$24,0)),$C7,"")) | O7: =IF(ISNUMBER(MATCH($C7,$J7:N7,0)),"",IF(ISNUMBER(MATCH($C7,juin!$B$5:$B$24,0)),$C7,"")) | P7: =IF(ISNUMBER(MATCH($C7,$J7:O7,0)),"",IF(ISNUMBER(MATCH($C7,'juil.'!$B$5:$B$24,0)),$C7,"")) | Q7: =IF(ISNUMBER(MATCH($C7,$J7:P7,0)),"",IF(ISNUMBER(MATCH($C7,août!$B$5:$B$24,0)),$C7,"")) | R7: =IF(ISNUMBER(MATCH($C7,$J7:Q7,0)),"",IF(ISNUMBER(MATCH($C7,'sept.'!$B$5:$B$24,0)),$C7,"")) | S7: =IF(ISNUMBER(MATCH($C7,$J7:R7,0)),"",IF(ISNUMBER(MATCH($C7,'oct.'!$B$5:$B$24,0)),$C7,"")) | T7: =IF(ISNUMBER(MATCH($C7,$J7:S7,0)),"",IF(ISNUMBER(MATCH($C7,'nov.'!$B$5:$B$24,0)),$C7,"")) | U7: =IF(ISNUMBER(MATCH($C7,$J7:T7,0)),"",IF(ISNUMBER(MATCH($C7,'déc.'!$B$5:$B$24,0)),$C7,""))
B8: 2023 | C8: Agent 5 | F8: Victoire 1945 | G8: 43593 | I8: =IF(ISNUMBER(MATCH(_xlfn.CONCAT(J8:U8),'Récap.'!B$4:B$55,0)),"",_xlfn.CONCAT(J8:U8)) | J8: =IF(ISNUMBER(MATCH($C8,'jan.'!$B$5:$B$24,0)),$C8,"") -> Agent 5 | K8: =IF(ISNUMBER(MATCH($C8,$J8:J8,0)),"",IF(ISNUMBER(MATCH($C8,'fév.'!$B$5:$B$24,0)),$C8,"")) | L8: =IF(ISNUMBER(MATCH($C8,$J8:K8,0)),"",IF(ISNUMBER(MATCH($C8,mars!$B$5:$B$24,0)),$C8,"")) | M8: =IF(ISNUMBER(MATCH($C8,$J8:L8,0)),"",IF(ISNUMBER(MATCH($C8,'avr.'!$B$5:$B$24,0)),$C8,"")) | N8: =IF(ISNUMBER(MATCH($C8,$J8:M8,0)),"",IF(ISNUMBER(MATCH($C8,mai!$B$5:$B$24,0)),$C8,"")) | O8: =IF(ISNUMBER(MATCH($C8,$J8:N8,0)),"",IF(ISNUMBER(MATCH($C8,juin!$B$5:$B$24,0)),$C8,"")) | P8: =IF(ISNUMBER(MATCH($C8,$J8:O8,0)),"",IF(ISNUMBER(MATCH($C8,'juil.'!$B$5:$B$24,0)),$C8,"")) | Q8: =IF(ISNUMBER(MATCH($C8,$J8:P8,0)),"",IF(ISNUMBER(MATCH($C8,août!$B$5:$B$24,0)),$C8,"")) | R8: =IF(ISNUMBER(MATCH($C8,$J8:Q8,0)),"",IF(ISNUMBER(MATCH($C8,'sept.'!$B$5:$B$24,0)),$C8,"")) | S8: =IF(ISNUMBER(MATCH($C8,$J8:R8,0)),"",IF(ISNUMBER(MATCH($C8,'oct.'!$B$5:$B$24,0)),$C8,"")) | T8: =IF(ISNUMBER(MATCH($C8,$J8:S8,0)),"",IF(ISNUMBER(MATCH($C8,'nov.'!$B$5:$B$24,0)),$C8,"")) | U8: =IF(ISNUMBER(MATCH($C8,$J8:T8,0)),"",IF(ISNUMBER(MATCH($C8,'déc.'!$B$5:$B$24,0)),$C8,""))
B9: 2024 | C9: Agent 6 | F9: Ascension | G9: 43615 | I9: =IF(ISNUMBER(MATCH(_xlfn.CONCAT(J9:U9),'Récap.'!B$4:B$55,0)),"",_xlfn.CONCAT(J9:U9)) | J9: =IF(ISNUMBER(MATCH($C9,'jan.'!$B$5:$B$24,0)),$C9,"") | K9: =IF(ISNUMBER(MATCH($C9,$J9:J9,0)),"",IF(ISNUMBER(MATCH($C9,'fév.'!$B$5:$B$24,0)),$C9,"")) | L9: =IF(ISNUMBER(MATCH($C9,$J9:K9,0)),"",IF(ISNUMBER(MATCH($C9,mars!$B$5:$B$24,0)),$C9,"")) | M9: =IF(ISNUMBER(MATCH($C9,$J9:L9,0)),"",IF(ISNUMBER(MATCH($C9,'avr.'!$B$5:$B$24,0)),$C9,"")) | N9: =IF(ISNUMBER(MATCH($C9,$J9:M9,0)),"",IF(ISNUMBER(MATCH($C9,mai!$B$5:$B$24,0)),$C9,"")) -> Agent 6 | O9: =IF(ISNUMBER(MATCH($C9,$J9:N9,0)),"",IF(ISNUMBER(MATCH($C9,juin!$B$5:$B$24,0)),$C9,"")) | P9: =IF(ISNUMBER(MATCH($C9,$J9:O9,0)),"",IF(ISNUMBER(MATCH($C9,'juil.'!$B$5:$B$24,0)),$C9,"")) | Q9: =IF(ISNUMBER(MATCH($C9,$J9:P9,0)),"",IF(ISNUMBER(MATCH($C9,août!$B$5:$B$24,0)),$C9,"")) | R9: =IF(ISNUMBER(MATCH($C9,$J9:Q9,0)),"",IF(ISNUMBER(MATCH($C9,'sept.'!$B$5:$B$24,0)),$C9,"")) | S9: =IF(ISNUMBER(MATCH($C9,$J9:R9,0)),"",IF(ISNUMBER(MATCH($C9,'oct.'!$B$5:$B$24,0)),$C9,"")) | T9: =IF(ISNUMBER(MATCH($C9,$J9:S9,0)),"",IF(ISNUMBER(MATCH($C9,'nov.'!$B$5:$B$24,0)),$C9,"")) | U9: =IF(ISNUMBER(MATCH($C9,$J9:T9,0)),"",IF(ISNUMBER(MATCH($C9,'déc.'!$B$5:$B$24,0)),$C9,""))
B10: 2025 | C10: Agent 7 | F10: Pentecôte | G10: 43625 | I10: =IF(ISNUMBER(MATCH(_xlfn.CONCAT(J10:U10),'Récap.'!B$4:B$55,0)),"",_xlfn.CONCAT(J10:U10)) | J10: =IF(ISNUMBER(MATCH($C10,'jan.'!$B$5:$B$24,0)),$C10,"") | K10: =IF(ISNUMBER(MATCH($C10,$J10:J10,0)),"",IF(ISNUMBER(MATCH($C10,'fév.'!$B$5:$B$24,0)),$C10,"")) | L10: =IF(ISNUMBER(MATCH($C10,$J10:K10,0)),"",IF(ISNUMBER(MATCH($C10,mars!$B$5:$B$24,0)),$C10,"")) | M10: =IF(ISNUMBER(MATCH($C10,$J10:L10,0)),"",IF(ISNUMBER(MATCH($C10,'avr.'!$B$5:$B$24,0)),$C10,"")) -> Agent 7 | N10: =IF(ISNUMBER(MATCH($C10,$J10:M10,0)),"",IF(ISNUMBER(MATCH($C10,mai!$B$5:$B$24,0)),$C10,"")) | O10: =IF(ISNUMBER(MATCH($C10,$J10:N10,0)),"",IF(ISNUMBER(MATCH($C10,juin!$B$5:$B$24,0)),$C10,"")) | P10: =IF(ISNUMBER(MATCH($C10,$J10:O10,0)),"",IF(ISNUMBER(MATCH($C10,'juil.'!$B$5:$B$24,0)),$C10,"")) | Q10: =IF(ISNUMBER(MATCH($C10,$J10:P10,0)),"",IF(ISNUMBER(MATCH($C10,août!$B$5:$B$24,0)),$C10,"")) | R10: =IF(ISNUMBER(MATCH($C10,$J10:Q10,0)),"",IF(ISNUMBER(MATCH($C10,'sept.'!$B$5:$B$24,0)),$C10,"")) | S10: =IF(ISNUMBER(MATCH($C10,$J10:R10,0)),"",IF(ISNUMBER(MATCH($C10,'oct.'!$B$5:$B$24,0)),$C10,"")) | T10: =IF(ISNUMBER(MATCH($C10,$J10:S10,0)),"",IF(ISNUMBER(MATCH($C10,'nov.'!$B$5:$B$24,0)),$C10,"")) | U10: =IF(ISNUMBER(MATCH($C10,$J10:T10,0)),"",IF(ISNUMBER(MATCH($C10,'déc.'!$B$5:$B$24,0)),$C10,""))
B11: 2026 | C11: Agent 8 | F11: Lundi de Pentecôte | G11: 43626 | I11: =IF(ISNUMBER(MATCH(_xlfn.CONCAT(J11:U11),'Récap.'!B$4:B$55,0)),"",_xlfn.CONCAT(J11:U11)) | J11: =IF(ISNUMBER(MATCH($C11,'jan.'!$B$5:$B$24,0)),$C11,"") -> Agent 8 | K11: =IF(ISNUMBER(MATCH($C11,$J11:J11,0)),"",IF(ISNUMBER(MATCH($C11,'fév.'!$B$5:$B$24,0)),$C11,"")) | L11: =IF(ISNUMBER(MATCH($C11,$J11:K11,0)),"",IF(ISNUMBER(MATCH($C11,mars!$B$5:$B$24,0)),$C11,"")) | M11: =IF(ISNUMBER(MATCH($C11,$J11:L11,0)),"",IF(ISNUMBER(MATCH($C11,'avr.'!$B$5:$B$24,0)),$C11,"")) | N11: =IF(ISNUMBER(MATCH($C11,$J11:M11,0)),"",IF(ISNUMBER(MATCH($C11,mai!$B$5:$B$24,0)),$C11,"")) | O11: =IF(ISNUMBER(MATCH($C11,$J11:N11,0)),"",IF(ISNUMBER(MATCH($C11,juin!$B$5:$B$24,0)),$C11,"")) | P11: =IF(ISNUMBER(MATCH($C11,$J11:O11,0)),"",IF(ISNUMBER(MATCH($C11,'juil.'!$B$5:$B$24,0)),$C11,"")) | Q11: =IF(ISNUMBER(MATCH($C11,$J11:P11,0)),"",IF(ISNUMBER(MATCH($C11,août!$B$5:$B$24,0)),$C11,"")) | R11: =IF(ISNUMBER(MATCH($C11,$J11:Q11,0)),"",IF(ISNUMBER(MATCH($C11,'sept.'!$B$5:$B$24,0)),$C11,"")) | S11: =IF(ISNUMBER(MATCH($C11,$J11:R11,0)),"",IF(ISNUMBER(MATCH($C11,'oct.'!$B$5:$B$24,0)),$C11,"")) | T11: =IF(ISNUMBER(MATCH($C11,$J11:S11,0)),"",IF(ISNUMBER(MATCH($C11,'nov.'!$B$5:$B$24,0)),$C11,"")) | U11: =IF(ISNUMBER(MATCH($C11,$J11:T11,0)),"",IF(ISNUMBER(MATCH($C11,'déc.'!$B$5:$B$24,0)),$C11,""))
B12: 2027 | C12: Agent 9 | F12: Fête nationale | G12: 43660 | I12: =IF(ISNUMBER(MATCH(_xlfn.CONCAT(J12:U12),'Récap.'!B$4:B$55,0)),"",_xlfn.CONCAT(J12:U12)) | J12: =IF(ISNUMBER(MATCH($C12,'jan.'!$B$5:$B$24,0)),$C12,"") | K12: =IF(ISNUMBER(MATCH($C12,$J12:J12,0)),"",IF(ISNUMBER(MATCH($C12,'fév.'!$B$5:$B$24,0)),$C12,"")) | L12: =IF(ISNUMBER(MATCH($C12,$J12:K12,0)),"",IF(ISNUMBER(MATCH($C12,mars!$B$5:$B$24,0)),$C12,"")) | M12: =IF(ISNUMBER(MATCH($C12,$J12:L12,0)),"",IF(ISNUMBER(MATCH($C12,'avr.'!$B$5:$B$24,0)),$C12,"")) | N12: =IF(ISNUMBER(MATCH($C12,$J12:M12,0)),"",IF(ISNUMBER(MATCH($C12,mai!$B$5:$B$24,0)),$C12,"")) | O12: =IF(ISNUMBER(MATCH($C12,$J12:N12,0)),"",IF(ISNUMBER(MATCH($C12,juin!$B$5:$B$24,0)),$C12,"")) | P12: =IF(ISNUMBER(MATCH($C12,$J12:O12,0)),"",IF(ISNUMBER(MATCH($C12,'juil.'!$B$5:$B$24,0)),$C12,"")) | Q12: =IF(ISNUMBER(MATCH($C12,$J12:P12,0)),"",IF(ISNUMBER(MATCH($C12,août!$B$5:$B$24,0)),$C12,"")) | R12: =IF(ISNUMBER(MATCH($C12,$J12:Q12,0)),"",IF(ISNUMBER(MATCH($C12,'sept.'!$B$5:$B$24,0)),$C12,"")) | S12: =IF(ISNUMBER(MATCH($C12,$J12:R12,0)),"",IF(ISNUMBER(MATCH($C12,'oct.'!$B$5:$B$24,0)),$C12,"")) | T12: =IF(ISNUMBER(MATCH($C12,$J12:S12,0)),"",IF(ISNUMBER(MATCH($C12,'nov.'!$B$5:$B$24,0)),$C12,"")) | U12: =IF(ISNUMBER(MATCH($C12,$J12:T12,0)),"",IF(ISNUMBER(MATCH($C12,'déc.'!$B$5:$B$24,0)),$C12,""))
B13: 2028 | C13: Agent 10 | F13: Assomption | G13: 43692 | I13: =IF(ISNUMBER(MATCH(_xlfn.CONCAT(J13:U13),'Récap.'!B$4:B$55,0)),"",_xlfn.CONCAT(J13:U13)) | J13: =IF(ISNUMBER(MATCH($C13,'jan.'!$B$5:$B$24,0)),$C13,"") -> Agent 10 | K13: =IF(ISNUMBER(MATCH($C13,$J13:J13,0)),"",IF(ISNUMBER(MATCH($C13,'fév.'!$B$5:$B$24,0)),$C13,"")) | L13: =IF(ISNUMBER(MATCH($C13,$J13:K13,0)),"",IF(ISNUMBER(MATCH($C13,mars!$B$5:$B$24,0)),$C13,"")) | M13: =IF(ISNUMBER(MATCH($C13,$J13:L13,0)),"",IF(ISNUMBER(MATCH($C13,'avr.'!$B$5:$B$24,0)),$C13,"")) | N13: =IF(ISNUMBER(MATCH($C13,$J13:M13,0)),"",IF(ISNUMBER(MATCH($C13,mai!$B$5:$B$24,0)),$C13,"")) | O13: =IF(ISNUMBER(MATCH($C13,$J13:N13,0)),"",IF(ISNUMBER(MATCH($C13,juin!$B$5:$B$24,0)),$C13,"")) | P13: =IF(ISNUMBER(MATCH($C13,$J13:O13,0)),"",IF(ISNUMBER(MATCH($C13,'juil.'!$B$5:$B$24,0)),$C13,"")) | Q13: =IF(ISNUMBER(MATCH($C13,$J13:P13,0)),"",IF(ISNUMBER(MATCH($C13,août!$B$5:$B$24,0)),$C13,"")) | R13: =IF(ISNUMBER(MATCH($C13,$J13:Q13,0)),"",IF(ISNUMBER(MATCH($C13,'sept.'!$B$5:$B$24,0)),$C13,"")) | S13: =IF(ISNUMBER(MATCH($C13,$J13:R13,0)),"",IF(ISNUMBER(MATCH($C13,'oct.'!$B$5:$B$24,0)),$C13,"")) | T13: =IF(ISNUMBER(MATCH($C13,$J13:S13,0)),"",IF(ISNUMBER(MATCH($C13,'nov.'!$B$5:$B$24,0)),$C13,"")) | U13: =IF(ISNUMBER(MATCH($C13,$J13:T13,0)),"",IF(ISNUMBER(MATCH($C13,'déc.'!$B$5:$B$24,0)),$C13,""))
B14: 2029 | C14: Agent 11 | F14: Toussaint | G14: 43770 | I14: =IF(ISNUMBER(MATCH(_xlfn.CONCAT(J14:U14),'Récap.'!B$4:B$55,0)),"",_xlfn.CONCAT(J14:U14)) | J14: =IF(ISNUMBER(MATCH($C14,'jan.'!$B$5:$B$24,0)),$C14,"") | K14: =IF(ISNUMBER(MATCH($C14,$J14:J14,0)),"",IF(ISNUMBER(MATCH($C14,'fév.'!$B$5:$B$24,0)),$C14,"")) | L14: =IF(ISNUMBER(MATCH($C14,$J14:K14,0)),"",IF(ISNUMBER(MATCH($C14,mars!$B$5:$B$24,0)),$C14,"")) -> Agent 11 | M14: =IF(ISNUMBER(MATCH($C14,$J14:L14,0)),"",IF(ISNUMBER(MATCH($C14,'avr.'!$B$5:$B$24,0)),$C14,"")) | N14: =IF(ISNUMBER(MATCH($C14,$J14:M14,0)),"",IF(ISNUMBER(MATCH($C14,mai!$B$5:$B$24,0)),$C14,"")) | O14: =IF(ISNUMBER(MATCH($C14,$J14:N14,0)),"",IF(ISNUMBER(MATCH($C14,juin!$B$5:$B$24,0)),$C14,"")) | P14: =IF(ISNUMBER(MATCH($C14,$J14:O14,0)),"",IF(ISNUMBER(MATCH($C14,'juil.'!$B$5:$B$24,0)),$C14,"")) | Q14: =IF(ISNUMBER(MATCH($C14,$J14:P14,0)),"",IF(ISNUMBER(MATCH($C14,août!$B$5:$B$24,0)),$C14,"")) | R14: =IF(ISNUMBER(MATCH($C14,$J14:Q14,0)),"",IF(ISNUMBER(MATCH($C14,'sept.'!$B$5:$B$24,0)),$C14,"")) | S14: =IF(ISNUMBER(MATCH($C14,$J14:R14,0)),"",IF(ISNUMBER(MATCH($C14,'oct.'!$B$5:$B$24,0)),$C14,"")) | T14: =IF(ISNUMBER(MATCH($C14,$J14:S14,0)),"",IF(ISNUMBER(MATCH($C14,'nov.'!$B$5:$B$24,0)),$C14,"")) | U14: =IF(ISNUMBER(MATCH($C14,$J14:T14,0)),"",IF(ISNUMBER(MATCH($C14,'déc.'!$B$5:$B$24,0)),$C14,""))
B15: 2030 | C15: Agent 12 | F15: Armistice | G15: 43780 | I15: =IF(ISNUMBER(MATCH(_xlfn.CONCAT(J15:U15),'Récap.'!B$4:B$55,0)),"",_xlfn.CONCAT(J15:U15)) | J15: =IF(ISNUMBER(MATCH($C15,'jan.'!$B$5:$B$24,0)),$C15,"") | K15: =IF(ISNUMBER(MATCH($C15,$J15:J15,0)),"",IF(ISNUMBER(MATCH($C15,'fév.'!$B$5:$B$24,0)),$C15,"")) | L15: =IF(ISNUMBER(MATCH($C15,$J15:K15,0)),"",IF(ISNUMBER(MATCH($C15,mars!$B$5:$B$24,0)),$C15,"")) | M15: =IF(ISNUMBER(MATCH($C15,$J15:L15,0)),"",IF(ISNUMBER(MATCH($C15,'avr.'!$B$5:$B$24,0)),$C15,"")) | N15: =IF(ISNUMBER(MATCH($C15,$J15:M15,0)),"",IF(ISNUMBER(MATCH($C15,mai!$B$5:$B$24,0)),$C15,"")) | O15: =IF(ISNUMBER(MATCH($C15,$J15:N15,0)),"",IF(ISNUMBER(MATCH($C15,juin!$B$5:$B$24,0)),$C15,"")) -> Agent 12 | P15: =IF(ISNUMBER(MATCH($C15,$J15:O15,0)),"",IF(ISNUMBER(MATCH($C15,'juil.'!$B$5:$B$24,0)),$C15,"")) | Q15: =IF(ISNUMBER(MATCH($C15,$J15:P15,0)),"",IF(ISNUMBER(MATCH($C15,août!$B$5:$B$24,0)),$C15,"")) | R15: =IF(ISNUMBER(MATCH($C15,$J15:Q15,0)),"",IF(ISNUMBER(MATCH($C15,'sept.'!$B$5:$B$24,0)),$C15,"")) | S15: =IF(ISNUMBER(MATCH($C15,$J15:R15,0)),"",IF(ISNUMBER(MATCH($C15,'oct.'!$B$5:$B$24,0)),$C15,"")) | T15: =IF(ISNUMBER(MATCH($C15,$J15:S15,0)),"",IF(ISNUMBER(MATCH($C15,'nov.'!$B$5:$B$24,0)),$C15,"")) | U15: =IF(ISNUMBER(MATCH($C15,$J15:T15,0)),"",IF(ISNUMBER(MATCH($C15,'déc.'!$B$5:$B$24,0)),$C15,""))
C16: Agent 13 | F16: Noël | G16: 43824 | I16: =IF(ISNUMBER(MATCH(_xlfn.CONCAT(J16:U16),'Récap.'!B$4:B$55,0)),"",_xlfn.CONCAT(J16:U16)) | J16: =IF(ISNUMBER(MATCH($C16,'jan.'!$B$5:$B$24,0)),$C16,"") | K16: =IF(ISNUMBER(MATCH($C16,$J16:J16,0)),"",IF(ISNUMBER(MATCH($C16,'fév.'!$B$5:$B$24,0)),$C16,"")) | L16: =IF(ISNUMBER(MATCH($C16,$J16:K16,0)),"",IF(ISNUMBER(MATCH($C16,mars!$B$5:$B$24,0)),$C16,"")) | M16: =IF(ISNUMBER(MATCH($C16,$J16:L16,0)),"",IF(ISNUMBER(MATCH($C16,'avr.'!$B$5:$B$24,0)),$C16,"")) -> Agent 13 | N16: =IF(ISNUMBER(MATCH($C16,$J16:M16,0)),"",IF(ISNUMBER(MATCH($C16,mai!$B$5:$B$24,0)),$C16,"")) | O16: =IF(ISNUMBER(MATCH($C16,$J16:N16,0)),"",IF(ISNUMBER(MATCH($C16,juin!$B$5:$B$24,0)),$C16,"")) | P16: =IF(ISNUMBER(MATCH($C16,$J16:O16,0)),"",IF(ISNUMBER(MATCH($C16,'juil.'!$B$5:$B$24,0)),$C16,"")) | Q16: =IF(ISNUMBER(MATCH($C16,$J16:P16,0)),"",IF(ISNUMBER(MATCH($C16,août!$B$5:$B$24,0)),$C16,"")) | R16: =IF(ISNUMBER(MATCH($C16,$J16:Q16,0)),"",IF(ISNUMBER(MATCH($C16,'sept.'!$B$5:$B$24,0)),$C16,"")) | S16: =IF(ISNUMBER(MATCH($C16,$J16:R16,0)),"",IF(ISNUMBER(MATCH($C16,'oct.'!$B$5:$B$24,0)),$C16,"")) | T16: =IF(ISNUMBER(MATCH($C16,$J16:S16,0)),"",IF(ISNUMBER(MATCH($C16,'nov.'!$B$5:$B$24,0)),$C16,"")) | U16: =IF(ISNUMBER(MATCH($C16,$J16:T16,0)),"",IF(ISNUMBER(MATCH($C16,'déc.'!$B$5:$B$24,0)),$C16,""))
C17: Agent 14 | I17: =IF(ISNUMBER(MATCH(_xlfn.CONCAT(J17:U17),'Récap.'!B$4:B$55,0)),"",_xlfn.CONCAT(J17:U17)) | J17: =IF(ISNUMBER(MATCH($C17,'jan.'!$B$5:$B$24,0)),$C17,"") | K17: =IF(ISNUMBER(MATCH($C17,$J17:J17,0)),"",IF(ISNUMBER(MATCH($C17,'fév.'!$B$5:$B$24,0)),$C17,"")) | L17: =IF(ISNUMBER(MATCH($C17,$J17:K17,0)),"",IF(ISNUMBER(MATCH($C17,mars!$B$5:$B$24,0)),$C17,"")) | M17: =IF(ISNUMBER(MATCH($C17,$J17:L17,0)),"",IF(ISNUMBER(MATCH($C17,'avr.'!$B$5:$B$24,0)),$C17,"")) | N17: =IF(ISNUMBER(MATCH($C17,$J17:M17,0)),"",IF(ISNUMBER(MATCH($C17,mai!$B$5:$B$24,0)),$C17,"")) | O17: =IF(ISNUMBER(MATCH($C17,$J17:N17,0)),"",IF(ISNUMBER(MATCH($C17,juin!$B$5:$B$24,0)),$C17,"")) | P17: =IF(ISNUMBER(MATCH($C17,$J17:O17,0)),"",IF(ISNUMBER(MATCH($C17,'juil.'!$B$5:$B$24,0)),$C17,"")) -> Agent 14 | Q17: =IF(ISNUMBER(MATCH($C17,$J17:P17,0)),"",IF(ISNUMBER(MATCH($C17,août!$B$5:$B$24,0)),$C17,"")) | R17: =IF(ISNUMBER(MATCH($C17,$J17:Q17,0)),"",IF(ISNUMBER(MATCH($C17,'sept.'!$B$5:$B$24,0)),$C17,"")) | S17: =IF(ISNUMBER(MATCH($C17,$J17:R17,0)),"",IF(ISNUMBER(MATCH($C17,'oct.'!$B$5:$B$24,0)),$C17,"")) | T17: =IF(ISNUMBER(MATCH($C17,$J17:S17,0)),"",IF(ISNUMBER(MATCH($C17,'nov.'!$B$5:$B$24,0)),$C17,"")) | U17: =IF(ISNUMBER(MATCH($C17,$J17:T17,0)),"",IF(ISNUMBER(MATCH($C17,'déc.'!$B$5:$B$24,0)),$C17,""))
C18: Agent 15 | I18: =IF(ISNUMBER(MATCH(_xlfn.CONCAT(J18:U18),'Récap.'!B$4:B$55,0)),"",_xlfn.CONCAT(J18:U18)) | J18: =IF(ISNUMBER(MATCH($C18,'jan.'!$B$5:$B$24,0)),$C18,"") | K18: =IF(ISNUMBER(MATCH($C18,$J18:J18,0)),"",IF(ISNUMBER(MATCH($C18,'fév.'!$B$5:$B$24,0)),$C18,"")) | L18: =IF(ISNUMBER(MATCH($C18,$J18:K18,0)),"",IF(ISNUMBER(MATCH($C18,mars!$B$5:$B$24,0)),$C18,"")) | M18: =IF(ISNUMBER(MATCH($C18,$J18:L18,0)),"",IF(ISNUMBER(MATCH($C18,'avr.'!$B$5:$B$24,0)),$C18,"")) | N18: =IF(ISNUMBER(MATCH($C18,$J18:M18,0)),"",IF(ISNUMBER(MATCH($C18,mai!$B$5:$B$24,0)),$C18,"")) | O18: =IF(ISNUMBER(MATCH($C18,$J18:N18,0)),"",IF(ISNUMBER(MATCH($C18,juin!$B$5:$B$24,0)),$C18,"")) | P18: =IF(ISNUMBER(MATCH($C18,$J18:O18,0)),"",IF(ISNUMBER(MATCH($C18,'juil.'!$B$5:$B$24,0)),$C18,"")) | Q18: =IF(ISNUMBER(MATCH($C18,$J18:P18,0)),"",IF(ISNUMBER(MATCH($C18,août!$B$5:$B$24,0)),$C18,"")) | R18: =IF(ISNUMBER(MATCH($C18,$J18:Q18,0)),"",IF(ISNUMBER(MATCH($C18,'sept.'!$B$5:$B$24,0)),$C18,"")) | S18: =IF(ISNUMBER(MATCH($C18,$J18:R18,0)),"",IF(ISNUMBER(MATCH($C18,'oct.'!$B$5:$B$24,0)),$C18,"")) | T18: =IF(ISNUMBER(MATCH($C18,$J18:S18,0)),"",IF(ISNUMBER(MATCH($C18,'nov.'!$B$5:$B$24,0)),$C18,"")) | U18: =IF(ISNUMBER(MATCH($C18,$J18:T18,0)),"",IF(ISNUMBER(MATCH($C18,'déc.'!$B$5:$B$24,0)),$C18,""))
C19: Agent 16 | I19: =IF(ISNUMBER(MATCH(_xlfn.CONCAT(J19:U19),'Récap.'!B$4:B$55,0)),"",_xlfn.CONCAT(J19:U19)) | J19: =IF(ISNUMBER(MATCH($C19,'jan.'!$B$5:$B$24,0)),$C19,"") | K19: =IF(ISNUMBER(MATCH($C19,$J19:J19,0)),"",IF(ISNUMBER(MATCH($C19,'fév.'!$B$5:$B$24,0)),$C19,"")) | L19: =IF(ISNUMBER(MATCH($C19,$J19:K19,0)),"",IF(ISNUMBER(MATCH($C19,mars!$B$5:$B$24,0)),$C19,"")) | M19: =IF(ISNUMBER(MATCH($C19,$J19:L19,0)),"",IF(ISNUMBER(MATCH($C19,'avr.'!$B$5:$B$24,0)),$C19,"")) | N19: =IF(ISNUMBER(MATCH($C19,$J19:M19,0)),"",IF(ISNUMBER(MATCH($C19,mai!$B$5:$B$24,0)),$C19,"")) | O19: =IF(ISNUMBER(MATCH($C19,$J19:N19,0)),"",IF(ISNUMBER(MATCH($C19,juin!$B$5:$B$24,0)),$C19,"")) | P19: =IF(ISNUMBER(MATCH($C19,$J19:O19,0)),"",IF(ISNUMBER(MATCH($C19,'juil.'!$B$5:$B$24,0)),$C19,"")) | Q19: =IF(ISNUMBER(MATCH($C19,$J19:P19,0)),"",IF(ISNUMBER(MATCH($C19,août!$B$5:$B$24,0)),$C19,"")) | R19: =IF(ISNUMBER(MATCH($C19,$J19:Q19,0)),"",IF(ISNUMBER(MATCH($C19,'sept.'!$B$5:$B$24,0)),$C19,"")) | S19: =IF(ISNUMBER(MATCH($C19,$J19:R19,0)),"",IF(ISNUMBER(MATCH($C19,'oct.'!$B$5:$B$24,0)),$C19,"")) | T19: =IF(ISNUMBER(MATCH($C19,$J19:S19,0)),"",IF(ISNUMBER(MATCH($C19,'nov.'!$B$5:$B$24,0)),$C19,"")) | U19: =IF(ISNUMBER(MATCH($C19,$J19:T19,0)),"",IF(ISNUMBER(MATCH($C19,'déc.'!$B$5:$B$24,0)),$C19,""))
C20: Agent 17 | I20: =IF(ISNUMBER(MATCH(_xlfn.CONCAT(J20:U20),'Récap.'!B$4:B$55,0)),"",_xlfn.CONCAT(J20:U20)) | J20: =IF(ISNUMBER(MATCH($C20,'jan.'!$B$5:$B$24,0)),$C20,"") | K20: =IF(ISNUMBER(MATCH($C20,$J20:J20,0)),"",IF(ISNUMBER(MATCH($C20,'fév.'!$B$5:$B$24,0)),$C20,"")) | L20: =IF(ISNUMBER(MATCH($C20,$J20:K20,0)),"",IF(ISNUMBER(MATCH($C20,mars!$B$5:$B$24,0)),$C20,"")) -> Agent 17 | M20: =IF(ISNUMBER(MATCH($C20,$J20:L20,0)),"",IF(ISNUMBER(MATCH($C20,'avr.'!$B$5:$B$24,0)),$C20,"")) | N20: =IF(ISNUMBER(MATCH($C20,$J20:M20,0)),"",IF(ISNUMBER(MATCH($C20,mai!$B$5:$B$24,0)),$C20,"")) | O20: =IF(ISNUMBER(MATCH($C20,$J20:N20,0)),"",IF(ISNUMBER(MATCH($C20,juin!$B$5:$B$24,0)),$C20,"")) | P20: =IF(ISNUMBER(MATCH($C20,$J20:O20,0)),"",IF(ISNUMBER(MATCH($C20,'juil.'!$B$5:$B$24,0)),$C20,"")) | Q20: =IF(ISNUMBER(MATCH($C20,$J20:P20,0)),"",IF(ISNUMBER(MATCH($C20,août!$B$5:$B$24,0)),$C20,"")) | R20: =IF(ISNUMBER(MATCH($C20,$J20:Q20,0)),"",IF(ISNUMBER(MATCH($C20,'sept.'!$B$5:$B$24,0)),$C20,"")) | S20: =IF(ISNUMBER(MATCH($C20,$J20:R20,0)),"",IF(ISNUMBER(MATCH($C20,'oct.'!$B$5:$B$24,0)),$C20,"")) | T20: =IF(ISNUMBER(MATCH($C20,$J20:S20,0)),"",IF(ISNUMBER(MATCH($C20,'nov.'!$B$5:$B$24,0)),$C20,"")) | U20: =IF(ISNUMBER(MATCH($C20,$J20:T20,0)),"",IF(ISNUMBER(MATCH($C20,'déc.'!$B$5:$B$24,0)),$C20,""))
C21: Agent 18 | I21: =IF(ISNUMBER(MATCH(_xlfn.CONCAT(J21:U21),'Récap.'!B$4:B$55,0)),"",_xlfn.CONCAT(J21:U21)) | J21: =IF(ISNUMBER(MATCH($C21,'jan.'!$B$5:$B$24,0)),$C21,"") | K21: =IF(ISNUMBER(MATCH($C21,$J21:J21,0)),"",IF(ISNUMBER(MATCH($C21,'fév.'!$B$5:$B$24,0)),$C21,"")) | L21: =IF(ISNUMBER(MATCH($C21,$J21:K21,0)),"",IF(ISNUMBER(MATCH($C21,mars!$B$5:$B$24,0)),$C21,"")) | M21: =IF(ISNUMBER(MATCH($C21,$J21:L21,0)),"",IF(ISNUMBER(MATCH($C21,'avr.'!$B$5:$B$24,0)),$C21,"")) | N21: =IF(ISNUMBER(MATCH($C21,$J21:M21,0)),"",IF(ISNUMBER(MATCH($C21,mai!$B$5:$B$24,0)),$C21,"")) | O21: =IF(ISNUMBER(MATCH($C21,$J21:N21,0)),"",IF(ISNUMBER(MATCH($C21,juin!$B$5:$B$24,0)),$C21,"")) | P21: =IF(ISNUMBER(MATCH($C21,$J21:O21,0)),"",IF(ISNUMBER(MATCH($C21,'juil.'!$B$5:$B$24,0)),$C21,"")) | Q21: =IF(ISNUMBER(MATCH($C21,$J21:P21,0)),"",IF(ISNUMBER(MATCH($C21,août!$B$5:$B$24,0)),$C21,"")) -> Agent 18 | R21: =IF(ISNUMBER(MATCH($C21,$J21:Q21,0)),"",IF(ISNUMBER(MATCH($C21,'sept.'!$B$5:$B$24,0)),$C21,"")) | S21: =IF(ISNUMBER(MATCH($C21,$J21:R21,0)),"",IF(ISNUMBER(MATCH($C21,'oct.'!$B$5:$B$24,0)),$C21,"")) | T21: =IF(ISNUMBER(MATCH($C21,$J21:S21,0)),"",IF(ISNUMBER(MATCH($C21,'nov.'!$B$5:$B$24,0)),$C21,"")) | U21: =IF(ISNUMBER(MATCH($C21,$J21:T21,0)),"",IF(ISNUMBER(MATCH($C21,'déc.'!$B$5:$B$24,0)),$C21,""))
C22: Agent 19 | I22: =IF(ISNUMBER(MATCH(_xlfn.CONCAT(J22:U22),'Récap.'!B$4:B$55,0)),"",_xlfn.CONCAT(J22:U22)) | J22: =IF(ISNUMBER(MATCH($C22,'jan.'!$B$5:$B$24,0)),$C22,"") | K22: =IF(ISNUMBER(MATCH($C22,$J22:J22,0)),"",IF(ISNUMBER(MATCH($C22,'fév.'!$B$5:$B$24,0)),$C22,"")) | L22: =IF(ISNUMBER(MATCH($C22,$J22:K22,0)),"",IF(ISNUMBER(MATCH($C22,mars!$B$5:$B$24,0)),$C22,"")) | M22: =IF(ISNUMBER(MATCH($C22,$J22:L22,0)),"",IF(ISNUMBER(MATCH($C22,'avr.'!$B$5:$B$24,0)),$C22,"")) | N22: =IF(ISNUMBER(MATCH($C22,$J22:M22,0)),"",IF(ISNUMBER(MATCH($C22,mai!$B$5:$B$24,0)),$C22,"")) | O22: =IF(ISNUMBER(MATCH($C22,$J22:N22,0)),"",IF(ISNUMBER(MATCH($C22,juin!$B$5:$B$24,0)),$C22,"")) | P22: =IF(ISNUMBER(MATCH($C22,$J22:O22,0)),"",IF(ISNUMBER(MATCH($C22,'juil.'!$B$5:$B$24,0)),$C22,"")) | Q22: =IF(ISNUMBER(MATCH($C22,$J22:P22,0)),"",IF(ISNUMBER(MATCH($C22,août!$B$5:$B$24,0)),$C22,"")) | R22: =IF(ISNUMBER(MATCH($C22,$J22:Q22,0)),"",IF(ISNUMBER(MATCH($C22,'sept.'!$B$5:$B$24,0)),$C22,"")) | S22: =IF(ISNUMBER(MATCH($C22,$J22:R22,0)),"",IF(ISNUMBER(MATCH($C22,'oct.'!$B$5:$B$24,0)),$C22,"")) | T22: =IF(ISNUMBER(MATCH($C22,$J22:S22,0)),"",IF(ISNUMBER(MATCH($C22,'nov.'!$B$5:$B$24,0)),$C22,"")) | U22: =IF(ISNUMBER(MATCH($C22,$J22:T22,0)),"",IF(ISNUMBER(MATCH($C22,'déc.'!$B$5:$B$24,0)),$C22,""))
C23: Agent 20 | I23: =IF(ISNUMBER(MATCH(_xlfn.CONCAT(J23:U23),'Récap.'!B$4:B$55,0)),"",_xlfn.CONCAT(J23:U23)) | J23: =IF(ISNUMBER(MATCH($C23,'jan.'!$B$5:$B$24,0)),$C23,"") | K23: =IF(ISNUMBER(MATCH($C23,$J23:J23,0)),"",IF(ISNUMBER(MATCH($C23,'fév.'!$B$5:$B$24,0)),$C23,"")) | L23: =IF(ISNUMBER(MATCH($C23,$J23:K23,0)),"",IF(ISNUMBER(MATCH($C23,mars!$B$5:$B$24,0)),$C23,"")) | M23: =IF(ISNUMBER(MATCH($C23,$J23:L23,0)),"",IF(ISNUMBER(MATCH($C23,'avr.'!$B$5:$B$24,0)),$C23,"")) | N23: =IF(ISNUMBER(MATCH($C23,$J23:M23,0)),"",IF(ISNUMBER(MATCH($C23,mai!$B$5:$B$24,0)),$C23,"")) | O23: =IF(ISNUMBER(MATCH($C23,$J23:N23,0)),"",IF(ISNUMBER(MATCH($C23,juin!$B$5:$B$24,0)),$C23,"")) | P23: =IF(ISNUMBER(MATCH($C23,$J23:O23,0)),"",IF(ISNUMBER(MATCH($C23,'juil.'!$B$5:$B$24,0)),$C23,"")) | Q23: =IF(ISNUMBER(MATCH($C23,$J23:P23,0)),"",IF(ISNUMBER(MATCH($C23,août!$B$5:$B$24,0)),$C23,"")) | R23: =IF(ISNUMBER(MATCH($C23,$J23:Q23,0)),"",IF(ISNUMBER(MATCH($C23,'sept.'!$B$5:$B$24,0)),$C23,"")) | S23: =IF(ISNUMBER(MATCH($C23,$J23:R23,0)),"",IF(ISNUMBER(MATCH($C23,'oct.'!$B$5:$B$24,0)),$C23,"")) | T23: =IF(ISNUMBER(MATCH($C23,$J23:S23,0)),"",IF(ISNUMBER(MATCH($C23,'nov.'!$B$5:$B$24,0)),$C23,"")) | U23: =IF(ISNUMBER(MATCH($C23,$J23:T23,0)),"",IF(ISNUMBER(MATCH($C23,'déc.'!$B$5:$B$24,0)),$C23,""))
C24: Agent 21 | I24: =IF(ISNUMBER(MATCH(_xlfn.CONCAT(J24:U24),'Récap.'!B$4:B$55,0)),"",_xlfn.CONCAT(J24:U24)) | J24: =IF(ISNUMBER(MATCH($C24,'jan.'!$B$5:$B$24,0)),$C24,"") | K24: =IF(ISNUMBER(MATCH($C24,$J24:J24,0)),"",IF(ISNUMBER(MATCH($C24,'fév.'!$B$5:$B$24,0)),$C24,"")) | L24: =IF(ISNUMBER(MATCH($C24,$J24:K24,0)),"",IF(ISNUMBER(MATCH($C24,mars!$B$5:$B$24,0)),$C24,"")) | M24: =IF(ISNUMBER(MATCH($C24,$J24:L24,0)),"",IF(ISNUMBER(MATCH($C24,'avr.'!$B$5:$B$24,0)),$C24,"")) | N24: =IF(ISNUMBER(MATCH($C24,$J24:M24,0)),"",IF(ISNUMBER(MATCH($C24,mai!$B$5:$B$24,0)),$C24,"")) | O24: =IF(ISNUMBER(MATCH($C24,$J24:N24,0)),"",IF(ISNUMBER(MATCH($C24,juin!$B$5:$B$24,0)),$C24,"")) | P24: =IF(ISNUMBER(MATCH($C24,$J24:O24,0)),"",IF(ISNUMBER(MATCH($C24,'juil.'!$B$5:$B$24,0)),$C24,"")) | Q24: =IF(ISNUMBER(MATCH($C24,$J24:P24,0)),"",IF(ISNUMBER(MATCH($C24,août!$B$5:$B$24,0)),$C24,"")) | R24: =IF(ISNUMBER(MATCH($C24,$J24:Q24,0)),"",IF(ISNUMBER(MATCH($C24,'sept.'!$B$5:$B$24,0)),$C24,"")) | S24: =IF(ISNUMBER(MATCH($C24,$J24:R24,0)),"",IF(ISNUMBER(MATCH($C24,'oct.'!$B$5:$B$24,0)),$C24,"")) | T24: =IF(ISNUMBER(MATCH($C24,$J24:S24,0)),"",IF(ISNUMBER(MATCH($C24,'nov.'!$B$5:$B$24,0)),$C24,"")) | U24: =IF(ISNUMBER(MATCH($C24,$J24:T24,0)),"",IF(ISNUMBER(MATCH($C24,'déc.'!$B$5:$B$24,0)),$C24,""))
C25: Agent 22 | I25: =IF(ISNUMBER(MATCH(_xlfn.CONCAT(J25:U25),'Récap.'!B$4:B$55,0)),"",_xlfn.CONCAT(J25:U25)) | J25: =IF(ISNUMBER(MATCH($C25,'jan.'!$B$5:$B$24,0)),$C25,"") | K25: =IF(ISNUMBER(MATCH($C25,$J25:J25,0)),"",IF(ISNUMBER(MATCH($C25,'fév.'!$B$5:$B$24,0)),$C25,"")) | L25: =IF(ISNUMBER(MATCH($C25,$J25:K25,0)),"",IF(ISNUMBER(MATCH($C25,mars!$B$5:$B$24,0)),$C25,"")) | M25: =IF(ISNUMBER(MATCH($C25,$J25:L25,0)),"",IF(ISNUMBER(MATCH($C25,'avr.'!$B$5:$B$24,0)),$C25,"")) | N25: =IF(ISNUMBER(MATCH($C25,$J25:M25,0)),"",IF(ISNUMBER(MATCH($C25,mai!$B$5:$B$24,0)),$C25,"")) | O25: =IF(ISNUMBER(MATCH($C25,$J25:N25,0)),"",IF(ISNUMBER(MATCH($C25,juin!$B$5:$B$24,0)),$C25,"")) | P25: =IF(ISNUMBER(MATCH($C25,$J25:O25,0)),"",IF(ISNUMBER(MATCH($C25,'juil.'!$B$5:$B$24,0)),$C25,"")) | Q25: =IF(ISNUMBER(MATCH($C25,$J25:P25,0)),"",IF(ISNUMBER(MATCH($C25,août!$B$5:$B$24,0)),$C25,"")) | R25: =IF(ISNUMBER(MATCH($C25,$J25:Q25,0)),"",IF(ISNUMBER(MATCH($C25,'sept.'!$B$5:$B$24,0)),$C25,"")) | S25: =IF(ISNUMBER(MATCH($C25,$J25:R25,0)),"",IF(ISNUMBER(MATCH($C25,'oct.'!$B$5:$B$24,0)),$C25,"")) | T25: =IF(ISNUMBER(MATCH($C25,$J25:S25,0)),"",IF(ISNUMBER(MATCH($C25,'nov.'!$B$5:$B$24,0)),$C25,"")) | U25: =IF(ISNUMBER(MATCH($C25,$J25:T25,0)),"",IF(ISNUMBER(MATCH($C25,'déc.'!$B$5:$B$24,0)),$C25,""))
C26: Agent 23 | I26: =IF(ISNUMBER(MATCH(_xlfn.CONCAT(J26:U26),'Récap.'!B$4:B$55,0)),"",_xlfn.CONCAT(J26:U26)) | J26: =IF(ISNUMBER(MATCH($C26,'jan.'!$B$5:$B$24,0)),$C26,"") | K26: =IF(ISNUMBER(MATCH($C26,$J26:J26,0)),"",IF(ISNUMBER(MATCH($C26,'fév.'!$B$5:$B$24,0)),$C26,"")) | L26: =IF(ISNUMBER(MATCH($C26,$J26:K26,0)),"",IF(ISNUMBER(MATCH($C26,mars!$B$5:$B$24,0)),$C26,"")) | M26: =IF(ISNUMBER(MATCH($C26,$J26:L26,0)),"",IF(ISNUMBER(MATCH($C26,'avr.'!$B$5:$B$24,0)),$C26,"")) | N26: =IF(ISNUMBER(MATCH($C26,$J26:M26,0)),"",IF(ISNUMBER(MATCH($C26,mai!$B$5:$B$24,0)),$C26,"")) | O26: =IF(ISNUMBER(MATCH($C26,$J26:N26,0)),"",IF(ISNUMBER(MATCH($C26,juin!$B$5:$B$24,0)),$C26,"")) | P26: =IF(ISNUMBER(MATCH($C26,$J26:O26,0)),"",IF(ISNUMBER(MATCH($C26,'juil.'!$B$5:$B$24,0)),$C26,"")) | Q26: =IF(ISNUMBER(MATCH($C26,$J26:P26,0)),"",IF(ISNUMBER(MATCH($C26,août!$B$5:$B$24,0)),$C26,"")) | R26: =IF(ISNUMBER(MATCH($C26,$J26:Q26,0)),"",IF(ISNUMBER(MATCH($C26,'sept.'!$B$5:$B$24,0)),$C26,"")) | S26: =IF(ISNUMBER(MATCH($C26,$J26:R26,0)),"",IF(ISNUMBER(MATCH($C26,'oct.'!$B$5:$B$24,0)),$C26,"")) | T26: =IF(ISNUMBER(MATCH($C26,$J26:S26,0)),"",IF(ISNUMBER(MATCH($C26,'nov.'!$B$5:$B$24,0)),$C26,"")) | U26: =IF(ISNUMBER(MATCH($C26,$J26:T26,0)),"",IF(ISNUMBER(MATCH($C26,'déc.'!$B$5:$B$24,0)),$C26,""))
C27: Agent 24 | I27: =IF(ISNUMBER(MATCH(_xlfn.CONCAT(J27:U27),'Récap.'!B$4:B$55,0)),"",_xlfn.CONCAT(J27:U27)) | J27: =IF(ISNUMBER(MATCH($C27,'jan.'!$B$5:$B$24,0)),$C27,"") | K27: =IF(ISNUMBER(MATCH($C27,$J27:J27,0)),"",IF(ISNUMBER(MATCH($C27,'fév.'!$B$5:$B$24,0)),$C27,"")) | L27: =IF(ISNUMBER(MATCH($C27,$J27:K27,0)),"",IF(ISNUMBER(MATCH($C27,mars!$B$5:$B$24,0)),$C27,"")) | M27: =IF(ISNUMBER(MATCH($C27,$J27:L27,0)),"",IF(ISNUMBER(MATCH($C27,'avr.'!$B$5:$B$24,0)),$C27,"")) | N27: =IF(ISNUMBER(MATCH($C27,$J27:M27,0)),"",IF(ISNUMBER(MATCH($C27,mai!$B$5:$B$24,0)),$C27,"")) | O27: =IF(ISNUMBER(MATCH($C27,$J27:N27,0)),"",IF(ISNUMBER(MATCH($C27,juin!$B$5:$B$24,0)),$C27,"")) | P27: =IF(ISNUMBER(MATCH($C27,$J27:O27,0)),"",IF(ISNUMBER(MATCH($C27,'juil.'!$B$5:$B$24,0)),$C27,"")) | Q27: =IF(ISNUMBER(MATCH($C27,$J27:P27,0)),"",IF(ISNUMBER(MATCH($C27,août!$B$5:$B$24,0)),$C27,"")) | R27: =IF(ISNUMBER(MATCH($C27,$J27:Q27,0)),"",IF(ISNUMBER(MATCH($C27,'sept.'!$B$5:$B$24,0)),$C27,"")) | S27: =IF(ISNUMBER(MATCH($C27,$J27:R27,0)),"",IF(ISNUMBER(MATCH($C27,'oct.'!$B$5:$B$24,0)),$C27,"")) | T27: =IF(ISNUMBER(MATCH($C27,$J27:S27,0)),"",IF(ISNUMBER(MATCH($C27,'nov.'!$B$5:$B$24,0)),$C27,"")) | U27: =IF(ISNUMBER(MATCH($C27,$J27:T27,0)),"",IF(ISNUMBER(MATCH($C27,'déc.'!$B$5:$B$24,0)),$C27,""))
C28: Agent 25 | I28: =IF(ISNUMBER(MATCH(_xlfn.CONCAT(J28:U28),'Récap.'!B$4:B$55,0)),"",_xlfn.CONCAT(J28:U28)) | J28: =IF(ISNUMBER(MATCH($C28,'jan.'!$B$5:$B$24,0)),$C28,"") | K28: =IF(ISNUMBER(MATCH($C28,$J28:J28,0)),"",IF(ISNUMBER(MATCH($C28,'fév.'!$B$5:$B$24,0)),$C28,"")) | L28: =IF(ISNUMBER(MATCH($C28,$J28:K28,0)),"",IF(ISNUMBER(MATCH($C28,mars!$B$5:$B$24,0)),$C28,"")) | M28: =IF(ISNUMBER(MATCH($C28,$J28:L28,0)),"",IF(ISNUMBER(MATCH($C28,'avr.'!$B$5:$B$24,0)),$C28,"")) | N28: =IF(ISNUMBER(MATCH($C28,$J28:M28,0)),"",IF(ISNUMBER(MATCH($C28,mai!$B$5:$B$24,0)),$C28,"")) | O28: =IF(ISNUMBER(MATCH($C28,$J28:N28,0)),"",IF(ISNUMBER(MATCH($C28,juin!$B$5:$B$24,0)),$C28,"")) | P28: =IF(ISNUMBER(MATCH($C28,$J28:O28,0)),"",IF(ISNUMBER(MATCH($C28,'juil.'!$B$5:$B$24,0)),$C28,"")) | Q28: =IF(ISNUMBER(MATCH($C28,$J28:P28,0)),"",IF(ISNUMBER(MATCH($C28,août!$B$5:$B$24,0)),$C28,"")) | R28: =IF(ISNUMBER(MATCH($C28,$J28:Q28,0)),"",IF(ISNUMBER(MATCH($C28,'sept.'!$B$5:$B$24,0)),$C28,"")) | S28: =IF(ISNUMBER(MATCH($C28,$J28:R28,0)),"",IF(ISNUMBER(MATCH($C28,'oct.'!$B$5:$B$24,0)),$C28,"")) | T28: =IF(ISNUMBER(MATCH($C28,$J28:S28,0)),"",IF(ISNUMBER(MATCH($C28,'nov.'!$B$5:$B$24,0)),$C28,"")) | U28: =IF(ISNUMBER(MATCH($C28,$J28:T28,0)),"",IF(ISNUMBER(MATCH($C28,'déc.'!$B$5:$B$24,0)),$C28,""))
... C57: Agent 54 | I57: =IF(ISNUMBER(MATCH(_xlfn.CONCAT(J57:U57),'Récap.'!B$4:B$55,0)),"",_xlfn.CONCAT(J57:U57)) | J57: =IF(ISNUMBER(MATCH($C57,'jan.'!$B$5:$B$24,0)),$C57,"") | K57: =IF(ISNUMBER(MATCH($C57,$J57:J57,0)),"",IF(ISNUMBER(MATCH($C57,'fév.'!$B$5:$B$24,0)),$C57,"")) | L57: =IF(ISNUMBER(MATCH($C57,$J57:K57,0)),"",IF(ISNUMBER(MATCH($C57,mars!$B$5:$B$24,0)),$C57,"")) | M57: =IF(ISNUMBER(MATCH($C57,$J57:L57,0)),"",IF(ISNUMBER(MATCH($C57,'avr.'!$B$5:$B$24,0)),$C57,"")) | N57: =IF(ISNUMBER(MATCH($C57,$J57:M57,0)),"",IF(ISNUMBER(MATCH($C57,mai!$B$5:$B$24,0)),$C57,"")) | O57: =IF(ISNUMBER(MATCH($C57,$J57:N57,0)),"",IF(ISNUMBER(MATCH($C57,juin!$B$5:$B$24,0)),$C57,"")) | P57: =IF(ISNUMBER(MATCH($C57,$J57:O57,0)),"",IF(ISNUMBER(MATCH($C57,'juil.'!$B$5:$B$24,0)),$C57,"")) | Q57: =IF(ISNUMBER(MATCH($C57,$J57:P57,0)),"",IF(ISNUMBER(MATCH($C57,août!$B$5:$B$24,0)),$C57,"")) | R57: =IF(ISNUMBER(MATCH($C57,$J57:Q57,0)),"",IF(ISNUMBER(MATCH($C57,'sept.'!$B$5:$B$24,0)),$C57,"")) | S57: =IF(ISNUMBER(MATCH($C57,$J57:R57,0)),"",IF(ISNUMBER(MATCH($C57,'oct.'!$B$5:$B$24,0)),$C57,"")) | T57: =IF(ISNUMBER(MATCH($C57,$J57:S57,0)),"",IF(ISNUMBER(MATCH($C57,'nov.'!$B$5:$B$24,0)),$C57,"")) | U57: =IF(ISNUMBER(MATCH($C57,$J57:T57,0)),"",IF(ISNUMBER(MATCH($C57,'déc.'!$B$5:$B$24,0)),$C57,""))

Sheet jan.
A2: 2019 | B2: Formations
B3: =C3 -> 43466 | C3: =DATE(année,1,1) -> 43466 | D3: =C3+1 -> 43467 | E3: =D3+1 -> 43468 | F3: =E3+1 -> 43469 | G3: =F3+1 -> 43470 | H3: =G3+1 -> 43471 | I3: =H3+1 -> 43472 | J3: =I3+1 -> 43473 | K3: =J3+1 -> 43474 | ... AD3: =AC3+1 -> 43493 | AE3: =IF(AD3="","",IF(MONTH(AD3+1)>MONTH(AD3),"",AD3+1)) -> 43494 | AF3: =IF(AE3="","",IF(MONTH(AE3+1)>MONTH(AE3),"",AE3+1)) -> 43495 | AG3: =IF(AF3="","",IF(MONTH(AF3+1)>MONTH(AF3),"",AF3+1)) -> 43496
C4: =C3 -> 43466 | D4: =C4+1 -> 43467 | E4: =D4+1 -> 43468 | F4: =E4+1 -> 43469 | G4: =F4+1 -> 43470 | H4: =G4+1 -> 43471 | I4: =H4+1 -> 43472 | J4: =I4+1 -> 43473 | K4: =J4+1 -> 43474 | ... AD4: =AC4+1 -> 43493 | AE4: =IF(AD4="","",IF(MONTH(AD4+1)>MONTH(AD4),"",AD4+1)) -> 43494 | AF4: =IF(AE4="","",IF(MONTH(AE4+1)>MONTH(AE4),"",AE4+1)) -> 43495 | AG4: =IF(AF4="","",IF(MONTH(AF4+1)>MONTH(AF4),"",AF4+1)) -> 43496
B5: Agent 5 | I5: F | J5: F | K5: F | L5: F | M5: F | N5: F | O5: F | P5: F | Q5: F | R5: F | S5: F | T5: F | U5: F | V5: F | W5: F | X5: F | Y5: F | Z5: F | AA5: F | AH5: =COUNTIF(C5:AG5,"F") -> 19
B6: Agent 8 | I6: F | J6: F | AH6: =COUNTIF(C6:AG6,"F") -> 2
B7: Agent 10 | L7: F | AH7: =COUNTIF(C7:AG7,"F") -> 1
B8: Agent 2 | E8: F | F8: F | G8: F | H8: F | I8: F | J8: F | K8: F | L8: F | M8: F | N8: F | O8: F | P8: F | Q8: F | R8: F | AH8: =COUNTIF(C8:AG8,"F") -> 14
B9: Agent 32 | AD9: F | AH9: =COUNTIF(C9:AG9,"F") -> 1
B10: Agent 39 | AD10: F | AH10: =COUNTIF(C10:AG10,"F") -> 1
AH11: =COUNTIF(C11:AG11,"F") -> 0
AH12: =COUNTIF(C12:AG12,"F") -> 0
AH13: =COUNTIF(C13:AG13,"F") -> 0
AH14: =COUNTIF(C14:AG14,"F") -> 0
AH15: =COUNTIF(C15:AG15,"F") -> 0
AH16: =COUNTIF(C16:AG16,"F") -> 0
AH17: =COUNTIF(C17:AG17,"F") -> 0
AH18: =COUNTIF(C18:AG18,"F") -> 0
AH19: =COUNTIF(C19:AG19,"F") -> 0
AH20: =COUNTIF(C20:AG20,"F") -> 0
AH21: =COUNTIF(C21:AG21,"F") -> 0
AH22: =COUNTIF(C22:AG22,"F") -> 0
... AH24: =COUNTIF(C24:AG24,"F") -> 0
C25: =COUNTIF(C5:C24,"F") -> 0 | D25: =COUNTIF(D5:D24,"F") -> 0 | E25: =COUNTIF(E5:E24,"F") -> 1 | F25: =COUNTIF(F5:F24,"F") -> 1 | G25: =COUNTIF(G5:G24,"F") -> 1 | H25: =COUNTIF(H5:H24,"F") -> 1 | I25: =COUNTIF(I5:I24,"F") -> 3 | J25: =COUNTIF(J5:J24,"F") -> 3 | ... AG25: =COUNTIF(AG5:AG24,"F") -> 0

Sheet fév.
B2: Formations
B3: =C3 -> 43497 | C3: =DATE(année,2,1) -> 43497 | D3: =C3+1 -> 43498 | E3: =D3+1 -> 43499 | F3: =E3+1 -> 43500 | G3: =F3+1 -> 43501 | H3: =G3+1 -> 43502 | I3: =H3+1 -> 43503 | J3: =I3+1 -> 43504 | K3: =J3+1 -> 43505 | ... AD3: =AC3+1 -> 43524 | AE3: =IF(AD3="","",IF(MONTH(AD3+1)>MONTH(AD3),"",AD3+1)) | AF3: =IF(AE3="","",IF(MONTH(AE3+1)>MONTH(AE3),"",AE3+1)) | AG3: =IF(AF3="","",IF(MONTH(AF3+1)>MONTH(AF3),"",AF3+1))
C4: =C3 -> 43497 | D4: =C4+1 -> 43498 | E4: =D4+1 -> 43499 | F4: =E4+1 -> 43500 | G4: =F4+1 -> 43501 | H4: =G4+1 -> 43502 | I4: =H4+1 -> 43503 | J4: =I4+1 -> 43504 | K4: =J4+1 -> 43505 | ... AD4: =AC4+1 -> 43524 | AE4: =IF(AD4="","",IF(MONTH(AD4+1)>MONTH(AD4),"",AD4+1)) | AF4: =IF(AE4="","",IF(MONTH(AE4+1)>MONTH(AE4),"",AE4+1)) | AG4: =IF(AF4="","",IF(MONTH(AF4+1)>MONTH(AF4),"",AF4+1))
B5: Agent 2 | F5: F | G5: F | H5: F | I5: F | J5: F | K5: F | L5: F | M5: F | N5: F | O5: F | P5: F | Q5: F | R5: F | S5: F | T5: F | U5: F | V5: F | W5: F | X5: F | Y5: F | Z5: F | AA5: F | AB5: F | AC5: F | AD5: F | AH5: =COUNTIF(C5:AG5,"F") -> 25
B6: Agent 8 | F6: F | G6: F | O6: F | AH6: =COUNTIF(C6:AG6,"F") -> 3
B7: Agent 29 | O7: F | AH7: =COUNTIF(C7:AG7,"F") -> 1
B8: Agent 3 | F8: F | G8: F | H8: F | I8: F | J8: F | M8: F | N8: F | O8: F | P8: F | Q8: F | AH8: =COUNTIF(C8:AG8,"F") -> 10
AH9: =COUNTIF(C9:AG9,"F") -> 0
AH10: =COUNTIF(C10:AG10,"F") -> 0
AH11: =COUNTIF(C11:AG11,"F") -> 0
AH12: =COUNTIF(C12:AG12,"F") -> 0
AH13: =COUNTIF(C13:AG13,"F") -> 0
AH14: =COUNTIF(C14:AG14,"F") -> 0
AH15: =COUNTIF(C15:AG15,"F") -> 0
AH16: =COUNTIF(C16:AG16,"F") -> 0
AH17: =COUNTIF(C17:AG17,"F") -> 0
AH18: =COUNTIF(C18:AG18,"F") -> 0
AH19: =COUNTIF(C19:AG19,"F") -> 0
AH20: =COUNTIF(C20:AG20,"F") -> 0
... AH24: =COUNTIF(C24:AG24,"F") -> 0
C25: =COUNTIF(C5:C24,"F") -> 0 | D25: =COUNTIF(D5:D24,"F") -> 0 | E25: =COUNTIF(E5:E24,"F") -> 0 | F25: =COUNTIF(F5:F24,"F") -> 3 | G25: =COUNTIF(G5:G24,"F") -> 3 | H25: =COUNTIF(H5:H24,"F") -> 2 | I25: =COUNTIF(I5:I24,"F") -> 2 | J25: =COUNTIF(J5:J24,"F") -> 2 | ... AG25: =COUNTIF(AG5:AG24,"F") -> 0

Sheet mars
B2: Formations
B3: =C3 -> 43525 | C3: =DATE(année,3,1) -> 43525 | D3: =C3+1 -> 43526 | E3: =D3+1 -> 43527 | F3: =E3+1 -> 43528 | G3: =F3+1 -> 43529 | H3: =G3+1 -> 43530 | I3: =H3+1 -> 43531 | J3: =I3+1 -> 43532 | K3: =J3+1 -> 43533 | ... AD3: =AC3+1 -> 43552 | AE3: =IF(AD3="","",IF(MONTH(AD3+1)>MONTH(AD3),"",AD3+1)) -> 43553 | AF3: =IF(AE3="","",IF(MONTH(AE3+1)>MONTH(AE3),"",AE3+1)) -> 43554 | AG3: =IF(AF3="","",IF(MONTH(AF3+1)>MONTH(AF3),"",AF3+1)) -> 43555
C4: =C3 -> 43525 | D4: =C4+1 -> 43526 | E4: =D4+1 -> 43527 | F4: =E4+1 -> 43528 | G4: =F4+1 -> 43529 | H4: =G4+1 -> 43530 | I4: =H4+1 -> 43531 | J4: =I4+1 -> 43532 | K4: =J4+1 -> 43533 | ... AD4: =AC4+1 -> 43552 | AE4: =IF(AD4="","",IF(MONTH(AD4+1)>MONTH(AD4),"",AD4+1)) -> 43553 | AF4: =IF(AE4="","",IF(MONTH(AE4+1)>MONTH(AE4),"",AE4+1)) -> 43554 | AG4: =IF(AF4="","",IF(MONTH(AF4+1)>MONTH(AF4),"",AF4+1)) -> 43555
B5: Agent 11 | M5: F | N5: F | O5: F | P5: F | Q5: F | AH5: =COUNTIF(C5:AG5,"F") -> 5
B6: Agent 17 | T6: F | U6: F | V6: F | W6: F | X6: F | AH6: =COUNTIF(C6:AG6,"F") -> 5
B7: Agent 2 | F7: F | AH7: =COUNTIF(C7:AG7,"F") -> 1
AH8: =COUNTIF(C8:AG8,"F") -> 0
AH9: =COUNTIF(C9:AG9,"F") -> 0
AH10: =COUNTIF(C10:AG10,"F") -> 0
AH11: =COUNTIF(C11:AG11,"F") -> 0
AH12: =COUNTIF(C12:AG12,"F") -> 0
AH13: =COUNTIF(C13:AG13,"F") -> 0
AH14: =COUNTIF(C14:AG14,"F") -> 0
AH15: =COUNTIF(C15:AG15,"F") -> 0
AH16: =COUNTIF(C16:AG16,"F") -> 0
AH17: =COUNTIF(C17:AG17,"F") -> 0
AH18: =COUNTIF(C18:AG18,"F") -> 0
AH19: =COUNTIF(C19:AG19,"F") -> 0
... AH24: =COUNTIF(C24:AG24,"F") -> 0
C25: =COUNTIF(C5:C24,"F") -> 0 | D25: =COUNTIF(D5:D24,"F") -> 0 | E25: =COUNTIF(E5:E24,"F") -> 0 | F25: =COUNTIF(F5:F24,"F") -> 1 | G25: =COUNTIF(G5:G24,"F") -> 0 | H25: =COUNTIF(H5:H24,"F") -> 0 | I25: =COUNTIF(I5:I24,"F") -> 0 | J25: =COUNTIF(J5:J24,"F") -> 0 | ... AG25: =COUNTIF(AG5:AG24,"F") -> 0

Sheet avr.
B2: Formations
B3: =C3 -> 43556 | C3: =DATE(année,4,1) -> 43556 | D3: =C3+1 -> 43557 | E3: =D3+1 -> 43558 | F3: =E3+1 -> 43559 | G3: =F3+1 -> 43560 | H3: =G3+1 -> 43561 | I3: =H3+1 -> 43562 | J3: =I3+1 -> 43563 | K3: =J3+1 -> 43564 | ... AD3: =AC3+1 -> 43583 | AE3: =IF(AD3="","",IF(MONTH(AD3+1)>MONTH(AD3),"",AD3+1)) -> 43584 | AF3: =IF(AE3="","",IF(MONTH(AE3+1)>MONTH(AE3),"",AE3+1)) -> 43585 | AG3: =IF(AF3="","",IF(MONTH(AF3+1)>MONTH(AF3),"",AF3+1))
C4: =C3 -> 43556 | D4: =C4+1 -> 43557 | E4: =D4+1 -> 43558 | F4: =E4+1 -> 43559 | G4: =F4+1 -> 43560 | H4: =G4+1 -> 43561 | I4: =H4+1 -> 43562 | J4: =I4+1 -> 43563 | K4: =J4+1 -> 43564 | ... AD4: =AC4+1 -> 43583 | AE4: =IF(AD4="","",IF(MONTH(AD4+1)>MONTH(AD4),"",AD4+1)) -> 43584 | AF4: =IF(AE4="","",IF(MONTH(AE4+1)>MONTH(AE4),"",AE4+1)) -> 43585 | AG4: =IF(AF4="","",IF(MONTH(AF4+1)>MONTH(AF4),"",AF4+1))
B5: Agent 13 | J5: F | K5: F | AH5: =COUNTIF(C5:AG5,"F") -> 2
B6: Agent 7 | J6: F | K6: F | L6: F | M6: F | N6: F | AH6: =COUNTIF(C6:AG6,"F") -> 5
AH7: =COUNTIF(C7:AG7,"F") -> 0
AH8: =COUNTIF(C8:AG8,"F") -> 0
AH9: =COUNTIF(C9:AG9,"F") -> 0
AH10: =COUNTIF(C10:AG10,"F") -> 0
AH11: =COUNTIF(C11:AG11,"F") -> 0
AH12: =COUNTIF(C12:AG12,"F") -> 0
AH13: =COUNTIF(C13:AG13,"F") -> 0
AH14: =COUNTIF(C14:AG14,"F") -> 0
AH15: =COUNTIF(C15:AG15,"F") -> 0
AH16: =COUNTIF(C16:AG16,"F") -> 0
AH17: =COUNTIF(C17:AG17,"F") -> 0
AH18: =COUNTIF(C18:AG18,"F") -> 0
... AH24: =COUNTIF(C24:AG24,"F") -> 0
C25: =COUNTIF(C5:C24,"F") -> 0 | D25: =COUNTIF(D5:D24,"F") -> 0 | E25: =COUNTIF(E5:E24,"F") -> 0 | F25: =COUNTIF(F5:F24,"F") -> 0 | G25: =COUNTIF(G5:G24,"F") -> 0 | H25: =COUNTIF(H5:H24,"F") -> 0 | I25: =COUNTIF(I5:I24,"F") -> 0 | J25: =COUNTIF(J5:J24,"F") -> 2 | ... AG25: =COUNTIF(AG5:AG24,"F") -> 0

Sheet mai
B2: Formations
B3: =C3 -> 43586 | C3: =DATE(année,5,1) -> 43586 | D3: =C3+1 -> 43587 | E3: =D3+1 -> 43588 | F3: =E3+1 -> 43589 | G3: =F3+1 -> 43590 | H3: =G3+1 -> 43591 | I3: =H3+1 -> 43592 | J3: =I3+1 -> 43593 | K3: =J3+1 -> 43594 | ... AD3: =AC3+1 -> 43613 | AE3: =IF(AD3="","",IF(MONTH(AD3+1)>MONTH(AD3),"",AD3+1)) -> 43614 | AF3: =IF(AE3="","",IF(MONTH(AE3+1)>MONTH(AE3),"",AE3+1)) -> 43615 | AG3: =IF(AF3="","",IF(MONTH(AF3+1)>MONTH(AF3),"",AF3+1)) -> 43616
C4: =C3 -> 43586 | D4: =C4+1 -> 43587 | E4: =D4+1 -> 43588 | F4: =E4+1 -> 43589 | G4: =F4+1 -> 43590 | H4: =G4+1 -> 43591 | I4: =H4+1 -> 43592 | J4: =I4+1 -> 43593 | K4: =J4+1 -> 43594 | ... AD4: =AC4+1 -> 43613 | AE4: =IF(AD4="","",IF(MONTH(AD4+1)>MONTH(AD4),"",AD4+1)) -> 43614 | AF4: =IF(AE4="","",IF(MONTH(AE4+1)>MONTH(AE4),"",AE4+1)) -> 43615 | AG4: =IF(AF4="","",IF(MONTH(AF4+1)>MONTH(AF4),"",AF4+1)) -> 43616
B5: Agent 3 | O5: F | P5: F | AH5: =COUNTIF(C5:AG5,"F") -> 2
B6: Agent 6 | O6: F | P6: F | AH6: =COUNTIF(C6:AG6,"F") -> 2
AH7: =COUNTIF(C7:AG7,"F") -> 0
AH8: =COUNTIF(C8:AG8,"F") -> 0
AH9: =COUNTIF(C9:AG9,"F") -> 0
AH10: =COUNTIF(C10:AG10,"F") -> 0
AH11: =COUNTIF(C11:AG11,"F") -> 0
AH12: =COUNTIF(C12:AG12,"F") -> 0
AH13: =COUNTIF(C13:AG13,"F") -> 0
AH14: =COUNTIF(C14:AG14,"F") -> 0
AH15: =COUNTIF(C15:AG15,"F") -> 0
AH16: =COUNTIF(C16:AG16,"F") -> 0
AH17: =COUNTIF(C17:AG17,"F") -> 0
AH18: =COUNTIF(C18:AG18,"F") -> 0
... AH24: =COUNTIF(C24:AG24,"F") -> 0
C25: =COUNTIF(C5:C24,"F") -> 0 | D25: =COUNTIF(D5:D24,"F") -> 0 | E25: =COUNTIF(E5:E24,"F") -> 0 | F25: =COUNTIF(F5:F24,"F") -> 0 | G25: =COUNTIF(G5:G24,"F") -> 0 | H25: =COUNTIF(H5:H24,"F") -> 0 | I25: =COUNTIF(I5:I24,"F") -> 0 | J25: =COUNTIF(J5:J24,"F") -> 0 | ... AG25: =COUNTIF(AG5:AG24,"F") -> 0

Sheet juin
B2: Formations
B3: =C3 -> 43617 | C3: =DATE(année,6,1) -> 43617 | D3: =C3+1 -> 43618 | E3: =D3+1 -> 43619 | F3: =E3+1 -> 43620 | G3: =F3+1 -> 43621 | H3: =G3+1 -> 43622 | I3: =H3+1 -> 43623 | J3: =I3+1 -> 43624 | K3: =J3+1 -> 43625 | ... AD3: =AC3+1 -> 43644 | AE3: =IF(AD3="","",IF(MONTH(AD3+1)>MONTH(AD3),"",AD3+1)) -> 43645 | AF3: =IF(AE3="","",IF(MONTH(AE3+1)>MONTH(AE3),"",AE3+1)) -> 43646 | AG3: =IF(AF3="","",IF(MONTH(AF3+1)>MONTH(AF3),"",AF3+1))
C4: =C3 -> 43617 | D4: =C4+1 -> 43618 | E4: =D4+1 -> 43619 | F4: =E4+1 -> 43620 | G4: =F4+1 -> 43621 | H4: =G4+1 -> 43622 | I4: =H4+1 -> 43623 | J4: =I4+1 -> 43624 | K4: =J4+1 -> 43625 | ... AD4: =AC4+1 -> 43644 | AE4: =IF(AD4="","",IF(MONTH(AD4+1)>MONTH(AD4),"",AD4+1)) -> 43645 | AF4: =IF(AE4="","",IF(MONTH(AE4+1)>MONTH(AE4),"",AE4+1)) -> 43646 | AG4: =IF(AF4="","",IF(MONTH(AF4+1)>MONTH(AF4),"",AF4+1))
B5: Agent 5 | M5: F | AH5: =COUNTIF(C5:AG5,"F") -> 1
B6: Agent 8 | M6: F | AH6: =COUNTIF(C6:AG6,"F") -> 1
B7: Agent 12 | M7: F | AH7: =COUNTIF(C7:AG7,"F") -> 1
AH8: =COUNTIF(C8:AG8,"F") -> 0
AH9: =COUNTIF(C9:AG9,"F") -> 0
AH10: =COUNTIF(C10:AG10,"F") -> 0
AH11: =COUNTIF(C11:AG11,"F") -> 0
AH12: =COUNTIF(C12:AG12,"F") -> 0
AH13: =COUNTIF(C13:AG13,"F") -> 0
AH14: =COUNTIF(C14:AG14,"F") -> 0
AH15: =COUNTIF(C15:AG15,"F") -> 0
AH16: =COUNTIF(C16:AG16,"F") -> 0
AH17: =COUNTIF(C17:AG17,"F") -> 0
AH18: =COUNTIF(C18:AG18,"F") -> 0
AH19: =COUNTIF(C19:AG19,"F") -> 0
... AH24: =COUNTIF(C24:AG24,"F") -> 0
C25: =COUNTIF(C5:C24,"F") -> 0 | D25: =COUNTIF(D5:D24,"F") -> 0 | E25: =COUNTIF(E5:E24,"F") -> 0 | F25: =COUNTIF(F5:F24,"F") -> 0 | G25: =COUNTIF(G5:G24,"F") -> 0 | H25: =COUNTIF(H5:H24,"F") -> 0 | I25: =COUNTIF(I5:I24,"F") -> 0 | J25: =COUNTIF(J5:J24,"F") -> 0 | ... AG25: =COUNTIF(AG5:AG24,"F") -> 0

Sheet juil.
B2: Formations
B3: =C3 -> 43647 | C3: =DATE(année,7,1) -> 43647 | D3: =C3+1 -> 43648 | E3: =D3+1 -> 43649 | F3: =E3+1 -> 43650 | G3: =F3+1 -> 43651 | H3: =G3+1 -> 43652 | I3: =H3+1 -> 43653 | J3: =I3+1 -> 43654 | K3: =J3+1 -> 43655 | ... AD3: =AC3+1 -> 43674 | AE3: =IF(AD3="","",IF(MONTH(AD3+1)>MONTH(AD3),"",AD3+1)) -> 43675 | AF3: =IF(AE3="","",IF(MONTH(AE3+1)>MONTH(AE3),"",AE3+1)) -> 43676 | AG3: =IF(AF3="","",IF(MONTH(AF3+1)>MONTH(AF3),"",AF3+1)) -> 43677
C4: =C3 -> 43647 | D4: =C4+1 -> 43648 | E4: =D4+1 -> 43649 | F4: =E4+1 -> 43650 | G4: =F4+1 -> 43651 | H4: =G4+1 -> 43652 | I4: =H4+1 -> 43653 | J4: =I4+1 -> 43654 | K4: =J4+1 -> 43655 | ... AD4: =AC4+1 -> 43674 | AE4: =IF(AD4="","",IF(MONTH(AD4+1)>MONTH(AD4),"",AD4+1)) -> 43675 | AF4: =IF(AE4="","",IF(MONTH(AE4+1)>MONTH(AE4),"",AE4+1)) -> 43676 | AG4: =IF(AF4="","",IF(MONTH(AF4+1)>MONTH(AF4),"",AF4+1)) -> 43677
B5: Agent 14 | J5: F | K5: F | L5: F | AH5: =COUNTIF(C5:AG5,"F") -> 3
AH6: =COUNTIF(C6:AG6,"F") -> 0
AH7: =COUNTIF(C7:AG7,"F") -> 0
AH8: =COUNTIF(C8:AG8,"F") -> 0
AH9: =COUNTIF(C9:AG9,"F") -> 0
AH10: =COUNTIF(C10:AG10,"F") -> 0
AH11: =COUNTIF(C11:AG11,"F") -> 0
AH12: =COUNTIF(C12:AG12,"F") -> 0
AH13: =COUNTIF(C13:AG13,"F") -> 0
AH14: =COUNTIF(C14:AG14,"F") -> 0
AH15: =COUNTIF(C15:AG15,"F") -> 0
AH16: =COUNTIF(C16:AG16,"F") -> 0
AH17: =COUNTIF(C17:AG17,"F") -> 0
... AH24: =COUNTIF(C24:AG24,"F") -> 0
C25: =COUNTIF(C5:C24,"F") -> 0 | D25: =COUNTIF(D5:D24,"F") -> 0 | E25: =COUNTIF(E5:E24,"F") -> 0 | F25: =COUNTIF(F5:F24,"F") -> 0 | G25: =COUNTIF(G5:G24,"F") -> 0 | H25: =COUNTIF(H5:H24,"F") -> 0 | I25: =COUNTIF(I5:I24,"F") -> 0 | J25: =COUNTIF(J5:J24,"F") -> 1 | ... AG25: =COUNTIF(AG5:AG24,"F") -> 0

Sheet août
B2: Formations
B3: =C3 -> 43678 | C3: =DATE(année,8,1) -> 43678 | D3: =C3+1 -> 43679 | E3: =D3+1 -> 43680 | F3: =E3+1 -> 43681 | G3: =F3+1 -> 43682 | H3: =G3+1 -> 43683 | I3: =H3+1 -> 43684 | J3: =I3+1 -> 43685 | K3: =J3+1 -> 43686 | ... AD3: =AC3+1 -> 43705 | AE3: =IF(AD3="","",IF(MONTH(AD3+1)>MONTH(AD3),"",AD3+1)) -> 43706 | AF3: =IF(AE3="","",IF(MONTH(AE3+1)>MONTH(AE3),"",AE3+1)) -> 43707 | AG3: =IF(AF3="","",IF(MONTH(AF3+1)>MONTH(AF3),"",AF3+1)) -> 43708
C4: =C3 -> 43678 | D4: =C4+1 -> 43679 | E4: =D4+1 -> 43680 | F4: =E4+1 -> 43681 | G4: =F4+1 -> 43682 | H4: =G4+1 -> 43683 | I4: =H4+1 -> 43684 | J4: =I4+1 -> 43685 | K4: =J4+1 -> 43686 | ... AD4: =AC4+1 -> 43705 | AE4: =IF(AD4="","",IF(MONTH(AD4+1)>MONTH(AD4),"",AD4+1)) -> 43706 | AF4: =IF(AE4="","",IF(MONTH(AE4+1)>MONTH(AE4),"",AE4+1)) -> 43707 | AG4: =IF(AF4="","",IF(MONTH(AF4+1)>MONTH(AF4),"",AF4+1)) -> 43708
B5: Agent 18 | G5: F | AH5: =COUNTIF(C5:AG5,"F") -> 1
AH6: =COUNTIF(C6:AG6,"F") -> 0
AH7: =COUNTIF(C7:AG7,"F") -> 0
AH8: =COUNTIF(C8:AG8,"F") -> 0
AH9: =COUNTIF(C9:AG9,"F") -> 0
AH10: =COUNTIF(C10:AG10,"F") -> 0
AH11: =COUNTIF(C11:AG11,"F") -> 0
AH12: =COUNTIF(C12:AG12,"F") -> 0
AH13: =COUNTIF(C13:AG13,"F") -> 0
AH14: =COUNTIF(C14:AG14,"F") -> 0
AH15: =COUNTIF(C15:AG15,"F") -> 0
AH16: =COUNTIF(C16:AG16,"F") -> 0
AH17: =COUNTIF(C17:AG17,"F") -> 0
... AH24: =COUNTIF(C24:AG24,"F") -> 0
C25: =COUNTIF(C5:C24,"F") -> 0 | D25: =COUNTIF(D5:D24,"F") -> 0 | E25: =COUNTIF(E5:E24,"F") -> 0 | F25: =COUNTIF(F5:F24,"F") -> 0 | G25: =COUNTIF(G5:G24,"F") -> 1 | H25: =COUNTIF(H5:H24,"F") -> 0 | I25: =COUNTIF(I5:I24,"F") -> 0 | J25: =COUNTIF(J5:J24,"F") -> 0 | ... AG25: =COUNTIF(AG5:AG24,"F") -> 0

Sheet sept.
B2: Formations
B3: =C3 -> 43709 | C3: =DATE(année,9,1) -> 43709 | D3: =C3+1 -> 43710 | E3: =D3+1 -> 43711 | F3: =E3+1 -> 43712 | G3: =F3+1 -> 43713 | H3: =G3+1 -> 43714 | I3: =H3+1 -> 43715 | J3: =I3+1 -> 43716 | K3: =J3+1 -> 43717 | ... AD3: =AC3+1 -> 43736 | AE3: =IF(AD3="","",IF(MONTH(AD3+1)>MONTH(AD3),"",AD3+1)) -> 43737 | AF3: =IF(AE3="","",IF(MONTH(AE3+1)>MONTH(AE3),"",AE3+1)) -> 43738 | AG3: =IF(AF3="","",IF(MONTH(AF3+1)>MONTH(AF3),"",AF3+1))
C4: =C3 -> 43709 | D4: =C4+1 -> 43710 | E4: =D4+1 -> 43711 | F4: =E4+1 -> 43712 | G4: =F4+1 -> 43713 | H4: =G4+1 -> 43714 | I4: =H4+1 -> 43715 | J4: =I4+1 -> 43716 | K4: =J4+1 -> 43717 | ... AD4: =AC4+1 -> 43736 | AE4: =IF(AD4="","",IF(MONTH(AD4+1)>MONTH(AD4),"",AD4+1)) -> 43737 | AF4: =IF(AE4="","",IF(MONTH(AE4+1)>MONTH(AE4),"",AE4+1)) -> 43738 | AG4: =IF(AF4="","",IF(MONTH(AF4+1)>MONTH(AF4),"",AF4+1))
B5: Agent 39 | Y5: F | Z5: F | AA5: F | AH5: =COUNTIF(C5:AG5,"F") -> 3
AH6: =COUNTIF(C6:AG6,"F") -> 0
AH7: =COUNTIF(C7:AG7,"F") -> 0
AH8: =COUNTIF(C8:AG8,"F") -> 0
AH9: =COUNTIF(C9:AG9,"F") -> 0
AH10: =COUNTIF(C10:AG10,"F") -> 0
AH11: =COUNTIF(C11:AG11,"F") -> 0
AH12: =COUNTIF(C12:AG12,"F") -> 0
AH13: =COUNTIF(C13:AG13,"F") -> 0
AH14: =COUNTIF(C14:AG14,"F") -> 0
AH15: =COUNTIF(C15:AG15,"F") -> 0
AH16: =COUNTIF(C16:AG16,"F") -> 0
AH17: =COUNTIF(C17:AG17,"F") -> 0
... AH24: =COUNTIF(C24:AG24,"F") -> 0
C25: =COUNTIF(C5:C24,"F") -> 0 | D25: =COUNTIF(D5:D24,"F") -> 0 | E25: =COUNTIF(E5:E24,"F") -> 0 | F25: =COUNTIF(F5:F24,"F") -> 0 | G25: =COUNTIF(G5:G24,"F") -> 0 | H25: =COUNTIF(H5:H24,"F") -> 0 | I25: =COUNTIF(I5:I24,"F") -> 0 | J25: =COUNTIF(J5:J24,"F") -> 0 | ... AG25: =COUNTIF(AG5:AG24,"F") -> 0

Sheet oct.
B2: Formations
B3: =C3 -> 43739 | C3: =DATE(année,10,1) -> 43739 | D3: =C3+1 -> 43740 | E3: =D3+1 -> 43741 | F3: =E3+1 -> 43742 | G3: =F3+1 -> 43743 | H3: =G3+1 -> 43744 | I3: =H3+1 -> 43745 | J3: =I3+1 -> 43746 | K3: =J3+1 -> 43747 | ... AD3: =AC3+1 -> 43766 | AE3: =IF(AD3="","",IF(MONTH(AD3+1)>MONTH(AD3),"",AD3+1)) -> 43767 | AF3: =IF(AE3="","",IF(MONTH(AE3+1)>MONTH(AE3),"",AE3+1)) -> 43768 | AG3: =IF(AF3="","",IF(MONTH(AF3+1)>MONTH(AF3),"",AF3+1)) -> 43769
C4: =C3 -> 43739 | D4: =C4+1 -> 43740 | E4: =D4+1 -> 43741 | F4: =E4+1 -> 43742 | G4: =F4+1 -> 43743 | H4: =G4+1 -> 43744 | I4: =H4+1 -> 43745 | J4: =I4+1 -> 43746 | K4: =J4+1 -> 43747 | ... AD4: =AC4+1 -> 43766 | AE4: =IF(AD4="","",IF(MONTH(AD4+1)>MONTH(AD4),"",AD4+1)) -> 43767 | AF4: =IF(AE4="","",IF(MONTH(AE4+1)>MONTH(AE4),"",AE4+1)) -> 43768 | AG4: =IF(AF4="","",IF(MONTH(AF4+1)>MONTH(AF4),"",AF4+1)) -> 43769
B5: Agent 6 | E5: F | AH5: =COUNTIF(C5:AG5,"F") -> 1
AH6: =COUNTIF(C6:AG6,"F") -> 0
AH7: =COUNTIF(C7:AG7,"F") -> 0
AH8: =COUNTIF(C8:AG8,"F") -> 0
AH9: =COUNTIF(C9:AG9,"F") -> 0
AH10: =COUNTIF(C10:AG10,"F") -> 0
AH11: =COUNTIF(C11:AG11,"F") -> 0
AH12: =COUNTIF(C12:AG12,"F") -> 0
AH13: =COUNTIF(C13:AG13,"F") -> 0
AH14: =COUNTIF(C14:AG14,"F") -> 0
AH15: =COUNTIF(C15:AG15,"F") -> 0
AH16: =COUNTIF(C16:AG16,"F") -> 0
AH17: =COUNTIF(C17:AG17,"F") -> 0
... AH24: =COUNTIF(C24:AG24,"F") -> 0
C25: =COUNTIF(C5:C24,"F") -> 0 | D25: =COUNTIF(D5:D24,"F") -> 0 | E25: =COUNTIF(E5:E24,"F") -> 1 | F25: =COUNTIF(F5:F24,"F") -> 0 | G25: =COUNTIF(G5:G24,"F") -> 0 | H25: =COUNTIF(H5:H24,"F") -> 0 | I25: =COUNTIF(I5:I24,"F") -> 0 | J25: =COUNTIF(J5:J24,"F") -> 0 | ... AG25: =COUNTIF(AG5:AG24,"F") -> 0

Sheet nov.
B2: Formations
B3: =C3 -> 43770 | C3: =DATE(année,11,1) -> 43770 | D3: =C3+1 -> 43771 | E3: =D3+1 -> 43772 | F3: =E3+1 -> 43773 | G3: =F3+1 -> 43774 | H3: =G3+1 -> 43775 | I3: =H3+1 -> 43776 | J3: =I3+1 -> 43777 | K3: =J3+1 -> 43778 | ... AD3: =AC3+1 -> 43797 | AE3: =IF(AD3="","",IF(MONTH(AD3+1)>MONTH(AD3),"",AD3+1)) -> 43798 | AF3: =IF(AE3="","",IF(MONTH(AE3+1)>MONTH(AE3),"",AE3+1)) -> 43799 | AG3: =IF(AF3="","",IF(MONTH(AF3+1)>MONTH(AF3),"",AF3+1))
C4: =C3 -> 43770 | D4: =C4+1 -> 43771 | E4: =D4+1 -> 43772 | F4: =E4+1 -> 43773 | G4: =F4+1 -> 43774 | H4: =G4+1 -> 43775 | I4: =H4+1 -> 43776 | J4: =I4+1 -> 43777 | K4: =J4+1 -> 43778 | ... AD4: =AC4+1 -> 43797 | AE4: =IF(AD4="","",IF(MONTH(AD4+1)>MONTH(AD4),"",AD4+1)) -> 43798 | AF4: =IF(AE4="","",IF(MONTH(AE4+1)>MONTH(AE4),"",AE4+1)) -> 43799 | AG4: =IF(AF4="","",IF(MONTH(AF4+1)>MONTH(AF4),"",AF4+1))
B5: Agent 17 | F5: F | AH5: =COUNTIF(C5:AG5,"F") -> 1
AH6: =COUNTIF(C6:AG6,"F") -> 0
AH7: =COUNTIF(C7:AG7,"F") -> 0
AH8: =COUNTIF(C8:AG8,"F") -> 0
AH9: =COUNTIF(C9:AG9,"F") -> 0
AH10: =COUNTIF(C10:AG10,"F") -> 0
AH11: =COUNTIF(C11:AG11,"F") -> 0
AH12: =COUNTIF(C12:AG12,"F") -> 0
AH13: =COUNTIF(C13:AG13,"F") -> 0
AH14: =COUNTIF(C14:AG14,"F") -> 0
AH15: =COUNTIF(C15:AG15,"F") -> 0
AH16: =COUNTIF(C16:AG16,"F") -> 0
AH17: =COUNTIF(C17:AG17,"F") -> 0
... AH24: =COUNTIF(C24:AG24,"F") -> 0
C25: =COUNTIF(C5:C24,"F") -> 0 | D25: =COUNTIF(D5:D24,"F") -> 0 | E25: =COUNTIF(E5:E24,"F") -> 0 | F25: =COUNTIF(F5:F24,"F") -> 1 | G25: =COUNTIF(G5:G24,"F") -> 0 | H25: =COUNTIF(H5:H24,"F") -> 0 | I25: =COUNTIF(I5:I24,"F") -> 0 | J25: =COUNTIF(J5:J24,"F") -> 0 | ... AG25: =COUNTIF(AG5:AG24,"F") -> 0

Sheet déc.
B2: Formations
B3: =C3 -> 43800 | C3: =DATE(année,12,1) -> 43800 | D3: =C3+1 -> 43801 | E3: =D3+1 -> 43802 | F3: =E3+1 -> 43803 | G3: =F3+1 -> 43804 | H3: =G3+1 -> 43805 | I3: =H3+1 -> 43806 | J3: =I3+1 -> 43807 | K3: =J3+1 -> 43808 | ... AD3: =AC3+1 -> 43827 | AE3: =IF(AD3="","",IF(MONTH(AD3+1)>MONTH(AD3),"",AD3+1)) -> 43828 | AF3: =IF(AE3="","",IF(MONTH(AE3+1)>MONTH(AE3),"",AE3+1)) -> 43829 | AG3: =IF(AF3="","",IF(MONTH(AF3+1)>MONTH(AF3),"",AF3+1)) -> 43830
C4: =C3 -> 43800 | D4: =C4+1 -> 43801 | E4: =D4+1 -> 43802 | F4: =E4+1 -> 43803 | G4: =F4+1 -> 43804 | H4: =G4+1 -> 43805 | I4: =H4+1 -> 43806 | J4: =I4+1 -> 43807 | K4: =J4+1 -> 43808 | ... AD4: =AC4+1 -> 43827 | AE4: =IF(AD4="","",IF(MONTH(AD4+1)>MONTH(AD4),"",AD4+1)) -> 43828 | AF4: =IF(AE4="","",IF(MONTH(AE4+1)>MONTH(AE4),"",AE4+1)) -> 43829 | AG4: =IF(AF4="","",IF(MONTH(AF4+1)>MONTH(AF4),"",AF4+1)) -> 43830
B5: Agent 11 | D5: F | E5: F | F5: F | G5: F | H5: F | AH5: =COUNTIF(C5:AG5,"F") -> 5
AH6: =COUNTIF(C6:AG6,"F") -> 0
AH7: =COUNTIF(C7:AG7,"F") -> 0
AH8: =COUNTIF(C8:AG8,"F") -> 0
AH9: =COUNTIF(C9:AG9,"F") -> 0
AH10: =COUNTIF(C10:AG10,"F") -> 0
AH11: =COUNTIF(C11:AG11,"F") -> 0
AH12: =COUNTIF(C12:AG12,"F") -> 0
AH13: =COUNTIF(C13:AG13,"F") -> 0
AH14: =COUNTIF(C14:AG14,"F") -> 0
AH15: =COUNTIF(C15:AG15,"F") -> 0
AH16: =COUNTIF(C16:AG16,"F") -> 0
AH17: =COUNTIF(C17:AG17,"F") -> 0
... AH24: =COUNTIF(C24:AG24,"F") -> 0
C25: =COUNTIF(C5:C24,"F") -> 0 | D25: =COUNTIF(D5:D24,"F") -> 1 | E25: =COUNTIF(E5:E24,"F") -> 1 | F25: =COUNTIF(F5:F24,"F") -> 1 | G25: =COUNTIF(G5:G24,"F") -> 1 | H25: =COUNTIF(H5:H24,"F") -> 1 | I25: =COUNTIF(I5:I24,"F") -> 0 | J25: =COUNTIF(J5:J24,"F") -> 0 | ... AG25: =COUNTIF(AG5:AG24,"F") -> 0

Sheet Récap.
B2: Formations
B3: =année -> 2019 | C3: =DATE(année,1,1) -> 43466 | D3: =DATE(année,2,1) -> 43497 | E3: =DATE(année,3,1) -> 43525 | F3: =DATE(année,4,1) -> 43556 | G3: =DATE(année,5,1) -> 43586 | H3: =DATE(année,6,1) -> 43617 | I3: =DATE(année,7,1) -> 43647 | J3: =DATE(année,8,1) -> 43678 | K3: =DATE(année,9,1) -> 43709 | L3: =DATE(année,10,1) -> 43739 | M3: =DATE(année,11,1) -> 43770 | N3: =DATE(année,12,1) -> 43800 | O3: Total jours de formation | Q3: jan | R3: fév | S3: mars | T3: avr | U3: mai | V3: juin | W3: juil | X3: août | Y3: sept | Z3: oct | AA3: nov | AB3: déc
B4: Agent 2 | C4: =IF(B4="","",IFERROR(INDIRECT("jan.!AH"&MATCH(B4,'jan.'!B$5:B$24,0)+4,1),"")) -> 14 | D4: =IF(B4="","",IFERROR(INDIRECT("fév.!AH"&MATCH(B4,'fév.'!B$5:B$24,0)+4,1),"")) -> 25 | E4: =IF(B4="","",IFERROR(INDIRECT("mars!AH"&MATCH(B4,mars!B$5:B$24,0)+4,1),"")) -> 1 | F4: =IF(B4="","",IFERROR(INDIRECT("avr.!AH"&MATCH(B4,'avr.'!B$5:B$24,0)+4,1),"")) | G4: =IF(B4="","",IFERROR(INDIRECT("mai!AH"&MATCH(B4,mai!B$5:B$24,0)+4,1),"")) | H4: =IF(B4="","",IFERROR(INDIRECT("juin!AH"&MATCH(B4,juin!B$5:B$24,0)+4,1),"")) | I4: =IF(B4="","",IFERROR(INDIRECT("juil.!AH"&MATCH(B4,'juil.'!B$5:B$24,0)+4,1),"")) | J4: =IF(B4="","",IFERROR(INDIRECT("août!AH"&MATCH(B4,août!B$5:B$24,0)+4,1),"")) | K4: =IF(B4="","",IFERROR(INDIRECT("sept.!AH"&MATCH(B4,'sept.'!B$5:B$24,0)+4,1),"")) | L4: =IF(B4="","",IFERROR(INDIRECT("oct.!AH"&MATCH(B4,'oct.'!B$5:B$24,0)+4,1),"")) | M4: =IF(B4="","",IFERROR(INDIRECT("nov.!AH"&MATCH(B4,'nov.'!B$5:B$24,0)+4,1),"")) | N4: =IF(B4="","",IFERROR(INDIRECT("déc.!AH"&MATCH(B4,'déc.'!B$5:B$24,0)+4,1),"")) | O4: =SUM(C4:N4) -> 40 | Q4: {=IFERROR(INDEX(jan,MATCH(SMALL(IF(jan<>"",IF(MATCH(jan,jan,0)=ROW(INDIRECT("1:"&ROWS(jan))),COUNTIF(jan,"<"&jan))),ROW(INDIRECT("1:"&ROWS(jan)))),COUNTIF(jan,"<"&jan),0)),"")} | R4: {=IFERROR(INDEX(fév,MATCH(SMALL(IF(fév<>"",IF(MATCH(fév,fév,0)=ROW(INDIRECT("1:"&ROWS(fév))),COUNTIF(fév,"<"&fév))),ROW(INDIRECT("1:"&ROWS(fév)))),COUNTIF(fév,"<"&fév),0)),"")} | S4: {=IFERROR(INDEX(mars,MATCH(SMALL(IF(mars<>"",IF(MATCH(mars,mars,0)=ROW(INDIRECT("1:"&ROWS(mars))),COUNTIF(mars,"<"&mars))),ROW(INDIRECT("1:"&ROWS(mars)))),COUNTIF(mars,"<"&mars),0)),"")} | T4: {=IFERROR(INDEX(avr,MATCH(SMALL(IF(avr<>"",IF(MATCH(avr,avr,0)=ROW(INDIRECT("1:"&ROWS(avr))),COUNTIF(avr,"<"&avr))),ROW(INDIRECT("1:"&ROWS(avr)))),COUNTIF(avr,"<"&avr),0)),"")} | U4: {=IFERROR(INDEX(mai,MATCH(SMALL(IF(mai<>"",IF(MATCH(mai,mai,0)=ROW(INDIRECT("1:"&ROWS(mai))),COUNTIF(mai,"<"&mai))),ROW(INDIRECT("1:"&ROWS(mai)))),COUNTIF(mai,"<"&mai),0)),"")} | V4: {=IFERROR(INDEX(juin,MATCH(SMALL(IF(juin<>"",IF(MATCH(juin,juin,0)=ROW(INDIRECT("1:"&ROWS(juin))),COUNTIF(juin,"<"&juin))),ROW(INDIRECT("1:"&ROWS(juin)))),COUNTIF(juin,"<"&juin),0)),"")} | W4: {=IFERROR(INDEX(juil,MATCH(SMALL(IF(juil<>"",IF(MATCH(juil,juil,0)=ROW(INDIRECT("1:"&ROWS(juil))),COUNTIF(juil,"<"&juil))),ROW(INDIRECT("1:"&ROWS(juil)))),COUNTIF(juil,"<"&juil),0)),"")} | X4: {=IFERROR(INDEX(août,MATCH(SMALL(IF(août<>"",IF(MATCH(août,août,0)=ROW(INDIRECT("1:"&ROWS(août))),COUNTIF(août,"<"&août))),ROW(INDIRECT("1:"&ROWS(août)))),COUNTIF(août,"<"&août),0)),"")} | Y4: {=IFERROR(INDEX(sept,MATCH(SMALL(IF(sept<>"",IF(MATCH(sept,sept,0)=ROW(INDIRECT("1:"&ROWS(sept))),COUNTIF(sept,"<"&sept))),ROW(INDIRECT("1:"&ROWS(sept)))),COUNTIF(sept,"<"&sept),0)),"")} | Z4: {=IFERROR(INDEX(oct,MATCH(SMALL(IF(oct<>"",IF(MATCH(oct,oct,0)=ROW(INDIRECT("1:"&ROWS(oct))),COUNTIF(oct,"<"&oct))),ROW(INDIRECT("1:"&ROWS(oct)))),COUNTIF(oct,"<"&oct),0)),"")} | AA4: {=IFERROR(INDEX(nov,MATCH(SMALL(IF(nov<>"",IF(MATCH(nov,nov,0)=ROW(INDIRECT("1:"&ROWS(nov))),COUNTIF(nov,"<"&nov))),ROW(INDIRECT("1:"&ROWS(nov)))),COUNTIF(nov,"<"&nov),0)),"")} | AB4: {=IFERROR(INDEX(déc,MATCH(SMALL(IF(déc<>"",IF(MATCH(déc,déc,0)=ROW(INDIRECT("1:"&ROWS(déc))),COUNTIF(déc,"<"&déc))),ROW(INDIRECT("1:"&ROWS(déc)))),COUNTIF(déc,"<"&déc),0)),"")}
B5: Agent 3 | C5: =IF(B5="","",IFERROR(INDIRECT("jan.!AH"&MATCH(B5,'jan.'!B$5:B$24,0)+4,1),"")) | D5: =IF(B5="","",IFERROR(INDIRECT("fév.!AH"&MATCH(B5,'fév.'!B$5:B$24,0)+4,1),"")) -> 10 | E5: =IF(B5="","",IFERROR(INDIRECT("mars!AH"&MATCH(B5,mars!B$5:B$24,0)+4,1),"")) | F5: =IF(B5="","",IFERROR(INDIRECT("avr.!AH"&MATCH(B5,'avr.'!B$5:B$24,0)+4,1),"")) | G5: =IF(B5="","",IFERROR(INDIRECT("mai!AH"&MATCH(B5,mai!B$5:B$24,0)+4,1),"")) -> 2 | H5: =IF(B5="","",IFERROR(INDIRECT("juin!AH"&MATCH(B5,juin!B$5:B$24,0)+4,1),"")) | I5: =IF(B5="","",IFERROR(INDIRECT("juil.!AH"&MATCH(B5,'juil.'!B$5:B$24,0)+4,1),"")) | J5: =IF(B5="","",IFERROR(INDIRECT("août!AH"&MATCH(B5,août!B$5:B$24,0)+4,1),"")) | K5: =IF(B5="","",IFERROR(INDIRECT("sept.!AH"&MATCH(B5,'sept.'!B$5:B$24,0)+4,1),"")) | L5: =IF(B5="","",IFERROR(INDIRECT("oct.!AH"&MATCH(B5,'oct.'!B$5:B$24,0)+4,1),"")) | M5: =IF(B5="","",IFERROR(INDIRECT("nov.!AH"&MATCH(B5,'nov.'!B$5:B$24,0)+4,1),"")) | N5: =IF(B5="","",IFERROR(INDIRECT("déc.!AH"&MATCH(B5,'déc.'!B$5:B$24,0)+4,1),"")) | O5: =SUM(C5:N5) -> 12
B6: Agent 5 | C6: =IF(B6="","",IFERROR(INDIRECT("jan.!AH"&MATCH(B6,'jan.'!B$5:B$24,0)+4,1),"")) -> 19 | D6: =IF(B6="","",IFERROR(INDIRECT("fév.!AH"&MATCH(B6,'fév.'!B$5:B$24,0)+4,1),"")) | E6: =IF(B6="","",IFERROR(INDIRECT("mars!AH"&MATCH(B6,mars!B$5:B$24,0)+4,1),"")) | F6: =IF(B6="","",IFERROR(INDIRECT("avr.!AH"&MATCH(B6,'avr.'!B$5:B$24,0)+4,1),"")) | G6: =IF(B6="","",IFERROR(INDIRECT("mai!AH"&MATCH(B6,mai!B$5:B$24,0)+4,1),"")) | H6: =IF(B6="","",IFERROR(INDIRECT("juin!AH"&MATCH(B6,juin!B$5:B$24,0)+4,1),"")) -> 1 | I6: =IF(B6="","",IFERROR(INDIRECT("juil.!AH"&MATCH(B6,'juil.'!B$5:B$24,0)+4,1),"")) | J6: =IF(B6="","",IFERROR(INDIRECT("août!AH"&MATCH(B6,août!B$5:B$24,0)+4,1),"")) | K6: =IF(B6="","",IFERROR(INDIRECT("sept.!AH"&MATCH(B6,'sept.'!B$5:B$24,0)+4,1),"")) | L6: =IF(B6="","",IFERROR(INDIRECT("oct.!AH"&MATCH(B6,'oct.'!B$5:B$24,0)+4,1),"")) | M6: =IF(B6="","",IFERROR(INDIRECT("nov.!AH"&MATCH(B6,'nov.'!B$5:B$24,0)+4,1),"")) | N6: =IF(B6="","",IFERROR(INDIRECT("déc.!AH"&MATCH(B6,'déc.'!B$5:B$24,0)+4,1),"")) | O6: =SUM(C6:N6) -> 20
B7: Agent 6 | C7: =IF(B7="","",IFERROR(INDIRECT("jan.!AH"&MATCH(B7,'jan.'!B$5:B$24,0)+4,1),"")) | D7: =IF(B7="","",IFERROR(INDIRECT("fév.!AH"&MATCH(B7,'fév.'!B$5:B$24,0)+4,1),"")) | E7: =IF(B7="","",IFERROR(INDIRECT("mars!AH"&MATCH(B7,mars!B$5:B$24,0)+4,1),"")) | F7: =IF(B7="","",IFERROR(INDIRECT("avr.!AH"&MATCH(B7,'avr.'!B$5:B$24,0)+4,1),"")) | G7: =IF(B7="","",IFERROR(INDIRECT("mai!AH"&MATCH(B7,mai!B$5:B$24,0)+4,1),"")) -> 2 | H7: =IF(B7="","",IFERROR(INDIRECT("juin!AH"&MATCH(B7,juin!B$5:B$24,0)+4,1),"")) | I7: =IF(B7="","",IFERROR(INDIRECT("juil.!AH"&MATCH(B7,'juil.'!B$5:B$24,0)+4,1),"")) | J7: =IF(B7="","",IFERROR(INDIRECT("août!AH"&MATCH(B7,août!B$5:B$24,0)+4,1),"")) | K7: =IF(B7="","",IFERROR(INDIRECT("sept.!AH"&MATCH(B7,'sept.'!B$5:B$24,0)+4,1),"")) | L7: =IF(B7="","",IFERROR(INDIRECT("oct.!AH"&MATCH(B7,'oct.'!B$5:B$24,0)+4,1),"")) -> 1 | M7: =IF(B7="","",IFERROR(INDIRECT("nov.!AH"&MATCH(B7,'nov.'!B$5:B$24,0)+4,1),"")) | N7: =IF(B7="","",IFERROR(INDIRECT("déc.!AH"&MATCH(B7,'déc.'!B$5:B$24,0)+4,1),"")) | O7: =SUM(C7:N7) -> 3
B8: Agent 7 | C8: =IF(B8="","",IFERROR(INDIRECT("jan.!AH"&MATCH(B8,'jan.'!B$5:B$24,0)+4,1),"")) | D8: =IF(B8="","",IFERROR(INDIRECT("fév.!AH"&MATCH(B8,'fév.'!B$5:B$24,0)+4,1),"")) | E8: =IF(B8="","",IFERROR(INDIRECT("mars!AH"&MATCH(B8,mars!B$5:B$24,0)+4,1),"")) | F8: =IF(B8="","",IFERROR(INDIRECT("avr.!AH"&MATCH(B8,'avr.'!B$5:B$24,0)+4,1),"")) -> 5 | G8: =IF(B8="","",IFERROR(INDIRECT("mai!AH"&MATCH(B8,mai!B$5:B$24,0)+4,1),"")) | H8: =IF(B8="","",IFERROR(INDIRECT("juin!AH"&MATCH(B8,juin!B$5:B$24,0)+4,1),"")) | I8: =IF(B8="","",IFERROR(INDIRECT("juil.!AH"&MATCH(B8,'juil.'!B$5:B$24,0)+4,1),"")) | J8: =IF(B8="","",IFERROR(INDIRECT("août!AH"&MATCH(B8,août!B$5:B$24,0)+4,1),"")) | K8: =IF(B8="","",IFERROR(INDIRECT("sept.!AH"&MATCH(B8,'sept.'!B$5:B$24,0)+4,1),"")) | L8: =IF(B8="","",IFERROR(INDIRECT("oct.!AH"&MATCH(B8,'oct.'!B$5:B$24,0)+4,1),"")) | M8: =IF(B8="","",IFERROR(INDIRECT("nov.!AH"&MATCH(B8,'nov.'!B$5:B$24,0)+4,1),"")) | N8: =IF(B8="","",IFERROR(INDIRECT("déc.!AH"&MATCH(B8,'déc.'!B$5:B$24,0)+4,1),"")) | O8: =SUM(C8:N8) -> 5
B9: Agent 8 | C9: =IF(B9="","",IFERROR(INDIRECT("jan.!AH"&MATCH(B9,'jan.'!B$5:B$24,0)+4,1),"")) -> 2 | D9: =IF(B9="","",IFERROR(INDIRECT("fév.!AH"&MATCH(B9,'fév.'!B$5:B$24,0)+4,1),"")) -> 3 | E9: =IF(B9="","",IFERROR(INDIRECT("mars!AH"&MATCH(B9,mars!B$5:B$24,0)+4,1),"")) | F9: =IF(B9="","",IFERROR(INDIRECT("avr.!AH"&MATCH(B9,'avr.'!B$5:B$24,0)+4,1),"")) | G9: =IF(B9="","",IFERROR(INDIRECT("mai!AH"&MATCH(B9,mai!B$5:B$24,0)+4,1),"")) | H9: =IF(B9="","",IFERROR(INDIRECT("juin!AH"&MATCH(B9,juin!B$5:B$24,0)+4,1),"")) -> 1 | I9: =IF(B9="","",IFERROR(INDIRECT("juil.!AH"&MATCH(B9,'juil.'!B$5:B$24,0)+4,1),"")) | J9: =IF(B9="","",IFERROR(INDIRECT("août!AH"&MATCH(B9,août!B$5:B$24,0)+4,1),"")) | K9: =IF(B9="","",IFERROR(INDIRECT("sept.!AH"&MATCH(B9,'sept.'!B$5:B$24,0)+4,1),"")) | L9: =IF(B9="","",IFERROR(INDIRECT("oct.!AH"&MATCH(B9,'oct.'!B$5:B$24,0)+4,1),"")) | M9: =IF(B9="","",IFERROR(INDIRECT("nov.!AH"&MATCH(B9,'nov.'!B$5:B$24,0)+4,1),"")) | N9: =IF(B9="","",IFERROR(INDIRECT("déc.!AH"&MATCH(B9,'déc.'!B$5:B$24,0)+4,1),"")) | O9: =SUM(C9:N9) -> 6
B10: Agent 10 | C10: =IF(B10="","",IFERROR(INDIRECT("jan.!AH"&MATCH(B10,'jan.'!B$5:B$24,0)+4,1),"")) -> 1 | D10: =IF(B10="","",IFERROR(INDIRECT("fév.!AH"&MATCH(B10,'fév.'!B$5:B$24,0)+4,1),"")) | E10: =IF(B10="","",IFERROR(INDIRECT("mars!AH"&MATCH(B10,mars!B$5:B$24,0)+4,1),"")) | F10: =IF(B10="","",IFERROR(INDIRECT("avr.!AH"&MATCH(B10,'avr.'!B$5:B$24,0)+4,1),"")) | G10: =IF(B10="","",IFERROR(INDIRECT("mai!AH"&MATCH(B10,mai!B$5:B$24,0)+4,1),"")) | H10: =IF(B10="","",IFERROR(INDIRECT("juin!AH"&MATCH(B10,juin!B$5:B$24,0)+4,1),"")) | I10: =IF(B10="","",IFERROR(INDIRECT("juil.!AH"&MATCH(B10,'juil.'!B$5:B$24,0)+4,1),"")) | J10: =IF(B10="","",IFERROR(INDIRECT("août!AH"&MATCH(B10,août!B$5:B$24,0)+4,1),"")) | K10: =IF(B10="","",IFERROR(INDIRECT("sept.!AH"&MATCH(B10,'sept.'!B$5:B$24,0)+4,1),"")) | L10: =IF(B10="","",IFERROR(INDIRECT("oct.!AH"&MATCH(B10,'oct.'!B$5:B$24,0)+4,1),"")) | M10: =IF(B10="","",IFERROR(INDIRECT("nov.!AH"&MATCH(B10,'nov.'!B$5:B$24,0)+4,1),"")) | N10: =IF(B10="","",IFERROR(INDIRECT("déc.!AH"&MATCH(B10,'déc.'!B$5:B$24,0)+4,1),"")) | O10: =SUM(C10:N10) -> 1
B11: Agent 11 | C11: =IF(B11="","",IFERROR(INDIRECT("jan.!AH"&MATCH(B11,'jan.'!B$5:B$24,0)+4,1),"")) | D11: =IF(B11="","",IFERROR(INDIRECT("fév.!AH"&MATCH(B11,'fév.'!B$5:B$24,0)+4,1),"")) | E11: =IF(B11="","",IFERROR(INDIRECT("mars!AH"&MATCH(B11,mars!B$5:B$24,0)+4,1),"")) -> 5 | F11: =IF(B11="","",IFERROR(INDIRECT("avr.!AH"&MATCH(B11,'avr.'!B$5:B$24,0)+4,1),"")) | G11: =IF(B11="","",IFERROR(INDIRECT("mai!AH"&MATCH(B11,mai!B$5:B$24,0)+4,1),"")) | H11: =IF(B11="","",IFERROR(INDIRECT("juin!AH"&MATCH(B11,juin!B$5:B$24,0)+4,1),"")) | I11: =IF(B11="","",IFERROR(INDIRECT("juil.!AH"&MATCH(B11,'juil.'!B$5:B$24,0)+4,1),"")) | J11: =IF(B11="","",IFERROR(INDIRECT("août!AH"&MATCH(B11,août!B$5:B$24,0)+4,1),"")) | K11: =IF(B11="","",IFERROR(INDIRECT("sept.!AH"&MATCH(B11,'sept.'!B$5:B$24,0)+4,1),"")) | L11: =IF(B11="","",IFERROR(INDIRECT("oct.!AH"&MATCH(B11,'oct.'!B$5:B$24,0)+4,1),"")) | M11: =IF(B11="","",IFERROR(INDIRECT("nov.!AH"&MATCH(B11,'nov.'!B$5:B$24,0)+4,1),"")) | N11: =IF(B11="","",IFERROR(INDIRECT("déc.!AH"&MATCH(B11,'déc.'!B$5:B$24,0)+4,1),"")) -> 5 | O11: =SUM(C11:N11) -> 10
B12: Agent 12 | C12: =IF(B12="","",IFERROR(INDIRECT("jan.!AH"&MATCH(B12,'jan.'!B$5:B$24,0)+4,1),"")) | D12: =IF(B12="","",IFERROR(INDIRECT("fév.!AH"&MATCH(B12,'fév.'!B$5:B$24,0)+4,1),"")) | E12: =IF(B12="","",IFERROR(INDIRECT("mars!AH"&MATCH(B12,mars!B$5:B$24,0)+4,1),"")) | F12: =IF(B12="","",IFERROR(INDIRECT("avr.!AH"&MATCH(B12,'avr.'!B$5:B$24,0)+4,1),"")) | G12: =IF(B12="","",IFERROR(INDIRECT("mai!AH"&MATCH(B12,mai!B$5:B$24,0)+4,1),"")) | H12: =IF(B12="","",IFERROR(INDIRECT("juin!AH"&MATCH(B12,juin!B$5:B$24,0)+4,1),"")) -> 1 | I12: =IF(B12="","",IFERROR(INDIRECT("juil.!AH"&MATCH(B12,'juil.'!B$5:B$24,0)+4,1),"")) | J12: =IF(B12="","",IFERROR(INDIRECT("août!AH"&MATCH(B12,août!B$5:B$24,0)+4,1),"")) | K12: =IF(B12="","",IFERROR(INDIRECT("sept.!AH"&MATCH(B12,'sept.'!B$5:B$24,0)+4,1),"")) | L12: =IF(B12="","",IFERROR(INDIRECT("oct.!AH"&MATCH(B12,'oct.'!B$5:B$24,0)+4,1),"")) | M12: =IF(B12="","",IFERROR(INDIRECT("nov.!AH"&MATCH(B12,'nov.'!B$5:B$24,0)+4,1),"")) | N12: =IF(B12="","",IFERROR(INDIRECT("déc.!AH"&MATCH(B12,'déc.'!B$5:B$24,0)+4,1),"")) | O12: =SUM(C12:N12) -> 1
B13: Agent 13 | C13: =IF(B13="","",IFERROR(INDIRECT("jan.!AH"&MATCH(B13,'jan.'!B$5:B$24,0)+4,1),"")) | D13: =IF(B13="","",IFERROR(INDIRECT("fév.!AH"&MATCH(B13,'fév.'!B$5:B$24,0)+4,1),"")) | E13: =IF(B13="","",IFERROR(INDIRECT("mars!AH"&MATCH(B13,mars!B$5:B$24,0)+4,1),"")) | F13: =IF(B13="","",IFERROR(INDIRECT("avr.!AH"&MATCH(B13,'avr.'!B$5:B$24,0)+4,1),"")) -> 2 | G13: =IF(B13="","",IFERROR(INDIRECT("mai!AH"&MATCH(B13,mai!B$5:B$24,0)+4,1),"")) | H13: =IF(B13="","",IFERROR(INDIRECT("juin!AH"&MATCH(B13,juin!B$5:B$24,0)+4,1),"")) | I13: =IF(B13="","",IFERROR(INDIRECT("juil.!AH"&MATCH(B13,'juil.'!B$5:B$24,0)+4,1),"")) | J13: =IF(B13="","",IFERROR(INDIRECT("août!AH"&MATCH(B13,août!B$5:B$24,0)+4,1),"")) | K13: =IF(B13="","",IFERROR(INDIRECT("sept.!AH"&MATCH(B13,'sept.'!B$5:B$24,0)+4,1),"")) | L13: =IF(B13="","",IFERROR(INDIRECT("oct.!AH"&MATCH(B13,'oct.'!B$5:B$24,0)+4,1),"")) | M13: =IF(B13="","",IFERROR(INDIRECT("nov.!AH"&MATCH(B13,'nov.'!B$5:B$24,0)+4,1),"")) | N13: =IF(B13="","",IFERROR(INDIRECT("déc.!AH"&MATCH(B13,'déc.'!B$5:B$24,0)+4,1),"")) | O13: =SUM(C13:N13) -> 2
B14: Agent 14 | C14: =IF(B14="","",IFERROR(INDIRECT("jan.!AH"&MATCH(B14,'jan.'!B$5:B$24,0)+4,1),"")) | D14: =IF(B14="","",IFERROR(INDIRECT("fév.!AH"&MATCH(B14,'fév.'!B$5:B$24,0)+4,1),"")) | E14: =IF(B14="","",IFERROR(INDIRECT("mars!AH"&MATCH(B14,mars!B$5:B$24,0)+4,1),"")) | F14: =IF(B14="","",IFERROR(INDIRECT("avr.!AH"&MATCH(B14,'avr.'!B$5:B$24,0)+4,1),"")) | G14: =IF(B14="","",IFERROR(INDIRECT("mai!AH"&MATCH(B14,mai!B$5:B$24,0)+4,1),"")) | H14: =IF(B14="","",IFERROR(INDIRECT("juin!AH"&MATCH(B14,juin!B$5:B$24,0)+4,1),"")) | I14: =IF(B14="","",IFERROR(INDIRECT("juil.!AH"&MATCH(B14,'juil.'!B$5:B$24,0)+4,1),"")) -> 3 | J14: =IF(B14="","",IFERROR(INDIRECT("août!AH"&MATCH(B14,août!B$5:B$24,0)+4,1),"")) | K14: =IF(B14="","",IFERROR(INDIRECT("sept.!AH"&MATCH(B14,'sept.'!B$5:B$24,0)+4,1),"")) | L14: =IF(B14="","",IFERROR(INDIRECT("oct.!AH"&MATCH(B14,'oct.'!B$5:B$24,0)+4,1),"")) | M14: =IF(B14="","",IFERROR(INDIRECT("nov.!AH"&MATCH(B14,'nov.'!B$5:B$24,0)+4,1),"")) | N14: =IF(B14="","",IFERROR(INDIRECT("déc.!AH"&MATCH(B14,'déc.'!B$5:B$24,0)+4,1),"")) | O14: =SUM(C14:N14) -> 3
B15: Agent 17 | C15: =IF(B15="","",IFERROR(INDIRECT("jan.!AH"&MATCH(B15,'jan.'!B$5:B$24,0)+4,1),"")) | D15: =IF(B15="","",IFERROR(INDIRECT("fév.!AH"&MATCH(B15,'fév.'!B$5:B$24,0)+4,1),"")) | E15: =IF(B15="","",IFERROR(INDIRECT("mars!AH"&MATCH(B15,mars!B$5:B$24,0)+4,1),"")) -> 5 | F15: =IF(B15="","",IFERROR(INDIRECT("avr.!AH"&MATCH(B15,'avr.'!B$5:B$24,0)+4,1),"")) | G15: =IF(B15="","",IFERROR(INDIRECT("mai!AH"&MATCH(B15,mai!B$5:B$24,0)+4,1),"")) | H15: =IF(B15="","",IFERROR(INDIRECT("juin!AH"&MATCH(B15,juin!B$5:B$24,0)+4,1),"")) | I15: =IF(B15="","",IFERROR(INDIRECT("juil.!AH"&MATCH(B15,'juil.'!B$5:B$24,0)+4,1),"")) | J15: =IF(B15="","",IFERROR(INDIRECT("août!AH"&MATCH(B15,août!B$5:B$24,0)+4,1),"")) | K15: =IF(B15="","",IFERROR(INDIRECT("sept.!AH"&MATCH(B15,'sept.'!B$5:B$24,0)+4,1),"")) | L15: =IF(B15="","",IFERROR(INDIRECT("oct.!AH"&MATCH(B15,'oct.'!B$5:B$24,0)+4,1),"")) | M15: =IF(B15="","",IFERROR(INDIRECT("nov.!AH"&MATCH(B15,'nov.'!B$5:B$24,0)+4,1),"")) -> 1 | N15: =IF(B15="","",IFERROR(INDIRECT("déc.!AH"&MATCH(B15,'déc.'!B$5:B$24,0)+4,1),"")) | O15: =SUM(C15:N15) -> 6
B16: Agent 18 | C16: =IF(B16="","",IFERROR(INDIRECT("jan.!AH"&MATCH(B16,'jan.'!B$5:B$24,0)+4,1),"")) | D16: =IF(B16="","",IFERROR(INDIRECT("fév.!AH"&MATCH(B16,'fév.'!B$5:B$24,0)+4,1),"")) | E16: =IF(B16="","",IFERROR(INDIRECT("mars!AH"&MATCH(B16,mars!B$5:B$24,0)+4,1),"")) | F16: =IF(B16="","",IFERROR(INDIRECT("avr.!AH"&MATCH(B16,'avr.'!B$5:B$24,0)+4,1),"")) | G16: =IF(B16="","",IFERROR(INDIRECT("mai!AH"&MATCH(B16,mai!B$5:B$24,0)+4,1),"")) | H16: =IF(B16="","",IFERROR(INDIRECT("juin!AH"&MATCH(B16,juin!B$5:B$24,0)+4,1),"")) | I16: =IF(B16="","",IFERROR(INDIRECT("juil.!AH"&MATCH(B16,'juil.'!B$5:B$24,0)+4,1),"")) | J16: =IF(B16="","",IFERROR(INDIRECT("août!AH"&MATCH(B16,août!B$5:B$24,0)+4,1),"")) -> 1 | K16: =IF(B16="","",IFERROR(INDIRECT("sept.!AH"&MATCH(B16,'sept.'!B$5:B$24,0)+4,1),"")) | L16: =IF(B16="","",IFERROR(INDIRECT("oct.!AH"&MATCH(B16,'oct.'!B$5:B$24,0)+4,1),"")) | M16: =IF(B16="","",IFERROR(INDIRECT("nov.!AH"&MATCH(B16,'nov.'!B$5:B$24,0)+4,1),"")) | N16: =IF(B16="","",IFERROR(INDIRECT("déc.!AH"&MATCH(B16,'déc.'!B$5:B$24,0)+4,1),"")) | O16: =SUM(C16:N16) -> 1
... B19: Agent 39 | C19: =IF(B19="","",IFERROR(INDIRECT("jan.!AH"&MATCH(B19,'jan.'!B$5:B$24,0)+4,1),"")) -> 1 | D19: =IF(B19="","",IFERROR(INDIRECT("fév.!AH"&MATCH(B19,'fév.'!B$5:B$24,0)+4,1),"")) | E19: =IF(B19="","",IFERROR(INDIRECT("mars!AH"&MATCH(B19,mars!B$5:B$24,0)+4,1),"")) | F19: =IF(B19="","",IFERROR(INDIRECT("avr.!AH"&MATCH(B19,'avr.'!B$5:B$24,0)+4,1),"")) | G19: =IF(B19="","",IFERROR(INDIRECT("mai!AH"&MATCH(B19,mai!B$5:B$24,0)+4,1),"")) | H19: =IF(B19="","",IFERROR(INDIRECT("juin!AH"&MATCH(B19,juin!B$5:B$24,0)+4,1),"")) | I19: =IF(B19="","",IFERROR(INDIRECT("juil.!AH"&MATCH(B19,'juil.'!B$5:B$24,0)+4,1),"")) | J19: =IF(B19="","",IFERROR(INDIRECT("août!AH"&MATCH(B19,août!B$5:B$24,0)+4,1),"")) | K19: =IF(B19="","",IFERROR(INDIRECT("sept.!AH"&MATCH(B19,'sept.'!B$5:B$24,0)+4,1),"")) -> 3 | L19: =IF(B19="","",IFERROR(INDIRECT("oct.!AH"&MATCH(B19,'oct.'!B$5:B$24,0)+4,1),"")) | M19: =IF(B19="","",IFERROR(INDIRECT("nov.!AH"&MATCH(B19,'nov.'!B$5:B$24,0)+4,1),"")) | N19: =IF(B19="","",IFERROR(INDIRECT("déc.!AH"&MATCH(B19,'déc.'!B$5:B$24,0)+4,1),"")) | O19: =SUM(C19:N19) -> 4
C20: =IF(B20="","",IFERROR(INDIRECT("jan.!AH"&MATCH(B20,'jan.'!B$5:B$24,0)+4,1),"")) | D20: =IF(B20="","",IFERROR(INDIRECT("fév.!AH"&MATCH(B20,'fév.'!B$5:B$24,0)+4,1),"")) | E20: =IF(B20="","",IFERROR(INDIRECT("mars!AH"&MATCH(B20,mars!B$5:B$24,0)+4,1),"")) | F20: =IF(B20="","",IFERROR(INDIRECT("avr.!AH"&MATCH(B20,'avr.'!B$5:B$24,0)+4,1),"")) | G20: =IF(B20="","",IFERROR(INDIRECT("mai!AH"&MATCH(B20,mai!B$5:B$24,0)+4,1),"")) | H20: =IF(B20="","",IFERROR(INDIRECT("juin!AH"&MATCH(B20,juin!B$5:B$24,0)+4,1),"")) | I20: =IF(B20="","",IFERROR(INDIRECT("juil.!AH"&MATCH(B20,'juil.'!B$5:B$24,0)+4,1),"")) | J20: =IF(B20="","",IFERROR(INDIRECT("août!AH"&MATCH(B20,août!B$5:B$24,0)+4,1),"")) | K20: =IF(B20="","",IFERROR(INDIRECT("sept.!AH"&MATCH(B20,'sept.'!B$5:B$24,0)+4,1),"")) | L20: =IF(B20="","",IFERROR(INDIRECT("oct.!AH"&MATCH(B20,'oct.'!B$5:B$24,0)+4,1),"")) | M20: =IF(B20="","",IFERROR(INDIRECT("nov.!AH"&MATCH(B20,'nov.'!B$5:B$24,0)+4,1),"")) | N20: =IF(B20="","",IFERROR(INDIRECT("déc.!AH"&MATCH(B20,'déc.'!B$5:B$24,0)+4,1),"")) | O20: =SUM(C20:N20) -> 0
C21: =IF(B21="","",IFERROR(INDIRECT("jan.!AH"&MATCH(B21,'jan.'!B$5:B$24,0)+4,1),"")) | D21: =IF(B21="","",IFERROR(INDIRECT("fév.!AH"&MATCH(B21,'fév.'!B$5:B$24,0)+4,1),"")) | E21: =IF(B21="","",IFERROR(INDIRECT("mars!AH"&MATCH(B21,mars!B$5:B$24,0)+4,1),"")) | F21: =IF(B21="","",IFERROR(INDIRECT("avr.!AH"&MATCH(B21,'avr.'!B$5:B$24,0)+4,1),"")) | G21: =IF(B21="","",IFERROR(INDIRECT("mai!AH"&MATCH(B21,mai!B$5:B$24,0)+4,1),"")) | H21: =IF(B21="","",IFERROR(INDIRECT("juin!AH"&MATCH(B21,juin!B$5:B$24,0)+4,1),"")) | I21: =IF(B21="","",IFERROR(INDIRECT("juil.!AH"&MATCH(B21,'juil.'!B$5:B$24,0)+4,1),"")) | J21: =IF(B21="","",IFERROR(INDIRECT("août!AH"&MATCH(B21,août!B$5:B$24,0)+4,1),"")) | K21: =IF(B21="","",IFERROR(INDIRECT("sept.!AH"&MATCH(B21,'sept.'!B$5:B$24,0)+4,1),"")) | L21: =IF(B21="","",IFERROR(INDIRECT("oct.!AH"&MATCH(B21,'oct.'!B$5:B$24,0)+4,1),"")) | M21: =IF(B21="","",IFERROR(INDIRECT("nov.!AH"&MATCH(B21,'nov.'!B$5:B$24,0)+4,1),"")) | N21: =IF(B21="","",IFERROR(INDIRECT("déc.!AH"&MATCH(B21,'déc.'!B$5:B$24,0)+4,1),"")) | O21: =SUM(C21:N21) -> 0
C22: =IF(B22="","",IFERROR(INDIRECT("jan.!AH"&MATCH(B22,'jan.'!B$5:B$24,0)+4,1),"")) | D22: =IF(B22="","",IFERROR(INDIRECT("fév.!AH"&MATCH(B22,'fév.'!B$5:B$24,0)+4,1),"")) | E22: =IF(B22="","",IFERROR(INDIRECT("mars!AH"&MATCH(B22,mars!B$5:B$24,0)+4,1),"")) | F22: =IF(B22="","",IFERROR(INDIRECT("avr.!AH"&MATCH(B22,'avr.'!B$5:B$24,0)+4,1),"")) | G22: =IF(B22="","",IFERROR(INDIRECT("mai!AH"&MATCH(B22,mai!B$5:B$24,0)+4,1),"")) | H22: =IF(B22="","",IFERROR(INDIRECT("juin!AH"&MATCH(B22,juin!B$5:B$24,0)+4,1),"")) | I22: =IF(B22="","",IFERROR(INDIRECT("juil.!AH"&MATCH(B22,'juil.'!B$5:B$24,0)+4,1),"")) | J22: =IF(B22="","",IFERROR(INDIRECT("août!AH"&MATCH(B22,août!B$5:B$24,0)+4,1),"")) | K22: =IF(B22="","",IFERROR(INDIRECT("sept.!AH"&MATCH(B22,'sept.'!B$5:B$24,0)+4,1),"")) | L22: =IF(B22="","",IFERROR(INDIRECT("oct.!AH"&MATCH(B22,'oct.'!B$5:B$24,0)+4,1),"")) | M22: =IF(B22="","",IFERROR(INDIRECT("nov.!AH"&MATCH(B22,'nov.'!B$5:B$24,0)+4,1),"")) | N22: =IF(B22="","",IFERROR(INDIRECT("déc.!AH"&MATCH(B22,'déc.'!B$5:B$24,0)+4,1),"")) | O22: =SUM(C22:N22) -> 0
C23: =IF(B23="","",IFERROR(INDIRECT("jan.!AH"&MATCH(B23,'jan.'!B$5:B$24,0)+4,1),"")) | D23: =IF(B23="","",IFERROR(INDIRECT("fév.!AH"&MATCH(B23,'fév.'!B$5:B$24,0)+4,1),"")) | E23: =IF(B23="","",IFERROR(INDIRECT("mars!AH"&MATCH(B23,mars!B$5:B$24,0)+4,1),"")) | F23: =IF(B23="","",IFERROR(INDIRECT("avr.!AH"&MATCH(B23,'avr.'!B$5:B$24,0)+4,1),"")) | G23: =IF(B23="","",IFERROR(INDIRECT("mai!AH"&MATCH(B23,mai!B$5:B$24,0)+4,1),"")) | H23: =IF(B23="","",IFERROR(INDIRECT("juin!AH"&MATCH(B23,juin!B$5:B$24,0)+4,1),"")) | I23: =IF(B23="","",IFERROR(INDIRECT("juil.!AH"&MATCH(B23,'juil.'!B$5:B$24,0)+4,1),"")) | J23: =IF(B23="","",IFERROR(INDIRECT("août!AH"&MATCH(B23,août!B$5:B$24,0)+4,1),"")) | K23: =IF(B23="","",IFERROR(INDIRECT("sept.!AH"&MATCH(B23,'sept.'!B$5:B$24,0)+4,1),"")) | L23: =IF(B23="","",IFERROR(INDIRECT("oct.!AH"&MATCH(B23,'oct.'!B$5:B$24,0)+4,1),"")) | M23: =IF(B23="","",IFERROR(INDIRECT("nov.!AH"&MATCH(B23,'nov.'!B$5:B$24,0)+4,1),"")) | N23: =IF(B23="","",IFERROR(INDIRECT("déc.!AH"&MATCH(B23,'déc.'!B$5:B$24,0)+4,1),"")) | O23: =SUM(C23:N23) -> 0
C24: =IF(B24="","",IFERROR(INDIRECT("jan.!AH"&MATCH(B24,'jan.'!B$5:B$24,0)+4,1),"")) | D24: =IF(B24="","",IFERROR(INDIRECT("fév.!AH"&MATCH(B24,'fév.'!B$5:B$24,0)+4,1),"")) | E24: =IF(B24="","",IFERROR(INDIRECT("mars!AH"&MATCH(B24,mars!B$5:B$24,0)+4,1),"")) | F24: =IF(B24="","",IFERROR(INDIRECT("avr.!AH"&MATCH(B24,'avr.'!B$5:B$24,0)+4,1),"")) | G24: =IF(B24="","",IFERROR(INDIRECT("mai!AH"&MATCH(B24,mai!B$5:B$24,0)+4,1),"")) | H24: =IF(B24="","",IFERROR(INDIRECT("juin!AH"&MATCH(B24,juin!B$5:B$24,0)+4,1),"")) | I24: =IF(B24="","",IFERROR(INDIRECT("juil.!AH"&MATCH(B24,'juil.'!B$5:B$24,0)+4,1),"")) | J24: =IF(B24="","",IFERROR(INDIRECT("août!AH"&MATCH(B24,août!B$5:B$24,0)+4,1),"")) | K24: =IF(B24="","",IFERROR(INDIRECT("sept.!AH"&MATCH(B24,'sept.'!B$5:B$24,0)+4,1),"")) | L24: =IF(B24="","",IFERROR(INDIRECT("oct.!AH"&MATCH(B24,'oct.'!B$5:B$24,0)+4,1),"")) | M24: =IF(B24="","",IFERROR(INDIRECT("nov.!AH"&MATCH(B24,'nov.'!B$5:B$24,0)+4,1),"")) | N24: =IF(B24="","",IFERROR(INDIRECT("déc.!AH"&MATCH(B24,'déc.'!B$5:B$24,0)+4,1),"")) | O24: =SUM(C24:N24) -> 0
C25: =IF(B25="","",IFERROR(INDIRECT("jan.!AH"&MATCH(B25,'jan.'!B$5:B$24,0)+4,1),"")) | D25: =IF(B25="","",IFERROR(INDIRECT("fév.!AH"&MATCH(B25,'fév.'!B$5:B$24,0)+4,1),"")) | E25: =IF(B25="","",IFERROR(INDIRECT("mars!AH"&MATCH(B25,mars!B$5:B$24,0)+4,1),"")) | F25: =IF(B25="","",IFERROR(INDIRECT("avr.!AH"&MATCH(B25,'avr.'!B$5:B$24,0)+4,1),"")) | G25: =IF(B25="","",IFERROR(INDIRECT("mai!AH"&MATCH(B25,mai!B$5:B$24,0)+4,1),"")) | H25: =IF(B25="","",IFERROR(INDIRECT("juin!AH"&MATCH(B25,juin!B$5:B$24,0)+4,1),"")) | I25: =IF(B25="","",IFERROR(INDIRECT("juil.!AH"&MATCH(B25,'juil.'!B$5:B$24,0)+4,1),"")) | J25: =IF(B25="","",IFERROR(INDIRECT("août!AH"&MATCH(B25,août!B$5:B$24,0)+4,1),"")) | K25: =IF(B25="","",IFERROR(INDIRECT("sept.!AH"&MATCH(B25,'sept.'!B$5:B$24,0)+4,1),"")) | L25: =IF(B25="","",IFERROR(INDIRECT("oct.!AH"&MATCH(B25,'oct.'!B$5:B$24,0)+4,1),"")) | M25: =IF(B25="","",IFERROR(INDIRECT("nov.!AH"&MATCH(B25,'nov.'!B$5:B$24,0)+4,1),"")) | N25: =IF(B25="","",IFERROR(INDIRECT("déc.!AH"&MATCH(B25,'déc.'!B$5:B$24,0)+4,1),"")) | O25: =SUM(C25:N25) -> 0
C26: =IF(B26="","",IFERROR(INDIRECT("jan.!AH"&MATCH(B26,'jan.'!B$5:B$24,0)+4,1),"")) | D26: =IF(B26="","",IFERROR(INDIRECT("fév.!AH"&MATCH(B26,'fév.'!B$5:B$24,0)+4,1),"")) | E26: =IF(B26="","",IFERROR(INDIRECT("mars!AH"&MATCH(B26,mars!B$5:B$24,0)+4,1),"")) | F26: =IF(B26="","",IFERROR(INDIRECT("avr.!AH"&MATCH(B26,'avr.'!B$5:B$24,0)+4,1),"")) | G26: =IF(B26="","",IFERROR(INDIRECT("mai!AH"&MATCH(B26,mai!B$5:B$24,0)+4,1),"")) | H26: =IF(B26="","",IFERROR(INDIRECT("juin!AH"&MATCH(B26,juin!B$5:B$24,0)+4,1),"")) | I26: =IF(B26="","",IFERROR(INDIRECT("juil.!AH"&MATCH(B26,'juil.'!B$5:B$24,0)+4,1),"")) | J26: =IF(B26="","",IFERROR(INDIRECT("août!AH"&MATCH(B26,août!B$5:B$24,0)+4,1),"")) | K26: =IF(B26="","",IFERROR(INDIRECT("sept.!AH"&MATCH(B26,'sept.'!B$5:B$24,0)+4,1),"")) | L26: =IF(B26="","",IFERROR(INDIRECT("oct.!AH"&MATCH(B26,'oct.'!B$5:B$24,0)+4,1),"")) | M26: =IF(B26="","",IFERROR(INDIRECT("nov.!AH"&MATCH(B26,'nov.'!B$5:B$24,0)+4,1),"")) | N26: =IF(B26="","",IFERROR(INDIRECT("déc.!AH"&MATCH(B26,'déc.'!B$5:B$24,0)+4,1),"")) | O26: =SUM(C26:N26) -> 0
C27: =IF(B27="","",IFERROR(INDIRECT("jan.!AH"&MATCH(B27,'jan.'!B$5:B$24,0)+4,1),"")) | D27: =IF(B27="","",IFERROR(INDIRECT("fév.!AH"&MATCH(B27,'fév.'!B$5:B$24,0)+4,1),"")) | E27: =IF(B27="","",IFERROR(INDIRECT("mars!AH"&MATCH(B27,mars!B$5:B$24,0)+4,1),"")) | F27: =IF(B27="","",IFERROR(INDIRECT("avr.!AH"&MATCH(B27,'avr.'!B$5:B$24,0)+4,1),"")) | G27: =IF(B27="","",IFERROR(INDIRECT("mai!AH"&MATCH(B27,mai!B$5:B$24,0)+4,1),"")) | H27: =IF(B27="","",IFERROR(INDIRECT("juin!AH"&MATCH(B27,juin!B$5:B$24,0)+4,1),"")) | I27: =IF(B27="","",IFERROR(INDIRECT("juil.!AH"&MATCH(B27,'juil.'!B$5:B$24,0)+4,1),"")) | J27: =IF(B27="","",IFERROR(INDIRECT("août!AH"&MATCH(B27,août!B$5:B$24,0)+4,1),"")) | K27: =IF(B27="","",IFERROR(INDIRECT("sept.!AH"&MATCH(B27,'sept.'!B$5:B$24,0)+4,1),"")) | L27: =IF(B27="","",IFERROR(INDIRECT("oct.!AH"&MATCH(B27,'oct.'!B$5:B$24,0)+4,1),"")) | M27: =IF(B27="","",IFERROR(INDIRECT("nov.!AH"&MATCH(B27,'nov.'!B$5:B$24,0)+4,1),"")) | N27: =IF(B27="","",IFERROR(INDIRECT("déc.!AH"&MATCH(B27,'déc.'!B$5:B$24,0)+4,1),"")) | O27: =SUM(C27:N27) -> 0
C28: =IF(B28="","",IFERROR(INDIRECT("jan.!AH"&MATCH(B28,'jan.'!B$5:B$24,0)+4,1),"")) | D28: =IF(B28="","",IFERROR(INDIRECT("fév.!AH"&MATCH(B28,'fév.'!B$5:B$24,0)+4,1),"")) | E28: =IF(B28="","",IFERROR(INDIRECT("mars!AH"&MATCH(B28,mars!B$5:B$24,0)+4,1),"")) | F28: =IF(B28="","",IFERROR(INDIRECT("avr.!AH"&MATCH(B28,'avr.'!B$5:B$24,0)+4,1),"")) | G28: =IF(B28="","",IFERROR(INDIRECT("mai!AH"&MATCH(B28,mai!B$5:B$24,0)+4,1),"")) | H28: =IF(B28="","",IFERROR(INDIRECT("juin!AH"&MATCH(B28,juin!B$5:B$24,0)+4,1),"")) | I28: =IF(B28="","",IFERROR(INDIRECT("juil.!AH"&MATCH(B28,'juil.'!B$5:B$24,0)+4,1),"")) | J28: =IF(B28="","",IFERROR(INDIRECT("août!AH"&MATCH(B28,août!B$5:B$24,0)+4,1),"")) | K28: =IF(B28="","",IFERROR(INDIRECT("sept.!AH"&MATCH(B28,'sept.'!B$5:B$24,0)+4,1),"")) | L28: =IF(B28="","",IFERROR(INDIRECT("oct.!AH"&MATCH(B28,'oct.'!B$5:B$24,0)+4,1),"")) | M28: =IF(B28="","",IFERROR(INDIRECT("nov.!AH"&MATCH(B28,'nov.'!B$5:B$24,0)+4,1),"")) | N28: =IF(B28="","",IFERROR(INDIRECT("déc.!AH"&MATCH(B28,'déc.'!B$5:B$24,0)+4,1),"")) | O28: =SUM(C28:N28) -> 0
C29: =IF(B29="","",IFERROR(INDIRECT("jan.!AH"&MATCH(B29,'jan.'!B$5:B$24,0)+4,1),"")) | D29: =IF(B29="","",IFERROR(INDIRECT("fév.!AH"&MATCH(B29,'fév.'!B$5:B$24,0)+4,1),"")) | E29: =IF(B29="","",IFERROR(INDIRECT("mars!AH"&MATCH(B29,mars!B$5:B$24,0)+4,1),"")) | F29: =IF(B29="","",IFERROR(INDIRECT("avr.!AH"&MATCH(B29,'avr.'!B$5:B$24,0)+4,1),"")) | G29: =IF(B29="","",IFERROR(INDIRECT("mai!AH"&MATCH(B29,mai!B$5:B$24,0)+4,1),"")) | H29: =IF(B29="","",IFERROR(INDIRECT("juin!AH"&MATCH(B29,juin!B$5:B$24,0)+4,1),"")) | I29: =IF(B29="","",IFERROR(INDIRECT("juil.!AH"&MATCH(B29,'juil.'!B$5:B$24,0)+4,1),"")) | J29: =IF(B29="","",IFERROR(INDIRECT("août!AH"&MATCH(B29,août!B$5:B$24,0)+4,1),"")) | K29: =IF(B29="","",IFERROR(INDIRECT("sept.!AH"&MATCH(B29,'sept.'!B$5:B$24,0)+4,1),"")) | L29: =IF(B29="","",IFERROR(INDIRECT("oct.!AH"&MATCH(B29,'oct.'!B$5:B$24,0)+4,1),"")) | M29: =IF(B29="","",IFERROR(INDIRECT("nov.!AH"&MATCH(B29,'nov.'!B$5:B$24,0)+4,1),"")) | N29: =IF(B29="","",IFERROR(INDIRECT("déc.!AH"&MATCH(B29,'déc.'!B$5:B$24,0)+4,1),"")) | O29: =SUM(C29:N29) -> 0
C30: =IF(B30="","",IFERROR(INDIRECT("jan.!AH"&MATCH(B30,'jan.'!B$5:B$24,0)+4,1),"")) | D30: =IF(B30="","",IFERROR(INDIRECT("fév.!AH"&MATCH(B30,'fév.'!B$5:B$24,0)+4,1),"")) | E30: =IF(B30="","",IFERROR(INDIRECT("mars!AH"&MATCH(B30,mars!B$5:B$24,0)+4,1),"")) | F30: =IF(B30="","",IFERROR(INDIRECT("avr.!AH"&MATCH(B30,'avr.'!B$5:B$24,0)+4,1),"")) | G30: =IF(B30="","",IFERROR(INDIRECT("mai!AH"&MATCH(B30,mai!B$5:B$24,0)+4,1),"")) | H30: =IF(B30="","",IFERROR(INDIRECT("juin!AH"&MATCH(B30,juin!B$5:B$24,0)+4,1),"")) | I30: =IF(B30="","",IFERROR(INDIRECT("juil.!AH"&MATCH(B30,'juil.'!B$5:B$24,0)+4,1),"")) | J30: =IF(B30="","",IFERROR(INDIRECT("août!AH"&MATCH(B30,août!B$5:B$24,0)+4,1),"")) | K30: =IF(B30="","",IFERROR(INDIRECT("sept.!AH"&MATCH(B30,'sept.'!B$5:B$24,0)+4,1),"")) | L30: =IF(B30="","",IFERROR(INDIRECT("oct.!AH"&MATCH(B30,'oct.'!B$5:B$24,0)+4,1),"")) | M30: =IF(B30="","",IFERROR(INDIRECT("nov.!AH"&MATCH(B30,'nov.'!B$5:B$24,0)+4,1),"")) | N30: =IF(B30="","",IFERROR(INDIRECT("déc.!AH"&MATCH(B30,'déc.'!B$5:B$24,0)+4,1),"")) | O30: =SUM(C30:N30) -> 0
C31: =IF(B31="","",IFERROR(INDIRECT("jan.!AH"&MATCH(B31,'jan.'!B$5:B$24,0)+4,1),"")) | D31: =IF(B31="","",IFERROR(INDIRECT("fév.!AH"&MATCH(B31,'fév.'!B$5:B$24,0)+4,1),"")) | E31: =IF(B31="","",IFERROR(INDIRECT("mars!AH"&MATCH(B31,mars!B$5:B$24,0)+4,1),"")) | F31: =IF(B31="","",IFERROR(INDIRECT("avr.!AH"&MATCH(B31,'avr.'!B$5:B$24,0)+4,1),"")) | G31: =IF(B31="","",IFERROR(INDIRECT("mai!AH"&MATCH(B31,mai!B$5:B$24,0)+4,1),"")) | H31: =IF(B31="","",IFERROR(INDIRECT("juin!AH"&MATCH(B31,juin!B$5:B$24,0)+4,1),"")) | I31: =IF(B31="","",IFERROR(INDIRECT("juil.!AH"&MATCH(B31,'juil.'!B$5:B$24,0)+4,1),"")) | J31: =IF(B31="","",IFERROR(INDIRECT("août!AH"&MATCH(B31,août!B$5:B$24,0)+4,1),"")) | K31: =IF(B31="","",IFERROR(INDIRECT("sept.!AH"&MATCH(B31,'sept.'!B$5:B$24,0)+4,1),"")) | L31: =IF(B31="","",IFERROR(INDIRECT("oct.!AH"&MATCH(B31,'oct.'!B$5:B$24,0)+4,1),"")) | M31: =IF(B31="","",IFERROR(INDIRECT("nov.!AH"&MATCH(B31,'nov.'!B$5:B$24,0)+4,1),"")) | N31: =IF(B31="","",IFERROR(INDIRECT("déc.!AH"&MATCH(B31,'déc.'!B$5:B$24,0)+4,1),"")) | O31: =SUM(C31:N31) -> 0
... C54: =IF(B54="","",IFERROR(INDIRECT("jan.!AH"&MATCH(B54,'jan.'!B$5:B$24,0)+4,1),"")) | D54: =IF(B54="","",IFERROR(INDIRECT("fév.!AH"&MATCH(B54,'fév.'!B$5:B$24,0)+4,1),"")) | E54: =IF(B54="","",IFERROR(INDIRECT("mars!AH"&MATCH(B54,mars!B$5:B$24,0)+4,1),"")) | F54: =IF(B54="","",IFERROR(INDIRECT("avr.!AH"&MATCH(B54,'avr.'!B$5:B$24,0)+4,1),"")) | G54: =IF(B54="","",IFERROR(INDIRECT("mai!AH"&MATCH(B54,mai!B$5:B$24,0)+4,1),"")) | H54: =IF(B54="","",IFERROR(INDIRECT("juin!AH"&MATCH(B54,juin!B$5:B$24,0)+4,1),"")) | I54: =IF(B54="","",IFERROR(INDIRECT("juil.!AH"&MATCH(B54,'juil.'!B$5:B$24,0)+4,1),"")) | J54: =IF(B54="","",IFERROR(INDIRECT("août!AH"&MATCH(B54,août!B$5:B$24,0)+4,1),"")) | K54: =IF(B54="","",IFERROR(INDIRECT("sept.!AH"&MATCH(B54,'sept.'!B$5:B$24,0)+4,1),"")) | L54: =IF(B54="","",IFERROR(INDIRECT("oct.!AH"&MATCH(B54,'oct.'!B$5:B$24,0)+4,1),"")) | M54: =IF(B54="","",IFERROR(INDIRECT("nov.!AH"&MATCH(B54,'nov.'!B$5:B$24,0)+4,1),"")) | N54: =IF(B54="","",IFERROR(INDIRECT("déc.!AH"&MATCH(B54,'déc.'!B$5:B$24,0)+4,1),"")) | O54: =SUM(C54:N54) -> 0
B56: =COUNTA(B4:B55) -> 16 | C56: =COUNT(C4:C55)&" agent(s)" -> 6 agent(s) | D56: =COUNT(D4:D55)&" agent(s)" -> 4 agent(s) | E56: =COUNT(E4:E55)&" agent(s)" -> 3 agent(s) | F56: =COUNT(F4:F55)&" agent(s)" -> 2 agent(s) | G56: =COUNT(G4:G55)&" agent(s)" -> 2 agent(s) | H56: =COUNT(H4:H55)&" agent(s)" -> 3 agent(s) | I56: =COUNT(I4:I55)&" agent(s)" -> 1 agent(s) | J56: =COUNT(J4:J55)&" agent(s)" -> 1 agent(s) | ... N56: =COUNT(N4:N55)&" agent(s)" -> 1 agent(s)
C57: =SUM(C4:C55)&" jour(s)" -> 38 jour(s) | D57: =SUM(D4:D55)&" jour(s)" -> 39 jour(s) | E57: =SUM(E4:E55)&" jour(s)" -> 11 jour(s) | F57: =SUM(F4:F55)&" jour(s)" -> 7 jour(s) | G57: =SUM(G4:G55)&" jour(s)" -> 4 jour(s) | H57: =SUM(H4:H55)&" jour(s)" -> 3 jour(s) | I57: =SUM(I4:I55)&" jour(s)" -> 3 jour(s) | J57: =SUM(J4:J55)&" jour(s)" -> 1 jour(s) | ... N57: =SUM(N4:N55)&" jour(s)" -> 5 jour(s) | O57: =SUM(O4:O55)&" jours de formation" -> 116 jours de formation

Sheet Résultat souhaité
B2: Formations
B3: =année -> 2019 | C3: =DATE(année,1,1) -> 43466 | D3: =DATE(année,2,1) -> 43497 | E3: =DATE(année,3,1) -> 43525 | F3: =DATE(année,4,1) -> 43556 | G3: =DATE(année,5,1) -> 43586 | H3: =DATE(année,6,1) -> 43617 | I3: =DATE(année,7,1) -> 43647 | J3: =DATE(année,8,1) -> 43678 | K3: =DATE(année,9,1) -> 43709 | L3: =DATE(année,10,1) -> 43739 | M3: =DATE(année,11,1) -> 43770 | N3: =DATE(année,12,1) -> 43800 | O3: Total jours de formation
B4: Agent 3 | G4: 2 | O4: =SUM(C4:N4) -> 2
B5: Agent 4 | D5: 1 | O5: =SUM(C5:N5) -> 1
B6: Agent 5 | C6: 2 | H6: 1 | O6: =SUM(C6:N6) -> 3
B7: Agent 6 | G7: 2 | O7: =SUM(C7:N7) -> 2
B8: Agent 8 | C8: 2 | D8: 3 | H8: 1 | O8: =SUM(C8:N8) -> 6
B9: Agent 10 | C9: 1 | O9: =SUM(C9:N9) -> 1
B10: Agent 11 | E10: 5 | N10: 5 | O10: =SUM(C10:N10) -> 10
B11: Agent 12 | C11: 3 | H11: 1 | O11: =SUM(C11:N11) -> 4
B12: Agent 17 | E12: 5 | M12: 1 | O12: =SUM(C12:N12) -> 6
B13: Agent 29 | D13: 1 | O13: =SUM(C13:N13) -> 1
B14: Agent 32 | C14: 1 | O14: =SUM(C14:N14) -> 1
B15: Agent 39 | C15: 1 | K15: 3 | O15: =SUM(C15:N15) -> 4
B16: Agent 2 | O16: =SUM(C16:N16) -> 0
O17: =SUM(C17:N17) -> 0
O18: =SUM(C18:N18) -> 0
O19: =SUM(C19:N19) -> 0
O20: =SUM(C20:N20) -> 0
O21: =SUM(C21:N21) -> 0
O22: =SUM(C22:N22) -> 0
O23: =SUM(C23:N23) -> 0
O24: =SUM(C24:N24) -> 0
C25: =COUNT(C4:C24)&" agent(s)" -> 6 agent(s) | D25: =COUNT(D4:D24)&" agent(s)" -> 3 agent(s) | E25: =COUNT(E4:E24)&" agent(s)" -> 2 agent(s) | F25: =COUNT(F4:F24)&" agent(s)" -> 0 agent(s) | G25: =COUNT(G4:G24)&" agent(s)" -> 2 agent(s) | H25: =COUNT(H4:H24)&" agent(s)" -> 3 agent(s) | I25: =COUNT(I4:I24)&" agent(s)" -> 0 agent(s) | J25: =COUNT(J4:J24)&" agent(s)" -> 0 agent(s) | ... N25: =COUNT(N4:N24)&" agent(s)" -> 1 agent(s)
C26: =SUM(C4:C24)&" jour(s)" -> 10 jour(s) | D26: =SUM(D4:D24)&" jour(s)" -> 5 jour(s) | E26: =SUM(E4:E24)&" jour(s)" -> 10 jour(s) | F26: =SUM(F4:F24)&" jour(s)" -> 0 jour(s) | G26: =SUM(G4:G24)&" jour(s)" -> 4 jour(s) | H26: =SUM(H4:H24)&" jour(s)" -> 3 jour(s) | I26: =SUM(I4:I24)&" jour(s)" -> 0 jour(s) | J26: =SUM(J4:J24)&" jour(s)" -> 0 jour(s) | ... N26: =SUM(N4:N24)&" jour(s)" -> 5 jour(s) | O26: =SUM(O4:O24)&" jours de formation" -> 41 jours de formation
