Workbook

Sheet Feuil1
A1: 44136 | Q1: =IF($A$1="Février","فيفري","") | AH1: =DATE(A3,1,1) -> 43831 | AI1: 2020
AH2: =EOMONTH(AH1,0)+1 -> 43862 | AI2: 2021
A3: 2020 | AH3: =EOMONTH(AH2,0)+1 -> 43891 | AI3: 2022
B4: ="Période du "&TEXT(A1,"jj mmmm aaaa")&" au "&TEXT(EOMONTH(A1,0),"jj mmmm aaaa") -> Période du 01 novembre 2020 au 30 novembre 2020 | AH4: =EOMONTH(AH3,0)+1 -> 43922 | AI4: 2023
B5: =A1 -> 44136 | C5: =B5+1 -> 44137 | D5: =C5+1 -> 44138 | E5: =D5+1 -> 44139 | F5: =E5+1 -> 44140 | G5: =F5+1 -> 44141 | H5: =G5+1 -> 44142 | I5: =H5+1 -> 44143 | J5: =I5+1 -> 44144 | ... AF5: =AE5+1 -> 44166 | AH5: =EOMONTH(AH4,0)+1 -> 43952 | AI5: 2024
A6: Article1 | B6: =IF(NETWORKDAYS(B$5,B$5,'jours fériés'!$B$5:$B$9,{1;1;0;0;0;0;1})<1,"","X") | C6: =IF(NETWORKDAYS(C$5,C$5,'jours fériés'!$B$5:$B$9,{1;1;0;0;0;0;1})<1,"","X") | D6: =IF(NETWORKDAYS(D$5,D$5,'jours fériés'!$B$5:$B$9,{1;1;0;0;0;0;1})<1,"","X") -> X | E6: =IF(NETWORKDAYS(E$5,E$5,'jours fériés'!$B$5:$B$9,{1;1;0;0;0;0;1})<1,"","X") -> X | F6: =IF(NETWORKDAYS(F$5,F$5,'jours fériés'!$B$5:$B$9,{1;1;0;0;0;0;1})<1,"","X") -> X | G6: =IF(NETWORKDAYS(G$5,G$5,'jours fériés'!$B$5:$B$9,{1;1;0;0;0;0;1})<1,"","X") -> X | H6: =IF(NETWORKDAYS(H$5,H$5,'jours fériés'!$B$5:$B$9,{1;1;0;0;0;0;1})<1,"","X") | I6: =IF(NETWORKDAYS(I$5,I$5,'jours fériés'!$B$5:$B$9,{1;1;0;0;0;0;1})<1,"","X") | ... AF6: =IF(NETWORKDAYS(AF$5,AF$5,'jours fériés'!$B$5:$B$9,{1;1;0;0;0;0;1})<1,"","X") -> X | AH6: =EOMONTH(AH5,0)+1 -> 43983 | AI6: 2031
A7: Article2 | B7: =IF(NETWORKDAYS(B$5,B$5,'jours fériés'!$B$5:$B$9,{1;0;0;0;0;0;1})<1,"","X") | C7: =IF(NETWORKDAYS(C$5,C$5,'jours fériés'!$B$5:$B$9,{1;0;0;0;0;0;1})<1,"","X") -> X | D7: =IF(NETWORKDAYS(D$5,D$5,'jours fériés'!$B$5:$B$9,{1;0;0;0;0;0;1})<1,"","X") -> X | E7: =IF(NETWORKDAYS(E$5,E$5,'jours fériés'!$B$5:$B$9,{1;0;0;0;0;0;1})<1,"","X") -> X | F7: =IF(NETWORKDAYS(F$5,F$5,'jours fériés'!$B$5:$B$9,{1;0;0;0;0;0;1})<1,"","X") -> X | G7: =IF(NETWORKDAYS(G$5,G$5,'jours fériés'!$B$5:$B$9,{1;0;0;0;0;0;1})<1,"","X") -> X | H7: =IF(NETWORKDAYS(H$5,H$5,'jours fériés'!$B$5:$B$9,{1;0;0;0;0;0;1})<1,"","X") | I7: =IF(NETWORKDAYS(I$5,I$5,'jours fériés'!$B$5:$B$9,{1;0;0;0;0;0;1})<1,"","X") | ... AF7: =IF(NETWORKDAYS(AF$5,AF$5,'jours fériés'!$B$5:$B$9,{1;0;0;0;0;0;1})<1,"","X") -> X | AH7: =EOMONTH(AH6,0)+1 -> 44013
A8: Article3 | AH8: =EOMONTH(AH7,0)+1 -> 44044
A9: Article4 | AH9: =EOMONTH(AH8,0)+1 -> 44075
A10: Article5 | AH10: =EOMONTH(AH9,0)+1 -> 44105
A11: Article6 | AH11: =EOMONTH(AH10,0)+1 -> 44136
A12: Article7 | AH12: =EOMONTH(AH11,0)+1 -> 44166
A13: Article8
A14: Article9
A15: Article10
A16: Article11
A17: Article12

Sheet jours fériés
B5: =DATE(Feuil1!A$3,1,1) -> 43831
B6: =DATE(Feuil1!A$3,2,20) -> 43881
B7: =DATE(Feuil1!A$3,9,18) -> 44092
B8: 44011
B9: 44150
