Workbook

Sheet Codes_conduites
A1: Code conduite | B1: Achat | C1: VAD | D1: Main | E1: Liquidité
A2: A | B2: 0 | C2: 0 | D2: 1 | E2: 0
A3: A+Mp | B3: 1 | C3: 0 | D3: 0 | E3: 1
A4: A+Mpipii | B4: 1 | C4: 0 | D4: 0 | E4: 1
A5: A+A | B5: 1 | C5: 0 | D5: 0 | E5: 1
A6: A+Mp | B6: 1 | C6: 0 | D6: 0 | E6: 1
A7: A+Mpipii | B7: 1 | C7: 0 | D7: 0 | E7: 1
A8: A+A | B8: 1 | C8: 0 | D8: 0 | E8: 1
A9: A+Apo+Bpiii | B9: 1 | C9: 0 | D9: 0 | E9: 1
A10: A+Apo+Mp | B10: 1 | C10: 0 | D10: 0 | E10: 1
A11: A+Apot+Bpiii | B11: 1 | C11: 0 | D11: 0 | E11: 1
A12: A+As | B12: 1 | C12: 0 | D12: 0 | E12: 1
A13: A+As+Bpiii | B13: 1 | C13: 0 | D13: 0 | E13: 1
... A20: Bpii | B20: 1 | C20: 0 | D20: 0 | E20: 1

Sheet Analyse_global
A1: Code conduite | B1: Achat | C1: VAD | D1: Main | E1: Liquidité
A2: =Liste_news!A2 -> ACLa | B2: =IF(ISERROR(VLOOKUP(A2,Codes_conduites!$A$2:$E$20,1,0)),"",VLOOKUP(A2,Codes_conduites!$A$2:$E$20,2,0)) | C2: =IF(ISERROR(VLOOKUP(A2,Codes_conduites!$A$2:$E$20,1,0)),"",VLOOKUP(A2,Codes_conduites!$A$2:$E$20,3,0)) | D2: =IF(ISERROR(VLOOKUP(A2,Codes_conduites!$A$2:$E$20,1,0)),"",VLOOKUP(A2,Codes_conduites!$A$2:$E$20,4,0)) | E2: =IF(ISERROR(VLOOKUP(A2,Codes_conduites!$A$2:$E$20,1,0)),"",VLOOKUP(A2,Codes_conduites!$A$2:$E$20,5,0))
A3: =Liste_news!A3 -> Asb+As+Bpiii | B3: =IF(ISERROR(VLOOKUP(A3,Codes_conduites!$A$2:$E$20,1,0)),"",VLOOKUP(A3,Codes_conduites!$A$2:$E$20,2,0)) -> 1 | C3: =IF(ISERROR(VLOOKUP(A3,Codes_conduites!$A$2:$E$20,1,0)),"",VLOOKUP(A3,Codes_conduites!$A$2:$E$20,3,0)) -> 0 | D3: =IF(ISERROR(VLOOKUP(A3,Codes_conduites!$A$2:$E$20,1,0)),"",VLOOKUP(A3,Codes_conduites!$A$2:$E$20,4,0)) -> 0 | E3: =IF(ISERROR(VLOOKUP(A3,Codes_conduites!$A$2:$E$20,1,0)),"",VLOOKUP(A3,Codes_conduites!$A$2:$E$20,5,0)) -> 1
A4: =Liste_news!A4 -> Apo+Mp | B4: =IF(ISERROR(VLOOKUP(A4,Codes_conduites!$A$2:$E$20,1,0)),"",VLOOKUP(A4,Codes_conduites!$A$2:$E$20,2,0)) -> 1 | C4: =IF(ISERROR(VLOOKUP(A4,Codes_conduites!$A$2:$E$20,1,0)),"",VLOOKUP(A4,Codes_conduites!$A$2:$E$20,3,0)) -> 0 | D4: =IF(ISERROR(VLOOKUP(A4,Codes_conduites!$A$2:$E$20,1,0)),"",VLOOKUP(A4,Codes_conduites!$A$2:$E$20,4,0)) -> 0 | E4: =IF(ISERROR(VLOOKUP(A4,Codes_conduites!$A$2:$E$20,1,0)),"",VLOOKUP(A4,Codes_conduites!$A$2:$E$20,5,0)) -> 1
A5: =Liste_news!A5 -> Bpii | B5: =IF(ISERROR(VLOOKUP(A5,Codes_conduites!$A$2:$E$20,1,0)),"",VLOOKUP(A5,Codes_conduites!$A$2:$E$20,2,0)) -> 1 | C5: =IF(ISERROR(VLOOKUP(A5,Codes_conduites!$A$2:$E$20,1,0)),"",VLOOKUP(A5,Codes_conduites!$A$2:$E$20,3,0)) -> 0 | D5: =IF(ISERROR(VLOOKUP(A5,Codes_conduites!$A$2:$E$20,1,0)),"",VLOOKUP(A5,Codes_conduites!$A$2:$E$20,4,0)) -> 0 | E5: =IF(ISERROR(VLOOKUP(A5,Codes_conduites!$A$2:$E$20,1,0)),"",VLOOKUP(A5,Codes_conduites!$A$2:$E$20,5,0)) -> 1
A6: =Liste_news!A6 -> A+Mpipii | B6: =IF(ISERROR(VLOOKUP(A6,Codes_conduites!$A$2:$E$20,1,0)),"",VLOOKUP(A6,Codes_conduites!$A$2:$E$20,2,0)) -> 1 | C6: =IF(ISERROR(VLOOKUP(A6,Codes_conduites!$A$2:$E$20,1,0)),"",VLOOKUP(A6,Codes_conduites!$A$2:$E$20,3,0)) -> 0 | D6: =IF(ISERROR(VLOOKUP(A6,Codes_conduites!$A$2:$E$20,1,0)),"",VLOOKUP(A6,Codes_conduites!$A$2:$E$20,4,0)) -> 0 | E6: =IF(ISERROR(VLOOKUP(A6,Codes_conduites!$A$2:$E$20,1,0)),"",VLOOKUP(A6,Codes_conduites!$A$2:$E$20,5,0)) -> 1
A7: =Liste_news!A7 -> A+A | B7: =IF(ISERROR(VLOOKUP(A7,Codes_conduites!$A$2:$E$20,1,0)),"",VLOOKUP(A7,Codes_conduites!$A$2:$E$20,2,0)) -> 1 | C7: =IF(ISERROR(VLOOKUP(A7,Codes_conduites!$A$2:$E$20,1,0)),"",VLOOKUP(A7,Codes_conduites!$A$2:$E$20,3,0)) -> 0 | D7: =IF(ISERROR(VLOOKUP(A7,Codes_conduites!$A$2:$E$20,1,0)),"",VLOOKUP(A7,Codes_conduites!$A$2:$E$20,4,0)) -> 0 | E7: =IF(ISERROR(VLOOKUP(A7,Codes_conduites!$A$2:$E$20,1,0)),"",VLOOKUP(A7,Codes_conduites!$A$2:$E$20,5,0)) -> 1
A8: =Liste_news!A8 -> A+Mp | B8: =IF(ISERROR(VLOOKUP(A8,Codes_conduites!$A$2:$E$20,1,0)),"",VLOOKUP(A8,Codes_conduites!$A$2:$E$20,2,0)) -> 1 | C8: =IF(ISERROR(VLOOKUP(A8,Codes_conduites!$A$2:$E$20,1,0)),"",VLOOKUP(A8,Codes_conduites!$A$2:$E$20,3,0)) -> 0 | D8: =IF(ISERROR(VLOOKUP(A8,Codes_conduites!$A$2:$E$20,1,0)),"",VLOOKUP(A8,Codes_conduites!$A$2:$E$20,4,0)) -> 0 | E8: =IF(ISERROR(VLOOKUP(A8,Codes_conduites!$A$2:$E$20,1,0)),"",VLOOKUP(A8,Codes_conduites!$A$2:$E$20,5,0)) -> 1
A9: =Liste_news!A9 -> A+Mpipii | B9: =IF(ISERROR(VLOOKUP(A9,Codes_conduites!$A$2:$E$20,1,0)),"",VLOOKUP(A9,Codes_conduites!$A$2:$E$20,2,0)) -> 1 | C9: =IF(ISERROR(VLOOKUP(A9,Codes_conduites!$A$2:$E$20,1,0)),"",VLOOKUP(A9,Codes_conduites!$A$2:$E$20,3,0)) -> 0 | D9: =IF(ISERROR(VLOOKUP(A9,Codes_conduites!$A$2:$E$20,1,0)),"",VLOOKUP(A9,Codes_conduites!$A$2:$E$20,4,0)) -> 0 | E9: =IF(ISERROR(VLOOKUP(A9,Codes_conduites!$A$2:$E$20,1,0)),"",VLOOKUP(A9,Codes_conduites!$A$2:$E$20,5,0)) -> 1
A10: =Liste_news!A10 -> A+A | B10: =IF(ISERROR(VLOOKUP(A10,Codes_conduites!$A$2:$E$20,1,0)),"",VLOOKUP(A10,Codes_conduites!$A$2:$E$20,2,0)) -> 1 | C10: =IF(ISERROR(VLOOKUP(A10,Codes_conduites!$A$2:$E$20,1,0)),"",VLOOKUP(A10,Codes_conduites!$A$2:$E$20,3,0)) -> 0 | D10: =IF(ISERROR(VLOOKUP(A10,Codes_conduites!$A$2:$E$20,1,0)),"",VLOOKUP(A10,Codes_conduites!$A$2:$E$20,4,0)) -> 0 | E10: =IF(ISERROR(VLOOKUP(A10,Codes_conduites!$A$2:$E$20,1,0)),"",VLOOKUP(A10,Codes_conduites!$A$2:$E$20,5,0)) -> 1
A11: =Liste_news!A11 -> ACLag | B11: =IF(ISERROR(VLOOKUP(A11,Codes_conduites!$A$2:$E$20,1,0)),"",VLOOKUP(A11,Codes_conduites!$A$2:$E$20,2,0)) | C11: =IF(ISERROR(VLOOKUP(A11,Codes_conduites!$A$2:$E$20,1,0)),"",VLOOKUP(A11,Codes_conduites!$A$2:$E$20,3,0)) | D11: =IF(ISERROR(VLOOKUP(A11,Codes_conduites!$A$2:$E$20,1,0)),"",VLOOKUP(A11,Codes_conduites!$A$2:$E$20,4,0)) | E11: =IF(ISERROR(VLOOKUP(A11,Codes_conduites!$A$2:$E$20,1,0)),"",VLOOKUP(A11,Codes_conduites!$A$2:$E$20,5,0))
A12: =Liste_news!A12 -> ACLag | B12: =IF(ISERROR(VLOOKUP(A12,Codes_conduites!$A$2:$E$20,1,0)),"",VLOOKUP(A12,Codes_conduites!$A$2:$E$20,2,0)) | C12: =IF(ISERROR(VLOOKUP(A12,Codes_conduites!$A$2:$E$20,1,0)),"",VLOOKUP(A12,Codes_conduites!$A$2:$E$20,3,0)) | D12: =IF(ISERROR(VLOOKUP(A12,Codes_conduites!$A$2:$E$20,1,0)),"",VLOOKUP(A12,Codes_conduites!$A$2:$E$20,4,0)) | E12: =IF(ISERROR(VLOOKUP(A12,Codes_conduites!$A$2:$E$20,1,0)),"",VLOOKUP(A12,Codes_conduites!$A$2:$E$20,5,0))
A13: =Liste_news!A13 -> ACLag | B13: =IF(ISERROR(VLOOKUP(A13,Codes_conduites!$A$2:$E$20,1,0)),"",VLOOKUP(A13,Codes_conduites!$A$2:$E$20,2,0)) | C13: =IF(ISERROR(VLOOKUP(A13,Codes_conduites!$A$2:$E$20,1,0)),"",VLOOKUP(A13,Codes_conduites!$A$2:$E$20,3,0)) | D13: =IF(ISERROR(VLOOKUP(A13,Codes_conduites!$A$2:$E$20,1,0)),"",VLOOKUP(A13,Codes_conduites!$A$2:$E$20,4,0)) | E13: =IF(ISERROR(VLOOKUP(A13,Codes_conduites!$A$2:$E$20,1,0)),"",VLOOKUP(A13,Codes_conduites!$A$2:$E$20,5,0))
... A21: =Liste_news!A21 -> ACLagcom | B21: =IF(ISERROR(VLOOKUP(A21,Codes_conduites!$A$2:$E$20,1,0)),"",VLOOKUP(A21,Codes_conduites!$A$2:$E$20,2,0)) | C21: =IF(ISERROR(VLOOKUP(A21,Codes_conduites!$A$2:$E$20,1,0)),"",VLOOKUP(A21,Codes_conduites!$A$2:$E$20,3,0)) | D21: =IF(ISERROR(VLOOKUP(A21,Codes_conduites!$A$2:$E$20,1,0)),"",VLOOKUP(A21,Codes_conduites!$A$2:$E$20,4,0)) | E21: =IF(ISERROR(VLOOKUP(A21,Codes_conduites!$A$2:$E$20,1,0)),"",VLOOKUP(A21,Codes_conduites!$A$2:$E$20,5,0))

Sheet Liste_news
A1: Code conduite
A2: ACLa
A3: Asb+As+Bpiii
A4: Apo+Mp
A5: Bpii
A6: A+Mpipii
A7: A+A
A8: A+Mp
A9: A+Mpipii
A10: A+A
A11: ACLag
A12: ACLag
... A21: ACLagcom
