Workbook

Sheet ZBUL3
B1: MUPERSOC
A2: Dates | B2: Matricule | C2: Nom | D2: Prénom du salarié | E2: Site courant | F2: Cotisations MUPERSOC | G2: Retenues MUPERSOC | H2: Autres retenues MUPERSOC
A3: 43831 | B3: SCP07567 | C3: MATONKO | D3: DANIEL | E3: DBMBR | F3: 0 | G3: 41250 | H3: 0 | W3: =IF(AND(C3=Agent!$A$1,D3=Agent!$D$1),ROW(),"") | X3: =IF(C3=Agent!$A$1,ROW(),"") | Z3: =IF(AND(INDIRECT("F2!I"&MATCH(Sites!$J$1,F2!H$1:H$15,0),1)=E3,Sites!$J$2=A3),ROW(),"")
A4: 43831 | B4: SCP08221 | C4: ZEUKENG | D4: JACQUELINE | E4: DBMBR | F4: 30000 | G4: 0 | H4: 0 | W4: =IF(AND(C4=Agent!$A$1,D4=Agent!$D$1),ROW(),"") | X4: =IF(C4=Agent!$A$1,ROW(),"") | Z4: =IF(AND(INDIRECT("F2!I"&MATCH(Sites!$J$1,F2!H$1:H$15,0),1)=E4,Sites!$J$2=A4),ROW(),"")
A5: 43831 | B5: SCP09118 | C5: BIKE | D5: ISAIE | E5: DBMBR | F5: 15000 | G5: 0 | H5: 0 | W5: =IF(AND(C5=Agent!$A$1,D5=Agent!$D$1),ROW(),"") | X5: =IF(C5=Agent!$A$1,ROW(),"") | Z5: =IF(AND(INDIRECT("F2!I"&MATCH(Sites!$J$1,F2!H$1:H$15,0),1)=E5,Sites!$J$2=A5),ROW(),"")
A6: 43831 | B6: SCP10842 | C6: ZOLY | D6: X | E6: DBMBR | F6: 15000 | G6: 0 | H6: 0 | W6: =IF(AND(C6=Agent!$A$1,D6=Agent!$D$1),ROW(),"") | X6: =IF(C6=Agent!$A$1,ROW(),"") | Z6: =IF(AND(INDIRECT("F2!I"&MATCH(Sites!$J$1,F2!H$1:H$15,0),1)=E6,Sites!$J$2=A6),ROW(),"")
A7: 43831 | B7: SCP13398 | C7: ONANENA MBOUEME | D7: X | E7: DBMBR | F7: 12000 | G7: 41250 | H7: 0 | W7: =IF(AND(C7=Agent!$A$1,D7=Agent!$D$1),ROW(),"") | X7: =IF(C7=Agent!$A$1,ROW(),"") | Z7: =IF(AND(INDIRECT("F2!I"&MATCH(Sites!$J$1,F2!H$1:H$15,0),1)=E7,Sites!$J$2=A7),ROW(),"")
A8: 43831 | B8: SCP17983 | C8: NGALLE NSIA | D8: LAURENT | E8: DBMBR | F8: 10000 | G8: 27500 | H8: 0 | W8: =IF(AND(C8=Agent!$A$1,D8=Agent!$D$1),ROW(),"") | X8: =IF(C8=Agent!$A$1,ROW(),"") | Z8: =IF(AND(INDIRECT("F2!I"&MATCH(Sites!$J$1,F2!H$1:H$15,0),1)=E8,Sites!$J$2=A8),ROW(),"")
A9: 43831 | B9: SCP19072 | C9: AYOKOHO | D9: ROSE | E9: DBMBR | F9: 10000 | G9: 0 | H9: 0 | W9: =IF(AND(C9=Agent!$A$1,D9=Agent!$D$1),ROW(),"") -> 9 | X9: =IF(C9=Agent!$A$1,ROW(),"") -> 9 | Z9: =IF(AND(INDIRECT("F2!I"&MATCH(Sites!$J$1,F2!H$1:H$15,0),1)=E9,Sites!$J$2=A9),ROW(),"")
A10: 43831 | B10: SCP19814 | C10: ASSAMBA | D10: PETER | E10: DBMBR | F10: 10000 | G10: 0 | H10: 0 | W10: =IF(AND(C10=Agent!$A$1,D10=Agent!$D$1),ROW(),"") | X10: =IF(C10=Agent!$A$1,ROW(),"") | Z10: =IF(AND(INDIRECT("F2!I"&MATCH(Sites!$J$1,F2!H$1:H$15,0),1)=E10,Sites!$J$2=A10),ROW(),"")
A11: 43831 | B11: SCP19893 | C11: NGANDJI | D11: EDOUARD | E11: DBMBR | F11: 5000 | G11: 0 | H11: 0 | W11: =IF(AND(C11=Agent!$A$1,D11=Agent!$D$1),ROW(),"") | X11: =IF(C11=Agent!$A$1,ROW(),"") | Z11: =IF(AND(INDIRECT("F2!I"&MATCH(Sites!$J$1,F2!H$1:H$15,0),1)=E11,Sites!$J$2=A11),ROW(),"")
A12: 43831 | B12: SCP20120 | C12: MAKOTA | D12: PIERRE PASCALI | E12: DBMBR | F12: 2000 | G12: 0 | H12: 0 | W12: =IF(AND(C12=Agent!$A$1,D12=Agent!$D$1),ROW(),"") | X12: =IF(C12=Agent!$A$1,ROW(),"") | Z12: =IF(AND(INDIRECT("F2!I"&MATCH(Sites!$J$1,F2!H$1:H$15,0),1)=E12,Sites!$J$2=A12),ROW(),"")
A13: 43831 | B13: SCP21124 | C13: NGOH | D13: THOMAS | E13: DBMBR | F13: 10000 | G13: 43750 | H13: 0 | W13: =IF(AND(C13=Agent!$A$1,D13=Agent!$D$1),ROW(),"") | X13: =IF(C13=Agent!$A$1,ROW(),"") | Z13: =IF(AND(INDIRECT("F2!I"&MATCH(Sites!$J$1,F2!H$1:H$15,0),1)=E13,Sites!$J$2=A13),ROW(),"")
A14: 43831 | B14: SCP22192 | C14: KAMGO | D14: ETIENNE | E14: DBMBR | F14: 15000 | G14: 17955 | H14: 0 | W14: =IF(AND(C14=Agent!$A$1,D14=Agent!$D$1),ROW(),"") | X14: =IF(C14=Agent!$A$1,ROW(),"") | Z14: =IF(AND(INDIRECT("F2!I"&MATCH(Sites!$J$1,F2!H$1:H$15,0),1)=E14,Sites!$J$2=A14),ROW(),"")
... A2245: 43862 | B2245: SCP31367 | C2245: FOBISSIE | D2245: THERESIA | E2245: DBMBR | F2245: 35000 | G2245: 0 | H2245: 0 | W2245: =IF(AND(C2245=Agent!$A$1,D2245=Agent!$D$1),ROW(),"") | X2245: =IF(C2245=Agent!$A$1,ROW(),"") | Z2245: =IF(AND(INDIRECT("F2!I"&MATCH(Sites!$J$1,F2!H$1:H$15,0),1)=E2245,Sites!$J$2=A2245),ROW(),"") -> 2245

Sheet F2
A1: Matricule | B1: Site courant | C1: Tous | D1: Actifs | E1: Inactifs | G1: =INDIRECT("F2!I"&MATCH(Sites!$J$1,H1:H15,0),1) -> DBMBR
A2: =IF(C2="","",INDIRECT("ZBUL3!B"&C2,1)) -> SCP07567 | B2: =IF(C2="","",INDIRECT("ZBUL3!E"&C2,1)) -> DBMBR | C2: =IFERROR(SMALL(ZBUL3!Z:Z,ROW()-1),"") -> 2221 | D2: =IF(C2="","",IF(AND($G$1=B2,SUM(INDIRECT(CONCATENATE("ZBUL3!F",C2,":H",C2),1))>0),C2,"")) -> 2221 | E2: =IF(C2="","",IF(AND($G$1=B2,SUM(INDIRECT(CONCATENATE("ZBUL3!F",C2,":H",C2),1))=0),C2,"")) | H2: DIBOMBARI | I2: DBMBR | J2: =SMALL(ZBUL3!A:A,ROW()-1) -> 43831
A3: =IF(C3="","",INDIRECT("ZBUL3!B"&C3,1)) -> SCP08221 | B3: =IF(C3="","",INDIRECT("ZBUL3!E"&C3,1)) -> DBMBR | C3: =IFERROR(SMALL(ZBUL3!Z:Z,ROW()-1),"") -> 2222 | D3: =IF(C3="","",IF(AND($G$1=B3,SUM(INDIRECT(CONCATENATE("ZBUL3!F",C3,":H",C3),1))>0),C3,"")) -> 2222 | E3: =IF(C3="","",IF(AND($G$1=B3,SUM(INDIRECT(CONCATENATE("ZBUL3!F",C3,":H",C3),1))=0),C3,"")) | H3: DIRECTION GENERALE | I3: DLADG | J3: =IF(ISNUMBER(MATCH(LARGE(ZBUL3!A:A,ROW()-1),J$2:J2,0)),"",LARGE(ZBUL3!A:A,ROW()-1)) -> 43862
A4: =IF(C4="","",INDIRECT("ZBUL3!B"&C4,1)) -> SCP09118 | B4: =IF(C4="","",INDIRECT("ZBUL3!E"&C4,1)) -> DBMBR | C4: =IFERROR(SMALL(ZBUL3!Z:Z,ROW()-1),"") -> 2223 | D4: =IF(C4="","",IF(AND($G$1=B4,SUM(INDIRECT(CONCATENATE("ZBUL3!F",C4,":H",C4),1))>0),C4,"")) -> 2223 | E4: =IF(C4="","",IF(AND($G$1=B4,SUM(INDIRECT(CONCATENATE("ZBUL3!F",C4,":H",C4),1))=0),C4,"")) | H4: ESEKA | I4: ESEKP | J4: =IF(ISNUMBER(MATCH(LARGE(ZBUL3!A:A,ROW()-1),J$2:J3,0)),"",LARGE(ZBUL3!A:A,ROW()-1))
A5: =IF(C5="","",INDIRECT("ZBUL3!B"&C5,1)) -> SCP10842 | B5: =IF(C5="","",INDIRECT("ZBUL3!E"&C5,1)) -> DBMBR | C5: =IFERROR(SMALL(ZBUL3!Z:Z,ROW()-1),"") -> 2224 | D5: =IF(C5="","",IF(AND($G$1=B5,SUM(INDIRECT(CONCATENATE("ZBUL3!F",C5,":H",C5),1))>0),C5,"")) -> 2224 | E5: =IF(C5="","",IF(AND($G$1=B5,SUM(INDIRECT(CONCATENATE("ZBUL3!F",C5,":H",C5),1))=0),C5,"")) | H5: KIENK | I5: KIENK | J5: =IF(ISNUMBER(MATCH(LARGE(ZBUL3!A:A,ROW()-1),J$2:J4,0)),"",LARGE(ZBUL3!A:A,ROW()-1))
A6: =IF(C6="","",INDIRECT("ZBUL3!B"&C6,1)) -> SCP13398 | B6: =IF(C6="","",INDIRECT("ZBUL3!E"&C6,1)) -> DBMBR | C6: =IFERROR(SMALL(ZBUL3!Z:Z,ROW()-1),"") -> 2225 | D6: =IF(C6="","",IF(AND($G$1=B6,SUM(INDIRECT(CONCATENATE("ZBUL3!F",C6,":H",C6),1))>0),C6,"")) -> 2225 | E6: =IF(C6="","",IF(AND($G$1=B6,SUM(INDIRECT(CONCATENATE("ZBUL3!F",C6,":H",C6),1))=0),C6,"")) | H6: MBAMBOU | I6: MBMBU | J6: =IF(ISNUMBER(MATCH(LARGE(ZBUL3!A:A,ROW()-1),J$2:J5,0)),"",LARGE(ZBUL3!A:A,ROW()-1))
A7: =IF(C7="","",INDIRECT("ZBUL3!B"&C7,1)) -> SCP17983 | B7: =IF(C7="","",INDIRECT("ZBUL3!E"&C7,1)) -> DBMBR | C7: =IFERROR(SMALL(ZBUL3!Z:Z,ROW()-1),"") -> 2226 | D7: =IF(C7="","",IF(AND($G$1=B7,SUM(INDIRECT(CONCATENATE("ZBUL3!F",C7,":H",C7),1))>0),C7,"")) -> 2226 | E7: =IF(C7="","",IF(AND($G$1=B7,SUM(INDIRECT(CONCATENATE("ZBUL3!F",C7,":H",C7),1))=0),C7,"")) | H7: MBONGO | I7: MBNGO | J7: =IF(ISNUMBER(MATCH(LARGE(ZBUL3!A:A,ROW()-1),J$2:J6,0)),"",LARGE(ZBUL3!A:A,ROW()-1))
A8: =IF(C8="","",INDIRECT("ZBUL3!B"&C8,1)) -> SCP19072 | B8: =IF(C8="","",INDIRECT("ZBUL3!E"&C8,1)) -> DBMBR | C8: =IFERROR(SMALL(ZBUL3!Z:Z,ROW()-1),"") -> 2227 | D8: =IF(C8="","",IF(AND($G$1=B8,SUM(INDIRECT(CONCATENATE("ZBUL3!F",C8,":H",C8),1))>0),C8,"")) -> 2227 | E8: =IF(C8="","",IF(AND($G$1=B8,SUM(INDIRECT(CONCATENATE("ZBUL3!F",C8,":H",C8),1))=0),C8,""))
A9: =IF(C9="","",INDIRECT("ZBUL3!B"&C9,1)) -> SCP19814 | B9: =IF(C9="","",INDIRECT("ZBUL3!E"&C9,1)) -> DBMBR | C9: =IFERROR(SMALL(ZBUL3!Z:Z,ROW()-1),"") -> 2228 | D9: =IF(C9="","",IF(AND($G$1=B9,SUM(INDIRECT(CONCATENATE("ZBUL3!F",C9,":H",C9),1))>0),C9,"")) -> 2228 | E9: =IF(C9="","",IF(AND($G$1=B9,SUM(INDIRECT(CONCATENATE("ZBUL3!F",C9,":H",C9),1))=0),C9,""))
A10: =IF(C10="","",INDIRECT("ZBUL3!B"&C10,1)) -> SCP19893 | B10: =IF(C10="","",INDIRECT("ZBUL3!E"&C10,1)) -> DBMBR | C10: =IFERROR(SMALL(ZBUL3!Z:Z,ROW()-1),"") -> 2229 | D10: =IF(C10="","",IF(AND($G$1=B10,SUM(INDIRECT(CONCATENATE("ZBUL3!F",C10,":H",C10),1))>0),C10,"")) -> 2229 | E10: =IF(C10="","",IF(AND($G$1=B10,SUM(INDIRECT(CONCATENATE("ZBUL3!F",C10,":H",C10),1))=0),C10,""))
A11: =IF(C11="","",INDIRECT("ZBUL3!B"&C11,1)) -> SCP20120 | B11: =IF(C11="","",INDIRECT("ZBUL3!E"&C11,1)) -> DBMBR | C11: =IFERROR(SMALL(ZBUL3!Z:Z,ROW()-1),"") -> 2230 | D11: =IF(C11="","",IF(AND($G$1=B11,SUM(INDIRECT(CONCATENATE("ZBUL3!F",C11,":H",C11),1))>0),C11,"")) -> 2230 | E11: =IF(C11="","",IF(AND($G$1=B11,SUM(INDIRECT(CONCATENATE("ZBUL3!F",C11,":H",C11),1))=0),C11,""))
A12: =IF(C12="","",INDIRECT("ZBUL3!B"&C12,1)) -> SCP21124 | B12: =IF(C12="","",INDIRECT("ZBUL3!E"&C12,1)) -> DBMBR | C12: =IFERROR(SMALL(ZBUL3!Z:Z,ROW()-1),"") -> 2231 | D12: =IF(C12="","",IF(AND($G$1=B12,SUM(INDIRECT(CONCATENATE("ZBUL3!F",C12,":H",C12),1))>0),C12,"")) -> 2231 | E12: =IF(C12="","",IF(AND($G$1=B12,SUM(INDIRECT(CONCATENATE("ZBUL3!F",C12,":H",C12),1))=0),C12,""))
A13: =IF(C13="","",INDIRECT("ZBUL3!B"&C13,1)) -> SCP22192 | B13: =IF(C13="","",INDIRECT("ZBUL3!E"&C13,1)) -> DBMBR | C13: =IFERROR(SMALL(ZBUL3!Z:Z,ROW()-1),"") -> 2232 | D13: =IF(C13="","",IF(AND($G$1=B13,SUM(INDIRECT(CONCATENATE("ZBUL3!F",C13,":H",C13),1))>0),C13,"")) -> 2232 | E13: =IF(C13="","",IF(AND($G$1=B13,SUM(INDIRECT(CONCATENATE("ZBUL3!F",C13,":H",C13),1))=0),C13,""))
A14: =IF(C14="","",INDIRECT("ZBUL3!B"&C14,1)) -> SCP22995 | B14: =IF(C14="","",INDIRECT("ZBUL3!E"&C14,1)) -> DBMBR | C14: =IFERROR(SMALL(ZBUL3!Z:Z,ROW()-1),"") -> 2233 | D14: =IF(C14="","",IF(AND($G$1=B14,SUM(INDIRECT(CONCATENATE("ZBUL3!F",C14,":H",C14),1))>0),C14,"")) -> 2233 | E14: =IF(C14="","",IF(AND($G$1=B14,SUM(INDIRECT(CONCATENATE("ZBUL3!F",C14,":H",C14),1))=0),C14,""))
A15: =IF(C15="","",INDIRECT("ZBUL3!B"&C15,1)) -> SCP25094 | B15: =IF(C15="","",INDIRECT("ZBUL3!E"&C15,1)) -> DBMBR | C15: =IFERROR(SMALL(ZBUL3!Z:Z,ROW()-1),"") -> 2234 | D15: =IF(C15="","",IF(AND($G$1=B15,SUM(INDIRECT(CONCATENATE("ZBUL3!F",C15,":H",C15),1))>0),C15,"")) -> 2234 | E15: =IF(C15="","",IF(AND($G$1=B15,SUM(INDIRECT(CONCATENATE("ZBUL3!F",C15,":H",C15),1))=0),C15,""))
A16: =IF(C16="","",INDIRECT("ZBUL3!B"&C16,1)) -> SCP25330 | B16: =IF(C16="","",INDIRECT("ZBUL3!E"&C16,1)) -> DBMBR | C16: =IFERROR(SMALL(ZBUL3!Z:Z,ROW()-1),"") -> 2235 | D16: =IF(C16="","",IF(AND($G$1=B16,SUM(INDIRECT(CONCATENATE("ZBUL3!F",C16,":H",C16),1))>0),C16,"")) -> 2235 | E16: =IF(C16="","",IF(AND($G$1=B16,SUM(INDIRECT(CONCATENATE("ZBUL3!F",C16,":H",C16),1))=0),C16,""))
A17: =IF(C17="","",INDIRECT("ZBUL3!B"&C17,1)) -> SCP25866 | B17: =IF(C17="","",INDIRECT("ZBUL3!E"&C17,1)) -> DBMBR | C17: =IFERROR(SMALL(ZBUL3!Z:Z,ROW()-1),"") -> 2236 | D17: =IF(C17="","",IF(AND($G$1=B17,SUM(INDIRECT(CONCATENATE("ZBUL3!F",C17,":H",C17),1))>0),C17,"")) -> 2236 | E17: =IF(C17="","",IF(AND($G$1=B17,SUM(INDIRECT(CONCATENATE("ZBUL3!F",C17,":H",C17),1))=0),C17,""))
A18: =IF(C18="","",INDIRECT("ZBUL3!B"&C18,1)) -> SCP27602 | B18: =IF(C18="","",INDIRECT("ZBUL3!E"&C18,1)) -> DBMBR | C18: =IFERROR(SMALL(ZBUL3!Z:Z,ROW()-1),"") -> 2237 | D18: =IF(C18="","",IF(AND($G$1=B18,SUM(INDIRECT(CONCATENATE("ZBUL3!F",C18,":H",C18),1))>0),C18,"")) -> 2237 | E18: =IF(C18="","",IF(AND($G$1=B18,SUM(INDIRECT(CONCATENATE("ZBUL3!F",C18,":H",C18),1))=0),C18,""))
A19: =IF(C19="","",INDIRECT("ZBUL3!B"&C19,1)) -> SCP28526 | B19: =IF(C19="","",INDIRECT("ZBUL3!E"&C19,1)) -> DBMBR | C19: =IFERROR(SMALL(ZBUL3!Z:Z,ROW()-1),"") -> 2238 | D19: =IF(C19="","",IF(AND($G$1=B19,SUM(INDIRECT(CONCATENATE("ZBUL3!F",C19,":H",C19),1))>0),C19,"")) -> 2238 | E19: =IF(C19="","",IF(AND($G$1=B19,SUM(INDIRECT(CONCATENATE("ZBUL3!F",C19,":H",C19),1))=0),C19,""))
... A2219: =IF(C2219="","",INDIRECT("ZBUL3!B"&C2219,1)) | B2219: =IF(C2219="","",INDIRECT("ZBUL3!E"&C2219,1)) | C2219: =IFERROR(SMALL(ZBUL3!Z:Z,ROW()-1),"") | D2219: =IF(C2219="","",IF(AND($G$1=B2219,SUM(INDIRECT(CONCATENATE("ZBUL3!F",C2219,":H",C2219),1))>0),C2219,"")) | E2219: =IF(C2219="","",IF(AND($G$1=B2219,SUM(INDIRECT(CONCATENATE("ZBUL3!F",C2219,":H",C2219),1))=0),C2219,""))

Sheet Sites
A1: ="MUPERSOC "&$J$1&" - "&UPPER(TEXT($J$2,"mmmm aaaa")) -> MUPERSOC DIBOMBARI - FÉVRIER 2020 | J1: DIBOMBARI | K1: Tous
A2: Dates | B2: Matricule | C2: Nom | D2: Prénom du salarié | E2: Site courant | F2: Cotisations MUPERSOC | G2: Retenues MUPERSOC | H2: Autres retenues MUPERSOC | J2: 43862 | K2: ="Nombre "&CHAR(10)&COUNTIF(B3:B650,"<>"&"") -> Nombre 25
A3: =IF(ISERROR(SMALL(INDIRECT("F2"&IF($K$1="Tous","!$C:$C",IF($K$1="Actifs","!$D:$D",IF($K$1="Inactifs","!$E:$E"))),1),ROW()-2)),"",INDIRECT("ZBUL3!A"&SMALL(INDIRECT("F2"&IF($K$1="Tous","!$C:$C",IF($K$1="Actifs","!$D:$D",IF($K$1="Inactifs","!$E:$E"))),1),ROW()-2),1)) -> 43862 | B3: =IF(ISERROR(SMALL(INDIRECT("F2"&IF($K$1="Tous","!$C:$C",IF($K$1="Actifs","!$D:$D",IF($K$1="Inactifs","!$E:$E"))),1),ROW()-2)),"",INDIRECT("ZBUL3!B"&SMALL(INDIRECT("F2"&IF($K$1="Tous","!$C:$C",IF($K$1="Actifs","!$D:$D",IF($K$1="Inactifs","!$E:$E"))),1),ROW()-2),1)) -> SCP07567 | C3: =IF(ISERROR(SMALL(INDIRECT("F2"&IF($K$1="Tous","!$C:$C",IF($K$1="Actifs","!$D:$D",IF($K$1="Inactifs","!$E:$E"))),1),ROW()-2)),"",INDIRECT("ZBUL3!C"&SMALL(INDIRECT("F2"&IF($K$1="Tous","!$C:$C",IF($K$1="Actifs","!$D:$D",IF($K$1="Inactifs","!$E:$E"))),1),ROW()-2),1)) -> MATONKO | D3: =IF(ISERROR(SMALL(INDIRECT("F2"&IF($K$1="Tous","!$C:$C",IF($K$1="Actifs","!$D:$D",IF($K$1="Inactifs","!$E:$E"))),1),ROW()-2)),"",INDIRECT("ZBUL3!D"&SMALL(INDIRECT("F2"&IF($K$1="Tous","!$C:$C",IF($K$1="Actifs","!$D:$D",IF($K$1="Inactifs","!$E:$E"))),1),ROW()-2),1)) -> DANIEL | E3: =IF(ISERROR(SMALL(INDIRECT("F2"&IF($K$1="Tous","!$C:$C",IF($K$1="Actifs","!$D:$D",IF($K$1="Inactifs","!$E:$E"))),1),ROW()-2)),"",INDIRECT("ZBUL3!E"&SMALL(INDIRECT("F2"&IF($K$1="Tous","!$C:$C",IF($K$1="Actifs","!$D:$D",IF($K$1="Inactifs","!$E:$E"))),1),ROW()-2),1)) -> DBMBR | F3: =IF(ISERROR(SMALL(INDIRECT("F2"&IF($K$1="Tous","!$C:$C",IF($K$1="Actifs","!$D:$D",IF($K$1="Inactifs","!$E:$E"))),1),ROW()-2)),"",INDIRECT("ZBUL3!F"&SMALL(INDIRECT("F2"&IF($K$1="Tous","!$C:$C",IF($K$1="Actifs","!$D:$D",IF($K$1="Inactifs","!$E:$E"))),1),ROW()-2),1)) -> 0 | G3: =IF(ISERROR(SMALL(INDIRECT("F2"&IF($K$1="Tous","!$C:$C",IF($K$1="Actifs","!$D:$D",IF($K$1="Inactifs","!$E:$E"))),1),ROW()-2)),"",INDIRECT("ZBUL3!G"&SMALL(INDIRECT("F2"&IF($K$1="Tous","!$C:$C",IF($K$1="Actifs","!$D:$D",IF($K$1="Inactifs","!$E:$E"))),1),ROW()-2),1)) -> 41250 | H3: =IF(ISERROR(SMALL(INDIRECT("F2"&IF($K$1="Tous","!$C:$C",IF($K$1="Actifs","!$D:$D",IF($K$1="Inactifs","!$E:$E"))),1),ROW()-2)),"",INDIRECT("ZBUL3!H"&SMALL(INDIRECT("F2"&IF($K$1="Tous","!$C:$C",IF($K$1="Actifs","!$D:$D",IF($K$1="Inactifs","!$E:$E"))),1),ROW()-2),1)) -> 0
A4: =IF(ISERROR(SMALL(INDIRECT("F2"&IF($K$1="Tous","!$C:$C",IF($K$1="Actifs","!$D:$D",IF($K$1="Inactifs","!$E:$E"))),1),ROW()-2)),"",INDIRECT("ZBUL3!A"&SMALL(INDIRECT("F2"&IF($K$1="Tous","!$C:$C",IF($K$1="Actifs","!$D:$D",IF($K$1="Inactifs","!$E:$E"))),1),ROW()-2),1)) -> 43862 | B4: =IF(ISERROR(SMALL(INDIRECT("F2"&IF($K$1="Tous","!$C:$C",IF($K$1="Actifs","!$D:$D",IF($K$1="Inactifs","!$E:$E"))),1),ROW()-2)),"",INDIRECT("ZBUL3!B"&SMALL(INDIRECT("F2"&IF($K$1="Tous","!$C:$C",IF($K$1="Actifs","!$D:$D",IF($K$1="Inactifs","!$E:$E"))),1),ROW()-2),1)) -> SCP08221 | C4: =IF(ISERROR(SMALL(INDIRECT("F2"&IF($K$1="Tous","!$C:$C",IF($K$1="Actifs","!$D:$D",IF($K$1="Inactifs","!$E:$E"))),1),ROW()-2)),"",INDIRECT("ZBUL3!C"&SMALL(INDIRECT("F2"&IF($K$1="Tous","!$C:$C",IF($K$1="Actifs","!$D:$D",IF($K$1="Inactifs","!$E:$E"))),1),ROW()-2),1)) -> ZEUKENG | D4: =IF(ISERROR(SMALL(INDIRECT("F2"&IF($K$1="Tous","!$C:$C",IF($K$1="Actifs","!$D:$D",IF($K$1="Inactifs","!$E:$E"))),1),ROW()-2)),"",INDIRECT("ZBUL3!D"&SMALL(INDIRECT("F2"&IF($K$1="Tous","!$C:$C",IF($K$1="Actifs","!$D:$D",IF($K$1="Inactifs","!$E:$E"))),1),ROW()-2),1)) -> JACQUELINE | E4: =IF(ISERROR(SMALL(INDIRECT("F2"&IF($K$1="Tous","!$C:$C",IF($K$1="Actifs","!$D:$D",IF($K$1="Inactifs","!$E:$E"))),1),ROW()-2)),"",INDIRECT("ZBUL3!E"&SMALL(INDIRECT("F2"&IF($K$1="Tous","!$C:$C",IF($K$1="Actifs","!$D:$D",IF($K$1="Inactifs","!$E:$E"))),1),ROW()-2),1)) -> DBMBR | F4: =IF(ISERROR(SMALL(INDIRECT("F2"&IF($K$1="Tous","!$C:$C",IF($K$1="Actifs","!$D:$D",IF($K$1="Inactifs","!$E:$E"))),1),ROW()-2)),"",INDIRECT("ZBUL3!F"&SMALL(INDIRECT("F2"&IF($K$1="Tous","!$C:$C",IF($K$1="Actifs","!$D:$D",IF($K$1="Inactifs","!$E:$E"))),1),ROW()-2),1)) -> 30000 | G4: =IF(ISERROR(SMALL(INDIRECT("F2"&IF($K$1="Tous","!$C:$C",IF($K$1="Actifs","!$D:$D",IF($K$1="Inactifs","!$E:$E"))),1),ROW()-2)),"",INDIRECT("ZBUL3!G"&SMALL(INDIRECT("F2"&IF($K$1="Tous","!$C:$C",IF($K$1="Actifs","!$D:$D",IF($K$1="Inactifs","!$E:$E"))),1),ROW()-2),1)) -> 0 | H4: =IF(ISERROR(SMALL(INDIRECT("F2"&IF($K$1="Tous","!$C:$C",IF($K$1="Actifs","!$D:$D",IF($K$1="Inactifs","!$E:$E"))),1),ROW()-2)),"",INDIRECT("ZBUL3!H"&SMALL(INDIRECT("F2"&IF($K$1="Tous","!$C:$C",IF($K$1="Actifs","!$D:$D",IF($K$1="Inactifs","!$E:$E"))),1),ROW()-2),1)) -> 0
A5: =IF(ISERROR(SMALL(INDIRECT("F2"&IF($K$1="Tous","!$C:$C",IF($K$1="Actifs","!$D:$D",IF($K$1="Inactifs","!$E:$E"))),1),ROW()-2)),"",INDIRECT("ZBUL3!A"&SMALL(INDIRECT("F2"&IF($K$1="Tous","!$C:$C",IF($K$1="Actifs","!$D:$D",IF($K$1="Inactifs","!$E:$E"))),1),ROW()-2),1)) -> 43862 | B5: =IF(ISERROR(SMALL(INDIRECT("F2"&IF($K$1="Tous","!$C:$C",IF($K$1="Actifs","!$D:$D",IF($K$1="Inactifs","!$E:$E"))),1),ROW()-2)),"",INDIRECT("ZBUL3!B"&SMALL(INDIRECT("F2"&IF($K$1="Tous","!$C:$C",IF($K$1="Actifs","!$D:$D",IF($K$1="Inactifs","!$E:$E"))),1),ROW()-2),1)) -> SCP09118 | C5: =IF(ISERROR(SMALL(INDIRECT("F2"&IF($K$1="Tous","!$C:$C",IF($K$1="Actifs","!$D:$D",IF($K$1="Inactifs","!$E:$E"))),1),ROW()-2)),"",INDIRECT("ZBUL3!C"&SMALL(INDIRECT("F2"&IF($K$1="Tous","!$C:$C",IF($K$1="Actifs","!$D:$D",IF($K$1="Inactifs","!$E:$E"))),1),ROW()-2),1)) -> BIKE | D5: =IF(ISERROR(SMALL(INDIRECT("F2"&IF($K$1="Tous","!$C:$C",IF($K$1="Actifs","!$D:$D",IF($K$1="Inactifs","!$E:$E"))),1),ROW()-2)),"",INDIRECT("ZBUL3!D"&SMALL(INDIRECT("F2"&IF($K$1="Tous","!$C:$C",IF($K$1="Actifs","!$D:$D",IF($K$1="Inactifs","!$E:$E"))),1),ROW()-2),1)) -> ISAIE | E5: =IF(ISERROR(SMALL(INDIRECT("F2"&IF($K$1="Tous","!$C:$C",IF($K$1="Actifs","!$D:$D",IF($K$1="Inactifs","!$E:$E"))),1),ROW()-2)),"",INDIRECT("ZBUL3!E"&SMALL(INDIRECT("F2"&IF($K$1="Tous","!$C:$C",IF($K$1="Actifs","!$D:$D",IF($K$1="Inactifs","!$E:$E"))),1),ROW()-2),1)) -> DBMBR | F5: =IF(ISERROR(SMALL(INDIRECT("F2"&IF($K$1="Tous","!$C:$C",IF($K$1="Actifs","!$D:$D",IF($K$1="Inactifs","!$E:$E"))),1),ROW()-2)),"",INDIRECT("ZBUL3!F"&SMALL(INDIRECT("F2"&IF($K$1="Tous","!$C:$C",IF($K$1="Actifs","!$D:$D",IF($K$1="Inactifs","!$E:$E"))),1),ROW()-2),1)) -> 15000 | G5: =IF(ISERROR(SMALL(INDIRECT("F2"&IF($K$1="Tous","!$C:$C",IF($K$1="Actifs","!$D:$D",IF($K$1="Inactifs","!$E:$E"))),1),ROW()-2)),"",INDIRECT("ZBUL3!G"&SMALL(INDIRECT("F2"&IF($K$1="Tous","!$C:$C",IF($K$1="Actifs","!$D:$D",IF($K$1="Inactifs","!$E:$E"))),1),ROW()-2),1)) -> 0 | H5: =IF(ISERROR(SMALL(INDIRECT("F2"&IF($K$1="Tous","!$C:$C",IF($K$1="Actifs","!$D:$D",IF($K$1="Inactifs","!$E:$E"))),1),ROW()-2)),"",INDIRECT("ZBUL3!H"&SMALL(INDIRECT("F2"&IF($K$1="Tous","!$C:$C",IF($K$1="Actifs","!$D:$D",IF($K$1="Inactifs","!$E:$E"))),1),ROW()-2),1)) -> 0
A6: =IF(ISERROR(SMALL(INDIRECT("F2"&IF($K$1="Tous","!$C:$C",IF($K$1="Actifs","!$D:$D",IF($K$1="Inactifs","!$E:$E"))),1),ROW()-2)),"",INDIRECT("ZBUL3!A"&SMALL(INDIRECT("F2"&IF($K$1="Tous","!$C:$C",IF($K$1="Actifs","!$D:$D",IF($K$1="Inactifs","!$E:$E"))),1),ROW()-2),1)) -> 43862 | B6: =IF(ISERROR(SMALL(INDIRECT("F2"&IF($K$1="Tous","!$C:$C",IF($K$1="Actifs","!$D:$D",IF($K$1="Inactifs","!$E:$E"))),1),ROW()-2)),"",INDIRECT("ZBUL3!B"&SMALL(INDIRECT("F2"&IF($K$1="Tous","!$C:$C",IF($K$1="Actifs","!$D:$D",IF($K$1="Inactifs","!$E:$E"))),1),ROW()-2),1)) -> SCP10842 | C6: =IF(ISERROR(SMALL(INDIRECT("F2"&IF($K$1="Tous","!$C:$C",IF($K$1="Actifs","!$D:$D",IF($K$1="Inactifs","!$E:$E"))),1),ROW()-2)),"",INDIRECT("ZBUL3!C"&SMALL(INDIRECT("F2"&IF($K$1="Tous","!$C:$C",IF($K$1="Actifs","!$D:$D",IF($K$1="Inactifs","!$E:$E"))),1),ROW()-2),1)) -> ZOLY | D6: =IF(ISERROR(SMALL(INDIRECT("F2"&IF($K$1="Tous","!$C:$C",IF($K$1="Actifs","!$D:$D",IF($K$1="Inactifs","!$E:$E"))),1),ROW()-2)),"",INDIRECT("ZBUL3!D"&SMALL(INDIRECT("F2"&IF($K$1="Tous","!$C:$C",IF($K$1="Actifs","!$D:$D",IF($K$1="Inactifs","!$E:$E"))),1),ROW()-2),1)) -> X | E6: =IF(ISERROR(SMALL(INDIRECT("F2"&IF($K$1="Tous","!$C:$C",IF($K$1="Actifs","!$D:$D",IF($K$1="Inactifs","!$E:$E"))),1),ROW()-2)),"",INDIRECT("ZBUL3!E"&SMALL(INDIRECT("F2"&IF($K$1="Tous","!$C:$C",IF($K$1="Actifs","!$D:$D",IF($K$1="Inactifs","!$E:$E"))),1),ROW()-2),1)) -> DBMBR | F6: =IF(ISERROR(SMALL(INDIRECT("F2"&IF($K$1="Tous","!$C:$C",IF($K$1="Actifs","!$D:$D",IF($K$1="Inactifs","!$E:$E"))),1),ROW()-2)),"",INDIRECT("ZBUL3!F"&SMALL(INDIRECT("F2"&IF($K$1="Tous","!$C:$C",IF($K$1="Actifs","!$D:$D",IF($K$1="Inactifs","!$E:$E"))),1),ROW()-2),1)) -> 15000 | G6: =IF(ISERROR(SMALL(INDIRECT("F2"&IF($K$1="Tous","!$C:$C",IF($K$1="Actifs","!$D:$D",IF($K$1="Inactifs","!$E:$E"))),1),ROW()-2)),"",INDIRECT("ZBUL3!G"&SMALL(INDIRECT("F2"&IF($K$1="Tous","!$C:$C",IF($K$1="Actifs","!$D:$D",IF($K$1="Inactifs","!$E:$E"))),1),ROW()-2),1)) -> 0 | H6: =IF(ISERROR(SMALL(INDIRECT("F2"&IF($K$1="Tous","!$C:$C",IF($K$1="Actifs","!$D:$D",IF($K$1="Inactifs","!$E:$E"))),1),ROW()-2)),"",INDIRECT("ZBUL3!H"&SMALL(INDIRECT("F2"&IF($K$1="Tous","!$C:$C",IF($K$1="Actifs","!$D:$D",IF($K$1="Inactifs","!$E:$E"))),1),ROW()-2),1)) -> 0
A7: =IF(ISERROR(SMALL(INDIRECT("F2"&IF($K$1="Tous","!$C:$C",IF($K$1="Actifs","!$D:$D",IF($K$1="Inactifs","!$E:$E"))),1),ROW()-2)),"",INDIRECT("ZBUL3!A"&SMALL(INDIRECT("F2"&IF($K$1="Tous","!$C:$C",IF($K$1="Actifs","!$D:$D",IF($K$1="Inactifs","!$E:$E"))),1),ROW()-2),1)) -> 43862 | B7: =IF(ISERROR(SMALL(INDIRECT("F2"&IF($K$1="Tous","!$C:$C",IF($K$1="Actifs","!$D:$D",IF($K$1="Inactifs","!$E:$E"))),1),ROW()-2)),"",INDIRECT("ZBUL3!B"&SMALL(INDIRECT("F2"&IF($K$1="Tous","!$C:$C",IF($K$1="Actifs","!$D:$D",IF($K$1="Inactifs","!$E:$E"))),1),ROW()-2),1)) -> SCP13398 | C7: =IF(ISERROR(SMALL(INDIRECT("F2"&IF($K$1="Tous","!$C:$C",IF($K$1="Actifs","!$D:$D",IF($K$1="Inactifs","!$E:$E"))),1),ROW()-2)),"",INDIRECT("ZBUL3!C"&SMALL(INDIRECT("F2"&IF($K$1="Tous","!$C:$C",IF($K$1="Actifs","!$D:$D",IF($K$1="Inactifs","!$E:$E"))),1),ROW()-2),1)) -> ONANENA MBOUEME | D7: =IF(ISERROR(SMALL(INDIRECT("F2"&IF($K$1="Tous","!$C:$C",IF($K$1="Actifs","!$D:$D",IF($K$1="Inactifs","!$E:$E"))),1),ROW()-2)),"",INDIRECT("ZBUL3!D"&SMALL(INDIRECT("F2"&IF($K$1="Tous","!$C:$C",IF($K$1="Actifs","!$D:$D",IF($K$1="Inactifs","!$E:$E"))),1),ROW()-2),1)) -> X | E7: =IF(ISERROR(SMALL(INDIRECT("F2"&IF($K$1="Tous","!$C:$C",IF($K$1="Actifs","!$D:$D",IF($K$1="Inactifs","!$E:$E"))),1),ROW()-2)),"",INDIRECT("ZBUL3!E"&SMALL(INDIRECT("F2"&IF($K$1="Tous","!$C:$C",IF($K$1="Actifs","!$D:$D",IF($K$1="Inactifs","!$E:$E"))),1),ROW()-2),1)) -> DBMBR | F7: =IF(ISERROR(SMALL(INDIRECT("F2"&IF($K$1="Tous","!$C:$C",IF($K$1="Actifs","!$D:$D",IF($K$1="Inactifs","!$E:$E"))),1),ROW()-2)),"",INDIRECT("ZBUL3!F"&SMALL(INDIRECT("F2"&IF($K$1="Tous","!$C:$C",IF($K$1="Actifs","!$D:$D",IF($K$1="Inactifs","!$E:$E"))),1),ROW()-2),1)) -> 12000 | G7: =IF(ISERROR(SMALL(INDIRECT("F2"&IF($K$1="Tous","!$C:$C",IF($K$1="Actifs","!$D:$D",IF($K$1="Inactifs","!$E:$E"))),1),ROW()-2)),"",INDIRECT("ZBUL3!G"&SMALL(INDIRECT("F2"&IF($K$1="Tous","!$C:$C",IF($K$1="Actifs","!$D:$D",IF($K$1="Inactifs","!$E:$E"))),1),ROW()-2),1)) -> 41250 | H7: =IF(ISERROR(SMALL(INDIRECT("F2"&IF($K$1="Tous","!$C:$C",IF($K$1="Actifs","!$D:$D",IF($K$1="Inactifs","!$E:$E"))),1),ROW()-2)),"",INDIRECT("ZBUL3!H"&SMALL(INDIRECT("F2"&IF($K$1="Tous","!$C:$C",IF($K$1="Actifs","!$D:$D",IF($K$1="Inactifs","!$E:$E"))),1),ROW()-2),1)) -> 0
A8: =IF(ISERROR(SMALL(INDIRECT("F2"&IF($K$1="Tous","!$C:$C",IF($K$1="Actifs","!$D:$D",IF($K$1="Inactifs","!$E:$E"))),1),ROW()-2)),"",INDIRECT("ZBUL3!A"&SMALL(INDIRECT("F2"&IF($K$1="Tous","!$C:$C",IF($K$1="Actifs","!$D:$D",IF($K$1="Inactifs","!$E:$E"))),1),ROW()-2),1)) -> 43862 | B8: =IF(ISERROR(SMALL(INDIRECT("F2"&IF($K$1="Tous","!$C:$C",IF($K$1="Actifs","!$D:$D",IF($K$1="Inactifs","!$E:$E"))),1),ROW()-2)),"",INDIRECT("ZBUL3!B"&SMALL(INDIRECT("F2"&IF($K$1="Tous","!$C:$C",IF($K$1="Actifs","!$D:$D",IF($K$1="Inactifs","!$E:$E"))),1),ROW()-2),1)) -> SCP17983 | C8: =IF(ISERROR(SMALL(INDIRECT("F2"&IF($K$1="Tous","!$C:$C",IF($K$1="Actifs","!$D:$D",IF($K$1="Inactifs","!$E:$E"))),1),ROW()-2)),"",INDIRECT("ZBUL3!C"&SMALL(INDIRECT("F2"&IF($K$1="Tous","!$C:$C",IF($K$1="Actifs","!$D:$D",IF($K$1="Inactifs","!$E:$E"))),1),ROW()-2),1)) -> NGALLE NSIA | D8: =IF(ISERROR(SMALL(INDIRECT("F2"&IF($K$1="Tous","!$C:$C",IF($K$1="Actifs","!$D:$D",IF($K$1="Inactifs","!$E:$E"))),1),ROW()-2)),"",INDIRECT("ZBUL3!D"&SMALL(INDIRECT("F2"&IF($K$1="Tous","!$C:$C",IF($K$1="Actifs","!$D:$D",IF($K$1="Inactifs","!$E:$E"))),1),ROW()-2),1)) -> LAURENT | E8: =IF(ISERROR(SMALL(INDIRECT("F2"&IF($K$1="Tous","!$C:$C",IF($K$1="Actifs","!$D:$D",IF($K$1="Inactifs","!$E:$E"))),1),ROW()-2)),"",INDIRECT("ZBUL3!E"&SMALL(INDIRECT("F2"&IF($K$1="Tous","!$C:$C",IF($K$1="Actifs","!$D:$D",IF($K$1="Inactifs","!$E:$E"))),1),ROW()-2),1)) -> DBMBR | F8: =IF(ISERROR(SMALL(INDIRECT("F2"&IF($K$1="Tous","!$C:$C",IF($K$1="Actifs","!$D:$D",IF($K$1="Inactifs","!$E:$E"))),1),ROW()-2)),"",INDIRECT("ZBUL3!F"&SMALL(INDIRECT("F2"&IF($K$1="Tous","!$C:$C",IF($K$1="Actifs","!$D:$D",IF($K$1="Inactifs","!$E:$E"))),1),ROW()-2),1)) -> 10000 | G8: =IF(ISERROR(SMALL(INDIRECT("F2"&IF($K$1="Tous","!$C:$C",IF($K$1="Actifs","!$D:$D",IF($K$1="Inactifs","!$E:$E"))),1),ROW()-2)),"",INDIRECT("ZBUL3!G"&SMALL(INDIRECT("F2"&IF($K$1="Tous","!$C:$C",IF($K$1="Actifs","!$D:$D",IF($K$1="Inactifs","!$E:$E"))),1),ROW()-2),1)) -> 27500 | H8: =IF(ISERROR(SMALL(INDIRECT("F2"&IF($K$1="Tous","!$C:$C",IF($K$1="Actifs","!$D:$D",IF($K$1="Inactifs","!$E:$E"))),1),ROW()-2)),"",INDIRECT("ZBUL3!H"&SMALL(INDIRECT("F2"&IF($K$1="Tous","!$C:$C",IF($K$1="Actifs","!$D:$D",IF($K$1="Inactifs","!$E:$E"))),1),ROW()-2),1)) -> 0
A9: =IF(ISERROR(SMALL(INDIRECT("F2"&IF($K$1="Tous","!$C:$C",IF($K$1="Actifs","!$D:$D",IF($K$1="Inactifs","!$E:$E"))),1),ROW()-2)),"",INDIRECT("ZBUL3!A"&SMALL(INDIRECT("F2"&IF($K$1="Tous","!$C:$C",IF($K$1="Actifs","!$D:$D",IF($K$1="Inactifs","!$E:$E"))),1),ROW()-2),1)) -> 43862 | B9: =IF(ISERROR(SMALL(INDIRECT("F2"&IF($K$1="Tous","!$C:$C",IF($K$1="Actifs","!$D:$D",IF($K$1="Inactifs","!$E:$E"))),1),ROW()-2)),"",INDIRECT("ZBUL3!B"&SMALL(INDIRECT("F2"&IF($K$1="Tous","!$C:$C",IF($K$1="Actifs","!$D:$D",IF($K$1="Inactifs","!$E:$E"))),1),ROW()-2),1)) -> SCP19072 | C9: =IF(ISERROR(SMALL(INDIRECT("F2"&IF($K$1="Tous","!$C:$C",IF($K$1="Actifs","!$D:$D",IF($K$1="Inactifs","!$E:$E"))),1),ROW()-2)),"",INDIRECT("ZBUL3!C"&SMALL(INDIRECT("F2"&IF($K$1="Tous","!$C:$C",IF($K$1="Actifs","!$D:$D",IF($K$1="Inactifs","!$E:$E"))),1),ROW()-2),1)) -> AYOKOHO | D9: =IF(ISERROR(SMALL(INDIRECT("F2"&IF($K$1="Tous","!$C:$C",IF($K$1="Actifs","!$D:$D",IF($K$1="Inactifs","!$E:$E"))),1),ROW()-2)),"",INDIRECT("ZBUL3!D"&SMALL(INDIRECT("F2"&IF($K$1="Tous","!$C:$C",IF($K$1="Actifs","!$D:$D",IF($K$1="Inactifs","!$E:$E"))),1),ROW()-2),1)) -> ROSE | E9: =IF(ISERROR(SMALL(INDIRECT("F2"&IF($K$1="Tous","!$C:$C",IF($K$1="Actifs","!$D:$D",IF($K$1="Inactifs","!$E:$E"))),1),ROW()-2)),"",INDIRECT("ZBUL3!E"&SMALL(INDIRECT("F2"&IF($K$1="Tous","!$C:$C",IF($K$1="Actifs","!$D:$D",IF($K$1="Inactifs","!$E:$E"))),1),ROW()-2),1)) -> DBMBR | F9: =IF(ISERROR(SMALL(INDIRECT("F2"&IF($K$1="Tous","!$C:$C",IF($K$1="Actifs","!$D:$D",IF($K$1="Inactifs","!$E:$E"))),1),ROW()-2)),"",INDIRECT("ZBUL3!F"&SMALL(INDIRECT("F2"&IF($K$1="Tous","!$C:$C",IF($K$1="Actifs","!$D:$D",IF($K$1="Inactifs","!$E:$E"))),1),ROW()-2),1)) -> 10000 | G9: =IF(ISERROR(SMALL(INDIRECT("F2"&IF($K$1="Tous","!$C:$C",IF($K$1="Actifs","!$D:$D",IF($K$1="Inactifs","!$E:$E"))),1),ROW()-2)),"",INDIRECT("ZBUL3!G"&SMALL(INDIRECT("F2"&IF($K$1="Tous","!$C:$C",IF($K$1="Actifs","!$D:$D",IF($K$1="Inactifs","!$E:$E"))),1),ROW()-2),1)) -> 0 | H9: =IF(ISERROR(SMALL(INDIRECT("F2"&IF($K$1="Tous","!$C:$C",IF($K$1="Actifs","!$D:$D",IF($K$1="Inactifs","!$E:$E"))),1),ROW()-2)),"",INDIRECT("ZBUL3!H"&SMALL(INDIRECT("F2"&IF($K$1="Tous","!$C:$C",IF($K$1="Actifs","!$D:$D",IF($K$1="Inactifs","!$E:$E"))),1),ROW()-2),1)) -> 0
A10: =IF(ISERROR(SMALL(INDIRECT("F2"&IF($K$1="Tous","!$C:$C",IF($K$1="Actifs","!$D:$D",IF($K$1="Inactifs","!$E:$E"))),1),ROW()-2)),"",INDIRECT("ZBUL3!A"&SMALL(INDIRECT("F2"&IF($K$1="Tous","!$C:$C",IF($K$1="Actifs","!$D:$D",IF($K$1="Inactifs","!$E:$E"))),1),ROW()-2),1)) -> 43862 | B10: =IF(ISERROR(SMALL(INDIRECT("F2"&IF($K$1="Tous","!$C:$C",IF($K$1="Actifs","!$D:$D",IF($K$1="Inactifs","!$E:$E"))),1),ROW()-2)),"",INDIRECT("ZBUL3!B"&SMALL(INDIRECT("F2"&IF($K$1="Tous","!$C:$C",IF($K$1="Actifs","!$D:$D",IF($K$1="Inactifs","!$E:$E"))),1),ROW()-2),1)) -> SCP19814 | C10: =IF(ISERROR(SMALL(INDIRECT("F2"&IF($K$1="Tous","!$C:$C",IF($K$1="Actifs","!$D:$D",IF($K$1="Inactifs","!$E:$E"))),1),ROW()-2)),"",INDIRECT("ZBUL3!C"&SMALL(INDIRECT("F2"&IF($K$1="Tous","!$C:$C",IF($K$1="Actifs","!$D:$D",IF($K$1="Inactifs","!$E:$E"))),1),ROW()-2),1)) -> ASSAMBA | D10: =IF(ISERROR(SMALL(INDIRECT("F2"&IF($K$1="Tous","!$C:$C",IF($K$1="Actifs","!$D:$D",IF($K$1="Inactifs","!$E:$E"))),1),ROW()-2)),"",INDIRECT("ZBUL3!D"&SMALL(INDIRECT("F2"&IF($K$1="Tous","!$C:$C",IF($K$1="Actifs","!$D:$D",IF($K$1="Inactifs","!$E:$E"))),1),ROW()-2),1)) -> PETER | E10: =IF(ISERROR(SMALL(INDIRECT("F2"&IF($K$1="Tous","!$C:$C",IF($K$1="Actifs","!$D:$D",IF($K$1="Inactifs","!$E:$E"))),1),ROW()-2)),"",INDIRECT("ZBUL3!E"&SMALL(INDIRECT("F2"&IF($K$1="Tous","!$C:$C",IF($K$1="Actifs","!$D:$D",IF($K$1="Inactifs","!$E:$E"))),1),ROW()-2),1)) -> DBMBR | F10: =IF(ISERROR(SMALL(INDIRECT("F2"&IF($K$1="Tous","!$C:$C",IF($K$1="Actifs","!$D:$D",IF($K$1="Inactifs","!$E:$E"))),1),ROW()-2)),"",INDIRECT("ZBUL3!F"&SMALL(INDIRECT("F2"&IF($K$1="Tous","!$C:$C",IF($K$1="Actifs","!$D:$D",IF($K$1="Inactifs","!$E:$E"))),1),ROW()-2),1)) -> 10000 | G10: =IF(ISERROR(SMALL(INDIRECT("F2"&IF($K$1="Tous","!$C:$C",IF($K$1="Actifs","!$D:$D",IF($K$1="Inactifs","!$E:$E"))),1),ROW()-2)),"",INDIRECT("ZBUL3!G"&SMALL(INDIRECT("F2"&IF($K$1="Tous","!$C:$C",IF($K$1="Actifs","!$D:$D",IF($K$1="Inactifs","!$E:$E"))),1),ROW()-2),1)) -> 0 | H10: =IF(ISERROR(SMALL(INDIRECT("F2"&IF($K$1="Tous","!$C:$C",IF($K$1="Actifs","!$D:$D",IF($K$1="Inactifs","!$E:$E"))),1),ROW()-2)),"",INDIRECT("ZBUL3!H"&SMALL(INDIRECT("F2"&IF($K$1="Tous","!$C:$C",IF($K$1="Actifs","!$D:$D",IF($K$1="Inactifs","!$E:$E"))),1),ROW()-2),1)) -> 0
A11: =IF(ISERROR(SMALL(INDIRECT("F2"&IF($K$1="Tous","!$C:$C",IF($K$1="Actifs","!$D:$D",IF($K$1="Inactifs","!$E:$E"))),1),ROW()-2)),"",INDIRECT("ZBUL3!A"&SMALL(INDIRECT("F2"&IF($K$1="Tous","!$C:$C",IF($K$1="Actifs","!$D:$D",IF($K$1="Inactifs","!$E:$E"))),1),ROW()-2),1)) -> 43862 | B11: =IF(ISERROR(SMALL(INDIRECT("F2"&IF($K$1="Tous","!$C:$C",IF($K$1="Actifs","!$D:$D",IF($K$1="Inactifs","!$E:$E"))),1),ROW()-2)),"",INDIRECT("ZBUL3!B"&SMALL(INDIRECT("F2"&IF($K$1="Tous","!$C:$C",IF($K$1="Actifs","!$D:$D",IF($K$1="Inactifs","!$E:$E"))),1),ROW()-2),1)) -> SCP19893 | C11: =IF(ISERROR(SMALL(INDIRECT("F2"&IF($K$1="Tous","!$C:$C",IF($K$1="Actifs","!$D:$D",IF($K$1="Inactifs","!$E:$E"))),1),ROW()-2)),"",INDIRECT("ZBUL3!C"&SMALL(INDIRECT("F2"&IF($K$1="Tous","!$C:$C",IF($K$1="Actifs","!$D:$D",IF($K$1="Inactifs","!$E:$E"))),1),ROW()-2),1)) -> NGANDJI | D11: =IF(ISERROR(SMALL(INDIRECT("F2"&IF($K$1="Tous","!$C:$C",IF($K$1="Actifs","!$D:$D",IF($K$1="Inactifs","!$E:$E"))),1),ROW()-2)),"",INDIRECT("ZBUL3!D"&SMALL(INDIRECT("F2"&IF($K$1="Tous","!$C:$C",IF($K$1="Actifs","!$D:$D",IF($K$1="Inactifs","!$E:$E"))),1),ROW()-2),1)) -> EDOUARD | E11: =IF(ISERROR(SMALL(INDIRECT("F2"&IF($K$1="Tous","!$C:$C",IF($K$1="Actifs","!$D:$D",IF($K$1="Inactifs","!$E:$E"))),1),ROW()-2)),"",INDIRECT("ZBUL3!E"&SMALL(INDIRECT("F2"&IF($K$1="Tous","!$C:$C",IF($K$1="Actifs","!$D:$D",IF($K$1="Inactifs","!$E:$E"))),1),ROW()-2),1)) -> DBMBR | F11: =IF(ISERROR(SMALL(INDIRECT("F2"&IF($K$1="Tous","!$C:$C",IF($K$1="Actifs","!$D:$D",IF($K$1="Inactifs","!$E:$E"))),1),ROW()-2)),"",INDIRECT("ZBUL3!F"&SMALL(INDIRECT("F2"&IF($K$1="Tous","!$C:$C",IF($K$1="Actifs","!$D:$D",IF($K$1="Inactifs","!$E:$E"))),1),ROW()-2),1)) -> 5000 | G11: =IF(ISERROR(SMALL(INDIRECT("F2"&IF($K$1="Tous","!$C:$C",IF($K$1="Actifs","!$D:$D",IF($K$1="Inactifs","!$E:$E"))),1),ROW()-2)),"",INDIRECT("ZBUL3!G"&SMALL(INDIRECT("F2"&IF($K$1="Tous","!$C:$C",IF($K$1="Actifs","!$D:$D",IF($K$1="Inactifs","!$E:$E"))),1),ROW()-2),1)) -> 0 | H11: =IF(ISERROR(SMALL(INDIRECT("F2"&IF($K$1="Tous","!$C:$C",IF($K$1="Actifs","!$D:$D",IF($K$1="Inactifs","!$E:$E"))),1),ROW()-2)),"",INDIRECT("ZBUL3!H"&SMALL(INDIRECT("F2"&IF($K$1="Tous","!$C:$C",IF($K$1="Actifs","!$D:$D",IF($K$1="Inactifs","!$E:$E"))),1),ROW()-2),1)) -> 0
A12: =IF(ISERROR(SMALL(INDIRECT("F2"&IF($K$1="Tous","!$C:$C",IF($K$1="Actifs","!$D:$D",IF($K$1="Inactifs","!$E:$E"))),1),ROW()-2)),"",INDIRECT("ZBUL3!A"&SMALL(INDIRECT("F2"&IF($K$1="Tous","!$C:$C",IF($K$1="Actifs","!$D:$D",IF($K$1="Inactifs","!$E:$E"))),1),ROW()-2),1)) -> 43862 | B12: =IF(ISERROR(SMALL(INDIRECT("F2"&IF($K$1="Tous","!$C:$C",IF($K$1="Actifs","!$D:$D",IF($K$1="Inactifs","!$E:$E"))),1),ROW()-2)),"",INDIRECT("ZBUL3!B"&SMALL(INDIRECT("F2"&IF($K$1="Tous","!$C:$C",IF($K$1="Actifs","!$D:$D",IF($K$1="Inactifs","!$E:$E"))),1),ROW()-2),1)) -> SCP20120 | C12: =IF(ISERROR(SMALL(INDIRECT("F2"&IF($K$1="Tous","!$C:$C",IF($K$1="Actifs","!$D:$D",IF($K$1="Inactifs","!$E:$E"))),1),ROW()-2)),"",INDIRECT("ZBUL3!C"&SMALL(INDIRECT("F2"&IF($K$1="Tous","!$C:$C",IF($K$1="Actifs","!$D:$D",IF($K$1="Inactifs","!$E:$E"))),1),ROW()-2),1)) -> MAKOTA | D12: =IF(ISERROR(SMALL(INDIRECT("F2"&IF($K$1="Tous","!$C:$C",IF($K$1="Actifs","!$D:$D",IF($K$1="Inactifs","!$E:$E"))),1),ROW()-2)),"",INDIRECT("ZBUL3!D"&SMALL(INDIRECT("F2"&IF($K$1="Tous","!$C:$C",IF($K$1="Actifs","!$D:$D",IF($K$1="Inactifs","!$E:$E"))),1),ROW()-2),1)) -> PIERRE PASCALI | E12: =IF(ISERROR(SMALL(INDIRECT("F2"&IF($K$1="Tous","!$C:$C",IF($K$1="Actifs","!$D:$D",IF($K$1="Inactifs","!$E:$E"))),1),ROW()-2)),"",INDIRECT("ZBUL3!E"&SMALL(INDIRECT("F2"&IF($K$1="Tous","!$C:$C",IF($K$1="Actifs","!$D:$D",IF($K$1="Inactifs","!$E:$E"))),1),ROW()-2),1)) -> DBMBR | F12: =IF(ISERROR(SMALL(INDIRECT("F2"&IF($K$1="Tous","!$C:$C",IF($K$1="Actifs","!$D:$D",IF($K$1="Inactifs","!$E:$E"))),1),ROW()-2)),"",INDIRECT("ZBUL3!F"&SMALL(INDIRECT("F2"&IF($K$1="Tous","!$C:$C",IF($K$1="Actifs","!$D:$D",IF($K$1="Inactifs","!$E:$E"))),1),ROW()-2),1)) -> 2000 | G12: =IF(ISERROR(SMALL(INDIRECT("F2"&IF($K$1="Tous","!$C:$C",IF($K$1="Actifs","!$D:$D",IF($K$1="Inactifs","!$E:$E"))),1),ROW()-2)),"",INDIRECT("ZBUL3!G"&SMALL(INDIRECT("F2"&IF($K$1="Tous","!$C:$C",IF($K$1="Actifs","!$D:$D",IF($K$1="Inactifs","!$E:$E"))),1),ROW()-2),1)) -> 0 | H12: =IF(ISERROR(SMALL(INDIRECT("F2"&IF($K$1="Tous","!$C:$C",IF($K$1="Actifs","!$D:$D",IF($K$1="Inactifs","!$E:$E"))),1),ROW()-2)),"",INDIRECT("ZBUL3!H"&SMALL(INDIRECT("F2"&IF($K$1="Tous","!$C:$C",IF($K$1="Actifs","!$D:$D",IF($K$1="Inactifs","!$E:$E"))),1),ROW()-2),1)) -> 0
A13: =IF(ISERROR(SMALL(INDIRECT("F2"&IF($K$1="Tous","!$C:$C",IF($K$1="Actifs","!$D:$D",IF($K$1="Inactifs","!$E:$E"))),1),ROW()-2)),"",INDIRECT("ZBUL3!A"&SMALL(INDIRECT("F2"&IF($K$1="Tous","!$C:$C",IF($K$1="Actifs","!$D:$D",IF($K$1="Inactifs","!$E:$E"))),1),ROW()-2),1)) -> 43862 | B13: =IF(ISERROR(SMALL(INDIRECT("F2"&IF($K$1="Tous","!$C:$C",IF($K$1="Actifs","!$D:$D",IF($K$1="Inactifs","!$E:$E"))),1),ROW()-2)),"",INDIRECT("ZBUL3!B"&SMALL(INDIRECT("F2"&IF($K$1="Tous","!$C:$C",IF($K$1="Actifs","!$D:$D",IF($K$1="Inactifs","!$E:$E"))),1),ROW()-2),1)) -> SCP21124 | C13: =IF(ISERROR(SMALL(INDIRECT("F2"&IF($K$1="Tous","!$C:$C",IF($K$1="Actifs","!$D:$D",IF($K$1="Inactifs","!$E:$E"))),1),ROW()-2)),"",INDIRECT("ZBUL3!C"&SMALL(INDIRECT("F2"&IF($K$1="Tous","!$C:$C",IF($K$1="Actifs","!$D:$D",IF($K$1="Inactifs","!$E:$E"))),1),ROW()-2),1)) -> NGOH | D13: =IF(ISERROR(SMALL(INDIRECT("F2"&IF($K$1="Tous","!$C:$C",IF($K$1="Actifs","!$D:$D",IF($K$1="Inactifs","!$E:$E"))),1),ROW()-2)),"",INDIRECT("ZBUL3!D"&SMALL(INDIRECT("F2"&IF($K$1="Tous","!$C:$C",IF($K$1="Actifs","!$D:$D",IF($K$1="Inactifs","!$E:$E"))),1),ROW()-2),1)) -> THOMAS | E13: =IF(ISERROR(SMALL(INDIRECT("F2"&IF($K$1="Tous","!$C:$C",IF($K$1="Actifs","!$D:$D",IF($K$1="Inactifs","!$E:$E"))),1),ROW()-2)),"",INDIRECT("ZBUL3!E"&SMALL(INDIRECT("F2"&IF($K$1="Tous","!$C:$C",IF($K$1="Actifs","!$D:$D",IF($K$1="Inactifs","!$E:$E"))),1),ROW()-2),1)) -> DBMBR | F13: =IF(ISERROR(SMALL(INDIRECT("F2"&IF($K$1="Tous","!$C:$C",IF($K$1="Actifs","!$D:$D",IF($K$1="Inactifs","!$E:$E"))),1),ROW()-2)),"",INDIRECT("ZBUL3!F"&SMALL(INDIRECT("F2"&IF($K$1="Tous","!$C:$C",IF($K$1="Actifs","!$D:$D",IF($K$1="Inactifs","!$E:$E"))),1),ROW()-2),1)) -> 10000 | G13: =IF(ISERROR(SMALL(INDIRECT("F2"&IF($K$1="Tous","!$C:$C",IF($K$1="Actifs","!$D:$D",IF($K$1="Inactifs","!$E:$E"))),1),ROW()-2)),"",INDIRECT("ZBUL3!G"&SMALL(INDIRECT("F2"&IF($K$1="Tous","!$C:$C",IF($K$1="Actifs","!$D:$D",IF($K$1="Inactifs","!$E:$E"))),1),ROW()-2),1)) -> 43750 | H13: =IF(ISERROR(SMALL(INDIRECT("F2"&IF($K$1="Tous","!$C:$C",IF($K$1="Actifs","!$D:$D",IF($K$1="Inactifs","!$E:$E"))),1),ROW()-2)),"",INDIRECT("ZBUL3!H"&SMALL(INDIRECT("F2"&IF($K$1="Tous","!$C:$C",IF($K$1="Actifs","!$D:$D",IF($K$1="Inactifs","!$E:$E"))),1),ROW()-2),1)) -> 0
A14: =IF(ISERROR(SMALL(INDIRECT("F2"&IF($K$1="Tous","!$C:$C",IF($K$1="Actifs","!$D:$D",IF($K$1="Inactifs","!$E:$E"))),1),ROW()-2)),"",INDIRECT("ZBUL3!A"&SMALL(INDIRECT("F2"&IF($K$1="Tous","!$C:$C",IF($K$1="Actifs","!$D:$D",IF($K$1="Inactifs","!$E:$E"))),1),ROW()-2),1)) -> 43862 | B14: =IF(ISERROR(SMALL(INDIRECT("F2"&IF($K$1="Tous","!$C:$C",IF($K$1="Actifs","!$D:$D",IF($K$1="Inactifs","!$E:$E"))),1),ROW()-2)),"",INDIRECT("ZBUL3!B"&SMALL(INDIRECT("F2"&IF($K$1="Tous","!$C:$C",IF($K$1="Actifs","!$D:$D",IF($K$1="Inactifs","!$E:$E"))),1),ROW()-2),1)) -> SCP22192 | C14: =IF(ISERROR(SMALL(INDIRECT("F2"&IF($K$1="Tous","!$C:$C",IF($K$1="Actifs","!$D:$D",IF($K$1="Inactifs","!$E:$E"))),1),ROW()-2)),"",INDIRECT("ZBUL3!C"&SMALL(INDIRECT("F2"&IF($K$1="Tous","!$C:$C",IF($K$1="Actifs","!$D:$D",IF($K$1="Inactifs","!$E:$E"))),1),ROW()-2),1)) -> KAMGO | D14: =IF(ISERROR(SMALL(INDIRECT("F2"&IF($K$1="Tous","!$C:$C",IF($K$1="Actifs","!$D:$D",IF($K$1="Inactifs","!$E:$E"))),1),ROW()-2)),"",INDIRECT("ZBUL3!D"&SMALL(INDIRECT("F2"&IF($K$1="Tous","!$C:$C",IF($K$1="Actifs","!$D:$D",IF($K$1="Inactifs","!$E:$E"))),1),ROW()-2),1)) -> ETIENNE | E14: =IF(ISERROR(SMALL(INDIRECT("F2"&IF($K$1="Tous","!$C:$C",IF($K$1="Actifs","!$D:$D",IF($K$1="Inactifs","!$E:$E"))),1),ROW()-2)),"",INDIRECT("ZBUL3!E"&SMALL(INDIRECT("F2"&IF($K$1="Tous","!$C:$C",IF($K$1="Actifs","!$D:$D",IF($K$1="Inactifs","!$E:$E"))),1),ROW()-2),1)) -> DBMBR | F14: =IF(ISERROR(SMALL(INDIRECT("F2"&IF($K$1="Tous","!$C:$C",IF($K$1="Actifs","!$D:$D",IF($K$1="Inactifs","!$E:$E"))),1),ROW()-2)),"",INDIRECT("ZBUL3!F"&SMALL(INDIRECT("F2"&IF($K$1="Tous","!$C:$C",IF($K$1="Actifs","!$D:$D",IF($K$1="Inactifs","!$E:$E"))),1),ROW()-2),1)) -> 15000 | G14: =IF(ISERROR(SMALL(INDIRECT("F2"&IF($K$1="Tous","!$C:$C",IF($K$1="Actifs","!$D:$D",IF($K$1="Inactifs","!$E:$E"))),1),ROW()-2)),"",INDIRECT("ZBUL3!G"&SMALL(INDIRECT("F2"&IF($K$1="Tous","!$C:$C",IF($K$1="Actifs","!$D:$D",IF($K$1="Inactifs","!$E:$E"))),1),ROW()-2),1)) -> 17955 | H14: =IF(ISERROR(SMALL(INDIRECT("F2"&IF($K$1="Tous","!$C:$C",IF($K$1="Actifs","!$D:$D",IF($K$1="Inactifs","!$E:$E"))),1),ROW()-2)),"",INDIRECT("ZBUL3!H"&SMALL(INDIRECT("F2"&IF($K$1="Tous","!$C:$C",IF($K$1="Actifs","!$D:$D",IF($K$1="Inactifs","!$E:$E"))),1),ROW()-2),1)) -> 0
... A650: =IF(ISERROR(SMALL(INDIRECT("F2"&IF($K$1="Tous","!$C:$C",IF($K$1="Actifs","!$D:$D",IF($K$1="Inactifs","!$E:$E"))),1),ROW()-2)),"",INDIRECT("ZBUL3!A"&SMALL(INDIRECT("F2"&IF($K$1="Tous","!$C:$C",IF($K$1="Actifs","!$D:$D",IF($K$1="Inactifs","!$E:$E"))),1),ROW()-2),1)) | B650: =IF(ISERROR(SMALL(INDIRECT("F2"&IF($K$1="Tous","!$C:$C",IF($K$1="Actifs","!$D:$D",IF($K$1="Inactifs","!$E:$E"))),1),ROW()-2)),"",INDIRECT("ZBUL3!B"&SMALL(INDIRECT("F2"&IF($K$1="Tous","!$C:$C",IF($K$1="Actifs","!$D:$D",IF($K$1="Inactifs","!$E:$E"))),1),ROW()-2),1)) | C650: =IF(ISERROR(SMALL(INDIRECT("F2"&IF($K$1="Tous","!$C:$C",IF($K$1="Actifs","!$D:$D",IF($K$1="Inactifs","!$E:$E"))),1),ROW()-2)),"",INDIRECT("ZBUL3!C"&SMALL(INDIRECT("F2"&IF($K$1="Tous","!$C:$C",IF($K$1="Actifs","!$D:$D",IF($K$1="Inactifs","!$E:$E"))),1),ROW()-2),1)) | D650: =IF(ISERROR(SMALL(INDIRECT("F2"&IF($K$1="Tous","!$C:$C",IF($K$1="Actifs","!$D:$D",IF($K$1="Inactifs","!$E:$E"))),1),ROW()-2)),"",INDIRECT("ZBUL3!D"&SMALL(INDIRECT("F2"&IF($K$1="Tous","!$C:$C",IF($K$1="Actifs","!$D:$D",IF($K$1="Inactifs","!$E:$E"))),1),ROW()-2),1)) | E650: =IF(ISERROR(SMALL(INDIRECT("F2"&IF($K$1="Tous","!$C:$C",IF($K$1="Actifs","!$D:$D",IF($K$1="Inactifs","!$E:$E"))),1),ROW()-2)),"",INDIRECT("ZBUL3!E"&SMALL(INDIRECT("F2"&IF($K$1="Tous","!$C:$C",IF($K$1="Actifs","!$D:$D",IF($K$1="Inactifs","!$E:$E"))),1),ROW()-2),1)) | F650: =IF(ISERROR(SMALL(INDIRECT("F2"&IF($K$1="Tous","!$C:$C",IF($K$1="Actifs","!$D:$D",IF($K$1="Inactifs","!$E:$E"))),1),ROW()-2)),"",INDIRECT("ZBUL3!F"&SMALL(INDIRECT("F2"&IF($K$1="Tous","!$C:$C",IF($K$1="Actifs","!$D:$D",IF($K$1="Inactifs","!$E:$E"))),1),ROW()-2),1)) | G650: =IF(ISERROR(SMALL(INDIRECT("F2"&IF($K$1="Tous","!$C:$C",IF($K$1="Actifs","!$D:$D",IF($K$1="Inactifs","!$E:$E"))),1),ROW()-2)),"",INDIRECT("ZBUL3!G"&SMALL(INDIRECT("F2"&IF($K$1="Tous","!$C:$C",IF($K$1="Actifs","!$D:$D",IF($K$1="Inactifs","!$E:$E"))),1),ROW()-2),1)) | H650: =IF(ISERROR(SMALL(INDIRECT("F2"&IF($K$1="Tous","!$C:$C",IF($K$1="Actifs","!$D:$D",IF($K$1="Inactifs","!$E:$E"))),1),ROW()-2)),"",INDIRECT("ZBUL3!H"&SMALL(INDIRECT("F2"&IF($K$1="Tous","!$C:$C",IF($K$1="Actifs","!$D:$D",IF($K$1="Inactifs","!$E:$E"))),1),ROW()-2),1))

Sheet Agent
A1: AYOKOHO | D1: ROSE
A2: Dates | B2: Matricule | C2: Nom | D2: Prénom du salarié | E2: Site courant | F2: Cotisations MUPERSOC | G2: Retenues MUPERSOC | H2: Autres retenues MUPERSOC
A3: =IF($I3="","",INDIRECT("ZBUL3!A"&$I3,1)) -> 43831 | B3: =IF($I3="","",INDIRECT("ZBUL3!B"&$I3,1)) -> SCP19072 | C3: =IF($I3="","",INDIRECT("ZBUL3!C"&$I3,1)) -> AYOKOHO | D3: =IF($I3="","",INDIRECT("ZBUL3!D"&$I3,1)) -> ROSE | E3: =IF($I3="","",INDIRECT("ZBUL3!E"&$I3,1)) -> DBMBR | F3: =IF($I3="","",INDIRECT("ZBUL3!F"&$I3,1)) -> 10000 | G3: =IF($I3="","",INDIRECT("ZBUL3!G"&$I3,1)) -> 0 | H3: =IF($I3="","",INDIRECT("ZBUL3!H"&$I3,1)) -> 0 | I3: =IFERROR(SMALL(ZBUL3!W:W,ROW()-2),"") -> 9 | P3: =IF(OR(ISNUMBER(MATCH(INDIRECT("ZBUL3!D"&SMALL(ZBUL3!X:X,ROW()-2),1),P$2:P2,0)),ISERROR(SMALL(ZBUL3!X:X,ROW()-2))),"",INDIRECT("ZBUL3!D"&SMALL(ZBUL3!X:X,ROW()-2),1)) -> ROSE
A4: =IF($I4="","",INDIRECT("ZBUL3!A"&$I4,1)) -> 43862 | B4: =IF($I4="","",INDIRECT("ZBUL3!B"&$I4,1)) -> SCP19072 | C4: =IF($I4="","",INDIRECT("ZBUL3!C"&$I4,1)) -> AYOKOHO | D4: =IF($I4="","",INDIRECT("ZBUL3!D"&$I4,1)) -> ROSE | E4: =IF($I4="","",INDIRECT("ZBUL3!E"&$I4,1)) -> DBMBR | F4: =IF($I4="","",INDIRECT("ZBUL3!F"&$I4,1)) -> 10000 | G4: =IF($I4="","",INDIRECT("ZBUL3!G"&$I4,1)) -> 0 | H4: =IF($I4="","",INDIRECT("ZBUL3!H"&$I4,1)) -> 0 | I4: =IFERROR(SMALL(ZBUL3!W:W,ROW()-2),"") -> 2227 | P4: =IF(OR(ISNUMBER(MATCH(INDIRECT("ZBUL3!D"&SMALL(ZBUL3!X:X,ROW()-2),1),P$2:P3,0)),ISERROR(SMALL(ZBUL3!X:X,ROW()-2))),"",INDIRECT("ZBUL3!D"&SMALL(ZBUL3!X:X,ROW()-2),1))
A5: =IF($I5="","",INDIRECT("ZBUL3!A"&$I5,1)) | B5: =IF($I5="","",INDIRECT("ZBUL3!B"&$I5,1)) | C5: =IF($I5="","",INDIRECT("ZBUL3!C"&$I5,1)) | D5: =IF($I5="","",INDIRECT("ZBUL3!D"&$I5,1)) | E5: =IF($I5="","",INDIRECT("ZBUL3!E"&$I5,1)) | F5: =IF($I5="","",INDIRECT("ZBUL3!F"&$I5,1)) | G5: =IF($I5="","",INDIRECT("ZBUL3!G"&$I5,1)) | H5: =IF($I5="","",INDIRECT("ZBUL3!H"&$I5,1)) | I5: =IFERROR(SMALL(ZBUL3!W:W,ROW()-2),"") | P5: =IF(OR(ISNUMBER(MATCH(INDIRECT("ZBUL3!D"&SMALL(ZBUL3!X:X,ROW()-2),1),P$2:P4,0)),ISERROR(SMALL(ZBUL3!X:X,ROW()-2))),"",INDIRECT("ZBUL3!D"&SMALL(ZBUL3!X:X,ROW()-2),1))
A6: =IF($I6="","",INDIRECT("ZBUL3!A"&$I6,1)) | B6: =IF($I6="","",INDIRECT("ZBUL3!B"&$I6,1)) | C6: =IF($I6="","",INDIRECT("ZBUL3!C"&$I6,1)) | D6: =IF($I6="","",INDIRECT("ZBUL3!D"&$I6,1)) | E6: =IF($I6="","",INDIRECT("ZBUL3!E"&$I6,1)) | F6: =IF($I6="","",INDIRECT("ZBUL3!F"&$I6,1)) | G6: =IF($I6="","",INDIRECT("ZBUL3!G"&$I6,1)) | H6: =IF($I6="","",INDIRECT("ZBUL3!H"&$I6,1)) | I6: =IFERROR(SMALL(ZBUL3!W:W,ROW()-2),"") | P6: =IF(OR(ISNUMBER(MATCH(INDIRECT("ZBUL3!D"&SMALL(ZBUL3!X:X,ROW()-2),1),P$2:P5,0)),ISERROR(SMALL(ZBUL3!X:X,ROW()-2))),"",INDIRECT("ZBUL3!D"&SMALL(ZBUL3!X:X,ROW()-2),1))
A7: =IF($I7="","",INDIRECT("ZBUL3!A"&$I7,1)) | B7: =IF($I7="","",INDIRECT("ZBUL3!B"&$I7,1)) | C7: =IF($I7="","",INDIRECT("ZBUL3!C"&$I7,1)) | D7: =IF($I7="","",INDIRECT("ZBUL3!D"&$I7,1)) | E7: =IF($I7="","",INDIRECT("ZBUL3!E"&$I7,1)) | F7: =IF($I7="","",INDIRECT("ZBUL3!F"&$I7,1)) | G7: =IF($I7="","",INDIRECT("ZBUL3!G"&$I7,1)) | H7: =IF($I7="","",INDIRECT("ZBUL3!H"&$I7,1)) | I7: =IFERROR(SMALL(ZBUL3!W:W,ROW()-2),"") | P7: =IF(OR(ISNUMBER(MATCH(INDIRECT("ZBUL3!D"&SMALL(ZBUL3!X:X,ROW()-2),1),P$2:P6,0)),ISERROR(SMALL(ZBUL3!X:X,ROW()-2))),"",INDIRECT("ZBUL3!D"&SMALL(ZBUL3!X:X,ROW()-2),1))
A8: =IF($I8="","",INDIRECT("ZBUL3!A"&$I8,1)) | B8: =IF($I8="","",INDIRECT("ZBUL3!B"&$I8,1)) | C8: =IF($I8="","",INDIRECT("ZBUL3!C"&$I8,1)) | D8: =IF($I8="","",INDIRECT("ZBUL3!D"&$I8,1)) | E8: =IF($I8="","",INDIRECT("ZBUL3!E"&$I8,1)) | F8: =IF($I8="","",INDIRECT("ZBUL3!F"&$I8,1)) | G8: =IF($I8="","",INDIRECT("ZBUL3!G"&$I8,1)) | H8: =IF($I8="","",INDIRECT("ZBUL3!H"&$I8,1)) | I8: =IFERROR(SMALL(ZBUL3!W:W,ROW()-2),"") | P8: =IF(OR(ISNUMBER(MATCH(INDIRECT("ZBUL3!D"&SMALL(ZBUL3!X:X,ROW()-2),1),P$2:P7,0)),ISERROR(SMALL(ZBUL3!X:X,ROW()-2))),"",INDIRECT("ZBUL3!D"&SMALL(ZBUL3!X:X,ROW()-2),1))
A9: =IF($I9="","",INDIRECT("ZBUL3!A"&$I9,1)) | B9: =IF($I9="","",INDIRECT("ZBUL3!B"&$I9,1)) | C9: =IF($I9="","",INDIRECT("ZBUL3!C"&$I9,1)) | D9: =IF($I9="","",INDIRECT("ZBUL3!D"&$I9,1)) | E9: =IF($I9="","",INDIRECT("ZBUL3!E"&$I9,1)) | F9: =IF($I9="","",INDIRECT("ZBUL3!F"&$I9,1)) | G9: =IF($I9="","",INDIRECT("ZBUL3!G"&$I9,1)) | H9: =IF($I9="","",INDIRECT("ZBUL3!H"&$I9,1)) | I9: =IFERROR(SMALL(ZBUL3!W:W,ROW()-2),"") | P9: =IF(OR(ISNUMBER(MATCH(INDIRECT("ZBUL3!D"&SMALL(ZBUL3!X:X,ROW()-2),1),P$2:P8,0)),ISERROR(SMALL(ZBUL3!X:X,ROW()-2))),"",INDIRECT("ZBUL3!D"&SMALL(ZBUL3!X:X,ROW()-2),1))
A10: =IF($I10="","",INDIRECT("ZBUL3!A"&$I10,1)) | B10: =IF($I10="","",INDIRECT("ZBUL3!B"&$I10,1)) | C10: =IF($I10="","",INDIRECT("ZBUL3!C"&$I10,1)) | D10: =IF($I10="","",INDIRECT("ZBUL3!D"&$I10,1)) | E10: =IF($I10="","",INDIRECT("ZBUL3!E"&$I10,1)) | F10: =IF($I10="","",INDIRECT("ZBUL3!F"&$I10,1)) | G10: =IF($I10="","",INDIRECT("ZBUL3!G"&$I10,1)) | H10: =IF($I10="","",INDIRECT("ZBUL3!H"&$I10,1)) | I10: =IFERROR(SMALL(ZBUL3!W:W,ROW()-2),"") | P10: =IF(OR(ISNUMBER(MATCH(INDIRECT("ZBUL3!D"&SMALL(ZBUL3!X:X,ROW()-2),1),P$2:P9,0)),ISERROR(SMALL(ZBUL3!X:X,ROW()-2))),"",INDIRECT("ZBUL3!D"&SMALL(ZBUL3!X:X,ROW()-2),1))
A11: =IF($I11="","",INDIRECT("ZBUL3!A"&$I11,1)) | B11: =IF($I11="","",INDIRECT("ZBUL3!B"&$I11,1)) | C11: =IF($I11="","",INDIRECT("ZBUL3!C"&$I11,1)) | D11: =IF($I11="","",INDIRECT("ZBUL3!D"&$I11,1)) | E11: =IF($I11="","",INDIRECT("ZBUL3!E"&$I11,1)) | F11: =IF($I11="","",INDIRECT("ZBUL3!F"&$I11,1)) | G11: =IF($I11="","",INDIRECT("ZBUL3!G"&$I11,1)) | H11: =IF($I11="","",INDIRECT("ZBUL3!H"&$I11,1)) | I11: =IFERROR(SMALL(ZBUL3!W:W,ROW()-2),"") | P11: =IF(OR(ISNUMBER(MATCH(INDIRECT("ZBUL3!D"&SMALL(ZBUL3!X:X,ROW()-2),1),P$2:P10,0)),ISERROR(SMALL(ZBUL3!X:X,ROW()-2))),"",INDIRECT("ZBUL3!D"&SMALL(ZBUL3!X:X,ROW()-2),1))
A12: =IF($I12="","",INDIRECT("ZBUL3!A"&$I12,1)) | B12: =IF($I12="","",INDIRECT("ZBUL3!B"&$I12,1)) | C12: =IF($I12="","",INDIRECT("ZBUL3!C"&$I12,1)) | D12: =IF($I12="","",INDIRECT("ZBUL3!D"&$I12,1)) | E12: =IF($I12="","",INDIRECT("ZBUL3!E"&$I12,1)) | F12: =IF($I12="","",INDIRECT("ZBUL3!F"&$I12,1)) | G12: =IF($I12="","",INDIRECT("ZBUL3!G"&$I12,1)) | H12: =IF($I12="","",INDIRECT("ZBUL3!H"&$I12,1)) | I12: =IFERROR(SMALL(ZBUL3!W:W,ROW()-2),"") | P12: =IF(OR(ISNUMBER(MATCH(INDIRECT("ZBUL3!D"&SMALL(ZBUL3!X:X,ROW()-2),1),P$2:P11,0)),ISERROR(SMALL(ZBUL3!X:X,ROW()-2))),"",INDIRECT("ZBUL3!D"&SMALL(ZBUL3!X:X,ROW()-2),1))
A13: =IF($I13="","",INDIRECT("ZBUL3!A"&$I13,1)) | B13: =IF($I13="","",INDIRECT("ZBUL3!B"&$I13,1)) | C13: =IF($I13="","",INDIRECT("ZBUL3!C"&$I13,1)) | D13: =IF($I13="","",INDIRECT("ZBUL3!D"&$I13,1)) | E13: =IF($I13="","",INDIRECT("ZBUL3!E"&$I13,1)) | F13: =IF($I13="","",INDIRECT("ZBUL3!F"&$I13,1)) | G13: =IF($I13="","",INDIRECT("ZBUL3!G"&$I13,1)) | H13: =IF($I13="","",INDIRECT("ZBUL3!H"&$I13,1)) | I13: =IFERROR(SMALL(ZBUL3!W:W,ROW()-2),"") | P13: =IF(OR(ISNUMBER(MATCH(INDIRECT("ZBUL3!D"&SMALL(ZBUL3!X:X,ROW()-2),1),P$2:P12,0)),ISERROR(SMALL(ZBUL3!X:X,ROW()-2))),"",INDIRECT("ZBUL3!D"&SMALL(ZBUL3!X:X,ROW()-2),1))
A14: =IF($I14="","",INDIRECT("ZBUL3!A"&$I14,1)) | B14: =IF($I14="","",INDIRECT("ZBUL3!B"&$I14,1)) | C14: =IF($I14="","",INDIRECT("ZBUL3!C"&$I14,1)) | D14: =IF($I14="","",INDIRECT("ZBUL3!D"&$I14,1)) | E14: =IF($I14="","",INDIRECT("ZBUL3!E"&$I14,1)) | F14: =IF($I14="","",INDIRECT("ZBUL3!F"&$I14,1)) | G14: =IF($I14="","",INDIRECT("ZBUL3!G"&$I14,1)) | H14: =IF($I14="","",INDIRECT("ZBUL3!H"&$I14,1)) | I14: =IFERROR(SMALL(ZBUL3!W:W,ROW()-2),"") | P14: =IF(OR(ISNUMBER(MATCH(INDIRECT("ZBUL3!D"&SMALL(ZBUL3!X:X,ROW()-2),1),P$2:P13,0)),ISERROR(SMALL(ZBUL3!X:X,ROW()-2))),"",INDIRECT("ZBUL3!D"&SMALL(ZBUL3!X:X,ROW()-2),1))
A15: Total | F15: =SUM(F3:F14) -> 20000 | G15: =SUM(G3:G14) -> 0 | H15: =SUM(H3:H14) -> 0 | P15: =IF(OR(ISNUMBER(MATCH(INDIRECT("ZBUL3!D"&SMALL(ZBUL3!X:X,ROW()-2),1),P$2:P14,0)),ISERROR(SMALL(ZBUL3!X:X,ROW()-2))),"",INDIRECT("ZBUL3!D"&SMALL(ZBUL3!X:X,ROW()-2),1))
P16: =IF(OR(ISNUMBER(MATCH(INDIRECT("ZBUL3!D"&SMALL(ZBUL3!X:X,ROW()-2),1),P$2:P15,0)),ISERROR(SMALL(ZBUL3!X:X,ROW()-2))),"",INDIRECT("ZBUL3!D"&SMALL(ZBUL3!X:X,ROW()-2),1))
A17: Inscrire un nom en A1 | P17: =IF(OR(ISNUMBER(MATCH(INDIRECT("ZBUL3!D"&SMALL(ZBUL3!X:X,ROW()-2),1),P$2:P16,0)),ISERROR(SMALL(ZBUL3!X:X,ROW()-2))),"",INDIRECT("ZBUL3!D"&SMALL(ZBUL3!X:X,ROW()-2),1))
A18: Choisir le prénom en D1 | P18: =IF(OR(ISNUMBER(MATCH(INDIRECT("ZBUL3!D"&SMALL(ZBUL3!X:X,ROW()-2),1),P$2:P17,0)),ISERROR(SMALL(ZBUL3!X:X,ROW()-2))),"",INDIRECT("ZBUL3!D"&SMALL(ZBUL3!X:X,ROW()-2),1))
P19: =IF(OR(ISNUMBER(MATCH(INDIRECT("ZBUL3!D"&SMALL(ZBUL3!X:X,ROW()-2),1),P$2:P18,0)),ISERROR(SMALL(ZBUL3!X:X,ROW()-2))),"",INDIRECT("ZBUL3!D"&SMALL(ZBUL3!X:X,ROW()-2),1))
P20: =IF(OR(ISNUMBER(MATCH(INDIRECT("ZBUL3!D"&SMALL(ZBUL3!X:X,ROW()-2),1),P$2:P19,0)),ISERROR(SMALL(ZBUL3!X:X,ROW()-2))),"",INDIRECT("ZBUL3!D"&SMALL(ZBUL3!X:X,ROW()-2),1))
